{"text_format":"1","workbook":"xlsx","n_sheets":7,"sheets":["1.Marée","2.Logbook","3.Tonnage bord","4.Statistiques","5.Définitions","6.Export Captures IRD ","7.Export Objets flottants IRD"],"not_rendered":{"charts":0,"images":3,"macros":1,"external_links":5,"defined_names":84,"comments":1,"pivot_tables":0},"unopened":[],"bounds":{"document_bytes":16777216,"sheet_cells":100000,"rows_first":2000,"rows_last":500,"rows_between":2000,"halvings":0,"cell_chars":16384,"cell_head_chars":4096},"cells_cut":0,"cells_raw":0,"read":"whole","date_system":"1900"}

{"sheet":"1.Marée","index":0,"n_rows":42,"n_cols":19,"rows_kept":42,"cut":false,"hidden":false,"merged":[[19,5,19,6],[20,5,20,6],[13,5,13,6],[14,5,14,6],[15,5,15,6],[17,5,17,6],[18,5,18,6],[12,5,12,6],[1,5,1,6],[2,5,2,6],[3,5,3,6],[4,5,4,6],[5,5,5,6],[6,5,6,6],[7,5,7,6],[9,3,9,6],[10,3,10,6]]}
[null,null,null,null,null,null,null,null,null,null,null,"Coche","Type DCP","Type bouées","Action DCP","Liste ZEE"]
[null,"Navire",null,null,":","VIA EUROS",null,null,null,null,null,"x","N","D+","MISE A L'EAU DCP ECO","Eaux internationales"]
[null,"Pavillon",null,null,":","Français",null,null,null,null,null,"X","A","M3I","CHANGEMENT DE  BALISE","Angola",null,null,"en cas de déchargement partiel"]
[null,"Numéro d'immatriculation",null,null,":","CC 791294",null,null,null,null,null,null,null,"M4I","VISITE AVEC PECHE","Bénin",null,null,"merci de noter ci-dessous le ROB  (Reste à bord)  "]
[null,"Port d'immatriculation",null,null,":","Concarneau",null,null,null,null,null,null,null,null,"VISITE SANS PECHE","Cameroun",null,null,"Albacore +10"]
[null,"Signal d'appel international",null,null,":",228168000,null,null,null,null,null,null,null,null,"RETRAIT","Cap Vert",null,null,"Albacore -10"]
[null,"Numéro OMI",null,null,":",9017862,null,null,null,null,null,null,null,null,"PERTE / FIN TRANSMISSION BALISE","Chagos",null,null,"Listao"]
[null,"Numéro CFR",null,null,":","FRA 000791294",null,null,null,null,null,null,null,null,null,"Comores",null,null,"Patudo +10"]
[null,null,null,null,null,null,null,null,null,null,null,null,null,null,null,"Congo Brazzaville",null,null,"Patudo -10"]
[null,"Patron          :",null,"PROVOST PASCAL",null,null,null,null,null,null,null,null,null,null,null,"Côte d'Ivoire",null,null,"Germon"]
[null,"Marée          :",null,"XX",null,null,null,null,null,null,null,null,null,null,null,"Gabon"]
[null,null,null,null,null,null,null,null,null,null,null,null,null,null,null,"Gambie"]
[null,"Départ       -",null,"Port",":","LAS PALMAS ",null,null,null,null,null,null,null,null,null,"Ghana"]
[null,null,null,"Date",":","2020-05-20",null,null,null,null,null,null,null,null,null,"Glorieuses"]
[null,null,null,"Heure",":","18:08:00",null,null,null,null,null,null,null,null,null,"Guinée Bissau"]
[null,null,null,"Loch",":",0,null,null,null,null,null,null,null,null,null,"Guinée Conakry"]
[null,null,null,null,null,null,null,null,null,null,null,null,null,null,null,"Guinée Equatoriale"]
[null,"Arrivée       -",null,"Port",":","ABIDJAN",null,null,null,null,null,null,null,null,null,"Ile Maurice"]
[null,null,null,"Date",":","2020-07-07",null,null,null,null,null,null,null,null,null,"Iles Eparses"]
[null,null,null,"Heure",":","15:00:00",null,null,null,null,null,null,null,null,null,"Indonésie"]
[null,null,null,"Loch",":",10353,null,null,null,null,null,null,null,null,null,"Kenya"]
[null,null,null,null,null,null,null,null,null,null,null,null,null,null,null,"La Réunion"]
[null,null,null,"Jours de mer pendant la marée.",null,null,null,{"$f":"F21-F16","v":10353},null,"milles parcourus",null,null,null,null,null,"Libéria"]
[null,null,null,null,null,null,null,null,null,null,null,null,null,null,null,"Madagascar"]
[null,"Nombre de coups de filets dans la marée ",null,null,null,null,null,"   Portants ",":",{"$f":"SUM('2.Logbook'!I30:I532)","v":23},null,null,null,null,null,"Maldives"]
[null,null,null,null,null,null,null,"   Nuls ",":",{"$f":"SUM('2.Logbook'!J30:J532)","v":3},null,null,null,null,null,"Maurice"]
[null,null,null,null,null,null,null,"   Total ",":",{"$f":"J25+J26","v":26},null,null,null,null,null,"Mauritanie"]
[null,null,null,null,null,null,null,null,null,null,null,null,null,null,null,"Mayotte"]
[null,"Albacore",":",{"$f":"SUM('2.Logbook'!M30:M532)+SUM('2.Logbook'!O30:O532)","v":293},null,null,"Autres",{"$f":"SUM('2.Logbook'!Z30:Z532)","v":8.5},null,null,null,null,null,null,null,"Mozambique"]
[null,"Listao",":",{"$f":"SUM('2.Logbook'!Q30:Q532)","v":328},null,null,"Rejets",{"$f":"SUM('2.Logbook'!AC30:AC532)","v":0},null,null,null,null,null,null,null,"Namibie"]
[null,"Patudo",":",{"$f":"SUM('2.Logbook'!S30:S532)+SUM('2.Logbook'!U30:U532)","v":23},null,null,null,null,null,null,null,null,null,null,null,"Nigéria"]
[null,"Germon",":",{"$f":"SUM('2.Logbook'!W30:W532)","v":0},null,null,null,null,null,null,null,null,null,null,null,"Oman"]
[null,null,null,null,null,null,null,null,null,null,null,null,null,null,null,"Sao Tome e Principe"]
[null,"Total",":",{"$f":"SUM(D29:D32)","v":644},null,null,null,null,null,null,null,null,null,null,null,"Sénégal"]
[null,null,null,null,null,null,null,null,null,null,null,null,null,null,null,"Seychelles"]
[]
[]
[]
[]
[]
[]
[null,null,null,null,null,null,null,null,null,null,null,null,null,null,null,"Zaïre"]

{"sheet":"2.Logbook","index":1,"n_rows":114,"n_cols":47,"rows_kept":114,"cut":false,"hidden":false,"merged":[[0,0,4,10],[5,0,5,5],[0,46,4,46],[3,29,3,35],[5,29,5,35],[3,36,3,45],[2,22,5,28],[0,29,1,45],[0,22,1,28],[0,11,4,21],[5,11,5,17],[5,18,5,21],[5,6,5,10],[2,29,2,35],[4,29,4,35],[2,36,2,45],[4,36,4,45],[5,36,5,45],[11,46,12,46],[13,46,14,46],[15,46,16,46],[17,46,28,46],[17,44,18,45],[23,39,28,39],[23,40,28,40],[11,36,12,40],[13,36,14,40],[15,36,16,40],[17,41,20,41],[25,41,28,41],[21,41,24,41],[17,39,18,40],[19,39,20,40],[21,39,22,40],[17,37,20,37],[21,37,24,37],[25,37,28,37],[19,44,20,45],[21,44,22,45],[6,0,6,5],[7,0,7,5],[8,0,8,5],[9,0,9,10],[10,0,10,46],[6,6,6,10],[7,6,7,10],[8,6,8,10],[5,46,8,46],[9,11,9,28],[6,11,6,17],[6,18,6,21],[7,11,7,17],[7,18,7,21],[8,11,8,17],[8,18,8,21],[6,22,8,24],[6,25,8,28],[6,29,6,35],[7,29,7,35],[8,29,8,35],[6,36,6,45],[7,36,7,45],[8,36,8,45],[17,32,28,32],[17,33,28,33],[17,30,28,30],[21,11,22,14],[21,15,22,16],[21,17,22,20],[21,21,22,22],[17,26,18,28],[19,11,20,14],[19,15,20,16],[19,17,20,20],[19,21,20,22],[19,23,20,25],[19,26,20,28],[21,23,22,25],[21,26,22,28],[23,44,24,44],[25,44,26,44],[27,44,28,44],[23,45,24,45],[25,45,26,45],[27,45,28,45],[11,41,12,45],[13,41,14,45],[25,42,26,42],[27,42,28,42],[23,43,24,43],[25,43,26,43],[27,43,28,43],[15,41,16,45],[17,42,18,43],[19,42,20,43],[21,42,22,43],[11,0,16,0],[17,0,22,0],[23,0,28,0],[11,1,16,1],[17,1,22,1],[23,1,28,1],[11,2,16,2],[17,2,22,2],[11,11,12,28],[13,11,14,28],[11,8,12,10],[13,8,14,10],[15,8,16,10],[17,8,28,8],[17,9,28,9],[17,10,28,10],[11,5,16,5],[17,5,22,5],[23,5,28,5],[11,6,12,7],[15,11,16,28],[17,11,18,14],[17,15,18,16],[17,17,18,20],[23,2,28,2],[11,3,16,3],[17,3,22,3],[23,3,28,3],[11,4,16,4],[17,4,22,4],[23,4,28,4],[23,11,24,14],[25,21,25,22],[25,11,25,12],[25,13,25,14],[25,15,25,16],[25,17,25,18],[25,19,25,20],[23,17,24,20],[23,21,24,22],[17,21,18,22],[23,15,24,16],[11,29,12,35],[13,29,14,35],[15,29,16,35],[17,29,28,29],[13,6,14,7],[15,6,16,7],[17,6,28,6],[17,7,28,7],[9,29,9,46],[25,23,25,25],[25,26,25,28],[23,23,24,25],[23,26,24,28],[23,42,24,42],[17,34,28,34],[17,35,28,35],[17,36,20,36],[21,36,24,36],[25,36,28,36],[17,23,18,25],[17,38,20,38],[21,38,24,38],[25,38,28,38],[17,31,28,31]]}
["DEPART / SALIDA / DEPARTURE",null,null,null,null,null,null,null,null,null,null,"ARRIVEE / LLEGAGA / ARRIVAL",null,null,null,null,null,null,null,null,null,null,"PATRON / PATRON / MASTER",null,null,null,null,null,null,"NAVIRE / BARCO / VESSEL",null,null,null,null,null,null,null,null,null,null,null,null,null,null,null,null,"FEUILLE / HOJA / SHEET"]
[]
[null,null,null,null,null,null,null,null,null,null,null,null,null,null,null,null,null,null,null,null,null,null,{"$f":"Patron","v":"PROVOST PASCAL"},null,null,null,null,null,null,"Vessel",null,null,null,null,null,null,{"$f":"Navire","v":"VIA EUROS"}]
[null,null,null,null,null,null,null,null,null,null,null,null,null,null,null,null,null,null,null,null,null,null,null,null,null,null,null,null,null,"Flag",null,null,null,null,null,null,{"$f":"Pavillon","v":"Français"}]
[null,null,null,null,null,null,null,null,null,null,null,null,null,null,null,null,null,null,null,null,null,null,null,null,null,null,null,null,null,"Immatriculation number",null,null,null,null,null,null,{"$f":"Immatriculation","v":"CC 791294"}]
["PORT / PUERTO / PORT",null,null,null,null,null,{"$f":"Port_départ","v":"LAS PALMAS "},null,null,null,null,"PORT / PUERTO / PORT",null,null,null,null,null,null,{"$f":"Port_retour","v":"ABIDJAN"},null,null,null,null,null,null,null,null,null,null,"Immatriculation port",null,null,null,null,null,null,{"$f":"Port_immatriculation","v":"Concarneau"}]
["DATE / FECHA / DATE",null,null,null,null,null,{"$f":"Date_départ","v":"2020-05-20"},null,null,null,null,"DATE / FECHA / DATE",null,null,null,null,null,null,{"$f":"Date_retour","v":"2020-07-07"},null,null,null,"MAREE",null,null,{"$f":"Marée","v":"XX"},null,null,null,"International call sign",null,null,null,null,null,null,{"$f":"Appel_international","v":228168000}]
["HEURE / HORA / HOUR",null,null,null,null,null,{"$f":"Heure_départ","v":"18:08:00"},null,null,null,null,"HEURE / HORA / HOUR",null,null,null,null,null,null,{"$f":"Heure_retour","v":"15:00:00"},null,null,null,null,null,null,null,null,null,null,"OMI number",null,null,null,null,null,null,{"$f":"OMI","v":9017862}]
["LOCH / CORREDA / LOCH",null,null,null,null,null,{"$f":"Loch_départ","v":0},null,null,null,null,"LOCH / CORREDA / LOCH",null,null,null,null,null,null,{"$f":"Loch_retour","v":10353},null,null,null,null,null,null,null,null,null,null,"CFR number",null,null,null,null,null,null,{"$f":"CFR","v":"FRA 000791294"}]
[null,null,null,null,null,null,null,null,null,null,null,"Une calée, un objet flottant ou une bouée par ligne"]
[]
["DATE","HEURE","LATITUDE\nchaque calée ou à midi","LONGITUDE\nchaque calée ou à midi","ZEE","T°C \nmer","VENT",null,"CALEE",null,null,"CAPTURE ESTIMEE (en tonnes)",null,null,null,null,null,null,null,null,null,null,null,null,null,null,null,null,null,"ASSOCIATION",null,null,null,null,null,null,"OBJET FLOTTANT",null,null,null,null,"BOUEE INSTRUMENTEE",null,null,null,null,"COMMENTAIRES"]
[]
[null,null,null,null,null,null,"VIENTO",null,"LANCE",null,null,"ESTIMATION DE LA CAPTURA (en toneladas)",null,null,null,null,null,null,null,null,null,null,null,null,null,null,null,null,null,"ASSOCIACION",null,null,null,null,null,null,"OBJETO",null,null,null,null,"BOYA",null,null,null,null,"COMMENTARIOS"]
[]
[null,null,null,null,null,null,"WIND",null,"FISHING SET",null,null,"ESTIMATED CATCH (metric tons)",null,null,null,null,null,null,null,null,null,null,null,null,null,null,null,null,null,"ASSOCIATION",null,null,null,null,null,null,"FLOATING OBJECT",null,null,null,null,"INSTRUMENTED BUOY",null,null,null,null,"COMMENTS"]
[]
["FECHA","HORA","LATITUDE\ncada lance o mediada","LONGITUD\ncada lance o mediada","ZEE","T°C \nmar","Direction / Dirreccion / Direction\nDegrés / Grados / Degrees","Vitesse / Velocidad / Speed\nNœuds / Nudos / Knots","Portante / Positivo / Successful","Nulle / Nullo / Nil","Type de calée / Lance typo / Fishing set type",1,null,null,null,2,null,3,null,null,null,4,null,5,null,null,6,null,null,"Banc Libre / Banco Libre / Free School","Objet flottant / Objeto / FOB","Balise / Balisa / Beacon","Baliseur / Barco de appoyo\n Support vessel","Requin baleine / Tiburon ballena \nWhale shark","Baleine / Ballena / Whale","Oiseaux / Aves / Birds","ACTIVITE \nSUR L'OBJET","TYPE D'OBJET","TYPE DE DCP\n DERIVANT","RISQUE DE MAILLAGE",null,"ACTIVITE \nSUR LA BOUEE","BOUEE DÉJÀ PRESENTE",null,"BOUEE DEPLOYEE",null,"Problèmes divers\nDétails sur les prises accessoires\nTaille du banc\nAutres associations\nAutres remarques"]
[]
[null,null,null,null,null,null,null,null,null,null,null,"ALBACORE",null,null,null,"LISTAO",null,"PATUDO",null,null,null,"GERMON",null,"AUTRES ESPECES",null,null,"REJETS",null,null,null,null,null,null,null,null,null,null,null,null,null,null,null,"BOYA ANTIGUA",null,"BOYA NUEVA"]
[]
[null,null,null,null,null,null,null,null,null,null,null,"RABIL",null,null,null,"LISTADO",null,"PATUDO",null,null,null,"ALBACORA",null,"OTRAS ESPECIES",null,null,"DESCARTES",null,null,null,null,null,null,null,null,null,"ACTIVIDAD SOBRE EL OBJETO","TIPO DE OBJETO","TIPO DE DCP","ENTANGLING RISK",null,"ACTIVIDAD SOBRE LA BOYA","BUOY ALREADY ON THE FOB",null,"DEPLOYED BUOY"]
[]
["DATE","TIME","LATITUDE\neach set or at midday","LONGITUD\neach set or at midday","EEZ","T°C \nsea",null,null,null,null,null,"YELLOWFIN",null,null,null,"SKIPJACK",null,"BIGEYE",null,null,null,"ALBACORE",null,"OTHER SPECIES",null,null,"DISCARDS",null,null,null,null,null,null,null,null,null,null,null,null,"En surface \nParte surperficial\nSurface","Sous la surface\nParte sumergida\nUnderwater",null,"TYPE","NUMERO","TYPE","NUMERO"]
[]
[null,null,null,null,null,null,null,null,null,null,null,"YFT +10",null,"YFT-10",null,"SKJ",null,"BET +10",null,"BET - 10",null,"ALB",null,"OTH",null,null,"DSC",null,null,null,null,null,null,null,null,null,"FOB ACTIVITY","FOB TYPE","DFAD TYPE",null,null,"BUOY \nACTIVITY","TIPO","NUMERO","TIPO","NUMERO"]
[null,null,null,null,null,null,null,null,null,null,null,"Taille","Capture","Taille","Capture","Taille","Capture","Taille","Capture","Taille","Capture","Taille","Capture","Espèce","Taille","Capture","Espèce","Taille","Capture"]
[null,null,null,null,null,null,null,null,null,null,null,"Tailla","Captura","Tailla","Captura","Tailla","Captura","Tailla","Captura","Tailla","Captura","Tailla","Captura","Especie","Tailla","Captura","Especie","Tailla","Captura",null,null,null,null,null,null,null,null,null,null,null,null,null,"TYPE","ID","TYPE","ID"]
[null,null,null,null,null,null,null,null,null,null,null,"Size","Catch","Size","Catch","Size","Catch","Size","Catch","Size","Catch","Size","Catch","Species","Size","Catch","Species","Size","Catch"]
["2020-05-20","18:08:00",null,null,null,null,null,null,null,null,null,null,null,null,null,null,null,null,null,null,null,null,null,null,null,null,null,null,null,null,null,null,null,null,null,null,null,null,null,null,null,null,null,null,null,null,"Sortie de Las Palmas "]
["2020-01-21","12:00:00","23°59N","17°44W",null,null,null,null,null,null,null,null,null,null,null,null,null,null,null,null,null,null,null,null,null,null,null,null,null,null,null,null,null,null,null,null,null,null,null,null,null,null,null,null,null,null,"Transit"]
["2020-05-22","12;30","18°10 N ","18°42 W","Mauritanie",19.600000000000001,0,25,0,1,"Banc Libre",null,null,null,null,null,null,null,null,null,null,null,null,null,null,null,null,null,null,1,null,null,null,null,null,null,null,null,null,null,null,null,null,null,null,null,"matte SK "]
["2020-05-23","11:00:00","13°36 N","18°13 W","Sénégal",25,0,10,null,null,null,null,null,null,null,null,null,null,null,null,null,null,null,null,null,null,null,null,null,null,null,null,null,null,null,null,null,null,null,null,null,null,null,null,null,null,"RAS"]
["2020-05-23","13:21:00","13°17N","17°48W","Gambie",25,0,10,null,null,null,null,null,null,null,null,null,null,null,null,null,null,null,null,null,null,null,null,null,null,null,null,null,null,null,null,"Visite sans pêche","DCP dérivant","DCP espagnol émergé métal","< 6, 5 cm","Non observable","Transfert","M3i",95142,"M3i+",554126]
["2020-05-23","16:20:00","12°34N","17:43W","Sénégal",25,0,10,null,null,null,null,null,null,null,null,null,null,null,null,null,null,null,null,null,null,null,null,null,null,null,null,null,null,null,null,null,null,null,null,null,null,null,null,null,null,"RAS"]
["2020-05-23","20:00:00","11°43N","17°58W","Co-Gestion Senegal Guinee bissau ",25,0,10,null,null,null,null,null,null,null,null,null,null,null,null,null,null,null,null,null,null,null,null,null,null,null,null,null,null,null,null,null,null,null,null,null,null,null,null,null,null,"RAS"]
["2020-05-24","10:00:00","10°50 N","18°50W","Co-Gestion Senegal Guinee bissau ",26,0,5,null,null,null,null,null,null,null,null,null,null,null,null,null,null,null,null,null,null,null,null,null,null,null,null,null,null,null,null,null,null,null,null,null,null,null,null,null,null,"RAS"]
["2020-05-24","18;00","8°57N","18°51W","Guinée Bissau",29,0,5,null,null,null,null,null,null,null,null,null,null,null,null,null,null,null,null,null,null,null,null,null,null,null,null,null,null,null,null,"Visite sans pêche","DCP dérivant","DCP espagnol émergé métal","< 6, 5 cm","Non observable","Visite","M3i+",568710]
["2020-05-25","12:00:00","9 °16 N","16° 01 W","Guinée Conakry",29,45,5,null,null,null,null,null,null,null,null,null,null,null,null,null,null,null,null,null,null,null,null,null,null,null,null,null,null,null,null,null,null,null,null,null,null,null,null,null,null,"RAS"]
["2020-05-26","04:30:00","8°14N","14°55W","SIERRA LEON",29,45,10,null,null,null,null,null,null,null,null,null,null,null,null,null,null,null,null,null,null,null,null,null,null,null,null,null,null,null,null,null,null,null,null,null,null,null,null,null,null,"ROUTE DAKAR  evasan"]
["2020-05-27","11:40:00",null,null,null,null,null,null,null,null,null,null,null,null,null,null,null,null,null,null,null,null,null,null,null,null,null,null,null,null,null,null,null,null,null,null,null,null,null,null,null,null,null,null,null,null,"rentrée à DAKAR "]
["2020-05-27","14:30:00",null,null,null,null,null,null,null,null,null,null,null,null,null,null,null,null,null,null,null,null,null,null,null,null,null,null,null,null,null,null,null,null,null,null,null,null,null,null,null,null,null,null,null,null,"sortie DAKAR"]
["2020-05-27","19:12:00","13°44N","17°53W","Sénégal",26,270,10,null,null,null,null,null,null,null,null,null,null,null,null,null,null,null,null,null,null,null,null,null,null,null,null,null,null,null,null,null,null,null,null,null,null,null,null,null,null,"RAS"]
["2020-05-27","21:00:00","13°18N","17°54W","Gambie",26,270,10,null,null,null,null,null,null,null,null,null,null,null,null,null,null,null,null,null,null,null,null,null,null,null,null,null,null,null,null,null,null,null,null,null,null,null,null,null,null,"RAS"]
["2020-05-28","00:05:00","12°34N","17°46W","Sénégal",26,270,10,null,null,null,null,null,null,null,null,null,null,null,null,null,null,null,null,null,null,null,null,null,null,null,null,null,null,null,null,null,null,null,null,null,null,null,null,null,null,"RAS"]
["2020-05-28","02:45:00","11°59N","17°48W","Co-Gestion Senegal Guinee bissau ",26,270,5,null,null,null,null,null,null,null,null,null,null,null,null,null,null,null,null,null,null,null,null,null,null,null,null,null,null,null,null,null,null,null,null,null,null,null,null,null,null,"RAS"]
["2020-05-28","12:30:00","9°56N","16°50W","Guinée Bissau",26,300,8,1,0,"Banc Objet",null,null,"1,8 - 3,4 kg",2,"1,8 - 3,4 kg",19,null,null,null,null,null,null,null,null,null,null,null,null,0,1,0,0,0,0,0,"Visite avec pêche","DCP dérivant","DCP espagnol émergé métal","Non observable","< 6, 5 cm",null,"Pas de bouée",null,"Pas de bouée"]
["2020-05-29","12:00:00","8°29N","15°29W","Guinée Conakry",29,0,10,null,null,null,null,null,null,null,null,null,null,null,null,null,null,null,null,null,null,null,null,null,null,null,null,null,null,null,null,null,null,null,null,null,null,null,null,null,null,"RAS"]
["2020-05-29","19:11:00","7°29N","14°15W","SIERRA LEON",29,0,5,null,null,null,null,null,null,null,null,null,null,null,null,null,null,null,null,null,null,null,null,null,null,null,null,null,null,null,null,"Visite sans pêche","DCP dérivant","DCP espagnol émergé métal","< 6, 5 cm","Non observable","Transfert","Pas de bouée",null,"M3i+",568708]
["2020-05-30","06:30:00","7°28N ","14°14W","SIERRA LEON",29,217,10,null,null,null,null,null,null,null,null,null,null,null,null,null,null,null,null,null,null,null,null,null,null,null,null,null,null,null,null,"Fin d'utilisation","DCP dérivant","DCP espagnol émergé métal","< 6, 5 cm","Non observable","Fin d'utilisation","M3i+",568708,"Pas de bouée"]
["2020-05-31","11:25:00","3°48 N ","10°44 W","Libéria",29,259,10,null,null,null,null,null,null,null,null,null,null,null,null,null,null,null,null,null,null,null,null,null,null,null,null,null,null,null,null,"Visite sans pêche","DCP dérivant","DCP espagnol émergé métal","< 6, 5 cm","Non observable","Transfert","Pas de bouée",null,"M3i+",554375]
["2020-06-01","16:00:00","1°40N","7°46W","Libéria",29,139,10,null,null,null,null,null,null,null,null,null,null,null,null,null,null,null,null,null,null,null,null,null,null,null,null,null,null,null,null,"Visite sans pêche","DCP dérivant","DCP espagnol émergé métal","Pas de mailles","Non observable","Visite","M3i+",585248]
["2020-06-02","00:20:00","1°25 N","6°08 W ","Côte d'Ivoire",29,150,10,null,null,null,null,null,null,null,null,null,null,null,null,null,null,null,null,null,null,null,null,null,null,null,null,null,null,null,null,null,null,null,null,null,null,null,null,null,null,"RAS"]
["2020-06-02","11:25:00","1°10 N","4°05 W","Eaux internationales",29,190,10,1,0,"Banc Objet","20 - 40 kg",2,null,null,"1,8 - 3,4 kg",25,null,null,"3,4 - 10 kg",2,null,null,null,null,null,null,null,null,null,null,null,null,null,null,null,null,"DCP dérivant","DCP français émergé bambou","Pas de mailles",null,"Transfert","Pas de bouée",null,"M3i+",568708]
["2020-06-03","16:53:00","1°24 N","2°30 W","Eaux internationales",29,180,15,1,0,"Banc Libre","> 60 kg",45,null,null,null,null,null,null,null,null,null,null,null,null,null,null,null,null,1,null,null,null,null,null,null,null,null,null,null,null,null,null,null,null,null,"MATTE YF"]
["2020-06-04","09:39:00","1°21 N","2°33 W","Eaux internationales",29,180,15,1,0,"Banc Libre","> 60 kg",26,null,null,null,null,null,null,null,null,null,null,null,null,null,null,null,null,1,null,null,null,null,null,null,null,null,null,null,null,null,null,null,null,null,"MATTE YF"]
["2020-06-05","07:25:00","1°14 N","2°02 W","Eaux internationales",29,180,5,null,1,"Banc Libre",null,null,null,null,null,null,null,null,null,null,null,null,null,null,null,null,null,null,1,null,null,null,null,null,null,null,null,null,null,null,null,null,null,null,null,"MATTE YF"]
["2020-06-06","12:00:00","1°07 N","0°37 W","Eaux internationales",29,180,20,null,null,null,null,null,null,null,null,null,null,null,null,null,null,null,null,null,null,null,null,null,null,null,null,null,null,null,null,null,null,null,null,null,null,null,null,null,null,"RAS"]
["2020-06-07","08:20:00","0°23N","2°11 E","Eaux internationales",28,170,6,null,null,null,null,null,null,null,null,null,null,null,null,null,null,null,null,null,null,null,null,null,null,null,null,null,null,null,null,null,"DCP dérivant","DCP coréen","Pas de mailles",null,"Transfert","ISD+",1216,"M3i+",585771]
["2020-06-08","07:30:00","1°04 N ","3°34 E","Sao Tome e Principe",28,196,15,null,null,null,null,null,null,null,null,null,null,null,null,null,null,null,null,null,null,null,null,null,null,null,null,null,null,null,null,null,"DCP dérivant","DCP espagnol émergé métal","< 6, 5 cm",null,"Transfert","SLX+",308224,"M3i+",585489]
["2020-06-09","12:00:00","0°52N","1°38W","Eaux internationales",28,167,15,null,null,null,null,null,null,null,null,null,null,null,null,null,null,null,null,null,null,null,null,null,null,null,null,null,null,null,null,null,null,null,null,null,null,null,null,null,null,"RAS"]
["2020-06-10","12:00:00","1°26N","5°07W","Eaux internationales",29,148,20,null,null,null,null,null,null,null,null,null,null,null,null,null,null,null,null,null,null,null,null,null,null,null,null,null,null,null,null,null,null,null,null,null,null,null,null,null,null,"RAS"]
["2020-06-11","03:30:00","4°42 N","3°52 W","Côte d'Ivoire",28,255,15,null,null,null,null,null,null,null,null,null,null,null,null,null,null,null,null,null,null,null,null,null,null,null,null,null,null,null,null,null,null,null,null,null,null,null,null,null,null,"RAS"]
["2020-06-11","07:48:00",null,null,null,null,null,null,null,null,null,null,null,null,null,null,null,null,null,null,null,null,null,null,null,null,null,null,null,null,null,null,null,null,null,null,null,null,null,null,null,null,null,null,null,null,"rentrée  ABIDJAN"]
["2020-06-11","14:43:00",null,null,null,null,null,null,null,null,null,null,null,null,null,null,null,null,null,null,null,null,null,null,null,null,null,null,null,null,null,null,null,null,null,null,null,null,null,null,null,null,null,null,null,null,"sortie ABIDJAN"]
["2020-06-12","12;00","1°34N","0°34W","Eaux internationales",null,null,null,null,null,null,null,null,null,null,null,null,null,null,null,null,null,null,null,null,null,null,null,null,null,null,null,null,null,null,null,null,null,null,null,null,null,null,null,null,null,"RAS"]
["1°3/06/2020","07:20:00","1°06 N","3°16 E","Eaux internationales",28,150,25,1,null,"Banc Objet",null,null,null,null,"1,8 - 3,4 kg",26,null,null,"3,4 - 10 kg",4,null,null,null,null,null,null,null,null,null,null,null,null,null,null,null,"Visite avec pêche","DCP dérivant","DCP coréen","Pas de mailles",null,"Transfert","ISD+",5487,"M3i+",585731]
["2020-06-14","10:35:00","0°52 N","4°35 E","Sao Tome e Principe",28,170,20,1,null,"Banc Objet",null,null,null,null,"< 1,8 kg",50,null,null,null,null,null,null,"banane",5,1,null,null,null,null,null,null,null,null,null,null,"Visite avec pêche","DCP dérivant","DCP espagnol émergé métal","< 6, 5 cm",null,"Transfert","Pas de bouée",null,"M3i+",585835]
[null,null,null,null,null,null,null,null,null,null,null,null,null,null,null,null,null,null,null,null,null,null,null,"ravil",1,1]
["2020-06-14","17;30","0°42N","4°32E","Sao Tome e Principe",27,170,10,null,null,null,null,null,null,null,null,null,null,null,null,null,null,null,null,null,null,null,null,null,null,null,null,null,null,null,null,"Mise à l'eau","DCP dérivant","DCP français émergé bambou","< 6, 5 cm","< 6, 5 cm","Mise à l'eau",null,null,"M3i+",585835]
["2020-06-15","05:30:00","0°23N","4°36E","Sao Tome e Principe",26,185,5,null,null,null,null,null,null,null,null,null,null,null,null,null,null,null,null,null,null,null,null,null,null,null,null,null,null,null,null,"Mise à l'eau","DCP dérivant","DCP français émergé bambou","< 6, 5 cm","< 6, 5 cm","Mise à l'eau",null,null,"M3i+",585738]
["2020-06-15","16.32","0°44 S","6°10 E","Sao Tome e Principe",26,180,5,null,null,null,null,null,null,null,null,null,null,null,null,null,null,null,null,null,null,null,null,null,null,null,null,null,null,null,null,"Mise à l'eau","DCP dérivant","DCP français émergé bambou","< 6, 5 cm","< 6, 5 cm","Mise à l'eau",null,null,"M3i+",585701]
["2020-06-16","09:00:00","4°33 S","6°58 E ","Eaux internationales",24,198,5,null,null,null,null,null,null,null,null,null,null,null,null,null,null,null,null,null,null,null,null,null,null,null,null,null,null,null,null,"Mise à l'eau","DCP dérivant","DCP français émergé bambou","< 6, 5 cm","< 6, 5 cm","Mise à l'eau",null,null,"M3i+",585741]
["2020-06-17","05:30:00","5°51 S","6°56 E","Eaux internationales",24,195,5,null,null,null,null,null,null,null,null,null,null,null,null,null,null,null,null,null,null,null,null,null,null,null,null,null,null,null,null,"Visite sans pêche","DCP dérivant","DCP français émergé bambou","Pas de mailles","Non observable","Visite",null,null,"M3i+",568013]
["2020-06-18","12:00:00","5°18 S","1°45 E","Eaux internationales",25,172,15,null,null,null,null,null,null,null,null,null,null,null,null,null,null,null,null,null,null,null,null,null,null,null,null,null,null,null,null,null,null,null,null,null,null,null,null,null,null,"RAS"]
["2020-06-19","12:00:00","5°24 S","0°32 W","Eaux internationales",26,165,10,null,null,null,null,null,null,null,null,null,null,null,null,null,null,null,null,null,null,null,null,null,null,null,null,null,null,null,null,null,null,null,null,null,null,null,null,null,null,"RAS"]
["2020-06-20","17:00:00","2°05 S","1°24 E ","Eaux internationales",24,188,5,null,null,null,null,null,null,null,null,null,null,null,null,null,null,null,null,null,null,null,null,null,null,null,null,null,null,null,null,"Visite sans pêche","DCP dérivant","DCP espagnol émergé métal","< 6, 5 cm","Non observable","Transfert","M3i+",593875,"M3i+",585551]
["2020-06-21","10:00:00","00°54N","3°53 E","Sao Tome e Principe",27,193,15,null,null,null,null,null,null,null,null,null,null,null,null,null,null,null,null,null,null,null,null,null,null,null,null,null,null,null,null,"Visite sans pêche","DCP dérivant","DCP espagnol émergé métal","< 6, 5 cm","Non observable","Transfert","M3i+",540335,"M3i+",585677]
["2020-06-22","06:40:00","0°49 N","003°36 E","Sao Tome e Principe",27,185,10,1,null,"Banc Objet",null,null,"3,4 - 10 kg",1,"1,8 - 3,4 kg",50,null,null,"3,4 - 10 kg",5,null,null,"Marlin ",100,0.5,null,null,null,null,1,null,null,null,null,null,"Visite avec pêche","DCP dérivant","DCP français émergé métal","< 6, 5 cm",null,null,"M3i+",585677]
["2020-06-22","06:40:00","0°49 N","003°36 E","Sao Tome e Principe",null,null,null,null,null,null,null,null,null,null,"< 1,8 kg",14,null,null,null,null,null,null,"ravil",1,1]
["2020-06-22","12:30:00","1°11 N","3°24 E ","Sao Tome e Principe",27,185,5,null,null,null,null,null,null,null,null,null,null,null,null,null,null,null,null,null,null,null,null,null,null,null,null,null,null,null,null,"Visite sans pêche","DCP dérivant","DCP espagnol émergé plastique","Pas de mailles","Non observable","Transfert","Pas de bouée",null,"M3i+",585773]
["2020-06-22","14:12:00","1°17 N","3°37 E ","Sao Tome e Principe",27,185,5,null,null,null,null,null,null,null,null,null,null,null,null,null,null,null,null,null,null,null,null,null,null,null,null,null,null,null,null,"Visite sans pêche","DCP dérivant","DCP coréen","Pas de mailles","Non observable","Transfert","ISD+",2406,"M3i+",585704]
["2020-06-23","07:35:00","1°04 N","3°45 E","Sao Tome e Principe",27,185,10,1,null,"Banc Objet",null,null,"1,8 - 3,4 kg",1,"1,8 - 3,4 kg",12,null,null,null,null,null,null,"banane",3,1,null,null,null,null,1,null,null,null,null,null,"Visite avec pêche","DCP dérivant","DCP coréen","Pas de mailles","Non observable","Transfert","ISD+",2312,"M3i+",585501]
["2020-06-23","07:35:00","1°04 N","3°45 E","Sao Tome e Principe",null,null,null,null,null,null,null,null,null,null,"< 1,8 kg",5]
["2020-06-24","07:30:00","1°05 N","4°16 E","Sao Tome e Principe",27,185,5,null,null,null,null,null,null,null,null,null,null,null,null,null,null,null,null,null,null,null,null,null,null,null,null,null,null,null,null,"Visite sans pêche","DCP dérivant","DCP espagnol émergé plastique","Pas de mailles","Non observable","Transfert","M3i+",540556,"M3i+",585732]
["2020-06-25","07:22:00","1°04 N","4°39 E","Sao Tome e Principe",27,190,10,1,null,"Banc Libre","40 - 60 kg",15,null,null,null,null,null,null,null,null,null,null,null,null,null,null,null,null,1,null,null,null,null,null,null,null,null,null,null,null,null,null,null,null,null,"Matte YF"]
["2020-06-25","10;14","1°08 N","4°36 E","Sao Tome e Principe",27,190,10,1,null,null,null,null,null,null,"1,8 - 3,4 kg",20,null,null,"1,8 - 3,4 kg",3,null,null,"banane",3,1,null,null,null,null,1,null,null,null,null,null,"Visite avec pêche","DCP dérivant","DCP coréen","Pas de mailles","< 6, 5 cm","Transfert","Pas de bouée",null,"M3i+",585571]
["2020-06-25","10;14","1°08 N","4°36 E","Sao Tome e Principe",null,null,null,null,null,null,null,null,null,null,"< 1,8 kg",10,null,null,"3,4 - 10 kg",7,null,null,"ravil",1,1]
["2020-06-26","07:50:00","1°07 N","4°25 E","Sao Tome e Principe",27,180,20,1,null,"Banc Libre","> 60 kg",15,null,null,null,null,null,null,null,null,null,null,null,null,null,null,null,null,1,null,null,null,null,null,null,null,null,null,null,null,null,null,null,null,null,"MATTE YF"]
["2020-06-26","11;40","1°10 N","4°16 E","Sao Tome e Principe",27,180,20,1,null,"Banc Libre","40 - 60 kg",30,null,null,null,null,null,null,null,null,null,null,null,null,null,null,null,null,1,null,null,null,null,1,1,null,null,null,null,null,null,null,null,null,null,"MATTE YF"]
["2020-06-27","08:25:00","1°18 N","4°20 E","Sao Tome e Principe",27,180,15,1,null,"Banc Libre","> 60 kg",17,null,null,null,null,null,null,null,null,null,null,null,null,null,null,null,null,1,null,null,null,null,null,1,null,null,null,null,null,null,null,null,null,null,"MATTE YF"]
["2020-06-27","12:00:00","1°24 N","4°17 E","Sao Tome e Principe",27,180,15,1,null,"Banc Libre","> 60 kg",3,null,null,null,null,null,null,null,null,null,null,null,null,null,null,null,null,1,null,null,null,null,null,1]
["2020-06-27","14:50:00","1°12 N","6°17 E","Sao Tome e Principe",27,180,10,null,0,"Banc Libre",null,null,null,null,null,null,null,null,null,null,null,null,null,null,null,null,null,null,1,null,null,null,null,null,1]
["2020-06-27","17:13:00","1°22 N","4°17 E","Sao Tome e Principe",27,180,10,null,0,"Banc Libre",null,null,null,null,null,null,null,null,null,null,null,null,null,null,null,null,null,null,1]
["2020-06-28","07:45:00","1°04 N","05°03 E","Sao Tome e Principe",27,230,5,null,null,null,null,null,null,null,null,null,null,null,null,null,null,null,null,null,null,null,null,null,null,null,null,null,null,null,null,"Visite sans pêche","DCP dérivant","DCP espagnol émergé métal","< 6, 5 cm","Non observable","Transfert","M3i+",593387,"M3i+",585571]
["2020-06-28","08:40:00","0°54 N","5°05 E","Sao Tome e Principe",27,200,5,null,null,null,null,null,null,null,null,null,null,null,null,null,null,null,null,null,null,null,null,null,null,null,null,null,null,null,null,"Mise à l'eau","DCP dérivant","DCP français émergé bambou","< 6, 5 cm","< 6, 5 cm","Mise à l'eau",null,null,"M3i+",585736]
["2020-06-29","9;40","1°23 N","3°44 E","Sao Tome e Principe",27,190,10,1,null,"Banc Libre","> 60 kg",19,null,null,null,null,null,null,null,null,null,null,null,null,null,null,null,null,1,null,null,null,null,null,null,null,null,null,null,null,null,null,null,null,null,"MATTE YF"]
["2020-06-29","13:15:00","1°27 N","3°46 E","Sao Tome e Principe",27,190,10,1,null,"Banc Libre","> 60 kg",5,null,null,null,null,null,null,null,null,null,null,null,null,null,null,null,null,1,null,null,null,null,null,null,null,null,null,null,null,null,null,null,null,null,"MATTE YF"]
["2020-06-30","07:40:00","1°02 N","3°46 E","Sao Tome e Principe",27,185,5,1,null,"Banc Libre","> 60 kg",2,null,null,null,null,null,null,null,null,null,null,null,null,null,null,null,null,1,null,null,null,null,null,null,null,null,null,null,null,null,null,null,null,null,"MATTE YF"]
["2020-06-30","10;30","1°04 N","3°47 E","Sao Tome e Principe",27,185,5,1,null,"Banc Libre","> 60 kg",68,null,null,null,null,null,null,null,null,null,null,null,null,null,null,null,null,1,null,null,null,null,null,null,null,null,null,null,null,null,null,null,null,null,"MATTE YF"]
["2020-07-01","13:25:00","0°56 N","4°37 E","Sao Tome e Principe",27,185,10,1,null,"Banc Objet",null,null,"1,8 - 3,4 kg",5,"1,8 - 3,4 kg",20,null,null,null,null,null,null,null,null,null,null,null,null,null,1,null,null,null,null,null,"Visite avec pêche","DCP dérivant","DCP espagnol émergé métal",null,"> 6,5 cm","Visite","M3i+",585571]
["2020-07-01","13:25:00","0°56 N","4°37 E","Sao Tome e Principe",27,null,null,null,null,null,null,null,null,null,"< 1,8 kg",10]
["2020-07-02","07:40:00","0°55 N","05°00 E","Sao Tome e Principe",26,185,15,1,null,"Banc Objet",null,null,null,null,"1,8 - 3,4 kg",5,null,null,null,null,null,null,null,null,null,null,null,null,null,1,null,null,null,null,null,"Visite avec pêche","DCP dérivant","DCP français émergé bambou","< 6, 5 cm","< 6, 5 cm",null,"M3i+",585736]
["2020-07-02","13:30:00","1°10 N ","4°54 E","Sao Tome e Principe",26,186,15,null,null,null,null,null,null,null,null,null,null,null,null,null,null,null,null,null,null,null,null,null,null,null,null,null,null,null,null,"Visite sans pêche","DCP dérivant","DCP espagnol émergé métal","< 6, 5 cm","Non observable",null,"ISD+",321183,"M3i+",585766]
["2020-07-03","06:30:00","1°06 N","04°52 E","Sao Tome e Principe",27,190,20,1,null,null,null,null,"1,8 - 3,4 kg",3,"1,8 - 3,4 kg",35,null,null,null,null,null,null,null,null,null,null,null,null,null,1,null,null,null,null,null,"Visite avec pêche","DCP dérivant","DCP espagnol émergé métal","< 6, 5 cm",null,null,"M3i+",585766]
["2020-07-03","06:30:00","1°06 N","04°52 E","Sao Tome e Principe",null,null,null,null,null,null,null,null,null,null,"< 1,8 kg",10]
["2020-07-03","13:20:00","0°40 N","4°21 E","Sao Tome e Principe",27,190,20,1,null,null,"10 - 20 kg",1,null,null,"1,8 - 3,4 kg",15,null,null,null,null,null,null,"RAVIL",1,2,null,null,null,null,1,null,null,null,null,null,"Visite avec pêche","DCP dérivant","DCP espagnol émergé métal","< 6, 5 cm",null,null,"M3i+",557571]
["2020-07-03","13:20:00","0°40 N","4°21 E","Sao Tome e Principe",null,null,null,null,null,null,null,null,null,null,"< 1,8 kg",2]
["2020-07-04","07:45:00","0°59 N","4°45 E","Sao Tome e Principe",27,190,20,null,1,"Banc Libre"]
["2020-07-05","16.35","1°11 N ","4° 22 E","Sao Tome e Principe",27,165,10,null,null,null,null,null,null,null,null,null,null,null,null,null,null,null,null,null,null,null,null,null,null,null,null,null,null,null,null,"Visite sans pêche","DCP dérivant","DCP coréen","< 6, 5 cm","Non observable","Transfert","ISD+",2031,"M3i+",585683]
["2020-07-06","07:30:00","1°44 N ","0°52 E ","Eaux internationales",27,185,5,null,null,null,null,null,null,null,null,null,null,null,null,null,null,null,null,null,null,null,null,null,null,null,null,null,null,null,null,"Visite sans pêche","DCP dérivant","DCP espagnol émergé métal","Pas de mailles","Non observable","Transfert","ISD+",1935,"M3i+",585557]
["2020-07-06","14:20:00","1°48 N","0°26 W","Eaux internationales",27,185,5,1,null,null,"> 60 kg",33,null,null,null,null,"> 60 kg",2]
["2020-07-07","12:00:00","4°09 N","3°34 W","Côte d'Ivoire",24,185,8,null,null,null,null,null,null,null,null,null,null,null,null,null,null,null,null,null,null,null,null,null,null,null,null,null,null,null,null,null,null,null,null,null,null,null,null,null,null,"RAS"]
["2020-07-07","15:00:00",null,null,null,null,null,null,null,null,null,null,null,null,null,null,null,null,null,null,null,null,null,null,null,null,null,null,null,null,null,null,null,null,null,null,null,null,null,null,null,null,null,null,null,null,"RENTREE ABIDJAN"]

{"sheet":"3.Tonnage bord","index":2,"n_rows":15,"n_cols":5,"rows_kept":15,"cut":false,"hidden":false,"merged":[[12,1,12,4],[13,1,13,4]]}
[]
[null,"Information pêche"]
[null,{"$f":"Navire","v":"VIA EUROS"},null,"Tonnage le :",{"$f":"TODAY()","v":"2020-07-17"}]
[null,"Albacore +10",":",{"$f":"SUM('2.Logbook'!$M$30:$M$532)+'1.Marée'!$T$5","v":281}]
[null,"Albacore -10",null,{"$f":"SUM('2.Logbook'!$O$30:$O$532)+'1.Marée'!$T$6","v":12}]
[null,"Listao",":",{"$f":"SUM('2.Logbook'!$Q$30:$Q$532)+'1.Marée'!$T$7","v":328}]
[null,"Patudo -10",":",{"$f":"SUM('2.Logbook'!$S$30:$S$532)+'1.Marée'!$T$8","v":2}]
[null,"Patudo +10",null,{"$f":"SUM('2.Logbook'!$U$30:$U$532)+'1.Marée'!$T$9","v":21}]
[null,"Germon",":",{"$f":"SUM('2.Logbook'!$W$30:$W$532)+'1.Marée'!$T$10","v":0}]
[]
[null,"Total",":",{"$f":"SUM(D4:D9)","v":644}]
[]
[null,"1- ouvrir un nouveau mail dans votre messagerie"]
[null,"2- coller dans le corps du texte"]
[null,"3- envoyer votre email à armement"]

{"sheet":"4.Statistiques","index":3,"n_rows":42,"n_cols":4,"rows_kept":42,"cut":false,"hidden":false,"merged":[[1,1,1,3],[2,1,2,3]]}
[]
[null,{"$f":"Navire","v":"VIA EUROS"}]
[null,"Statistiques  Captures"]
[null,"N° Marée",{"$f":"Marée","v":"XX"}]
[null,"Du :",{"$f":"Date_départ","v":"2020-05-20"}]
[null,"Au :",{"$f":"Date_retour","v":"2020-07-07"}]
[]
[null,null,"Sur banc libre (en t)"]
[null,"YF+10",{"$f":"SUMIFS('2.Logbook'!$M$30:$M$532,'2.Logbook'!$K$30:$K$532,\"Banc Libre\")","v":245},{"$f":"IF($C$36=0,\"\",C9/$C$36)","v":20.416666666666668}]
[null,"YF-10",{"$f":"SUMIFS('2.Logbook'!$O$30:$O$532,'2.Logbook'!$K$30:$K$532,\"Banc Libre\")","v":0},{"$f":"IF(C37=0,\"\",C10/C37)","v":0}]
[null,"SKJ",{"$f":"SUMIFS('2.Logbook'!$Q$30:$Q$532,'2.Logbook'!$K$30:$K$532,\"Banc Libre\")","v":0},{"$f":"IF(C38=0,\"\",C11/C38)","v":0}]
[null,"BE+10",{"$f":"SUMIFS('2.Logbook'!$S$30:$S$532,'2.Logbook'!$K$30:$K$532,\"Banc Libre\")","v":0},{"$f":"IF(C39=0,\"\",C12/C39)","v":0}]
[null,"BE-10",{"$f":"SUMIFS('2.Logbook'!$U$30:$U$532,'2.Logbook'!$K$30:$K$532,\"Banc Libre\")","v":0},{"$f":"IF(C40=0,\"\",C13/C40)","v":0}]
[null,"Germon",{"$f":"SUMIFS('2.Logbook'!$W$30:$W$532,'2.Logbook'!$K$30:$K$532,\"Banc Libre\")","v":0},{"$f":"IF(C41=0,\"\",C14/C41)","v":""}]
[]
[]
[null,null,"Sur DCP (en t)"]
[null,"YF+10",{"$f":"SUMIFS('2.Logbook'!$M$30:$M$532,'2.Logbook'!$K$30:$K$532,\"Banc Objet\",'2.Logbook'!$AL$30:$AL$532,{\"DCP dérivant\";\"DCP ancré\"}  )","v":2},{"$f":"IF($C$36=0,\"\",C18/$C$36)","v":0.16666666666666666}]
[null,"YF-10",{"$f":"SUMIFS('2.Logbook'!$O$30:$O$532,'2.Logbook'!$K$30:$K$532,\"Banc Objet\",'2.Logbook'!$AL$30:$AL$532,{\"DCP dérivant\";\"DCP ancré\"}  )","v":9},{"$f":"IF($C$37=0,\"\",C19/$C$37)","v":3.2028469750889681E-2}]
[null,"SKJ",{"$f":"SUMIFS('2.Logbook'!$Q$30:Q$532,'2.Logbook'!$K$30:$K$532,\"Banc Objet\",'2.Logbook'!$AL$30:$AL$532,{\"DCP dérivant\";\"DCP ancré\"}  )","v":207},{"$f":"IF($C$38=0,\"\",C20/$C$38)","v":0.63109756097560976}]
[null,"BE+10",{"$f":"SUMIFS('2.Logbook'!$S$30:$S$532,'2.Logbook'!$K$30:$K$532,\"Banc Objet\",'2.Logbook'!$AL$30:$AL$532,{\"DCP dérivant\";\"DCP ancré\"}  )","v":0},{"$f":"IF($C$39=0,\"\",C21/$C$39)","v":0}]
[null,"BE-10",{"$f":"SUMIFS('2.Logbook'!$U$30:$U$532,'2.Logbook'!$K$30:$K$532,\"Banc Objet\",'2.Logbook'!$AL$30:$AL$532,{\"DCP dérivant\";\"DCP ancré\"}  )","v":11},{"$f":"IF($C$40=0,\"\",C22/$C$40)","v":0.52380952380952384}]
[null,"Germon",{"$f":"SUMIFS('2.Logbook'!$W$30:$W$532,'2.Logbook'!$K$30:$K$532,\"Banc Objet\",'2.Logbook'!$AL$30:$AL$532,{\"DCP dérivant\";\"DCP ancré\"}  )","v":0},{"$f":"IF($C$41=0,\"\",C23/$C$41)","v":""}]
[]
[]
[null,null,"Sur épave (en t)"]
[null,"YF+10",{"$f":"SUMIFS('2.Logbook'!$M$30:$M$532,'2.Logbook'!$K$30:$K$532,\"Banc Objet\",'2.Logbook'!$AL$30:$AL$532, \"<>\" & {\"DCP dérivant\";\"DCP ancré\"}  )","v":0},{"$f":"IF($C$36=0,\"\",C27/$C$36)","v":0}]
[null,"YF-10",{"$f":"SUMIFS('2.Logbook'!$O$30:$O$532,'2.Logbook'!$K$30:$K$532,\"Banc Objet\",'2.Logbook'!$AL$30:$AL$532,\"<>\" &{\"DCP dérivant\";\"DCP ancré\"}  )","v":0},{"$f":"IF($C$37=0,\"\",C28/$C$37)","v":0}]
[null,"SKJ",{"$f":"SUMIFS('2.Logbook'!$Q$30:Q$532,'2.Logbook'!$K$30:$K$532,\"Banc Objet\",'2.Logbook'!$AL$30:$AL$532,\"<>\" &{\"DCP dérivant\";\"DCP ancré\"}  )","v":0},{"$f":"IF($C$38=0,\"\",C29/$C$38)","v":0}]
[null,"BE+10",{"$f":"SUMIFS('2.Logbook'!$S$30:$S$532,'2.Logbook'!$K$30:$K$532,\"Banc Objet\",'2.Logbook'!$AL$30:$AL$532,\"<>\" &{\"DCP dérivant\";\"DCP ancré\"}  )","v":0},{"$f":"IF($C$39=0,\"\",C30/$C$39)","v":0}]
[null,"BE-10",{"$f":"SUMIFS('2.Logbook'!$U$30:$U$532,'2.Logbook'!$K$30:$K$532,\"Banc Objet\",'2.Logbook'!$AL$30:$AL$532,\"<>\" &{\"DCP dérivant\";\"DCP ancré\"}  )","v":0},{"$f":"IF($C$40=0,\"\",C31/$C$40)","v":0}]
[null,"Germon",{"$f":"SUMIFS('2.Logbook'!$W$30:$W$532,'2.Logbook'!$K$30:$K$532,\"Banc Objet\",'2.Logbook'!$AL$30:$AL$532,\"<>\" &{\"DCP dérivant\";\"DCP ancré\"}  )","v":0},{"$f":"IF($C$41=0,\"\",C32/$C$41)","v":""}]
[]
[]
[null,null,"Totaux   (en T)"]
[null,"YF+10",{"$f":"SUM('2.Logbook'!$O$30:$O$532)","v":12}]
[null,"YF-10",{"$f":"SUM('2.Logbook'!$M$30:$M$532)","v":281}]
[null,"SKJ",{"$f":"SUM('2.Logbook'!$Q$30:$Q$532)","v":328}]
[null,"BE+10",{"$f":"SUM('2.Logbook'!$S$30:$S$532)","v":2}]
[null,"BE-10",{"$f":"SUM('2.Logbook'!$U$30:$U$532)","v":21}]
[null,"Germon",{"$f":"SUM('2.Logbook'!$W$30:$W$532)","v":0}]
[null,"Total",{"$f":"SUM(C36:C41)","v":644}]

{"sheet":"5.Définitions","index":4,"n_rows":80,"n_cols":2,"rows_kept":80,"cut":false,"hidden":false,"merged":[]}
["TAILLE DES CAPTURES"]
["ALBACORE, PATUDO, GERMON","Description"]
["< 1,8 kg","Poisson de moins de 1,8 kg"]
["1,8 - 3,4 kg","Poisson de 1,8 à 3,4 kg"]
["3,4 - 10 kg","Poisson de 3,4 à 10 kg"]
["10 - 20 kg","Poisson de 10 à 20 kg"]
["20 - 40 kg","Poisson de 20 à 40 kg"]
["40 - 60 kg","Poisson de 40 à 60 kg"]
["> 60 kg","Poisson de plus de 60 kg"]
[]
["LISTAO","Description"]
["< 1,8 kg","Poisson de moins de 1,8 kg"]
["1,8 - 3,4 kg","Poisson de 1,8 à 3,4 kg"]
["> 3,4 kg","Poisson de plus de 3,4 kg"]
[]
["OBJETS FLOTTANTS"]
["Types d'activités sur les objets flottants","Description"]
["Mise à l'eau","Déploiement d'un nouveau DCP"]
["Visite sans pêche","Visite d'un DCP ou d'une épave déjà en mer et qui n'est pas suivie d'une calée"]
["Visite avec pêche","Visite d'un DCP ou d'une épave déjà en mer suivie d'une calée"]
["Renforcement","Déploiement d'un DCP sur un autre DCP ou sur une épave pour améliorer sa flottabilité "]
["Retrait","Récupération en mer d'un DCP ou d'une épave"]
["Perte","Action involontaire. Se produit par exemple si un autre bateau récupère l'objet, si la bouée arrête d'émettre ou si l'objet coule."]
["Fin d'utilisation","Action volontaire. Se produit si le bateau, son baliseur ou l'armement désactive la bouée. L'abandon d'un DCP en mer sans balise est interdit."]
[]
["Types d'objets flottants","Description / Exemple"]
["DCP ancré","Objet construit et ancré par des pêcheurs pour attirer du poisson"]
["DCP dérivant","Objet dérivant construit et déployé par des pêcheurs pour attirer du poisson"]
["Epave artificielle liée à la pêche","Par exemple, un morceau de filet, une aussière, une épave de bateau, un baliseur"]
["Epave artificielle liée à d'autres activités humaines","Par exemple, un bidon, un touret de câble, une bouée océanique"]
["Epave naturelle d'origine animale","Par exemple, une charogne de baleine ou de requin baleine"]
["Epave naturelle d'origine végétale","Par exemple, un tas de paille, un amas d'algues ou des branches d'arbre"]
[]
["Types de DCP","Description"]
["DCP français émergé bambou","Radeau type français, avec un cadre 100% bambou émergé"]
["DCP français émergé métal","Radeau type français, avec un cadre 100% métal émergé"]
["DCP français émergé bambou-métal","Radeau type français, avec un cadre mixte bambou métal"]
["DCP français furtif","Radeau type français, sous la surface"]
["DCP français cage","Radeau-cage type français, sous la surface"]
["DCP espagnol émergé bambou","Radeau type espagnol, avec un cadre 100% bambou émergé"]
["DCP espagnol émergé métal","Radeau type espagnol, avec un cadre 100% métal émergé"]
["DCP espagnol émergé bambou-métal","Radeau type espagnol, avec un cadre mixte bambou métal"]
["DCP espagnol émergé plastique","Radeau type espagnol, avec un cadre 100% plastique émergé"]
["DCP espagnol furtif","Radeau type espagnol, avec un cadre mixte bambou métal"]
["DCP espagnol cage","Radeau type espagnol, sous la surface"]
["DCP coréen","Radeau type coréen"]
["Autre DCP dérivant","A décrire dans les commentaires"]
["Autre objet","A décrire dans les commentaires"]
[]
["Risque de maillage","Description"]
["Pas de mailles","Présence de mailles en surface (risque pour les tortues) ou sous la surface (risque pour les requins). L'utilisation de DCP avec mailles est interdite par la CTOI."]
["< 6, 5 cm","Présence de mailles de 6,5 cm ou moins. Faible risque de maillage."]
["> 6,5 cm","Présence de mailles de plus de 6,5 cm. Fort risque de maillage."]
["Mailles de taille inconnue","La taille des mailles n'a pas pu être estimée"]
["Non observable","La présence de mailles n'a pas pu être observée"]
[]
[]
[]
["BOUEES"]
["Types d'activités sur les bouées","Description"]
["Mise à l'eau","Déploiement d'un DCP neuf avec une bouée / déploiement d'une bouée sur un objet dérivant sans bouée"]
["Visite","Visite d'un DCP ou d'une épave équipée d'une bouée  / visite d'une bouée dérivant seule"]
["Transfert","Changement de bouée"]
["Retrait","Récupération en mer d'une bouée.  L'abandon d'un DCP en mer sans balise est interdit."]
["Perte","Action involontaire. Se produit par exemple si un autre bateau récupère l'objet et éteint la bouée, si la bouée arrête d'émettre ou si la bouée coule."]
["Fin d'utilisation","Action volontaire. Se produit si le bateau, son baliseur ou l'armement désactive la bouée. L'abandon d'un DCP en mer sans balise est interdit."]
[]
["Types de bouées","Description"]
["M3i","Marine Instrument M3i"]
["M3i+","Marine Instrument M3i+"]
["M4i","Marine Instrument M4i"]
["Marine Instruments modèle inconnu","Bouée Marine Instruments dont le modèle n'a pas été observé ou n'est pas présent dans la liste précédente"]
["Ortbit","Thalos Ortbit"]
["Thalos modèle inconnu","Bouée Thalos dont le modèle n'a pas été observé ou n'est pas présent dans la liste précédente"]
["SLX+","Satlink SLX+"]
["ISD+","Satlink ISD+"]
["Autre Satlink","Autre modèle Satlink (non utilisé par la flotte française)"]
["Satlink modèle inconnu","Bouée Satlink dont le modèle n'a pas été observé"]
["Marque et modèle inconnus","Bouée pour laquelle ni la marque, ni le modèle n'ont pu être observés"]
["Pas de bouée","Objet dérivant sans bouée"]

{"sheet":"6.Export Captures IRD ","index":5,"n_rows":524,"n_cols":33,"rows_kept":524,"cut":false,"hidden":false,"merged":[[2,0,7,0],[2,1,7,1],[2,2,7,4],[2,5,7,7],[2,8,7,8],[8,9,13,9],[8,10,19,10],[2,10,3,11],[2,12,3,14],[2,15,3,32],[4,10,5,11],[4,12,5,14],[4,15,5,32],[2,9,7,9],[8,0,13,0],[8,1,13,1],[8,2,13,4],[8,5,13,7],[8,8,13,8],[14,15,15,18],[14,19,15,20],[6,10,7,11],[6,12,7,14],[6,15,7,32],[8,21,9,24],[8,25,9,26],[8,27,9,29],[8,30,9,32],[10,15,11,18],[10,19,11,20],[10,21,11,24],[10,25,11,26],[10,27,11,29],[10,30,11,32],[8,15,9,18],[8,19,9,20],[12,21,13,24],[12,25,13,26],[12,27,13,29],[12,30,13,32],[14,0,19,0],[14,1,19,1],[14,2,19,4],[14,5,19,7],[14,8,19,8],[14,9,19,9],[8,11,19,11],[8,12,19,12],[8,13,19,13],[8,14,19,14],[12,15,13,18],[12,19,13,20],[16,15,16,16],[16,17,16,18],[16,19,16,20],[16,21,16,22],[16,23,16,24],[16,27,16,29],[16,30,16,32],[14,21,15,24],[14,25,15,26],[14,27,15,29],[14,30,15,32],[16,25,16,26]]}
[]
[]
["DATE","HEURE","LATITUDE\nchaque calée ou à midi",null,null,"LONGITUDE\nchaque calée ou à midi",null,null,"ZEE","T°C \nmer","VENT",null,"CALEE",null,null,"CAPTURE ESTIMEE (en tonnes)"]
[]
[null,null,null,null,null,null,null,null,null,null,"VIENTO",null,"LANCE",null,null,"ESTIMATION DE LA CAPTURA (en toneladas)"]
[]
[null,null,null,null,null,null,null,null,null,null,"WIND",null,"FISHING SET",null,null,"ESTIMATED CATCH (metric tons)"]
[]
["FECHA","HORA","LATITUD\ncada lance o mediada",null,null,"LONGITUD\ncada lance o mediada",null,null,"ZEE","T°C \nmar","Direction / Dirreccion /Direction\nDegrés / Grados / Degrees","Vitesse / Velocidad / Speed\nNœuds / Nudos / Knots","Portante / Positivo\n / Successful","Nulle / Nullo / Nil","Type de calée / Lance typo \n/ Fishing set type",1,null,null,null,2,null,3,null,null,null,4,null,5,null,null,6]
[]
[null,null,null,null,null,null,null,null,null,null,null,null,null,null,null,"ALBACORE",null,null,null,"LISTAO",null,"PATUDO",null,null,null,"GERMON",null,"AUTRES ESPECES",null,null,"REJETS"]
[]
[null,null,null,null,null,null,null,null,null,null,null,null,null,null,null,"RABIL",null,null,null,"LISTADO",null,"PATUDO",null,null,null,"ALBACORA",null,"OTRAS ESPECIES",null,null,"DESCARTES"]
[]
["DATE","TIME","LATITUDE\neach set or at midday",null,null,"LONGITUDE\neach set or at midday",null,null,"EEZ","T°C \nsea",null,null,null,null,null,"YELLOWFIN",null,null,null,"SKIPJACK",null,"BIGEYE",null,null,null,"ALBACORE",null,"OTHER SPECIES",null,null,"DISCARDS"]
[]
[null,null,null,null,null,null,null,null,null,null,null,null,null,null,null,"YFT +10",null,"YFT-10",null,"SKJ",null,"BET +10",null,"BET - 10",null,"ALB",null,"OTH",null,null,"DSC"]
[null,null,null,null,null,null,null,null,null,null,null,null,null,null,null,"Taille","Capture","Taille","Capture","Taille","Capture","Taille","Capture","Taille","Capture","Taille","Capture","Espèce","Taille","Capture","Espèce","Taille","Capture"]
[null,null,null,null,null,null,null,null,null,null,null,null,null,null,null,"Tailla","Captura","Tailla","Captura","Tailla","Captura","Tailla","Captura","Tailla","Captura","Tailla","Captura","Especie","Tailla","Captura","Especie","Tailla","Captura"]
[null,null,null,null,null,null,null,null,null,null,null,null,null,null,null,"Size","Catch","Size","Catch","Size","Catch","Size","Catch","Size","Catch","Size","Catch","Species","Size","Catch","Species","Size","Catch"]
[]
[]
[{"$f":"IF('2.Logbook'!A33=\"\",\"\",'2.Logbook'!A33)","v":"2020-05-23"},{"$f":"IF('2.Logbook'!B33=\"\",\"\",'2.Logbook'!B33)","v":"11:00:00"},{"$f":"IF('2.Logbook'!C33=\"\",\"\",'2.Logbook'!C33)","v":"13°36 N"},{"$f":"IF('2.Logbook'!D33=\"\",\"\",'2.Logbook'!D33)","v":"18°13 W"},{"$f":"IF('2.Logbook'!E33=\"\",\"\",'2.Logbook'!E33)","v":"Sénégal"},{"$f":"IF('2.Logbook'!F33=\"\",\"\",'2.Logbook'!F33)","v":25},{"$f":"IF('2.Logbook'!G33=\"\",\"\",'2.Logbook'!G33)","v":"00:00:00"},{"$f":"IF('2.Logbook'!H33=\"\",\"\",'2.Logbook'!H33)","v":10},{"$f":"IF('2.Logbook'!I33=\"\",\"\",'2.Logbook'!I33)","v":""},{"$f":"IF('2.Logbook'!J33=\"\",\"\",'2.Logbook'!J33)","v":""},{"$f":"IF('2.Logbook'!K33=\"\",\"\",'2.Logbook'!K33)","v":""},{"$f":"IF('2.Logbook'!L33=\"\",\"\",'2.Logbook'!L33)","v":""},{"$f":"IF('2.Logbook'!M33=\"\",\"\",'2.Logbook'!M33)","v":""},{"$f":"IF('2.Logbook'!N33=\"\",\"\",'2.Logbook'!N33)","v":""},{"$f":"IF('2.Logbook'!O33=\"\",\"\",'2.Logbook'!O33)","v":""},{"$f":"IF('2.Logbook'!P33=\"\",\"\",'2.Logbook'!P33)","v":""},{"$f":"IF('2.Logbook'!Q33=\"\",\"\",'2.Logbook'!Q33)","v":""},{"$f":"IF('2.Logbook'!R33=\"\",\"\",'2.Logbook'!R33)","v":""},{"$f":"IF('2.Logbook'!S33=\"\",\"\",'2.Logbook'!S33)","v":""},{"$f":"IF('2.Logbook'!T33=\"\",\"\",'2.Logbook'!T33)","v":""},{"$f":"IF('2.Logbook'!U33=\"\",\"\",'2.Logbook'!U33)","v":""},{"$f":"IF('2.Logbook'!V33=\"\",\"\",'2.Logbook'!V33)","v":""},{"$f":"IF('2.Logbook'!W33=\"\",\"\",'2.Logbook'!W33)","v":""},{"$f":"IF('2.Logbook'!X33=\"\",\"\",'2.Logbook'!X33)","v":""},{"$f":"IF('2.Logbook'!Y33=\"\",\"\",'2.Logbook'!Y33)","v":""},{"$f":"IF('2.Logbook'!Z33=\"\",\"\",'2.Logbook'!Z33)","v":""},{"$f":"IF('2.Logbook'!AA33=\"\",\"\",'2.Logbook'!AA33)","v":""},{"$f":"IF('2.Logbook'!AB33=\"\",\"\",'2.Logbook'!AB33)","v":""},{"$f":"IF('2.Logbook'!AC33=\"\",\"\",'2.Logbook'!AC33)","v":""},{"$f":"IF('2.Logbook'!AD33=\"\",\"\",'2.Logbook'!AD33)","v":""},{"$f":"IF('2.Logbook'!AE33=\"\",\"\",'2.Logbook'!AE33)","v":""},{"$f":"IF('2.Logbook'!AF33=\"\",\"\",'2.Logbook'!AF33)","v":""},{"$f":"IF('2.Logbook'!AG33=\"\",\"\",'2.Logbook'!AG33)","v":""}]
[{"$f":"IF('2.Logbook'!A34=\"\",\"\",'2.Logbook'!A34)","v":"2020-05-23"},{"$f":"IF('2.Logbook'!B34=\"\",\"\",'2.Logbook'!B34)","v":"13:21:00"},{"$f":"IF('2.Logbook'!C34=\"\",\"\",'2.Logbook'!C34)","v":"13°17N"},{"$f":"IF('2.Logbook'!D34=\"\",\"\",'2.Logbook'!D34)","v":"17°48W"},{"$f":"IF('2.Logbook'!E34=\"\",\"\",'2.Logbook'!E34)","v":"Gambie"},{"$f":"IF('2.Logbook'!F34=\"\",\"\",'2.Logbook'!F34)","v":25},{"$f":"IF('2.Logbook'!G34=\"\",\"\",'2.Logbook'!G34)","v":"00:00:00"},{"$f":"IF('2.Logbook'!H34=\"\",\"\",'2.Logbook'!H34)","v":10},{"$f":"IF('2.Logbook'!I34=\"\",\"\",'2.Logbook'!I34)","v":""},{"$f":"IF('2.Logbook'!J34=\"\",\"\",'2.Logbook'!J34)","v":""},{"$f":"IF('2.Logbook'!K34=\"\",\"\",'2.Logbook'!K34)","v":""},{"$f":"IF('2.Logbook'!L34=\"\",\"\",'2.Logbook'!L34)","v":""},{"$f":"IF('2.Logbook'!M34=\"\",\"\",'2.Logbook'!M34)","v":""},{"$f":"IF('2.Logbook'!N34=\"\",\"\",'2.Logbook'!N34)","v":""},{"$f":"IF('2.Logbook'!O34=\"\",\"\",'2.Logbook'!O34)","v":""},{"$f":"IF('2.Logbook'!P34=\"\",\"\",'2.Logbook'!P34)","v":""},{"$f":"IF('2.Logbook'!Q34=\"\",\"\",'2.Logbook'!Q34)","v":""},{"$f":"IF('2.Logbook'!R34=\"\",\"\",'2.Logbook'!R34)","v":""},{"$f":"IF('2.Logbook'!S34=\"\",\"\",'2.Logbook'!S34)","v":""},{"$f":"IF('2.Logbook'!T34=\"\",\"\",'2.Logbook'!T34)","v":""},{"$f":"IF('2.Logbook'!U34=\"\",\"\",'2.Logbook'!U34)","v":""},{"$f":"IF('2.Logbook'!V34=\"\",\"\",'2.Logbook'!V34)","v":""},{"$f":"IF('2.Logbook'!W34=\"\",\"\",'2.Logbook'!W34)","v":""},{"$f":"IF('2.Logbook'!X34=\"\",\"\",'2.Logbook'!X34)","v":""},{"$f":"IF('2.Logbook'!Y34=\"\",\"\",'2.Logbook'!Y34)","v":""},{"$f":"IF('2.Logbook'!Z34=\"\",\"\",'2.Logbook'!Z34)","v":""},{"$f":"IF('2.Logbook'!AA34=\"\",\"\",'2.Logbook'!AA34)","v":""},{"$f":"IF('2.Logbook'!AB34=\"\",\"\",'2.Logbook'!AB34)","v":""},{"$f":"IF('2.Logbook'!AC34=\"\",\"\",'2.Logbook'!AC34)","v":""},{"$f":"IF('2.Logbook'!AD34=\"\",\"\",'2.Logbook'!AD34)","v":""},{"$f":"IF('2.Logbook'!AE34=\"\",\"\",'2.Logbook'!AE34)","v":""},{"$f":"IF('2.Logbook'!AF34=\"\",\"\",'2.Logbook'!AF34)","v":""},{"$f":"IF('2.Logbook'!AG34=\"\",\"\",'2.Logbook'!AG34)","v":""}]
[{"$f":"IF('2.Logbook'!A35=\"\",\"\",'2.Logbook'!A35)","v":"2020-05-23"},{"$f":"IF('2.Logbook'!B35=\"\",\"\",'2.Logbook'!B35)","v":"16:20:00"},{"$f":"IF('2.Logbook'!C35=\"\",\"\",'2.Logbook'!C35)","v":"12°34N"},{"$f":"IF('2.Logbook'!D35=\"\",\"\",'2.Logbook'!D35)","v":"17:43W"},{"$f":"IF('2.Logbook'!E35=\"\",\"\",'2.Logbook'!E35)","v":"Sénégal"},{"$f":"IF('2.Logbook'!F35=\"\",\"\",'2.Logbook'!F35)","v":25},{"$f":"IF('2.Logbook'!G35=\"\",\"\",'2.Logbook'!G35)","v":"00:00:00"},{"$f":"IF('2.Logbook'!H35=\"\",\"\",'2.Logbook'!H35)","v":10},{"$f":"IF('2.Logbook'!I35=\"\",\"\",'2.Logbook'!I35)","v":""},{"$f":"IF('2.Logbook'!J35=\"\",\"\",'2.Logbook'!J35)","v":""},{"$f":"IF('2.Logbook'!K35=\"\",\"\",'2.Logbook'!K35)","v":""},{"$f":"IF('2.Logbook'!L35=\"\",\"\",'2.Logbook'!L35)","v":""},{"$f":"IF('2.Logbook'!M35=\"\",\"\",'2.Logbook'!M35)","v":""},{"$f":"IF('2.Logbook'!N35=\"\",\"\",'2.Logbook'!N35)","v":""},{"$f":"IF('2.Logbook'!O35=\"\",\"\",'2.Logbook'!O35)","v":""},{"$f":"IF('2.Logbook'!P35=\"\",\"\",'2.Logbook'!P35)","v":""},{"$f":"IF('2.Logbook'!Q35=\"\",\"\",'2.Logbook'!Q35)","v":""},{"$f":"IF('2.Logbook'!R35=\"\",\"\",'2.Logbook'!R35)","v":""},{"$f":"IF('2.Logbook'!S35=\"\",\"\",'2.Logbook'!S35)","v":""},{"$f":"IF('2.Logbook'!T35=\"\",\"\",'2.Logbook'!T35)","v":""},{"$f":"IF('2.Logbook'!U35=\"\",\"\",'2.Logbook'!U35)","v":""},{"$f":"IF('2.Logbook'!V35=\"\",\"\",'2.Logbook'!V35)","v":""},{"$f":"IF('2.Logbook'!W35=\"\",\"\",'2.Logbook'!W35)","v":""},{"$f":"IF('2.Logbook'!X35=\"\",\"\",'2.Logbook'!X35)","v":""},{"$f":"IF('2.Logbook'!Y35=\"\",\"\",'2.Logbook'!Y35)","v":""},{"$f":"IF('2.Logbook'!Z35=\"\",\"\",'2.Logbook'!Z35)","v":""},{"$f":"IF('2.Logbook'!AA35=\"\",\"\",'2.Logbook'!AA35)","v":""},{"$f":"IF('2.Logbook'!AB35=\"\",\"\",'2.Logbook'!AB35)","v":""},{"$f":"IF('2.Logbook'!AC35=\"\",\"\",'2.Logbook'!AC35)","v":""},{"$f":"IF('2.Logbook'!AD35=\"\",\"\",'2.Logbook'!AD35)","v":""},{"$f":"IF('2.Logbook'!AE35=\"\",\"\",'2.Logbook'!AE35)","v":""},{"$f":"IF('2.Logbook'!AF35=\"\",\"\",'2.Logbook'!AF35)","v":""},{"$f":"IF('2.Logbook'!AG35=\"\",\"\",'2.Logbook'!AG35)","v":""}]
[{"$f":"IF('2.Logbook'!A36=\"\",\"\",'2.Logbook'!A36)","v":"2020-05-23"},{"$f":"IF('2.Logbook'!B36=\"\",\"\",'2.Logbook'!B36)","v":"20:00:00"},{"$f":"IF('2.Logbook'!C36=\"\",\"\",'2.Logbook'!C36)","v":"11°43N"},{"$f":"IF('2.Logbook'!D36=\"\",\"\",'2.Logbook'!D36)","v":"17°58W"},{"$f":"IF('2.Logbook'!E36=\"\",\"\",'2.Logbook'!E36)","v":"Co-Gestion Senegal Guinee bissau "},{"$f":"IF('2.Logbook'!F36=\"\",\"\",'2.Logbook'!F36)","v":25},{"$f":"IF('2.Logbook'!G36=\"\",\"\",'2.Logbook'!G36)","v":"00:00:00"},{"$f":"IF('2.Logbook'!H36=\"\",\"\",'2.Logbook'!H36)","v":10},{"$f":"IF('2.Logbook'!I36=\"\",\"\",'2.Logbook'!I36)","v":""},{"$f":"IF('2.Logbook'!J36=\"\",\"\",'2.Logbook'!J36)","v":""},{"$f":"IF('2.Logbook'!K36=\"\",\"\",'2.Logbook'!K36)","v":""},{"$f":"IF('2.Logbook'!L36=\"\",\"\",'2.Logbook'!L36)","v":""},{"$f":"IF('2.Logbook'!M36=\"\",\"\",'2.Logbook'!M36)","v":""},{"$f":"IF('2.Logbook'!N36=\"\",\"\",'2.Logbook'!N36)","v":""},{"$f":"IF('2.Logbook'!O36=\"\",\"\",'2.Logbook'!O36)","v":""},{"$f":"IF('2.Logbook'!P36=\"\",\"\",'2.Logbook'!P36)","v":""},{"$f":"IF('2.Logbook'!Q36=\"\",\"\",'2.Logbook'!Q36)","v":""},{"$f":"IF('2.Logbook'!R36=\"\",\"\",'2.Logbook'!R36)","v":""},{"$f":"IF('2.Logbook'!S36=\"\",\"\",'2.Logbook'!S36)","v":""},{"$f":"IF('2.Logbook'!T36=\"\",\"\",'2.Logbook'!T36)","v":""},{"$f":"IF('2.Logbook'!U36=\"\",\"\",'2.Logbook'!U36)","v":""},{"$f":"IF('2.Logbook'!V36=\"\",\"\",'2.Logbook'!V36)","v":""},{"$f":"IF('2.Logbook'!W36=\"\",\"\",'2.Logbook'!W36)","v":""},{"$f":"IF('2.Logbook'!X36=\"\",\"\",'2.Logbook'!X36)","v":""},{"$f":"IF('2.Logbook'!Y36=\"\",\"\",'2.Logbook'!Y36)","v":""},{"$f":"IF('2.Logbook'!Z36=\"\",\"\",'2.Logbook'!Z36)","v":""},{"$f":"IF('2.Logbook'!AA36=\"\",\"\",'2.Logbook'!AA36)","v":""},{"$f":"IF('2.Logbook'!AB36=\"\",\"\",'2.Logbook'!AB36)","v":""},{"$f":"IF('2.Logbook'!AC36=\"\",\"\",'2.Logbook'!AC36)","v":""},{"$f":"IF('2.Logbook'!AD36=\"\",\"\",'2.Logbook'!AD36)","v":""},{"$f":"IF('2.Logbook'!AE36=\"\",\"\",'2.Logbook'!AE36)","v":""},{"$f":"IF('2.Logbook'!AF36=\"\",\"\",'2.Logbook'!AF36)","v":""},{"$f":"IF('2.Logbook'!AG36=\"\",\"\",'2.Logbook'!AG36)","v":""}]
[{"$f":"IF('2.Logbook'!A37=\"\",\"\",'2.Logbook'!A37)","v":"2020-05-24"},{"$f":"IF('2.Logbook'!B37=\"\",\"\",'2.Logbook'!B37)","v":"10:00:00"},{"$f":"IF('2.Logbook'!C37=\"\",\"\",'2.Logbook'!C37)","v":"10°50 N"},{"$f":"IF('2.Logbook'!D37=\"\",\"\",'2.Logbook'!D37)","v":"18°50W"},{"$f":"IF('2.Logbook'!E37=\"\",\"\",'2.Logbook'!E37)","v":"Co-Gestion Senegal Guinee bissau "},{"$f":"IF('2.Logbook'!F37=\"\",\"\",'2.Logbook'!F37)","v":26},{"$f":"IF('2.Logbook'!G37=\"\",\"\",'2.Logbook'!G37)","v":"00:00:00"},{"$f":"IF('2.Logbook'!H37=\"\",\"\",'2.Logbook'!H37)","v":5},{"$f":"IF('2.Logbook'!I37=\"\",\"\",'2.Logbook'!I37)","v":""},{"$f":"IF('2.Logbook'!J37=\"\",\"\",'2.Logbook'!J37)","v":""},{"$f":"IF('2.Logbook'!K37=\"\",\"\",'2.Logbook'!K37)","v":""},{"$f":"IF('2.Logbook'!L37=\"\",\"\",'2.Logbook'!L37)","v":""},{"$f":"IF('2.Logbook'!M37=\"\",\"\",'2.Logbook'!M37)","v":""},{"$f":"IF('2.Logbook'!N37=\"\",\"\",'2.Logbook'!N37)","v":""},{"$f":"IF('2.Logbook'!O37=\"\",\"\",'2.Logbook'!O37)","v":""},{"$f":"IF('2.Logbook'!P37=\"\",\"\",'2.Logbook'!P37)","v":""},{"$f":"IF('2.Logbook'!Q37=\"\",\"\",'2.Logbook'!Q37)","v":""},{"$f":"IF('2.Logbook'!R37=\"\",\"\",'2.Logbook'!R37)","v":""},{"$f":"IF('2.Logbook'!S37=\"\",\"\",'2.Logbook'!S37)","v":""},{"$f":"IF('2.Logbook'!T37=\"\",\"\",'2.Logbook'!T37)","v":""},{"$f":"IF('2.Logbook'!U37=\"\",\"\",'2.Logbook'!U37)","v":""},{"$f":"IF('2.Logbook'!V37=\"\",\"\",'2.Logbook'!V37)","v":""},{"$f":"IF('2.Logbook'!W37=\"\",\"\",'2.Logbook'!W37)","v":""},{"$f":"IF('2.Logbook'!X37=\"\",\"\",'2.Logbook'!X37)","v":""},{"$f":"IF('2.Logbook'!Y37=\"\",\"\",'2.Logbook'!Y37)","v":""},{"$f":"IF('2.Logbook'!Z37=\"\",\"\",'2.Logbook'!Z37)","v":""},{"$f":"IF('2.Logbook'!AA37=\"\",\"\",'2.Logbook'!AA37)","v":""},{"$f":"IF('2.Logbook'!AB37=\"\",\"\",'2.Logbook'!AB37)","v":""},{"$f":"IF('2.Logbook'!AC37=\"\",\"\",'2.Logbook'!AC37)","v":""},{"$f":"IF('2.Logbook'!AD37=\"\",\"\",'2.Logbook'!AD37)","v":""},{"$f":"IF('2.Logbook'!AE37=\"\",\"\",'2.Logbook'!AE37)","v":""},{"$f":"IF('2.Logbook'!AF37=\"\",\"\",'2.Logbook'!AF37)","v":""},{"$f":"IF('2.Logbook'!AG37=\"\",\"\",'2.Logbook'!AG37)","v":""}]
[{"$f":"IF('2.Logbook'!A38=\"\",\"\",'2.Logbook'!A38)","v":"2020-05-24"},{"$f":"IF('2.Logbook'!B38=\"\",\"\",'2.Logbook'!B38)","v":"18;00"},{"$f":"IF('2.Logbook'!C38=\"\",\"\",'2.Logbook'!C38)","v":"8°57N"},{"$f":"IF('2.Logbook'!D38=\"\",\"\",'2.Logbook'!D38)","v":"18°51W"},{"$f":"IF('2.Logbook'!E38=\"\",\"\",'2.Logbook'!E38)","v":"Guinée Bissau"},{"$f":"IF('2.Logbook'!F38=\"\",\"\",'2.Logbook'!F38)","v":29},{"$f":"IF('2.Logbook'!G38=\"\",\"\",'2.Logbook'!G38)","v":"00:00:00"},{"$f":"IF('2.Logbook'!H38=\"\",\"\",'2.Logbook'!H38)","v":5},{"$f":"IF('2.Logbook'!I38=\"\",\"\",'2.Logbook'!I38)","v":""},{"$f":"IF('2.Logbook'!J38=\"\",\"\",'2.Logbook'!J38)","v":""},{"$f":"IF('2.Logbook'!K38=\"\",\"\",'2.Logbook'!K38)","v":""},{"$f":"IF('2.Logbook'!L38=\"\",\"\",'2.Logbook'!L38)","v":""},{"$f":"IF('2.Logbook'!M38=\"\",\"\",'2.Logbook'!M38)","v":""},{"$f":"IF('2.Logbook'!N38=\"\",\"\",'2.Logbook'!N38)","v":""},{"$f":"IF('2.Logbook'!O38=\"\",\"\",'2.Logbook'!O38)","v":""},{"$f":"IF('2.Logbook'!P38=\"\",\"\",'2.Logbook'!P38)","v":""},{"$f":"IF('2.Logbook'!Q38=\"\",\"\",'2.Logbook'!Q38)","v":""},{"$f":"IF('2.Logbook'!R38=\"\",\"\",'2.Logbook'!R38)","v":""},{"$f":"IF('2.Logbook'!S38=\"\",\"\",'2.Logbook'!S38)","v":""},{"$f":"IF('2.Logbook'!T38=\"\",\"\",'2.Logbook'!T38)","v":""},{"$f":"IF('2.Logbook'!U38=\"\",\"\",'2.Logbook'!U38)","v":""},{"$f":"IF('2.Logbook'!V38=\"\",\"\",'2.Logbook'!V38)","v":""},{"$f":"IF('2.Logbook'!W38=\"\",\"\",'2.Logbook'!W38)","v":""},{"$f":"IF('2.Logbook'!X38=\"\",\"\",'2.Logbook'!X38)","v":""},{"$f":"IF('2.Logbook'!Y38=\"\",\"\",'2.Logbook'!Y38)","v":""},{"$f":"IF('2.Logbook'!Z38=\"\",\"\",'2.Logbook'!Z38)","v":""},{"$f":"IF('2.Logbook'!AA38=\"\",\"\",'2.Logbook'!AA38)","v":""},{"$f":"IF('2.Logbook'!AB38=\"\",\"\",'2.Logbook'!AB38)","v":""},{"$f":"IF('2.Logbook'!AC38=\"\",\"\",'2.Logbook'!AC38)","v":""},{"$f":"IF('2.Logbook'!AD38=\"\",\"\",'2.Logbook'!AD38)","v":""},{"$f":"IF('2.Logbook'!AE38=\"\",\"\",'2.Logbook'!AE38)","v":""},{"$f":"IF('2.Logbook'!AF38=\"\",\"\",'2.Logbook'!AF38)","v":""},{"$f":"IF('2.Logbook'!AG38=\"\",\"\",'2.Logbook'!AG38)","v":""}]
[{"$f":"IF('2.Logbook'!A39=\"\",\"\",'2.Logbook'!A39)","v":"2020-05-25"},{"$f":"IF('2.Logbook'!B39=\"\",\"\",'2.Logbook'!B39)","v":"12:00:00"},{"$f":"IF('2.Logbook'!C39=\"\",\"\",'2.Logbook'!C39)","v":"9 °16 N"},{"$f":"IF('2.Logbook'!D39=\"\",\"\",'2.Logbook'!D39)","v":"16° 01 W"},{"$f":"IF('2.Logbook'!E39=\"\",\"\",'2.Logbook'!E39)","v":"Guinée Conakry"},{"$f":"IF('2.Logbook'!F39=\"\",\"\",'2.Logbook'!F39)","v":29},{"$f":"IF('2.Logbook'!G39=\"\",\"\",'2.Logbook'!G39)","v":"1900-02-14"},{"$f":"IF('2.Logbook'!H39=\"\",\"\",'2.Logbook'!H39)","v":5},{"$f":"IF('2.Logbook'!I39=\"\",\"\",'2.Logbook'!I39)","v":""},{"$f":"IF('2.Logbook'!J39=\"\",\"\",'2.Logbook'!J39)","v":""},{"$f":"IF('2.Logbook'!K39=\"\",\"\",'2.Logbook'!K39)","v":""},{"$f":"IF('2.Logbook'!L39=\"\",\"\",'2.Logbook'!L39)","v":""},{"$f":"IF('2.Logbook'!M39=\"\",\"\",'2.Logbook'!M39)","v":""},{"$f":"IF('2.Logbook'!N39=\"\",\"\",'2.Logbook'!N39)","v":""},{"$f":"IF('2.Logbook'!O39=\"\",\"\",'2.Logbook'!O39)","v":""},{"$f":"IF('2.Logbook'!P39=\"\",\"\",'2.Logbook'!P39)","v":""},{"$f":"IF('2.Logbook'!Q39=\"\",\"\",'2.Logbook'!Q39)","v":""},{"$f":"IF('2.Logbook'!R39=\"\",\"\",'2.Logbook'!R39)","v":""},{"$f":"IF('2.Logbook'!S39=\"\",\"\",'2.Logbook'!S39)","v":""},{"$f":"IF('2.Logbook'!T39=\"\",\"\",'2.Logbook'!T39)","v":""},{"$f":"IF('2.Logbook'!U39=\"\",\"\",'2.Logbook'!U39)","v":""},{"$f":"IF('2.Logbook'!V39=\"\",\"\",'2.Logbook'!V39)","v":""},{"$f":"IF('2.Logbook'!W39=\"\",\"\",'2.Logbook'!W39)","v":""},{"$f":"IF('2.Logbook'!X39=\"\",\"\",'2.Logbook'!X39)","v":""},{"$f":"IF('2.Logbook'!Y39=\"\",\"\",'2.Logbook'!Y39)","v":""},{"$f":"IF('2.Logbook'!Z39=\"\",\"\",'2.Logbook'!Z39)","v":""},{"$f":"IF('2.Logbook'!AA39=\"\",\"\",'2.Logbook'!AA39)","v":""},{"$f":"IF('2.Logbook'!AB39=\"\",\"\",'2.Logbook'!AB39)","v":""},{"$f":"IF('2.Logbook'!AC39=\"\",\"\",'2.Logbook'!AC39)","v":""},{"$f":"IF('2.Logbook'!AD39=\"\",\"\",'2.Logbook'!AD39)","v":""},{"$f":"IF('2.Logbook'!AE39=\"\",\"\",'2.Logbook'!AE39)","v":""},{"$f":"IF('2.Logbook'!AF39=\"\",\"\",'2.Logbook'!AF39)","v":""},{"$f":"IF('2.Logbook'!AG39=\"\",\"\",'2.Logbook'!AG39)","v":""}]
[{"$f":"IF('2.Logbook'!A40=\"\",\"\",'2.Logbook'!A40)","v":"2020-05-26"},{"$f":"IF('2.Logbook'!B40=\"\",\"\",'2.Logbook'!B40)","v":"04:30:00"},{"$f":"IF('2.Logbook'!C40=\"\",\"\",'2.Logbook'!C40)","v":"8°14N"},{"$f":"IF('2.Logbook'!D40=\"\",\"\",'2.Logbook'!D40)","v":"14°55W"},{"$f":"IF('2.Logbook'!E40=\"\",\"\",'2.Logbook'!E40)","v":"SIERRA LEON"},{"$f":"IF('2.Logbook'!F40=\"\",\"\",'2.Logbook'!F40)","v":29},{"$f":"IF('2.Logbook'!G40=\"\",\"\",'2.Logbook'!G40)","v":"1900-02-14"},{"$f":"IF('2.Logbook'!H40=\"\",\"\",'2.Logbook'!H40)","v":10},{"$f":"IF('2.Logbook'!I40=\"\",\"\",'2.Logbook'!I40)","v":""},{"$f":"IF('2.Logbook'!J40=\"\",\"\",'2.Logbook'!J40)","v":""},{"$f":"IF('2.Logbook'!K40=\"\",\"\",'2.Logbook'!K40)","v":""},{"$f":"IF('2.Logbook'!L40=\"\",\"\",'2.Logbook'!L40)","v":""},{"$f":"IF('2.Logbook'!M40=\"\",\"\",'2.Logbook'!M40)","v":""},{"$f":"IF('2.Logbook'!N40=\"\",\"\",'2.Logbook'!N40)","v":""},{"$f":"IF('2.Logbook'!O40=\"\",\"\",'2.Logbook'!O40)","v":""},{"$f":"IF('2.Logbook'!P40=\"\",\"\",'2.Logbook'!P40)","v":""},{"$f":"IF('2.Logbook'!Q40=\"\",\"\",'2.Logbook'!Q40)","v":""},{"$f":"IF('2.Logbook'!R40=\"\",\"\",'2.Logbook'!R40)","v":""},{"$f":"IF('2.Logbook'!S40=\"\",\"\",'2.Logbook'!S40)","v":""},{"$f":"IF('2.Logbook'!T40=\"\",\"\",'2.Logbook'!T40)","v":""},{"$f":"IF('2.Logbook'!U40=\"\",\"\",'2.Logbook'!U40)","v":""},{"$f":"IF('2.Logbook'!V40=\"\",\"\",'2.Logbook'!V40)","v":""},{"$f":"IF('2.Logbook'!W40=\"\",\"\",'2.Logbook'!W40)","v":""},{"$f":"IF('2.Logbook'!X40=\"\",\"\",'2.Logbook'!X40)","v":""},{"$f":"IF('2.Logbook'!Y40=\"\",\"\",'2.Logbook'!Y40)","v":""},{"$f":"IF('2.Logbook'!Z40=\"\",\"\",'2.Logbook'!Z40)","v":""},{"$f":"IF('2.Logbook'!AA40=\"\",\"\",'2.Logbook'!AA40)","v":""},{"$f":"IF('2.Logbook'!AB40=\"\",\"\",'2.Logbook'!AB40)","v":""},{"$f":"IF('2.Logbook'!AC40=\"\",\"\",'2.Logbook'!AC40)","v":""},{"$f":"IF('2.Logbook'!AD40=\"\",\"\",'2.Logbook'!AD40)","v":""},{"$f":"IF('2.Logbook'!AE40=\"\",\"\",'2.Logbook'!AE40)","v":""},{"$f":"IF('2.Logbook'!AF40=\"\",\"\",'2.Logbook'!AF40)","v":""},{"$f":"IF('2.Logbook'!AG40=\"\",\"\",'2.Logbook'!AG40)","v":""}]
[{"$f":"IF('2.Logbook'!A41=\"\",\"\",'2.Logbook'!A41)","v":"2020-05-27"},{"$f":"IF('2.Logbook'!B41=\"\",\"\",'2.Logbook'!B41)","v":"11:40:00"},{"$f":"IF('2.Logbook'!C41=\"\",\"\",'2.Logbook'!C41)","v":""},{"$f":"IF('2.Logbook'!D41=\"\",\"\",'2.Logbook'!D41)","v":""},{"$f":"IF('2.Logbook'!E41=\"\",\"\",'2.Logbook'!E41)","v":""},{"$f":"IF('2.Logbook'!F41=\"\",\"\",'2.Logbook'!F41)","v":""},{"$f":"IF('2.Logbook'!G41=\"\",\"\",'2.Logbook'!G41)","v":""},{"$f":"IF('2.Logbook'!H41=\"\",\"\",'2.Logbook'!H41)","v":""},{"$f":"IF('2.Logbook'!I41=\"\",\"\",'2.Logbook'!I41)","v":""},{"$f":"IF('2.Logbook'!J41=\"\",\"\",'2.Logbook'!J41)","v":""},{"$f":"IF('2.Logbook'!K41=\"\",\"\",'2.Logbook'!K41)","v":""},{"$f":"IF('2.Logbook'!L41=\"\",\"\",'2.Logbook'!L41)","v":""},{"$f":"IF('2.Logbook'!M41=\"\",\"\",'2.Logbook'!M41)","v":""},{"$f":"IF('2.Logbook'!N41=\"\",\"\",'2.Logbook'!N41)","v":""},{"$f":"IF('2.Logbook'!O41=\"\",\"\",'2.Logbook'!O41)","v":""},{"$f":"IF('2.Logbook'!P41=\"\",\"\",'2.Logbook'!P41)","v":""},{"$f":"IF('2.Logbook'!Q41=\"\",\"\",'2.Logbook'!Q41)","v":""},{"$f":"IF('2.Logbook'!R41=\"\",\"\",'2.Logbook'!R41)","v":""},{"$f":"IF('2.Logbook'!S41=\"\",\"\",'2.Logbook'!S41)","v":""},{"$f":"IF('2.Logbook'!T41=\"\",\"\",'2.Logbook'!T41)","v":""},{"$f":"IF('2.Logbook'!U41=\"\",\"\",'2.Logbook'!U41)","v":""},{"$f":"IF('2.Logbook'!V41=\"\",\"\",'2.Logbook'!V41)","v":""},{"$f":"IF('2.Logbook'!W41=\"\",\"\",'2.Logbook'!W41)","v":""},{"$f":"IF('2.Logbook'!X41=\"\",\"\",'2.Logbook'!X41)","v":""},{"$f":"IF('2.Logbook'!Y41=\"\",\"\",'2.Logbook'!Y41)","v":""},{"$f":"IF('2.Logbook'!Z41=\"\",\"\",'2.Logbook'!Z41)","v":""},{"$f":"IF('2.Logbook'!AA41=\"\",\"\",'2.Logbook'!AA41)","v":""},{"$f":"IF('2.Logbook'!AB41=\"\",\"\",'2.Logbook'!AB41)","v":""},{"$f":"IF('2.Logbook'!AC41=\"\",\"\",'2.Logbook'!AC41)","v":""},{"$f":"IF('2.Logbook'!AD41=\"\",\"\",'2.Logbook'!AD41)","v":""},{"$f":"IF('2.Logbook'!AE41=\"\",\"\",'2.Logbook'!AE41)","v":""},{"$f":"IF('2.Logbook'!AF41=\"\",\"\",'2.Logbook'!AF41)","v":""},{"$f":"IF('2.Logbook'!AG41=\"\",\"\",'2.Logbook'!AG41)","v":""}]
[{"$f":"IF('2.Logbook'!A42=\"\",\"\",'2.Logbook'!A42)","v":"2020-05-27"},{"$f":"IF('2.Logbook'!B42=\"\",\"\",'2.Logbook'!B42)","v":"14:30:00"},{"$f":"IF('2.Logbook'!C42=\"\",\"\",'2.Logbook'!C42)","v":""},{"$f":"IF('2.Logbook'!D42=\"\",\"\",'2.Logbook'!D42)","v":""},{"$f":"IF('2.Logbook'!E42=\"\",\"\",'2.Logbook'!E42)","v":""},{"$f":"IF('2.Logbook'!F42=\"\",\"\",'2.Logbook'!F42)","v":""},{"$f":"IF('2.Logbook'!G42=\"\",\"\",'2.Logbook'!G42)","v":""},{"$f":"IF('2.Logbook'!H42=\"\",\"\",'2.Logbook'!H42)","v":""},{"$f":"IF('2.Logbook'!I42=\"\",\"\",'2.Logbook'!I42)","v":""},{"$f":"IF('2.Logbook'!J42=\"\",\"\",'2.Logbook'!J42)","v":""},{"$f":"IF('2.Logbook'!K42=\"\",\"\",'2.Logbook'!K42)","v":""},{"$f":"IF('2.Logbook'!L42=\"\",\"\",'2.Logbook'!L42)","v":""},{"$f":"IF('2.Logbook'!M42=\"\",\"\",'2.Logbook'!M42)","v":""},{"$f":"IF('2.Logbook'!N42=\"\",\"\",'2.Logbook'!N42)","v":""},{"$f":"IF('2.Logbook'!O42=\"\",\"\",'2.Logbook'!O42)","v":""},{"$f":"IF('2.Logbook'!P42=\"\",\"\",'2.Logbook'!P42)","v":""},{"$f":"IF('2.Logbook'!Q42=\"\",\"\",'2.Logbook'!Q42)","v":""},{"$f":"IF('2.Logbook'!R42=\"\",\"\",'2.Logbook'!R42)","v":""},{"$f":"IF('2.Logbook'!S42=\"\",\"\",'2.Logbook'!S42)","v":""},{"$f":"IF('2.Logbook'!T42=\"\",\"\",'2.Logbook'!T42)","v":""},{"$f":"IF('2.Logbook'!U42=\"\",\"\",'2.Logbook'!U42)","v":""},{"$f":"IF('2.Logbook'!V42=\"\",\"\",'2.Logbook'!V42)","v":""},{"$f":"IF('2.Logbook'!W42=\"\",\"\",'2.Logbook'!W42)","v":""},{"$f":"IF('2.Logbook'!X42=\"\",\"\",'2.Logbook'!X42)","v":""},{"$f":"IF('2.Logbook'!Y42=\"\",\"\",'2.Logbook'!Y42)","v":""},{"$f":"IF('2.Logbook'!Z42=\"\",\"\",'2.Logbook'!Z42)","v":""},{"$f":"IF('2.Logbook'!AA42=\"\",\"\",'2.Logbook'!AA42)","v":""},{"$f":"IF('2.Logbook'!AB42=\"\",\"\",'2.Logbook'!AB42)","v":""},{"$f":"IF('2.Logbook'!AC42=\"\",\"\",'2.Logbook'!AC42)","v":""},{"$f":"IF('2.Logbook'!AD42=\"\",\"\",'2.Logbook'!AD42)","v":""},{"$f":"IF('2.Logbook'!AE42=\"\",\"\",'2.Logbook'!AE42)","v":""},{"$f":"IF('2.Logbook'!AF42=\"\",\"\",'2.Logbook'!AF42)","v":""},{"$f":"IF('2.Logbook'!AG42=\"\",\"\",'2.Logbook'!AG42)","v":""}]
[{"$f":"IF('2.Logbook'!A43=\"\",\"\",'2.Logbook'!A43)","v":"2020-05-27"},{"$f":"IF('2.Logbook'!B43=\"\",\"\",'2.Logbook'!B43)","v":"19:12:00"},{"$f":"IF('2.Logbook'!C43=\"\",\"\",'2.Logbook'!C43)","v":"13°44N"},{"$f":"IF('2.Logbook'!D43=\"\",\"\",'2.Logbook'!D43)","v":"17°53W"},{"$f":"IF('2.Logbook'!E43=\"\",\"\",'2.Logbook'!E43)","v":"Sénégal"},{"$f":"IF('2.Logbook'!F43=\"\",\"\",'2.Logbook'!F43)","v":26},{"$f":"IF('2.Logbook'!G43=\"\",\"\",'2.Logbook'!G43)","v":"1900-09-26"},{"$f":"IF('2.Logbook'!H43=\"\",\"\",'2.Logbook'!H43)","v":10},{"$f":"IF('2.Logbook'!I43=\"\",\"\",'2.Logbook'!I43)","v":""},{"$f":"IF('2.Logbook'!J43=\"\",\"\",'2.Logbook'!J43)","v":""},{"$f":"IF('2.Logbook'!K43=\"\",\"\",'2.Logbook'!K43)","v":""},{"$f":"IF('2.Logbook'!L43=\"\",\"\",'2.Logbook'!L43)","v":""},{"$f":"IF('2.Logbook'!M43=\"\",\"\",'2.Logbook'!M43)","v":""},{"$f":"IF('2.Logbook'!N43=\"\",\"\",'2.Logbook'!N43)","v":""},{"$f":"IF('2.Logbook'!O43=\"\",\"\",'2.Logbook'!O43)","v":""},{"$f":"IF('2.Logbook'!P43=\"\",\"\",'2.Logbook'!P43)","v":""},{"$f":"IF('2.Logbook'!Q43=\"\",\"\",'2.Logbook'!Q43)","v":""},{"$f":"IF('2.Logbook'!R43=\"\",\"\",'2.Logbook'!R43)","v":""},{"$f":"IF('2.Logbook'!S43=\"\",\"\",'2.Logbook'!S43)","v":""},{"$f":"IF('2.Logbook'!T43=\"\",\"\",'2.Logbook'!T43)","v":""},{"$f":"IF('2.Logbook'!U43=\"\",\"\",'2.Logbook'!U43)","v":""},{"$f":"IF('2.Logbook'!V43=\"\",\"\",'2.Logbook'!V43)","v":""},{"$f":"IF('2.Logbook'!W43=\"\",\"\",'2.Logbook'!W43)","v":""},{"$f":"IF('2.Logbook'!X43=\"\",\"\",'2.Logbook'!X43)","v":""},{"$f":"IF('2.Logbook'!Y43=\"\",\"\",'2.Logbook'!Y43)","v":""},{"$f":"IF('2.Logbook'!Z43=\"\",\"\",'2.Logbook'!Z43)","v":""},{"$f":"IF('2.Logbook'!AA43=\"\",\"\",'2.Logbook'!AA43)","v":""},{"$f":"IF('2.Logbook'!AB43=\"\",\"\",'2.Logbook'!AB43)","v":""},{"$f":"IF('2.Logbook'!AC43=\"\",\"\",'2.Logbook'!AC43)","v":""},{"$f":"IF('2.Logbook'!AD43=\"\",\"\",'2.Logbook'!AD43)","v":""},{"$f":"IF('2.Logbook'!AE43=\"\",\"\",'2.Logbook'!AE43)","v":""},{"$f":"IF('2.Logbook'!AF43=\"\",\"\",'2.Logbook'!AF43)","v":""},{"$f":"IF('2.Logbook'!AG43=\"\",\"\",'2.Logbook'!AG43)","v":""}]
[{"$f":"IF('2.Logbook'!A44=\"\",\"\",'2.Logbook'!A44)","v":"2020-05-27"},{"$f":"IF('2.Logbook'!B44=\"\",\"\",'2.Logbook'!B44)","v":"21:00:00"},{"$f":"IF('2.Logbook'!C44=\"\",\"\",'2.Logbook'!C44)","v":"13°18N"},{"$f":"IF('2.Logbook'!D44=\"\",\"\",'2.Logbook'!D44)","v":"17°54W"},{"$f":"IF('2.Logbook'!E44=\"\",\"\",'2.Logbook'!E44)","v":"Gambie"},{"$f":"IF('2.Logbook'!F44=\"\",\"\",'2.Logbook'!F44)","v":26},{"$f":"IF('2.Logbook'!G44=\"\",\"\",'2.Logbook'!G44)","v":"1900-09-26"},{"$f":"IF('2.Logbook'!H44=\"\",\"\",'2.Logbook'!H44)","v":10},{"$f":"IF('2.Logbook'!I44=\"\",\"\",'2.Logbook'!I44)","v":""},{"$f":"IF('2.Logbook'!J44=\"\",\"\",'2.Logbook'!J44)","v":""},{"$f":"IF('2.Logbook'!K44=\"\",\"\",'2.Logbook'!K44)","v":""},{"$f":"IF('2.Logbook'!L44=\"\",\"\",'2.Logbook'!L44)","v":""},{"$f":"IF('2.Logbook'!M44=\"\",\"\",'2.Logbook'!M44)","v":""},{"$f":"IF('2.Logbook'!N44=\"\",\"\",'2.Logbook'!N44)","v":""},{"$f":"IF('2.Logbook'!O44=\"\",\"\",'2.Logbook'!O44)","v":""},{"$f":"IF('2.Logbook'!P44=\"\",\"\",'2.Logbook'!P44)","v":""},{"$f":"IF('2.Logbook'!Q44=\"\",\"\",'2.Logbook'!Q44)","v":""},{"$f":"IF('2.Logbook'!R44=\"\",\"\",'2.Logbook'!R44)","v":""},{"$f":"IF('2.Logbook'!S44=\"\",\"\",'2.Logbook'!S44)","v":""},{"$f":"IF('2.Logbook'!T44=\"\",\"\",'2.Logbook'!T44)","v":""},{"$f":"IF('2.Logbook'!U44=\"\",\"\",'2.Logbook'!U44)","v":""},{"$f":"IF('2.Logbook'!V44=\"\",\"\",'2.Logbook'!V44)","v":""},{"$f":"IF('2.Logbook'!W44=\"\",\"\",'2.Logbook'!W44)","v":""},{"$f":"IF('2.Logbook'!X44=\"\",\"\",'2.Logbook'!X44)","v":""},{"$f":"IF('2.Logbook'!Y44=\"\",\"\",'2.Logbook'!Y44)","v":""},{"$f":"IF('2.Logbook'!Z44=\"\",\"\",'2.Logbook'!Z44)","v":""},{"$f":"IF('2.Logbook'!AA44=\"\",\"\",'2.Logbook'!AA44)","v":""},{"$f":"IF('2.Logbook'!AB44=\"\",\"\",'2.Logbook'!AB44)","v":""},{"$f":"IF('2.Logbook'!AC44=\"\",\"\",'2.Logbook'!AC44)","v":""},{"$f":"IF('2.Logbook'!AD44=\"\",\"\",'2.Logbook'!AD44)","v":""},{"$f":"IF('2.Logbook'!AE44=\"\",\"\",'2.Logbook'!AE44)","v":""},{"$f":"IF('2.Logbook'!AF44=\"\",\"\",'2.Logbook'!AF44)","v":""},{"$f":"IF('2.Logbook'!AG44=\"\",\"\",'2.Logbook'!AG44)","v":""}]
[{"$f":"IF('2.Logbook'!A45=\"\",\"\",'2.Logbook'!A45)","v":"2020-05-28"},{"$f":"IF('2.Logbook'!B45=\"\",\"\",'2.Logbook'!B45)","v":"00:05:00"},{"$f":"IF('2.Logbook'!C45=\"\",\"\",'2.Logbook'!C45)","v":"12°34N"},{"$f":"IF('2.Logbook'!D45=\"\",\"\",'2.Logbook'!D45)","v":"17°46W"},{"$f":"IF('2.Logbook'!E45=\"\",\"\",'2.Logbook'!E45)","v":"Sénégal"},{"$f":"IF('2.Logbook'!F45=\"\",\"\",'2.Logbook'!F45)","v":26},{"$f":"IF('2.Logbook'!G45=\"\",\"\",'2.Logbook'!G45)","v":"1900-09-26"},{"$f":"IF('2.Logbook'!H45=\"\",\"\",'2.Logbook'!H45)","v":10},{"$f":"IF('2.Logbook'!I45=\"\",\"\",'2.Logbook'!I45)","v":""},{"$f":"IF('2.Logbook'!J45=\"\",\"\",'2.Logbook'!J45)","v":""},{"$f":"IF('2.Logbook'!K45=\"\",\"\",'2.Logbook'!K45)","v":""},{"$f":"IF('2.Logbook'!L45=\"\",\"\",'2.Logbook'!L45)","v":""},{"$f":"IF('2.Logbook'!M45=\"\",\"\",'2.Logbook'!M45)","v":""},{"$f":"IF('2.Logbook'!N45=\"\",\"\",'2.Logbook'!N45)","v":""},{"$f":"IF('2.Logbook'!O45=\"\",\"\",'2.Logbook'!O45)","v":""},{"$f":"IF('2.Logbook'!P45=\"\",\"\",'2.Logbook'!P45)","v":""},{"$f":"IF('2.Logbook'!Q45=\"\",\"\",'2.Logbook'!Q45)","v":""},{"$f":"IF('2.Logbook'!R45=\"\",\"\",'2.Logbook'!R45)","v":""},{"$f":"IF('2.Logbook'!S45=\"\",\"\",'2.Logbook'!S45)","v":""},{"$f":"IF('2.Logbook'!T45=\"\",\"\",'2.Logbook'!T45)","v":""},{"$f":"IF('2.Logbook'!U45=\"\",\"\",'2.Logbook'!U45)","v":""},{"$f":"IF('2.Logbook'!V45=\"\",\"\",'2.Logbook'!V45)","v":""},{"$f":"IF('2.Logbook'!W45=\"\",\"\",'2.Logbook'!W45)","v":""},{"$f":"IF('2.Logbook'!X45=\"\",\"\",'2.Logbook'!X45)","v":""},{"$f":"IF('2.Logbook'!Y45=\"\",\"\",'2.Logbook'!Y45)","v":""},{"$f":"IF('2.Logbook'!Z45=\"\",\"\",'2.Logbook'!Z45)","v":""},{"$f":"IF('2.Logbook'!AA45=\"\",\"\",'2.Logbook'!AA45)","v":""},{"$f":"IF('2.Logbook'!AB45=\"\",\"\",'2.Logbook'!AB45)","v":""},{"$f":"IF('2.Logbook'!AC45=\"\",\"\",'2.Logbook'!AC45)","v":""},{"$f":"IF('2.Logbook'!AD45=\"\",\"\",'2.Logbook'!AD45)","v":""},{"$f":"IF('2.Logbook'!AE45=\"\",\"\",'2.Logbook'!AE45)","v":""},{"$f":"IF('2.Logbook'!AF45=\"\",\"\",'2.Logbook'!AF45)","v":""},{"$f":"IF('2.Logbook'!AG45=\"\",\"\",'2.Logbook'!AG45)","v":""}]
[{"$f":"IF('2.Logbook'!A46=\"\",\"\",'2.Logbook'!A46)","v":"2020-05-28"},{"$f":"IF('2.Logbook'!B46=\"\",\"\",'2.Logbook'!B46)","v":"02:45:00"},{"$f":"IF('2.Logbook'!C46=\"\",\"\",'2.Logbook'!C46)","v":"11°59N"},{"$f":"IF('2.Logbook'!D46=\"\",\"\",'2.Logbook'!D46)","v":"17°48W"},{"$f":"IF('2.Logbook'!E46=\"\",\"\",'2.Logbook'!E46)","v":"Co-Gestion Senegal Guinee bissau "},{"$f":"IF('2.Logbook'!F46=\"\",\"\",'2.Logbook'!F46)","v":26},{"$f":"IF('2.Logbook'!G46=\"\",\"\",'2.Logbook'!G46)","v":"1900-09-26"},{"$f":"IF('2.Logbook'!H46=\"\",\"\",'2.Logbook'!H46)","v":5},{"$f":"IF('2.Logbook'!I46=\"\",\"\",'2.Logbook'!I46)","v":""},{"$f":"IF('2.Logbook'!J46=\"\",\"\",'2.Logbook'!J46)","v":""},{"$f":"IF('2.Logbook'!K46=\"\",\"\",'2.Logbook'!K46)","v":""},{"$f":"IF('2.Logbook'!L46=\"\",\"\",'2.Logbook'!L46)","v":""},{"$f":"IF('2.Logbook'!M46=\"\",\"\",'2.Logbook'!M46)","v":""},{"$f":"IF('2.Logbook'!N46=\"\",\"\",'2.Logbook'!N46)","v":""},{"$f":"IF('2.Logbook'!O46=\"\",\"\",'2.Logbook'!O46)","v":""},{"$f":"IF('2.Logbook'!P46=\"\",\"\",'2.Logbook'!P46)","v":""},{"$f":"IF('2.Logbook'!Q46=\"\",\"\",'2.Logbook'!Q46)","v":""},{"$f":"IF('2.Logbook'!R46=\"\",\"\",'2.Logbook'!R46)","v":""},{"$f":"IF('2.Logbook'!S46=\"\",\"\",'2.Logbook'!S46)","v":""},{"$f":"IF('2.Logbook'!T46=\"\",\"\",'2.Logbook'!T46)","v":""},{"$f":"IF('2.Logbook'!U46=\"\",\"\",'2.Logbook'!U46)","v":""},{"$f":"IF('2.Logbook'!V46=\"\",\"\",'2.Logbook'!V46)","v":""},{"$f":"IF('2.Logbook'!W46=\"\",\"\",'2.Logbook'!W46)","v":""},{"$f":"IF('2.Logbook'!X46=\"\",\"\",'2.Logbook'!X46)","v":""},{"$f":"IF('2.Logbook'!Y46=\"\",\"\",'2.Logbook'!Y46)","v":""},{"$f":"IF('2.Logbook'!Z46=\"\",\"\",'2.Logbook'!Z46)","v":""},{"$f":"IF('2.Logbook'!AA46=\"\",\"\",'2.Logbook'!AA46)","v":""},{"$f":"IF('2.Logbook'!AB46=\"\",\"\",'2.Logbook'!AB46)","v":""},{"$f":"IF('2.Logbook'!AC46=\"\",\"\",'2.Logbook'!AC46)","v":""},{"$f":"IF('2.Logbook'!AD46=\"\",\"\",'2.Logbook'!AD46)","v":""},{"$f":"IF('2.Logbook'!AE46=\"\",\"\",'2.Logbook'!AE46)","v":""},{"$f":"IF('2.Logbook'!AF46=\"\",\"\",'2.Logbook'!AF46)","v":""},{"$f":"IF('2.Logbook'!AG46=\"\",\"\",'2.Logbook'!AG46)","v":""}]
[{"$f":"IF('2.Logbook'!A47=\"\",\"\",'2.Logbook'!A47)","v":"2020-05-28"},{"$f":"IF('2.Logbook'!B47=\"\",\"\",'2.Logbook'!B47)","v":"12:30:00"},{"$f":"IF('2.Logbook'!C47=\"\",\"\",'2.Logbook'!C47)","v":"9°56N"},{"$f":"IF('2.Logbook'!D47=\"\",\"\",'2.Logbook'!D47)","v":"16°50W"},{"$f":"IF('2.Logbook'!E47=\"\",\"\",'2.Logbook'!E47)","v":"Guinée Bissau"},{"$f":"IF('2.Logbook'!F47=\"\",\"\",'2.Logbook'!F47)","v":26},{"$f":"IF('2.Logbook'!G47=\"\",\"\",'2.Logbook'!G47)","v":"1900-10-26"},{"$f":"IF('2.Logbook'!H47=\"\",\"\",'2.Logbook'!H47)","v":8},{"$f":"IF('2.Logbook'!I47=\"\",\"\",'2.Logbook'!I47)","v":"1900-01-01"},{"$f":"IF('2.Logbook'!J47=\"\",\"\",'2.Logbook'!J47)","v":"00:00:00"},{"$f":"IF('2.Logbook'!K47=\"\",\"\",'2.Logbook'!K47)","v":"Banc Objet"},{"$f":"IF('2.Logbook'!L47=\"\",\"\",'2.Logbook'!L47)","v":""},{"$f":"IF('2.Logbook'!M47=\"\",\"\",'2.Logbook'!M47)","v":""},{"$f":"IF('2.Logbook'!N47=\"\",\"\",'2.Logbook'!N47)","v":"1,8 - 3,4 kg"},{"$f":"IF('2.Logbook'!O47=\"\",\"\",'2.Logbook'!O47)","v":"1900-01-02"},{"$f":"IF('2.Logbook'!P47=\"\",\"\",'2.Logbook'!P47)","v":"1,8 - 3,4 kg"},{"$f":"IF('2.Logbook'!Q47=\"\",\"\",'2.Logbook'!Q47)","v":"1900-01-19"},{"$f":"IF('2.Logbook'!R47=\"\",\"\",'2.Logbook'!R47)","v":""},{"$f":"IF('2.Logbook'!S47=\"\",\"\",'2.Logbook'!S47)","v":""},{"$f":"IF('2.Logbook'!T47=\"\",\"\",'2.Logbook'!T47)","v":""},{"$f":"IF('2.Logbook'!U47=\"\",\"\",'2.Logbook'!U47)","v":""},{"$f":"IF('2.Logbook'!V47=\"\",\"\",'2.Logbook'!V47)","v":""},{"$f":"IF('2.Logbook'!W47=\"\",\"\",'2.Logbook'!W47)","v":""},{"$f":"IF('2.Logbook'!X47=\"\",\"\",'2.Logbook'!X47)","v":""},{"$f":"IF('2.Logbook'!Y47=\"\",\"\",'2.Logbook'!Y47)","v":""},{"$f":"IF('2.Logbook'!Z47=\"\",\"\",'2.Logbook'!Z47)","v":""},{"$f":"IF('2.Logbook'!AA47=\"\",\"\",'2.Logbook'!AA47)","v":""},{"$f":"IF('2.Logbook'!AB47=\"\",\"\",'2.Logbook'!AB47)","v":""},{"$f":"IF('2.Logbook'!AC47=\"\",\"\",'2.Logbook'!AC47)","v":""},{"$f":"IF('2.Logbook'!AD47=\"\",\"\",'2.Logbook'!AD47)","v":"00:00:00"},{"$f":"IF('2.Logbook'!AE47=\"\",\"\",'2.Logbook'!AE47)","v":"1900-01-01"},{"$f":"IF('2.Logbook'!AF47=\"\",\"\",'2.Logbook'!AF47)","v":"00:00:00"},{"$f":"IF('2.Logbook'!AG47=\"\",\"\",'2.Logbook'!AG47)","v":"00:00:00"}]
[{"$f":"IF('2.Logbook'!A48=\"\",\"\",'2.Logbook'!A48)","v":"2020-05-29"},{"$f":"IF('2.Logbook'!B48=\"\",\"\",'2.Logbook'!B48)","v":"12:00:00"},{"$f":"IF('2.Logbook'!C48=\"\",\"\",'2.Logbook'!C48)","v":"8°29N"},{"$f":"IF('2.Logbook'!D48=\"\",\"\",'2.Logbook'!D48)","v":"15°29W"},{"$f":"IF('2.Logbook'!E48=\"\",\"\",'2.Logbook'!E48)","v":"Guinée Conakry"},{"$f":"IF('2.Logbook'!F48=\"\",\"\",'2.Logbook'!F48)","v":29},{"$f":"IF('2.Logbook'!G48=\"\",\"\",'2.Logbook'!G48)","v":"00:00:00"},{"$f":"IF('2.Logbook'!H48=\"\",\"\",'2.Logbook'!H48)","v":10},{"$f":"IF('2.Logbook'!I48=\"\",\"\",'2.Logbook'!I48)","v":""},{"$f":"IF('2.Logbook'!J48=\"\",\"\",'2.Logbook'!J48)","v":""},{"$f":"IF('2.Logbook'!K48=\"\",\"\",'2.Logbook'!K48)","v":""},{"$f":"IF('2.Logbook'!L48=\"\",\"\",'2.Logbook'!L48)","v":""},{"$f":"IF('2.Logbook'!M48=\"\",\"\",'2.Logbook'!M48)","v":""},{"$f":"IF('2.Logbook'!N48=\"\",\"\",'2.Logbook'!N48)","v":""},{"$f":"IF('2.Logbook'!O48=\"\",\"\",'2.Logbook'!O48)","v":""},{"$f":"IF('2.Logbook'!P48=\"\",\"\",'2.Logbook'!P48)","v":""},{"$f":"IF('2.Logbook'!Q48=\"\",\"\",'2.Logbook'!Q48)","v":""},{"$f":"IF('2.Logbook'!R48=\"\",\"\",'2.Logbook'!R48)","v":""},{"$f":"IF('2.Logbook'!S48=\"\",\"\",'2.Logbook'!S48)","v":""},{"$f":"IF('2.Logbook'!T48=\"\",\"\",'2.Logbook'!T48)","v":""},{"$f":"IF('2.Logbook'!U48=\"\",\"\",'2.Logbook'!U48)","v":""},{"$f":"IF('2.Logbook'!V48=\"\",\"\",'2.Logbook'!V48)","v":""},{"$f":"IF('2.Logbook'!W48=\"\",\"\",'2.Logbook'!W48)","v":""},{"$f":"IF('2.Logbook'!X48=\"\",\"\",'2.Logbook'!X48)","v":""},{"$f":"IF('2.Logbook'!Y48=\"\",\"\",'2.Logbook'!Y48)","v":""},{"$f":"IF('2.Logbook'!Z48=\"\",\"\",'2.Logbook'!Z48)","v":""},{"$f":"IF('2.Logbook'!AA48=\"\",\"\",'2.Logbook'!AA48)","v":""},{"$f":"IF('2.Logbook'!AB48=\"\",\"\",'2.Logbook'!AB48)","v":""},{"$f":"IF('2.Logbook'!AC48=\"\",\"\",'2.Logbook'!AC48)","v":""},{"$f":"IF('2.Logbook'!AD48=\"\",\"\",'2.Logbook'!AD48)","v":""},{"$f":"IF('2.Logbook'!AE48=\"\",\"\",'2.Logbook'!AE48)","v":""},{"$f":"IF('2.Logbook'!AF48=\"\",\"\",'2.Logbook'!AF48)","v":""},{"$f":"IF('2.Logbook'!AG48=\"\",\"\",'2.Logbook'!AG48)","v":""}]
[{"$f":"IF('2.Logbook'!A49=\"\",\"\",'2.Logbook'!A49)","v":"2020-05-29"},{"$f":"IF('2.Logbook'!B49=\"\",\"\",'2.Logbook'!B49)","v":"19:11:00"},{"$f":"IF('2.Logbook'!C49=\"\",\"\",'2.Logbook'!C49)","v":"7°29N"},{"$f":"IF('2.Logbook'!D49=\"\",\"\",'2.Logbook'!D49)","v":"14°15W"},{"$f":"IF('2.Logbook'!E49=\"\",\"\",'2.Logbook'!E49)","v":"SIERRA LEON"},{"$f":"IF('2.Logbook'!F49=\"\",\"\",'2.Logbook'!F49)","v":29},{"$f":"IF('2.Logbook'!G49=\"\",\"\",'2.Logbook'!G49)","v":"00:00:00"},{"$f":"IF('2.Logbook'!H49=\"\",\"\",'2.Logbook'!H49)","v":5},{"$f":"IF('2.Logbook'!I49=\"\",\"\",'2.Logbook'!I49)","v":""},{"$f":"IF('2.Logbook'!J49=\"\",\"\",'2.Logbook'!J49)","v":""},{"$f":"IF('2.Logbook'!K49=\"\",\"\",'2.Logbook'!K49)","v":""},{"$f":"IF('2.Logbook'!L49=\"\",\"\",'2.Logbook'!L49)","v":""},{"$f":"IF('2.Logbook'!M49=\"\",\"\",'2.Logbook'!M49)","v":""},{"$f":"IF('2.Logbook'!N49=\"\",\"\",'2.Logbook'!N49)","v":""},{"$f":"IF('2.Logbook'!O49=\"\",\"\",'2.Logbook'!O49)","v":""},{"$f":"IF('2.Logbook'!P49=\"\",\"\",'2.Logbook'!P49)","v":""},{"$f":"IF('2.Logbook'!Q49=\"\",\"\",'2.Logbook'!Q49)","v":""},{"$f":"IF('2.Logbook'!R49=\"\",\"\",'2.Logbook'!R49)","v":""},{"$f":"IF('2.Logbook'!S49=\"\",\"\",'2.Logbook'!S49)","v":""},{"$f":"IF('2.Logbook'!T49=\"\",\"\",'2.Logbook'!T49)","v":""},{"$f":"IF('2.Logbook'!U49=\"\",\"\",'2.Logbook'!U49)","v":""},{"$f":"IF('2.Logbook'!V49=\"\",\"\",'2.Logbook'!V49)","v":""},{"$f":"IF('2.Logbook'!W49=\"\",\"\",'2.Logbook'!W49)","v":""},{"$f":"IF('2.Logbook'!X49=\"\",\"\",'2.Logbook'!X49)","v":""},{"$f":"IF('2.Logbook'!Y49=\"\",\"\",'2.Logbook'!Y49)","v":""},{"$f":"IF('2.Logbook'!Z49=\"\",\"\",'2.Logbook'!Z49)","v":""},{"$f":"IF('2.Logbook'!AA49=\"\",\"\",'2.Logbook'!AA49)","v":""},{"$f":"IF('2.Logbook'!AB49=\"\",\"\",'2.Logbook'!AB49)","v":""},{"$f":"IF('2.Logbook'!AC49=\"\",\"\",'2.Logbook'!AC49)","v":""},{"$f":"IF('2.Logbook'!AD49=\"\",\"\",'2.Logbook'!AD49)","v":""},{"$f":"IF('2.Logbook'!AE49=\"\",\"\",'2.Logbook'!AE49)","v":""},{"$f":"IF('2.Logbook'!AF49=\"\",\"\",'2.Logbook'!AF49)","v":""},{"$f":"IF('2.Logbook'!AG49=\"\",\"\",'2.Logbook'!AG49)","v":""}]
[{"$f":"IF('2.Logbook'!A50=\"\",\"\",'2.Logbook'!A50)","v":"2020-05-30"},{"$f":"IF('2.Logbook'!B50=\"\",\"\",'2.Logbook'!B50)","v":"06:30:00"},{"$f":"IF('2.Logbook'!C50=\"\",\"\",'2.Logbook'!C50)","v":"7°28N "},{"$f":"IF('2.Logbook'!D50=\"\",\"\",'2.Logbook'!D50)","v":"14°14W"},{"$f":"IF('2.Logbook'!E50=\"\",\"\",'2.Logbook'!E50)","v":"SIERRA LEON"},{"$f":"IF('2.Logbook'!F50=\"\",\"\",'2.Logbook'!F50)","v":29},{"$f":"IF('2.Logbook'!G50=\"\",\"\",'2.Logbook'!G50)","v":"1900-08-04"},{"$f":"IF('2.Logbook'!H50=\"\",\"\",'2.Logbook'!H50)","v":10},{"$f":"IF('2.Logbook'!I50=\"\",\"\",'2.Logbook'!I50)","v":""},{"$f":"IF('2.Logbook'!J50=\"\",\"\",'2.Logbook'!J50)","v":""},{"$f":"IF('2.Logbook'!K50=\"\",\"\",'2.Logbook'!K50)","v":""},{"$f":"IF('2.Logbook'!L50=\"\",\"\",'2.Logbook'!L50)","v":""},{"$f":"IF('2.Logbook'!M50=\"\",\"\",'2.Logbook'!M50)","v":""},{"$f":"IF('2.Logbook'!N50=\"\",\"\",'2.Logbook'!N50)","v":""},{"$f":"IF('2.Logbook'!O50=\"\",\"\",'2.Logbook'!O50)","v":""},{"$f":"IF('2.Logbook'!P50=\"\",\"\",'2.Logbook'!P50)","v":""},{"$f":"IF('2.Logbook'!Q50=\"\",\"\",'2.Logbook'!Q50)","v":""},{"$f":"IF('2.Logbook'!R50=\"\",\"\",'2.Logbook'!R50)","v":""},{"$f":"IF('2.Logbook'!S50=\"\",\"\",'2.Logbook'!S50)","v":""},{"$f":"IF('2.Logbook'!T50=\"\",\"\",'2.Logbook'!T50)","v":""},{"$f":"IF('2.Logbook'!U50=\"\",\"\",'2.Logbook'!U50)","v":""},{"$f":"IF('2.Logbook'!V50=\"\",\"\",'2.Logbook'!V50)","v":""},{"$f":"IF('2.Logbook'!W50=\"\",\"\",'2.Logbook'!W50)","v":""},{"$f":"IF('2.Logbook'!X50=\"\",\"\",'2.Logbook'!X50)","v":""},{"$f":"IF('2.Logbook'!Y50=\"\",\"\",'2.Logbook'!Y50)","v":""},{"$f":"IF('2.Logbook'!Z50=\"\",\"\",'2.Logbook'!Z50)","v":""},{"$f":"IF('2.Logbook'!AA50=\"\",\"\",'2.Logbook'!AA50)","v":""},{"$f":"IF('2.Logbook'!AB50=\"\",\"\",'2.Logbook'!AB50)","v":""},{"$f":"IF('2.Logbook'!AC50=\"\",\"\",'2.Logbook'!AC50)","v":""},{"$f":"IF('2.Logbook'!AD50=\"\",\"\",'2.Logbook'!AD50)","v":""},{"$f":"IF('2.Logbook'!AE50=\"\",\"\",'2.Logbook'!AE50)","v":""},{"$f":"IF('2.Logbook'!AF50=\"\",\"\",'2.Logbook'!AF50)","v":""},{"$f":"IF('2.Logbook'!AG50=\"\",\"\",'2.Logbook'!AG50)","v":""}]
[{"$f":"IF('2.Logbook'!A51=\"\",\"\",'2.Logbook'!A51)","v":"2020-05-31"},{"$f":"IF('2.Logbook'!B51=\"\",\"\",'2.Logbook'!B51)","v":"11:25:00"},{"$f":"IF('2.Logbook'!C51=\"\",\"\",'2.Logbook'!C51)","v":"3°48 N "},{"$f":"IF('2.Logbook'!D51=\"\",\"\",'2.Logbook'!D51)","v":"10°44 W"},{"$f":"IF('2.Logbook'!E51=\"\",\"\",'2.Logbook'!E51)","v":"Libéria"},{"$f":"IF('2.Logbook'!F51=\"\",\"\",'2.Logbook'!F51)","v":29},{"$f":"IF('2.Logbook'!G51=\"\",\"\",'2.Logbook'!G51)","v":"1900-09-15"},{"$f":"IF('2.Logbook'!H51=\"\",\"\",'2.Logbook'!H51)","v":10},{"$f":"IF('2.Logbook'!I51=\"\",\"\",'2.Logbook'!I51)","v":""},{"$f":"IF('2.Logbook'!J51=\"\",\"\",'2.Logbook'!J51)","v":""},{"$f":"IF('2.Logbook'!K51=\"\",\"\",'2.Logbook'!K51)","v":""},{"$f":"IF('2.Logbook'!L51=\"\",\"\",'2.Logbook'!L51)","v":""},{"$f":"IF('2.Logbook'!M51=\"\",\"\",'2.Logbook'!M51)","v":""},{"$f":"IF('2.Logbook'!N51=\"\",\"\",'2.Logbook'!N51)","v":""},{"$f":"IF('2.Logbook'!O51=\"\",\"\",'2.Logbook'!O51)","v":""},{"$f":"IF('2.Logbook'!P51=\"\",\"\",'2.Logbook'!P51)","v":""},{"$f":"IF('2.Logbook'!Q51=\"\",\"\",'2.Logbook'!Q51)","v":""},{"$f":"IF('2.Logbook'!R51=\"\",\"\",'2.Logbook'!R51)","v":""},{"$f":"IF('2.Logbook'!S51=\"\",\"\",'2.Logbook'!S51)","v":""},{"$f":"IF('2.Logbook'!T51=\"\",\"\",'2.Logbook'!T51)","v":""},{"$f":"IF('2.Logbook'!U51=\"\",\"\",'2.Logbook'!U51)","v":""},{"$f":"IF('2.Logbook'!V51=\"\",\"\",'2.Logbook'!V51)","v":""},{"$f":"IF('2.Logbook'!W51=\"\",\"\",'2.Logbook'!W51)","v":""},{"$f":"IF('2.Logbook'!X51=\"\",\"\",'2.Logbook'!X51)","v":""},{"$f":"IF('2.Logbook'!Y51=\"\",\"\",'2.Logbook'!Y51)","v":""},{"$f":"IF('2.Logbook'!Z51=\"\",\"\",'2.Logbook'!Z51)","v":""},{"$f":"IF('2.Logbook'!AA51=\"\",\"\",'2.Logbook'!AA51)","v":""},{"$f":"IF('2.Logbook'!AB51=\"\",\"\",'2.Logbook'!AB51)","v":""},{"$f":"IF('2.Logbook'!AC51=\"\",\"\",'2.Logbook'!AC51)","v":""},{"$f":"IF('2.Logbook'!AD51=\"\",\"\",'2.Logbook'!AD51)","v":""},{"$f":"IF('2.Logbook'!AE51=\"\",\"\",'2.Logbook'!AE51)","v":""},{"$f":"IF('2.Logbook'!AF51=\"\",\"\",'2.Logbook'!AF51)","v":""},{"$f":"IF('2.Logbook'!AG51=\"\",\"\",'2.Logbook'!AG51)","v":""}]
[{"$f":"IF('2.Logbook'!A52=\"\",\"\",'2.Logbook'!A52)","v":"2020-06-01"},{"$f":"IF('2.Logbook'!B52=\"\",\"\",'2.Logbook'!B52)","v":"16:00:00"},{"$f":"IF('2.Logbook'!C52=\"\",\"\",'2.Logbook'!C52)","v":"1°40N"},{"$f":"IF('2.Logbook'!D52=\"\",\"\",'2.Logbook'!D52)","v":"7°46W"},{"$f":"IF('2.Logbook'!E52=\"\",\"\",'2.Logbook'!E52)","v":"Libéria"},{"$f":"IF('2.Logbook'!F52=\"\",\"\",'2.Logbook'!F52)","v":29},{"$f":"IF('2.Logbook'!G52=\"\",\"\",'2.Logbook'!G52)","v":"1900-05-18"},{"$f":"IF('2.Logbook'!H52=\"\",\"\",'2.Logbook'!H52)","v":10},{"$f":"IF('2.Logbook'!I52=\"\",\"\",'2.Logbook'!I52)","v":""},{"$f":"IF('2.Logbook'!J52=\"\",\"\",'2.Logbook'!J52)","v":""},{"$f":"IF('2.Logbook'!K52=\"\",\"\",'2.Logbook'!K52)","v":""},{"$f":"IF('2.Logbook'!L52=\"\",\"\",'2.Logbook'!L52)","v":""},{"$f":"IF('2.Logbook'!M52=\"\",\"\",'2.Logbook'!M52)","v":""},{"$f":"IF('2.Logbook'!N52=\"\",\"\",'2.Logbook'!N52)","v":""},{"$f":"IF('2.Logbook'!O52=\"\",\"\",'2.Logbook'!O52)","v":""},{"$f":"IF('2.Logbook'!P52=\"\",\"\",'2.Logbook'!P52)","v":""},{"$f":"IF('2.Logbook'!Q52=\"\",\"\",'2.Logbook'!Q52)","v":""},{"$f":"IF('2.Logbook'!R52=\"\",\"\",'2.Logbook'!R52)","v":""},{"$f":"IF('2.Logbook'!S52=\"\",\"\",'2.Logbook'!S52)","v":""},{"$f":"IF('2.Logbook'!T52=\"\",\"\",'2.Logbook'!T52)","v":""},{"$f":"IF('2.Logbook'!U52=\"\",\"\",'2.Logbook'!U52)","v":""},{"$f":"IF('2.Logbook'!V52=\"\",\"\",'2.Logbook'!V52)","v":""},{"$f":"IF('2.Logbook'!W52=\"\",\"\",'2.Logbook'!W52)","v":""},{"$f":"IF('2.Logbook'!X52=\"\",\"\",'2.Logbook'!X52)","v":""},{"$f":"IF('2.Logbook'!Y52=\"\",\"\",'2.Logbook'!Y52)","v":""},{"$f":"IF('2.Logbook'!Z52=\"\",\"\",'2.Logbook'!Z52)","v":""},{"$f":"IF('2.Logbook'!AA52=\"\",\"\",'2.Logbook'!AA52)","v":""},{"$f":"IF('2.Logbook'!AB52=\"\",\"\",'2.Logbook'!AB52)","v":""},{"$f":"IF('2.Logbook'!AC52=\"\",\"\",'2.Logbook'!AC52)","v":""},{"$f":"IF('2.Logbook'!AD52=\"\",\"\",'2.Logbook'!AD52)","v":""},{"$f":"IF('2.Logbook'!AE52=\"\",\"\",'2.Logbook'!AE52)","v":""},{"$f":"IF('2.Logbook'!AF52=\"\",\"\",'2.Logbook'!AF52)","v":""},{"$f":"IF('2.Logbook'!AG52=\"\",\"\",'2.Logbook'!AG52)","v":""}]
[{"$f":"IF('2.Logbook'!A53=\"\",\"\",'2.Logbook'!A53)","v":"2020-06-02"},{"$f":"IF('2.Logbook'!B53=\"\",\"\",'2.Logbook'!B53)","v":"00:20:00"},{"$f":"IF('2.Logbook'!C53=\"\",\"\",'2.Logbook'!C53)","v":"1°25 N"},{"$f":"IF('2.Logbook'!D53=\"\",\"\",'2.Logbook'!D53)","v":"6°08 W "},{"$f":"IF('2.Logbook'!E53=\"\",\"\",'2.Logbook'!E53)","v":"Côte d'Ivoire"},{"$f":"IF('2.Logbook'!F53=\"\",\"\",'2.Logbook'!F53)","v":29},{"$f":"IF('2.Logbook'!G53=\"\",\"\",'2.Logbook'!G53)","v":"1900-05-29"},{"$f":"IF('2.Logbook'!H53=\"\",\"\",'2.Logbook'!H53)","v":10},{"$f":"IF('2.Logbook'!I53=\"\",\"\",'2.Logbook'!I53)","v":""},{"$f":"IF('2.Logbook'!J53=\"\",\"\",'2.Logbook'!J53)","v":""},{"$f":"IF('2.Logbook'!K53=\"\",\"\",'2.Logbook'!K53)","v":""},{"$f":"IF('2.Logbook'!L53=\"\",\"\",'2.Logbook'!L53)","v":""},{"$f":"IF('2.Logbook'!M53=\"\",\"\",'2.Logbook'!M53)","v":""},{"$f":"IF('2.Logbook'!N53=\"\",\"\",'2.Logbook'!N53)","v":""},{"$f":"IF('2.Logbook'!O53=\"\",\"\",'2.Logbook'!O53)","v":""},{"$f":"IF('2.Logbook'!P53=\"\",\"\",'2.Logbook'!P53)","v":""},{"$f":"IF('2.Logbook'!Q53=\"\",\"\",'2.Logbook'!Q53)","v":""},{"$f":"IF('2.Logbook'!R53=\"\",\"\",'2.Logbook'!R53)","v":""},{"$f":"IF('2.Logbook'!S53=\"\",\"\",'2.Logbook'!S53)","v":""},{"$f":"IF('2.Logbook'!T53=\"\",\"\",'2.Logbook'!T53)","v":""},{"$f":"IF('2.Logbook'!U53=\"\",\"\",'2.Logbook'!U53)","v":""},{"$f":"IF('2.Logbook'!V53=\"\",\"\",'2.Logbook'!V53)","v":""},{"$f":"IF('2.Logbook'!W53=\"\",\"\",'2.Logbook'!W53)","v":""},{"$f":"IF('2.Logbook'!X53=\"\",\"\",'2.Logbook'!X53)","v":""},{"$f":"IF('2.Logbook'!Y53=\"\",\"\",'2.Logbook'!Y53)","v":""},{"$f":"IF('2.Logbook'!Z53=\"\",\"\",'2.Logbook'!Z53)","v":""},{"$f":"IF('2.Logbook'!AA53=\"\",\"\",'2.Logbook'!AA53)","v":""},{"$f":"IF('2.Logbook'!AB53=\"\",\"\",'2.Logbook'!AB53)","v":""},{"$f":"IF('2.Logbook'!AC53=\"\",\"\",'2.Logbook'!AC53)","v":""},{"$f":"IF('2.Logbook'!AD53=\"\",\"\",'2.Logbook'!AD53)","v":""},{"$f":"IF('2.Logbook'!AE53=\"\",\"\",'2.Logbook'!AE53)","v":""},{"$f":"IF('2.Logbook'!AF53=\"\",\"\",'2.Logbook'!AF53)","v":""},{"$f":"IF('2.Logbook'!AG53=\"\",\"\",'2.Logbook'!AG53)","v":""}]
[{"$f":"IF('2.Logbook'!A54=\"\",\"\",'2.Logbook'!A54)","v":"2020-06-02"},{"$f":"IF('2.Logbook'!B54=\"\",\"\",'2.Logbook'!B54)","v":"11:25:00"},{"$f":"IF('2.Logbook'!C54=\"\",\"\",'2.Logbook'!C54)","v":"1°10 N"},{"$f":"IF('2.Logbook'!D54=\"\",\"\",'2.Logbook'!D54)","v":"4°05 W"},{"$f":"IF('2.Logbook'!E54=\"\",\"\",'2.Logbook'!E54)","v":"Eaux internationales"},{"$f":"IF('2.Logbook'!F54=\"\",\"\",'2.Logbook'!F54)","v":29},{"$f":"IF('2.Logbook'!G54=\"\",\"\",'2.Logbook'!G54)","v":"1900-07-08"},{"$f":"IF('2.Logbook'!H54=\"\",\"\",'2.Logbook'!H54)","v":10},{"$f":"IF('2.Logbook'!I54=\"\",\"\",'2.Logbook'!I54)","v":"1900-01-01"},{"$f":"IF('2.Logbook'!J54=\"\",\"\",'2.Logbook'!J54)","v":"00:00:00"},{"$f":"IF('2.Logbook'!K54=\"\",\"\",'2.Logbook'!K54)","v":"Banc Objet"},{"$f":"IF('2.Logbook'!L54=\"\",\"\",'2.Logbook'!L54)","v":"20 - 40 kg"},{"$f":"IF('2.Logbook'!M54=\"\",\"\",'2.Logbook'!M54)","v":"1900-01-02"},{"$f":"IF('2.Logbook'!N54=\"\",\"\",'2.Logbook'!N54)","v":""},{"$f":"IF('2.Logbook'!O54=\"\",\"\",'2.Logbook'!O54)","v":""},{"$f":"IF('2.Logbook'!P54=\"\",\"\",'2.Logbook'!P54)","v":"1,8 - 3,4 kg"},{"$f":"IF('2.Logbook'!Q54=\"\",\"\",'2.Logbook'!Q54)","v":"1900-01-25"},{"$f":"IF('2.Logbook'!R54=\"\",\"\",'2.Logbook'!R54)","v":""},{"$f":"IF('2.Logbook'!S54=\"\",\"\",'2.Logbook'!S54)","v":""},{"$f":"IF('2.Logbook'!T54=\"\",\"\",'2.Logbook'!T54)","v":"3,4 - 10 kg"},{"$f":"IF('2.Logbook'!U54=\"\",\"\",'2.Logbook'!U54)","v":"1900-01-02"},{"$f":"IF('2.Logbook'!V54=\"\",\"\",'2.Logbook'!V54)","v":""},{"$f":"IF('2.Logbook'!W54=\"\",\"\",'2.Logbook'!W54)","v":""},{"$f":"IF('2.Logbook'!X54=\"\",\"\",'2.Logbook'!X54)","v":""},{"$f":"IF('2.Logbook'!Y54=\"\",\"\",'2.Logbook'!Y54)","v":""},{"$f":"IF('2.Logbook'!Z54=\"\",\"\",'2.Logbook'!Z54)","v":""},{"$f":"IF('2.Logbook'!AA54=\"\",\"\",'2.Logbook'!AA54)","v":""},{"$f":"IF('2.Logbook'!AB54=\"\",\"\",'2.Logbook'!AB54)","v":""},{"$f":"IF('2.Logbook'!AC54=\"\",\"\",'2.Logbook'!AC54)","v":""},{"$f":"IF('2.Logbook'!AD54=\"\",\"\",'2.Logbook'!AD54)","v":""},{"$f":"IF('2.Logbook'!AE54=\"\",\"\",'2.Logbook'!AE54)","v":""},{"$f":"IF('2.Logbook'!AF54=\"\",\"\",'2.Logbook'!AF54)","v":""},{"$f":"IF('2.Logbook'!AG54=\"\",\"\",'2.Logbook'!AG54)","v":""}]
[{"$f":"IF('2.Logbook'!A55=\"\",\"\",'2.Logbook'!A55)","v":"2020-06-03"},{"$f":"IF('2.Logbook'!B55=\"\",\"\",'2.Logbook'!B55)","v":"16:53:00"},{"$f":"IF('2.Logbook'!C55=\"\",\"\",'2.Logbook'!C55)","v":"1°24 N"},{"$f":"IF('2.Logbook'!D55=\"\",\"\",'2.Logbook'!D55)","v":"2°30 W"},{"$f":"IF('2.Logbook'!E55=\"\",\"\",'2.Logbook'!E55)","v":"Eaux internationales"},{"$f":"IF('2.Logbook'!F55=\"\",\"\",'2.Logbook'!F55)","v":29},{"$f":"IF('2.Logbook'!G55=\"\",\"\",'2.Logbook'!G55)","v":"1900-06-28"},{"$f":"IF('2.Logbook'!H55=\"\",\"\",'2.Logbook'!H55)","v":15},{"$f":"IF('2.Logbook'!I55=\"\",\"\",'2.Logbook'!I55)","v":"1900-01-01"},{"$f":"IF('2.Logbook'!J55=\"\",\"\",'2.Logbook'!J55)","v":"00:00:00"},{"$f":"IF('2.Logbook'!K55=\"\",\"\",'2.Logbook'!K55)","v":"Banc Libre"},{"$f":"IF('2.Logbook'!L55=\"\",\"\",'2.Logbook'!L55)","v":"> 60 kg"},{"$f":"IF('2.Logbook'!M55=\"\",\"\",'2.Logbook'!M55)","v":"1900-02-14"},{"$f":"IF('2.Logbook'!N55=\"\",\"\",'2.Logbook'!N55)","v":""},{"$f":"IF('2.Logbook'!O55=\"\",\"\",'2.Logbook'!O55)","v":""},{"$f":"IF('2.Logbook'!P55=\"\",\"\",'2.Logbook'!P55)","v":""},{"$f":"IF('2.Logbook'!Q55=\"\",\"\",'2.Logbook'!Q55)","v":""},{"$f":"IF('2.Logbook'!R55=\"\",\"\",'2.Logbook'!R55)","v":""},{"$f":"IF('2.Logbook'!S55=\"\",\"\",'2.Logbook'!S55)","v":""},{"$f":"IF('2.Logbook'!T55=\"\",\"\",'2.Logbook'!T55)","v":""},{"$f":"IF('2.Logbook'!U55=\"\",\"\",'2.Logbook'!U55)","v":""},{"$f":"IF('2.Logbook'!V55=\"\",\"\",'2.Logbook'!V55)","v":""},{"$f":"IF('2.Logbook'!W55=\"\",\"\",'2.Logbook'!W55)","v":""},{"$f":"IF('2.Logbook'!X55=\"\",\"\",'2.Logbook'!X55)","v":""},{"$f":"IF('2.Logbook'!Y55=\"\",\"\",'2.Logbook'!Y55)","v":""},{"$f":"IF('2.Logbook'!Z55=\"\",\"\",'2.Logbook'!Z55)","v":""},{"$f":"IF('2.Logbook'!AA55=\"\",\"\",'2.Logbook'!AA55)","v":""},{"$f":"IF('2.Logbook'!AB55=\"\",\"\",'2.Logbook'!AB55)","v":""},{"$f":"IF('2.Logbook'!AC55=\"\",\"\",'2.Logbook'!AC55)","v":""},{"$f":"IF('2.Logbook'!AD55=\"\",\"\",'2.Logbook'!AD55)","v":1},{"$f":"IF('2.Logbook'!AE55=\"\",\"\",'2.Logbook'!AE55)","v":""},{"$f":"IF('2.Logbook'!AF55=\"\",\"\",'2.Logbook'!AF55)","v":""},{"$f":"IF('2.Logbook'!AG55=\"\",\"\",'2.Logbook'!AG55)","v":""}]
[{"$f":"IF('2.Logbook'!A56=\"\",\"\",'2.Logbook'!A56)","v":"2020-06-04"},{"$f":"IF('2.Logbook'!B56=\"\",\"\",'2.Logbook'!B56)","v":"09:39:00"},{"$f":"IF('2.Logbook'!C56=\"\",\"\",'2.Logbook'!C56)","v":"1°21 N"},{"$f":"IF('2.Logbook'!D56=\"\",\"\",'2.Logbook'!D56)","v":"2°33 W"},{"$f":"IF('2.Logbook'!E56=\"\",\"\",'2.Logbook'!E56)","v":"Eaux internationales"},{"$f":"IF('2.Logbook'!F56=\"\",\"\",'2.Logbook'!F56)","v":29},{"$f":"IF('2.Logbook'!G56=\"\",\"\",'2.Logbook'!G56)","v":"1900-06-28"},{"$f":"IF('2.Logbook'!H56=\"\",\"\",'2.Logbook'!H56)","v":15},{"$f":"IF('2.Logbook'!I56=\"\",\"\",'2.Logbook'!I56)","v":"1900-01-01"},{"$f":"IF('2.Logbook'!J56=\"\",\"\",'2.Logbook'!J56)","v":"00:00:00"},{"$f":"IF('2.Logbook'!K56=\"\",\"\",'2.Logbook'!K56)","v":"Banc Libre"},{"$f":"IF('2.Logbook'!L56=\"\",\"\",'2.Logbook'!L56)","v":"> 60 kg"},{"$f":"IF('2.Logbook'!M56=\"\",\"\",'2.Logbook'!M56)","v":"1900-01-26"},{"$f":"IF('2.Logbook'!N56=\"\",\"\",'2.Logbook'!N56)","v":""},{"$f":"IF('2.Logbook'!O56=\"\",\"\",'2.Logbook'!O56)","v":""},{"$f":"IF('2.Logbook'!P56=\"\",\"\",'2.Logbook'!P56)","v":""},{"$f":"IF('2.Logbook'!Q56=\"\",\"\",'2.Logbook'!Q56)","v":""},{"$f":"IF('2.Logbook'!R56=\"\",\"\",'2.Logbook'!R56)","v":""},{"$f":"IF('2.Logbook'!S56=\"\",\"\",'2.Logbook'!S56)","v":""},{"$f":"IF('2.Logbook'!T56=\"\",\"\",'2.Logbook'!T56)","v":""},{"$f":"IF('2.Logbook'!U56=\"\",\"\",'2.Logbook'!U56)","v":""},{"$f":"IF('2.Logbook'!V56=\"\",\"\",'2.Logbook'!V56)","v":""},{"$f":"IF('2.Logbook'!W56=\"\",\"\",'2.Logbook'!W56)","v":""},{"$f":"IF('2.Logbook'!X56=\"\",\"\",'2.Logbook'!X56)","v":""},{"$f":"IF('2.Logbook'!Y56=\"\",\"\",'2.Logbook'!Y56)","v":""},{"$f":"IF('2.Logbook'!Z56=\"\",\"\",'2.Logbook'!Z56)","v":""},{"$f":"IF('2.Logbook'!AA56=\"\",\"\",'2.Logbook'!AA56)","v":""},{"$f":"IF('2.Logbook'!AB56=\"\",\"\",'2.Logbook'!AB56)","v":""},{"$f":"IF('2.Logbook'!AC56=\"\",\"\",'2.Logbook'!AC56)","v":""},{"$f":"IF('2.Logbook'!AD56=\"\",\"\",'2.Logbook'!AD56)","v":1},{"$f":"IF('2.Logbook'!AE56=\"\",\"\",'2.Logbook'!AE56)","v":""},{"$f":"IF('2.Logbook'!AF56=\"\",\"\",'2.Logbook'!AF56)","v":""},{"$f":"IF('2.Logbook'!AG56=\"\",\"\",'2.Logbook'!AG56)","v":""}]
[{"$f":"IF('2.Logbook'!A57=\"\",\"\",'2.Logbook'!A57)","v":"2020-06-05"},{"$f":"IF('2.Logbook'!B57=\"\",\"\",'2.Logbook'!B57)","v":"07:25:00"},{"$f":"IF('2.Logbook'!C57=\"\",\"\",'2.Logbook'!C57)","v":"1°14 N"},{"$f":"IF('2.Logbook'!D57=\"\",\"\",'2.Logbook'!D57)","v":"2°02 W"},{"$f":"IF('2.Logbook'!E57=\"\",\"\",'2.Logbook'!E57)","v":"Eaux internationales"},{"$f":"IF('2.Logbook'!F57=\"\",\"\",'2.Logbook'!F57)","v":29},{"$f":"IF('2.Logbook'!G57=\"\",\"\",'2.Logbook'!G57)","v":"1900-06-28"},{"$f":"IF('2.Logbook'!H57=\"\",\"\",'2.Logbook'!H57)","v":5},{"$f":"IF('2.Logbook'!I57=\"\",\"\",'2.Logbook'!I57)","v":""},{"$f":"IF('2.Logbook'!J57=\"\",\"\",'2.Logbook'!J57)","v":1},{"$f":"IF('2.Logbook'!K57=\"\",\"\",'2.Logbook'!K57)","v":"Banc Libre"},{"$f":"IF('2.Logbook'!L57=\"\",\"\",'2.Logbook'!L57)","v":""},{"$f":"IF('2.Logbook'!M57=\"\",\"\",'2.Logbook'!M57)","v":""},{"$f":"IF('2.Logbook'!N57=\"\",\"\",'2.Logbook'!N57)","v":""},{"$f":"IF('2.Logbook'!O57=\"\",\"\",'2.Logbook'!O57)","v":""},{"$f":"IF('2.Logbook'!P57=\"\",\"\",'2.Logbook'!P57)","v":""},{"$f":"IF('2.Logbook'!Q57=\"\",\"\",'2.Logbook'!Q57)","v":""},{"$f":"IF('2.Logbook'!R57=\"\",\"\",'2.Logbook'!R57)","v":""},{"$f":"IF('2.Logbook'!S57=\"\",\"\",'2.Logbook'!S57)","v":""},{"$f":"IF('2.Logbook'!T57=\"\",\"\",'2.Logbook'!T57)","v":""},{"$f":"IF('2.Logbook'!U57=\"\",\"\",'2.Logbook'!U57)","v":""},{"$f":"IF('2.Logbook'!V57=\"\",\"\",'2.Logbook'!V57)","v":""},{"$f":"IF('2.Logbook'!W57=\"\",\"\",'2.Logbook'!W57)","v":""},{"$f":"IF('2.Logbook'!X57=\"\",\"\",'2.Logbook'!X57)","v":""},{"$f":"IF('2.Logbook'!Y57=\"\",\"\",'2.Logbook'!Y57)","v":""},{"$f":"IF('2.Logbook'!Z57=\"\",\"\",'2.Logbook'!Z57)","v":""},{"$f":"IF('2.Logbook'!AA57=\"\",\"\",'2.Logbook'!AA57)","v":""},{"$f":"IF('2.Logbook'!AB57=\"\",\"\",'2.Logbook'!AB57)","v":""},{"$f":"IF('2.Logbook'!AC57=\"\",\"\",'2.Logbook'!AC57)","v":""},{"$f":"IF('2.Logbook'!AD57=\"\",\"\",'2.Logbook'!AD57)","v":1},{"$f":"IF('2.Logbook'!AE57=\"\",\"\",'2.Logbook'!AE57)","v":""},{"$f":"IF('2.Logbook'!AF57=\"\",\"\",'2.Logbook'!AF57)","v":""},{"$f":"IF('2.Logbook'!AG57=\"\",\"\",'2.Logbook'!AG57)","v":""}]
[{"$f":"IF('2.Logbook'!A58=\"\",\"\",'2.Logbook'!A58)","v":"2020-06-06"},{"$f":"IF('2.Logbook'!B58=\"\",\"\",'2.Logbook'!B58)","v":"12:00:00"},{"$f":"IF('2.Logbook'!C58=\"\",\"\",'2.Logbook'!C58)","v":"1°07 N"},{"$f":"IF('2.Logbook'!D58=\"\",\"\",'2.Logbook'!D58)","v":"0°37 W"},{"$f":"IF('2.Logbook'!E58=\"\",\"\",'2.Logbook'!E58)","v":"Eaux internationales"},{"$f":"IF('2.Logbook'!F58=\"\",\"\",'2.Logbook'!F58)","v":29},{"$f":"IF('2.Logbook'!G58=\"\",\"\",'2.Logbook'!G58)","v":"1900-06-28"},{"$f":"IF('2.Logbook'!H58=\"\",\"\",'2.Logbook'!H58)","v":20},{"$f":"IF('2.Logbook'!I58=\"\",\"\",'2.Logbook'!I58)","v":""},{"$f":"IF('2.Logbook'!J58=\"\",\"\",'2.Logbook'!J58)","v":""},{"$f":"IF('2.Logbook'!K58=\"\",\"\",'2.Logbook'!K58)","v":""},{"$f":"IF('2.Logbook'!L58=\"\",\"\",'2.Logbook'!L58)","v":""},{"$f":"IF('2.Logbook'!M58=\"\",\"\",'2.Logbook'!M58)","v":""},{"$f":"IF('2.Logbook'!N58=\"\",\"\",'2.Logbook'!N58)","v":""},{"$f":"IF('2.Logbook'!O58=\"\",\"\",'2.Logbook'!O58)","v":""},{"$f":"IF('2.Logbook'!P58=\"\",\"\",'2.Logbook'!P58)","v":""},{"$f":"IF('2.Logbook'!Q58=\"\",\"\",'2.Logbook'!Q58)","v":""},{"$f":"IF('2.Logbook'!R58=\"\",\"\",'2.Logbook'!R58)","v":""},{"$f":"IF('2.Logbook'!S58=\"\",\"\",'2.Logbook'!S58)","v":""},{"$f":"IF('2.Logbook'!T58=\"\",\"\",'2.Logbook'!T58)","v":""},{"$f":"IF('2.Logbook'!U58=\"\",\"\",'2.Logbook'!U58)","v":""},{"$f":"IF('2.Logbook'!V58=\"\",\"\",'2.Logbook'!V58)","v":""},{"$f":"IF('2.Logbook'!W58=\"\",\"\",'2.Logbook'!W58)","v":""},{"$f":"IF('2.Logbook'!X58=\"\",\"\",'2.Logbook'!X58)","v":""},{"$f":"IF('2.Logbook'!Y58=\"\",\"\",'2.Logbook'!Y58)","v":""},{"$f":"IF('2.Logbook'!Z58=\"\",\"\",'2.Logbook'!Z58)","v":""},{"$f":"IF('2.Logbook'!AA58=\"\",\"\",'2.Logbook'!AA58)","v":""},{"$f":"IF('2.Logbook'!AB58=\"\",\"\",'2.Logbook'!AB58)","v":""},{"$f":"IF('2.Logbook'!AC58=\"\",\"\",'2.Logbook'!AC58)","v":""},{"$f":"IF('2.Logbook'!AD58=\"\",\"\",'2.Logbook'!AD58)","v":""},{"$f":"IF('2.Logbook'!AE58=\"\",\"\",'2.Logbook'!AE58)","v":""},{"$f":"IF('2.Logbook'!AF58=\"\",\"\",'2.Logbook'!AF58)","v":""},{"$f":"IF('2.Logbook'!AG58=\"\",\"\",'2.Logbook'!AG58)","v":""}]
[{"$f":"IF('2.Logbook'!A59=\"\",\"\",'2.Logbook'!A59)","v":"2020-06-07"},{"$f":"IF('2.Logbook'!B59=\"\",\"\",'2.Logbook'!B59)","v":"08:20:00"},{"$f":"IF('2.Logbook'!C59=\"\",\"\",'2.Logbook'!C59)","v":"0°23N"},{"$f":"IF('2.Logbook'!D59=\"\",\"\",'2.Logbook'!D59)","v":"2°11 E"},{"$f":"IF('2.Logbook'!E59=\"\",\"\",'2.Logbook'!E59)","v":"Eaux internationales"},{"$f":"IF('2.Logbook'!F59=\"\",\"\",'2.Logbook'!F59)","v":28},{"$f":"IF('2.Logbook'!G59=\"\",\"\",'2.Logbook'!G59)","v":"1900-06-18"},{"$f":"IF('2.Logbook'!H59=\"\",\"\",'2.Logbook'!H59)","v":6},{"$f":"IF('2.Logbook'!I59=\"\",\"\",'2.Logbook'!I59)","v":""},{"$f":"IF('2.Logbook'!J59=\"\",\"\",'2.Logbook'!J59)","v":""},{"$f":"IF('2.Logbook'!K59=\"\",\"\",'2.Logbook'!K59)","v":""},{"$f":"IF('2.Logbook'!L59=\"\",\"\",'2.Logbook'!L59)","v":""},{"$f":"IF('2.Logbook'!M59=\"\",\"\",'2.Logbook'!M59)","v":""},{"$f":"IF('2.Logbook'!N59=\"\",\"\",'2.Logbook'!N59)","v":""},{"$f":"IF('2.Logbook'!O59=\"\",\"\",'2.Logbook'!O59)","v":""},{"$f":"IF('2.Logbook'!P59=\"\",\"\",'2.Logbook'!P59)","v":""},{"$f":"IF('2.Logbook'!Q59=\"\",\"\",'2.Logbook'!Q59)","v":""},{"$f":"IF('2.Logbook'!R59=\"\",\"\",'2.Logbook'!R59)","v":""},{"$f":"IF('2.Logbook'!S59=\"\",\"\",'2.Logbook'!S59)","v":""},{"$f":"IF('2.Logbook'!T59=\"\",\"\",'2.Logbook'!T59)","v":""},{"$f":"IF('2.Logbook'!U59=\"\",\"\",'2.Logbook'!U59)","v":""},{"$f":"IF('2.Logbook'!V59=\"\",\"\",'2.Logbook'!V59)","v":""},{"$f":"IF('2.Logbook'!W59=\"\",\"\",'2.Logbook'!W59)","v":""},{"$f":"IF('2.Logbook'!X59=\"\",\"\",'2.Logbook'!X59)","v":""},{"$f":"IF('2.Logbook'!Y59=\"\",\"\",'2.Logbook'!Y59)","v":""},{"$f":"IF('2.Logbook'!Z59=\"\",\"\",'2.Logbook'!Z59)","v":""},{"$f":"IF('2.Logbook'!AA59=\"\",\"\",'2.Logbook'!AA59)","v":""},{"$f":"IF('2.Logbook'!AB59=\"\",\"\",'2.Logbook'!AB59)","v":""},{"$f":"IF('2.Logbook'!AC59=\"\",\"\",'2.Logbook'!AC59)","v":""},{"$f":"IF('2.Logbook'!AD59=\"\",\"\",'2.Logbook'!AD59)","v":""},{"$f":"IF('2.Logbook'!AE59=\"\",\"\",'2.Logbook'!AE59)","v":""},{"$f":"IF('2.Logbook'!AF59=\"\",\"\",'2.Logbook'!AF59)","v":""},{"$f":"IF('2.Logbook'!AG59=\"\",\"\",'2.Logbook'!AG59)","v":""}]
[{"$f":"IF('2.Logbook'!A60=\"\",\"\",'2.Logbook'!A60)","v":"2020-06-08"},{"$f":"IF('2.Logbook'!B60=\"\",\"\",'2.Logbook'!B60)","v":"07:30:00"},{"$f":"IF('2.Logbook'!C60=\"\",\"\",'2.Logbook'!C60)","v":"1°04 N "},{"$f":"IF('2.Logbook'!D60=\"\",\"\",'2.Logbook'!D60)","v":"3°34 E"},{"$f":"IF('2.Logbook'!E60=\"\",\"\",'2.Logbook'!E60)","v":"Sao Tome e Principe"},{"$f":"IF('2.Logbook'!F60=\"\",\"\",'2.Logbook'!F60)","v":28},{"$f":"IF('2.Logbook'!G60=\"\",\"\",'2.Logbook'!G60)","v":"1900-07-14"},{"$f":"IF('2.Logbook'!H60=\"\",\"\",'2.Logbook'!H60)","v":15},{"$f":"IF('2.Logbook'!I60=\"\",\"\",'2.Logbook'!I60)","v":""},{"$f":"IF('2.Logbook'!J60=\"\",\"\",'2.Logbook'!J60)","v":""},{"$f":"IF('2.Logbook'!K60=\"\",\"\",'2.Logbook'!K60)","v":""},{"$f":"IF('2.Logbook'!L60=\"\",\"\",'2.Logbook'!L60)","v":""},{"$f":"IF('2.Logbook'!M60=\"\",\"\",'2.Logbook'!M60)","v":""},{"$f":"IF('2.Logbook'!N60=\"\",\"\",'2.Logbook'!N60)","v":""},{"$f":"IF('2.Logbook'!O60=\"\",\"\",'2.Logbook'!O60)","v":""},{"$f":"IF('2.Logbook'!P60=\"\",\"\",'2.Logbook'!P60)","v":""},{"$f":"IF('2.Logbook'!Q60=\"\",\"\",'2.Logbook'!Q60)","v":""},{"$f":"IF('2.Logbook'!R60=\"\",\"\",'2.Logbook'!R60)","v":""},{"$f":"IF('2.Logbook'!S60=\"\",\"\",'2.Logbook'!S60)","v":""},{"$f":"IF('2.Logbook'!T60=\"\",\"\",'2.Logbook'!T60)","v":""},{"$f":"IF('2.Logbook'!U60=\"\",\"\",'2.Logbook'!U60)","v":""},{"$f":"IF('2.Logbook'!V60=\"\",\"\",'2.Logbook'!V60)","v":""},{"$f":"IF('2.Logbook'!W60=\"\",\"\",'2.Logbook'!W60)","v":""},{"$f":"IF('2.Logbook'!X60=\"\",\"\",'2.Logbook'!X60)","v":""},{"$f":"IF('2.Logbook'!Y60=\"\",\"\",'2.Logbook'!Y60)","v":""},{"$f":"IF('2.Logbook'!Z60=\"\",\"\",'2.Logbook'!Z60)","v":""},{"$f":"IF('2.Logbook'!AA60=\"\",\"\",'2.Logbook'!AA60)","v":""},{"$f":"IF('2.Logbook'!AB60=\"\",\"\",'2.Logbook'!AB60)","v":""},{"$f":"IF('2.Logbook'!AC60=\"\",\"\",'2.Logbook'!AC60)","v":""},{"$f":"IF('2.Logbook'!AD60=\"\",\"\",'2.Logbook'!AD60)","v":""},{"$f":"IF('2.Logbook'!AE60=\"\",\"\",'2.Logbook'!AE60)","v":""},{"$f":"IF('2.Logbook'!AF60=\"\",\"\",'2.Logbook'!AF60)","v":""},{"$f":"IF('2.Logbook'!AG60=\"\",\"\",'2.Logbook'!AG60)","v":""}]
[{"$f":"IF('2.Logbook'!A61=\"\",\"\",'2.Logbook'!A61)","v":"2020-06-09"},{"$f":"IF('2.Logbook'!B61=\"\",\"\",'2.Logbook'!B61)","v":"12:00:00"},{"$f":"IF('2.Logbook'!C61=\"\",\"\",'2.Logbook'!C61)","v":"0°52N"},{"$f":"IF('2.Logbook'!D61=\"\",\"\",'2.Logbook'!D61)","v":"1°38W"},{"$f":"IF('2.Logbook'!E61=\"\",\"\",'2.Logbook'!E61)","v":"Eaux internationales"},{"$f":"IF('2.Logbook'!F61=\"\",\"\",'2.Logbook'!F61)","v":28},{"$f":"IF('2.Logbook'!G61=\"\",\"\",'2.Logbook'!G61)","v":"1900-06-15"},{"$f":"IF('2.Logbook'!H61=\"\",\"\",'2.Logbook'!H61)","v":15},{"$f":"IF('2.Logbook'!I61=\"\",\"\",'2.Logbook'!I61)","v":""},{"$f":"IF('2.Logbook'!J61=\"\",\"\",'2.Logbook'!J61)","v":""},{"$f":"IF('2.Logbook'!K61=\"\",\"\",'2.Logbook'!K61)","v":""},{"$f":"IF('2.Logbook'!L61=\"\",\"\",'2.Logbook'!L61)","v":""},{"$f":"IF('2.Logbook'!M61=\"\",\"\",'2.Logbook'!M61)","v":""},{"$f":"IF('2.Logbook'!N61=\"\",\"\",'2.Logbook'!N61)","v":""},{"$f":"IF('2.Logbook'!O61=\"\",\"\",'2.Logbook'!O61)","v":""},{"$f":"IF('2.Logbook'!P61=\"\",\"\",'2.Logbook'!P61)","v":""},{"$f":"IF('2.Logbook'!Q61=\"\",\"\",'2.Logbook'!Q61)","v":""},{"$f":"IF('2.Logbook'!R61=\"\",\"\",'2.Logbook'!R61)","v":""},{"$f":"IF('2.Logbook'!S61=\"\",\"\",'2.Logbook'!S61)","v":""},{"$f":"IF('2.Logbook'!T61=\"\",\"\",'2.Logbook'!T61)","v":""},{"$f":"IF('2.Logbook'!U61=\"\",\"\",'2.Logbook'!U61)","v":""},{"$f":"IF('2.Logbook'!V61=\"\",\"\",'2.Logbook'!V61)","v":""},{"$f":"IF('2.Logbook'!W61=\"\",\"\",'2.Logbook'!W61)","v":""},{"$f":"IF('2.Logbook'!X61=\"\",\"\",'2.Logbook'!X61)","v":""},{"$f":"IF('2.Logbook'!Y61=\"\",\"\",'2.Logbook'!Y61)","v":""},{"$f":"IF('2.Logbook'!Z61=\"\",\"\",'2.Logbook'!Z61)","v":""},{"$f":"IF('2.Logbook'!AA61=\"\",\"\",'2.Logbook'!AA61)","v":""},{"$f":"IF('2.Logbook'!AB61=\"\",\"\",'2.Logbook'!AB61)","v":""},{"$f":"IF('2.Logbook'!AC61=\"\",\"\",'2.Logbook'!AC61)","v":""},{"$f":"IF('2.Logbook'!AD61=\"\",\"\",'2.Logbook'!AD61)","v":""},{"$f":"IF('2.Logbook'!AE61=\"\",\"\",'2.Logbook'!AE61)","v":""},{"$f":"IF('2.Logbook'!AF61=\"\",\"\",'2.Logbook'!AF61)","v":""},{"$f":"IF('2.Logbook'!AG61=\"\",\"\",'2.Logbook'!AG61)","v":""}]
[{"$f":"IF('2.Logbook'!A62=\"\",\"\",'2.Logbook'!A62)","v":"2020-06-10"},{"$f":"IF('2.Logbook'!B62=\"\",\"\",'2.Logbook'!B62)","v":"12:00:00"},{"$f":"IF('2.Logbook'!C62=\"\",\"\",'2.Logbook'!C62)","v":"1°26N"},{"$f":"IF('2.Logbook'!D62=\"\",\"\",'2.Logbook'!D62)","v":"5°07W"},{"$f":"IF('2.Logbook'!E62=\"\",\"\",'2.Logbook'!E62)","v":"Eaux internationales"},{"$f":"IF('2.Logbook'!F62=\"\",\"\",'2.Logbook'!F62)","v":29},{"$f":"IF('2.Logbook'!G62=\"\",\"\",'2.Logbook'!G62)","v":"1900-05-27"},{"$f":"IF('2.Logbook'!H62=\"\",\"\",'2.Logbook'!H62)","v":20},{"$f":"IF('2.Logbook'!I62=\"\",\"\",'2.Logbook'!I62)","v":""},{"$f":"IF('2.Logbook'!J62=\"\",\"\",'2.Logbook'!J62)","v":""},{"$f":"IF('2.Logbook'!K62=\"\",\"\",'2.Logbook'!K62)","v":""},{"$f":"IF('2.Logbook'!L62=\"\",\"\",'2.Logbook'!L62)","v":""},{"$f":"IF('2.Logbook'!M62=\"\",\"\",'2.Logbook'!M62)","v":""},{"$f":"IF('2.Logbook'!N62=\"\",\"\",'2.Logbook'!N62)","v":""},{"$f":"IF('2.Logbook'!O62=\"\",\"\",'2.Logbook'!O62)","v":""},{"$f":"IF('2.Logbook'!P62=\"\",\"\",'2.Logbook'!P62)","v":""},{"$f":"IF('2.Logbook'!Q62=\"\",\"\",'2.Logbook'!Q62)","v":""},{"$f":"IF('2.Logbook'!R62=\"\",\"\",'2.Logbook'!R62)","v":""},{"$f":"IF('2.Logbook'!S62=\"\",\"\",'2.Logbook'!S62)","v":""},{"$f":"IF('2.Logbook'!T62=\"\",\"\",'2.Logbook'!T62)","v":""},{"$f":"IF('2.Logbook'!U62=\"\",\"\",'2.Logbook'!U62)","v":""},{"$f":"IF('2.Logbook'!V62=\"\",\"\",'2.Logbook'!V62)","v":""},{"$f":"IF('2.Logbook'!W62=\"\",\"\",'2.Logbook'!W62)","v":""},{"$f":"IF('2.Logbook'!X62=\"\",\"\",'2.Logbook'!X62)","v":""},{"$f":"IF('2.Logbook'!Y62=\"\",\"\",'2.Logbook'!Y62)","v":""},{"$f":"IF('2.Logbook'!Z62=\"\",\"\",'2.Logbook'!Z62)","v":""},{"$f":"IF('2.Logbook'!AA62=\"\",\"\",'2.Logbook'!AA62)","v":""},{"$f":"IF('2.Logbook'!AB62=\"\",\"\",'2.Logbook'!AB62)","v":""},{"$f":"IF('2.Logbook'!AC62=\"\",\"\",'2.Logbook'!AC62)","v":""},{"$f":"IF('2.Logbook'!AD62=\"\",\"\",'2.Logbook'!AD62)","v":""},{"$f":"IF('2.Logbook'!AE62=\"\",\"\",'2.Logbook'!AE62)","v":""},{"$f":"IF('2.Logbook'!AF62=\"\",\"\",'2.Logbook'!AF62)","v":""},{"$f":"IF('2.Logbook'!AG62=\"\",\"\",'2.Logbook'!AG62)","v":""}]
[{"$f":"IF('2.Logbook'!A63=\"\",\"\",'2.Logbook'!A63)","v":"2020-06-11"},{"$f":"IF('2.Logbook'!B63=\"\",\"\",'2.Logbook'!B63)","v":"03:30:00"},{"$f":"IF('2.Logbook'!C63=\"\",\"\",'2.Logbook'!C63)","v":"4°42 N"},{"$f":"IF('2.Logbook'!D63=\"\",\"\",'2.Logbook'!D63)","v":"3°52 W"},{"$f":"IF('2.Logbook'!E63=\"\",\"\",'2.Logbook'!E63)","v":"Côte d'Ivoire"},{"$f":"IF('2.Logbook'!F63=\"\",\"\",'2.Logbook'!F63)","v":28},{"$f":"IF('2.Logbook'!G63=\"\",\"\",'2.Logbook'!G63)","v":"1900-09-11"},{"$f":"IF('2.Logbook'!H63=\"\",\"\",'2.Logbook'!H63)","v":15},{"$f":"IF('2.Logbook'!I63=\"\",\"\",'2.Logbook'!I63)","v":""},{"$f":"IF('2.Logbook'!J63=\"\",\"\",'2.Logbook'!J63)","v":""},{"$f":"IF('2.Logbook'!K63=\"\",\"\",'2.Logbook'!K63)","v":""},{"$f":"IF('2.Logbook'!L63=\"\",\"\",'2.Logbook'!L63)","v":""},{"$f":"IF('2.Logbook'!M63=\"\",\"\",'2.Logbook'!M63)","v":""},{"$f":"IF('2.Logbook'!N63=\"\",\"\",'2.Logbook'!N63)","v":""},{"$f":"IF('2.Logbook'!O63=\"\",\"\",'2.Logbook'!O63)","v":""},{"$f":"IF('2.Logbook'!P63=\"\",\"\",'2.Logbook'!P63)","v":""},{"$f":"IF('2.Logbook'!Q63=\"\",\"\",'2.Logbook'!Q63)","v":""},{"$f":"IF('2.Logbook'!R63=\"\",\"\",'2.Logbook'!R63)","v":""},{"$f":"IF('2.Logbook'!S63=\"\",\"\",'2.Logbook'!S63)","v":""},{"$f":"IF('2.Logbook'!T63=\"\",\"\",'2.Logbook'!T63)","v":""},{"$f":"IF('2.Logbook'!U63=\"\",\"\",'2.Logbook'!U63)","v":""},{"$f":"IF('2.Logbook'!V63=\"\",\"\",'2.Logbook'!V63)","v":""},{"$f":"IF('2.Logbook'!W63=\"\",\"\",'2.Logbook'!W63)","v":""},{"$f":"IF('2.Logbook'!X63=\"\",\"\",'2.Logbook'!X63)","v":""},{"$f":"IF('2.Logbook'!Y63=\"\",\"\",'2.Logbook'!Y63)","v":""},{"$f":"IF('2.Logbook'!Z63=\"\",\"\",'2.Logbook'!Z63)","v":""},{"$f":"IF('2.Logbook'!AA63=\"\",\"\",'2.Logbook'!AA63)","v":""},{"$f":"IF('2.Logbook'!AB63=\"\",\"\",'2.Logbook'!AB63)","v":""},{"$f":"IF('2.Logbook'!AC63=\"\",\"\",'2.Logbook'!AC63)","v":""},{"$f":"IF('2.Logbook'!AD63=\"\",\"\",'2.Logbook'!AD63)","v":""},{"$f":"IF('2.Logbook'!AE63=\"\",\"\",'2.Logbook'!AE63)","v":""},{"$f":"IF('2.Logbook'!AF63=\"\",\"\",'2.Logbook'!AF63)","v":""},{"$f":"IF('2.Logbook'!AG63=\"\",\"\",'2.Logbook'!AG63)","v":""}]
[{"$f":"IF('2.Logbook'!A64=\"\",\"\",'2.Logbook'!A64)","v":"2020-06-11"},{"$f":"IF('2.Logbook'!B64=\"\",\"\",'2.Logbook'!B64)","v":"07:48:00"},{"$f":"IF('2.Logbook'!C64=\"\",\"\",'2.Logbook'!C64)","v":""},{"$f":"IF('2.Logbook'!D64=\"\",\"\",'2.Logbook'!D64)","v":""},{"$f":"IF('2.Logbook'!E64=\"\",\"\",'2.Logbook'!E64)","v":""},{"$f":"IF('2.Logbook'!F64=\"\",\"\",'2.Logbook'!F64)","v":""},{"$f":"IF('2.Logbook'!G64=\"\",\"\",'2.Logbook'!G64)","v":""},{"$f":"IF('2.Logbook'!H64=\"\",\"\",'2.Logbook'!H64)","v":""},{"$f":"IF('2.Logbook'!I64=\"\",\"\",'2.Logbook'!I64)","v":""},{"$f":"IF('2.Logbook'!J64=\"\",\"\",'2.Logbook'!J64)","v":""},{"$f":"IF('2.Logbook'!K64=\"\",\"\",'2.Logbook'!K64)","v":""},{"$f":"IF('2.Logbook'!L64=\"\",\"\",'2.Logbook'!L64)","v":""},{"$f":"IF('2.Logbook'!M64=\"\",\"\",'2.Logbook'!M64)","v":""},{"$f":"IF('2.Logbook'!N64=\"\",\"\",'2.Logbook'!N64)","v":""},{"$f":"IF('2.Logbook'!O64=\"\",\"\",'2.Logbook'!O64)","v":""},{"$f":"IF('2.Logbook'!P64=\"\",\"\",'2.Logbook'!P64)","v":""},{"$f":"IF('2.Logbook'!Q64=\"\",\"\",'2.Logbook'!Q64)","v":""},{"$f":"IF('2.Logbook'!R64=\"\",\"\",'2.Logbook'!R64)","v":""},{"$f":"IF('2.Logbook'!S64=\"\",\"\",'2.Logbook'!S64)","v":""},{"$f":"IF('2.Logbook'!T64=\"\",\"\",'2.Logbook'!T64)","v":""},{"$f":"IF('2.Logbook'!U64=\"\",\"\",'2.Logbook'!U64)","v":""},{"$f":"IF('2.Logbook'!V64=\"\",\"\",'2.Logbook'!V64)","v":""},{"$f":"IF('2.Logbook'!W64=\"\",\"\",'2.Logbook'!W64)","v":""},{"$f":"IF('2.Logbook'!X64=\"\",\"\",'2.Logbook'!X64)","v":""},{"$f":"IF('2.Logbook'!Y64=\"\",\"\",'2.Logbook'!Y64)","v":""},{"$f":"IF('2.Logbook'!Z64=\"\",\"\",'2.Logbook'!Z64)","v":""},{"$f":"IF('2.Logbook'!AA64=\"\",\"\",'2.Logbook'!AA64)","v":""},{"$f":"IF('2.Logbook'!AB64=\"\",\"\",'2.Logbook'!AB64)","v":""},{"$f":"IF('2.Logbook'!AC64=\"\",\"\",'2.Logbook'!AC64)","v":""},{"$f":"IF('2.Logbook'!AD64=\"\",\"\",'2.Logbook'!AD64)","v":""},{"$f":"IF('2.Logbook'!AE64=\"\",\"\",'2.Logbook'!AE64)","v":""},{"$f":"IF('2.Logbook'!AF64=\"\",\"\",'2.Logbook'!AF64)","v":""},{"$f":"IF('2.Logbook'!AG64=\"\",\"\",'2.Logbook'!AG64)","v":""}]
[{"$f":"IF('2.Logbook'!A65=\"\",\"\",'2.Logbook'!A65)","v":"2020-06-11"},{"$f":"IF('2.Logbook'!B65=\"\",\"\",'2.Logbook'!B65)","v":"14:43:00"},{"$f":"IF('2.Logbook'!C65=\"\",\"\",'2.Logbook'!C65)","v":""},{"$f":"IF('2.Logbook'!D65=\"\",\"\",'2.Logbook'!D65)","v":""},{"$f":"IF('2.Logbook'!E65=\"\",\"\",'2.Logbook'!E65)","v":""},{"$f":"IF('2.Logbook'!F65=\"\",\"\",'2.Logbook'!F65)","v":""},{"$f":"IF('2.Logbook'!G65=\"\",\"\",'2.Logbook'!G65)","v":""},{"$f":"IF('2.Logbook'!H65=\"\",\"\",'2.Logbook'!H65)","v":""},{"$f":"IF('2.Logbook'!I65=\"\",\"\",'2.Logbook'!I65)","v":""},{"$f":"IF('2.Logbook'!J65=\"\",\"\",'2.Logbook'!J65)","v":""},{"$f":"IF('2.Logbook'!K65=\"\",\"\",'2.Logbook'!K65)","v":""},{"$f":"IF('2.Logbook'!L65=\"\",\"\",'2.Logbook'!L65)","v":""},{"$f":"IF('2.Logbook'!M65=\"\",\"\",'2.Logbook'!M65)","v":""},{"$f":"IF('2.Logbook'!N65=\"\",\"\",'2.Logbook'!N65)","v":""},{"$f":"IF('2.Logbook'!O65=\"\",\"\",'2.Logbook'!O65)","v":""},{"$f":"IF('2.Logbook'!P65=\"\",\"\",'2.Logbook'!P65)","v":""},{"$f":"IF('2.Logbook'!Q65=\"\",\"\",'2.Logbook'!Q65)","v":""},{"$f":"IF('2.Logbook'!R65=\"\",\"\",'2.Logbook'!R65)","v":""},{"$f":"IF('2.Logbook'!S65=\"\",\"\",'2.Logbook'!S65)","v":""},{"$f":"IF('2.Logbook'!T65=\"\",\"\",'2.Logbook'!T65)","v":""},{"$f":"IF('2.Logbook'!U65=\"\",\"\",'2.Logbook'!U65)","v":""},{"$f":"IF('2.Logbook'!V65=\"\",\"\",'2.Logbook'!V65)","v":""},{"$f":"IF('2.Logbook'!W65=\"\",\"\",'2.Logbook'!W65)","v":""},{"$f":"IF('2.Logbook'!X65=\"\",\"\",'2.Logbook'!X65)","v":""},{"$f":"IF('2.Logbook'!Y65=\"\",\"\",'2.Logbook'!Y65)","v":""},{"$f":"IF('2.Logbook'!Z65=\"\",\"\",'2.Logbook'!Z65)","v":""},{"$f":"IF('2.Logbook'!AA65=\"\",\"\",'2.Logbook'!AA65)","v":""},{"$f":"IF('2.Logbook'!AB65=\"\",\"\",'2.Logbook'!AB65)","v":""},{"$f":"IF('2.Logbook'!AC65=\"\",\"\",'2.Logbook'!AC65)","v":""},{"$f":"IF('2.Logbook'!AD65=\"\",\"\",'2.Logbook'!AD65)","v":""},{"$f":"IF('2.Logbook'!AE65=\"\",\"\",'2.Logbook'!AE65)","v":""},{"$f":"IF('2.Logbook'!AF65=\"\",\"\",'2.Logbook'!AF65)","v":""},{"$f":"IF('2.Logbook'!AG65=\"\",\"\",'2.Logbook'!AG65)","v":""}]
[{"$f":"IF('2.Logbook'!A66=\"\",\"\",'2.Logbook'!A66)","v":"2020-06-12"},{"$f":"IF('2.Logbook'!B66=\"\",\"\",'2.Logbook'!B66)","v":"12;00"},{"$f":"IF('2.Logbook'!C66=\"\",\"\",'2.Logbook'!C66)","v":"1°34N"},{"$f":"IF('2.Logbook'!D66=\"\",\"\",'2.Logbook'!D66)","v":"0°34W"},{"$f":"IF('2.Logbook'!E66=\"\",\"\",'2.Logbook'!E66)","v":"Eaux internationales"},{"$f":"IF('2.Logbook'!F66=\"\",\"\",'2.Logbook'!F66)","v":""},{"$f":"IF('2.Logbook'!G66=\"\",\"\",'2.Logbook'!G66)","v":""},{"$f":"IF('2.Logbook'!H66=\"\",\"\",'2.Logbook'!H66)","v":""},{"$f":"IF('2.Logbook'!I66=\"\",\"\",'2.Logbook'!I66)","v":""},{"$f":"IF('2.Logbook'!J66=\"\",\"\",'2.Logbook'!J66)","v":""},{"$f":"IF('2.Logbook'!K66=\"\",\"\",'2.Logbook'!K66)","v":""},{"$f":"IF('2.Logbook'!L66=\"\",\"\",'2.Logbook'!L66)","v":""},{"$f":"IF('2.Logbook'!M66=\"\",\"\",'2.Logbook'!M66)","v":""},{"$f":"IF('2.Logbook'!N66=\"\",\"\",'2.Logbook'!N66)","v":""},{"$f":"IF('2.Logbook'!O66=\"\",\"\",'2.Logbook'!O66)","v":""},{"$f":"IF('2.Logbook'!P66=\"\",\"\",'2.Logbook'!P66)","v":""},{"$f":"IF('2.Logbook'!Q66=\"\",\"\",'2.Logbook'!Q66)","v":""},{"$f":"IF('2.Logbook'!R66=\"\",\"\",'2.Logbook'!R66)","v":""},{"$f":"IF('2.Logbook'!S66=\"\",\"\",'2.Logbook'!S66)","v":""},{"$f":"IF('2.Logbook'!T66=\"\",\"\",'2.Logbook'!T66)","v":""},{"$f":"IF('2.Logbook'!U66=\"\",\"\",'2.Logbook'!U66)","v":""},{"$f":"IF('2.Logbook'!V66=\"\",\"\",'2.Logbook'!V66)","v":""},{"$f":"IF('2.Logbook'!W66=\"\",\"\",'2.Logbook'!W66)","v":""},{"$f":"IF('2.Logbook'!X66=\"\",\"\",'2.Logbook'!X66)","v":""},{"$f":"IF('2.Logbook'!Y66=\"\",\"\",'2.Logbook'!Y66)","v":""},{"$f":"IF('2.Logbook'!Z66=\"\",\"\",'2.Logbook'!Z66)","v":""},{"$f":"IF('2.Logbook'!AA66=\"\",\"\",'2.Logbook'!AA66)","v":""},{"$f":"IF('2.Logbook'!AB66=\"\",\"\",'2.Logbook'!AB66)","v":""},{"$f":"IF('2.Logbook'!AC66=\"\",\"\",'2.Logbook'!AC66)","v":""},{"$f":"IF('2.Logbook'!AD66=\"\",\"\",'2.Logbook'!AD66)","v":""},{"$f":"IF('2.Logbook'!AE66=\"\",\"\",'2.Logbook'!AE66)","v":""},{"$f":"IF('2.Logbook'!AF66=\"\",\"\",'2.Logbook'!AF66)","v":""},{"$f":"IF('2.Logbook'!AG66=\"\",\"\",'2.Logbook'!AG66)","v":""}]
[{"$f":"IF('2.Logbook'!A67=\"\",\"\",'2.Logbook'!A67)","v":"1°3/06/2020"},{"$f":"IF('2.Logbook'!B67=\"\",\"\",'2.Logbook'!B67)","v":"07:20:00"},{"$f":"IF('2.Logbook'!C67=\"\",\"\",'2.Logbook'!C67)","v":"1°06 N"},{"$f":"IF('2.Logbook'!D67=\"\",\"\",'2.Logbook'!D67)","v":"3°16 E"},{"$f":"IF('2.Logbook'!E67=\"\",\"\",'2.Logbook'!E67)","v":"Eaux internationales"},{"$f":"IF('2.Logbook'!F67=\"\",\"\",'2.Logbook'!F67)","v":28},{"$f":"IF('2.Logbook'!G67=\"\",\"\",'2.Logbook'!G67)","v":"1900-05-29"},{"$f":"IF('2.Logbook'!H67=\"\",\"\",'2.Logbook'!H67)","v":25},{"$f":"IF('2.Logbook'!I67=\"\",\"\",'2.Logbook'!I67)","v":"1900-01-01"},{"$f":"IF('2.Logbook'!J67=\"\",\"\",'2.Logbook'!J67)","v":""},{"$f":"IF('2.Logbook'!K67=\"\",\"\",'2.Logbook'!K67)","v":"Banc Objet"},{"$f":"IF('2.Logbook'!L67=\"\",\"\",'2.Logbook'!L67)","v":""},{"$f":"IF('2.Logbook'!M67=\"\",\"\",'2.Logbook'!M67)","v":""},{"$f":"IF('2.Logbook'!N67=\"\",\"\",'2.Logbook'!N67)","v":""},{"$f":"IF('2.Logbook'!O67=\"\",\"\",'2.Logbook'!O67)","v":""},{"$f":"IF('2.Logbook'!P67=\"\",\"\",'2.Logbook'!P67)","v":"1,8 - 3,4 kg"},{"$f":"IF('2.Logbook'!Q67=\"\",\"\",'2.Logbook'!Q67)","v":"1900-01-26"},{"$f":"IF('2.Logbook'!R67=\"\",\"\",'2.Logbook'!R67)","v":""},{"$f":"IF('2.Logbook'!S67=\"\",\"\",'2.Logbook'!S67)","v":""},{"$f":"IF('2.Logbook'!T67=\"\",\"\",'2.Logbook'!T67)","v":"3,4 - 10 kg"},{"$f":"IF('2.Logbook'!U67=\"\",\"\",'2.Logbook'!U67)","v":"1900-01-04"},{"$f":"IF('2.Logbook'!V67=\"\",\"\",'2.Logbook'!V67)","v":""},{"$f":"IF('2.Logbook'!W67=\"\",\"\",'2.Logbook'!W67)","v":""},{"$f":"IF('2.Logbook'!X67=\"\",\"\",'2.Logbook'!X67)","v":""},{"$f":"IF('2.Logbook'!Y67=\"\",\"\",'2.Logbook'!Y67)","v":""},{"$f":"IF('2.Logbook'!Z67=\"\",\"\",'2.Logbook'!Z67)","v":""},{"$f":"IF('2.Logbook'!AA67=\"\",\"\",'2.Logbook'!AA67)","v":""},{"$f":"IF('2.Logbook'!AB67=\"\",\"\",'2.Logbook'!AB67)","v":""},{"$f":"IF('2.Logbook'!AC67=\"\",\"\",'2.Logbook'!AC67)","v":""},{"$f":"IF('2.Logbook'!AD67=\"\",\"\",'2.Logbook'!AD67)","v":""},{"$f":"IF('2.Logbook'!AE67=\"\",\"\",'2.Logbook'!AE67)","v":""},{"$f":"IF('2.Logbook'!AF67=\"\",\"\",'2.Logbook'!AF67)","v":""},{"$f":"IF('2.Logbook'!AG67=\"\",\"\",'2.Logbook'!AG67)","v":""}]
[{"$f":"IF('2.Logbook'!A68=\"\",\"\",'2.Logbook'!A68)","v":"2020-06-14"},{"$f":"IF('2.Logbook'!B68=\"\",\"\",'2.Logbook'!B68)","v":"10:35:00"},{"$f":"IF('2.Logbook'!C68=\"\",\"\",'2.Logbook'!C68)","v":"0°52 N"},{"$f":"IF('2.Logbook'!D68=\"\",\"\",'2.Logbook'!D68)","v":"4°35 E"},{"$f":"IF('2.Logbook'!E68=\"\",\"\",'2.Logbook'!E68)","v":"Sao Tome e Principe"},{"$f":"IF('2.Logbook'!F68=\"\",\"\",'2.Logbook'!F68)","v":28},{"$f":"IF('2.Logbook'!G68=\"\",\"\",'2.Logbook'!G68)","v":"1900-06-18"},{"$f":"IF('2.Logbook'!H68=\"\",\"\",'2.Logbook'!H68)","v":20},{"$f":"IF('2.Logbook'!I68=\"\",\"\",'2.Logbook'!I68)","v":"1900-01-01"},{"$f":"IF('2.Logbook'!J68=\"\",\"\",'2.Logbook'!J68)","v":""},{"$f":"IF('2.Logbook'!K68=\"\",\"\",'2.Logbook'!K68)","v":"Banc Objet"},{"$f":"IF('2.Logbook'!L68=\"\",\"\",'2.Logbook'!L68)","v":""},{"$f":"IF('2.Logbook'!M68=\"\",\"\",'2.Logbook'!M68)","v":""},{"$f":"IF('2.Logbook'!N68=\"\",\"\",'2.Logbook'!N68)","v":""},{"$f":"IF('2.Logbook'!O68=\"\",\"\",'2.Logbook'!O68)","v":""},{"$f":"IF('2.Logbook'!P68=\"\",\"\",'2.Logbook'!P68)","v":"< 1,8 kg"},{"$f":"IF('2.Logbook'!Q68=\"\",\"\",'2.Logbook'!Q68)","v":"1900-02-19"},{"$f":"IF('2.Logbook'!R68=\"\",\"\",'2.Logbook'!R68)","v":""},{"$f":"IF('2.Logbook'!S68=\"\",\"\",'2.Logbook'!S68)","v":""},{"$f":"IF('2.Logbook'!T68=\"\",\"\",'2.Logbook'!T68)","v":""},{"$f":"IF('2.Logbook'!U68=\"\",\"\",'2.Logbook'!U68)","v":""},{"$f":"IF('2.Logbook'!V68=\"\",\"\",'2.Logbook'!V68)","v":""},{"$f":"IF('2.Logbook'!W68=\"\",\"\",'2.Logbook'!W68)","v":""},{"$f":"IF('2.Logbook'!X68=\"\",\"\",'2.Logbook'!X68)","v":"banane"},{"$f":"IF('2.Logbook'!Y68=\"\",\"\",'2.Logbook'!Y68)","v":"1900-01-05"},{"$f":"IF('2.Logbook'!Z68=\"\",\"\",'2.Logbook'!Z68)","v":1},{"$f":"IF('2.Logbook'!AA68=\"\",\"\",'2.Logbook'!AA68)","v":""},{"$f":"IF('2.Logbook'!AB68=\"\",\"\",'2.Logbook'!AB68)","v":""},{"$f":"IF('2.Logbook'!AC68=\"\",\"\",'2.Logbook'!AC68)","v":""},{"$f":"IF('2.Logbook'!AD68=\"\",\"\",'2.Logbook'!AD68)","v":""},{"$f":"IF('2.Logbook'!AE68=\"\",\"\",'2.Logbook'!AE68)","v":""},{"$f":"IF('2.Logbook'!AF68=\"\",\"\",'2.Logbook'!AF68)","v":""},{"$f":"IF('2.Logbook'!AG68=\"\",\"\",'2.Logbook'!AG68)","v":""}]
[{"$f":"IF('2.Logbook'!A69=\"\",\"\",'2.Logbook'!A69)","v":""},{"$f":"IF('2.Logbook'!B69=\"\",\"\",'2.Logbook'!B69)","v":""},{"$f":"IF('2.Logbook'!C69=\"\",\"\",'2.Logbook'!C69)","v":""},{"$f":"IF('2.Logbook'!D69=\"\",\"\",'2.Logbook'!D69)","v":""},{"$f":"IF('2.Logbook'!E69=\"\",\"\",'2.Logbook'!E69)","v":""},{"$f":"IF('2.Logbook'!F69=\"\",\"\",'2.Logbook'!F69)","v":""},{"$f":"IF('2.Logbook'!G69=\"\",\"\",'2.Logbook'!G69)","v":""},{"$f":"IF('2.Logbook'!H69=\"\",\"\",'2.Logbook'!H69)","v":""},{"$f":"IF('2.Logbook'!I69=\"\",\"\",'2.Logbook'!I69)","v":""},{"$f":"IF('2.Logbook'!J69=\"\",\"\",'2.Logbook'!J69)","v":""},{"$f":"IF('2.Logbook'!K69=\"\",\"\",'2.Logbook'!K69)","v":""},{"$f":"IF('2.Logbook'!L69=\"\",\"\",'2.Logbook'!L69)","v":""},{"$f":"IF('2.Logbook'!M69=\"\",\"\",'2.Logbook'!M69)","v":""},{"$f":"IF('2.Logbook'!N69=\"\",\"\",'2.Logbook'!N69)","v":""},{"$f":"IF('2.Logbook'!O69=\"\",\"\",'2.Logbook'!O69)","v":""},{"$f":"IF('2.Logbook'!P69=\"\",\"\",'2.Logbook'!P69)","v":""},{"$f":"IF('2.Logbook'!Q69=\"\",\"\",'2.Logbook'!Q69)","v":""},{"$f":"IF('2.Logbook'!R69=\"\",\"\",'2.Logbook'!R69)","v":""},{"$f":"IF('2.Logbook'!S69=\"\",\"\",'2.Logbook'!S69)","v":""},{"$f":"IF('2.Logbook'!T69=\"\",\"\",'2.Logbook'!T69)","v":""},{"$f":"IF('2.Logbook'!U69=\"\",\"\",'2.Logbook'!U69)","v":""},{"$f":"IF('2.Logbook'!V69=\"\",\"\",'2.Logbook'!V69)","v":""},{"$f":"IF('2.Logbook'!W69=\"\",\"\",'2.Logbook'!W69)","v":""},{"$f":"IF('2.Logbook'!X69=\"\",\"\",'2.Logbook'!X69)","v":"ravil"},{"$f":"IF('2.Logbook'!Y69=\"\",\"\",'2.Logbook'!Y69)","v":"1900-01-01"},{"$f":"IF('2.Logbook'!Z69=\"\",\"\",'2.Logbook'!Z69)","v":1},{"$f":"IF('2.Logbook'!AA69=\"\",\"\",'2.Logbook'!AA69)","v":""},{"$f":"IF('2.Logbook'!AB69=\"\",\"\",'2.Logbook'!AB69)","v":""},{"$f":"IF('2.Logbook'!AC69=\"\",\"\",'2.Logbook'!AC69)","v":""},{"$f":"IF('2.Logbook'!AD69=\"\",\"\",'2.Logbook'!AD69)","v":""},{"$f":"IF('2.Logbook'!AE69=\"\",\"\",'2.Logbook'!AE69)","v":""},{"$f":"IF('2.Logbook'!AF69=\"\",\"\",'2.Logbook'!AF69)","v":""},{"$f":"IF('2.Logbook'!AG69=\"\",\"\",'2.Logbook'!AG69)","v":""}]
[{"$f":"IF('2.Logbook'!A70=\"\",\"\",'2.Logbook'!A70)","v":"2020-06-14"},{"$f":"IF('2.Logbook'!B70=\"\",\"\",'2.Logbook'!B70)","v":"17;30"},{"$f":"IF('2.Logbook'!C70=\"\",\"\",'2.Logbook'!C70)","v":"0°42N"},{"$f":"IF('2.Logbook'!D70=\"\",\"\",'2.Logbook'!D70)","v":"4°32E"},{"$f":"IF('2.Logbook'!E70=\"\",\"\",'2.Logbook'!E70)","v":"Sao Tome e Principe"},{"$f":"IF('2.Logbook'!F70=\"\",\"\",'2.Logbook'!F70)","v":27},{"$f":"IF('2.Logbook'!G70=\"\",\"\",'2.Logbook'!G70)","v":"1900-06-18"},{"$f":"IF('2.Logbook'!H70=\"\",\"\",'2.Logbook'!H70)","v":10},{"$f":"IF('2.Logbook'!I70=\"\",\"\",'2.Logbook'!I70)","v":""},{"$f":"IF('2.Logbook'!J70=\"\",\"\",'2.Logbook'!J70)","v":""},{"$f":"IF('2.Logbook'!K70=\"\",\"\",'2.Logbook'!K70)","v":""},{"$f":"IF('2.Logbook'!L70=\"\",\"\",'2.Logbook'!L70)","v":""},{"$f":"IF('2.Logbook'!M70=\"\",\"\",'2.Logbook'!M70)","v":""},{"$f":"IF('2.Logbook'!N70=\"\",\"\",'2.Logbook'!N70)","v":""},{"$f":"IF('2.Logbook'!O70=\"\",\"\",'2.Logbook'!O70)","v":""},{"$f":"IF('2.Logbook'!P70=\"\",\"\",'2.Logbook'!P70)","v":""},{"$f":"IF('2.Logbook'!Q70=\"\",\"\",'2.Logbook'!Q70)","v":""},{"$f":"IF('2.Logbook'!R70=\"\",\"\",'2.Logbook'!R70)","v":""},{"$f":"IF('2.Logbook'!S70=\"\",\"\",'2.Logbook'!S70)","v":""},{"$f":"IF('2.Logbook'!T70=\"\",\"\",'2.Logbook'!T70)","v":""},{"$f":"IF('2.Logbook'!U70=\"\",\"\",'2.Logbook'!U70)","v":""},{"$f":"IF('2.Logbook'!V70=\"\",\"\",'2.Logbook'!V70)","v":""},{"$f":"IF('2.Logbook'!W70=\"\",\"\",'2.Logbook'!W70)","v":""},{"$f":"IF('2.Logbook'!X70=\"\",\"\",'2.Logbook'!X70)","v":""},{"$f":"IF('2.Logbook'!Y70=\"\",\"\",'2.Logbook'!Y70)","v":""},{"$f":"IF('2.Logbook'!Z70=\"\",\"\",'2.Logbook'!Z70)","v":""},{"$f":"IF('2.Logbook'!AA70=\"\",\"\",'2.Logbook'!AA70)","v":""},{"$f":"IF('2.Logbook'!AB70=\"\",\"\",'2.Logbook'!AB70)","v":""},{"$f":"IF('2.Logbook'!AC70=\"\",\"\",'2.Logbook'!AC70)","v":""},{"$f":"IF('2.Logbook'!AD70=\"\",\"\",'2.Logbook'!AD70)","v":""},{"$f":"IF('2.Logbook'!AE70=\"\",\"\",'2.Logbook'!AE70)","v":""},{"$f":"IF('2.Logbook'!AF70=\"\",\"\",'2.Logbook'!AF70)","v":""},{"$f":"IF('2.Logbook'!AG70=\"\",\"\",'2.Logbook'!AG70)","v":""}]
[{"$f":"IF('2.Logbook'!A71=\"\",\"\",'2.Logbook'!A71)","v":"2020-06-15"},{"$f":"IF('2.Logbook'!B71=\"\",\"\",'2.Logbook'!B71)","v":"05:30:00"},{"$f":"IF('2.Logbook'!C71=\"\",\"\",'2.Logbook'!C71)","v":"0°23N"},{"$f":"IF('2.Logbook'!D71=\"\",\"\",'2.Logbook'!D71)","v":"4°36E"},{"$f":"IF('2.Logbook'!E71=\"\",\"\",'2.Logbook'!E71)","v":"Sao Tome e Principe"},{"$f":"IF('2.Logbook'!F71=\"\",\"\",'2.Logbook'!F71)","v":26},{"$f":"IF('2.Logbook'!G71=\"\",\"\",'2.Logbook'!G71)","v":"1900-07-03"},{"$f":"IF('2.Logbook'!H71=\"\",\"\",'2.Logbook'!H71)","v":5},{"$f":"IF('2.Logbook'!I71=\"\",\"\",'2.Logbook'!I71)","v":""},{"$f":"IF('2.Logbook'!J71=\"\",\"\",'2.Logbook'!J71)","v":""},{"$f":"IF('2.Logbook'!K71=\"\",\"\",'2.Logbook'!K71)","v":""},{"$f":"IF('2.Logbook'!L71=\"\",\"\",'2.Logbook'!L71)","v":""},{"$f":"IF('2.Logbook'!M71=\"\",\"\",'2.Logbook'!M71)","v":""},{"$f":"IF('2.Logbook'!N71=\"\",\"\",'2.Logbook'!N71)","v":""},{"$f":"IF('2.Logbook'!O71=\"\",\"\",'2.Logbook'!O71)","v":""},{"$f":"IF('2.Logbook'!P71=\"\",\"\",'2.Logbook'!P71)","v":""},{"$f":"IF('2.Logbook'!Q71=\"\",\"\",'2.Logbook'!Q71)","v":""},{"$f":"IF('2.Logbook'!R71=\"\",\"\",'2.Logbook'!R71)","v":""},{"$f":"IF('2.Logbook'!S71=\"\",\"\",'2.Logbook'!S71)","v":""},{"$f":"IF('2.Logbook'!T71=\"\",\"\",'2.Logbook'!T71)","v":""},{"$f":"IF('2.Logbook'!U71=\"\",\"\",'2.Logbook'!U71)","v":""},{"$f":"IF('2.Logbook'!V71=\"\",\"\",'2.Logbook'!V71)","v":""},{"$f":"IF('2.Logbook'!W71=\"\",\"\",'2.Logbook'!W71)","v":""},{"$f":"IF('2.Logbook'!X71=\"\",\"\",'2.Logbook'!X71)","v":""},{"$f":"IF('2.Logbook'!Y71=\"\",\"\",'2.Logbook'!Y71)","v":""},{"$f":"IF('2.Logbook'!Z71=\"\",\"\",'2.Logbook'!Z71)","v":""},{"$f":"IF('2.Logbook'!AA71=\"\",\"\",'2.Logbook'!AA71)","v":""},{"$f":"IF('2.Logbook'!AB71=\"\",\"\",'2.Logbook'!AB71)","v":""},{"$f":"IF('2.Logbook'!AC71=\"\",\"\",'2.Logbook'!AC71)","v":""},{"$f":"IF('2.Logbook'!AD71=\"\",\"\",'2.Logbook'!AD71)","v":""},{"$f":"IF('2.Logbook'!AE71=\"\",\"\",'2.Logbook'!AE71)","v":""},{"$f":"IF('2.Logbook'!AF71=\"\",\"\",'2.Logbook'!AF71)","v":""},{"$f":"IF('2.Logbook'!AG71=\"\",\"\",'2.Logbook'!AG71)","v":""}]
[{"$f":"IF('2.Logbook'!A72=\"\",\"\",'2.Logbook'!A72)","v":"2020-06-15"},{"$f":"IF('2.Logbook'!B72=\"\",\"\",'2.Logbook'!B72)","v":"16.32"},{"$f":"IF('2.Logbook'!C72=\"\",\"\",'2.Logbook'!C72)","v":"0°44 S"},{"$f":"IF('2.Logbook'!D72=\"\",\"\",'2.Logbook'!D72)","v":"6°10 E"},{"$f":"IF('2.Logbook'!E72=\"\",\"\",'2.Logbook'!E72)","v":"Sao Tome e Principe"},{"$f":"IF('2.Logbook'!F72=\"\",\"\",'2.Logbook'!F72)","v":26},{"$f":"IF('2.Logbook'!G72=\"\",\"\",'2.Logbook'!G72)","v":"1900-06-28"},{"$f":"IF('2.Logbook'!H72=\"\",\"\",'2.Logbook'!H72)","v":5},{"$f":"IF('2.Logbook'!I72=\"\",\"\",'2.Logbook'!I72)","v":""},{"$f":"IF('2.Logbook'!J72=\"\",\"\",'2.Logbook'!J72)","v":""},{"$f":"IF('2.Logbook'!K72=\"\",\"\",'2.Logbook'!K72)","v":""},{"$f":"IF('2.Logbook'!L72=\"\",\"\",'2.Logbook'!L72)","v":""},{"$f":"IF('2.Logbook'!M72=\"\",\"\",'2.Logbook'!M72)","v":""},{"$f":"IF('2.Logbook'!N72=\"\",\"\",'2.Logbook'!N72)","v":""},{"$f":"IF('2.Logbook'!O72=\"\",\"\",'2.Logbook'!O72)","v":""},{"$f":"IF('2.Logbook'!P72=\"\",\"\",'2.Logbook'!P72)","v":""},{"$f":"IF('2.Logbook'!Q72=\"\",\"\",'2.Logbook'!Q72)","v":""},{"$f":"IF('2.Logbook'!R72=\"\",\"\",'2.Logbook'!R72)","v":""},{"$f":"IF('2.Logbook'!S72=\"\",\"\",'2.Logbook'!S72)","v":""},{"$f":"IF('2.Logbook'!T72=\"\",\"\",'2.Logbook'!T72)","v":""},{"$f":"IF('2.Logbook'!U72=\"\",\"\",'2.Logbook'!U72)","v":""},{"$f":"IF('2.Logbook'!V72=\"\",\"\",'2.Logbook'!V72)","v":""},{"$f":"IF('2.Logbook'!W72=\"\",\"\",'2.Logbook'!W72)","v":""},{"$f":"IF('2.Logbook'!X72=\"\",\"\",'2.Logbook'!X72)","v":""},{"$f":"IF('2.Logbook'!Y72=\"\",\"\",'2.Logbook'!Y72)","v":""},{"$f":"IF('2.Logbook'!Z72=\"\",\"\",'2.Logbook'!Z72)","v":""},{"$f":"IF('2.Logbook'!AA72=\"\",\"\",'2.Logbook'!AA72)","v":""},{"$f":"IF('2.Logbook'!AB72=\"\",\"\",'2.Logbook'!AB72)","v":""},{"$f":"IF('2.Logbook'!AC72=\"\",\"\",'2.Logbook'!AC72)","v":""},{"$f":"IF('2.Logbook'!AD72=\"\",\"\",'2.Logbook'!AD72)","v":""},{"$f":"IF('2.Logbook'!AE72=\"\",\"\",'2.Logbook'!AE72)","v":""},{"$f":"IF('2.Logbook'!AF72=\"\",\"\",'2.Logbook'!AF72)","v":""},{"$f":"IF('2.Logbook'!AG72=\"\",\"\",'2.Logbook'!AG72)","v":""}]
[{"$f":"IF('2.Logbook'!A73=\"\",\"\",'2.Logbook'!A73)","v":"2020-06-16"},{"$f":"IF('2.Logbook'!B73=\"\",\"\",'2.Logbook'!B73)","v":"09:00:00"},{"$f":"IF('2.Logbook'!C73=\"\",\"\",'2.Logbook'!C73)","v":"4°33 S"},{"$f":"IF('2.Logbook'!D73=\"\",\"\",'2.Logbook'!D73)","v":"6°58 E "},{"$f":"IF('2.Logbook'!E73=\"\",\"\",'2.Logbook'!E73)","v":"Eaux internationales"},{"$f":"IF('2.Logbook'!F73=\"\",\"\",'2.Logbook'!F73)","v":24},{"$f":"IF('2.Logbook'!G73=\"\",\"\",'2.Logbook'!G73)","v":"1900-07-16"},{"$f":"IF('2.Logbook'!H73=\"\",\"\",'2.Logbook'!H73)","v":5},{"$f":"IF('2.Logbook'!I73=\"\",\"\",'2.Logbook'!I73)","v":""},{"$f":"IF('2.Logbook'!J73=\"\",\"\",'2.Logbook'!J73)","v":""},{"$f":"IF('2.Logbook'!K73=\"\",\"\",'2.Logbook'!K73)","v":""},{"$f":"IF('2.Logbook'!L73=\"\",\"\",'2.Logbook'!L73)","v":""},{"$f":"IF('2.Logbook'!M73=\"\",\"\",'2.Logbook'!M73)","v":""},{"$f":"IF('2.Logbook'!N73=\"\",\"\",'2.Logbook'!N73)","v":""},{"$f":"IF('2.Logbook'!O73=\"\",\"\",'2.Logbook'!O73)","v":""},{"$f":"IF('2.Logbook'!P73=\"\",\"\",'2.Logbook'!P73)","v":""},{"$f":"IF('2.Logbook'!Q73=\"\",\"\",'2.Logbook'!Q73)","v":""},{"$f":"IF('2.Logbook'!R73=\"\",\"\",'2.Logbook'!R73)","v":""},{"$f":"IF('2.Logbook'!S73=\"\",\"\",'2.Logbook'!S73)","v":""},{"$f":"IF('2.Logbook'!T73=\"\",\"\",'2.Logbook'!T73)","v":""},{"$f":"IF('2.Logbook'!U73=\"\",\"\",'2.Logbook'!U73)","v":""},{"$f":"IF('2.Logbook'!V73=\"\",\"\",'2.Logbook'!V73)","v":""},{"$f":"IF('2.Logbook'!W73=\"\",\"\",'2.Logbook'!W73)","v":""},{"$f":"IF('2.Logbook'!X73=\"\",\"\",'2.Logbook'!X73)","v":""},{"$f":"IF('2.Logbook'!Y73=\"\",\"\",'2.Logbook'!Y73)","v":""},{"$f":"IF('2.Logbook'!Z73=\"\",\"\",'2.Logbook'!Z73)","v":""},{"$f":"IF('2.Logbook'!AA73=\"\",\"\",'2.Logbook'!AA73)","v":""},{"$f":"IF('2.Logbook'!AB73=\"\",\"\",'2.Logbook'!AB73)","v":""},{"$f":"IF('2.Logbook'!AC73=\"\",\"\",'2.Logbook'!AC73)","v":""},{"$f":"IF('2.Logbook'!AD73=\"\",\"\",'2.Logbook'!AD73)","v":""},{"$f":"IF('2.Logbook'!AE73=\"\",\"\",'2.Logbook'!AE73)","v":""},{"$f":"IF('2.Logbook'!AF73=\"\",\"\",'2.Logbook'!AF73)","v":""},{"$f":"IF('2.Logbook'!AG73=\"\",\"\",'2.Logbook'!AG73)","v":""}]
[{"$f":"IF('2.Logbook'!A74=\"\",\"\",'2.Logbook'!A74)","v":"2020-06-17"},{"$f":"IF('2.Logbook'!B74=\"\",\"\",'2.Logbook'!B74)","v":"05:30:00"},{"$f":"IF('2.Logbook'!C74=\"\",\"\",'2.Logbook'!C74)","v":"5°51 S"},{"$f":"IF('2.Logbook'!D74=\"\",\"\",'2.Logbook'!D74)","v":"6°56 E"},{"$f":"IF('2.Logbook'!E74=\"\",\"\",'2.Logbook'!E74)","v":"Eaux internationales"},{"$f":"IF('2.Logbook'!F74=\"\",\"\",'2.Logbook'!F74)","v":24},{"$f":"IF('2.Logbook'!G74=\"\",\"\",'2.Logbook'!G74)","v":"1900-07-13"},{"$f":"IF('2.Logbook'!H74=\"\",\"\",'2.Logbook'!H74)","v":5},{"$f":"IF('2.Logbook'!I74=\"\",\"\",'2.Logbook'!I74)","v":""},{"$f":"IF('2.Logbook'!J74=\"\",\"\",'2.Logbook'!J74)","v":""},{"$f":"IF('2.Logbook'!K74=\"\",\"\",'2.Logbook'!K74)","v":""},{"$f":"IF('2.Logbook'!L74=\"\",\"\",'2.Logbook'!L74)","v":""},{"$f":"IF('2.Logbook'!M74=\"\",\"\",'2.Logbook'!M74)","v":""},{"$f":"IF('2.Logbook'!N74=\"\",\"\",'2.Logbook'!N74)","v":""},{"$f":"IF('2.Logbook'!O74=\"\",\"\",'2.Logbook'!O74)","v":""},{"$f":"IF('2.Logbook'!P74=\"\",\"\",'2.Logbook'!P74)","v":""},{"$f":"IF('2.Logbook'!Q74=\"\",\"\",'2.Logbook'!Q74)","v":""},{"$f":"IF('2.Logbook'!R74=\"\",\"\",'2.Logbook'!R74)","v":""},{"$f":"IF('2.Logbook'!S74=\"\",\"\",'2.Logbook'!S74)","v":""},{"$f":"IF('2.Logbook'!T74=\"\",\"\",'2.Logbook'!T74)","v":""},{"$f":"IF('2.Logbook'!U74=\"\",\"\",'2.Logbook'!U74)","v":""},{"$f":"IF('2.Logbook'!V74=\"\",\"\",'2.Logbook'!V74)","v":""},{"$f":"IF('2.Logbook'!W74=\"\",\"\",'2.Logbook'!W74)","v":""},{"$f":"IF('2.Logbook'!X74=\"\",\"\",'2.Logbook'!X74)","v":""},{"$f":"IF('2.Logbook'!Y74=\"\",\"\",'2.Logbook'!Y74)","v":""},{"$f":"IF('2.Logbook'!Z74=\"\",\"\",'2.Logbook'!Z74)","v":""},{"$f":"IF('2.Logbook'!AA74=\"\",\"\",'2.Logbook'!AA74)","v":""},{"$f":"IF('2.Logbook'!AB74=\"\",\"\",'2.Logbook'!AB74)","v":""},{"$f":"IF('2.Logbook'!AC74=\"\",\"\",'2.Logbook'!AC74)","v":""},{"$f":"IF('2.Logbook'!AD74=\"\",\"\",'2.Logbook'!AD74)","v":""},{"$f":"IF('2.Logbook'!AE74=\"\",\"\",'2.Logbook'!AE74)","v":""},{"$f":"IF('2.Logbook'!AF74=\"\",\"\",'2.Logbook'!AF74)","v":""},{"$f":"IF('2.Logbook'!AG74=\"\",\"\",'2.Logbook'!AG74)","v":""}]
[{"$f":"IF('2.Logbook'!A75=\"\",\"\",'2.Logbook'!A75)","v":"2020-06-18"},{"$f":"IF('2.Logbook'!B75=\"\",\"\",'2.Logbook'!B75)","v":"12:00:00"},{"$f":"IF('2.Logbook'!C75=\"\",\"\",'2.Logbook'!C75)","v":"5°18 S"},{"$f":"IF('2.Logbook'!D75=\"\",\"\",'2.Logbook'!D75)","v":"1°45 E"},{"$f":"IF('2.Logbook'!E75=\"\",\"\",'2.Logbook'!E75)","v":"Eaux internationales"},{"$f":"IF('2.Logbook'!F75=\"\",\"\",'2.Logbook'!F75)","v":25},{"$f":"IF('2.Logbook'!G75=\"\",\"\",'2.Logbook'!G75)","v":"1900-06-20"},{"$f":"IF('2.Logbook'!H75=\"\",\"\",'2.Logbook'!H75)","v":15},{"$f":"IF('2.Logbook'!I75=\"\",\"\",'2.Logbook'!I75)","v":""},{"$f":"IF('2.Logbook'!J75=\"\",\"\",'2.Logbook'!J75)","v":""},{"$f":"IF('2.Logbook'!K75=\"\",\"\",'2.Logbook'!K75)","v":""},{"$f":"IF('2.Logbook'!L75=\"\",\"\",'2.Logbook'!L75)","v":""},{"$f":"IF('2.Logbook'!M75=\"\",\"\",'2.Logbook'!M75)","v":""},{"$f":"IF('2.Logbook'!N75=\"\",\"\",'2.Logbook'!N75)","v":""},{"$f":"IF('2.Logbook'!O75=\"\",\"\",'2.Logbook'!O75)","v":""},{"$f":"IF('2.Logbook'!P75=\"\",\"\",'2.Logbook'!P75)","v":""},{"$f":"IF('2.Logbook'!Q75=\"\",\"\",'2.Logbook'!Q75)","v":""},{"$f":"IF('2.Logbook'!R75=\"\",\"\",'2.Logbook'!R75)","v":""},{"$f":"IF('2.Logbook'!S75=\"\",\"\",'2.Logbook'!S75)","v":""},{"$f":"IF('2.Logbook'!T75=\"\",\"\",'2.Logbook'!T75)","v":""},{"$f":"IF('2.Logbook'!U75=\"\",\"\",'2.Logbook'!U75)","v":""},{"$f":"IF('2.Logbook'!V75=\"\",\"\",'2.Logbook'!V75)","v":""},{"$f":"IF('2.Logbook'!W75=\"\",\"\",'2.Logbook'!W75)","v":""},{"$f":"IF('2.Logbook'!X75=\"\",\"\",'2.Logbook'!X75)","v":""},{"$f":"IF('2.Logbook'!Y75=\"\",\"\",'2.Logbook'!Y75)","v":""},{"$f":"IF('2.Logbook'!Z75=\"\",\"\",'2.Logbook'!Z75)","v":""},{"$f":"IF('2.Logbook'!AA75=\"\",\"\",'2.Logbook'!AA75)","v":""},{"$f":"IF('2.Logbook'!AB75=\"\",\"\",'2.Logbook'!AB75)","v":""},{"$f":"IF('2.Logbook'!AC75=\"\",\"\",'2.Logbook'!AC75)","v":""},{"$f":"IF('2.Logbook'!AD75=\"\",\"\",'2.Logbook'!AD75)","v":""},{"$f":"IF('2.Logbook'!AE75=\"\",\"\",'2.Logbook'!AE75)","v":""},{"$f":"IF('2.Logbook'!AF75=\"\",\"\",'2.Logbook'!AF75)","v":""},{"$f":"IF('2.Logbook'!AG75=\"\",\"\",'2.Logbook'!AG75)","v":""}]
[{"$f":"IF('2.Logbook'!A76=\"\",\"\",'2.Logbook'!A76)","v":"2020-06-19"},{"$f":"IF('2.Logbook'!B76=\"\",\"\",'2.Logbook'!B76)","v":"12:00:00"},{"$f":"IF('2.Logbook'!C76=\"\",\"\",'2.Logbook'!C76)","v":"5°24 S"},{"$f":"IF('2.Logbook'!D76=\"\",\"\",'2.Logbook'!D76)","v":"0°32 W"},{"$f":"IF('2.Logbook'!E76=\"\",\"\",'2.Logbook'!E76)","v":"Eaux internationales"},{"$f":"IF('2.Logbook'!F76=\"\",\"\",'2.Logbook'!F76)","v":26},{"$f":"IF('2.Logbook'!G76=\"\",\"\",'2.Logbook'!G76)","v":"1900-06-13"},{"$f":"IF('2.Logbook'!H76=\"\",\"\",'2.Logbook'!H76)","v":10},{"$f":"IF('2.Logbook'!I76=\"\",\"\",'2.Logbook'!I76)","v":""},{"$f":"IF('2.Logbook'!J76=\"\",\"\",'2.Logbook'!J76)","v":""},{"$f":"IF('2.Logbook'!K76=\"\",\"\",'2.Logbook'!K76)","v":""},{"$f":"IF('2.Logbook'!L76=\"\",\"\",'2.Logbook'!L76)","v":""},{"$f":"IF('2.Logbook'!M76=\"\",\"\",'2.Logbook'!M76)","v":""},{"$f":"IF('2.Logbook'!N76=\"\",\"\",'2.Logbook'!N76)","v":""},{"$f":"IF('2.Logbook'!O76=\"\",\"\",'2.Logbook'!O76)","v":""},{"$f":"IF('2.Logbook'!P76=\"\",\"\",'2.Logbook'!P76)","v":""},{"$f":"IF('2.Logbook'!Q76=\"\",\"\",'2.Logbook'!Q76)","v":""},{"$f":"IF('2.Logbook'!R76=\"\",\"\",'2.Logbook'!R76)","v":""},{"$f":"IF('2.Logbook'!S76=\"\",\"\",'2.Logbook'!S76)","v":""},{"$f":"IF('2.Logbook'!T76=\"\",\"\",'2.Logbook'!T76)","v":""},{"$f":"IF('2.Logbook'!U76=\"\",\"\",'2.Logbook'!U76)","v":""},{"$f":"IF('2.Logbook'!V76=\"\",\"\",'2.Logbook'!V76)","v":""},{"$f":"IF('2.Logbook'!W76=\"\",\"\",'2.Logbook'!W76)","v":""},{"$f":"IF('2.Logbook'!X76=\"\",\"\",'2.Logbook'!X76)","v":""},{"$f":"IF('2.Logbook'!Y76=\"\",\"\",'2.Logbook'!Y76)","v":""},{"$f":"IF('2.Logbook'!Z76=\"\",\"\",'2.Logbook'!Z76)","v":""},{"$f":"IF('2.Logbook'!AA76=\"\",\"\",'2.Logbook'!AA76)","v":""},{"$f":"IF('2.Logbook'!AB76=\"\",\"\",'2.Logbook'!AB76)","v":""},{"$f":"IF('2.Logbook'!AC76=\"\",\"\",'2.Logbook'!AC76)","v":""},{"$f":"IF('2.Logbook'!AD76=\"\",\"\",'2.Logbook'!AD76)","v":""},{"$f":"IF('2.Logbook'!AE76=\"\",\"\",'2.Logbook'!AE76)","v":""},{"$f":"IF('2.Logbook'!AF76=\"\",\"\",'2.Logbook'!AF76)","v":""},{"$f":"IF('2.Logbook'!AG76=\"\",\"\",'2.Logbook'!AG76)","v":""}]
[{"$f":"IF('2.Logbook'!A77=\"\",\"\",'2.Logbook'!A77)","v":"2020-06-20"},{"$f":"IF('2.Logbook'!B77=\"\",\"\",'2.Logbook'!B77)","v":"17:00:00"},{"$f":"IF('2.Logbook'!C77=\"\",\"\",'2.Logbook'!C77)","v":"2°05 S"},{"$f":"IF('2.Logbook'!D77=\"\",\"\",'2.Logbook'!D77)","v":"1°24 E "},{"$f":"IF('2.Logbook'!E77=\"\",\"\",'2.Logbook'!E77)","v":"Eaux internationales"},{"$f":"IF('2.Logbook'!F77=\"\",\"\",'2.Logbook'!F77)","v":24},{"$f":"IF('2.Logbook'!G77=\"\",\"\",'2.Logbook'!G77)","v":"1900-07-06"},{"$f":"IF('2.Logbook'!H77=\"\",\"\",'2.Logbook'!H77)","v":5},{"$f":"IF('2.Logbook'!I77=\"\",\"\",'2.Logbook'!I77)","v":""},{"$f":"IF('2.Logbook'!J77=\"\",\"\",'2.Logbook'!J77)","v":""},{"$f":"IF('2.Logbook'!K77=\"\",\"\",'2.Logbook'!K77)","v":""},{"$f":"IF('2.Logbook'!L77=\"\",\"\",'2.Logbook'!L77)","v":""},{"$f":"IF('2.Logbook'!M77=\"\",\"\",'2.Logbook'!M77)","v":""},{"$f":"IF('2.Logbook'!N77=\"\",\"\",'2.Logbook'!N77)","v":""},{"$f":"IF('2.Logbook'!O77=\"\",\"\",'2.Logbook'!O77)","v":""},{"$f":"IF('2.Logbook'!P77=\"\",\"\",'2.Logbook'!P77)","v":""},{"$f":"IF('2.Logbook'!Q77=\"\",\"\",'2.Logbook'!Q77)","v":""},{"$f":"IF('2.Logbook'!R77=\"\",\"\",'2.Logbook'!R77)","v":""},{"$f":"IF('2.Logbook'!S77=\"\",\"\",'2.Logbook'!S77)","v":""},{"$f":"IF('2.Logbook'!T77=\"\",\"\",'2.Logbook'!T77)","v":""},{"$f":"IF('2.Logbook'!U77=\"\",\"\",'2.Logbook'!U77)","v":""},{"$f":"IF('2.Logbook'!V77=\"\",\"\",'2.Logbook'!V77)","v":""},{"$f":"IF('2.Logbook'!W77=\"\",\"\",'2.Logbook'!W77)","v":""},{"$f":"IF('2.Logbook'!X77=\"\",\"\",'2.Logbook'!X77)","v":""},{"$f":"IF('2.Logbook'!Y77=\"\",\"\",'2.Logbook'!Y77)","v":""},{"$f":"IF('2.Logbook'!Z77=\"\",\"\",'2.Logbook'!Z77)","v":""},{"$f":"IF('2.Logbook'!AA77=\"\",\"\",'2.Logbook'!AA77)","v":""},{"$f":"IF('2.Logbook'!AB77=\"\",\"\",'2.Logbook'!AB77)","v":""},{"$f":"IF('2.Logbook'!AC77=\"\",\"\",'2.Logbook'!AC77)","v":""},{"$f":"IF('2.Logbook'!AD77=\"\",\"\",'2.Logbook'!AD77)","v":""},{"$f":"IF('2.Logbook'!AE77=\"\",\"\",'2.Logbook'!AE77)","v":""},{"$f":"IF('2.Logbook'!AF77=\"\",\"\",'2.Logbook'!AF77)","v":""},{"$f":"IF('2.Logbook'!AG77=\"\",\"\",'2.Logbook'!AG77)","v":""}]
[{"$f":"IF('2.Logbook'!A78=\"\",\"\",'2.Logbook'!A78)","v":"2020-06-21"},{"$f":"IF('2.Logbook'!B78=\"\",\"\",'2.Logbook'!B78)","v":"10:00:00"},{"$f":"IF('2.Logbook'!C78=\"\",\"\",'2.Logbook'!C78)","v":"00°54N"},{"$f":"IF('2.Logbook'!D78=\"\",\"\",'2.Logbook'!D78)","v":"3°53 E"},{"$f":"IF('2.Logbook'!E78=\"\",\"\",'2.Logbook'!E78)","v":"Sao Tome e Principe"},{"$f":"IF('2.Logbook'!F78=\"\",\"\",'2.Logbook'!F78)","v":27},{"$f":"IF('2.Logbook'!G78=\"\",\"\",'2.Logbook'!G78)","v":"1900-07-11"},{"$f":"IF('2.Logbook'!H78=\"\",\"\",'2.Logbook'!H78)","v":15},{"$f":"IF('2.Logbook'!I78=\"\",\"\",'2.Logbook'!I78)","v":""},{"$f":"IF('2.Logbook'!J78=\"\",\"\",'2.Logbook'!J78)","v":""},{"$f":"IF('2.Logbook'!K78=\"\",\"\",'2.Logbook'!K78)","v":""},{"$f":"IF('2.Logbook'!L78=\"\",\"\",'2.Logbook'!L78)","v":""},{"$f":"IF('2.Logbook'!M78=\"\",\"\",'2.Logbook'!M78)","v":""},{"$f":"IF('2.Logbook'!N78=\"\",\"\",'2.Logbook'!N78)","v":""},{"$f":"IF('2.Logbook'!O78=\"\",\"\",'2.Logbook'!O78)","v":""},{"$f":"IF('2.Logbook'!P78=\"\",\"\",'2.Logbook'!P78)","v":""},{"$f":"IF('2.Logbook'!Q78=\"\",\"\",'2.Logbook'!Q78)","v":""},{"$f":"IF('2.Logbook'!R78=\"\",\"\",'2.Logbook'!R78)","v":""},{"$f":"IF('2.Logbook'!S78=\"\",\"\",'2.Logbook'!S78)","v":""},{"$f":"IF('2.Logbook'!T78=\"\",\"\",'2.Logbook'!T78)","v":""},{"$f":"IF('2.Logbook'!U78=\"\",\"\",'2.Logbook'!U78)","v":""},{"$f":"IF('2.Logbook'!V78=\"\",\"\",'2.Logbook'!V78)","v":""},{"$f":"IF('2.Logbook'!W78=\"\",\"\",'2.Logbook'!W78)","v":""},{"$f":"IF('2.Logbook'!X78=\"\",\"\",'2.Logbook'!X78)","v":""},{"$f":"IF('2.Logbook'!Y78=\"\",\"\",'2.Logbook'!Y78)","v":""},{"$f":"IF('2.Logbook'!Z78=\"\",\"\",'2.Logbook'!Z78)","v":""},{"$f":"IF('2.Logbook'!AA78=\"\",\"\",'2.Logbook'!AA78)","v":""},{"$f":"IF('2.Logbook'!AB78=\"\",\"\",'2.Logbook'!AB78)","v":""},{"$f":"IF('2.Logbook'!AC78=\"\",\"\",'2.Logbook'!AC78)","v":""},{"$f":"IF('2.Logbook'!AD78=\"\",\"\",'2.Logbook'!AD78)","v":""},{"$f":"IF('2.Logbook'!AE78=\"\",\"\",'2.Logbook'!AE78)","v":""},{"$f":"IF('2.Logbook'!AF78=\"\",\"\",'2.Logbook'!AF78)","v":""},{"$f":"IF('2.Logbook'!AG78=\"\",\"\",'2.Logbook'!AG78)","v":""}]
[{"$f":"IF('2.Logbook'!A79=\"\",\"\",'2.Logbook'!A79)","v":"2020-06-22"},{"$f":"IF('2.Logbook'!B79=\"\",\"\",'2.Logbook'!B79)","v":"06:40:00"},{"$f":"IF('2.Logbook'!C79=\"\",\"\",'2.Logbook'!C79)","v":"0°49 N"},{"$f":"IF('2.Logbook'!D79=\"\",\"\",'2.Logbook'!D79)","v":"003°36 E"},{"$f":"IF('2.Logbook'!E79=\"\",\"\",'2.Logbook'!E79)","v":"Sao Tome e Principe"},{"$f":"IF('2.Logbook'!F79=\"\",\"\",'2.Logbook'!F79)","v":27},{"$f":"IF('2.Logbook'!G79=\"\",\"\",'2.Logbook'!G79)","v":"1900-07-03"},{"$f":"IF('2.Logbook'!H79=\"\",\"\",'2.Logbook'!H79)","v":10},{"$f":"IF('2.Logbook'!I79=\"\",\"\",'2.Logbook'!I79)","v":"1900-01-01"},{"$f":"IF('2.Logbook'!J79=\"\",\"\",'2.Logbook'!J79)","v":""},{"$f":"IF('2.Logbook'!K79=\"\",\"\",'2.Logbook'!K79)","v":"Banc Objet"},{"$f":"IF('2.Logbook'!L79=\"\",\"\",'2.Logbook'!L79)","v":""},{"$f":"IF('2.Logbook'!M79=\"\",\"\",'2.Logbook'!M79)","v":""},{"$f":"IF('2.Logbook'!N79=\"\",\"\",'2.Logbook'!N79)","v":"3,4 - 10 kg"},{"$f":"IF('2.Logbook'!O79=\"\",\"\",'2.Logbook'!O79)","v":"1900-01-01"},{"$f":"IF('2.Logbook'!P79=\"\",\"\",'2.Logbook'!P79)","v":"1,8 - 3,4 kg"},{"$f":"IF('2.Logbook'!Q79=\"\",\"\",'2.Logbook'!Q79)","v":"1900-02-19"},{"$f":"IF('2.Logbook'!R79=\"\",\"\",'2.Logbook'!R79)","v":""},{"$f":"IF('2.Logbook'!S79=\"\",\"\",'2.Logbook'!S79)","v":""},{"$f":"IF('2.Logbook'!T79=\"\",\"\",'2.Logbook'!T79)","v":"3,4 - 10 kg"},{"$f":"IF('2.Logbook'!U79=\"\",\"\",'2.Logbook'!U79)","v":"1900-01-05"},{"$f":"IF('2.Logbook'!V79=\"\",\"\",'2.Logbook'!V79)","v":""},{"$f":"IF('2.Logbook'!W79=\"\",\"\",'2.Logbook'!W79)","v":""},{"$f":"IF('2.Logbook'!X79=\"\",\"\",'2.Logbook'!X79)","v":"Marlin "},{"$f":"IF('2.Logbook'!Y79=\"\",\"\",'2.Logbook'!Y79)","v":"1900-04-09"},{"$f":"IF('2.Logbook'!Z79=\"\",\"\",'2.Logbook'!Z79)","v":"12:00:00"},{"$f":"IF('2.Logbook'!AA79=\"\",\"\",'2.Logbook'!AA79)","v":""},{"$f":"IF('2.Logbook'!AB79=\"\",\"\",'2.Logbook'!AB79)","v":""},{"$f":"IF('2.Logbook'!AC79=\"\",\"\",'2.Logbook'!AC79)","v":""},{"$f":"IF('2.Logbook'!AD79=\"\",\"\",'2.Logbook'!AD79)","v":""},{"$f":"IF('2.Logbook'!AE79=\"\",\"\",'2.Logbook'!AE79)","v":"1900-01-01"},{"$f":"IF('2.Logbook'!AF79=\"\",\"\",'2.Logbook'!AF79)","v":""},{"$f":"IF('2.Logbook'!AG79=\"\",\"\",'2.Logbook'!AG79)","v":""}]
[{"$f":"IF('2.Logbook'!A80=\"\",\"\",'2.Logbook'!A80)","v":"2020-06-22"},{"$f":"IF('2.Logbook'!B80=\"\",\"\",'2.Logbook'!B80)","v":"06:40:00"},{"$f":"IF('2.Logbook'!C80=\"\",\"\",'2.Logbook'!C80)","v":"0°49 N"},{"$f":"IF('2.Logbook'!D80=\"\",\"\",'2.Logbook'!D80)","v":"003°36 E"},{"$f":"IF('2.Logbook'!E80=\"\",\"\",'2.Logbook'!E80)","v":"Sao Tome e Principe"},{"$f":"IF('2.Logbook'!F80=\"\",\"\",'2.Logbook'!F80)","v":""},{"$f":"IF('2.Logbook'!G80=\"\",\"\",'2.Logbook'!G80)","v":""},{"$f":"IF('2.Logbook'!H80=\"\",\"\",'2.Logbook'!H80)","v":""},{"$f":"IF('2.Logbook'!I80=\"\",\"\",'2.Logbook'!I80)","v":""},{"$f":"IF('2.Logbook'!J80=\"\",\"\",'2.Logbook'!J80)","v":""},{"$f":"IF('2.Logbook'!K80=\"\",\"\",'2.Logbook'!K80)","v":""},{"$f":"IF('2.Logbook'!L80=\"\",\"\",'2.Logbook'!L80)","v":""},{"$f":"IF('2.Logbook'!M80=\"\",\"\",'2.Logbook'!M80)","v":""},{"$f":"IF('2.Logbook'!N80=\"\",\"\",'2.Logbook'!N80)","v":""},{"$f":"IF('2.Logbook'!O80=\"\",\"\",'2.Logbook'!O80)","v":""},{"$f":"IF('2.Logbook'!P80=\"\",\"\",'2.Logbook'!P80)","v":"< 1,8 kg"},{"$f":"IF('2.Logbook'!Q80=\"\",\"\",'2.Logbook'!Q80)","v":"1900-01-14"},{"$f":"IF('2.Logbook'!R80=\"\",\"\",'2.Logbook'!R80)","v":""},{"$f":"IF('2.Logbook'!S80=\"\",\"\",'2.Logbook'!S80)","v":""},{"$f":"IF('2.Logbook'!T80=\"\",\"\",'2.Logbook'!T80)","v":""},{"$f":"IF('2.Logbook'!U80=\"\",\"\",'2.Logbook'!U80)","v":""},{"$f":"IF('2.Logbook'!V80=\"\",\"\",'2.Logbook'!V80)","v":""},{"$f":"IF('2.Logbook'!W80=\"\",\"\",'2.Logbook'!W80)","v":""},{"$f":"IF('2.Logbook'!X80=\"\",\"\",'2.Logbook'!X80)","v":"ravil"},{"$f":"IF('2.Logbook'!Y80=\"\",\"\",'2.Logbook'!Y80)","v":"1900-01-01"},{"$f":"IF('2.Logbook'!Z80=\"\",\"\",'2.Logbook'!Z80)","v":1},{"$f":"IF('2.Logbook'!AA80=\"\",\"\",'2.Logbook'!AA80)","v":""},{"$f":"IF('2.Logbook'!AB80=\"\",\"\",'2.Logbook'!AB80)","v":""},{"$f":"IF('2.Logbook'!AC80=\"\",\"\",'2.Logbook'!AC80)","v":""},{"$f":"IF('2.Logbook'!AD80=\"\",\"\",'2.Logbook'!AD80)","v":""},{"$f":"IF('2.Logbook'!AE80=\"\",\"\",'2.Logbook'!AE80)","v":""},{"$f":"IF('2.Logbook'!AF80=\"\",\"\",'2.Logbook'!AF80)","v":""},{"$f":"IF('2.Logbook'!AG80=\"\",\"\",'2.Logbook'!AG80)","v":""}]
[{"$f":"IF('2.Logbook'!A81=\"\",\"\",'2.Logbook'!A81)","v":"2020-06-22"},{"$f":"IF('2.Logbook'!B81=\"\",\"\",'2.Logbook'!B81)","v":"12:30:00"},{"$f":"IF('2.Logbook'!C81=\"\",\"\",'2.Logbook'!C81)","v":"1°11 N"},{"$f":"IF('2.Logbook'!D81=\"\",\"\",'2.Logbook'!D81)","v":"3°24 E "},{"$f":"IF('2.Logbook'!E81=\"\",\"\",'2.Logbook'!E81)","v":"Sao Tome e Principe"},{"$f":"IF('2.Logbook'!F81=\"\",\"\",'2.Logbook'!F81)","v":27},{"$f":"IF('2.Logbook'!G81=\"\",\"\",'2.Logbook'!G81)","v":"1900-07-03"},{"$f":"IF('2.Logbook'!H81=\"\",\"\",'2.Logbook'!H81)","v":5},{"$f":"IF('2.Logbook'!I81=\"\",\"\",'2.Logbook'!I81)","v":""},{"$f":"IF('2.Logbook'!J81=\"\",\"\",'2.Logbook'!J81)","v":""},{"$f":"IF('2.Logbook'!K81=\"\",\"\",'2.Logbook'!K81)","v":""},{"$f":"IF('2.Logbook'!L81=\"\",\"\",'2.Logbook'!L81)","v":""},{"$f":"IF('2.Logbook'!M81=\"\",\"\",'2.Logbook'!M81)","v":""},{"$f":"IF('2.Logbook'!N81=\"\",\"\",'2.Logbook'!N81)","v":""},{"$f":"IF('2.Logbook'!O81=\"\",\"\",'2.Logbook'!O81)","v":""},{"$f":"IF('2.Logbook'!P81=\"\",\"\",'2.Logbook'!P81)","v":""},{"$f":"IF('2.Logbook'!Q81=\"\",\"\",'2.Logbook'!Q81)","v":""},{"$f":"IF('2.Logbook'!R81=\"\",\"\",'2.Logbook'!R81)","v":""},{"$f":"IF('2.Logbook'!S81=\"\",\"\",'2.Logbook'!S81)","v":""},{"$f":"IF('2.Logbook'!T81=\"\",\"\",'2.Logbook'!T81)","v":""},{"$f":"IF('2.Logbook'!U81=\"\",\"\",'2.Logbook'!U81)","v":""},{"$f":"IF('2.Logbook'!V81=\"\",\"\",'2.Logbook'!V81)","v":""},{"$f":"IF('2.Logbook'!W81=\"\",\"\",'2.Logbook'!W81)","v":""},{"$f":"IF('2.Logbook'!X81=\"\",\"\",'2.Logbook'!X81)","v":""},{"$f":"IF('2.Logbook'!Y81=\"\",\"\",'2.Logbook'!Y81)","v":""},{"$f":"IF('2.Logbook'!Z81=\"\",\"\",'2.Logbook'!Z81)","v":""},{"$f":"IF('2.Logbook'!AA81=\"\",\"\",'2.Logbook'!AA81)","v":""},{"$f":"IF('2.Logbook'!AB81=\"\",\"\",'2.Logbook'!AB81)","v":""},{"$f":"IF('2.Logbook'!AC81=\"\",\"\",'2.Logbook'!AC81)","v":""},{"$f":"IF('2.Logbook'!AD81=\"\",\"\",'2.Logbook'!AD81)","v":""},{"$f":"IF('2.Logbook'!AE81=\"\",\"\",'2.Logbook'!AE81)","v":""},{"$f":"IF('2.Logbook'!AF81=\"\",\"\",'2.Logbook'!AF81)","v":""},{"$f":"IF('2.Logbook'!AG81=\"\",\"\",'2.Logbook'!AG81)","v":""}]
[{"$f":"IF('2.Logbook'!A82=\"\",\"\",'2.Logbook'!A82)","v":"2020-06-22"},{"$f":"IF('2.Logbook'!B82=\"\",\"\",'2.Logbook'!B82)","v":"14:12:00"},{"$f":"IF('2.Logbook'!C82=\"\",\"\",'2.Logbook'!C82)","v":"1°17 N"},{"$f":"IF('2.Logbook'!D82=\"\",\"\",'2.Logbook'!D82)","v":"3°37 E "},{"$f":"IF('2.Logbook'!E82=\"\",\"\",'2.Logbook'!E82)","v":"Sao Tome e Principe"},{"$f":"IF('2.Logbook'!F82=\"\",\"\",'2.Logbook'!F82)","v":27},{"$f":"IF('2.Logbook'!G82=\"\",\"\",'2.Logbook'!G82)","v":"1900-07-03"},{"$f":"IF('2.Logbook'!H82=\"\",\"\",'2.Logbook'!H82)","v":5},{"$f":"IF('2.Logbook'!I82=\"\",\"\",'2.Logbook'!I82)","v":""},{"$f":"IF('2.Logbook'!J82=\"\",\"\",'2.Logbook'!J82)","v":""},{"$f":"IF('2.Logbook'!K82=\"\",\"\",'2.Logbook'!K82)","v":""},{"$f":"IF('2.Logbook'!L82=\"\",\"\",'2.Logbook'!L82)","v":""},{"$f":"IF('2.Logbook'!M82=\"\",\"\",'2.Logbook'!M82)","v":""},{"$f":"IF('2.Logbook'!N82=\"\",\"\",'2.Logbook'!N82)","v":""},{"$f":"IF('2.Logbook'!O82=\"\",\"\",'2.Logbook'!O82)","v":""},{"$f":"IF('2.Logbook'!P82=\"\",\"\",'2.Logbook'!P82)","v":""},{"$f":"IF('2.Logbook'!Q82=\"\",\"\",'2.Logbook'!Q82)","v":""},{"$f":"IF('2.Logbook'!R82=\"\",\"\",'2.Logbook'!R82)","v":""},{"$f":"IF('2.Logbook'!S82=\"\",\"\",'2.Logbook'!S82)","v":""},{"$f":"IF('2.Logbook'!T82=\"\",\"\",'2.Logbook'!T82)","v":""},{"$f":"IF('2.Logbook'!U82=\"\",\"\",'2.Logbook'!U82)","v":""},{"$f":"IF('2.Logbook'!V82=\"\",\"\",'2.Logbook'!V82)","v":""},{"$f":"IF('2.Logbook'!W82=\"\",\"\",'2.Logbook'!W82)","v":""},{"$f":"IF('2.Logbook'!X82=\"\",\"\",'2.Logbook'!X82)","v":""},{"$f":"IF('2.Logbook'!Y82=\"\",\"\",'2.Logbook'!Y82)","v":""},{"$f":"IF('2.Logbook'!Z82=\"\",\"\",'2.Logbook'!Z82)","v":""},{"$f":"IF('2.Logbook'!AA82=\"\",\"\",'2.Logbook'!AA82)","v":""},{"$f":"IF('2.Logbook'!AB82=\"\",\"\",'2.Logbook'!AB82)","v":""},{"$f":"IF('2.Logbook'!AC82=\"\",\"\",'2.Logbook'!AC82)","v":""},{"$f":"IF('2.Logbook'!AD82=\"\",\"\",'2.Logbook'!AD82)","v":""},{"$f":"IF('2.Logbook'!AE82=\"\",\"\",'2.Logbook'!AE82)","v":""},{"$f":"IF('2.Logbook'!AF82=\"\",\"\",'2.Logbook'!AF82)","v":""},{"$f":"IF('2.Logbook'!AG82=\"\",\"\",'2.Logbook'!AG82)","v":""}]
[{"$f":"IF('2.Logbook'!A83=\"\",\"\",'2.Logbook'!A83)","v":"2020-06-23"},{"$f":"IF('2.Logbook'!B83=\"\",\"\",'2.Logbook'!B83)","v":"07:35:00"},{"$f":"IF('2.Logbook'!C83=\"\",\"\",'2.Logbook'!C83)","v":"1°04 N"},{"$f":"IF('2.Logbook'!D83=\"\",\"\",'2.Logbook'!D83)","v":"3°45 E"},{"$f":"IF('2.Logbook'!E83=\"\",\"\",'2.Logbook'!E83)","v":"Sao Tome e Principe"},{"$f":"IF('2.Logbook'!F83=\"\",\"\",'2.Logbook'!F83)","v":27},{"$f":"IF('2.Logbook'!G83=\"\",\"\",'2.Logbook'!G83)","v":"1900-07-03"},{"$f":"IF('2.Logbook'!H83=\"\",\"\",'2.Logbook'!H83)","v":10},{"$f":"IF('2.Logbook'!I83=\"\",\"\",'2.Logbook'!I83)","v":"1900-01-01"},{"$f":"IF('2.Logbook'!J83=\"\",\"\",'2.Logbook'!J83)","v":""},{"$f":"IF('2.Logbook'!K83=\"\",\"\",'2.Logbook'!K83)","v":"Banc Objet"},{"$f":"IF('2.Logbook'!L83=\"\",\"\",'2.Logbook'!L83)","v":""},{"$f":"IF('2.Logbook'!M83=\"\",\"\",'2.Logbook'!M83)","v":""},{"$f":"IF('2.Logbook'!N83=\"\",\"\",'2.Logbook'!N83)","v":"1,8 - 3,4 kg"},{"$f":"IF('2.Logbook'!O83=\"\",\"\",'2.Logbook'!O83)","v":"1900-01-01"},{"$f":"IF('2.Logbook'!P83=\"\",\"\",'2.Logbook'!P83)","v":"1,8 - 3,4 kg"},{"$f":"IF('2.Logbook'!Q83=\"\",\"\",'2.Logbook'!Q83)","v":"1900-01-12"},{"$f":"IF('2.Logbook'!R83=\"\",\"\",'2.Logbook'!R83)","v":""},{"$f":"IF('2.Logbook'!S83=\"\",\"\",'2.Logbook'!S83)","v":""},{"$f":"IF('2.Logbook'!T83=\"\",\"\",'2.Logbook'!T83)","v":""},{"$f":"IF('2.Logbook'!U83=\"\",\"\",'2.Logbook'!U83)","v":""},{"$f":"IF('2.Logbook'!V83=\"\",\"\",'2.Logbook'!V83)","v":""},{"$f":"IF('2.Logbook'!W83=\"\",\"\",'2.Logbook'!W83)","v":""},{"$f":"IF('2.Logbook'!X83=\"\",\"\",'2.Logbook'!X83)","v":"banane"},{"$f":"IF('2.Logbook'!Y83=\"\",\"\",'2.Logbook'!Y83)","v":"1900-01-03"},{"$f":"IF('2.Logbook'!Z83=\"\",\"\",'2.Logbook'!Z83)","v":1},{"$f":"IF('2.Logbook'!AA83=\"\",\"\",'2.Logbook'!AA83)","v":""},{"$f":"IF('2.Logbook'!AB83=\"\",\"\",'2.Logbook'!AB83)","v":""},{"$f":"IF('2.Logbook'!AC83=\"\",\"\",'2.Logbook'!AC83)","v":""},{"$f":"IF('2.Logbook'!AD83=\"\",\"\",'2.Logbook'!AD83)","v":""},{"$f":"IF('2.Logbook'!AE83=\"\",\"\",'2.Logbook'!AE83)","v":"1900-01-01"},{"$f":"IF('2.Logbook'!AF83=\"\",\"\",'2.Logbook'!AF83)","v":""},{"$f":"IF('2.Logbook'!AG83=\"\",\"\",'2.Logbook'!AG83)","v":""}]
[{"$f":"IF('2.Logbook'!A84=\"\",\"\",'2.Logbook'!A84)","v":"2020-06-23"},{"$f":"IF('2.Logbook'!B84=\"\",\"\",'2.Logbook'!B84)","v":"07:35:00"},{"$f":"IF('2.Logbook'!C84=\"\",\"\",'2.Logbook'!C84)","v":"1°04 N"},{"$f":"IF('2.Logbook'!D84=\"\",\"\",'2.Logbook'!D84)","v":"3°45 E"},{"$f":"IF('2.Logbook'!E84=\"\",\"\",'2.Logbook'!E84)","v":"Sao Tome e Principe"},{"$f":"IF('2.Logbook'!F84=\"\",\"\",'2.Logbook'!F84)","v":""},{"$f":"IF('2.Logbook'!G84=\"\",\"\",'2.Logbook'!G84)","v":""},{"$f":"IF('2.Logbook'!H84=\"\",\"\",'2.Logbook'!H84)","v":""},{"$f":"IF('2.Logbook'!I84=\"\",\"\",'2.Logbook'!I84)","v":""},{"$f":"IF('2.Logbook'!J84=\"\",\"\",'2.Logbook'!J84)","v":""},{"$f":"IF('2.Logbook'!K84=\"\",\"\",'2.Logbook'!K84)","v":""},{"$f":"IF('2.Logbook'!L84=\"\",\"\",'2.Logbook'!L84)","v":""},{"$f":"IF('2.Logbook'!M84=\"\",\"\",'2.Logbook'!M84)","v":""},{"$f":"IF('2.Logbook'!N84=\"\",\"\",'2.Logbook'!N84)","v":""},{"$f":"IF('2.Logbook'!O84=\"\",\"\",'2.Logbook'!O84)","v":""},{"$f":"IF('2.Logbook'!P84=\"\",\"\",'2.Logbook'!P84)","v":"< 1,8 kg"},{"$f":"IF('2.Logbook'!Q84=\"\",\"\",'2.Logbook'!Q84)","v":"1900-01-05"},{"$f":"IF('2.Logbook'!R84=\"\",\"\",'2.Logbook'!R84)","v":""},{"$f":"IF('2.Logbook'!S84=\"\",\"\",'2.Logbook'!S84)","v":""},{"$f":"IF('2.Logbook'!T84=\"\",\"\",'2.Logbook'!T84)","v":""},{"$f":"IF('2.Logbook'!U84=\"\",\"\",'2.Logbook'!U84)","v":""},{"$f":"IF('2.Logbook'!V84=\"\",\"\",'2.Logbook'!V84)","v":""},{"$f":"IF('2.Logbook'!W84=\"\",\"\",'2.Logbook'!W84)","v":""},{"$f":"IF('2.Logbook'!X84=\"\",\"\",'2.Logbook'!X84)","v":""},{"$f":"IF('2.Logbook'!Y84=\"\",\"\",'2.Logbook'!Y84)","v":""},{"$f":"IF('2.Logbook'!Z84=\"\",\"\",'2.Logbook'!Z84)","v":""},{"$f":"IF('2.Logbook'!AA84=\"\",\"\",'2.Logbook'!AA84)","v":""},{"$f":"IF('2.Logbook'!AB84=\"\",\"\",'2.Logbook'!AB84)","v":""},{"$f":"IF('2.Logbook'!AC84=\"\",\"\",'2.Logbook'!AC84)","v":""},{"$f":"IF('2.Logbook'!AD84=\"\",\"\",'2.Logbook'!AD84)","v":""},{"$f":"IF('2.Logbook'!AE84=\"\",\"\",'2.Logbook'!AE84)","v":""},{"$f":"IF('2.Logbook'!AF84=\"\",\"\",'2.Logbook'!AF84)","v":""},{"$f":"IF('2.Logbook'!AG84=\"\",\"\",'2.Logbook'!AG84)","v":""}]
[{"$f":"IF('2.Logbook'!A85=\"\",\"\",'2.Logbook'!A85)","v":"2020-06-24"},{"$f":"IF('2.Logbook'!B85=\"\",\"\",'2.Logbook'!B85)","v":"07:30:00"},{"$f":"IF('2.Logbook'!C85=\"\",\"\",'2.Logbook'!C85)","v":"1°05 N"},{"$f":"IF('2.Logbook'!D85=\"\",\"\",'2.Logbook'!D85)","v":"4°16 E"},{"$f":"IF('2.Logbook'!E85=\"\",\"\",'2.Logbook'!E85)","v":"Sao Tome e Principe"},{"$f":"IF('2.Logbook'!F85=\"\",\"\",'2.Logbook'!F85)","v":27},{"$f":"IF('2.Logbook'!G85=\"\",\"\",'2.Logbook'!G85)","v":"1900-07-03"},{"$f":"IF('2.Logbook'!H85=\"\",\"\",'2.Logbook'!H85)","v":5},{"$f":"IF('2.Logbook'!I85=\"\",\"\",'2.Logbook'!I85)","v":""},{"$f":"IF('2.Logbook'!J85=\"\",\"\",'2.Logbook'!J85)","v":""},{"$f":"IF('2.Logbook'!K85=\"\",\"\",'2.Logbook'!K85)","v":""},{"$f":"IF('2.Logbook'!L85=\"\",\"\",'2.Logbook'!L85)","v":""},{"$f":"IF('2.Logbook'!M85=\"\",\"\",'2.Logbook'!M85)","v":""},{"$f":"IF('2.Logbook'!N85=\"\",\"\",'2.Logbook'!N85)","v":""},{"$f":"IF('2.Logbook'!O85=\"\",\"\",'2.Logbook'!O85)","v":""},{"$f":"IF('2.Logbook'!P85=\"\",\"\",'2.Logbook'!P85)","v":""},{"$f":"IF('2.Logbook'!Q85=\"\",\"\",'2.Logbook'!Q85)","v":""},{"$f":"IF('2.Logbook'!R85=\"\",\"\",'2.Logbook'!R85)","v":""},{"$f":"IF('2.Logbook'!S85=\"\",\"\",'2.Logbook'!S85)","v":""},{"$f":"IF('2.Logbook'!T85=\"\",\"\",'2.Logbook'!T85)","v":""},{"$f":"IF('2.Logbook'!U85=\"\",\"\",'2.Logbook'!U85)","v":""},{"$f":"IF('2.Logbook'!V85=\"\",\"\",'2.Logbook'!V85)","v":""},{"$f":"IF('2.Logbook'!W85=\"\",\"\",'2.Logbook'!W85)","v":""},{"$f":"IF('2.Logbook'!X85=\"\",\"\",'2.Logbook'!X85)","v":""},{"$f":"IF('2.Logbook'!Y85=\"\",\"\",'2.Logbook'!Y85)","v":""},{"$f":"IF('2.Logbook'!Z85=\"\",\"\",'2.Logbook'!Z85)","v":""},{"$f":"IF('2.Logbook'!AA85=\"\",\"\",'2.Logbook'!AA85)","v":""},{"$f":"IF('2.Logbook'!AB85=\"\",\"\",'2.Logbook'!AB85)","v":""},{"$f":"IF('2.Logbook'!AC85=\"\",\"\",'2.Logbook'!AC85)","v":""},{"$f":"IF('2.Logbook'!AD85=\"\",\"\",'2.Logbook'!AD85)","v":""},{"$f":"IF('2.Logbook'!AE85=\"\",\"\",'2.Logbook'!AE85)","v":""},{"$f":"IF('2.Logbook'!AF85=\"\",\"\",'2.Logbook'!AF85)","v":""},{"$f":"IF('2.Logbook'!AG85=\"\",\"\",'2.Logbook'!AG85)","v":""}]
[{"$f":"IF('2.Logbook'!A86=\"\",\"\",'2.Logbook'!A86)","v":"2020-06-25"},{"$f":"IF('2.Logbook'!B86=\"\",\"\",'2.Logbook'!B86)","v":"07:22:00"},{"$f":"IF('2.Logbook'!C86=\"\",\"\",'2.Logbook'!C86)","v":"1°04 N"},{"$f":"IF('2.Logbook'!D86=\"\",\"\",'2.Logbook'!D86)","v":"4°39 E"},{"$f":"IF('2.Logbook'!E86=\"\",\"\",'2.Logbook'!E86)","v":"Sao Tome e Principe"},{"$f":"IF('2.Logbook'!F86=\"\",\"\",'2.Logbook'!F86)","v":27},{"$f":"IF('2.Logbook'!G86=\"\",\"\",'2.Logbook'!G86)","v":"1900-07-08"},{"$f":"IF('2.Logbook'!H86=\"\",\"\",'2.Logbook'!H86)","v":10},{"$f":"IF('2.Logbook'!I86=\"\",\"\",'2.Logbook'!I86)","v":"1900-01-01"},{"$f":"IF('2.Logbook'!J86=\"\",\"\",'2.Logbook'!J86)","v":""},{"$f":"IF('2.Logbook'!K86=\"\",\"\",'2.Logbook'!K86)","v":"Banc Libre"},{"$f":"IF('2.Logbook'!L86=\"\",\"\",'2.Logbook'!L86)","v":"40 - 60 kg"},{"$f":"IF('2.Logbook'!M86=\"\",\"\",'2.Logbook'!M86)","v":"1900-01-15"},{"$f":"IF('2.Logbook'!N86=\"\",\"\",'2.Logbook'!N86)","v":""},{"$f":"IF('2.Logbook'!O86=\"\",\"\",'2.Logbook'!O86)","v":""},{"$f":"IF('2.Logbook'!P86=\"\",\"\",'2.Logbook'!P86)","v":""},{"$f":"IF('2.Logbook'!Q86=\"\",\"\",'2.Logbook'!Q86)","v":""},{"$f":"IF('2.Logbook'!R86=\"\",\"\",'2.Logbook'!R86)","v":""},{"$f":"IF('2.Logbook'!S86=\"\",\"\",'2.Logbook'!S86)","v":""},{"$f":"IF('2.Logbook'!T86=\"\",\"\",'2.Logbook'!T86)","v":""},{"$f":"IF('2.Logbook'!U86=\"\",\"\",'2.Logbook'!U86)","v":""},{"$f":"IF('2.Logbook'!V86=\"\",\"\",'2.Logbook'!V86)","v":""},{"$f":"IF('2.Logbook'!W86=\"\",\"\",'2.Logbook'!W86)","v":""},{"$f":"IF('2.Logbook'!X86=\"\",\"\",'2.Logbook'!X86)","v":""},{"$f":"IF('2.Logbook'!Y86=\"\",\"\",'2.Logbook'!Y86)","v":""},{"$f":"IF('2.Logbook'!Z86=\"\",\"\",'2.Logbook'!Z86)","v":""},{"$f":"IF('2.Logbook'!AA86=\"\",\"\",'2.Logbook'!AA86)","v":""},{"$f":"IF('2.Logbook'!AB86=\"\",\"\",'2.Logbook'!AB86)","v":""},{"$f":"IF('2.Logbook'!AC86=\"\",\"\",'2.Logbook'!AC86)","v":""},{"$f":"IF('2.Logbook'!AD86=\"\",\"\",'2.Logbook'!AD86)","v":1},{"$f":"IF('2.Logbook'!AE86=\"\",\"\",'2.Logbook'!AE86)","v":""},{"$f":"IF('2.Logbook'!AF86=\"\",\"\",'2.Logbook'!AF86)","v":""},{"$f":"IF('2.Logbook'!AG86=\"\",\"\",'2.Logbook'!AG86)","v":""}]
[{"$f":"IF('2.Logbook'!A87=\"\",\"\",'2.Logbook'!A87)","v":"2020-06-25"},{"$f":"IF('2.Logbook'!B87=\"\",\"\",'2.Logbook'!B87)","v":"10;14"},{"$f":"IF('2.Logbook'!C87=\"\",\"\",'2.Logbook'!C87)","v":"1°08 N"},{"$f":"IF('2.Logbook'!D87=\"\",\"\",'2.Logbook'!D87)","v":"4°36 E"},{"$f":"IF('2.Logbook'!E87=\"\",\"\",'2.Logbook'!E87)","v":"Sao Tome e Principe"},{"$f":"IF('2.Logbook'!F87=\"\",\"\",'2.Logbook'!F87)","v":27},{"$f":"IF('2.Logbook'!G87=\"\",\"\",'2.Logbook'!G87)","v":"1900-07-08"},{"$f":"IF('2.Logbook'!H87=\"\",\"\",'2.Logbook'!H87)","v":10},{"$f":"IF('2.Logbook'!I87=\"\",\"\",'2.Logbook'!I87)","v":"1900-01-01"},{"$f":"IF('2.Logbook'!J87=\"\",\"\",'2.Logbook'!J87)","v":""},{"$f":"IF('2.Logbook'!K87=\"\",\"\",'2.Logbook'!K87)","v":""},{"$f":"IF('2.Logbook'!L87=\"\",\"\",'2.Logbook'!L87)","v":""},{"$f":"IF('2.Logbook'!M87=\"\",\"\",'2.Logbook'!M87)","v":""},{"$f":"IF('2.Logbook'!N87=\"\",\"\",'2.Logbook'!N87)","v":""},{"$f":"IF('2.Logbook'!O87=\"\",\"\",'2.Logbook'!O87)","v":""},{"$f":"IF('2.Logbook'!P87=\"\",\"\",'2.Logbook'!P87)","v":"1,8 - 3,4 kg"},{"$f":"IF('2.Logbook'!Q87=\"\",\"\",'2.Logbook'!Q87)","v":"1900-01-20"},{"$f":"IF('2.Logbook'!R87=\"\",\"\",'2.Logbook'!R87)","v":""},{"$f":"IF('2.Logbook'!S87=\"\",\"\",'2.Logbook'!S87)","v":""},{"$f":"IF('2.Logbook'!T87=\"\",\"\",'2.Logbook'!T87)","v":"1,8 - 3,4 kg"},{"$f":"IF('2.Logbook'!U87=\"\",\"\",'2.Logbook'!U87)","v":"1900-01-03"},{"$f":"IF('2.Logbook'!V87=\"\",\"\",'2.Logbook'!V87)","v":""},{"$f":"IF('2.Logbook'!W87=\"\",\"\",'2.Logbook'!W87)","v":""},{"$f":"IF('2.Logbook'!X87=\"\",\"\",'2.Logbook'!X87)","v":"banane"},{"$f":"IF('2.Logbook'!Y87=\"\",\"\",'2.Logbook'!Y87)","v":"1900-01-03"},{"$f":"IF('2.Logbook'!Z87=\"\",\"\",'2.Logbook'!Z87)","v":1},{"$f":"IF('2.Logbook'!AA87=\"\",\"\",'2.Logbook'!AA87)","v":""},{"$f":"IF('2.Logbook'!AB87=\"\",\"\",'2.Logbook'!AB87)","v":""},{"$f":"IF('2.Logbook'!AC87=\"\",\"\",'2.Logbook'!AC87)","v":""},{"$f":"IF('2.Logbook'!AD87=\"\",\"\",'2.Logbook'!AD87)","v":""},{"$f":"IF('2.Logbook'!AE87=\"\",\"\",'2.Logbook'!AE87)","v":"1900-01-01"},{"$f":"IF('2.Logbook'!AF87=\"\",\"\",'2.Logbook'!AF87)","v":""},{"$f":"IF('2.Logbook'!AG87=\"\",\"\",'2.Logbook'!AG87)","v":""}]
[{"$f":"IF('2.Logbook'!A88=\"\",\"\",'2.Logbook'!A88)","v":"2020-06-25"},{"$f":"IF('2.Logbook'!B88=\"\",\"\",'2.Logbook'!B88)","v":"10;14"},{"$f":"IF('2.Logbook'!C88=\"\",\"\",'2.Logbook'!C88)","v":"1°08 N"},{"$f":"IF('2.Logbook'!D88=\"\",\"\",'2.Logbook'!D88)","v":"4°36 E"},{"$f":"IF('2.Logbook'!E88=\"\",\"\",'2.Logbook'!E88)","v":"Sao Tome e Principe"},{"$f":"IF('2.Logbook'!F88=\"\",\"\",'2.Logbook'!F88)","v":""},{"$f":"IF('2.Logbook'!G88=\"\",\"\",'2.Logbook'!G88)","v":""},{"$f":"IF('2.Logbook'!H88=\"\",\"\",'2.Logbook'!H88)","v":""},{"$f":"IF('2.Logbook'!I88=\"\",\"\",'2.Logbook'!I88)","v":""},{"$f":"IF('2.Logbook'!J88=\"\",\"\",'2.Logbook'!J88)","v":""},{"$f":"IF('2.Logbook'!K88=\"\",\"\",'2.Logbook'!K88)","v":""},{"$f":"IF('2.Logbook'!L88=\"\",\"\",'2.Logbook'!L88)","v":""},{"$f":"IF('2.Logbook'!M88=\"\",\"\",'2.Logbook'!M88)","v":""},{"$f":"IF('2.Logbook'!N88=\"\",\"\",'2.Logbook'!N88)","v":""},{"$f":"IF('2.Logbook'!O88=\"\",\"\",'2.Logbook'!O88)","v":""},{"$f":"IF('2.Logbook'!P88=\"\",\"\",'2.Logbook'!P88)","v":"< 1,8 kg"},{"$f":"IF('2.Logbook'!Q88=\"\",\"\",'2.Logbook'!Q88)","v":"1900-01-10"},{"$f":"IF('2.Logbook'!R88=\"\",\"\",'2.Logbook'!R88)","v":""},{"$f":"IF('2.Logbook'!S88=\"\",\"\",'2.Logbook'!S88)","v":""},{"$f":"IF('2.Logbook'!T88=\"\",\"\",'2.Logbook'!T88)","v":"3,4 - 10 kg"},{"$f":"IF('2.Logbook'!U88=\"\",\"\",'2.Logbook'!U88)","v":"1900-01-07"},{"$f":"IF('2.Logbook'!V88=\"\",\"\",'2.Logbook'!V88)","v":""},{"$f":"IF('2.Logbook'!W88=\"\",\"\",'2.Logbook'!W88)","v":""},{"$f":"IF('2.Logbook'!X88=\"\",\"\",'2.Logbook'!X88)","v":"ravil"},{"$f":"IF('2.Logbook'!Y88=\"\",\"\",'2.Logbook'!Y88)","v":"1900-01-01"},{"$f":"IF('2.Logbook'!Z88=\"\",\"\",'2.Logbook'!Z88)","v":1},{"$f":"IF('2.Logbook'!AA88=\"\",\"\",'2.Logbook'!AA88)","v":""},{"$f":"IF('2.Logbook'!AB88=\"\",\"\",'2.Logbook'!AB88)","v":""},{"$f":"IF('2.Logbook'!AC88=\"\",\"\",'2.Logbook'!AC88)","v":""},{"$f":"IF('2.Logbook'!AD88=\"\",\"\",'2.Logbook'!AD88)","v":""},{"$f":"IF('2.Logbook'!AE88=\"\",\"\",'2.Logbook'!AE88)","v":""},{"$f":"IF('2.Logbook'!AF88=\"\",\"\",'2.Logbook'!AF88)","v":""},{"$f":"IF('2.Logbook'!AG88=\"\",\"\",'2.Logbook'!AG88)","v":""}]
[{"$f":"IF('2.Logbook'!A89=\"\",\"\",'2.Logbook'!A89)","v":"2020-06-26"},{"$f":"IF('2.Logbook'!B89=\"\",\"\",'2.Logbook'!B89)","v":"07:50:00"},{"$f":"IF('2.Logbook'!C89=\"\",\"\",'2.Logbook'!C89)","v":"1°07 N"},{"$f":"IF('2.Logbook'!D89=\"\",\"\",'2.Logbook'!D89)","v":"4°25 E"},{"$f":"IF('2.Logbook'!E89=\"\",\"\",'2.Logbook'!E89)","v":"Sao Tome e Principe"},{"$f":"IF('2.Logbook'!F89=\"\",\"\",'2.Logbook'!F89)","v":27},{"$f":"IF('2.Logbook'!G89=\"\",\"\",'2.Logbook'!G89)","v":"1900-06-28"},{"$f":"IF('2.Logbook'!H89=\"\",\"\",'2.Logbook'!H89)","v":20},{"$f":"IF('2.Logbook'!I89=\"\",\"\",'2.Logbook'!I89)","v":"1900-01-01"},{"$f":"IF('2.Logbook'!J89=\"\",\"\",'2.Logbook'!J89)","v":""},{"$f":"IF('2.Logbook'!K89=\"\",\"\",'2.Logbook'!K89)","v":"Banc Libre"},{"$f":"IF('2.Logbook'!L89=\"\",\"\",'2.Logbook'!L89)","v":"> 60 kg"},{"$f":"IF('2.Logbook'!M89=\"\",\"\",'2.Logbook'!M89)","v":"1900-01-15"},{"$f":"IF('2.Logbook'!N89=\"\",\"\",'2.Logbook'!N89)","v":""},{"$f":"IF('2.Logbook'!O89=\"\",\"\",'2.Logbook'!O89)","v":""},{"$f":"IF('2.Logbook'!P89=\"\",\"\",'2.Logbook'!P89)","v":""},{"$f":"IF('2.Logbook'!Q89=\"\",\"\",'2.Logbook'!Q89)","v":""},{"$f":"IF('2.Logbook'!R89=\"\",\"\",'2.Logbook'!R89)","v":""},{"$f":"IF('2.Logbook'!S89=\"\",\"\",'2.Logbook'!S89)","v":""},{"$f":"IF('2.Logbook'!T89=\"\",\"\",'2.Logbook'!T89)","v":""},{"$f":"IF('2.Logbook'!U89=\"\",\"\",'2.Logbook'!U89)","v":""},{"$f":"IF('2.Logbook'!V89=\"\",\"\",'2.Logbook'!V89)","v":""},{"$f":"IF('2.Logbook'!W89=\"\",\"\",'2.Logbook'!W89)","v":""},{"$f":"IF('2.Logbook'!X89=\"\",\"\",'2.Logbook'!X89)","v":""},{"$f":"IF('2.Logbook'!Y89=\"\",\"\",'2.Logbook'!Y89)","v":""},{"$f":"IF('2.Logbook'!Z89=\"\",\"\",'2.Logbook'!Z89)","v":""},{"$f":"IF('2.Logbook'!AA89=\"\",\"\",'2.Logbook'!AA89)","v":""},{"$f":"IF('2.Logbook'!AB89=\"\",\"\",'2.Logbook'!AB89)","v":""},{"$f":"IF('2.Logbook'!AC89=\"\",\"\",'2.Logbook'!AC89)","v":""},{"$f":"IF('2.Logbook'!AD89=\"\",\"\",'2.Logbook'!AD89)","v":1},{"$f":"IF('2.Logbook'!AE89=\"\",\"\",'2.Logbook'!AE89)","v":""},{"$f":"IF('2.Logbook'!AF89=\"\",\"\",'2.Logbook'!AF89)","v":""},{"$f":"IF('2.Logbook'!AG89=\"\",\"\",'2.Logbook'!AG89)","v":""}]
[{"$f":"IF('2.Logbook'!A90=\"\",\"\",'2.Logbook'!A90)","v":"2020-06-26"},{"$f":"IF('2.Logbook'!B90=\"\",\"\",'2.Logbook'!B90)","v":"11;40"},{"$f":"IF('2.Logbook'!C90=\"\",\"\",'2.Logbook'!C90)","v":"1°10 N"},{"$f":"IF('2.Logbook'!D90=\"\",\"\",'2.Logbook'!D90)","v":"4°16 E"},{"$f":"IF('2.Logbook'!E90=\"\",\"\",'2.Logbook'!E90)","v":"Sao Tome e Principe"},{"$f":"IF('2.Logbook'!F90=\"\",\"\",'2.Logbook'!F90)","v":27},{"$f":"IF('2.Logbook'!G90=\"\",\"\",'2.Logbook'!G90)","v":"1900-06-28"},{"$f":"IF('2.Logbook'!H90=\"\",\"\",'2.Logbook'!H90)","v":20},{"$f":"IF('2.Logbook'!I90=\"\",\"\",'2.Logbook'!I90)","v":"1900-01-01"},{"$f":"IF('2.Logbook'!J90=\"\",\"\",'2.Logbook'!J90)","v":""},{"$f":"IF('2.Logbook'!K90=\"\",\"\",'2.Logbook'!K90)","v":"Banc Libre"},{"$f":"IF('2.Logbook'!L90=\"\",\"\",'2.Logbook'!L90)","v":"40 - 60 kg"},{"$f":"IF('2.Logbook'!M90=\"\",\"\",'2.Logbook'!M90)","v":"1900-01-30"},{"$f":"IF('2.Logbook'!N90=\"\",\"\",'2.Logbook'!N90)","v":""},{"$f":"IF('2.Logbook'!O90=\"\",\"\",'2.Logbook'!O90)","v":""},{"$f":"IF('2.Logbook'!P90=\"\",\"\",'2.Logbook'!P90)","v":""},{"$f":"IF('2.Logbook'!Q90=\"\",\"\",'2.Logbook'!Q90)","v":""},{"$f":"IF('2.Logbook'!R90=\"\",\"\",'2.Logbook'!R90)","v":""},{"$f":"IF('2.Logbook'!S90=\"\",\"\",'2.Logbook'!S90)","v":""},{"$f":"IF('2.Logbook'!T90=\"\",\"\",'2.Logbook'!T90)","v":""},{"$f":"IF('2.Logbook'!U90=\"\",\"\",'2.Logbook'!U90)","v":""},{"$f":"IF('2.Logbook'!V90=\"\",\"\",'2.Logbook'!V90)","v":""},{"$f":"IF('2.Logbook'!W90=\"\",\"\",'2.Logbook'!W90)","v":""},{"$f":"IF('2.Logbook'!X90=\"\",\"\",'2.Logbook'!X90)","v":""},{"$f":"IF('2.Logbook'!Y90=\"\",\"\",'2.Logbook'!Y90)","v":""},{"$f":"IF('2.Logbook'!Z90=\"\",\"\",'2.Logbook'!Z90)","v":""},{"$f":"IF('2.Logbook'!AA90=\"\",\"\",'2.Logbook'!AA90)","v":""},{"$f":"IF('2.Logbook'!AB90=\"\",\"\",'2.Logbook'!AB90)","v":""},{"$f":"IF('2.Logbook'!AC90=\"\",\"\",'2.Logbook'!AC90)","v":""},{"$f":"IF('2.Logbook'!AD90=\"\",\"\",'2.Logbook'!AD90)","v":1},{"$f":"IF('2.Logbook'!AE90=\"\",\"\",'2.Logbook'!AE90)","v":""},{"$f":"IF('2.Logbook'!AF90=\"\",\"\",'2.Logbook'!AF90)","v":""},{"$f":"IF('2.Logbook'!AG90=\"\",\"\",'2.Logbook'!AG90)","v":""}]
[{"$f":"IF('2.Logbook'!A91=\"\",\"\",'2.Logbook'!A91)","v":"2020-06-27"},{"$f":"IF('2.Logbook'!B91=\"\",\"\",'2.Logbook'!B91)","v":"08:25:00"},{"$f":"IF('2.Logbook'!C91=\"\",\"\",'2.Logbook'!C91)","v":"1°18 N"},{"$f":"IF('2.Logbook'!D91=\"\",\"\",'2.Logbook'!D91)","v":"4°20 E"},{"$f":"IF('2.Logbook'!E91=\"\",\"\",'2.Logbook'!E91)","v":"Sao Tome e Principe"},{"$f":"IF('2.Logbook'!F91=\"\",\"\",'2.Logbook'!F91)","v":27},{"$f":"IF('2.Logbook'!G91=\"\",\"\",'2.Logbook'!G91)","v":"1900-06-28"},{"$f":"IF('2.Logbook'!H91=\"\",\"\",'2.Logbook'!H91)","v":15},{"$f":"IF('2.Logbook'!I91=\"\",\"\",'2.Logbook'!I91)","v":"1900-01-01"},{"$f":"IF('2.Logbook'!J91=\"\",\"\",'2.Logbook'!J91)","v":""},{"$f":"IF('2.Logbook'!K91=\"\",\"\",'2.Logbook'!K91)","v":"Banc Libre"},{"$f":"IF('2.Logbook'!L91=\"\",\"\",'2.Logbook'!L91)","v":"> 60 kg"},{"$f":"IF('2.Logbook'!M91=\"\",\"\",'2.Logbook'!M91)","v":"1900-01-17"},{"$f":"IF('2.Logbook'!N91=\"\",\"\",'2.Logbook'!N91)","v":""},{"$f":"IF('2.Logbook'!O91=\"\",\"\",'2.Logbook'!O91)","v":""},{"$f":"IF('2.Logbook'!P91=\"\",\"\",'2.Logbook'!P91)","v":""},{"$f":"IF('2.Logbook'!Q91=\"\",\"\",'2.Logbook'!Q91)","v":""},{"$f":"IF('2.Logbook'!R91=\"\",\"\",'2.Logbook'!R91)","v":""},{"$f":"IF('2.Logbook'!S91=\"\",\"\",'2.Logbook'!S91)","v":""},{"$f":"IF('2.Logbook'!T91=\"\",\"\",'2.Logbook'!T91)","v":""},{"$f":"IF('2.Logbook'!U91=\"\",\"\",'2.Logbook'!U91)","v":""},{"$f":"IF('2.Logbook'!V91=\"\",\"\",'2.Logbook'!V91)","v":""},{"$f":"IF('2.Logbook'!W91=\"\",\"\",'2.Logbook'!W91)","v":""},{"$f":"IF('2.Logbook'!X91=\"\",\"\",'2.Logbook'!X91)","v":""},{"$f":"IF('2.Logbook'!Y91=\"\",\"\",'2.Logbook'!Y91)","v":""},{"$f":"IF('2.Logbook'!Z91=\"\",\"\",'2.Logbook'!Z91)","v":""},{"$f":"IF('2.Logbook'!AA91=\"\",\"\",'2.Logbook'!AA91)","v":""},{"$f":"IF('2.Logbook'!AB91=\"\",\"\",'2.Logbook'!AB91)","v":""},{"$f":"IF('2.Logbook'!AC91=\"\",\"\",'2.Logbook'!AC91)","v":""},{"$f":"IF('2.Logbook'!AD91=\"\",\"\",'2.Logbook'!AD91)","v":1},{"$f":"IF('2.Logbook'!AE91=\"\",\"\",'2.Logbook'!AE91)","v":""},{"$f":"IF('2.Logbook'!AF91=\"\",\"\",'2.Logbook'!AF91)","v":""},{"$f":"IF('2.Logbook'!AG91=\"\",\"\",'2.Logbook'!AG91)","v":""}]
[{"$f":"IF('2.Logbook'!A92=\"\",\"\",'2.Logbook'!A92)","v":"2020-06-27"},{"$f":"IF('2.Logbook'!B92=\"\",\"\",'2.Logbook'!B92)","v":"12:00:00"},{"$f":"IF('2.Logbook'!C92=\"\",\"\",'2.Logbook'!C92)","v":"1°24 N"},{"$f":"IF('2.Logbook'!D92=\"\",\"\",'2.Logbook'!D92)","v":"4°17 E"},{"$f":"IF('2.Logbook'!E92=\"\",\"\",'2.Logbook'!E92)","v":"Sao Tome e Principe"},{"$f":"IF('2.Logbook'!F92=\"\",\"\",'2.Logbook'!F92)","v":27},{"$f":"IF('2.Logbook'!G92=\"\",\"\",'2.Logbook'!G92)","v":"1900-06-28"},{"$f":"IF('2.Logbook'!H92=\"\",\"\",'2.Logbook'!H92)","v":15},{"$f":"IF('2.Logbook'!I92=\"\",\"\",'2.Logbook'!I92)","v":"1900-01-01"},{"$f":"IF('2.Logbook'!J92=\"\",\"\",'2.Logbook'!J92)","v":""},{"$f":"IF('2.Logbook'!K92=\"\",\"\",'2.Logbook'!K92)","v":"Banc Libre"},{"$f":"IF('2.Logbook'!L92=\"\",\"\",'2.Logbook'!L92)","v":"> 60 kg"},{"$f":"IF('2.Logbook'!M92=\"\",\"\",'2.Logbook'!M92)","v":"1900-01-03"},{"$f":"IF('2.Logbook'!N92=\"\",\"\",'2.Logbook'!N92)","v":""},{"$f":"IF('2.Logbook'!O92=\"\",\"\",'2.Logbook'!O92)","v":""},{"$f":"IF('2.Logbook'!P92=\"\",\"\",'2.Logbook'!P92)","v":""},{"$f":"IF('2.Logbook'!Q92=\"\",\"\",'2.Logbook'!Q92)","v":""},{"$f":"IF('2.Logbook'!R92=\"\",\"\",'2.Logbook'!R92)","v":""},{"$f":"IF('2.Logbook'!S92=\"\",\"\",'2.Logbook'!S92)","v":""},{"$f":"IF('2.Logbook'!T92=\"\",\"\",'2.Logbook'!T92)","v":""},{"$f":"IF('2.Logbook'!U92=\"\",\"\",'2.Logbook'!U92)","v":""},{"$f":"IF('2.Logbook'!V92=\"\",\"\",'2.Logbook'!V92)","v":""},{"$f":"IF('2.Logbook'!W92=\"\",\"\",'2.Logbook'!W92)","v":""},{"$f":"IF('2.Logbook'!X92=\"\",\"\",'2.Logbook'!X92)","v":""},{"$f":"IF('2.Logbook'!Y92=\"\",\"\",'2.Logbook'!Y92)","v":""},{"$f":"IF('2.Logbook'!Z92=\"\",\"\",'2.Logbook'!Z92)","v":""},{"$f":"IF('2.Logbook'!AA92=\"\",\"\",'2.Logbook'!AA92)","v":""},{"$f":"IF('2.Logbook'!AB92=\"\",\"\",'2.Logbook'!AB92)","v":""},{"$f":"IF('2.Logbook'!AC92=\"\",\"\",'2.Logbook'!AC92)","v":""},{"$f":"IF('2.Logbook'!AD92=\"\",\"\",'2.Logbook'!AD92)","v":1},{"$f":"IF('2.Logbook'!AE92=\"\",\"\",'2.Logbook'!AE92)","v":""},{"$f":"IF('2.Logbook'!AF92=\"\",\"\",'2.Logbook'!AF92)","v":""},{"$f":"IF('2.Logbook'!AG92=\"\",\"\",'2.Logbook'!AG92)","v":""}]
[{"$f":"IF('2.Logbook'!A93=\"\",\"\",'2.Logbook'!A93)","v":"2020-06-27"},{"$f":"IF('2.Logbook'!B93=\"\",\"\",'2.Logbook'!B93)","v":"14:50:00"},{"$f":"IF('2.Logbook'!C93=\"\",\"\",'2.Logbook'!C93)","v":"1°12 N"},{"$f":"IF('2.Logbook'!D93=\"\",\"\",'2.Logbook'!D93)","v":"6°17 E"},{"$f":"IF('2.Logbook'!E93=\"\",\"\",'2.Logbook'!E93)","v":"Sao Tome e Principe"},{"$f":"IF('2.Logbook'!F93=\"\",\"\",'2.Logbook'!F93)","v":27},{"$f":"IF('2.Logbook'!G93=\"\",\"\",'2.Logbook'!G93)","v":"1900-06-28"},{"$f":"IF('2.Logbook'!H93=\"\",\"\",'2.Logbook'!H93)","v":10},{"$f":"IF('2.Logbook'!I93=\"\",\"\",'2.Logbook'!I93)","v":""},{"$f":"IF('2.Logbook'!J93=\"\",\"\",'2.Logbook'!J93)","v":"00:00:00"},{"$f":"IF('2.Logbook'!K93=\"\",\"\",'2.Logbook'!K93)","v":"Banc Libre"},{"$f":"IF('2.Logbook'!L93=\"\",\"\",'2.Logbook'!L93)","v":""},{"$f":"IF('2.Logbook'!M93=\"\",\"\",'2.Logbook'!M93)","v":""},{"$f":"IF('2.Logbook'!N93=\"\",\"\",'2.Logbook'!N93)","v":""},{"$f":"IF('2.Logbook'!O93=\"\",\"\",'2.Logbook'!O93)","v":""},{"$f":"IF('2.Logbook'!P93=\"\",\"\",'2.Logbook'!P93)","v":""},{"$f":"IF('2.Logbook'!Q93=\"\",\"\",'2.Logbook'!Q93)","v":""},{"$f":"IF('2.Logbook'!R93=\"\",\"\",'2.Logbook'!R93)","v":""},{"$f":"IF('2.Logbook'!S93=\"\",\"\",'2.Logbook'!S93)","v":""},{"$f":"IF('2.Logbook'!T93=\"\",\"\",'2.Logbook'!T93)","v":""},{"$f":"IF('2.Logbook'!U93=\"\",\"\",'2.Logbook'!U93)","v":""},{"$f":"IF('2.Logbook'!V93=\"\",\"\",'2.Logbook'!V93)","v":""},{"$f":"IF('2.Logbook'!W93=\"\",\"\",'2.Logbook'!W93)","v":""},{"$f":"IF('2.Logbook'!X93=\"\",\"\",'2.Logbook'!X93)","v":""},{"$f":"IF('2.Logbook'!Y93=\"\",\"\",'2.Logbook'!Y93)","v":""},{"$f":"IF('2.Logbook'!Z93=\"\",\"\",'2.Logbook'!Z93)","v":""},{"$f":"IF('2.Logbook'!AA93=\"\",\"\",'2.Logbook'!AA93)","v":""},{"$f":"IF('2.Logbook'!AB93=\"\",\"\",'2.Logbook'!AB93)","v":""},{"$f":"IF('2.Logbook'!AC93=\"\",\"\",'2.Logbook'!AC93)","v":""},{"$f":"IF('2.Logbook'!AD93=\"\",\"\",'2.Logbook'!AD93)","v":1},{"$f":"IF('2.Logbook'!AE93=\"\",\"\",'2.Logbook'!AE93)","v":""},{"$f":"IF('2.Logbook'!AF93=\"\",\"\",'2.Logbook'!AF93)","v":""},{"$f":"IF('2.Logbook'!AG93=\"\",\"\",'2.Logbook'!AG93)","v":""}]
[{"$f":"IF('2.Logbook'!A94=\"\",\"\",'2.Logbook'!A94)","v":"2020-06-27"},{"$f":"IF('2.Logbook'!B94=\"\",\"\",'2.Logbook'!B94)","v":"17:13:00"},{"$f":"IF('2.Logbook'!C94=\"\",\"\",'2.Logbook'!C94)","v":"1°22 N"},{"$f":"IF('2.Logbook'!D94=\"\",\"\",'2.Logbook'!D94)","v":"4°17 E"},{"$f":"IF('2.Logbook'!E94=\"\",\"\",'2.Logbook'!E94)","v":"Sao Tome e Principe"},{"$f":"IF('2.Logbook'!F94=\"\",\"\",'2.Logbook'!F94)","v":27},{"$f":"IF('2.Logbook'!G94=\"\",\"\",'2.Logbook'!G94)","v":"1900-06-28"},{"$f":"IF('2.Logbook'!H94=\"\",\"\",'2.Logbook'!H94)","v":10},{"$f":"IF('2.Logbook'!I94=\"\",\"\",'2.Logbook'!I94)","v":""},{"$f":"IF('2.Logbook'!J94=\"\",\"\",'2.Logbook'!J94)","v":"00:00:00"},{"$f":"IF('2.Logbook'!K94=\"\",\"\",'2.Logbook'!K94)","v":"Banc Libre"},{"$f":"IF('2.Logbook'!L94=\"\",\"\",'2.Logbook'!L94)","v":""},{"$f":"IF('2.Logbook'!M94=\"\",\"\",'2.Logbook'!M94)","v":""},{"$f":"IF('2.Logbook'!N94=\"\",\"\",'2.Logbook'!N94)","v":""},{"$f":"IF('2.Logbook'!O94=\"\",\"\",'2.Logbook'!O94)","v":""},{"$f":"IF('2.Logbook'!P94=\"\",\"\",'2.Logbook'!P94)","v":""},{"$f":"IF('2.Logbook'!Q94=\"\",\"\",'2.Logbook'!Q94)","v":""},{"$f":"IF('2.Logbook'!R94=\"\",\"\",'2.Logbook'!R94)","v":""},{"$f":"IF('2.Logbook'!S94=\"\",\"\",'2.Logbook'!S94)","v":""},{"$f":"IF('2.Logbook'!T94=\"\",\"\",'2.Logbook'!T94)","v":""},{"$f":"IF('2.Logbook'!U94=\"\",\"\",'2.Logbook'!U94)","v":""},{"$f":"IF('2.Logbook'!V94=\"\",\"\",'2.Logbook'!V94)","v":""},{"$f":"IF('2.Logbook'!W94=\"\",\"\",'2.Logbook'!W94)","v":""},{"$f":"IF('2.Logbook'!X94=\"\",\"\",'2.Logbook'!X94)","v":""},{"$f":"IF('2.Logbook'!Y94=\"\",\"\",'2.Logbook'!Y94)","v":""},{"$f":"IF('2.Logbook'!Z94=\"\",\"\",'2.Logbook'!Z94)","v":""},{"$f":"IF('2.Logbook'!AA94=\"\",\"\",'2.Logbook'!AA94)","v":""},{"$f":"IF('2.Logbook'!AB94=\"\",\"\",'2.Logbook'!AB94)","v":""},{"$f":"IF('2.Logbook'!AC94=\"\",\"\",'2.Logbook'!AC94)","v":""},{"$f":"IF('2.Logbook'!AD94=\"\",\"\",'2.Logbook'!AD94)","v":1},{"$f":"IF('2.Logbook'!AE94=\"\",\"\",'2.Logbook'!AE94)","v":""},{"$f":"IF('2.Logbook'!AF94=\"\",\"\",'2.Logbook'!AF94)","v":""},{"$f":"IF('2.Logbook'!AG94=\"\",\"\",'2.Logbook'!AG94)","v":""}]
[{"$f":"IF('2.Logbook'!A95=\"\",\"\",'2.Logbook'!A95)","v":"2020-06-28"},{"$f":"IF('2.Logbook'!B95=\"\",\"\",'2.Logbook'!B95)","v":"07:45:00"},{"$f":"IF('2.Logbook'!C95=\"\",\"\",'2.Logbook'!C95)","v":"1°04 N"},{"$f":"IF('2.Logbook'!D95=\"\",\"\",'2.Logbook'!D95)","v":"05°03 E"},{"$f":"IF('2.Logbook'!E95=\"\",\"\",'2.Logbook'!E95)","v":"Sao Tome e Principe"},{"$f":"IF('2.Logbook'!F95=\"\",\"\",'2.Logbook'!F95)","v":27},{"$f":"IF('2.Logbook'!G95=\"\",\"\",'2.Logbook'!G95)","v":"1900-08-17"},{"$f":"IF('2.Logbook'!H95=\"\",\"\",'2.Logbook'!H95)","v":5},{"$f":"IF('2.Logbook'!I95=\"\",\"\",'2.Logbook'!I95)","v":""},{"$f":"IF('2.Logbook'!J95=\"\",\"\",'2.Logbook'!J95)","v":""},{"$f":"IF('2.Logbook'!K95=\"\",\"\",'2.Logbook'!K95)","v":""},{"$f":"IF('2.Logbook'!L95=\"\",\"\",'2.Logbook'!L95)","v":""},{"$f":"IF('2.Logbook'!M95=\"\",\"\",'2.Logbook'!M95)","v":""},{"$f":"IF('2.Logbook'!N95=\"\",\"\",'2.Logbook'!N95)","v":""},{"$f":"IF('2.Logbook'!O95=\"\",\"\",'2.Logbook'!O95)","v":""},{"$f":"IF('2.Logbook'!P95=\"\",\"\",'2.Logbook'!P95)","v":""},{"$f":"IF('2.Logbook'!Q95=\"\",\"\",'2.Logbook'!Q95)","v":""},{"$f":"IF('2.Logbook'!R95=\"\",\"\",'2.Logbook'!R95)","v":""},{"$f":"IF('2.Logbook'!S95=\"\",\"\",'2.Logbook'!S95)","v":""},{"$f":"IF('2.Logbook'!T95=\"\",\"\",'2.Logbook'!T95)","v":""},{"$f":"IF('2.Logbook'!U95=\"\",\"\",'2.Logbook'!U95)","v":""},{"$f":"IF('2.Logbook'!V95=\"\",\"\",'2.Logbook'!V95)","v":""},{"$f":"IF('2.Logbook'!W95=\"\",\"\",'2.Logbook'!W95)","v":""},{"$f":"IF('2.Logbook'!X95=\"\",\"\",'2.Logbook'!X95)","v":""},{"$f":"IF('2.Logbook'!Y95=\"\",\"\",'2.Logbook'!Y95)","v":""},{"$f":"IF('2.Logbook'!Z95=\"\",\"\",'2.Logbook'!Z95)","v":""},{"$f":"IF('2.Logbook'!AA95=\"\",\"\",'2.Logbook'!AA95)","v":""},{"$f":"IF('2.Logbook'!AB95=\"\",\"\",'2.Logbook'!AB95)","v":""},{"$f":"IF('2.Logbook'!AC95=\"\",\"\",'2.Logbook'!AC95)","v":""},{"$f":"IF('2.Logbook'!AD95=\"\",\"\",'2.Logbook'!AD95)","v":""},{"$f":"IF('2.Logbook'!AE95=\"\",\"\",'2.Logbook'!AE95)","v":""},{"$f":"IF('2.Logbook'!AF95=\"\",\"\",'2.Logbook'!AF95)","v":""},{"$f":"IF('2.Logbook'!AG95=\"\",\"\",'2.Logbook'!AG95)","v":""}]
[{"$f":"IF('2.Logbook'!A96=\"\",\"\",'2.Logbook'!A96)","v":"2020-06-28"},{"$f":"IF('2.Logbook'!B96=\"\",\"\",'2.Logbook'!B96)","v":"08:40:00"},{"$f":"IF('2.Logbook'!C96=\"\",\"\",'2.Logbook'!C96)","v":"0°54 N"},{"$f":"IF('2.Logbook'!D96=\"\",\"\",'2.Logbook'!D96)","v":"5°05 E"},{"$f":"IF('2.Logbook'!E96=\"\",\"\",'2.Logbook'!E96)","v":"Sao Tome e Principe"},{"$f":"IF('2.Logbook'!F96=\"\",\"\",'2.Logbook'!F96)","v":27},{"$f":"IF('2.Logbook'!G96=\"\",\"\",'2.Logbook'!G96)","v":"1900-07-18"},{"$f":"IF('2.Logbook'!H96=\"\",\"\",'2.Logbook'!H96)","v":5},{"$f":"IF('2.Logbook'!I96=\"\",\"\",'2.Logbook'!I96)","v":""},{"$f":"IF('2.Logbook'!J96=\"\",\"\",'2.Logbook'!J96)","v":""},{"$f":"IF('2.Logbook'!K96=\"\",\"\",'2.Logbook'!K96)","v":""},{"$f":"IF('2.Logbook'!L96=\"\",\"\",'2.Logbook'!L96)","v":""},{"$f":"IF('2.Logbook'!M96=\"\",\"\",'2.Logbook'!M96)","v":""},{"$f":"IF('2.Logbook'!N96=\"\",\"\",'2.Logbook'!N96)","v":""},{"$f":"IF('2.Logbook'!O96=\"\",\"\",'2.Logbook'!O96)","v":""},{"$f":"IF('2.Logbook'!P96=\"\",\"\",'2.Logbook'!P96)","v":""},{"$f":"IF('2.Logbook'!Q96=\"\",\"\",'2.Logbook'!Q96)","v":""},{"$f":"IF('2.Logbook'!R96=\"\",\"\",'2.Logbook'!R96)","v":""},{"$f":"IF('2.Logbook'!S96=\"\",\"\",'2.Logbook'!S96)","v":""},{"$f":"IF('2.Logbook'!T96=\"\",\"\",'2.Logbook'!T96)","v":""},{"$f":"IF('2.Logbook'!U96=\"\",\"\",'2.Logbook'!U96)","v":""},{"$f":"IF('2.Logbook'!V96=\"\",\"\",'2.Logbook'!V96)","v":""},{"$f":"IF('2.Logbook'!W96=\"\",\"\",'2.Logbook'!W96)","v":""},{"$f":"IF('2.Logbook'!X96=\"\",\"\",'2.Logbook'!X96)","v":""},{"$f":"IF('2.Logbook'!Y96=\"\",\"\",'2.Logbook'!Y96)","v":""},{"$f":"IF('2.Logbook'!Z96=\"\",\"\",'2.Logbook'!Z96)","v":""},{"$f":"IF('2.Logbook'!AA96=\"\",\"\",'2.Logbook'!AA96)","v":""},{"$f":"IF('2.Logbook'!AB96=\"\",\"\",'2.Logbook'!AB96)","v":""},{"$f":"IF('2.Logbook'!AC96=\"\",\"\",'2.Logbook'!AC96)","v":""},{"$f":"IF('2.Logbook'!AD96=\"\",\"\",'2.Logbook'!AD96)","v":""},{"$f":"IF('2.Logbook'!AE96=\"\",\"\",'2.Logbook'!AE96)","v":""},{"$f":"IF('2.Logbook'!AF96=\"\",\"\",'2.Logbook'!AF96)","v":""},{"$f":"IF('2.Logbook'!AG96=\"\",\"\",'2.Logbook'!AG96)","v":""}]
[{"$f":"IF('2.Logbook'!A97=\"\",\"\",'2.Logbook'!A97)","v":"2020-06-29"},{"$f":"IF('2.Logbook'!B97=\"\",\"\",'2.Logbook'!B97)","v":"9;40"},{"$f":"IF('2.Logbook'!C97=\"\",\"\",'2.Logbook'!C97)","v":"1°23 N"},{"$f":"IF('2.Logbook'!D97=\"\",\"\",'2.Logbook'!D97)","v":"3°44 E"},{"$f":"IF('2.Logbook'!E97=\"\",\"\",'2.Logbook'!E97)","v":"Sao Tome e Principe"},{"$f":"IF('2.Logbook'!F97=\"\",\"\",'2.Logbook'!F97)","v":27},{"$f":"IF('2.Logbook'!G97=\"\",\"\",'2.Logbook'!G97)","v":"1900-07-08"},{"$f":"IF('2.Logbook'!H97=\"\",\"\",'2.Logbook'!H97)","v":10},{"$f":"IF('2.Logbook'!I97=\"\",\"\",'2.Logbook'!I97)","v":"1900-01-01"},{"$f":"IF('2.Logbook'!J97=\"\",\"\",'2.Logbook'!J97)","v":""},{"$f":"IF('2.Logbook'!K97=\"\",\"\",'2.Logbook'!K97)","v":"Banc Libre"},{"$f":"IF('2.Logbook'!L97=\"\",\"\",'2.Logbook'!L97)","v":"> 60 kg"},{"$f":"IF('2.Logbook'!M97=\"\",\"\",'2.Logbook'!M97)","v":"1900-01-19"},{"$f":"IF('2.Logbook'!N97=\"\",\"\",'2.Logbook'!N97)","v":""},{"$f":"IF('2.Logbook'!O97=\"\",\"\",'2.Logbook'!O97)","v":""},{"$f":"IF('2.Logbook'!P97=\"\",\"\",'2.Logbook'!P97)","v":""},{"$f":"IF('2.Logbook'!Q97=\"\",\"\",'2.Logbook'!Q97)","v":""},{"$f":"IF('2.Logbook'!R97=\"\",\"\",'2.Logbook'!R97)","v":""},{"$f":"IF('2.Logbook'!S97=\"\",\"\",'2.Logbook'!S97)","v":""},{"$f":"IF('2.Logbook'!T97=\"\",\"\",'2.Logbook'!T97)","v":""},{"$f":"IF('2.Logbook'!U97=\"\",\"\",'2.Logbook'!U97)","v":""},{"$f":"IF('2.Logbook'!V97=\"\",\"\",'2.Logbook'!V97)","v":""},{"$f":"IF('2.Logbook'!W97=\"\",\"\",'2.Logbook'!W97)","v":""},{"$f":"IF('2.Logbook'!X97=\"\",\"\",'2.Logbook'!X97)","v":""},{"$f":"IF('2.Logbook'!Y97=\"\",\"\",'2.Logbook'!Y97)","v":""},{"$f":"IF('2.Logbook'!Z97=\"\",\"\",'2.Logbook'!Z97)","v":""},{"$f":"IF('2.Logbook'!AA97=\"\",\"\",'2.Logbook'!AA97)","v":""},{"$f":"IF('2.Logbook'!AB97=\"\",\"\",'2.Logbook'!AB97)","v":""},{"$f":"IF('2.Logbook'!AC97=\"\",\"\",'2.Logbook'!AC97)","v":""},{"$f":"IF('2.Logbook'!AD97=\"\",\"\",'2.Logbook'!AD97)","v":1},{"$f":"IF('2.Logbook'!AE97=\"\",\"\",'2.Logbook'!AE97)","v":""},{"$f":"IF('2.Logbook'!AF97=\"\",\"\",'2.Logbook'!AF97)","v":""},{"$f":"IF('2.Logbook'!AG97=\"\",\"\",'2.Logbook'!AG97)","v":""}]
[{"$f":"IF('2.Logbook'!A98=\"\",\"\",'2.Logbook'!A98)","v":"2020-06-29"},{"$f":"IF('2.Logbook'!B98=\"\",\"\",'2.Logbook'!B98)","v":"13:15:00"},{"$f":"IF('2.Logbook'!C98=\"\",\"\",'2.Logbook'!C98)","v":"1°27 N"},{"$f":"IF('2.Logbook'!D98=\"\",\"\",'2.Logbook'!D98)","v":"3°46 E"},{"$f":"IF('2.Logbook'!E98=\"\",\"\",'2.Logbook'!E98)","v":"Sao Tome e Principe"},{"$f":"IF('2.Logbook'!F98=\"\",\"\",'2.Logbook'!F98)","v":27},{"$f":"IF('2.Logbook'!G98=\"\",\"\",'2.Logbook'!G98)","v":"1900-07-08"},{"$f":"IF('2.Logbook'!H98=\"\",\"\",'2.Logbook'!H98)","v":10},{"$f":"IF('2.Logbook'!I98=\"\",\"\",'2.Logbook'!I98)","v":"1900-01-01"},{"$f":"IF('2.Logbook'!J98=\"\",\"\",'2.Logbook'!J98)","v":""},{"$f":"IF('2.Logbook'!K98=\"\",\"\",'2.Logbook'!K98)","v":"Banc Libre"},{"$f":"IF('2.Logbook'!L98=\"\",\"\",'2.Logbook'!L98)","v":"> 60 kg"},{"$f":"IF('2.Logbook'!M98=\"\",\"\",'2.Logbook'!M98)","v":"1900-01-05"},{"$f":"IF('2.Logbook'!N98=\"\",\"\",'2.Logbook'!N98)","v":""},{"$f":"IF('2.Logbook'!O98=\"\",\"\",'2.Logbook'!O98)","v":""},{"$f":"IF('2.Logbook'!P98=\"\",\"\",'2.Logbook'!P98)","v":""},{"$f":"IF('2.Logbook'!Q98=\"\",\"\",'2.Logbook'!Q98)","v":""},{"$f":"IF('2.Logbook'!R98=\"\",\"\",'2.Logbook'!R98)","v":""},{"$f":"IF('2.Logbook'!S98=\"\",\"\",'2.Logbook'!S98)","v":""},{"$f":"IF('2.Logbook'!T98=\"\",\"\",'2.Logbook'!T98)","v":""},{"$f":"IF('2.Logbook'!U98=\"\",\"\",'2.Logbook'!U98)","v":""},{"$f":"IF('2.Logbook'!V98=\"\",\"\",'2.Logbook'!V98)","v":""},{"$f":"IF('2.Logbook'!W98=\"\",\"\",'2.Logbook'!W98)","v":""},{"$f":"IF('2.Logbook'!X98=\"\",\"\",'2.Logbook'!X98)","v":""},{"$f":"IF('2.Logbook'!Y98=\"\",\"\",'2.Logbook'!Y98)","v":""},{"$f":"IF('2.Logbook'!Z98=\"\",\"\",'2.Logbook'!Z98)","v":""},{"$f":"IF('2.Logbook'!AA98=\"\",\"\",'2.Logbook'!AA98)","v":""},{"$f":"IF('2.Logbook'!AB98=\"\",\"\",'2.Logbook'!AB98)","v":""},{"$f":"IF('2.Logbook'!AC98=\"\",\"\",'2.Logbook'!AC98)","v":""},{"$f":"IF('2.Logbook'!AD98=\"\",\"\",'2.Logbook'!AD98)","v":1},{"$f":"IF('2.Logbook'!AE98=\"\",\"\",'2.Logbook'!AE98)","v":""},{"$f":"IF('2.Logbook'!AF98=\"\",\"\",'2.Logbook'!AF98)","v":""},{"$f":"IF('2.Logbook'!AG98=\"\",\"\",'2.Logbook'!AG98)","v":""}]
[{"$f":"IF('2.Logbook'!A99=\"\",\"\",'2.Logbook'!A99)","v":"2020-06-30"},{"$f":"IF('2.Logbook'!B99=\"\",\"\",'2.Logbook'!B99)","v":"07:40:00"},{"$f":"IF('2.Logbook'!C99=\"\",\"\",'2.Logbook'!C99)","v":"1°02 N"},{"$f":"IF('2.Logbook'!D99=\"\",\"\",'2.Logbook'!D99)","v":"3°46 E"},{"$f":"IF('2.Logbook'!E99=\"\",\"\",'2.Logbook'!E99)","v":"Sao Tome e Principe"},{"$f":"IF('2.Logbook'!F99=\"\",\"\",'2.Logbook'!F99)","v":27},{"$f":"IF('2.Logbook'!G99=\"\",\"\",'2.Logbook'!G99)","v":"1900-07-03"},{"$f":"IF('2.Logbook'!H99=\"\",\"\",'2.Logbook'!H99)","v":5},{"$f":"IF('2.Logbook'!I99=\"\",\"\",'2.Logbook'!I99)","v":"1900-01-01"},{"$f":"IF('2.Logbook'!J99=\"\",\"\",'2.Logbook'!J99)","v":""},{"$f":"IF('2.Logbook'!K99=\"\",\"\",'2.Logbook'!K99)","v":"Banc Libre"},{"$f":"IF('2.Logbook'!L99=\"\",\"\",'2.Logbook'!L99)","v":"> 60 kg"},{"$f":"IF('2.Logbook'!M99=\"\",\"\",'2.Logbook'!M99)","v":"1900-01-02"},{"$f":"IF('2.Logbook'!N99=\"\",\"\",'2.Logbook'!N99)","v":""},{"$f":"IF('2.Logbook'!O99=\"\",\"\",'2.Logbook'!O99)","v":""},{"$f":"IF('2.Logbook'!P99=\"\",\"\",'2.Logbook'!P99)","v":""},{"$f":"IF('2.Logbook'!Q99=\"\",\"\",'2.Logbook'!Q99)","v":""},{"$f":"IF('2.Logbook'!R99=\"\",\"\",'2.Logbook'!R99)","v":""},{"$f":"IF('2.Logbook'!S99=\"\",\"\",'2.Logbook'!S99)","v":""},{"$f":"IF('2.Logbook'!T99=\"\",\"\",'2.Logbook'!T99)","v":""},{"$f":"IF('2.Logbook'!U99=\"\",\"\",'2.Logbook'!U99)","v":""},{"$f":"IF('2.Logbook'!V99=\"\",\"\",'2.Logbook'!V99)","v":""},{"$f":"IF('2.Logbook'!W99=\"\",\"\",'2.Logbook'!W99)","v":""},{"$f":"IF('2.Logbook'!X99=\"\",\"\",'2.Logbook'!X99)","v":""},{"$f":"IF('2.Logbook'!Y99=\"\",\"\",'2.Logbook'!Y99)","v":""},{"$f":"IF('2.Logbook'!Z99=\"\",\"\",'2.Logbook'!Z99)","v":""},{"$f":"IF('2.Logbook'!AA99=\"\",\"\",'2.Logbook'!AA99)","v":""},{"$f":"IF('2.Logbook'!AB99=\"\",\"\",'2.Logbook'!AB99)","v":""},{"$f":"IF('2.Logbook'!AC99=\"\",\"\",'2.Logbook'!AC99)","v":""},{"$f":"IF('2.Logbook'!AD99=\"\",\"\",'2.Logbook'!AD99)","v":1},{"$f":"IF('2.Logbook'!AE99=\"\",\"\",'2.Logbook'!AE99)","v":""},{"$f":"IF('2.Logbook'!AF99=\"\",\"\",'2.Logbook'!AF99)","v":""},{"$f":"IF('2.Logbook'!AG99=\"\",\"\",'2.Logbook'!AG99)","v":""}]
[{"$f":"IF('2.Logbook'!A100=\"\",\"\",'2.Logbook'!A100)","v":"2020-06-30"},{"$f":"IF('2.Logbook'!B100=\"\",\"\",'2.Logbook'!B100)","v":"10;30"},{"$f":"IF('2.Logbook'!C100=\"\",\"\",'2.Logbook'!C100)","v":"1°04 N"},{"$f":"IF('2.Logbook'!D100=\"\",\"\",'2.Logbook'!D100)","v":"3°47 E"},{"$f":"IF('2.Logbook'!E100=\"\",\"\",'2.Logbook'!E100)","v":"Sao Tome e Principe"},{"$f":"IF('2.Logbook'!F100=\"\",\"\",'2.Logbook'!F100)","v":27},{"$f":"IF('2.Logbook'!G100=\"\",\"\",'2.Logbook'!G100)","v":"1900-07-03"},{"$f":"IF('2.Logbook'!H100=\"\",\"\",'2.Logbook'!H100)","v":5},{"$f":"IF('2.Logbook'!I100=\"\",\"\",'2.Logbook'!I100)","v":"1900-01-01"},{"$f":"IF('2.Logbook'!J100=\"\",\"\",'2.Logbook'!J100)","v":""},{"$f":"IF('2.Logbook'!K100=\"\",\"\",'2.Logbook'!K100)","v":"Banc Libre"},{"$f":"IF('2.Logbook'!L100=\"\",\"\",'2.Logbook'!L100)","v":"> 60 kg"},{"$f":"IF('2.Logbook'!M100=\"\",\"\",'2.Logbook'!M100)","v":"1900-03-08"},{"$f":"IF('2.Logbook'!N100=\"\",\"\",'2.Logbook'!N100)","v":""},{"$f":"IF('2.Logbook'!O100=\"\",\"\",'2.Logbook'!O100)","v":""},{"$f":"IF('2.Logbook'!P100=\"\",\"\",'2.Logbook'!P100)","v":""},{"$f":"IF('2.Logbook'!Q100=\"\",\"\",'2.Logbook'!Q100)","v":""},{"$f":"IF('2.Logbook'!R100=\"\",\"\",'2.Logbook'!R100)","v":""},{"$f":"IF('2.Logbook'!S100=\"\",\"\",'2.Logbook'!S100)","v":""},{"$f":"IF('2.Logbook'!T100=\"\",\"\",'2.Logbook'!T100)","v":""},{"$f":"IF('2.Logbook'!U100=\"\",\"\",'2.Logbook'!U100)","v":""},{"$f":"IF('2.Logbook'!V100=\"\",\"\",'2.Logbook'!V100)","v":""},{"$f":"IF('2.Logbook'!W100=\"\",\"\",'2.Logbook'!W100)","v":""},{"$f":"IF('2.Logbook'!X100=\"\",\"\",'2.Logbook'!X100)","v":""},{"$f":"IF('2.Logbook'!Y100=\"\",\"\",'2.Logbook'!Y100)","v":""},{"$f":"IF('2.Logbook'!Z100=\"\",\"\",'2.Logbook'!Z100)","v":""},{"$f":"IF('2.Logbook'!AA100=\"\",\"\",'2.Logbook'!AA100)","v":""},{"$f":"IF('2.Logbook'!AB100=\"\",\"\",'2.Logbook'!AB100)","v":""},{"$f":"IF('2.Logbook'!AC100=\"\",\"\",'2.Logbook'!AC100)","v":""},{"$f":"IF('2.Logbook'!AD100=\"\",\"\",'2.Logbook'!AD100)","v":1},{"$f":"IF('2.Logbook'!AE100=\"\",\"\",'2.Logbook'!AE100)","v":""},{"$f":"IF('2.Logbook'!AF100=\"\",\"\",'2.Logbook'!AF100)","v":""},{"$f":"IF('2.Logbook'!AG100=\"\",\"\",'2.Logbook'!AG100)","v":""}]
[{"$f":"IF('2.Logbook'!A101=\"\",\"\",'2.Logbook'!A101)","v":"2020-07-01"},{"$f":"IF('2.Logbook'!B101=\"\",\"\",'2.Logbook'!B101)","v":"13:25:00"},{"$f":"IF('2.Logbook'!C101=\"\",\"\",'2.Logbook'!C101)","v":"0°56 N"},{"$f":"IF('2.Logbook'!D101=\"\",\"\",'2.Logbook'!D101)","v":"4°37 E"},{"$f":"IF('2.Logbook'!E101=\"\",\"\",'2.Logbook'!E101)","v":"Sao Tome e Principe"},{"$f":"IF('2.Logbook'!F101=\"\",\"\",'2.Logbook'!F101)","v":27},{"$f":"IF('2.Logbook'!G101=\"\",\"\",'2.Logbook'!G101)","v":"1900-07-03"},{"$f":"IF('2.Logbook'!H101=\"\",\"\",'2.Logbook'!H101)","v":10},{"$f":"IF('2.Logbook'!I101=\"\",\"\",'2.Logbook'!I101)","v":"1900-01-01"},{"$f":"IF('2.Logbook'!J101=\"\",\"\",'2.Logbook'!J101)","v":""},{"$f":"IF('2.Logbook'!K101=\"\",\"\",'2.Logbook'!K101)","v":"Banc Objet"},{"$f":"IF('2.Logbook'!L101=\"\",\"\",'2.Logbook'!L101)","v":""},{"$f":"IF('2.Logbook'!M101=\"\",\"\",'2.Logbook'!M101)","v":""},{"$f":"IF('2.Logbook'!N101=\"\",\"\",'2.Logbook'!N101)","v":"1,8 - 3,4 kg"},{"$f":"IF('2.Logbook'!O101=\"\",\"\",'2.Logbook'!O101)","v":"1900-01-05"},{"$f":"IF('2.Logbook'!P101=\"\",\"\",'2.Logbook'!P101)","v":"1,8 - 3,4 kg"},{"$f":"IF('2.Logbook'!Q101=\"\",\"\",'2.Logbook'!Q101)","v":"1900-01-20"},{"$f":"IF('2.Logbook'!R101=\"\",\"\",'2.Logbook'!R101)","v":""},{"$f":"IF('2.Logbook'!S101=\"\",\"\",'2.Logbook'!S101)","v":""},{"$f":"IF('2.Logbook'!T101=\"\",\"\",'2.Logbook'!T101)","v":""},{"$f":"IF('2.Logbook'!U101=\"\",\"\",'2.Logbook'!U101)","v":""},{"$f":"IF('2.Logbook'!V101=\"\",\"\",'2.Logbook'!V101)","v":""},{"$f":"IF('2.Logbook'!W101=\"\",\"\",'2.Logbook'!W101)","v":""},{"$f":"IF('2.Logbook'!X101=\"\",\"\",'2.Logbook'!X101)","v":""},{"$f":"IF('2.Logbook'!Y101=\"\",\"\",'2.Logbook'!Y101)","v":""},{"$f":"IF('2.Logbook'!Z101=\"\",\"\",'2.Logbook'!Z101)","v":""},{"$f":"IF('2.Logbook'!AA101=\"\",\"\",'2.Logbook'!AA101)","v":""},{"$f":"IF('2.Logbook'!AB101=\"\",\"\",'2.Logbook'!AB101)","v":""},{"$f":"IF('2.Logbook'!AC101=\"\",\"\",'2.Logbook'!AC101)","v":""},{"$f":"IF('2.Logbook'!AD101=\"\",\"\",'2.Logbook'!AD101)","v":""},{"$f":"IF('2.Logbook'!AE101=\"\",\"\",'2.Logbook'!AE101)","v":"1900-01-01"},{"$f":"IF('2.Logbook'!AF101=\"\",\"\",'2.Logbook'!AF101)","v":""},{"$f":"IF('2.Logbook'!AG101=\"\",\"\",'2.Logbook'!AG101)","v":""}]
[{"$f":"IF('2.Logbook'!A102=\"\",\"\",'2.Logbook'!A102)","v":"2020-07-01"},{"$f":"IF('2.Logbook'!B102=\"\",\"\",'2.Logbook'!B102)","v":"13:25:00"},{"$f":"IF('2.Logbook'!C102=\"\",\"\",'2.Logbook'!C102)","v":"0°56 N"},{"$f":"IF('2.Logbook'!D102=\"\",\"\",'2.Logbook'!D102)","v":"4°37 E"},{"$f":"IF('2.Logbook'!E102=\"\",\"\",'2.Logbook'!E102)","v":"Sao Tome e Principe"},{"$f":"IF('2.Logbook'!F102=\"\",\"\",'2.Logbook'!F102)","v":27},{"$f":"IF('2.Logbook'!G102=\"\",\"\",'2.Logbook'!G102)","v":""},{"$f":"IF('2.Logbook'!H102=\"\",\"\",'2.Logbook'!H102)","v":""},{"$f":"IF('2.Logbook'!I102=\"\",\"\",'2.Logbook'!I102)","v":""},{"$f":"IF('2.Logbook'!J102=\"\",\"\",'2.Logbook'!J102)","v":""},{"$f":"IF('2.Logbook'!K102=\"\",\"\",'2.Logbook'!K102)","v":""},{"$f":"IF('2.Logbook'!L102=\"\",\"\",'2.Logbook'!L102)","v":""},{"$f":"IF('2.Logbook'!M102=\"\",\"\",'2.Logbook'!M102)","v":""},{"$f":"IF('2.Logbook'!N102=\"\",\"\",'2.Logbook'!N102)","v":""},{"$f":"IF('2.Logbook'!O102=\"\",\"\",'2.Logbook'!O102)","v":""},{"$f":"IF('2.Logbook'!P102=\"\",\"\",'2.Logbook'!P102)","v":"< 1,8 kg"},{"$f":"IF('2.Logbook'!Q102=\"\",\"\",'2.Logbook'!Q102)","v":"1900-01-10"},{"$f":"IF('2.Logbook'!R102=\"\",\"\",'2.Logbook'!R102)","v":""},{"$f":"IF('2.Logbook'!S102=\"\",\"\",'2.Logbook'!S102)","v":""},{"$f":"IF('2.Logbook'!T102=\"\",\"\",'2.Logbook'!T102)","v":""},{"$f":"IF('2.Logbook'!U102=\"\",\"\",'2.Logbook'!U102)","v":""},{"$f":"IF('2.Logbook'!V102=\"\",\"\",'2.Logbook'!V102)","v":""},{"$f":"IF('2.Logbook'!W102=\"\",\"\",'2.Logbook'!W102)","v":""},{"$f":"IF('2.Logbook'!X102=\"\",\"\",'2.Logbook'!X102)","v":""},{"$f":"IF('2.Logbook'!Y102=\"\",\"\",'2.Logbook'!Y102)","v":""},{"$f":"IF('2.Logbook'!Z102=\"\",\"\",'2.Logbook'!Z102)","v":""},{"$f":"IF('2.Logbook'!AA102=\"\",\"\",'2.Logbook'!AA102)","v":""},{"$f":"IF('2.Logbook'!AB102=\"\",\"\",'2.Logbook'!AB102)","v":""},{"$f":"IF('2.Logbook'!AC102=\"\",\"\",'2.Logbook'!AC102)","v":""},{"$f":"IF('2.Logbook'!AD102=\"\",\"\",'2.Logbook'!AD102)","v":""},{"$f":"IF('2.Logbook'!AE102=\"\",\"\",'2.Logbook'!AE102)","v":""},{"$f":"IF('2.Logbook'!AF102=\"\",\"\",'2.Logbook'!AF102)","v":""},{"$f":"IF('2.Logbook'!AG102=\"\",\"\",'2.Logbook'!AG102)","v":""}]
[{"$f":"IF('2.Logbook'!A103=\"\",\"\",'2.Logbook'!A103)","v":"2020-07-02"},{"$f":"IF('2.Logbook'!B103=\"\",\"\",'2.Logbook'!B103)","v":"07:40:00"},{"$f":"IF('2.Logbook'!C103=\"\",\"\",'2.Logbook'!C103)","v":"0°55 N"},{"$f":"IF('2.Logbook'!D103=\"\",\"\",'2.Logbook'!D103)","v":"05°00 E"},{"$f":"IF('2.Logbook'!E103=\"\",\"\",'2.Logbook'!E103)","v":"Sao Tome e Principe"},{"$f":"IF('2.Logbook'!F103=\"\",\"\",'2.Logbook'!F103)","v":26},{"$f":"IF('2.Logbook'!G103=\"\",\"\",'2.Logbook'!G103)","v":"1900-07-03"},{"$f":"IF('2.Logbook'!H103=\"\",\"\",'2.Logbook'!H103)","v":15},{"$f":"IF('2.Logbook'!I103=\"\",\"\",'2.Logbook'!I103)","v":"1900-01-01"},{"$f":"IF('2.Logbook'!J103=\"\",\"\",'2.Logbook'!J103)","v":""},{"$f":"IF('2.Logbook'!K103=\"\",\"\",'2.Logbook'!K103)","v":"Banc Objet"},{"$f":"IF('2.Logbook'!L103=\"\",\"\",'2.Logbook'!L103)","v":""},{"$f":"IF('2.Logbook'!M103=\"\",\"\",'2.Logbook'!M103)","v":""},{"$f":"IF('2.Logbook'!N103=\"\",\"\",'2.Logbook'!N103)","v":""},{"$f":"IF('2.Logbook'!O103=\"\",\"\",'2.Logbook'!O103)","v":""},{"$f":"IF('2.Logbook'!P103=\"\",\"\",'2.Logbook'!P103)","v":"1,8 - 3,4 kg"},{"$f":"IF('2.Logbook'!Q103=\"\",\"\",'2.Logbook'!Q103)","v":"1900-01-05"},{"$f":"IF('2.Logbook'!R103=\"\",\"\",'2.Logbook'!R103)","v":""},{"$f":"IF('2.Logbook'!S103=\"\",\"\",'2.Logbook'!S103)","v":""},{"$f":"IF('2.Logbook'!T103=\"\",\"\",'2.Logbook'!T103)","v":""},{"$f":"IF('2.Logbook'!U103=\"\",\"\",'2.Logbook'!U103)","v":""},{"$f":"IF('2.Logbook'!V103=\"\",\"\",'2.Logbook'!V103)","v":""},{"$f":"IF('2.Logbook'!W103=\"\",\"\",'2.Logbook'!W103)","v":""},{"$f":"IF('2.Logbook'!X103=\"\",\"\",'2.Logbook'!X103)","v":""},{"$f":"IF('2.Logbook'!Y103=\"\",\"\",'2.Logbook'!Y103)","v":""},{"$f":"IF('2.Logbook'!Z103=\"\",\"\",'2.Logbook'!Z103)","v":""},{"$f":"IF('2.Logbook'!AA103=\"\",\"\",'2.Logbook'!AA103)","v":""},{"$f":"IF('2.Logbook'!AB103=\"\",\"\",'2.Logbook'!AB103)","v":""},{"$f":"IF('2.Logbook'!AC103=\"\",\"\",'2.Logbook'!AC103)","v":""},{"$f":"IF('2.Logbook'!AD103=\"\",\"\",'2.Logbook'!AD103)","v":""},{"$f":"IF('2.Logbook'!AE103=\"\",\"\",'2.Logbook'!AE103)","v":"1900-01-01"},{"$f":"IF('2.Logbook'!AF103=\"\",\"\",'2.Logbook'!AF103)","v":""},{"$f":"IF('2.Logbook'!AG103=\"\",\"\",'2.Logbook'!AG103)","v":""}]
[{"$f":"IF('2.Logbook'!A104=\"\",\"\",'2.Logbook'!A104)","v":"2020-07-02"},{"$f":"IF('2.Logbook'!B104=\"\",\"\",'2.Logbook'!B104)","v":"13:30:00"},{"$f":"IF('2.Logbook'!C104=\"\",\"\",'2.Logbook'!C104)","v":"1°10 N "},{"$f":"IF('2.Logbook'!D104=\"\",\"\",'2.Logbook'!D104)","v":"4°54 E"},{"$f":"IF('2.Logbook'!E104=\"\",\"\",'2.Logbook'!E104)","v":"Sao Tome e Principe"},{"$f":"IF('2.Logbook'!F104=\"\",\"\",'2.Logbook'!F104)","v":26},{"$f":"IF('2.Logbook'!G104=\"\",\"\",'2.Logbook'!G104)","v":"1900-07-04"},{"$f":"IF('2.Logbook'!H104=\"\",\"\",'2.Logbook'!H104)","v":15},{"$f":"IF('2.Logbook'!I104=\"\",\"\",'2.Logbook'!I104)","v":""},{"$f":"IF('2.Logbook'!J104=\"\",\"\",'2.Logbook'!J104)","v":""},{"$f":"IF('2.Logbook'!K104=\"\",\"\",'2.Logbook'!K104)","v":""},{"$f":"IF('2.Logbook'!L104=\"\",\"\",'2.Logbook'!L104)","v":""},{"$f":"IF('2.Logbook'!M104=\"\",\"\",'2.Logbook'!M104)","v":""},{"$f":"IF('2.Logbook'!N104=\"\",\"\",'2.Logbook'!N104)","v":""},{"$f":"IF('2.Logbook'!O104=\"\",\"\",'2.Logbook'!O104)","v":""},{"$f":"IF('2.Logbook'!P104=\"\",\"\",'2.Logbook'!P104)","v":""},{"$f":"IF('2.Logbook'!Q104=\"\",\"\",'2.Logbook'!Q104)","v":""},{"$f":"IF('2.Logbook'!R104=\"\",\"\",'2.Logbook'!R104)","v":""},{"$f":"IF('2.Logbook'!S104=\"\",\"\",'2.Logbook'!S104)","v":""},{"$f":"IF('2.Logbook'!T104=\"\",\"\",'2.Logbook'!T104)","v":""},{"$f":"IF('2.Logbook'!U104=\"\",\"\",'2.Logbook'!U104)","v":""},{"$f":"IF('2.Logbook'!V104=\"\",\"\",'2.Logbook'!V104)","v":""},{"$f":"IF('2.Logbook'!W104=\"\",\"\",'2.Logbook'!W104)","v":""},{"$f":"IF('2.Logbook'!X104=\"\",\"\",'2.Logbook'!X104)","v":""},{"$f":"IF('2.Logbook'!Y104=\"\",\"\",'2.Logbook'!Y104)","v":""},{"$f":"IF('2.Logbook'!Z104=\"\",\"\",'2.Logbook'!Z104)","v":""},{"$f":"IF('2.Logbook'!AA104=\"\",\"\",'2.Logbook'!AA104)","v":""},{"$f":"IF('2.Logbook'!AB104=\"\",\"\",'2.Logbook'!AB104)","v":""},{"$f":"IF('2.Logbook'!AC104=\"\",\"\",'2.Logbook'!AC104)","v":""},{"$f":"IF('2.Logbook'!AD104=\"\",\"\",'2.Logbook'!AD104)","v":""},{"$f":"IF('2.Logbook'!AE104=\"\",\"\",'2.Logbook'!AE104)","v":""},{"$f":"IF('2.Logbook'!AF104=\"\",\"\",'2.Logbook'!AF104)","v":""},{"$f":"IF('2.Logbook'!AG104=\"\",\"\",'2.Logbook'!AG104)","v":""}]
[{"$f":"IF('2.Logbook'!A105=\"\",\"\",'2.Logbook'!A105)","v":"2020-07-03"},{"$f":"IF('2.Logbook'!B105=\"\",\"\",'2.Logbook'!B105)","v":"06:30:00"},{"$f":"IF('2.Logbook'!C105=\"\",\"\",'2.Logbook'!C105)","v":"1°06 N"},{"$f":"IF('2.Logbook'!D105=\"\",\"\",'2.Logbook'!D105)","v":"04°52 E"},{"$f":"IF('2.Logbook'!E105=\"\",\"\",'2.Logbook'!E105)","v":"Sao Tome e Principe"},{"$f":"IF('2.Logbook'!F105=\"\",\"\",'2.Logbook'!F105)","v":27},{"$f":"IF('2.Logbook'!G105=\"\",\"\",'2.Logbook'!G105)","v":"1900-07-08"},{"$f":"IF('2.Logbook'!H105=\"\",\"\",'2.Logbook'!H105)","v":20},{"$f":"IF('2.Logbook'!I105=\"\",\"\",'2.Logbook'!I105)","v":"1900-01-01"},{"$f":"IF('2.Logbook'!J105=\"\",\"\",'2.Logbook'!J105)","v":""},{"$f":"IF('2.Logbook'!K105=\"\",\"\",'2.Logbook'!K105)","v":""},{"$f":"IF('2.Logbook'!L105=\"\",\"\",'2.Logbook'!L105)","v":""},{"$f":"IF('2.Logbook'!M105=\"\",\"\",'2.Logbook'!M105)","v":""},{"$f":"IF('2.Logbook'!N105=\"\",\"\",'2.Logbook'!N105)","v":"1,8 - 3,4 kg"},{"$f":"IF('2.Logbook'!O105=\"\",\"\",'2.Logbook'!O105)","v":"1900-01-03"},{"$f":"IF('2.Logbook'!P105=\"\",\"\",'2.Logbook'!P105)","v":"1,8 - 3,4 kg"},{"$f":"IF('2.Logbook'!Q105=\"\",\"\",'2.Logbook'!Q105)","v":"1900-02-04"},{"$f":"IF('2.Logbook'!R105=\"\",\"\",'2.Logbook'!R105)","v":""},{"$f":"IF('2.Logbook'!S105=\"\",\"\",'2.Logbook'!S105)","v":""},{"$f":"IF('2.Logbook'!T105=\"\",\"\",'2.Logbook'!T105)","v":""},{"$f":"IF('2.Logbook'!U105=\"\",\"\",'2.Logbook'!U105)","v":""},{"$f":"IF('2.Logbook'!V105=\"\",\"\",'2.Logbook'!V105)","v":""},{"$f":"IF('2.Logbook'!W105=\"\",\"\",'2.Logbook'!W105)","v":""},{"$f":"IF('2.Logbook'!X105=\"\",\"\",'2.Logbook'!X105)","v":""},{"$f":"IF('2.Logbook'!Y105=\"\",\"\",'2.Logbook'!Y105)","v":""},{"$f":"IF('2.Logbook'!Z105=\"\",\"\",'2.Logbook'!Z105)","v":""},{"$f":"IF('2.Logbook'!AA105=\"\",\"\",'2.Logbook'!AA105)","v":""},{"$f":"IF('2.Logbook'!AB105=\"\",\"\",'2.Logbook'!AB105)","v":""},{"$f":"IF('2.Logbook'!AC105=\"\",\"\",'2.Logbook'!AC105)","v":""},{"$f":"IF('2.Logbook'!AD105=\"\",\"\",'2.Logbook'!AD105)","v":""},{"$f":"IF('2.Logbook'!AE105=\"\",\"\",'2.Logbook'!AE105)","v":"1900-01-01"},{"$f":"IF('2.Logbook'!AF105=\"\",\"\",'2.Logbook'!AF105)","v":""},{"$f":"IF('2.Logbook'!AG105=\"\",\"\",'2.Logbook'!AG105)","v":""}]
[{"$f":"IF('2.Logbook'!A106=\"\",\"\",'2.Logbook'!A106)","v":"2020-07-03"},{"$f":"IF('2.Logbook'!B106=\"\",\"\",'2.Logbook'!B106)","v":"06:30:00"},{"$f":"IF('2.Logbook'!C106=\"\",\"\",'2.Logbook'!C106)","v":"1°06 N"},{"$f":"IF('2.Logbook'!D106=\"\",\"\",'2.Logbook'!D106)","v":"04°52 E"},{"$f":"IF('2.Logbook'!E106=\"\",\"\",'2.Logbook'!E106)","v":"Sao Tome e Principe"},{"$f":"IF('2.Logbook'!F106=\"\",\"\",'2.Logbook'!F106)","v":""},{"$f":"IF('2.Logbook'!G106=\"\",\"\",'2.Logbook'!G106)","v":""},{"$f":"IF('2.Logbook'!H106=\"\",\"\",'2.Logbook'!H106)","v":""},{"$f":"IF('2.Logbook'!I106=\"\",\"\",'2.Logbook'!I106)","v":""},{"$f":"IF('2.Logbook'!J106=\"\",\"\",'2.Logbook'!J106)","v":""},{"$f":"IF('2.Logbook'!K106=\"\",\"\",'2.Logbook'!K106)","v":""},{"$f":"IF('2.Logbook'!L106=\"\",\"\",'2.Logbook'!L106)","v":""},{"$f":"IF('2.Logbook'!M106=\"\",\"\",'2.Logbook'!M106)","v":""},{"$f":"IF('2.Logbook'!N106=\"\",\"\",'2.Logbook'!N106)","v":""},{"$f":"IF('2.Logbook'!O106=\"\",\"\",'2.Logbook'!O106)","v":""},{"$f":"IF('2.Logbook'!P106=\"\",\"\",'2.Logbook'!P106)","v":"< 1,8 kg"},{"$f":"IF('2.Logbook'!Q106=\"\",\"\",'2.Logbook'!Q106)","v":"1900-01-10"},{"$f":"IF('2.Logbook'!R106=\"\",\"\",'2.Logbook'!R106)","v":""},{"$f":"IF('2.Logbook'!S106=\"\",\"\",'2.Logbook'!S106)","v":""},{"$f":"IF('2.Logbook'!T106=\"\",\"\",'2.Logbook'!T106)","v":""},{"$f":"IF('2.Logbook'!U106=\"\",\"\",'2.Logbook'!U106)","v":""},{"$f":"IF('2.Logbook'!V106=\"\",\"\",'2.Logbook'!V106)","v":""},{"$f":"IF('2.Logbook'!W106=\"\",\"\",'2.Logbook'!W106)","v":""},{"$f":"IF('2.Logbook'!X106=\"\",\"\",'2.Logbook'!X106)","v":""},{"$f":"IF('2.Logbook'!Y106=\"\",\"\",'2.Logbook'!Y106)","v":""},{"$f":"IF('2.Logbook'!Z106=\"\",\"\",'2.Logbook'!Z106)","v":""},{"$f":"IF('2.Logbook'!AA106=\"\",\"\",'2.Logbook'!AA106)","v":""},{"$f":"IF('2.Logbook'!AB106=\"\",\"\",'2.Logbook'!AB106)","v":""},{"$f":"IF('2.Logbook'!AC106=\"\",\"\",'2.Logbook'!AC106)","v":""},{"$f":"IF('2.Logbook'!AD106=\"\",\"\",'2.Logbook'!AD106)","v":""},{"$f":"IF('2.Logbook'!AE106=\"\",\"\",'2.Logbook'!AE106)","v":""},{"$f":"IF('2.Logbook'!AF106=\"\",\"\",'2.Logbook'!AF106)","v":""},{"$f":"IF('2.Logbook'!AG106=\"\",\"\",'2.Logbook'!AG106)","v":""}]
[{"$f":"IF('2.Logbook'!A107=\"\",\"\",'2.Logbook'!A107)","v":"2020-07-03"},{"$f":"IF('2.Logbook'!B107=\"\",\"\",'2.Logbook'!B107)","v":"13:20:00"},{"$f":"IF('2.Logbook'!C107=\"\",\"\",'2.Logbook'!C107)","v":"0°40 N"},{"$f":"IF('2.Logbook'!D107=\"\",\"\",'2.Logbook'!D107)","v":"4°21 E"},{"$f":"IF('2.Logbook'!E107=\"\",\"\",'2.Logbook'!E107)","v":"Sao Tome e Principe"},{"$f":"IF('2.Logbook'!F107=\"\",\"\",'2.Logbook'!F107)","v":27},{"$f":"IF('2.Logbook'!G107=\"\",\"\",'2.Logbook'!G107)","v":"1900-07-08"},{"$f":"IF('2.Logbook'!H107=\"\",\"\",'2.Logbook'!H107)","v":20},{"$f":"IF('2.Logbook'!I107=\"\",\"\",'2.Logbook'!I107)","v":"1900-01-01"},{"$f":"IF('2.Logbook'!J107=\"\",\"\",'2.Logbook'!J107)","v":""},{"$f":"IF('2.Logbook'!K107=\"\",\"\",'2.Logbook'!K107)","v":""},{"$f":"IF('2.Logbook'!L107=\"\",\"\",'2.Logbook'!L107)","v":"10 - 20 kg"},{"$f":"IF('2.Logbook'!M107=\"\",\"\",'2.Logbook'!M107)","v":"1900-01-01"},{"$f":"IF('2.Logbook'!N107=\"\",\"\",'2.Logbook'!N107)","v":""},{"$f":"IF('2.Logbook'!O107=\"\",\"\",'2.Logbook'!O107)","v":""},{"$f":"IF('2.Logbook'!P107=\"\",\"\",'2.Logbook'!P107)","v":"1,8 - 3,4 kg"},{"$f":"IF('2.Logbook'!Q107=\"\",\"\",'2.Logbook'!Q107)","v":"1900-01-15"},{"$f":"IF('2.Logbook'!R107=\"\",\"\",'2.Logbook'!R107)","v":""},{"$f":"IF('2.Logbook'!S107=\"\",\"\",'2.Logbook'!S107)","v":""},{"$f":"IF('2.Logbook'!T107=\"\",\"\",'2.Logbook'!T107)","v":""},{"$f":"IF('2.Logbook'!U107=\"\",\"\",'2.Logbook'!U107)","v":""},{"$f":"IF('2.Logbook'!V107=\"\",\"\",'2.Logbook'!V107)","v":""},{"$f":"IF('2.Logbook'!W107=\"\",\"\",'2.Logbook'!W107)","v":""},{"$f":"IF('2.Logbook'!X107=\"\",\"\",'2.Logbook'!X107)","v":"RAVIL"},{"$f":"IF('2.Logbook'!Y107=\"\",\"\",'2.Logbook'!Y107)","v":"1900-01-01"},{"$f":"IF('2.Logbook'!Z107=\"\",\"\",'2.Logbook'!Z107)","v":2},{"$f":"IF('2.Logbook'!AA107=\"\",\"\",'2.Logbook'!AA107)","v":""},{"$f":"IF('2.Logbook'!AB107=\"\",\"\",'2.Logbook'!AB107)","v":""},{"$f":"IF('2.Logbook'!AC107=\"\",\"\",'2.Logbook'!AC107)","v":""},{"$f":"IF('2.Logbook'!AD107=\"\",\"\",'2.Logbook'!AD107)","v":""},{"$f":"IF('2.Logbook'!AE107=\"\",\"\",'2.Logbook'!AE107)","v":"1900-01-01"},{"$f":"IF('2.Logbook'!AF107=\"\",\"\",'2.Logbook'!AF107)","v":""},{"$f":"IF('2.Logbook'!AG107=\"\",\"\",'2.Logbook'!AG107)","v":""}]
[{"$f":"IF('2.Logbook'!A108=\"\",\"\",'2.Logbook'!A108)","v":"2020-07-03"},{"$f":"IF('2.Logbook'!B108=\"\",\"\",'2.Logbook'!B108)","v":"13:20:00"},{"$f":"IF('2.Logbook'!C108=\"\",\"\",'2.Logbook'!C108)","v":"0°40 N"},{"$f":"IF('2.Logbook'!D108=\"\",\"\",'2.Logbook'!D108)","v":"4°21 E"},{"$f":"IF('2.Logbook'!E108=\"\",\"\",'2.Logbook'!E108)","v":"Sao Tome e Principe"},{"$f":"IF('2.Logbook'!F108=\"\",\"\",'2.Logbook'!F108)","v":""},{"$f":"IF('2.Logbook'!G108=\"\",\"\",'2.Logbook'!G108)","v":""},{"$f":"IF('2.Logbook'!H108=\"\",\"\",'2.Logbook'!H108)","v":""},{"$f":"IF('2.Logbook'!I108=\"\",\"\",'2.Logbook'!I108)","v":""},{"$f":"IF('2.Logbook'!J108=\"\",\"\",'2.Logbook'!J108)","v":""},{"$f":"IF('2.Logbook'!K108=\"\",\"\",'2.Logbook'!K108)","v":""},{"$f":"IF('2.Logbook'!L108=\"\",\"\",'2.Logbook'!L108)","v":""},{"$f":"IF('2.Logbook'!M108=\"\",\"\",'2.Logbook'!M108)","v":""},{"$f":"IF('2.Logbook'!N108=\"\",\"\",'2.Logbook'!N108)","v":""},{"$f":"IF('2.Logbook'!O108=\"\",\"\",'2.Logbook'!O108)","v":""},{"$f":"IF('2.Logbook'!P108=\"\",\"\",'2.Logbook'!P108)","v":"< 1,8 kg"},{"$f":"IF('2.Logbook'!Q108=\"\",\"\",'2.Logbook'!Q108)","v":"1900-01-02"},{"$f":"IF('2.Logbook'!R108=\"\",\"\",'2.Logbook'!R108)","v":""},{"$f":"IF('2.Logbook'!S108=\"\",\"\",'2.Logbook'!S108)","v":""},{"$f":"IF('2.Logbook'!T108=\"\",\"\",'2.Logbook'!T108)","v":""},{"$f":"IF('2.Logbook'!U108=\"\",\"\",'2.Logbook'!U108)","v":""},{"$f":"IF('2.Logbook'!V108=\"\",\"\",'2.Logbook'!V108)","v":""},{"$f":"IF('2.Logbook'!W108=\"\",\"\",'2.Logbook'!W108)","v":""},{"$f":"IF('2.Logbook'!X108=\"\",\"\",'2.Logbook'!X108)","v":""},{"$f":"IF('2.Logbook'!Y108=\"\",\"\",'2.Logbook'!Y108)","v":""},{"$f":"IF('2.Logbook'!Z108=\"\",\"\",'2.Logbook'!Z108)","v":""},{"$f":"IF('2.Logbook'!AA108=\"\",\"\",'2.Logbook'!AA108)","v":""},{"$f":"IF('2.Logbook'!AB108=\"\",\"\",'2.Logbook'!AB108)","v":""},{"$f":"IF('2.Logbook'!AC108=\"\",\"\",'2.Logbook'!AC108)","v":""},{"$f":"IF('2.Logbook'!AD108=\"\",\"\",'2.Logbook'!AD108)","v":""},{"$f":"IF('2.Logbook'!AE108=\"\",\"\",'2.Logbook'!AE108)","v":""},{"$f":"IF('2.Logbook'!AF108=\"\",\"\",'2.Logbook'!AF108)","v":""},{"$f":"IF('2.Logbook'!AG108=\"\",\"\",'2.Logbook'!AG108)","v":""}]
[{"$f":"IF('2.Logbook'!A109=\"\",\"\",'2.Logbook'!A109)","v":"2020-07-04"},{"$f":"IF('2.Logbook'!B109=\"\",\"\",'2.Logbook'!B109)","v":"07:45:00"},{"$f":"IF('2.Logbook'!C109=\"\",\"\",'2.Logbook'!C109)","v":"0°59 N"},{"$f":"IF('2.Logbook'!D109=\"\",\"\",'2.Logbook'!D109)","v":"4°45 E"},{"$f":"IF('2.Logbook'!E109=\"\",\"\",'2.Logbook'!E109)","v":"Sao Tome e Principe"},{"$f":"IF('2.Logbook'!F109=\"\",\"\",'2.Logbook'!F109)","v":27},{"$f":"IF('2.Logbook'!G109=\"\",\"\",'2.Logbook'!G109)","v":"1900-07-08"},{"$f":"IF('2.Logbook'!H109=\"\",\"\",'2.Logbook'!H109)","v":20},{"$f":"IF('2.Logbook'!I109=\"\",\"\",'2.Logbook'!I109)","v":""},{"$f":"IF('2.Logbook'!J109=\"\",\"\",'2.Logbook'!J109)","v":1},{"$f":"IF('2.Logbook'!K109=\"\",\"\",'2.Logbook'!K109)","v":"Banc Libre"},{"$f":"IF('2.Logbook'!L109=\"\",\"\",'2.Logbook'!L109)","v":""},{"$f":"IF('2.Logbook'!M109=\"\",\"\",'2.Logbook'!M109)","v":""},{"$f":"IF('2.Logbook'!N109=\"\",\"\",'2.Logbook'!N109)","v":""},{"$f":"IF('2.Logbook'!O109=\"\",\"\",'2.Logbook'!O109)","v":""},{"$f":"IF('2.Logbook'!P109=\"\",\"\",'2.Logbook'!P109)","v":""},{"$f":"IF('2.Logbook'!Q109=\"\",\"\",'2.Logbook'!Q109)","v":""},{"$f":"IF('2.Logbook'!R109=\"\",\"\",'2.Logbook'!R109)","v":""},{"$f":"IF('2.Logbook'!S109=\"\",\"\",'2.Logbook'!S109)","v":""},{"$f":"IF('2.Logbook'!T109=\"\",\"\",'2.Logbook'!T109)","v":""},{"$f":"IF('2.Logbook'!U109=\"\",\"\",'2.Logbook'!U109)","v":""},{"$f":"IF('2.Logbook'!V109=\"\",\"\",'2.Logbook'!V109)","v":""},{"$f":"IF('2.Logbook'!W109=\"\",\"\",'2.Logbook'!W109)","v":""},{"$f":"IF('2.Logbook'!X109=\"\",\"\",'2.Logbook'!X109)","v":""},{"$f":"IF('2.Logbook'!Y109=\"\",\"\",'2.Logbook'!Y109)","v":""},{"$f":"IF('2.Logbook'!Z109=\"\",\"\",'2.Logbook'!Z109)","v":""},{"$f":"IF('2.Logbook'!AA109=\"\",\"\",'2.Logbook'!AA109)","v":""},{"$f":"IF('2.Logbook'!AB109=\"\",\"\",'2.Logbook'!AB109)","v":""},{"$f":"IF('2.Logbook'!AC109=\"\",\"\",'2.Logbook'!AC109)","v":""},{"$f":"IF('2.Logbook'!AD109=\"\",\"\",'2.Logbook'!AD109)","v":""},{"$f":"IF('2.Logbook'!AE109=\"\",\"\",'2.Logbook'!AE109)","v":""},{"$f":"IF('2.Logbook'!AF109=\"\",\"\",'2.Logbook'!AF109)","v":""},{"$f":"IF('2.Logbook'!AG109=\"\",\"\",'2.Logbook'!AG109)","v":""}]
[{"$f":"IF('2.Logbook'!A110=\"\",\"\",'2.Logbook'!A110)","v":"2020-07-05"},{"$f":"IF('2.Logbook'!B110=\"\",\"\",'2.Logbook'!B110)","v":"16.35"},{"$f":"IF('2.Logbook'!C110=\"\",\"\",'2.Logbook'!C110)","v":"1°11 N "},{"$f":"IF('2.Logbook'!D110=\"\",\"\",'2.Logbook'!D110)","v":"4° 22 E"},{"$f":"IF('2.Logbook'!E110=\"\",\"\",'2.Logbook'!E110)","v":"Sao Tome e Principe"},{"$f":"IF('2.Logbook'!F110=\"\",\"\",'2.Logbook'!F110)","v":27},{"$f":"IF('2.Logbook'!G110=\"\",\"\",'2.Logbook'!G110)","v":"1900-06-13"},{"$f":"IF('2.Logbook'!H110=\"\",\"\",'2.Logbook'!H110)","v":10},{"$f":"IF('2.Logbook'!I110=\"\",\"\",'2.Logbook'!I110)","v":""},{"$f":"IF('2.Logbook'!J110=\"\",\"\",'2.Logbook'!J110)","v":""},{"$f":"IF('2.Logbook'!K110=\"\",\"\",'2.Logbook'!K110)","v":""},{"$f":"IF('2.Logbook'!L110=\"\",\"\",'2.Logbook'!L110)","v":""},{"$f":"IF('2.Logbook'!M110=\"\",\"\",'2.Logbook'!M110)","v":""},{"$f":"IF('2.Logbook'!N110=\"\",\"\",'2.Logbook'!N110)","v":""},{"$f":"IF('2.Logbook'!O110=\"\",\"\",'2.Logbook'!O110)","v":""},{"$f":"IF('2.Logbook'!P110=\"\",\"\",'2.Logbook'!P110)","v":""},{"$f":"IF('2.Logbook'!Q110=\"\",\"\",'2.Logbook'!Q110)","v":""},{"$f":"IF('2.Logbook'!R110=\"\",\"\",'2.Logbook'!R110)","v":""},{"$f":"IF('2.Logbook'!S110=\"\",\"\",'2.Logbook'!S110)","v":""},{"$f":"IF('2.Logbook'!T110=\"\",\"\",'2.Logbook'!T110)","v":""},{"$f":"IF('2.Logbook'!U110=\"\",\"\",'2.Logbook'!U110)","v":""},{"$f":"IF('2.Logbook'!V110=\"\",\"\",'2.Logbook'!V110)","v":""},{"$f":"IF('2.Logbook'!W110=\"\",\"\",'2.Logbook'!W110)","v":""},{"$f":"IF('2.Logbook'!X110=\"\",\"\",'2.Logbook'!X110)","v":""},{"$f":"IF('2.Logbook'!Y110=\"\",\"\",'2.Logbook'!Y110)","v":""},{"$f":"IF('2.Logbook'!Z110=\"\",\"\",'2.Logbook'!Z110)","v":""},{"$f":"IF('2.Logbook'!AA110=\"\",\"\",'2.Logbook'!AA110)","v":""},{"$f":"IF('2.Logbook'!AB110=\"\",\"\",'2.Logbook'!AB110)","v":""},{"$f":"IF('2.Logbook'!AC110=\"\",\"\",'2.Logbook'!AC110)","v":""},{"$f":"IF('2.Logbook'!AD110=\"\",\"\",'2.Logbook'!AD110)","v":""},{"$f":"IF('2.Logbook'!AE110=\"\",\"\",'2.Logbook'!AE110)","v":""},{"$f":"IF('2.Logbook'!AF110=\"\",\"\",'2.Logbook'!AF110)","v":""},{"$f":"IF('2.Logbook'!AG110=\"\",\"\",'2.Logbook'!AG110)","v":""}]
[{"$f":"IF('2.Logbook'!A111=\"\",\"\",'2.Logbook'!A111)","v":"2020-07-06"},{"$f":"IF('2.Logbook'!B111=\"\",\"\",'2.Logbook'!B111)","v":"07:30:00"},{"$f":"IF('2.Logbook'!C111=\"\",\"\",'2.Logbook'!C111)","v":"1°44 N "},{"$f":"IF('2.Logbook'!D111=\"\",\"\",'2.Logbook'!D111)","v":"0°52 E "},{"$f":"IF('2.Logbook'!E111=\"\",\"\",'2.Logbook'!E111)","v":"Eaux internationales"},{"$f":"IF('2.Logbook'!F111=\"\",\"\",'2.Logbook'!F111)","v":27},{"$f":"IF('2.Logbook'!G111=\"\",\"\",'2.Logbook'!G111)","v":"1900-07-03"},{"$f":"IF('2.Logbook'!H111=\"\",\"\",'2.Logbook'!H111)","v":5},{"$f":"IF('2.Logbook'!I111=\"\",\"\",'2.Logbook'!I111)","v":""},{"$f":"IF('2.Logbook'!J111=\"\",\"\",'2.Logbook'!J111)","v":""},{"$f":"IF('2.Logbook'!K111=\"\",\"\",'2.Logbook'!K111)","v":""},{"$f":"IF('2.Logbook'!L111=\"\",\"\",'2.Logbook'!L111)","v":""},{"$f":"IF('2.Logbook'!M111=\"\",\"\",'2.Logbook'!M111)","v":""},{"$f":"IF('2.Logbook'!N111=\"\",\"\",'2.Logbook'!N111)","v":""},{"$f":"IF('2.Logbook'!O111=\"\",\"\",'2.Logbook'!O111)","v":""},{"$f":"IF('2.Logbook'!P111=\"\",\"\",'2.Logbook'!P111)","v":""},{"$f":"IF('2.Logbook'!Q111=\"\",\"\",'2.Logbook'!Q111)","v":""},{"$f":"IF('2.Logbook'!R111=\"\",\"\",'2.Logbook'!R111)","v":""},{"$f":"IF('2.Logbook'!S111=\"\",\"\",'2.Logbook'!S111)","v":""},{"$f":"IF('2.Logbook'!T111=\"\",\"\",'2.Logbook'!T111)","v":""},{"$f":"IF('2.Logbook'!U111=\"\",\"\",'2.Logbook'!U111)","v":""},{"$f":"IF('2.Logbook'!V111=\"\",\"\",'2.Logbook'!V111)","v":""},{"$f":"IF('2.Logbook'!W111=\"\",\"\",'2.Logbook'!W111)","v":""},{"$f":"IF('2.Logbook'!X111=\"\",\"\",'2.Logbook'!X111)","v":""},{"$f":"IF('2.Logbook'!Y111=\"\",\"\",'2.Logbook'!Y111)","v":""},{"$f":"IF('2.Logbook'!Z111=\"\",\"\",'2.Logbook'!Z111)","v":""},{"$f":"IF('2.Logbook'!AA111=\"\",\"\",'2.Logbook'!AA111)","v":""},{"$f":"IF('2.Logbook'!AB111=\"\",\"\",'2.Logbook'!AB111)","v":""},{"$f":"IF('2.Logbook'!AC111=\"\",\"\",'2.Logbook'!AC111)","v":""},{"$f":"IF('2.Logbook'!AD111=\"\",\"\",'2.Logbook'!AD111)","v":""},{"$f":"IF('2.Logbook'!AE111=\"\",\"\",'2.Logbook'!AE111)","v":""},{"$f":"IF('2.Logbook'!AF111=\"\",\"\",'2.Logbook'!AF111)","v":""},{"$f":"IF('2.Logbook'!AG111=\"\",\"\",'2.Logbook'!AG111)","v":""}]
[{"$f":"IF('2.Logbook'!A112=\"\",\"\",'2.Logbook'!A112)","v":"2020-07-06"},{"$f":"IF('2.Logbook'!B112=\"\",\"\",'2.Logbook'!B112)","v":"14:20:00"},{"$f":"IF('2.Logbook'!C112=\"\",\"\",'2.Logbook'!C112)","v":"1°48 N"},{"$f":"IF('2.Logbook'!D112=\"\",\"\",'2.Logbook'!D112)","v":"0°26 W"},{"$f":"IF('2.Logbook'!E112=\"\",\"\",'2.Logbook'!E112)","v":"Eaux internationales"},{"$f":"IF('2.Logbook'!F112=\"\",\"\",'2.Logbook'!F112)","v":27},{"$f":"IF('2.Logbook'!G112=\"\",\"\",'2.Logbook'!G112)","v":"1900-07-03"},{"$f":"IF('2.Logbook'!H112=\"\",\"\",'2.Logbook'!H112)","v":5},{"$f":"IF('2.Logbook'!I112=\"\",\"\",'2.Logbook'!I112)","v":"1900-01-01"},{"$f":"IF('2.Logbook'!J112=\"\",\"\",'2.Logbook'!J112)","v":""},{"$f":"IF('2.Logbook'!K112=\"\",\"\",'2.Logbook'!K112)","v":""},{"$f":"IF('2.Logbook'!L112=\"\",\"\",'2.Logbook'!L112)","v":"> 60 kg"},{"$f":"IF('2.Logbook'!M112=\"\",\"\",'2.Logbook'!M112)","v":"1900-02-02"},{"$f":"IF('2.Logbook'!N112=\"\",\"\",'2.Logbook'!N112)","v":""},{"$f":"IF('2.Logbook'!O112=\"\",\"\",'2.Logbook'!O112)","v":""},{"$f":"IF('2.Logbook'!P112=\"\",\"\",'2.Logbook'!P112)","v":""},{"$f":"IF('2.Logbook'!Q112=\"\",\"\",'2.Logbook'!Q112)","v":""},{"$f":"IF('2.Logbook'!R112=\"\",\"\",'2.Logbook'!R112)","v":"> 60 kg"},{"$f":"IF('2.Logbook'!S112=\"\",\"\",'2.Logbook'!S112)","v":"1900-01-02"},{"$f":"IF('2.Logbook'!T112=\"\",\"\",'2.Logbook'!T112)","v":""},{"$f":"IF('2.Logbook'!U112=\"\",\"\",'2.Logbook'!U112)","v":""},{"$f":"IF('2.Logbook'!V112=\"\",\"\",'2.Logbook'!V112)","v":""},{"$f":"IF('2.Logbook'!W112=\"\",\"\",'2.Logbook'!W112)","v":""},{"$f":"IF('2.Logbook'!X112=\"\",\"\",'2.Logbook'!X112)","v":""},{"$f":"IF('2.Logbook'!Y112=\"\",\"\",'2.Logbook'!Y112)","v":""},{"$f":"IF('2.Logbook'!Z112=\"\",\"\",'2.Logbook'!Z112)","v":""},{"$f":"IF('2.Logbook'!AA112=\"\",\"\",'2.Logbook'!AA112)","v":""},{"$f":"IF('2.Logbook'!AB112=\"\",\"\",'2.Logbook'!AB112)","v":""},{"$f":"IF('2.Logbook'!AC112=\"\",\"\",'2.Logbook'!AC112)","v":""},{"$f":"IF('2.Logbook'!AD112=\"\",\"\",'2.Logbook'!AD112)","v":""},{"$f":"IF('2.Logbook'!AE112=\"\",\"\",'2.Logbook'!AE112)","v":""},{"$f":"IF('2.Logbook'!AF112=\"\",\"\",'2.Logbook'!AF112)","v":""},{"$f":"IF('2.Logbook'!AG112=\"\",\"\",'2.Logbook'!AG112)","v":""}]
[{"$f":"IF('2.Logbook'!A113=\"\",\"\",'2.Logbook'!A113)","v":"2020-07-07"},{"$f":"IF('2.Logbook'!B113=\"\",\"\",'2.Logbook'!B113)","v":"12:00:00"},{"$f":"IF('2.Logbook'!C113=\"\",\"\",'2.Logbook'!C113)","v":"4°09 N"},{"$f":"IF('2.Logbook'!D113=\"\",\"\",'2.Logbook'!D113)","v":"3°34 W"},{"$f":"IF('2.Logbook'!E113=\"\",\"\",'2.Logbook'!E113)","v":"Côte d'Ivoire"},{"$f":"IF('2.Logbook'!F113=\"\",\"\",'2.Logbook'!F113)","v":24},{"$f":"IF('2.Logbook'!G113=\"\",\"\",'2.Logbook'!G113)","v":"1900-07-03"},{"$f":"IF('2.Logbook'!H113=\"\",\"\",'2.Logbook'!H113)","v":8},{"$f":"IF('2.Logbook'!I113=\"\",\"\",'2.Logbook'!I113)","v":""},{"$f":"IF('2.Logbook'!J113=\"\",\"\",'2.Logbook'!J113)","v":""},{"$f":"IF('2.Logbook'!K113=\"\",\"\",'2.Logbook'!K113)","v":""},{"$f":"IF('2.Logbook'!L113=\"\",\"\",'2.Logbook'!L113)","v":""},{"$f":"IF('2.Logbook'!M113=\"\",\"\",'2.Logbook'!M113)","v":""},{"$f":"IF('2.Logbook'!N113=\"\",\"\",'2.Logbook'!N113)","v":""},{"$f":"IF('2.Logbook'!O113=\"\",\"\",'2.Logbook'!O113)","v":""},{"$f":"IF('2.Logbook'!P113=\"\",\"\",'2.Logbook'!P113)","v":""},{"$f":"IF('2.Logbook'!Q113=\"\",\"\",'2.Logbook'!Q113)","v":""},{"$f":"IF('2.Logbook'!R113=\"\",\"\",'2.Logbook'!R113)","v":""},{"$f":"IF('2.Logbook'!S113=\"\",\"\",'2.Logbook'!S113)","v":""},{"$f":"IF('2.Logbook'!T113=\"\",\"\",'2.Logbook'!T113)","v":""},{"$f":"IF('2.Logbook'!U113=\"\",\"\",'2.Logbook'!U113)","v":""},{"$f":"IF('2.Logbook'!V113=\"\",\"\",'2.Logbook'!V113)","v":""},{"$f":"IF('2.Logbook'!W113=\"\",\"\",'2.Logbook'!W113)","v":""},{"$f":"IF('2.Logbook'!X113=\"\",\"\",'2.Logbook'!X113)","v":""},{"$f":"IF('2.Logbook'!Y113=\"\",\"\",'2.Logbook'!Y113)","v":""},{"$f":"IF('2.Logbook'!Z113=\"\",\"\",'2.Logbook'!Z113)","v":""},{"$f":"IF('2.Logbook'!AA113=\"\",\"\",'2.Logbook'!AA113)","v":""},{"$f":"IF('2.Logbook'!AB113=\"\",\"\",'2.Logbook'!AB113)","v":""},{"$f":"IF('2.Logbook'!AC113=\"\",\"\",'2.Logbook'!AC113)","v":""},{"$f":"IF('2.Logbook'!AD113=\"\",\"\",'2.Logbook'!AD113)","v":""},{"$f":"IF('2.Logbook'!AE113=\"\",\"\",'2.Logbook'!AE113)","v":""},{"$f":"IF('2.Logbook'!AF113=\"\",\"\",'2.Logbook'!AF113)","v":""},{"$f":"IF('2.Logbook'!AG113=\"\",\"\",'2.Logbook'!AG113)","v":""}]
[{"$f":"IF('2.Logbook'!A114=\"\",\"\",'2.Logbook'!A114)","v":"2020-07-07"},{"$f":"IF('2.Logbook'!B114=\"\",\"\",'2.Logbook'!B114)","v":"15:00:00"},{"$f":"IF('2.Logbook'!C114=\"\",\"\",'2.Logbook'!C114)","v":""},{"$f":"IF('2.Logbook'!D114=\"\",\"\",'2.Logbook'!D114)","v":""},{"$f":"IF('2.Logbook'!E114=\"\",\"\",'2.Logbook'!E114)","v":""},{"$f":"IF('2.Logbook'!F114=\"\",\"\",'2.Logbook'!F114)","v":""},{"$f":"IF('2.Logbook'!G114=\"\",\"\",'2.Logbook'!G114)","v":""},{"$f":"IF('2.Logbook'!H114=\"\",\"\",'2.Logbook'!H114)","v":""},{"$f":"IF('2.Logbook'!I114=\"\",\"\",'2.Logbook'!I114)","v":""},{"$f":"IF('2.Logbook'!J114=\"\",\"\",'2.Logbook'!J114)","v":""},{"$f":"IF('2.Logbook'!K114=\"\",\"\",'2.Logbook'!K114)","v":""},{"$f":"IF('2.Logbook'!L114=\"\",\"\",'2.Logbook'!L114)","v":""},{"$f":"IF('2.Logbook'!M114=\"\",\"\",'2.Logbook'!M114)","v":""},{"$f":"IF('2.Logbook'!N114=\"\",\"\",'2.Logbook'!N114)","v":""},{"$f":"IF('2.Logbook'!O114=\"\",\"\",'2.Logbook'!O114)","v":""},{"$f":"IF('2.Logbook'!P114=\"\",\"\",'2.Logbook'!P114)","v":""},{"$f":"IF('2.Logbook'!Q114=\"\",\"\",'2.Logbook'!Q114)","v":""},{"$f":"IF('2.Logbook'!R114=\"\",\"\",'2.Logbook'!R114)","v":""},{"$f":"IF('2.Logbook'!S114=\"\",\"\",'2.Logbook'!S114)","v":""},{"$f":"IF('2.Logbook'!T114=\"\",\"\",'2.Logbook'!T114)","v":""},{"$f":"IF('2.Logbook'!U114=\"\",\"\",'2.Logbook'!U114)","v":""},{"$f":"IF('2.Logbook'!V114=\"\",\"\",'2.Logbook'!V114)","v":""},{"$f":"IF('2.Logbook'!W114=\"\",\"\",'2.Logbook'!W114)","v":""},{"$f":"IF('2.Logbook'!X114=\"\",\"\",'2.Logbook'!X114)","v":""},{"$f":"IF('2.Logbook'!Y114=\"\",\"\",'2.Logbook'!Y114)","v":""},{"$f":"IF('2.Logbook'!Z114=\"\",\"\",'2.Logbook'!Z114)","v":""},{"$f":"IF('2.Logbook'!AA114=\"\",\"\",'2.Logbook'!AA114)","v":""},{"$f":"IF('2.Logbook'!AB114=\"\",\"\",'2.Logbook'!AB114)","v":""},{"$f":"IF('2.Logbook'!AC114=\"\",\"\",'2.Logbook'!AC114)","v":""},{"$f":"IF('2.Logbook'!AD114=\"\",\"\",'2.Logbook'!AD114)","v":""},{"$f":"IF('2.Logbook'!AE114=\"\",\"\",'2.Logbook'!AE114)","v":""},{"$f":"IF('2.Logbook'!AF114=\"\",\"\",'2.Logbook'!AF114)","v":""},{"$f":"IF('2.Logbook'!AG114=\"\",\"\",'2.Logbook'!AG114)","v":""}]
[{"$f":"IF('2.Logbook'!A115=\"\",\"\",'2.Logbook'!A115)","v":""},{"$f":"IF('2.Logbook'!B115=\"\",\"\",'2.Logbook'!B115)","v":""},{"$f":"IF('2.Logbook'!C115=\"\",\"\",'2.Logbook'!C115)","v":""},{"$f":"IF('2.Logbook'!D115=\"\",\"\",'2.Logbook'!D115)","v":""},{"$f":"IF('2.Logbook'!E115=\"\",\"\",'2.Logbook'!E115)","v":""},{"$f":"IF('2.Logbook'!F115=\"\",\"\",'2.Logbook'!F115)","v":""},{"$f":"IF('2.Logbook'!G115=\"\",\"\",'2.Logbook'!G115)","v":""},{"$f":"IF('2.Logbook'!H115=\"\",\"\",'2.Logbook'!H115)","v":""},{"$f":"IF('2.Logbook'!I115=\"\",\"\",'2.Logbook'!I115)","v":""},{"$f":"IF('2.Logbook'!J115=\"\",\"\",'2.Logbook'!J115)","v":""},{"$f":"IF('2.Logbook'!K115=\"\",\"\",'2.Logbook'!K115)","v":""},{"$f":"IF('2.Logbook'!L115=\"\",\"\",'2.Logbook'!L115)","v":""},{"$f":"IF('2.Logbook'!M115=\"\",\"\",'2.Logbook'!M115)","v":""},{"$f":"IF('2.Logbook'!N115=\"\",\"\",'2.Logbook'!N115)","v":""},{"$f":"IF('2.Logbook'!O115=\"\",\"\",'2.Logbook'!O115)","v":""},{"$f":"IF('2.Logbook'!P115=\"\",\"\",'2.Logbook'!P115)","v":""},{"$f":"IF('2.Logbook'!Q115=\"\",\"\",'2.Logbook'!Q115)","v":""},{"$f":"IF('2.Logbook'!R115=\"\",\"\",'2.Logbook'!R115)","v":""},{"$f":"IF('2.Logbook'!S115=\"\",\"\",'2.Logbook'!S115)","v":""},{"$f":"IF('2.Logbook'!T115=\"\",\"\",'2.Logbook'!T115)","v":""},{"$f":"IF('2.Logbook'!U115=\"\",\"\",'2.Logbook'!U115)","v":""},{"$f":"IF('2.Logbook'!V115=\"\",\"\",'2.Logbook'!V115)","v":""},{"$f":"IF('2.Logbook'!W115=\"\",\"\",'2.Logbook'!W115)","v":""},{"$f":"IF('2.Logbook'!X115=\"\",\"\",'2.Logbook'!X115)","v":""},{"$f":"IF('2.Logbook'!Y115=\"\",\"\",'2.Logbook'!Y115)","v":""},{"$f":"IF('2.Logbook'!Z115=\"\",\"\",'2.Logbook'!Z115)","v":""},{"$f":"IF('2.Logbook'!AA115=\"\",\"\",'2.Logbook'!AA115)","v":""},{"$f":"IF('2.Logbook'!AB115=\"\",\"\",'2.Logbook'!AB115)","v":""},{"$f":"IF('2.Logbook'!AC115=\"\",\"\",'2.Logbook'!AC115)","v":""},{"$f":"IF('2.Logbook'!AD115=\"\",\"\",'2.Logbook'!AD115)","v":""},{"$f":"IF('2.Logbook'!AE115=\"\",\"\",'2.Logbook'!AE115)","v":""},{"$f":"IF('2.Logbook'!AF115=\"\",\"\",'2.Logbook'!AF115)","v":""},{"$f":"IF('2.Logbook'!AG115=\"\",\"\",'2.Logbook'!AG115)","v":""}]
[{"$f":"IF('2.Logbook'!A116=\"\",\"\",'2.Logbook'!A116)","v":""},{"$f":"IF('2.Logbook'!B116=\"\",\"\",'2.Logbook'!B116)","v":""},{"$f":"IF('2.Logbook'!C116=\"\",\"\",'2.Logbook'!C116)","v":""},{"$f":"IF('2.Logbook'!D116=\"\",\"\",'2.Logbook'!D116)","v":""},{"$f":"IF('2.Logbook'!E116=\"\",\"\",'2.Logbook'!E116)","v":""},{"$f":"IF('2.Logbook'!F116=\"\",\"\",'2.Logbook'!F116)","v":""},{"$f":"IF('2.Logbook'!G116=\"\",\"\",'2.Logbook'!G116)","v":""},{"$f":"IF('2.Logbook'!H116=\"\",\"\",'2.Logbook'!H116)","v":""},{"$f":"IF('2.Logbook'!I116=\"\",\"\",'2.Logbook'!I116)","v":""},{"$f":"IF('2.Logbook'!J116=\"\",\"\",'2.Logbook'!J116)","v":""},{"$f":"IF('2.Logbook'!K116=\"\",\"\",'2.Logbook'!K116)","v":""},{"$f":"IF('2.Logbook'!L116=\"\",\"\",'2.Logbook'!L116)","v":""},{"$f":"IF('2.Logbook'!M116=\"\",\"\",'2.Logbook'!M116)","v":""},{"$f":"IF('2.Logbook'!N116=\"\",\"\",'2.Logbook'!N116)","v":""},{"$f":"IF('2.Logbook'!O116=\"\",\"\",'2.Logbook'!O116)","v":""},{"$f":"IF('2.Logbook'!P116=\"\",\"\",'2.Logbook'!P116)","v":""},{"$f":"IF('2.Logbook'!Q116=\"\",\"\",'2.Logbook'!Q116)","v":""},{"$f":"IF('2.Logbook'!R116=\"\",\"\",'2.Logbook'!R116)","v":""},{"$f":"IF('2.Logbook'!S116=\"\",\"\",'2.Logbook'!S116)","v":""},{"$f":"IF('2.Logbook'!T116=\"\",\"\",'2.Logbook'!T116)","v":""},{"$f":"IF('2.Logbook'!U116=\"\",\"\",'2.Logbook'!U116)","v":""},{"$f":"IF('2.Logbook'!V116=\"\",\"\",'2.Logbook'!V116)","v":""},{"$f":"IF('2.Logbook'!W116=\"\",\"\",'2.Logbook'!W116)","v":""},{"$f":"IF('2.Logbook'!X116=\"\",\"\",'2.Logbook'!X116)","v":""},{"$f":"IF('2.Logbook'!Y116=\"\",\"\",'2.Logbook'!Y116)","v":""},{"$f":"IF('2.Logbook'!Z116=\"\",\"\",'2.Logbook'!Z116)","v":""},{"$f":"IF('2.Logbook'!AA116=\"\",\"\",'2.Logbook'!AA116)","v":""},{"$f":"IF('2.Logbook'!AB116=\"\",\"\",'2.Logbook'!AB116)","v":""},{"$f":"IF('2.Logbook'!AC116=\"\",\"\",'2.Logbook'!AC116)","v":""},{"$f":"IF('2.Logbook'!AD116=\"\",\"\",'2.Logbook'!AD116)","v":""},{"$f":"IF('2.Logbook'!AE116=\"\",\"\",'2.Logbook'!AE116)","v":""},{"$f":"IF('2.Logbook'!AF116=\"\",\"\",'2.Logbook'!AF116)","v":""},{"$f":"IF('2.Logbook'!AG116=\"\",\"\",'2.Logbook'!AG116)","v":""}]
[{"$f":"IF('2.Logbook'!A117=\"\",\"\",'2.Logbook'!A117)","v":""},{"$f":"IF('2.Logbook'!B117=\"\",\"\",'2.Logbook'!B117)","v":""},{"$f":"IF('2.Logbook'!C117=\"\",\"\",'2.Logbook'!C117)","v":""},{"$f":"IF('2.Logbook'!D117=\"\",\"\",'2.Logbook'!D117)","v":""},{"$f":"IF('2.Logbook'!E117=\"\",\"\",'2.Logbook'!E117)","v":""},{"$f":"IF('2.Logbook'!F117=\"\",\"\",'2.Logbook'!F117)","v":""},{"$f":"IF('2.Logbook'!G117=\"\",\"\",'2.Logbook'!G117)","v":""},{"$f":"IF('2.Logbook'!H117=\"\",\"\",'2.Logbook'!H117)","v":""},{"$f":"IF('2.Logbook'!I117=\"\",\"\",'2.Logbook'!I117)","v":""},{"$f":"IF('2.Logbook'!J117=\"\",\"\",'2.Logbook'!J117)","v":""},{"$f":"IF('2.Logbook'!K117=\"\",\"\",'2.Logbook'!K117)","v":""},{"$f":"IF('2.Logbook'!L117=\"\",\"\",'2.Logbook'!L117)","v":""},{"$f":"IF('2.Logbook'!M117=\"\",\"\",'2.Logbook'!M117)","v":""},{"$f":"IF('2.Logbook'!N117=\"\",\"\",'2.Logbook'!N117)","v":""},{"$f":"IF('2.Logbook'!O117=\"\",\"\",'2.Logbook'!O117)","v":""},{"$f":"IF('2.Logbook'!P117=\"\",\"\",'2.Logbook'!P117)","v":""},{"$f":"IF('2.Logbook'!Q117=\"\",\"\",'2.Logbook'!Q117)","v":""},{"$f":"IF('2.Logbook'!R117=\"\",\"\",'2.Logbook'!R117)","v":""},{"$f":"IF('2.Logbook'!S117=\"\",\"\",'2.Logbook'!S117)","v":""},{"$f":"IF('2.Logbook'!T117=\"\",\"\",'2.Logbook'!T117)","v":""},{"$f":"IF('2.Logbook'!U117=\"\",\"\",'2.Logbook'!U117)","v":""},{"$f":"IF('2.Logbook'!V117=\"\",\"\",'2.Logbook'!V117)","v":""},{"$f":"IF('2.Logbook'!W117=\"\",\"\",'2.Logbook'!W117)","v":""},{"$f":"IF('2.Logbook'!X117=\"\",\"\",'2.Logbook'!X117)","v":""},{"$f":"IF('2.Logbook'!Y117=\"\",\"\",'2.Logbook'!Y117)","v":""},{"$f":"IF('2.Logbook'!Z117=\"\",\"\",'2.Logbook'!Z117)","v":""},{"$f":"IF('2.Logbook'!AA117=\"\",\"\",'2.Logbook'!AA117)","v":""},{"$f":"IF('2.Logbook'!AB117=\"\",\"\",'2.Logbook'!AB117)","v":""},{"$f":"IF('2.Logbook'!AC117=\"\",\"\",'2.Logbook'!AC117)","v":""},{"$f":"IF('2.Logbook'!AD117=\"\",\"\",'2.Logbook'!AD117)","v":""},{"$f":"IF('2.Logbook'!AE117=\"\",\"\",'2.Logbook'!AE117)","v":""},{"$f":"IF('2.Logbook'!AF117=\"\",\"\",'2.Logbook'!AF117)","v":""},{"$f":"IF('2.Logbook'!AG117=\"\",\"\",'2.Logbook'!AG117)","v":""}]
[{"$f":"IF('2.Logbook'!A118=\"\",\"\",'2.Logbook'!A118)","v":""},{"$f":"IF('2.Logbook'!B118=\"\",\"\",'2.Logbook'!B118)","v":""},{"$f":"IF('2.Logbook'!C118=\"\",\"\",'2.Logbook'!C118)","v":""},{"$f":"IF('2.Logbook'!D118=\"\",\"\",'2.Logbook'!D118)","v":""},{"$f":"IF('2.Logbook'!E118=\"\",\"\",'2.Logbook'!E118)","v":""},{"$f":"IF('2.Logbook'!F118=\"\",\"\",'2.Logbook'!F118)","v":""},{"$f":"IF('2.Logbook'!G118=\"\",\"\",'2.Logbook'!G118)","v":""},{"$f":"IF('2.Logbook'!H118=\"\",\"\",'2.Logbook'!H118)","v":""},{"$f":"IF('2.Logbook'!I118=\"\",\"\",'2.Logbook'!I118)","v":""},{"$f":"IF('2.Logbook'!J118=\"\",\"\",'2.Logbook'!J118)","v":""},{"$f":"IF('2.Logbook'!K118=\"\",\"\",'2.Logbook'!K118)","v":""},{"$f":"IF('2.Logbook'!L118=\"\",\"\",'2.Logbook'!L118)","v":""},{"$f":"IF('2.Logbook'!M118=\"\",\"\",'2.Logbook'!M118)","v":""},{"$f":"IF('2.Logbook'!N118=\"\",\"\",'2.Logbook'!N118)","v":""},{"$f":"IF('2.Logbook'!O118=\"\",\"\",'2.Logbook'!O118)","v":""},{"$f":"IF('2.Logbook'!P118=\"\",\"\",'2.Logbook'!P118)","v":""},{"$f":"IF('2.Logbook'!Q118=\"\",\"\",'2.Logbook'!Q118)","v":""},{"$f":"IF('2.Logbook'!R118=\"\",\"\",'2.Logbook'!R118)","v":""},{"$f":"IF('2.Logbook'!S118=\"\",\"\",'2.Logbook'!S118)","v":""},{"$f":"IF('2.Logbook'!T118=\"\",\"\",'2.Logbook'!T118)","v":""},{"$f":"IF('2.Logbook'!U118=\"\",\"\",'2.Logbook'!U118)","v":""},{"$f":"IF('2.Logbook'!V118=\"\",\"\",'2.Logbook'!V118)","v":""},{"$f":"IF('2.Logbook'!W118=\"\",\"\",'2.Logbook'!W118)","v":""},{"$f":"IF('2.Logbook'!X118=\"\",\"\",'2.Logbook'!X118)","v":""},{"$f":"IF('2.Logbook'!Y118=\"\",\"\",'2.Logbook'!Y118)","v":""},{"$f":"IF('2.Logbook'!Z118=\"\",\"\",'2.Logbook'!Z118)","v":""},{"$f":"IF('2.Logbook'!AA118=\"\",\"\",'2.Logbook'!AA118)","v":""},{"$f":"IF('2.Logbook'!AB118=\"\",\"\",'2.Logbook'!AB118)","v":""},{"$f":"IF('2.Logbook'!AC118=\"\",\"\",'2.Logbook'!AC118)","v":""},{"$f":"IF('2.Logbook'!AD118=\"\",\"\",'2.Logbook'!AD118)","v":""},{"$f":"IF('2.Logbook'!AE118=\"\",\"\",'2.Logbook'!AE118)","v":""},{"$f":"IF('2.Logbook'!AF118=\"\",\"\",'2.Logbook'!AF118)","v":""},{"$f":"IF('2.Logbook'!AG118=\"\",\"\",'2.Logbook'!AG118)","v":""}]
[{"$f":"IF('2.Logbook'!A119=\"\",\"\",'2.Logbook'!A119)","v":""},{"$f":"IF('2.Logbook'!B119=\"\",\"\",'2.Logbook'!B119)","v":""},{"$f":"IF('2.Logbook'!C119=\"\",\"\",'2.Logbook'!C119)","v":""},{"$f":"IF('2.Logbook'!D119=\"\",\"\",'2.Logbook'!D119)","v":""},{"$f":"IF('2.Logbook'!E119=\"\",\"\",'2.Logbook'!E119)","v":""},{"$f":"IF('2.Logbook'!F119=\"\",\"\",'2.Logbook'!F119)","v":""},{"$f":"IF('2.Logbook'!G119=\"\",\"\",'2.Logbook'!G119)","v":""},{"$f":"IF('2.Logbook'!H119=\"\",\"\",'2.Logbook'!H119)","v":""},{"$f":"IF('2.Logbook'!I119=\"\",\"\",'2.Logbook'!I119)","v":""},{"$f":"IF('2.Logbook'!J119=\"\",\"\",'2.Logbook'!J119)","v":""},{"$f":"IF('2.Logbook'!K119=\"\",\"\",'2.Logbook'!K119)","v":""},{"$f":"IF('2.Logbook'!L119=\"\",\"\",'2.Logbook'!L119)","v":""},{"$f":"IF('2.Logbook'!M119=\"\",\"\",'2.Logbook'!M119)","v":""},{"$f":"IF('2.Logbook'!N119=\"\",\"\",'2.Logbook'!N119)","v":""},{"$f":"IF('2.Logbook'!O119=\"\",\"\",'2.Logbook'!O119)","v":""},{"$f":"IF('2.Logbook'!P119=\"\",\"\",'2.Logbook'!P119)","v":""},{"$f":"IF('2.Logbook'!Q119=\"\",\"\",'2.Logbook'!Q119)","v":""},{"$f":"IF('2.Logbook'!R119=\"\",\"\",'2.Logbook'!R119)","v":""},{"$f":"IF('2.Logbook'!S119=\"\",\"\",'2.Logbook'!S119)","v":""},{"$f":"IF('2.Logbook'!T119=\"\",\"\",'2.Logbook'!T119)","v":""},{"$f":"IF('2.Logbook'!U119=\"\",\"\",'2.Logbook'!U119)","v":""},{"$f":"IF('2.Logbook'!V119=\"\",\"\",'2.Logbook'!V119)","v":""},{"$f":"IF('2.Logbook'!W119=\"\",\"\",'2.Logbook'!W119)","v":""},{"$f":"IF('2.Logbook'!X119=\"\",\"\",'2.Logbook'!X119)","v":""},{"$f":"IF('2.Logbook'!Y119=\"\",\"\",'2.Logbook'!Y119)","v":""},{"$f":"IF('2.Logbook'!Z119=\"\",\"\",'2.Logbook'!Z119)","v":""},{"$f":"IF('2.Logbook'!AA119=\"\",\"\",'2.Logbook'!AA119)","v":""},{"$f":"IF('2.Logbook'!AB119=\"\",\"\",'2.Logbook'!AB119)","v":""},{"$f":"IF('2.Logbook'!AC119=\"\",\"\",'2.Logbook'!AC119)","v":""},{"$f":"IF('2.Logbook'!AD119=\"\",\"\",'2.Logbook'!AD119)","v":""},{"$f":"IF('2.Logbook'!AE119=\"\",\"\",'2.Logbook'!AE119)","v":""},{"$f":"IF('2.Logbook'!AF119=\"\",\"\",'2.Logbook'!AF119)","v":""},{"$f":"IF('2.Logbook'!AG119=\"\",\"\",'2.Logbook'!AG119)","v":""}]
[{"$f":"IF('2.Logbook'!A120=\"\",\"\",'2.Logbook'!A120)","v":""},{"$f":"IF('2.Logbook'!B120=\"\",\"\",'2.Logbook'!B120)","v":""},{"$f":"IF('2.Logbook'!C120=\"\",\"\",'2.Logbook'!C120)","v":""},{"$f":"IF('2.Logbook'!D120=\"\",\"\",'2.Logbook'!D120)","v":""},{"$f":"IF('2.Logbook'!E120=\"\",\"\",'2.Logbook'!E120)","v":""},{"$f":"IF('2.Logbook'!F120=\"\",\"\",'2.Logbook'!F120)","v":""},{"$f":"IF('2.Logbook'!G120=\"\",\"\",'2.Logbook'!G120)","v":""},{"$f":"IF('2.Logbook'!H120=\"\",\"\",'2.Logbook'!H120)","v":""},{"$f":"IF('2.Logbook'!I120=\"\",\"\",'2.Logbook'!I120)","v":""},{"$f":"IF('2.Logbook'!J120=\"\",\"\",'2.Logbook'!J120)","v":""},{"$f":"IF('2.Logbook'!K120=\"\",\"\",'2.Logbook'!K120)","v":""},{"$f":"IF('2.Logbook'!L120=\"\",\"\",'2.Logbook'!L120)","v":""},{"$f":"IF('2.Logbook'!M120=\"\",\"\",'2.Logbook'!M120)","v":""},{"$f":"IF('2.Logbook'!N120=\"\",\"\",'2.Logbook'!N120)","v":""},{"$f":"IF('2.Logbook'!O120=\"\",\"\",'2.Logbook'!O120)","v":""},{"$f":"IF('2.Logbook'!P120=\"\",\"\",'2.Logbook'!P120)","v":""},{"$f":"IF('2.Logbook'!Q120=\"\",\"\",'2.Logbook'!Q120)","v":""},{"$f":"IF('2.Logbook'!R120=\"\",\"\",'2.Logbook'!R120)","v":""},{"$f":"IF('2.Logbook'!S120=\"\",\"\",'2.Logbook'!S120)","v":""},{"$f":"IF('2.Logbook'!T120=\"\",\"\",'2.Logbook'!T120)","v":""},{"$f":"IF('2.Logbook'!U120=\"\",\"\",'2.Logbook'!U120)","v":""},{"$f":"IF('2.Logbook'!V120=\"\",\"\",'2.Logbook'!V120)","v":""},{"$f":"IF('2.Logbook'!W120=\"\",\"\",'2.Logbook'!W120)","v":""},{"$f":"IF('2.Logbook'!X120=\"\",\"\",'2.Logbook'!X120)","v":""},{"$f":"IF('2.Logbook'!Y120=\"\",\"\",'2.Logbook'!Y120)","v":""},{"$f":"IF('2.Logbook'!Z120=\"\",\"\",'2.Logbook'!Z120)","v":""},{"$f":"IF('2.Logbook'!AA120=\"\",\"\",'2.Logbook'!AA120)","v":""},{"$f":"IF('2.Logbook'!AB120=\"\",\"\",'2.Logbook'!AB120)","v":""},{"$f":"IF('2.Logbook'!AC120=\"\",\"\",'2.Logbook'!AC120)","v":""},{"$f":"IF('2.Logbook'!AD120=\"\",\"\",'2.Logbook'!AD120)","v":""},{"$f":"IF('2.Logbook'!AE120=\"\",\"\",'2.Logbook'!AE120)","v":""},{"$f":"IF('2.Logbook'!AF120=\"\",\"\",'2.Logbook'!AF120)","v":""},{"$f":"IF('2.Logbook'!AG120=\"\",\"\",'2.Logbook'!AG120)","v":""}]
[{"$f":"IF('2.Logbook'!A121=\"\",\"\",'2.Logbook'!A121)","v":""},{"$f":"IF('2.Logbook'!B121=\"\",\"\",'2.Logbook'!B121)","v":""},{"$f":"IF('2.Logbook'!C121=\"\",\"\",'2.Logbook'!C121)","v":""},{"$f":"IF('2.Logbook'!D121=\"\",\"\",'2.Logbook'!D121)","v":""},{"$f":"IF('2.Logbook'!E121=\"\",\"\",'2.Logbook'!E121)","v":""},{"$f":"IF('2.Logbook'!F121=\"\",\"\",'2.Logbook'!F121)","v":""},{"$f":"IF('2.Logbook'!G121=\"\",\"\",'2.Logbook'!G121)","v":""},{"$f":"IF('2.Logbook'!H121=\"\",\"\",'2.Logbook'!H121)","v":""},{"$f":"IF('2.Logbook'!I121=\"\",\"\",'2.Logbook'!I121)","v":""},{"$f":"IF('2.Logbook'!J121=\"\",\"\",'2.Logbook'!J121)","v":""},{"$f":"IF('2.Logbook'!K121=\"\",\"\",'2.Logbook'!K121)","v":""},{"$f":"IF('2.Logbook'!L121=\"\",\"\",'2.Logbook'!L121)","v":""},{"$f":"IF('2.Logbook'!M121=\"\",\"\",'2.Logbook'!M121)","v":""},{"$f":"IF('2.Logbook'!N121=\"\",\"\",'2.Logbook'!N121)","v":""},{"$f":"IF('2.Logbook'!O121=\"\",\"\",'2.Logbook'!O121)","v":""},{"$f":"IF('2.Logbook'!P121=\"\",\"\",'2.Logbook'!P121)","v":""},{"$f":"IF('2.Logbook'!Q121=\"\",\"\",'2.Logbook'!Q121)","v":""},{"$f":"IF('2.Logbook'!R121=\"\",\"\",'2.Logbook'!R121)","v":""},{"$f":"IF('2.Logbook'!S121=\"\",\"\",'2.Logbook'!S121)","v":""},{"$f":"IF('2.Logbook'!T121=\"\",\"\",'2.Logbook'!T121)","v":""},{"$f":"IF('2.Logbook'!U121=\"\",\"\",'2.Logbook'!U121)","v":""},{"$f":"IF('2.Logbook'!V121=\"\",\"\",'2.Logbook'!V121)","v":""},{"$f":"IF('2.Logbook'!W121=\"\",\"\",'2.Logbook'!W121)","v":""},{"$f":"IF('2.Logbook'!X121=\"\",\"\",'2.Logbook'!X121)","v":""},{"$f":"IF('2.Logbook'!Y121=\"\",\"\",'2.Logbook'!Y121)","v":""},{"$f":"IF('2.Logbook'!Z121=\"\",\"\",'2.Logbook'!Z121)","v":""},{"$f":"IF('2.Logbook'!AA121=\"\",\"\",'2.Logbook'!AA121)","v":""},{"$f":"IF('2.Logbook'!AB121=\"\",\"\",'2.Logbook'!AB121)","v":""},{"$f":"IF('2.Logbook'!AC121=\"\",\"\",'2.Logbook'!AC121)","v":""},{"$f":"IF('2.Logbook'!AD121=\"\",\"\",'2.Logbook'!AD121)","v":""},{"$f":"IF('2.Logbook'!AE121=\"\",\"\",'2.Logbook'!AE121)","v":""},{"$f":"IF('2.Logbook'!AF121=\"\",\"\",'2.Logbook'!AF121)","v":""},{"$f":"IF('2.Logbook'!AG121=\"\",\"\",'2.Logbook'!AG121)","v":""}]
[{"$f":"IF('2.Logbook'!A122=\"\",\"\",'2.Logbook'!A122)","v":""},{"$f":"IF('2.Logbook'!B122=\"\",\"\",'2.Logbook'!B122)","v":""},{"$f":"IF('2.Logbook'!C122=\"\",\"\",'2.Logbook'!C122)","v":""},{"$f":"IF('2.Logbook'!D122=\"\",\"\",'2.Logbook'!D122)","v":""},{"$f":"IF('2.Logbook'!E122=\"\",\"\",'2.Logbook'!E122)","v":""},{"$f":"IF('2.Logbook'!F122=\"\",\"\",'2.Logbook'!F122)","v":""},{"$f":"IF('2.Logbook'!G122=\"\",\"\",'2.Logbook'!G122)","v":""},{"$f":"IF('2.Logbook'!H122=\"\",\"\",'2.Logbook'!H122)","v":""},{"$f":"IF('2.Logbook'!I122=\"\",\"\",'2.Logbook'!I122)","v":""},{"$f":"IF('2.Logbook'!J122=\"\",\"\",'2.Logbook'!J122)","v":""},{"$f":"IF('2.Logbook'!K122=\"\",\"\",'2.Logbook'!K122)","v":""},{"$f":"IF('2.Logbook'!L122=\"\",\"\",'2.Logbook'!L122)","v":""},{"$f":"IF('2.Logbook'!M122=\"\",\"\",'2.Logbook'!M122)","v":""},{"$f":"IF('2.Logbook'!N122=\"\",\"\",'2.Logbook'!N122)","v":""},{"$f":"IF('2.Logbook'!O122=\"\",\"\",'2.Logbook'!O122)","v":""},{"$f":"IF('2.Logbook'!P122=\"\",\"\",'2.Logbook'!P122)","v":""},{"$f":"IF('2.Logbook'!Q122=\"\",\"\",'2.Logbook'!Q122)","v":""},{"$f":"IF('2.Logbook'!R122=\"\",\"\",'2.Logbook'!R122)","v":""},{"$f":"IF('2.Logbook'!S122=\"\",\"\",'2.Logbook'!S122)","v":""},{"$f":"IF('2.Logbook'!T122=\"\",\"\",'2.Logbook'!T122)","v":""},{"$f":"IF('2.Logbook'!U122=\"\",\"\",'2.Logbook'!U122)","v":""},{"$f":"IF('2.Logbook'!V122=\"\",\"\",'2.Logbook'!V122)","v":""},{"$f":"IF('2.Logbook'!W122=\"\",\"\",'2.Logbook'!W122)","v":""},{"$f":"IF('2.Logbook'!X122=\"\",\"\",'2.Logbook'!X122)","v":""},{"$f":"IF('2.Logbook'!Y122=\"\",\"\",'2.Logbook'!Y122)","v":""},{"$f":"IF('2.Logbook'!Z122=\"\",\"\",'2.Logbook'!Z122)","v":""},{"$f":"IF('2.Logbook'!AA122=\"\",\"\",'2.Logbook'!AA122)","v":""},{"$f":"IF('2.Logbook'!AB122=\"\",\"\",'2.Logbook'!AB122)","v":""},{"$f":"IF('2.Logbook'!AC122=\"\",\"\",'2.Logbook'!AC122)","v":""},{"$f":"IF('2.Logbook'!AD122=\"\",\"\",'2.Logbook'!AD122)","v":""},{"$f":"IF('2.Logbook'!AE122=\"\",\"\",'2.Logbook'!AE122)","v":""},{"$f":"IF('2.Logbook'!AF122=\"\",\"\",'2.Logbook'!AF122)","v":""},{"$f":"IF('2.Logbook'!AG122=\"\",\"\",'2.Logbook'!AG122)","v":""}]
[{"$f":"IF('2.Logbook'!A123=\"\",\"\",'2.Logbook'!A123)","v":""},{"$f":"IF('2.Logbook'!B123=\"\",\"\",'2.Logbook'!B123)","v":""},{"$f":"IF('2.Logbook'!C123=\"\",\"\",'2.Logbook'!C123)","v":""},{"$f":"IF('2.Logbook'!D123=\"\",\"\",'2.Logbook'!D123)","v":""},{"$f":"IF('2.Logbook'!E123=\"\",\"\",'2.Logbook'!E123)","v":""},{"$f":"IF('2.Logbook'!F123=\"\",\"\",'2.Logbook'!F123)","v":""},{"$f":"IF('2.Logbook'!G123=\"\",\"\",'2.Logbook'!G123)","v":""},{"$f":"IF('2.Logbook'!H123=\"\",\"\",'2.Logbook'!H123)","v":""},{"$f":"IF('2.Logbook'!I123=\"\",\"\",'2.Logbook'!I123)","v":""},{"$f":"IF('2.Logbook'!J123=\"\",\"\",'2.Logbook'!J123)","v":""},{"$f":"IF('2.Logbook'!K123=\"\",\"\",'2.Logbook'!K123)","v":""},{"$f":"IF('2.Logbook'!L123=\"\",\"\",'2.Logbook'!L123)","v":""},{"$f":"IF('2.Logbook'!M123=\"\",\"\",'2.Logbook'!M123)","v":""},{"$f":"IF('2.Logbook'!N123=\"\",\"\",'2.Logbook'!N123)","v":""},{"$f":"IF('2.Logbook'!O123=\"\",\"\",'2.Logbook'!O123)","v":""},{"$f":"IF('2.Logbook'!P123=\"\",\"\",'2.Logbook'!P123)","v":""},{"$f":"IF('2.Logbook'!Q123=\"\",\"\",'2.Logbook'!Q123)","v":""},{"$f":"IF('2.Logbook'!R123=\"\",\"\",'2.Logbook'!R123)","v":""},{"$f":"IF('2.Logbook'!S123=\"\",\"\",'2.Logbook'!S123)","v":""},{"$f":"IF('2.Logbook'!T123=\"\",\"\",'2.Logbook'!T123)","v":""},{"$f":"IF('2.Logbook'!U123=\"\",\"\",'2.Logbook'!U123)","v":""},{"$f":"IF('2.Logbook'!V123=\"\",\"\",'2.Logbook'!V123)","v":""},{"$f":"IF('2.Logbook'!W123=\"\",\"\",'2.Logbook'!W123)","v":""},{"$f":"IF('2.Logbook'!X123=\"\",\"\",'2.Logbook'!X123)","v":""},{"$f":"IF('2.Logbook'!Y123=\"\",\"\",'2.Logbook'!Y123)","v":""},{"$f":"IF('2.Logbook'!Z123=\"\",\"\",'2.Logbook'!Z123)","v":""},{"$f":"IF('2.Logbook'!AA123=\"\",\"\",'2.Logbook'!AA123)","v":""},{"$f":"IF('2.Logbook'!AB123=\"\",\"\",'2.Logbook'!AB123)","v":""},{"$f":"IF('2.Logbook'!AC123=\"\",\"\",'2.Logbook'!AC123)","v":""},{"$f":"IF('2.Logbook'!AD123=\"\",\"\",'2.Logbook'!AD123)","v":""},{"$f":"IF('2.Logbook'!AE123=\"\",\"\",'2.Logbook'!AE123)","v":""},{"$f":"IF('2.Logbook'!AF123=\"\",\"\",'2.Logbook'!AF123)","v":""},{"$f":"IF('2.Logbook'!AG123=\"\",\"\",'2.Logbook'!AG123)","v":""}]
[{"$f":"IF('2.Logbook'!A124=\"\",\"\",'2.Logbook'!A124)","v":""},{"$f":"IF('2.Logbook'!B124=\"\",\"\",'2.Logbook'!B124)","v":""},{"$f":"IF('2.Logbook'!C124=\"\",\"\",'2.Logbook'!C124)","v":""},{"$f":"IF('2.Logbook'!D124=\"\",\"\",'2.Logbook'!D124)","v":""},{"$f":"IF('2.Logbook'!E124=\"\",\"\",'2.Logbook'!E124)","v":""},{"$f":"IF('2.Logbook'!F124=\"\",\"\",'2.Logbook'!F124)","v":""},{"$f":"IF('2.Logbook'!G124=\"\",\"\",'2.Logbook'!G124)","v":""},{"$f":"IF('2.Logbook'!H124=\"\",\"\",'2.Logbook'!H124)","v":""},{"$f":"IF('2.Logbook'!I124=\"\",\"\",'2.Logbook'!I124)","v":""},{"$f":"IF('2.Logbook'!J124=\"\",\"\",'2.Logbook'!J124)","v":""},{"$f":"IF('2.Logbook'!K124=\"\",\"\",'2.Logbook'!K124)","v":""},{"$f":"IF('2.Logbook'!L124=\"\",\"\",'2.Logbook'!L124)","v":""},{"$f":"IF('2.Logbook'!M124=\"\",\"\",'2.Logbook'!M124)","v":""},{"$f":"IF('2.Logbook'!N124=\"\",\"\",'2.Logbook'!N124)","v":""},{"$f":"IF('2.Logbook'!O124=\"\",\"\",'2.Logbook'!O124)","v":""},{"$f":"IF('2.Logbook'!P124=\"\",\"\",'2.Logbook'!P124)","v":""},{"$f":"IF('2.Logbook'!Q124=\"\",\"\",'2.Logbook'!Q124)","v":""},{"$f":"IF('2.Logbook'!R124=\"\",\"\",'2.Logbook'!R124)","v":""},{"$f":"IF('2.Logbook'!S124=\"\",\"\",'2.Logbook'!S124)","v":""},{"$f":"IF('2.Logbook'!T124=\"\",\"\",'2.Logbook'!T124)","v":""},{"$f":"IF('2.Logbook'!U124=\"\",\"\",'2.Logbook'!U124)","v":""},{"$f":"IF('2.Logbook'!V124=\"\",\"\",'2.Logbook'!V124)","v":""},{"$f":"IF('2.Logbook'!W124=\"\",\"\",'2.Logbook'!W124)","v":""},{"$f":"IF('2.Logbook'!X124=\"\",\"\",'2.Logbook'!X124)","v":""},{"$f":"IF('2.Logbook'!Y124=\"\",\"\",'2.Logbook'!Y124)","v":""},{"$f":"IF('2.Logbook'!Z124=\"\",\"\",'2.Logbook'!Z124)","v":""},{"$f":"IF('2.Logbook'!AA124=\"\",\"\",'2.Logbook'!AA124)","v":""},{"$f":"IF('2.Logbook'!AB124=\"\",\"\",'2.Logbook'!AB124)","v":""},{"$f":"IF('2.Logbook'!AC124=\"\",\"\",'2.Logbook'!AC124)","v":""},{"$f":"IF('2.Logbook'!AD124=\"\",\"\",'2.Logbook'!AD124)","v":""},{"$f":"IF('2.Logbook'!AE124=\"\",\"\",'2.Logbook'!AE124)","v":""},{"$f":"IF('2.Logbook'!AF124=\"\",\"\",'2.Logbook'!AF124)","v":""},{"$f":"IF('2.Logbook'!AG124=\"\",\"\",'2.Logbook'!AG124)","v":""}]
[{"$f":"IF('2.Logbook'!A125=\"\",\"\",'2.Logbook'!A125)","v":""},{"$f":"IF('2.Logbook'!B125=\"\",\"\",'2.Logbook'!B125)","v":""},{"$f":"IF('2.Logbook'!C125=\"\",\"\",'2.Logbook'!C125)","v":""},{"$f":"IF('2.Logbook'!D125=\"\",\"\",'2.Logbook'!D125)","v":""},{"$f":"IF('2.Logbook'!E125=\"\",\"\",'2.Logbook'!E125)","v":""},{"$f":"IF('2.Logbook'!F125=\"\",\"\",'2.Logbook'!F125)","v":""},{"$f":"IF('2.Logbook'!G125=\"\",\"\",'2.Logbook'!G125)","v":""},{"$f":"IF('2.Logbook'!H125=\"\",\"\",'2.Logbook'!H125)","v":""},{"$f":"IF('2.Logbook'!I125=\"\",\"\",'2.Logbook'!I125)","v":""},{"$f":"IF('2.Logbook'!J125=\"\",\"\",'2.Logbook'!J125)","v":""},{"$f":"IF('2.Logbook'!K125=\"\",\"\",'2.Logbook'!K125)","v":""},{"$f":"IF('2.Logbook'!L125=\"\",\"\",'2.Logbook'!L125)","v":""},{"$f":"IF('2.Logbook'!M125=\"\",\"\",'2.Logbook'!M125)","v":""},{"$f":"IF('2.Logbook'!N125=\"\",\"\",'2.Logbook'!N125)","v":""},{"$f":"IF('2.Logbook'!O125=\"\",\"\",'2.Logbook'!O125)","v":""},{"$f":"IF('2.Logbook'!P125=\"\",\"\",'2.Logbook'!P125)","v":""},{"$f":"IF('2.Logbook'!Q125=\"\",\"\",'2.Logbook'!Q125)","v":""},{"$f":"IF('2.Logbook'!R125=\"\",\"\",'2.Logbook'!R125)","v":""},{"$f":"IF('2.Logbook'!S125=\"\",\"\",'2.Logbook'!S125)","v":""},{"$f":"IF('2.Logbook'!T125=\"\",\"\",'2.Logbook'!T125)","v":""},{"$f":"IF('2.Logbook'!U125=\"\",\"\",'2.Logbook'!U125)","v":""},{"$f":"IF('2.Logbook'!V125=\"\",\"\",'2.Logbook'!V125)","v":""},{"$f":"IF('2.Logbook'!W125=\"\",\"\",'2.Logbook'!W125)","v":""},{"$f":"IF('2.Logbook'!X125=\"\",\"\",'2.Logbook'!X125)","v":""},{"$f":"IF('2.Logbook'!Y125=\"\",\"\",'2.Logbook'!Y125)","v":""},{"$f":"IF('2.Logbook'!Z125=\"\",\"\",'2.Logbook'!Z125)","v":""},{"$f":"IF('2.Logbook'!AA125=\"\",\"\",'2.Logbook'!AA125)","v":""},{"$f":"IF('2.Logbook'!AB125=\"\",\"\",'2.Logbook'!AB125)","v":""},{"$f":"IF('2.Logbook'!AC125=\"\",\"\",'2.Logbook'!AC125)","v":""},{"$f":"IF('2.Logbook'!AD125=\"\",\"\",'2.Logbook'!AD125)","v":""},{"$f":"IF('2.Logbook'!AE125=\"\",\"\",'2.Logbook'!AE125)","v":""},{"$f":"IF('2.Logbook'!AF125=\"\",\"\",'2.Logbook'!AF125)","v":""},{"$f":"IF('2.Logbook'!AG125=\"\",\"\",'2.Logbook'!AG125)","v":""}]
[{"$f":"IF('2.Logbook'!A126=\"\",\"\",'2.Logbook'!A126)","v":""},{"$f":"IF('2.Logbook'!B126=\"\",\"\",'2.Logbook'!B126)","v":""},{"$f":"IF('2.Logbook'!C126=\"\",\"\",'2.Logbook'!C126)","v":""},{"$f":"IF('2.Logbook'!D126=\"\",\"\",'2.Logbook'!D126)","v":""},{"$f":"IF('2.Logbook'!E126=\"\",\"\",'2.Logbook'!E126)","v":""},{"$f":"IF('2.Logbook'!F126=\"\",\"\",'2.Logbook'!F126)","v":""},{"$f":"IF('2.Logbook'!G126=\"\",\"\",'2.Logbook'!G126)","v":""},{"$f":"IF('2.Logbook'!H126=\"\",\"\",'2.Logbook'!H126)","v":""},{"$f":"IF('2.Logbook'!I126=\"\",\"\",'2.Logbook'!I126)","v":""},{"$f":"IF('2.Logbook'!J126=\"\",\"\",'2.Logbook'!J126)","v":""},{"$f":"IF('2.Logbook'!K126=\"\",\"\",'2.Logbook'!K126)","v":""},{"$f":"IF('2.Logbook'!L126=\"\",\"\",'2.Logbook'!L126)","v":""},{"$f":"IF('2.Logbook'!M126=\"\",\"\",'2.Logbook'!M126)","v":""},{"$f":"IF('2.Logbook'!N126=\"\",\"\",'2.Logbook'!N126)","v":""},{"$f":"IF('2.Logbook'!O126=\"\",\"\",'2.Logbook'!O126)","v":""},{"$f":"IF('2.Logbook'!P126=\"\",\"\",'2.Logbook'!P126)","v":""},{"$f":"IF('2.Logbook'!Q126=\"\",\"\",'2.Logbook'!Q126)","v":""},{"$f":"IF('2.Logbook'!R126=\"\",\"\",'2.Logbook'!R126)","v":""},{"$f":"IF('2.Logbook'!S126=\"\",\"\",'2.Logbook'!S126)","v":""},{"$f":"IF('2.Logbook'!T126=\"\",\"\",'2.Logbook'!T126)","v":""},{"$f":"IF('2.Logbook'!U126=\"\",\"\",'2.Logbook'!U126)","v":""},{"$f":"IF('2.Logbook'!V126=\"\",\"\",'2.Logbook'!V126)","v":""},{"$f":"IF('2.Logbook'!W126=\"\",\"\",'2.Logbook'!W126)","v":""},{"$f":"IF('2.Logbook'!X126=\"\",\"\",'2.Logbook'!X126)","v":""},{"$f":"IF('2.Logbook'!Y126=\"\",\"\",'2.Logbook'!Y126)","v":""},{"$f":"IF('2.Logbook'!Z126=\"\",\"\",'2.Logbook'!Z126)","v":""},{"$f":"IF('2.Logbook'!AA126=\"\",\"\",'2.Logbook'!AA126)","v":""},{"$f":"IF('2.Logbook'!AB126=\"\",\"\",'2.Logbook'!AB126)","v":""},{"$f":"IF('2.Logbook'!AC126=\"\",\"\",'2.Logbook'!AC126)","v":""},{"$f":"IF('2.Logbook'!AD126=\"\",\"\",'2.Logbook'!AD126)","v":""},{"$f":"IF('2.Logbook'!AE126=\"\",\"\",'2.Logbook'!AE126)","v":""},{"$f":"IF('2.Logbook'!AF126=\"\",\"\",'2.Logbook'!AF126)","v":""},{"$f":"IF('2.Logbook'!AG126=\"\",\"\",'2.Logbook'!AG126)","v":""}]
[{"$f":"IF('2.Logbook'!A127=\"\",\"\",'2.Logbook'!A127)","v":""},{"$f":"IF('2.Logbook'!B127=\"\",\"\",'2.Logbook'!B127)","v":""},{"$f":"IF('2.Logbook'!C127=\"\",\"\",'2.Logbook'!C127)","v":""},{"$f":"IF('2.Logbook'!D127=\"\",\"\",'2.Logbook'!D127)","v":""},{"$f":"IF('2.Logbook'!E127=\"\",\"\",'2.Logbook'!E127)","v":""},{"$f":"IF('2.Logbook'!F127=\"\",\"\",'2.Logbook'!F127)","v":""},{"$f":"IF('2.Logbook'!G127=\"\",\"\",'2.Logbook'!G127)","v":""},{"$f":"IF('2.Logbook'!H127=\"\",\"\",'2.Logbook'!H127)","v":""},{"$f":"IF('2.Logbook'!I127=\"\",\"\",'2.Logbook'!I127)","v":""},{"$f":"IF('2.Logbook'!J127=\"\",\"\",'2.Logbook'!J127)","v":""},{"$f":"IF('2.Logbook'!K127=\"\",\"\",'2.Logbook'!K127)","v":""},{"$f":"IF('2.Logbook'!L127=\"\",\"\",'2.Logbook'!L127)","v":""},{"$f":"IF('2.Logbook'!M127=\"\",\"\",'2.Logbook'!M127)","v":""},{"$f":"IF('2.Logbook'!N127=\"\",\"\",'2.Logbook'!N127)","v":""},{"$f":"IF('2.Logbook'!O127=\"\",\"\",'2.Logbook'!O127)","v":""},{"$f":"IF('2.Logbook'!P127=\"\",\"\",'2.Logbook'!P127)","v":""},{"$f":"IF('2.Logbook'!Q127=\"\",\"\",'2.Logbook'!Q127)","v":""},{"$f":"IF('2.Logbook'!R127=\"\",\"\",'2.Logbook'!R127)","v":""},{"$f":"IF('2.Logbook'!S127=\"\",\"\",'2.Logbook'!S127)","v":""},{"$f":"IF('2.Logbook'!T127=\"\",\"\",'2.Logbook'!T127)","v":""},{"$f":"IF('2.Logbook'!U127=\"\",\"\",'2.Logbook'!U127)","v":""},{"$f":"IF('2.Logbook'!V127=\"\",\"\",'2.Logbook'!V127)","v":""},{"$f":"IF('2.Logbook'!W127=\"\",\"\",'2.Logbook'!W127)","v":""},{"$f":"IF('2.Logbook'!X127=\"\",\"\",'2.Logbook'!X127)","v":""},{"$f":"IF('2.Logbook'!Y127=\"\",\"\",'2.Logbook'!Y127)","v":""},{"$f":"IF('2.Logbook'!Z127=\"\",\"\",'2.Logbook'!Z127)","v":""},{"$f":"IF('2.Logbook'!AA127=\"\",\"\",'2.Logbook'!AA127)","v":""},{"$f":"IF('2.Logbook'!AB127=\"\",\"\",'2.Logbook'!AB127)","v":""},{"$f":"IF('2.Logbook'!AC127=\"\",\"\",'2.Logbook'!AC127)","v":""},{"$f":"IF('2.Logbook'!AD127=\"\",\"\",'2.Logbook'!AD127)","v":""},{"$f":"IF('2.Logbook'!AE127=\"\",\"\",'2.Logbook'!AE127)","v":""},{"$f":"IF('2.Logbook'!AF127=\"\",\"\",'2.Logbook'!AF127)","v":""},{"$f":"IF('2.Logbook'!AG127=\"\",\"\",'2.Logbook'!AG127)","v":""}]
[{"$f":"IF('2.Logbook'!A128=\"\",\"\",'2.Logbook'!A128)","v":""},{"$f":"IF('2.Logbook'!B128=\"\",\"\",'2.Logbook'!B128)","v":""},{"$f":"IF('2.Logbook'!C128=\"\",\"\",'2.Logbook'!C128)","v":""},{"$f":"IF('2.Logbook'!D128=\"\",\"\",'2.Logbook'!D128)","v":""},{"$f":"IF('2.Logbook'!E128=\"\",\"\",'2.Logbook'!E128)","v":""},{"$f":"IF('2.Logbook'!F128=\"\",\"\",'2.Logbook'!F128)","v":""},{"$f":"IF('2.Logbook'!G128=\"\",\"\",'2.Logbook'!G128)","v":""},{"$f":"IF('2.Logbook'!H128=\"\",\"\",'2.Logbook'!H128)","v":""},{"$f":"IF('2.Logbook'!I128=\"\",\"\",'2.Logbook'!I128)","v":""},{"$f":"IF('2.Logbook'!J128=\"\",\"\",'2.Logbook'!J128)","v":""},{"$f":"IF('2.Logbook'!K128=\"\",\"\",'2.Logbook'!K128)","v":""},{"$f":"IF('2.Logbook'!L128=\"\",\"\",'2.Logbook'!L128)","v":""},{"$f":"IF('2.Logbook'!M128=\"\",\"\",'2.Logbook'!M128)","v":""},{"$f":"IF('2.Logbook'!N128=\"\",\"\",'2.Logbook'!N128)","v":""},{"$f":"IF('2.Logbook'!O128=\"\",\"\",'2.Logbook'!O128)","v":""},{"$f":"IF('2.Logbook'!P128=\"\",\"\",'2.Logbook'!P128)","v":""},{"$f":"IF('2.Logbook'!Q128=\"\",\"\",'2.Logbook'!Q128)","v":""},{"$f":"IF('2.Logbook'!R128=\"\",\"\",'2.Logbook'!R128)","v":""},{"$f":"IF('2.Logbook'!S128=\"\",\"\",'2.Logbook'!S128)","v":""},{"$f":"IF('2.Logbook'!T128=\"\",\"\",'2.Logbook'!T128)","v":""},{"$f":"IF('2.Logbook'!U128=\"\",\"\",'2.Logbook'!U128)","v":""},{"$f":"IF('2.Logbook'!V128=\"\",\"\",'2.Logbook'!V128)","v":""},{"$f":"IF('2.Logbook'!W128=\"\",\"\",'2.Logbook'!W128)","v":""},{"$f":"IF('2.Logbook'!X128=\"\",\"\",'2.Logbook'!X128)","v":""},{"$f":"IF('2.Logbook'!Y128=\"\",\"\",'2.Logbook'!Y128)","v":""},{"$f":"IF('2.Logbook'!Z128=\"\",\"\",'2.Logbook'!Z128)","v":""},{"$f":"IF('2.Logbook'!AA128=\"\",\"\",'2.Logbook'!AA128)","v":""},{"$f":"IF('2.Logbook'!AB128=\"\",\"\",'2.Logbook'!AB128)","v":""},{"$f":"IF('2.Logbook'!AC128=\"\",\"\",'2.Logbook'!AC128)","v":""},{"$f":"IF('2.Logbook'!AD128=\"\",\"\",'2.Logbook'!AD128)","v":""},{"$f":"IF('2.Logbook'!AE128=\"\",\"\",'2.Logbook'!AE128)","v":""},{"$f":"IF('2.Logbook'!AF128=\"\",\"\",'2.Logbook'!AF128)","v":""},{"$f":"IF('2.Logbook'!AG128=\"\",\"\",'2.Logbook'!AG128)","v":""}]
[{"$f":"IF('2.Logbook'!A129=\"\",\"\",'2.Logbook'!A129)","v":""},{"$f":"IF('2.Logbook'!B129=\"\",\"\",'2.Logbook'!B129)","v":""},{"$f":"IF('2.Logbook'!C129=\"\",\"\",'2.Logbook'!C129)","v":""},{"$f":"IF('2.Logbook'!D129=\"\",\"\",'2.Logbook'!D129)","v":""},{"$f":"IF('2.Logbook'!E129=\"\",\"\",'2.Logbook'!E129)","v":""},{"$f":"IF('2.Logbook'!F129=\"\",\"\",'2.Logbook'!F129)","v":""},{"$f":"IF('2.Logbook'!G129=\"\",\"\",'2.Logbook'!G129)","v":""},{"$f":"IF('2.Logbook'!H129=\"\",\"\",'2.Logbook'!H129)","v":""},{"$f":"IF('2.Logbook'!I129=\"\",\"\",'2.Logbook'!I129)","v":""},{"$f":"IF('2.Logbook'!J129=\"\",\"\",'2.Logbook'!J129)","v":""},{"$f":"IF('2.Logbook'!K129=\"\",\"\",'2.Logbook'!K129)","v":""},{"$f":"IF('2.Logbook'!L129=\"\",\"\",'2.Logbook'!L129)","v":""},{"$f":"IF('2.Logbook'!M129=\"\",\"\",'2.Logbook'!M129)","v":""},{"$f":"IF('2.Logbook'!N129=\"\",\"\",'2.Logbook'!N129)","v":""},{"$f":"IF('2.Logbook'!O129=\"\",\"\",'2.Logbook'!O129)","v":""},{"$f":"IF('2.Logbook'!P129=\"\",\"\",'2.Logbook'!P129)","v":""},{"$f":"IF('2.Logbook'!Q129=\"\",\"\",'2.Logbook'!Q129)","v":""},{"$f":"IF('2.Logbook'!R129=\"\",\"\",'2.Logbook'!R129)","v":""},{"$f":"IF('2.Logbook'!S129=\"\",\"\",'2.Logbook'!S129)","v":""},{"$f":"IF('2.Logbook'!T129=\"\",\"\",'2.Logbook'!T129)","v":""},{"$f":"IF('2.Logbook'!U129=\"\",\"\",'2.Logbook'!U129)","v":""},{"$f":"IF('2.Logbook'!V129=\"\",\"\",'2.Logbook'!V129)","v":""},{"$f":"IF('2.Logbook'!W129=\"\",\"\",'2.Logbook'!W129)","v":""},{"$f":"IF('2.Logbook'!X129=\"\",\"\",'2.Logbook'!X129)","v":""},{"$f":"IF('2.Logbook'!Y129=\"\",\"\",'2.Logbook'!Y129)","v":""},{"$f":"IF('2.Logbook'!Z129=\"\",\"\",'2.Logbook'!Z129)","v":""},{"$f":"IF('2.Logbook'!AA129=\"\",\"\",'2.Logbook'!AA129)","v":""},{"$f":"IF('2.Logbook'!AB129=\"\",\"\",'2.Logbook'!AB129)","v":""},{"$f":"IF('2.Logbook'!AC129=\"\",\"\",'2.Logbook'!AC129)","v":""},{"$f":"IF('2.Logbook'!AD129=\"\",\"\",'2.Logbook'!AD129)","v":""},{"$f":"IF('2.Logbook'!AE129=\"\",\"\",'2.Logbook'!AE129)","v":""},{"$f":"IF('2.Logbook'!AF129=\"\",\"\",'2.Logbook'!AF129)","v":""},{"$f":"IF('2.Logbook'!AG129=\"\",\"\",'2.Logbook'!AG129)","v":""}]
[{"$f":"IF('2.Logbook'!A130=\"\",\"\",'2.Logbook'!A130)","v":""},{"$f":"IF('2.Logbook'!B130=\"\",\"\",'2.Logbook'!B130)","v":""},{"$f":"IF('2.Logbook'!C130=\"\",\"\",'2.Logbook'!C130)","v":""},{"$f":"IF('2.Logbook'!D130=\"\",\"\",'2.Logbook'!D130)","v":""},{"$f":"IF('2.Logbook'!E130=\"\",\"\",'2.Logbook'!E130)","v":""},{"$f":"IF('2.Logbook'!F130=\"\",\"\",'2.Logbook'!F130)","v":""},{"$f":"IF('2.Logbook'!G130=\"\",\"\",'2.Logbook'!G130)","v":""},{"$f":"IF('2.Logbook'!H130=\"\",\"\",'2.Logbook'!H130)","v":""},{"$f":"IF('2.Logbook'!I130=\"\",\"\",'2.Logbook'!I130)","v":""},{"$f":"IF('2.Logbook'!J130=\"\",\"\",'2.Logbook'!J130)","v":""},{"$f":"IF('2.Logbook'!K130=\"\",\"\",'2.Logbook'!K130)","v":""},{"$f":"IF('2.Logbook'!L130=\"\",\"\",'2.Logbook'!L130)","v":""},{"$f":"IF('2.Logbook'!M130=\"\",\"\",'2.Logbook'!M130)","v":""},{"$f":"IF('2.Logbook'!N130=\"\",\"\",'2.Logbook'!N130)","v":""},{"$f":"IF('2.Logbook'!O130=\"\",\"\",'2.Logbook'!O130)","v":""},{"$f":"IF('2.Logbook'!P130=\"\",\"\",'2.Logbook'!P130)","v":""},{"$f":"IF('2.Logbook'!Q130=\"\",\"\",'2.Logbook'!Q130)","v":""},{"$f":"IF('2.Logbook'!R130=\"\",\"\",'2.Logbook'!R130)","v":""},{"$f":"IF('2.Logbook'!S130=\"\",\"\",'2.Logbook'!S130)","v":""},{"$f":"IF('2.Logbook'!T130=\"\",\"\",'2.Logbook'!T130)","v":""},{"$f":"IF('2.Logbook'!U130=\"\",\"\",'2.Logbook'!U130)","v":""},{"$f":"IF('2.Logbook'!V130=\"\",\"\",'2.Logbook'!V130)","v":""},{"$f":"IF('2.Logbook'!W130=\"\",\"\",'2.Logbook'!W130)","v":""},{"$f":"IF('2.Logbook'!X130=\"\",\"\",'2.Logbook'!X130)","v":""},{"$f":"IF('2.Logbook'!Y130=\"\",\"\",'2.Logbook'!Y130)","v":""},{"$f":"IF('2.Logbook'!Z130=\"\",\"\",'2.Logbook'!Z130)","v":""},{"$f":"IF('2.Logbook'!AA130=\"\",\"\",'2.Logbook'!AA130)","v":""},{"$f":"IF('2.Logbook'!AB130=\"\",\"\",'2.Logbook'!AB130)","v":""},{"$f":"IF('2.Logbook'!AC130=\"\",\"\",'2.Logbook'!AC130)","v":""},{"$f":"IF('2.Logbook'!AD130=\"\",\"\",'2.Logbook'!AD130)","v":""},{"$f":"IF('2.Logbook'!AE130=\"\",\"\",'2.Logbook'!AE130)","v":""},{"$f":"IF('2.Logbook'!AF130=\"\",\"\",'2.Logbook'!AF130)","v":""},{"$f":"IF('2.Logbook'!AG130=\"\",\"\",'2.Logbook'!AG130)","v":""}]
[{"$f":"IF('2.Logbook'!A131=\"\",\"\",'2.Logbook'!A131)","v":""},{"$f":"IF('2.Logbook'!B131=\"\",\"\",'2.Logbook'!B131)","v":""},{"$f":"IF('2.Logbook'!C131=\"\",\"\",'2.Logbook'!C131)","v":""},{"$f":"IF('2.Logbook'!D131=\"\",\"\",'2.Logbook'!D131)","v":""},{"$f":"IF('2.Logbook'!E131=\"\",\"\",'2.Logbook'!E131)","v":""},{"$f":"IF('2.Logbook'!F131=\"\",\"\",'2.Logbook'!F131)","v":""},{"$f":"IF('2.Logbook'!G131=\"\",\"\",'2.Logbook'!G131)","v":""},{"$f":"IF('2.Logbook'!H131=\"\",\"\",'2.Logbook'!H131)","v":""},{"$f":"IF('2.Logbook'!I131=\"\",\"\",'2.Logbook'!I131)","v":""},{"$f":"IF('2.Logbook'!J131=\"\",\"\",'2.Logbook'!J131)","v":""},{"$f":"IF('2.Logbook'!K131=\"\",\"\",'2.Logbook'!K131)","v":""},{"$f":"IF('2.Logbook'!L131=\"\",\"\",'2.Logbook'!L131)","v":""},{"$f":"IF('2.Logbook'!M131=\"\",\"\",'2.Logbook'!M131)","v":""},{"$f":"IF('2.Logbook'!N131=\"\",\"\",'2.Logbook'!N131)","v":""},{"$f":"IF('2.Logbook'!O131=\"\",\"\",'2.Logbook'!O131)","v":""},{"$f":"IF('2.Logbook'!P131=\"\",\"\",'2.Logbook'!P131)","v":""},{"$f":"IF('2.Logbook'!Q131=\"\",\"\",'2.Logbook'!Q131)","v":""},{"$f":"IF('2.Logbook'!R131=\"\",\"\",'2.Logbook'!R131)","v":""},{"$f":"IF('2.Logbook'!S131=\"\",\"\",'2.Logbook'!S131)","v":""},{"$f":"IF('2.Logbook'!T131=\"\",\"\",'2.Logbook'!T131)","v":""},{"$f":"IF('2.Logbook'!U131=\"\",\"\",'2.Logbook'!U131)","v":""},{"$f":"IF('2.Logbook'!V131=\"\",\"\",'2.Logbook'!V131)","v":""},{"$f":"IF('2.Logbook'!W131=\"\",\"\",'2.Logbook'!W131)","v":""},{"$f":"IF('2.Logbook'!X131=\"\",\"\",'2.Logbook'!X131)","v":""},{"$f":"IF('2.Logbook'!Y131=\"\",\"\",'2.Logbook'!Y131)","v":""},{"$f":"IF('2.Logbook'!Z131=\"\",\"\",'2.Logbook'!Z131)","v":""},{"$f":"IF('2.Logbook'!AA131=\"\",\"\",'2.Logbook'!AA131)","v":""},{"$f":"IF('2.Logbook'!AB131=\"\",\"\",'2.Logbook'!AB131)","v":""},{"$f":"IF('2.Logbook'!AC131=\"\",\"\",'2.Logbook'!AC131)","v":""},{"$f":"IF('2.Logbook'!AD131=\"\",\"\",'2.Logbook'!AD131)","v":""},{"$f":"IF('2.Logbook'!AE131=\"\",\"\",'2.Logbook'!AE131)","v":""},{"$f":"IF('2.Logbook'!AF131=\"\",\"\",'2.Logbook'!AF131)","v":""},{"$f":"IF('2.Logbook'!AG131=\"\",\"\",'2.Logbook'!AG131)","v":""}]
[{"$f":"IF('2.Logbook'!A132=\"\",\"\",'2.Logbook'!A132)","v":""},{"$f":"IF('2.Logbook'!B132=\"\",\"\",'2.Logbook'!B132)","v":""},{"$f":"IF('2.Logbook'!C132=\"\",\"\",'2.Logbook'!C132)","v":""},{"$f":"IF('2.Logbook'!D132=\"\",\"\",'2.Logbook'!D132)","v":""},{"$f":"IF('2.Logbook'!E132=\"\",\"\",'2.Logbook'!E132)","v":""},{"$f":"IF('2.Logbook'!F132=\"\",\"\",'2.Logbook'!F132)","v":""},{"$f":"IF('2.Logbook'!G132=\"\",\"\",'2.Logbook'!G132)","v":""},{"$f":"IF('2.Logbook'!H132=\"\",\"\",'2.Logbook'!H132)","v":""},{"$f":"IF('2.Logbook'!I132=\"\",\"\",'2.Logbook'!I132)","v":""},{"$f":"IF('2.Logbook'!J132=\"\",\"\",'2.Logbook'!J132)","v":""},{"$f":"IF('2.Logbook'!K132=\"\",\"\",'2.Logbook'!K132)","v":""},{"$f":"IF('2.Logbook'!L132=\"\",\"\",'2.Logbook'!L132)","v":""},{"$f":"IF('2.Logbook'!M132=\"\",\"\",'2.Logbook'!M132)","v":""},{"$f":"IF('2.Logbook'!N132=\"\",\"\",'2.Logbook'!N132)","v":""},{"$f":"IF('2.Logbook'!O132=\"\",\"\",'2.Logbook'!O132)","v":""},{"$f":"IF('2.Logbook'!P132=\"\",\"\",'2.Logbook'!P132)","v":""},{"$f":"IF('2.Logbook'!Q132=\"\",\"\",'2.Logbook'!Q132)","v":""},{"$f":"IF('2.Logbook'!R132=\"\",\"\",'2.Logbook'!R132)","v":""},{"$f":"IF('2.Logbook'!S132=\"\",\"\",'2.Logbook'!S132)","v":""},{"$f":"IF('2.Logbook'!T132=\"\",\"\",'2.Logbook'!T132)","v":""},{"$f":"IF('2.Logbook'!U132=\"\",\"\",'2.Logbook'!U132)","v":""},{"$f":"IF('2.Logbook'!V132=\"\",\"\",'2.Logbook'!V132)","v":""},{"$f":"IF('2.Logbook'!W132=\"\",\"\",'2.Logbook'!W132)","v":""},{"$f":"IF('2.Logbook'!X132=\"\",\"\",'2.Logbook'!X132)","v":""},{"$f":"IF('2.Logbook'!Y132=\"\",\"\",'2.Logbook'!Y132)","v":""},{"$f":"IF('2.Logbook'!Z132=\"\",\"\",'2.Logbook'!Z132)","v":""},{"$f":"IF('2.Logbook'!AA132=\"\",\"\",'2.Logbook'!AA132)","v":""},{"$f":"IF('2.Logbook'!AB132=\"\",\"\",'2.Logbook'!AB132)","v":""},{"$f":"IF('2.Logbook'!AC132=\"\",\"\",'2.Logbook'!AC132)","v":""},{"$f":"IF('2.Logbook'!AD132=\"\",\"\",'2.Logbook'!AD132)","v":""},{"$f":"IF('2.Logbook'!AE132=\"\",\"\",'2.Logbook'!AE132)","v":""},{"$f":"IF('2.Logbook'!AF132=\"\",\"\",'2.Logbook'!AF132)","v":""},{"$f":"IF('2.Logbook'!AG132=\"\",\"\",'2.Logbook'!AG132)","v":""}]
[{"$f":"IF('2.Logbook'!A133=\"\",\"\",'2.Logbook'!A133)","v":""},{"$f":"IF('2.Logbook'!B133=\"\",\"\",'2.Logbook'!B133)","v":""},{"$f":"IF('2.Logbook'!C133=\"\",\"\",'2.Logbook'!C133)","v":""},{"$f":"IF('2.Logbook'!D133=\"\",\"\",'2.Logbook'!D133)","v":""},{"$f":"IF('2.Logbook'!E133=\"\",\"\",'2.Logbook'!E133)","v":""},{"$f":"IF('2.Logbook'!F133=\"\",\"\",'2.Logbook'!F133)","v":""},{"$f":"IF('2.Logbook'!G133=\"\",\"\",'2.Logbook'!G133)","v":""},{"$f":"IF('2.Logbook'!H133=\"\",\"\",'2.Logbook'!H133)","v":""},{"$f":"IF('2.Logbook'!I133=\"\",\"\",'2.Logbook'!I133)","v":""},{"$f":"IF('2.Logbook'!J133=\"\",\"\",'2.Logbook'!J133)","v":""},{"$f":"IF('2.Logbook'!K133=\"\",\"\",'2.Logbook'!K133)","v":""},{"$f":"IF('2.Logbook'!L133=\"\",\"\",'2.Logbook'!L133)","v":""},{"$f":"IF('2.Logbook'!M133=\"\",\"\",'2.Logbook'!M133)","v":""},{"$f":"IF('2.Logbook'!N133=\"\",\"\",'2.Logbook'!N133)","v":""},{"$f":"IF('2.Logbook'!O133=\"\",\"\",'2.Logbook'!O133)","v":""},{"$f":"IF('2.Logbook'!P133=\"\",\"\",'2.Logbook'!P133)","v":""},{"$f":"IF('2.Logbook'!Q133=\"\",\"\",'2.Logbook'!Q133)","v":""},{"$f":"IF('2.Logbook'!R133=\"\",\"\",'2.Logbook'!R133)","v":""},{"$f":"IF('2.Logbook'!S133=\"\",\"\",'2.Logbook'!S133)","v":""},{"$f":"IF('2.Logbook'!T133=\"\",\"\",'2.Logbook'!T133)","v":""},{"$f":"IF('2.Logbook'!U133=\"\",\"\",'2.Logbook'!U133)","v":""},{"$f":"IF('2.Logbook'!V133=\"\",\"\",'2.Logbook'!V133)","v":""},{"$f":"IF('2.Logbook'!W133=\"\",\"\",'2.Logbook'!W133)","v":""},{"$f":"IF('2.Logbook'!X133=\"\",\"\",'2.Logbook'!X133)","v":""},{"$f":"IF('2.Logbook'!Y133=\"\",\"\",'2.Logbook'!Y133)","v":""},{"$f":"IF('2.Logbook'!Z133=\"\",\"\",'2.Logbook'!Z133)","v":""},{"$f":"IF('2.Logbook'!AA133=\"\",\"\",'2.Logbook'!AA133)","v":""},{"$f":"IF('2.Logbook'!AB133=\"\",\"\",'2.Logbook'!AB133)","v":""},{"$f":"IF('2.Logbook'!AC133=\"\",\"\",'2.Logbook'!AC133)","v":""},{"$f":"IF('2.Logbook'!AD133=\"\",\"\",'2.Logbook'!AD133)","v":""},{"$f":"IF('2.Logbook'!AE133=\"\",\"\",'2.Logbook'!AE133)","v":""},{"$f":"IF('2.Logbook'!AF133=\"\",\"\",'2.Logbook'!AF133)","v":""},{"$f":"IF('2.Logbook'!AG133=\"\",\"\",'2.Logbook'!AG133)","v":""}]
[{"$f":"IF('2.Logbook'!A134=\"\",\"\",'2.Logbook'!A134)","v":""},{"$f":"IF('2.Logbook'!B134=\"\",\"\",'2.Logbook'!B134)","v":""},{"$f":"IF('2.Logbook'!C134=\"\",\"\",'2.Logbook'!C134)","v":""},{"$f":"IF('2.Logbook'!D134=\"\",\"\",'2.Logbook'!D134)","v":""},{"$f":"IF('2.Logbook'!E134=\"\",\"\",'2.Logbook'!E134)","v":""},{"$f":"IF('2.Logbook'!F134=\"\",\"\",'2.Logbook'!F134)","v":""},{"$f":"IF('2.Logbook'!G134=\"\",\"\",'2.Logbook'!G134)","v":""},{"$f":"IF('2.Logbook'!H134=\"\",\"\",'2.Logbook'!H134)","v":""},{"$f":"IF('2.Logbook'!I134=\"\",\"\",'2.Logbook'!I134)","v":""},{"$f":"IF('2.Logbook'!J134=\"\",\"\",'2.Logbook'!J134)","v":""},{"$f":"IF('2.Logbook'!K134=\"\",\"\",'2.Logbook'!K134)","v":""},{"$f":"IF('2.Logbook'!L134=\"\",\"\",'2.Logbook'!L134)","v":""},{"$f":"IF('2.Logbook'!M134=\"\",\"\",'2.Logbook'!M134)","v":""},{"$f":"IF('2.Logbook'!N134=\"\",\"\",'2.Logbook'!N134)","v":""},{"$f":"IF('2.Logbook'!O134=\"\",\"\",'2.Logbook'!O134)","v":""},{"$f":"IF('2.Logbook'!P134=\"\",\"\",'2.Logbook'!P134)","v":""},{"$f":"IF('2.Logbook'!Q134=\"\",\"\",'2.Logbook'!Q134)","v":""},{"$f":"IF('2.Logbook'!R134=\"\",\"\",'2.Logbook'!R134)","v":""},{"$f":"IF('2.Logbook'!S134=\"\",\"\",'2.Logbook'!S134)","v":""},{"$f":"IF('2.Logbook'!T134=\"\",\"\",'2.Logbook'!T134)","v":""},{"$f":"IF('2.Logbook'!U134=\"\",\"\",'2.Logbook'!U134)","v":""},{"$f":"IF('2.Logbook'!V134=\"\",\"\",'2.Logbook'!V134)","v":""},{"$f":"IF('2.Logbook'!W134=\"\",\"\",'2.Logbook'!W134)","v":""},{"$f":"IF('2.Logbook'!X134=\"\",\"\",'2.Logbook'!X134)","v":""},{"$f":"IF('2.Logbook'!Y134=\"\",\"\",'2.Logbook'!Y134)","v":""},{"$f":"IF('2.Logbook'!Z134=\"\",\"\",'2.Logbook'!Z134)","v":""},{"$f":"IF('2.Logbook'!AA134=\"\",\"\",'2.Logbook'!AA134)","v":""},{"$f":"IF('2.Logbook'!AB134=\"\",\"\",'2.Logbook'!AB134)","v":""},{"$f":"IF('2.Logbook'!AC134=\"\",\"\",'2.Logbook'!AC134)","v":""},{"$f":"IF('2.Logbook'!AD134=\"\",\"\",'2.Logbook'!AD134)","v":""},{"$f":"IF('2.Logbook'!AE134=\"\",\"\",'2.Logbook'!AE134)","v":""},{"$f":"IF('2.Logbook'!AF134=\"\",\"\",'2.Logbook'!AF134)","v":""},{"$f":"IF('2.Logbook'!AG134=\"\",\"\",'2.Logbook'!AG134)","v":""}]
[{"$f":"IF('2.Logbook'!A135=\"\",\"\",'2.Logbook'!A135)","v":""},{"$f":"IF('2.Logbook'!B135=\"\",\"\",'2.Logbook'!B135)","v":""},{"$f":"IF('2.Logbook'!C135=\"\",\"\",'2.Logbook'!C135)","v":""},{"$f":"IF('2.Logbook'!D135=\"\",\"\",'2.Logbook'!D135)","v":""},{"$f":"IF('2.Logbook'!E135=\"\",\"\",'2.Logbook'!E135)","v":""},{"$f":"IF('2.Logbook'!F135=\"\",\"\",'2.Logbook'!F135)","v":""},{"$f":"IF('2.Logbook'!G135=\"\",\"\",'2.Logbook'!G135)","v":""},{"$f":"IF('2.Logbook'!H135=\"\",\"\",'2.Logbook'!H135)","v":""},{"$f":"IF('2.Logbook'!I135=\"\",\"\",'2.Logbook'!I135)","v":""},{"$f":"IF('2.Logbook'!J135=\"\",\"\",'2.Logbook'!J135)","v":""},{"$f":"IF('2.Logbook'!K135=\"\",\"\",'2.Logbook'!K135)","v":""},{"$f":"IF('2.Logbook'!L135=\"\",\"\",'2.Logbook'!L135)","v":""},{"$f":"IF('2.Logbook'!M135=\"\",\"\",'2.Logbook'!M135)","v":""},{"$f":"IF('2.Logbook'!N135=\"\",\"\",'2.Logbook'!N135)","v":""},{"$f":"IF('2.Logbook'!O135=\"\",\"\",'2.Logbook'!O135)","v":""},{"$f":"IF('2.Logbook'!P135=\"\",\"\",'2.Logbook'!P135)","v":""},{"$f":"IF('2.Logbook'!Q135=\"\",\"\",'2.Logbook'!Q135)","v":""},{"$f":"IF('2.Logbook'!R135=\"\",\"\",'2.Logbook'!R135)","v":""},{"$f":"IF('2.Logbook'!S135=\"\",\"\",'2.Logbook'!S135)","v":""},{"$f":"IF('2.Logbook'!T135=\"\",\"\",'2.Logbook'!T135)","v":""},{"$f":"IF('2.Logbook'!U135=\"\",\"\",'2.Logbook'!U135)","v":""},{"$f":"IF('2.Logbook'!V135=\"\",\"\",'2.Logbook'!V135)","v":""},{"$f":"IF('2.Logbook'!W135=\"\",\"\",'2.Logbook'!W135)","v":""},{"$f":"IF('2.Logbook'!X135=\"\",\"\",'2.Logbook'!X135)","v":""},{"$f":"IF('2.Logbook'!Y135=\"\",\"\",'2.Logbook'!Y135)","v":""},{"$f":"IF('2.Logbook'!Z135=\"\",\"\",'2.Logbook'!Z135)","v":""},{"$f":"IF('2.Logbook'!AA135=\"\",\"\",'2.Logbook'!AA135)","v":""},{"$f":"IF('2.Logbook'!AB135=\"\",\"\",'2.Logbook'!AB135)","v":""},{"$f":"IF('2.Logbook'!AC135=\"\",\"\",'2.Logbook'!AC135)","v":""},{"$f":"IF('2.Logbook'!AD135=\"\",\"\",'2.Logbook'!AD135)","v":""},{"$f":"IF('2.Logbook'!AE135=\"\",\"\",'2.Logbook'!AE135)","v":""},{"$f":"IF('2.Logbook'!AF135=\"\",\"\",'2.Logbook'!AF135)","v":""},{"$f":"IF('2.Logbook'!AG135=\"\",\"\",'2.Logbook'!AG135)","v":""}]
[{"$f":"IF('2.Logbook'!A136=\"\",\"\",'2.Logbook'!A136)","v":""},{"$f":"IF('2.Logbook'!B136=\"\",\"\",'2.Logbook'!B136)","v":""},{"$f":"IF('2.Logbook'!C136=\"\",\"\",'2.Logbook'!C136)","v":""},{"$f":"IF('2.Logbook'!D136=\"\",\"\",'2.Logbook'!D136)","v":""},{"$f":"IF('2.Logbook'!E136=\"\",\"\",'2.Logbook'!E136)","v":""},{"$f":"IF('2.Logbook'!F136=\"\",\"\",'2.Logbook'!F136)","v":""},{"$f":"IF('2.Logbook'!G136=\"\",\"\",'2.Logbook'!G136)","v":""},{"$f":"IF('2.Logbook'!H136=\"\",\"\",'2.Logbook'!H136)","v":""},{"$f":"IF('2.Logbook'!I136=\"\",\"\",'2.Logbook'!I136)","v":""},{"$f":"IF('2.Logbook'!J136=\"\",\"\",'2.Logbook'!J136)","v":""},{"$f":"IF('2.Logbook'!K136=\"\",\"\",'2.Logbook'!K136)","v":""},{"$f":"IF('2.Logbook'!L136=\"\",\"\",'2.Logbook'!L136)","v":""},{"$f":"IF('2.Logbook'!M136=\"\",\"\",'2.Logbook'!M136)","v":""},{"$f":"IF('2.Logbook'!N136=\"\",\"\",'2.Logbook'!N136)","v":""},{"$f":"IF('2.Logbook'!O136=\"\",\"\",'2.Logbook'!O136)","v":""},{"$f":"IF('2.Logbook'!P136=\"\",\"\",'2.Logbook'!P136)","v":""},{"$f":"IF('2.Logbook'!Q136=\"\",\"\",'2.Logbook'!Q136)","v":""},{"$f":"IF('2.Logbook'!R136=\"\",\"\",'2.Logbook'!R136)","v":""},{"$f":"IF('2.Logbook'!S136=\"\",\"\",'2.Logbook'!S136)","v":""},{"$f":"IF('2.Logbook'!T136=\"\",\"\",'2.Logbook'!T136)","v":""},{"$f":"IF('2.Logbook'!U136=\"\",\"\",'2.Logbook'!U136)","v":""},{"$f":"IF('2.Logbook'!V136=\"\",\"\",'2.Logbook'!V136)","v":""},{"$f":"IF('2.Logbook'!W136=\"\",\"\",'2.Logbook'!W136)","v":""},{"$f":"IF('2.Logbook'!X136=\"\",\"\",'2.Logbook'!X136)","v":""},{"$f":"IF('2.Logbook'!Y136=\"\",\"\",'2.Logbook'!Y136)","v":""},{"$f":"IF('2.Logbook'!Z136=\"\",\"\",'2.Logbook'!Z136)","v":""},{"$f":"IF('2.Logbook'!AA136=\"\",\"\",'2.Logbook'!AA136)","v":""},{"$f":"IF('2.Logbook'!AB136=\"\",\"\",'2.Logbook'!AB136)","v":""},{"$f":"IF('2.Logbook'!AC136=\"\",\"\",'2.Logbook'!AC136)","v":""},{"$f":"IF('2.Logbook'!AD136=\"\",\"\",'2.Logbook'!AD136)","v":""},{"$f":"IF('2.Logbook'!AE136=\"\",\"\",'2.Logbook'!AE136)","v":""},{"$f":"IF('2.Logbook'!AF136=\"\",\"\",'2.Logbook'!AF136)","v":""},{"$f":"IF('2.Logbook'!AG136=\"\",\"\",'2.Logbook'!AG136)","v":""}]
[{"$f":"IF('2.Logbook'!A137=\"\",\"\",'2.Logbook'!A137)","v":""},{"$f":"IF('2.Logbook'!B137=\"\",\"\",'2.Logbook'!B137)","v":""},{"$f":"IF('2.Logbook'!C137=\"\",\"\",'2.Logbook'!C137)","v":""},{"$f":"IF('2.Logbook'!D137=\"\",\"\",'2.Logbook'!D137)","v":""},{"$f":"IF('2.Logbook'!E137=\"\",\"\",'2.Logbook'!E137)","v":""},{"$f":"IF('2.Logbook'!F137=\"\",\"\",'2.Logbook'!F137)","v":""},{"$f":"IF('2.Logbook'!G137=\"\",\"\",'2.Logbook'!G137)","v":""},{"$f":"IF('2.Logbook'!H137=\"\",\"\",'2.Logbook'!H137)","v":""},{"$f":"IF('2.Logbook'!I137=\"\",\"\",'2.Logbook'!I137)","v":""},{"$f":"IF('2.Logbook'!J137=\"\",\"\",'2.Logbook'!J137)","v":""},{"$f":"IF('2.Logbook'!K137=\"\",\"\",'2.Logbook'!K137)","v":""},{"$f":"IF('2.Logbook'!L137=\"\",\"\",'2.Logbook'!L137)","v":""},{"$f":"IF('2.Logbook'!M137=\"\",\"\",'2.Logbook'!M137)","v":""},{"$f":"IF('2.Logbook'!N137=\"\",\"\",'2.Logbook'!N137)","v":""},{"$f":"IF('2.Logbook'!O137=\"\",\"\",'2.Logbook'!O137)","v":""},{"$f":"IF('2.Logbook'!P137=\"\",\"\",'2.Logbook'!P137)","v":""},{"$f":"IF('2.Logbook'!Q137=\"\",\"\",'2.Logbook'!Q137)","v":""},{"$f":"IF('2.Logbook'!R137=\"\",\"\",'2.Logbook'!R137)","v":""},{"$f":"IF('2.Logbook'!S137=\"\",\"\",'2.Logbook'!S137)","v":""},{"$f":"IF('2.Logbook'!T137=\"\",\"\",'2.Logbook'!T137)","v":""},{"$f":"IF('2.Logbook'!U137=\"\",\"\",'2.Logbook'!U137)","v":""},{"$f":"IF('2.Logbook'!V137=\"\",\"\",'2.Logbook'!V137)","v":""},{"$f":"IF('2.Logbook'!W137=\"\",\"\",'2.Logbook'!W137)","v":""},{"$f":"IF('2.Logbook'!X137=\"\",\"\",'2.Logbook'!X137)","v":""},{"$f":"IF('2.Logbook'!Y137=\"\",\"\",'2.Logbook'!Y137)","v":""},{"$f":"IF('2.Logbook'!Z137=\"\",\"\",'2.Logbook'!Z137)","v":""},{"$f":"IF('2.Logbook'!AA137=\"\",\"\",'2.Logbook'!AA137)","v":""},{"$f":"IF('2.Logbook'!AB137=\"\",\"\",'2.Logbook'!AB137)","v":""},{"$f":"IF('2.Logbook'!AC137=\"\",\"\",'2.Logbook'!AC137)","v":""},{"$f":"IF('2.Logbook'!AD137=\"\",\"\",'2.Logbook'!AD137)","v":""},{"$f":"IF('2.Logbook'!AE137=\"\",\"\",'2.Logbook'!AE137)","v":""},{"$f":"IF('2.Logbook'!AF137=\"\",\"\",'2.Logbook'!AF137)","v":""},{"$f":"IF('2.Logbook'!AG137=\"\",\"\",'2.Logbook'!AG137)","v":""}]
[{"$f":"IF('2.Logbook'!A138=\"\",\"\",'2.Logbook'!A138)","v":""},{"$f":"IF('2.Logbook'!B138=\"\",\"\",'2.Logbook'!B138)","v":""},{"$f":"IF('2.Logbook'!C138=\"\",\"\",'2.Logbook'!C138)","v":""},{"$f":"IF('2.Logbook'!D138=\"\",\"\",'2.Logbook'!D138)","v":""},{"$f":"IF('2.Logbook'!E138=\"\",\"\",'2.Logbook'!E138)","v":""},{"$f":"IF('2.Logbook'!F138=\"\",\"\",'2.Logbook'!F138)","v":""},{"$f":"IF('2.Logbook'!G138=\"\",\"\",'2.Logbook'!G138)","v":""},{"$f":"IF('2.Logbook'!H138=\"\",\"\",'2.Logbook'!H138)","v":""},{"$f":"IF('2.Logbook'!I138=\"\",\"\",'2.Logbook'!I138)","v":""},{"$f":"IF('2.Logbook'!J138=\"\",\"\",'2.Logbook'!J138)","v":""},{"$f":"IF('2.Logbook'!K138=\"\",\"\",'2.Logbook'!K138)","v":""},{"$f":"IF('2.Logbook'!L138=\"\",\"\",'2.Logbook'!L138)","v":""},{"$f":"IF('2.Logbook'!M138=\"\",\"\",'2.Logbook'!M138)","v":""},{"$f":"IF('2.Logbook'!N138=\"\",\"\",'2.Logbook'!N138)","v":""},{"$f":"IF('2.Logbook'!O138=\"\",\"\",'2.Logbook'!O138)","v":""},{"$f":"IF('2.Logbook'!P138=\"\",\"\",'2.Logbook'!P138)","v":""},{"$f":"IF('2.Logbook'!Q138=\"\",\"\",'2.Logbook'!Q138)","v":""},{"$f":"IF('2.Logbook'!R138=\"\",\"\",'2.Logbook'!R138)","v":""},{"$f":"IF('2.Logbook'!S138=\"\",\"\",'2.Logbook'!S138)","v":""},{"$f":"IF('2.Logbook'!T138=\"\",\"\",'2.Logbook'!T138)","v":""},{"$f":"IF('2.Logbook'!U138=\"\",\"\",'2.Logbook'!U138)","v":""},{"$f":"IF('2.Logbook'!V138=\"\",\"\",'2.Logbook'!V138)","v":""},{"$f":"IF('2.Logbook'!W138=\"\",\"\",'2.Logbook'!W138)","v":""},{"$f":"IF('2.Logbook'!X138=\"\",\"\",'2.Logbook'!X138)","v":""},{"$f":"IF('2.Logbook'!Y138=\"\",\"\",'2.Logbook'!Y138)","v":""},{"$f":"IF('2.Logbook'!Z138=\"\",\"\",'2.Logbook'!Z138)","v":""},{"$f":"IF('2.Logbook'!AA138=\"\",\"\",'2.Logbook'!AA138)","v":""},{"$f":"IF('2.Logbook'!AB138=\"\",\"\",'2.Logbook'!AB138)","v":""},{"$f":"IF('2.Logbook'!AC138=\"\",\"\",'2.Logbook'!AC138)","v":""},{"$f":"IF('2.Logbook'!AD138=\"\",\"\",'2.Logbook'!AD138)","v":""},{"$f":"IF('2.Logbook'!AE138=\"\",\"\",'2.Logbook'!AE138)","v":""},{"$f":"IF('2.Logbook'!AF138=\"\",\"\",'2.Logbook'!AF138)","v":""},{"$f":"IF('2.Logbook'!AG138=\"\",\"\",'2.Logbook'!AG138)","v":""}]
[{"$f":"IF('2.Logbook'!A139=\"\",\"\",'2.Logbook'!A139)","v":""},{"$f":"IF('2.Logbook'!B139=\"\",\"\",'2.Logbook'!B139)","v":""},{"$f":"IF('2.Logbook'!C139=\"\",\"\",'2.Logbook'!C139)","v":""},{"$f":"IF('2.Logbook'!D139=\"\",\"\",'2.Logbook'!D139)","v":""},{"$f":"IF('2.Logbook'!E139=\"\",\"\",'2.Logbook'!E139)","v":""},{"$f":"IF('2.Logbook'!F139=\"\",\"\",'2.Logbook'!F139)","v":""},{"$f":"IF('2.Logbook'!G139=\"\",\"\",'2.Logbook'!G139)","v":""},{"$f":"IF('2.Logbook'!H139=\"\",\"\",'2.Logbook'!H139)","v":""},{"$f":"IF('2.Logbook'!I139=\"\",\"\",'2.Logbook'!I139)","v":""},{"$f":"IF('2.Logbook'!J139=\"\",\"\",'2.Logbook'!J139)","v":""},{"$f":"IF('2.Logbook'!K139=\"\",\"\",'2.Logbook'!K139)","v":""},{"$f":"IF('2.Logbook'!L139=\"\",\"\",'2.Logbook'!L139)","v":""},{"$f":"IF('2.Logbook'!M139=\"\",\"\",'2.Logbook'!M139)","v":""},{"$f":"IF('2.Logbook'!N139=\"\",\"\",'2.Logbook'!N139)","v":""},{"$f":"IF('2.Logbook'!O139=\"\",\"\",'2.Logbook'!O139)","v":""},{"$f":"IF('2.Logbook'!P139=\"\",\"\",'2.Logbook'!P139)","v":""},{"$f":"IF('2.Logbook'!Q139=\"\",\"\",'2.Logbook'!Q139)","v":""},{"$f":"IF('2.Logbook'!R139=\"\",\"\",'2.Logbook'!R139)","v":""},{"$f":"IF('2.Logbook'!S139=\"\",\"\",'2.Logbook'!S139)","v":""},{"$f":"IF('2.Logbook'!T139=\"\",\"\",'2.Logbook'!T139)","v":""},{"$f":"IF('2.Logbook'!U139=\"\",\"\",'2.Logbook'!U139)","v":""},{"$f":"IF('2.Logbook'!V139=\"\",\"\",'2.Logbook'!V139)","v":""},{"$f":"IF('2.Logbook'!W139=\"\",\"\",'2.Logbook'!W139)","v":""},{"$f":"IF('2.Logbook'!X139=\"\",\"\",'2.Logbook'!X139)","v":""},{"$f":"IF('2.Logbook'!Y139=\"\",\"\",'2.Logbook'!Y139)","v":""},{"$f":"IF('2.Logbook'!Z139=\"\",\"\",'2.Logbook'!Z139)","v":""},{"$f":"IF('2.Logbook'!AA139=\"\",\"\",'2.Logbook'!AA139)","v":""},{"$f":"IF('2.Logbook'!AB139=\"\",\"\",'2.Logbook'!AB139)","v":""},{"$f":"IF('2.Logbook'!AC139=\"\",\"\",'2.Logbook'!AC139)","v":""},{"$f":"IF('2.Logbook'!AD139=\"\",\"\",'2.Logbook'!AD139)","v":""},{"$f":"IF('2.Logbook'!AE139=\"\",\"\",'2.Logbook'!AE139)","v":""},{"$f":"IF('2.Logbook'!AF139=\"\",\"\",'2.Logbook'!AF139)","v":""},{"$f":"IF('2.Logbook'!AG139=\"\",\"\",'2.Logbook'!AG139)","v":""}]
[{"$f":"IF('2.Logbook'!A140=\"\",\"\",'2.Logbook'!A140)","v":""},{"$f":"IF('2.Logbook'!B140=\"\",\"\",'2.Logbook'!B140)","v":""},{"$f":"IF('2.Logbook'!C140=\"\",\"\",'2.Logbook'!C140)","v":""},{"$f":"IF('2.Logbook'!D140=\"\",\"\",'2.Logbook'!D140)","v":""},{"$f":"IF('2.Logbook'!E140=\"\",\"\",'2.Logbook'!E140)","v":""},{"$f":"IF('2.Logbook'!F140=\"\",\"\",'2.Logbook'!F140)","v":""},{"$f":"IF('2.Logbook'!G140=\"\",\"\",'2.Logbook'!G140)","v":""},{"$f":"IF('2.Logbook'!H140=\"\",\"\",'2.Logbook'!H140)","v":""},{"$f":"IF('2.Logbook'!I140=\"\",\"\",'2.Logbook'!I140)","v":""},{"$f":"IF('2.Logbook'!J140=\"\",\"\",'2.Logbook'!J140)","v":""},{"$f":"IF('2.Logbook'!K140=\"\",\"\",'2.Logbook'!K140)","v":""},{"$f":"IF('2.Logbook'!L140=\"\",\"\",'2.Logbook'!L140)","v":""},{"$f":"IF('2.Logbook'!M140=\"\",\"\",'2.Logbook'!M140)","v":""},{"$f":"IF('2.Logbook'!N140=\"\",\"\",'2.Logbook'!N140)","v":""},{"$f":"IF('2.Logbook'!O140=\"\",\"\",'2.Logbook'!O140)","v":""},{"$f":"IF('2.Logbook'!P140=\"\",\"\",'2.Logbook'!P140)","v":""},{"$f":"IF('2.Logbook'!Q140=\"\",\"\",'2.Logbook'!Q140)","v":""},{"$f":"IF('2.Logbook'!R140=\"\",\"\",'2.Logbook'!R140)","v":""},{"$f":"IF('2.Logbook'!S140=\"\",\"\",'2.Logbook'!S140)","v":""},{"$f":"IF('2.Logbook'!T140=\"\",\"\",'2.Logbook'!T140)","v":""},{"$f":"IF('2.Logbook'!U140=\"\",\"\",'2.Logbook'!U140)","v":""},{"$f":"IF('2.Logbook'!V140=\"\",\"\",'2.Logbook'!V140)","v":""},{"$f":"IF('2.Logbook'!W140=\"\",\"\",'2.Logbook'!W140)","v":""},{"$f":"IF('2.Logbook'!X140=\"\",\"\",'2.Logbook'!X140)","v":""},{"$f":"IF('2.Logbook'!Y140=\"\",\"\",'2.Logbook'!Y140)","v":""},{"$f":"IF('2.Logbook'!Z140=\"\",\"\",'2.Logbook'!Z140)","v":""},{"$f":"IF('2.Logbook'!AA140=\"\",\"\",'2.Logbook'!AA140)","v":""},{"$f":"IF('2.Logbook'!AB140=\"\",\"\",'2.Logbook'!AB140)","v":""},{"$f":"IF('2.Logbook'!AC140=\"\",\"\",'2.Logbook'!AC140)","v":""},{"$f":"IF('2.Logbook'!AD140=\"\",\"\",'2.Logbook'!AD140)","v":""},{"$f":"IF('2.Logbook'!AE140=\"\",\"\",'2.Logbook'!AE140)","v":""},{"$f":"IF('2.Logbook'!AF140=\"\",\"\",'2.Logbook'!AF140)","v":""},{"$f":"IF('2.Logbook'!AG140=\"\",\"\",'2.Logbook'!AG140)","v":""}]
[{"$f":"IF('2.Logbook'!A141=\"\",\"\",'2.Logbook'!A141)","v":""},{"$f":"IF('2.Logbook'!B141=\"\",\"\",'2.Logbook'!B141)","v":""},{"$f":"IF('2.Logbook'!C141=\"\",\"\",'2.Logbook'!C141)","v":""},{"$f":"IF('2.Logbook'!D141=\"\",\"\",'2.Logbook'!D141)","v":""},{"$f":"IF('2.Logbook'!E141=\"\",\"\",'2.Logbook'!E141)","v":""},{"$f":"IF('2.Logbook'!F141=\"\",\"\",'2.Logbook'!F141)","v":""},{"$f":"IF('2.Logbook'!G141=\"\",\"\",'2.Logbook'!G141)","v":""},{"$f":"IF('2.Logbook'!H141=\"\",\"\",'2.Logbook'!H141)","v":""},{"$f":"IF('2.Logbook'!I141=\"\",\"\",'2.Logbook'!I141)","v":""},{"$f":"IF('2.Logbook'!J141=\"\",\"\",'2.Logbook'!J141)","v":""},{"$f":"IF('2.Logbook'!K141=\"\",\"\",'2.Logbook'!K141)","v":""},{"$f":"IF('2.Logbook'!L141=\"\",\"\",'2.Logbook'!L141)","v":""},{"$f":"IF('2.Logbook'!M141=\"\",\"\",'2.Logbook'!M141)","v":""},{"$f":"IF('2.Logbook'!N141=\"\",\"\",'2.Logbook'!N141)","v":""},{"$f":"IF('2.Logbook'!O141=\"\",\"\",'2.Logbook'!O141)","v":""},{"$f":"IF('2.Logbook'!P141=\"\",\"\",'2.Logbook'!P141)","v":""},{"$f":"IF('2.Logbook'!Q141=\"\",\"\",'2.Logbook'!Q141)","v":""},{"$f":"IF('2.Logbook'!R141=\"\",\"\",'2.Logbook'!R141)","v":""},{"$f":"IF('2.Logbook'!S141=\"\",\"\",'2.Logbook'!S141)","v":""},{"$f":"IF('2.Logbook'!T141=\"\",\"\",'2.Logbook'!T141)","v":""},{"$f":"IF('2.Logbook'!U141=\"\",\"\",'2.Logbook'!U141)","v":""},{"$f":"IF('2.Logbook'!V141=\"\",\"\",'2.Logbook'!V141)","v":""},{"$f":"IF('2.Logbook'!W141=\"\",\"\",'2.Logbook'!W141)","v":""},{"$f":"IF('2.Logbook'!X141=\"\",\"\",'2.Logbook'!X141)","v":""},{"$f":"IF('2.Logbook'!Y141=\"\",\"\",'2.Logbook'!Y141)","v":""},{"$f":"IF('2.Logbook'!Z141=\"\",\"\",'2.Logbook'!Z141)","v":""},{"$f":"IF('2.Logbook'!AA141=\"\",\"\",'2.Logbook'!AA141)","v":""},{"$f":"IF('2.Logbook'!AB141=\"\",\"\",'2.Logbook'!AB141)","v":""},{"$f":"IF('2.Logbook'!AC141=\"\",\"\",'2.Logbook'!AC141)","v":""},{"$f":"IF('2.Logbook'!AD141=\"\",\"\",'2.Logbook'!AD141)","v":""},{"$f":"IF('2.Logbook'!AE141=\"\",\"\",'2.Logbook'!AE141)","v":""},{"$f":"IF('2.Logbook'!AF141=\"\",\"\",'2.Logbook'!AF141)","v":""},{"$f":"IF('2.Logbook'!AG141=\"\",\"\",'2.Logbook'!AG141)","v":""}]
[{"$f":"IF('2.Logbook'!A142=\"\",\"\",'2.Logbook'!A142)","v":""},{"$f":"IF('2.Logbook'!B142=\"\",\"\",'2.Logbook'!B142)","v":""},{"$f":"IF('2.Logbook'!C142=\"\",\"\",'2.Logbook'!C142)","v":""},{"$f":"IF('2.Logbook'!D142=\"\",\"\",'2.Logbook'!D142)","v":""},{"$f":"IF('2.Logbook'!E142=\"\",\"\",'2.Logbook'!E142)","v":""},{"$f":"IF('2.Logbook'!F142=\"\",\"\",'2.Logbook'!F142)","v":""},{"$f":"IF('2.Logbook'!G142=\"\",\"\",'2.Logbook'!G142)","v":""},{"$f":"IF('2.Logbook'!H142=\"\",\"\",'2.Logbook'!H142)","v":""},{"$f":"IF('2.Logbook'!I142=\"\",\"\",'2.Logbook'!I142)","v":""},{"$f":"IF('2.Logbook'!J142=\"\",\"\",'2.Logbook'!J142)","v":""},{"$f":"IF('2.Logbook'!K142=\"\",\"\",'2.Logbook'!K142)","v":""},{"$f":"IF('2.Logbook'!L142=\"\",\"\",'2.Logbook'!L142)","v":""},{"$f":"IF('2.Logbook'!M142=\"\",\"\",'2.Logbook'!M142)","v":""},{"$f":"IF('2.Logbook'!N142=\"\",\"\",'2.Logbook'!N142)","v":""},{"$f":"IF('2.Logbook'!O142=\"\",\"\",'2.Logbook'!O142)","v":""},{"$f":"IF('2.Logbook'!P142=\"\",\"\",'2.Logbook'!P142)","v":""},{"$f":"IF('2.Logbook'!Q142=\"\",\"\",'2.Logbook'!Q142)","v":""},{"$f":"IF('2.Logbook'!R142=\"\",\"\",'2.Logbook'!R142)","v":""},{"$f":"IF('2.Logbook'!S142=\"\",\"\",'2.Logbook'!S142)","v":""},{"$f":"IF('2.Logbook'!T142=\"\",\"\",'2.Logbook'!T142)","v":""},{"$f":"IF('2.Logbook'!U142=\"\",\"\",'2.Logbook'!U142)","v":""},{"$f":"IF('2.Logbook'!V142=\"\",\"\",'2.Logbook'!V142)","v":""},{"$f":"IF('2.Logbook'!W142=\"\",\"\",'2.Logbook'!W142)","v":""},{"$f":"IF('2.Logbook'!X142=\"\",\"\",'2.Logbook'!X142)","v":""},{"$f":"IF('2.Logbook'!Y142=\"\",\"\",'2.Logbook'!Y142)","v":""},{"$f":"IF('2.Logbook'!Z142=\"\",\"\",'2.Logbook'!Z142)","v":""},{"$f":"IF('2.Logbook'!AA142=\"\",\"\",'2.Logbook'!AA142)","v":""},{"$f":"IF('2.Logbook'!AB142=\"\",\"\",'2.Logbook'!AB142)","v":""},{"$f":"IF('2.Logbook'!AC142=\"\",\"\",'2.Logbook'!AC142)","v":""},{"$f":"IF('2.Logbook'!AD142=\"\",\"\",'2.Logbook'!AD142)","v":""},{"$f":"IF('2.Logbook'!AE142=\"\",\"\",'2.Logbook'!AE142)","v":""},{"$f":"IF('2.Logbook'!AF142=\"\",\"\",'2.Logbook'!AF142)","v":""},{"$f":"IF('2.Logbook'!AG142=\"\",\"\",'2.Logbook'!AG142)","v":""}]
[{"$f":"IF('2.Logbook'!A143=\"\",\"\",'2.Logbook'!A143)","v":""},{"$f":"IF('2.Logbook'!B143=\"\",\"\",'2.Logbook'!B143)","v":""},{"$f":"IF('2.Logbook'!C143=\"\",\"\",'2.Logbook'!C143)","v":""},{"$f":"IF('2.Logbook'!D143=\"\",\"\",'2.Logbook'!D143)","v":""},{"$f":"IF('2.Logbook'!E143=\"\",\"\",'2.Logbook'!E143)","v":""},{"$f":"IF('2.Logbook'!F143=\"\",\"\",'2.Logbook'!F143)","v":""},{"$f":"IF('2.Logbook'!G143=\"\",\"\",'2.Logbook'!G143)","v":""},{"$f":"IF('2.Logbook'!H143=\"\",\"\",'2.Logbook'!H143)","v":""},{"$f":"IF('2.Logbook'!I143=\"\",\"\",'2.Logbook'!I143)","v":""},{"$f":"IF('2.Logbook'!J143=\"\",\"\",'2.Logbook'!J143)","v":""},{"$f":"IF('2.Logbook'!K143=\"\",\"\",'2.Logbook'!K143)","v":""},{"$f":"IF('2.Logbook'!L143=\"\",\"\",'2.Logbook'!L143)","v":""},{"$f":"IF('2.Logbook'!M143=\"\",\"\",'2.Logbook'!M143)","v":""},{"$f":"IF('2.Logbook'!N143=\"\",\"\",'2.Logbook'!N143)","v":""},{"$f":"IF('2.Logbook'!O143=\"\",\"\",'2.Logbook'!O143)","v":""},{"$f":"IF('2.Logbook'!P143=\"\",\"\",'2.Logbook'!P143)","v":""},{"$f":"IF('2.Logbook'!Q143=\"\",\"\",'2.Logbook'!Q143)","v":""},{"$f":"IF('2.Logbook'!R143=\"\",\"\",'2.Logbook'!R143)","v":""},{"$f":"IF('2.Logbook'!S143=\"\",\"\",'2.Logbook'!S143)","v":""},{"$f":"IF('2.Logbook'!T143=\"\",\"\",'2.Logbook'!T143)","v":""},{"$f":"IF('2.Logbook'!U143=\"\",\"\",'2.Logbook'!U143)","v":""},{"$f":"IF('2.Logbook'!V143=\"\",\"\",'2.Logbook'!V143)","v":""},{"$f":"IF('2.Logbook'!W143=\"\",\"\",'2.Logbook'!W143)","v":""},{"$f":"IF('2.Logbook'!X143=\"\",\"\",'2.Logbook'!X143)","v":""},{"$f":"IF('2.Logbook'!Y143=\"\",\"\",'2.Logbook'!Y143)","v":""},{"$f":"IF('2.Logbook'!Z143=\"\",\"\",'2.Logbook'!Z143)","v":""},{"$f":"IF('2.Logbook'!AA143=\"\",\"\",'2.Logbook'!AA143)","v":""},{"$f":"IF('2.Logbook'!AB143=\"\",\"\",'2.Logbook'!AB143)","v":""},{"$f":"IF('2.Logbook'!AC143=\"\",\"\",'2.Logbook'!AC143)","v":""},{"$f":"IF('2.Logbook'!AD143=\"\",\"\",'2.Logbook'!AD143)","v":""},{"$f":"IF('2.Logbook'!AE143=\"\",\"\",'2.Logbook'!AE143)","v":""},{"$f":"IF('2.Logbook'!AF143=\"\",\"\",'2.Logbook'!AF143)","v":""},{"$f":"IF('2.Logbook'!AG143=\"\",\"\",'2.Logbook'!AG143)","v":""}]
[{"$f":"IF('2.Logbook'!A144=\"\",\"\",'2.Logbook'!A144)","v":""},{"$f":"IF('2.Logbook'!B144=\"\",\"\",'2.Logbook'!B144)","v":""},{"$f":"IF('2.Logbook'!C144=\"\",\"\",'2.Logbook'!C144)","v":""},{"$f":"IF('2.Logbook'!D144=\"\",\"\",'2.Logbook'!D144)","v":""},{"$f":"IF('2.Logbook'!E144=\"\",\"\",'2.Logbook'!E144)","v":""},{"$f":"IF('2.Logbook'!F144=\"\",\"\",'2.Logbook'!F144)","v":""},{"$f":"IF('2.Logbook'!G144=\"\",\"\",'2.Logbook'!G144)","v":""},{"$f":"IF('2.Logbook'!H144=\"\",\"\",'2.Logbook'!H144)","v":""},{"$f":"IF('2.Logbook'!I144=\"\",\"\",'2.Logbook'!I144)","v":""},{"$f":"IF('2.Logbook'!J144=\"\",\"\",'2.Logbook'!J144)","v":""},{"$f":"IF('2.Logbook'!K144=\"\",\"\",'2.Logbook'!K144)","v":""},{"$f":"IF('2.Logbook'!L144=\"\",\"\",'2.Logbook'!L144)","v":""},{"$f":"IF('2.Logbook'!M144=\"\",\"\",'2.Logbook'!M144)","v":""},{"$f":"IF('2.Logbook'!N144=\"\",\"\",'2.Logbook'!N144)","v":""},{"$f":"IF('2.Logbook'!O144=\"\",\"\",'2.Logbook'!O144)","v":""},{"$f":"IF('2.Logbook'!P144=\"\",\"\",'2.Logbook'!P144)","v":""},{"$f":"IF('2.Logbook'!Q144=\"\",\"\",'2.Logbook'!Q144)","v":""},{"$f":"IF('2.Logbook'!R144=\"\",\"\",'2.Logbook'!R144)","v":""},{"$f":"IF('2.Logbook'!S144=\"\",\"\",'2.Logbook'!S144)","v":""},{"$f":"IF('2.Logbook'!T144=\"\",\"\",'2.Logbook'!T144)","v":""},{"$f":"IF('2.Logbook'!U144=\"\",\"\",'2.Logbook'!U144)","v":""},{"$f":"IF('2.Logbook'!V144=\"\",\"\",'2.Logbook'!V144)","v":""},{"$f":"IF('2.Logbook'!W144=\"\",\"\",'2.Logbook'!W144)","v":""},{"$f":"IF('2.Logbook'!X144=\"\",\"\",'2.Logbook'!X144)","v":""},{"$f":"IF('2.Logbook'!Y144=\"\",\"\",'2.Logbook'!Y144)","v":""},{"$f":"IF('2.Logbook'!Z144=\"\",\"\",'2.Logbook'!Z144)","v":""},{"$f":"IF('2.Logbook'!AA144=\"\",\"\",'2.Logbook'!AA144)","v":""},{"$f":"IF('2.Logbook'!AB144=\"\",\"\",'2.Logbook'!AB144)","v":""},{"$f":"IF('2.Logbook'!AC144=\"\",\"\",'2.Logbook'!AC144)","v":""},{"$f":"IF('2.Logbook'!AD144=\"\",\"\",'2.Logbook'!AD144)","v":""},{"$f":"IF('2.Logbook'!AE144=\"\",\"\",'2.Logbook'!AE144)","v":""},{"$f":"IF('2.Logbook'!AF144=\"\",\"\",'2.Logbook'!AF144)","v":""},{"$f":"IF('2.Logbook'!AG144=\"\",\"\",'2.Logbook'!AG144)","v":""}]
[{"$f":"IF('2.Logbook'!A145=\"\",\"\",'2.Logbook'!A145)","v":""},{"$f":"IF('2.Logbook'!B145=\"\",\"\",'2.Logbook'!B145)","v":""},{"$f":"IF('2.Logbook'!C145=\"\",\"\",'2.Logbook'!C145)","v":""},{"$f":"IF('2.Logbook'!D145=\"\",\"\",'2.Logbook'!D145)","v":""},{"$f":"IF('2.Logbook'!E145=\"\",\"\",'2.Logbook'!E145)","v":""},{"$f":"IF('2.Logbook'!F145=\"\",\"\",'2.Logbook'!F145)","v":""},{"$f":"IF('2.Logbook'!G145=\"\",\"\",'2.Logbook'!G145)","v":""},{"$f":"IF('2.Logbook'!H145=\"\",\"\",'2.Logbook'!H145)","v":""},{"$f":"IF('2.Logbook'!I145=\"\",\"\",'2.Logbook'!I145)","v":""},{"$f":"IF('2.Logbook'!J145=\"\",\"\",'2.Logbook'!J145)","v":""},{"$f":"IF('2.Logbook'!K145=\"\",\"\",'2.Logbook'!K145)","v":""},{"$f":"IF('2.Logbook'!L145=\"\",\"\",'2.Logbook'!L145)","v":""},{"$f":"IF('2.Logbook'!M145=\"\",\"\",'2.Logbook'!M145)","v":""},{"$f":"IF('2.Logbook'!N145=\"\",\"\",'2.Logbook'!N145)","v":""},{"$f":"IF('2.Logbook'!O145=\"\",\"\",'2.Logbook'!O145)","v":""},{"$f":"IF('2.Logbook'!P145=\"\",\"\",'2.Logbook'!P145)","v":""},{"$f":"IF('2.Logbook'!Q145=\"\",\"\",'2.Logbook'!Q145)","v":""},{"$f":"IF('2.Logbook'!R145=\"\",\"\",'2.Logbook'!R145)","v":""},{"$f":"IF('2.Logbook'!S145=\"\",\"\",'2.Logbook'!S145)","v":""},{"$f":"IF('2.Logbook'!T145=\"\",\"\",'2.Logbook'!T145)","v":""},{"$f":"IF('2.Logbook'!U145=\"\",\"\",'2.Logbook'!U145)","v":""},{"$f":"IF('2.Logbook'!V145=\"\",\"\",'2.Logbook'!V145)","v":""},{"$f":"IF('2.Logbook'!W145=\"\",\"\",'2.Logbook'!W145)","v":""},{"$f":"IF('2.Logbook'!X145=\"\",\"\",'2.Logbook'!X145)","v":""},{"$f":"IF('2.Logbook'!Y145=\"\",\"\",'2.Logbook'!Y145)","v":""},{"$f":"IF('2.Logbook'!Z145=\"\",\"\",'2.Logbook'!Z145)","v":""},{"$f":"IF('2.Logbook'!AA145=\"\",\"\",'2.Logbook'!AA145)","v":""},{"$f":"IF('2.Logbook'!AB145=\"\",\"\",'2.Logbook'!AB145)","v":""},{"$f":"IF('2.Logbook'!AC145=\"\",\"\",'2.Logbook'!AC145)","v":""},{"$f":"IF('2.Logbook'!AD145=\"\",\"\",'2.Logbook'!AD145)","v":""},{"$f":"IF('2.Logbook'!AE145=\"\",\"\",'2.Logbook'!AE145)","v":""},{"$f":"IF('2.Logbook'!AF145=\"\",\"\",'2.Logbook'!AF145)","v":""},{"$f":"IF('2.Logbook'!AG145=\"\",\"\",'2.Logbook'!AG145)","v":""}]
[{"$f":"IF('2.Logbook'!A146=\"\",\"\",'2.Logbook'!A146)","v":""},{"$f":"IF('2.Logbook'!B146=\"\",\"\",'2.Logbook'!B146)","v":""},{"$f":"IF('2.Logbook'!C146=\"\",\"\",'2.Logbook'!C146)","v":""},{"$f":"IF('2.Logbook'!D146=\"\",\"\",'2.Logbook'!D146)","v":""},{"$f":"IF('2.Logbook'!E146=\"\",\"\",'2.Logbook'!E146)","v":""},{"$f":"IF('2.Logbook'!F146=\"\",\"\",'2.Logbook'!F146)","v":""},{"$f":"IF('2.Logbook'!G146=\"\",\"\",'2.Logbook'!G146)","v":""},{"$f":"IF('2.Logbook'!H146=\"\",\"\",'2.Logbook'!H146)","v":""},{"$f":"IF('2.Logbook'!I146=\"\",\"\",'2.Logbook'!I146)","v":""},{"$f":"IF('2.Logbook'!J146=\"\",\"\",'2.Logbook'!J146)","v":""},{"$f":"IF('2.Logbook'!K146=\"\",\"\",'2.Logbook'!K146)","v":""},{"$f":"IF('2.Logbook'!L146=\"\",\"\",'2.Logbook'!L146)","v":""},{"$f":"IF('2.Logbook'!M146=\"\",\"\",'2.Logbook'!M146)","v":""},{"$f":"IF('2.Logbook'!N146=\"\",\"\",'2.Logbook'!N146)","v":""},{"$f":"IF('2.Logbook'!O146=\"\",\"\",'2.Logbook'!O146)","v":""},{"$f":"IF('2.Logbook'!P146=\"\",\"\",'2.Logbook'!P146)","v":""},{"$f":"IF('2.Logbook'!Q146=\"\",\"\",'2.Logbook'!Q146)","v":""},{"$f":"IF('2.Logbook'!R146=\"\",\"\",'2.Logbook'!R146)","v":""},{"$f":"IF('2.Logbook'!S146=\"\",\"\",'2.Logbook'!S146)","v":""},{"$f":"IF('2.Logbook'!T146=\"\",\"\",'2.Logbook'!T146)","v":""},{"$f":"IF('2.Logbook'!U146=\"\",\"\",'2.Logbook'!U146)","v":""},{"$f":"IF('2.Logbook'!V146=\"\",\"\",'2.Logbook'!V146)","v":""},{"$f":"IF('2.Logbook'!W146=\"\",\"\",'2.Logbook'!W146)","v":""},{"$f":"IF('2.Logbook'!X146=\"\",\"\",'2.Logbook'!X146)","v":""},{"$f":"IF('2.Logbook'!Y146=\"\",\"\",'2.Logbook'!Y146)","v":""},{"$f":"IF('2.Logbook'!Z146=\"\",\"\",'2.Logbook'!Z146)","v":""},{"$f":"IF('2.Logbook'!AA146=\"\",\"\",'2.Logbook'!AA146)","v":""},{"$f":"IF('2.Logbook'!AB146=\"\",\"\",'2.Logbook'!AB146)","v":""},{"$f":"IF('2.Logbook'!AC146=\"\",\"\",'2.Logbook'!AC146)","v":""},{"$f":"IF('2.Logbook'!AD146=\"\",\"\",'2.Logbook'!AD146)","v":""},{"$f":"IF('2.Logbook'!AE146=\"\",\"\",'2.Logbook'!AE146)","v":""},{"$f":"IF('2.Logbook'!AF146=\"\",\"\",'2.Logbook'!AF146)","v":""},{"$f":"IF('2.Logbook'!AG146=\"\",\"\",'2.Logbook'!AG146)","v":""}]
[{"$f":"IF('2.Logbook'!A147=\"\",\"\",'2.Logbook'!A147)","v":""},{"$f":"IF('2.Logbook'!B147=\"\",\"\",'2.Logbook'!B147)","v":""},{"$f":"IF('2.Logbook'!C147=\"\",\"\",'2.Logbook'!C147)","v":""},{"$f":"IF('2.Logbook'!D147=\"\",\"\",'2.Logbook'!D147)","v":""},{"$f":"IF('2.Logbook'!E147=\"\",\"\",'2.Logbook'!E147)","v":""},{"$f":"IF('2.Logbook'!F147=\"\",\"\",'2.Logbook'!F147)","v":""},{"$f":"IF('2.Logbook'!G147=\"\",\"\",'2.Logbook'!G147)","v":""},{"$f":"IF('2.Logbook'!H147=\"\",\"\",'2.Logbook'!H147)","v":""},{"$f":"IF('2.Logbook'!I147=\"\",\"\",'2.Logbook'!I147)","v":""},{"$f":"IF('2.Logbook'!J147=\"\",\"\",'2.Logbook'!J147)","v":""},{"$f":"IF('2.Logbook'!K147=\"\",\"\",'2.Logbook'!K147)","v":""},{"$f":"IF('2.Logbook'!L147=\"\",\"\",'2.Logbook'!L147)","v":""},{"$f":"IF('2.Logbook'!M147=\"\",\"\",'2.Logbook'!M147)","v":""},{"$f":"IF('2.Logbook'!N147=\"\",\"\",'2.Logbook'!N147)","v":""},{"$f":"IF('2.Logbook'!O147=\"\",\"\",'2.Logbook'!O147)","v":""},{"$f":"IF('2.Logbook'!P147=\"\",\"\",'2.Logbook'!P147)","v":""},{"$f":"IF('2.Logbook'!Q147=\"\",\"\",'2.Logbook'!Q147)","v":""},{"$f":"IF('2.Logbook'!R147=\"\",\"\",'2.Logbook'!R147)","v":""},{"$f":"IF('2.Logbook'!S147=\"\",\"\",'2.Logbook'!S147)","v":""},{"$f":"IF('2.Logbook'!T147=\"\",\"\",'2.Logbook'!T147)","v":""},{"$f":"IF('2.Logbook'!U147=\"\",\"\",'2.Logbook'!U147)","v":""},{"$f":"IF('2.Logbook'!V147=\"\",\"\",'2.Logbook'!V147)","v":""},{"$f":"IF('2.Logbook'!W147=\"\",\"\",'2.Logbook'!W147)","v":""},{"$f":"IF('2.Logbook'!X147=\"\",\"\",'2.Logbook'!X147)","v":""},{"$f":"IF('2.Logbook'!Y147=\"\",\"\",'2.Logbook'!Y147)","v":""},{"$f":"IF('2.Logbook'!Z147=\"\",\"\",'2.Logbook'!Z147)","v":""},{"$f":"IF('2.Logbook'!AA147=\"\",\"\",'2.Logbook'!AA147)","v":""},{"$f":"IF('2.Logbook'!AB147=\"\",\"\",'2.Logbook'!AB147)","v":""},{"$f":"IF('2.Logbook'!AC147=\"\",\"\",'2.Logbook'!AC147)","v":""},{"$f":"IF('2.Logbook'!AD147=\"\",\"\",'2.Logbook'!AD147)","v":""},{"$f":"IF('2.Logbook'!AE147=\"\",\"\",'2.Logbook'!AE147)","v":""},{"$f":"IF('2.Logbook'!AF147=\"\",\"\",'2.Logbook'!AF147)","v":""},{"$f":"IF('2.Logbook'!AG147=\"\",\"\",'2.Logbook'!AG147)","v":""}]
[{"$f":"IF('2.Logbook'!A148=\"\",\"\",'2.Logbook'!A148)","v":""},{"$f":"IF('2.Logbook'!B148=\"\",\"\",'2.Logbook'!B148)","v":""},{"$f":"IF('2.Logbook'!C148=\"\",\"\",'2.Logbook'!C148)","v":""},{"$f":"IF('2.Logbook'!D148=\"\",\"\",'2.Logbook'!D148)","v":""},{"$f":"IF('2.Logbook'!E148=\"\",\"\",'2.Logbook'!E148)","v":""},{"$f":"IF('2.Logbook'!F148=\"\",\"\",'2.Logbook'!F148)","v":""},{"$f":"IF('2.Logbook'!G148=\"\",\"\",'2.Logbook'!G148)","v":""},{"$f":"IF('2.Logbook'!H148=\"\",\"\",'2.Logbook'!H148)","v":""},{"$f":"IF('2.Logbook'!I148=\"\",\"\",'2.Logbook'!I148)","v":""},{"$f":"IF('2.Logbook'!J148=\"\",\"\",'2.Logbook'!J148)","v":""},{"$f":"IF('2.Logbook'!K148=\"\",\"\",'2.Logbook'!K148)","v":""},{"$f":"IF('2.Logbook'!L148=\"\",\"\",'2.Logbook'!L148)","v":""},{"$f":"IF('2.Logbook'!M148=\"\",\"\",'2.Logbook'!M148)","v":""},{"$f":"IF('2.Logbook'!N148=\"\",\"\",'2.Logbook'!N148)","v":""},{"$f":"IF('2.Logbook'!O148=\"\",\"\",'2.Logbook'!O148)","v":""},{"$f":"IF('2.Logbook'!P148=\"\",\"\",'2.Logbook'!P148)","v":""},{"$f":"IF('2.Logbook'!Q148=\"\",\"\",'2.Logbook'!Q148)","v":""},{"$f":"IF('2.Logbook'!R148=\"\",\"\",'2.Logbook'!R148)","v":""},{"$f":"IF('2.Logbook'!S148=\"\",\"\",'2.Logbook'!S148)","v":""},{"$f":"IF('2.Logbook'!T148=\"\",\"\",'2.Logbook'!T148)","v":""},{"$f":"IF('2.Logbook'!U148=\"\",\"\",'2.Logbook'!U148)","v":""},{"$f":"IF('2.Logbook'!V148=\"\",\"\",'2.Logbook'!V148)","v":""},{"$f":"IF('2.Logbook'!W148=\"\",\"\",'2.Logbook'!W148)","v":""},{"$f":"IF('2.Logbook'!X148=\"\",\"\",'2.Logbook'!X148)","v":""},{"$f":"IF('2.Logbook'!Y148=\"\",\"\",'2.Logbook'!Y148)","v":""},{"$f":"IF('2.Logbook'!Z148=\"\",\"\",'2.Logbook'!Z148)","v":""},{"$f":"IF('2.Logbook'!AA148=\"\",\"\",'2.Logbook'!AA148)","v":""},{"$f":"IF('2.Logbook'!AB148=\"\",\"\",'2.Logbook'!AB148)","v":""},{"$f":"IF('2.Logbook'!AC148=\"\",\"\",'2.Logbook'!AC148)","v":""},{"$f":"IF('2.Logbook'!AD148=\"\",\"\",'2.Logbook'!AD148)","v":""},{"$f":"IF('2.Logbook'!AE148=\"\",\"\",'2.Logbook'!AE148)","v":""},{"$f":"IF('2.Logbook'!AF148=\"\",\"\",'2.Logbook'!AF148)","v":""},{"$f":"IF('2.Logbook'!AG148=\"\",\"\",'2.Logbook'!AG148)","v":""}]
[{"$f":"IF('2.Logbook'!A149=\"\",\"\",'2.Logbook'!A149)","v":""},{"$f":"IF('2.Logbook'!B149=\"\",\"\",'2.Logbook'!B149)","v":""},{"$f":"IF('2.Logbook'!C149=\"\",\"\",'2.Logbook'!C149)","v":""},{"$f":"IF('2.Logbook'!D149=\"\",\"\",'2.Logbook'!D149)","v":""},{"$f":"IF('2.Logbook'!E149=\"\",\"\",'2.Logbook'!E149)","v":""},{"$f":"IF('2.Logbook'!F149=\"\",\"\",'2.Logbook'!F149)","v":""},{"$f":"IF('2.Logbook'!G149=\"\",\"\",'2.Logbook'!G149)","v":""},{"$f":"IF('2.Logbook'!H149=\"\",\"\",'2.Logbook'!H149)","v":""},{"$f":"IF('2.Logbook'!I149=\"\",\"\",'2.Logbook'!I149)","v":""},{"$f":"IF('2.Logbook'!J149=\"\",\"\",'2.Logbook'!J149)","v":""},{"$f":"IF('2.Logbook'!K149=\"\",\"\",'2.Logbook'!K149)","v":""},{"$f":"IF('2.Logbook'!L149=\"\",\"\",'2.Logbook'!L149)","v":""},{"$f":"IF('2.Logbook'!M149=\"\",\"\",'2.Logbook'!M149)","v":""},{"$f":"IF('2.Logbook'!N149=\"\",\"\",'2.Logbook'!N149)","v":""},{"$f":"IF('2.Logbook'!O149=\"\",\"\",'2.Logbook'!O149)","v":""},{"$f":"IF('2.Logbook'!P149=\"\",\"\",'2.Logbook'!P149)","v":""},{"$f":"IF('2.Logbook'!Q149=\"\",\"\",'2.Logbook'!Q149)","v":""},{"$f":"IF('2.Logbook'!R149=\"\",\"\",'2.Logbook'!R149)","v":""},{"$f":"IF('2.Logbook'!S149=\"\",\"\",'2.Logbook'!S149)","v":""},{"$f":"IF('2.Logbook'!T149=\"\",\"\",'2.Logbook'!T149)","v":""},{"$f":"IF('2.Logbook'!U149=\"\",\"\",'2.Logbook'!U149)","v":""},{"$f":"IF('2.Logbook'!V149=\"\",\"\",'2.Logbook'!V149)","v":""},{"$f":"IF('2.Logbook'!W149=\"\",\"\",'2.Logbook'!W149)","v":""},{"$f":"IF('2.Logbook'!X149=\"\",\"\",'2.Logbook'!X149)","v":""},{"$f":"IF('2.Logbook'!Y149=\"\",\"\",'2.Logbook'!Y149)","v":""},{"$f":"IF('2.Logbook'!Z149=\"\",\"\",'2.Logbook'!Z149)","v":""},{"$f":"IF('2.Logbook'!AA149=\"\",\"\",'2.Logbook'!AA149)","v":""},{"$f":"IF('2.Logbook'!AB149=\"\",\"\",'2.Logbook'!AB149)","v":""},{"$f":"IF('2.Logbook'!AC149=\"\",\"\",'2.Logbook'!AC149)","v":""},{"$f":"IF('2.Logbook'!AD149=\"\",\"\",'2.Logbook'!AD149)","v":""},{"$f":"IF('2.Logbook'!AE149=\"\",\"\",'2.Logbook'!AE149)","v":""},{"$f":"IF('2.Logbook'!AF149=\"\",\"\",'2.Logbook'!AF149)","v":""},{"$f":"IF('2.Logbook'!AG149=\"\",\"\",'2.Logbook'!AG149)","v":""}]
[{"$f":"IF('2.Logbook'!A150=\"\",\"\",'2.Logbook'!A150)","v":""},{"$f":"IF('2.Logbook'!B150=\"\",\"\",'2.Logbook'!B150)","v":""},{"$f":"IF('2.Logbook'!C150=\"\",\"\",'2.Logbook'!C150)","v":""},{"$f":"IF('2.Logbook'!D150=\"\",\"\",'2.Logbook'!D150)","v":""},{"$f":"IF('2.Logbook'!E150=\"\",\"\",'2.Logbook'!E150)","v":""},{"$f":"IF('2.Logbook'!F150=\"\",\"\",'2.Logbook'!F150)","v":""},{"$f":"IF('2.Logbook'!G150=\"\",\"\",'2.Logbook'!G150)","v":""},{"$f":"IF('2.Logbook'!H150=\"\",\"\",'2.Logbook'!H150)","v":""},{"$f":"IF('2.Logbook'!I150=\"\",\"\",'2.Logbook'!I150)","v":""},{"$f":"IF('2.Logbook'!J150=\"\",\"\",'2.Logbook'!J150)","v":""},{"$f":"IF('2.Logbook'!K150=\"\",\"\",'2.Logbook'!K150)","v":""},{"$f":"IF('2.Logbook'!L150=\"\",\"\",'2.Logbook'!L150)","v":""},{"$f":"IF('2.Logbook'!M150=\"\",\"\",'2.Logbook'!M150)","v":""},{"$f":"IF('2.Logbook'!N150=\"\",\"\",'2.Logbook'!N150)","v":""},{"$f":"IF('2.Logbook'!O150=\"\",\"\",'2.Logbook'!O150)","v":""},{"$f":"IF('2.Logbook'!P150=\"\",\"\",'2.Logbook'!P150)","v":""},{"$f":"IF('2.Logbook'!Q150=\"\",\"\",'2.Logbook'!Q150)","v":""},{"$f":"IF('2.Logbook'!R150=\"\",\"\",'2.Logbook'!R150)","v":""},{"$f":"IF('2.Logbook'!S150=\"\",\"\",'2.Logbook'!S150)","v":""},{"$f":"IF('2.Logbook'!T150=\"\",\"\",'2.Logbook'!T150)","v":""},{"$f":"IF('2.Logbook'!U150=\"\",\"\",'2.Logbook'!U150)","v":""},{"$f":"IF('2.Logbook'!V150=\"\",\"\",'2.Logbook'!V150)","v":""},{"$f":"IF('2.Logbook'!W150=\"\",\"\",'2.Logbook'!W150)","v":""},{"$f":"IF('2.Logbook'!X150=\"\",\"\",'2.Logbook'!X150)","v":""},{"$f":"IF('2.Logbook'!Y150=\"\",\"\",'2.Logbook'!Y150)","v":""},{"$f":"IF('2.Logbook'!Z150=\"\",\"\",'2.Logbook'!Z150)","v":""},{"$f":"IF('2.Logbook'!AA150=\"\",\"\",'2.Logbook'!AA150)","v":""},{"$f":"IF('2.Logbook'!AB150=\"\",\"\",'2.Logbook'!AB150)","v":""},{"$f":"IF('2.Logbook'!AC150=\"\",\"\",'2.Logbook'!AC150)","v":""},{"$f":"IF('2.Logbook'!AD150=\"\",\"\",'2.Logbook'!AD150)","v":""},{"$f":"IF('2.Logbook'!AE150=\"\",\"\",'2.Logbook'!AE150)","v":""},{"$f":"IF('2.Logbook'!AF150=\"\",\"\",'2.Logbook'!AF150)","v":""},{"$f":"IF('2.Logbook'!AG150=\"\",\"\",'2.Logbook'!AG150)","v":""}]
[{"$f":"IF('2.Logbook'!A151=\"\",\"\",'2.Logbook'!A151)","v":""},{"$f":"IF('2.Logbook'!B151=\"\",\"\",'2.Logbook'!B151)","v":""},{"$f":"IF('2.Logbook'!C151=\"\",\"\",'2.Logbook'!C151)","v":""},{"$f":"IF('2.Logbook'!D151=\"\",\"\",'2.Logbook'!D151)","v":""},{"$f":"IF('2.Logbook'!E151=\"\",\"\",'2.Logbook'!E151)","v":""},{"$f":"IF('2.Logbook'!F151=\"\",\"\",'2.Logbook'!F151)","v":""},{"$f":"IF('2.Logbook'!G151=\"\",\"\",'2.Logbook'!G151)","v":""},{"$f":"IF('2.Logbook'!H151=\"\",\"\",'2.Logbook'!H151)","v":""},{"$f":"IF('2.Logbook'!I151=\"\",\"\",'2.Logbook'!I151)","v":""},{"$f":"IF('2.Logbook'!J151=\"\",\"\",'2.Logbook'!J151)","v":""},{"$f":"IF('2.Logbook'!K151=\"\",\"\",'2.Logbook'!K151)","v":""},{"$f":"IF('2.Logbook'!L151=\"\",\"\",'2.Logbook'!L151)","v":""},{"$f":"IF('2.Logbook'!M151=\"\",\"\",'2.Logbook'!M151)","v":""},{"$f":"IF('2.Logbook'!N151=\"\",\"\",'2.Logbook'!N151)","v":""},{"$f":"IF('2.Logbook'!O151=\"\",\"\",'2.Logbook'!O151)","v":""},{"$f":"IF('2.Logbook'!P151=\"\",\"\",'2.Logbook'!P151)","v":""},{"$f":"IF('2.Logbook'!Q151=\"\",\"\",'2.Logbook'!Q151)","v":""},{"$f":"IF('2.Logbook'!R151=\"\",\"\",'2.Logbook'!R151)","v":""},{"$f":"IF('2.Logbook'!S151=\"\",\"\",'2.Logbook'!S151)","v":""},{"$f":"IF('2.Logbook'!T151=\"\",\"\",'2.Logbook'!T151)","v":""},{"$f":"IF('2.Logbook'!U151=\"\",\"\",'2.Logbook'!U151)","v":""},{"$f":"IF('2.Logbook'!V151=\"\",\"\",'2.Logbook'!V151)","v":""},{"$f":"IF('2.Logbook'!W151=\"\",\"\",'2.Logbook'!W151)","v":""},{"$f":"IF('2.Logbook'!X151=\"\",\"\",'2.Logbook'!X151)","v":""},{"$f":"IF('2.Logbook'!Y151=\"\",\"\",'2.Logbook'!Y151)","v":""},{"$f":"IF('2.Logbook'!Z151=\"\",\"\",'2.Logbook'!Z151)","v":""},{"$f":"IF('2.Logbook'!AA151=\"\",\"\",'2.Logbook'!AA151)","v":""},{"$f":"IF('2.Logbook'!AB151=\"\",\"\",'2.Logbook'!AB151)","v":""},{"$f":"IF('2.Logbook'!AC151=\"\",\"\",'2.Logbook'!AC151)","v":""},{"$f":"IF('2.Logbook'!AD151=\"\",\"\",'2.Logbook'!AD151)","v":""},{"$f":"IF('2.Logbook'!AE151=\"\",\"\",'2.Logbook'!AE151)","v":""},{"$f":"IF('2.Logbook'!AF151=\"\",\"\",'2.Logbook'!AF151)","v":""},{"$f":"IF('2.Logbook'!AG151=\"\",\"\",'2.Logbook'!AG151)","v":""}]
[{"$f":"IF('2.Logbook'!A152=\"\",\"\",'2.Logbook'!A152)","v":""},{"$f":"IF('2.Logbook'!B152=\"\",\"\",'2.Logbook'!B152)","v":""},{"$f":"IF('2.Logbook'!C152=\"\",\"\",'2.Logbook'!C152)","v":""},{"$f":"IF('2.Logbook'!D152=\"\",\"\",'2.Logbook'!D152)","v":""},{"$f":"IF('2.Logbook'!E152=\"\",\"\",'2.Logbook'!E152)","v":""},{"$f":"IF('2.Logbook'!F152=\"\",\"\",'2.Logbook'!F152)","v":""},{"$f":"IF('2.Logbook'!G152=\"\",\"\",'2.Logbook'!G152)","v":""},{"$f":"IF('2.Logbook'!H152=\"\",\"\",'2.Logbook'!H152)","v":""},{"$f":"IF('2.Logbook'!I152=\"\",\"\",'2.Logbook'!I152)","v":""},{"$f":"IF('2.Logbook'!J152=\"\",\"\",'2.Logbook'!J152)","v":""},{"$f":"IF('2.Logbook'!K152=\"\",\"\",'2.Logbook'!K152)","v":""},{"$f":"IF('2.Logbook'!L152=\"\",\"\",'2.Logbook'!L152)","v":""},{"$f":"IF('2.Logbook'!M152=\"\",\"\",'2.Logbook'!M152)","v":""},{"$f":"IF('2.Logbook'!N152=\"\",\"\",'2.Logbook'!N152)","v":""},{"$f":"IF('2.Logbook'!O152=\"\",\"\",'2.Logbook'!O152)","v":""},{"$f":"IF('2.Logbook'!P152=\"\",\"\",'2.Logbook'!P152)","v":""},{"$f":"IF('2.Logbook'!Q152=\"\",\"\",'2.Logbook'!Q152)","v":""},{"$f":"IF('2.Logbook'!R152=\"\",\"\",'2.Logbook'!R152)","v":""},{"$f":"IF('2.Logbook'!S152=\"\",\"\",'2.Logbook'!S152)","v":""},{"$f":"IF('2.Logbook'!T152=\"\",\"\",'2.Logbook'!T152)","v":""},{"$f":"IF('2.Logbook'!U152=\"\",\"\",'2.Logbook'!U152)","v":""},{"$f":"IF('2.Logbook'!V152=\"\",\"\",'2.Logbook'!V152)","v":""},{"$f":"IF('2.Logbook'!W152=\"\",\"\",'2.Logbook'!W152)","v":""},{"$f":"IF('2.Logbook'!X152=\"\",\"\",'2.Logbook'!X152)","v":""},{"$f":"IF('2.Logbook'!Y152=\"\",\"\",'2.Logbook'!Y152)","v":""},{"$f":"IF('2.Logbook'!Z152=\"\",\"\",'2.Logbook'!Z152)","v":""},{"$f":"IF('2.Logbook'!AA152=\"\",\"\",'2.Logbook'!AA152)","v":""},{"$f":"IF('2.Logbook'!AB152=\"\",\"\",'2.Logbook'!AB152)","v":""},{"$f":"IF('2.Logbook'!AC152=\"\",\"\",'2.Logbook'!AC152)","v":""},{"$f":"IF('2.Logbook'!AD152=\"\",\"\",'2.Logbook'!AD152)","v":""},{"$f":"IF('2.Logbook'!AE152=\"\",\"\",'2.Logbook'!AE152)","v":""},{"$f":"IF('2.Logbook'!AF152=\"\",\"\",'2.Logbook'!AF152)","v":""},{"$f":"IF('2.Logbook'!AG152=\"\",\"\",'2.Logbook'!AG152)","v":""}]
[{"$f":"IF('2.Logbook'!A153=\"\",\"\",'2.Logbook'!A153)","v":""},{"$f":"IF('2.Logbook'!B153=\"\",\"\",'2.Logbook'!B153)","v":""},{"$f":"IF('2.Logbook'!C153=\"\",\"\",'2.Logbook'!C153)","v":""},{"$f":"IF('2.Logbook'!D153=\"\",\"\",'2.Logbook'!D153)","v":""},{"$f":"IF('2.Logbook'!E153=\"\",\"\",'2.Logbook'!E153)","v":""},{"$f":"IF('2.Logbook'!F153=\"\",\"\",'2.Logbook'!F153)","v":""},{"$f":"IF('2.Logbook'!G153=\"\",\"\",'2.Logbook'!G153)","v":""},{"$f":"IF('2.Logbook'!H153=\"\",\"\",'2.Logbook'!H153)","v":""},{"$f":"IF('2.Logbook'!I153=\"\",\"\",'2.Logbook'!I153)","v":""},{"$f":"IF('2.Logbook'!J153=\"\",\"\",'2.Logbook'!J153)","v":""},{"$f":"IF('2.Logbook'!K153=\"\",\"\",'2.Logbook'!K153)","v":""},{"$f":"IF('2.Logbook'!L153=\"\",\"\",'2.Logbook'!L153)","v":""},{"$f":"IF('2.Logbook'!M153=\"\",\"\",'2.Logbook'!M153)","v":""},{"$f":"IF('2.Logbook'!N153=\"\",\"\",'2.Logbook'!N153)","v":""},{"$f":"IF('2.Logbook'!O153=\"\",\"\",'2.Logbook'!O153)","v":""},{"$f":"IF('2.Logbook'!P153=\"\",\"\",'2.Logbook'!P153)","v":""},{"$f":"IF('2.Logbook'!Q153=\"\",\"\",'2.Logbook'!Q153)","v":""},{"$f":"IF('2.Logbook'!R153=\"\",\"\",'2.Logbook'!R153)","v":""},{"$f":"IF('2.Logbook'!S153=\"\",\"\",'2.Logbook'!S153)","v":""},{"$f":"IF('2.Logbook'!T153=\"\",\"\",'2.Logbook'!T153)","v":""},{"$f":"IF('2.Logbook'!U153=\"\",\"\",'2.Logbook'!U153)","v":""},{"$f":"IF('2.Logbook'!V153=\"\",\"\",'2.Logbook'!V153)","v":""},{"$f":"IF('2.Logbook'!W153=\"\",\"\",'2.Logbook'!W153)","v":""},{"$f":"IF('2.Logbook'!X153=\"\",\"\",'2.Logbook'!X153)","v":""},{"$f":"IF('2.Logbook'!Y153=\"\",\"\",'2.Logbook'!Y153)","v":""},{"$f":"IF('2.Logbook'!Z153=\"\",\"\",'2.Logbook'!Z153)","v":""},{"$f":"IF('2.Logbook'!AA153=\"\",\"\",'2.Logbook'!AA153)","v":""},{"$f":"IF('2.Logbook'!AB153=\"\",\"\",'2.Logbook'!AB153)","v":""},{"$f":"IF('2.Logbook'!AC153=\"\",\"\",'2.Logbook'!AC153)","v":""},{"$f":"IF('2.Logbook'!AD153=\"\",\"\",'2.Logbook'!AD153)","v":""},{"$f":"IF('2.Logbook'!AE153=\"\",\"\",'2.Logbook'!AE153)","v":""},{"$f":"IF('2.Logbook'!AF153=\"\",\"\",'2.Logbook'!AF153)","v":""},{"$f":"IF('2.Logbook'!AG153=\"\",\"\",'2.Logbook'!AG153)","v":""}]
[{"$f":"IF('2.Logbook'!A154=\"\",\"\",'2.Logbook'!A154)","v":""},{"$f":"IF('2.Logbook'!B154=\"\",\"\",'2.Logbook'!B154)","v":""},{"$f":"IF('2.Logbook'!C154=\"\",\"\",'2.Logbook'!C154)","v":""},{"$f":"IF('2.Logbook'!D154=\"\",\"\",'2.Logbook'!D154)","v":""},{"$f":"IF('2.Logbook'!E154=\"\",\"\",'2.Logbook'!E154)","v":""},{"$f":"IF('2.Logbook'!F154=\"\",\"\",'2.Logbook'!F154)","v":""},{"$f":"IF('2.Logbook'!G154=\"\",\"\",'2.Logbook'!G154)","v":""},{"$f":"IF('2.Logbook'!H154=\"\",\"\",'2.Logbook'!H154)","v":""},{"$f":"IF('2.Logbook'!I154=\"\",\"\",'2.Logbook'!I154)","v":""},{"$f":"IF('2.Logbook'!J154=\"\",\"\",'2.Logbook'!J154)","v":""},{"$f":"IF('2.Logbook'!K154=\"\",\"\",'2.Logbook'!K154)","v":""},{"$f":"IF('2.Logbook'!L154=\"\",\"\",'2.Logbook'!L154)","v":""},{"$f":"IF('2.Logbook'!M154=\"\",\"\",'2.Logbook'!M154)","v":""},{"$f":"IF('2.Logbook'!N154=\"\",\"\",'2.Logbook'!N154)","v":""},{"$f":"IF('2.Logbook'!O154=\"\",\"\",'2.Logbook'!O154)","v":""},{"$f":"IF('2.Logbook'!P154=\"\",\"\",'2.Logbook'!P154)","v":""},{"$f":"IF('2.Logbook'!Q154=\"\",\"\",'2.Logbook'!Q154)","v":""},{"$f":"IF('2.Logbook'!R154=\"\",\"\",'2.Logbook'!R154)","v":""},{"$f":"IF('2.Logbook'!S154=\"\",\"\",'2.Logbook'!S154)","v":""},{"$f":"IF('2.Logbook'!T154=\"\",\"\",'2.Logbook'!T154)","v":""},{"$f":"IF('2.Logbook'!U154=\"\",\"\",'2.Logbook'!U154)","v":""},{"$f":"IF('2.Logbook'!V154=\"\",\"\",'2.Logbook'!V154)","v":""},{"$f":"IF('2.Logbook'!W154=\"\",\"\",'2.Logbook'!W154)","v":""},{"$f":"IF('2.Logbook'!X154=\"\",\"\",'2.Logbook'!X154)","v":""},{"$f":"IF('2.Logbook'!Y154=\"\",\"\",'2.Logbook'!Y154)","v":""},{"$f":"IF('2.Logbook'!Z154=\"\",\"\",'2.Logbook'!Z154)","v":""},{"$f":"IF('2.Logbook'!AA154=\"\",\"\",'2.Logbook'!AA154)","v":""},{"$f":"IF('2.Logbook'!AB154=\"\",\"\",'2.Logbook'!AB154)","v":""},{"$f":"IF('2.Logbook'!AC154=\"\",\"\",'2.Logbook'!AC154)","v":""},{"$f":"IF('2.Logbook'!AD154=\"\",\"\",'2.Logbook'!AD154)","v":""},{"$f":"IF('2.Logbook'!AE154=\"\",\"\",'2.Logbook'!AE154)","v":""},{"$f":"IF('2.Logbook'!AF154=\"\",\"\",'2.Logbook'!AF154)","v":""},{"$f":"IF('2.Logbook'!AG154=\"\",\"\",'2.Logbook'!AG154)","v":""}]
[{"$f":"IF('2.Logbook'!A155=\"\",\"\",'2.Logbook'!A155)","v":""},{"$f":"IF('2.Logbook'!B155=\"\",\"\",'2.Logbook'!B155)","v":""},{"$f":"IF('2.Logbook'!C155=\"\",\"\",'2.Logbook'!C155)","v":""},{"$f":"IF('2.Logbook'!D155=\"\",\"\",'2.Logbook'!D155)","v":""},{"$f":"IF('2.Logbook'!E155=\"\",\"\",'2.Logbook'!E155)","v":""},{"$f":"IF('2.Logbook'!F155=\"\",\"\",'2.Logbook'!F155)","v":""},{"$f":"IF('2.Logbook'!G155=\"\",\"\",'2.Logbook'!G155)","v":""},{"$f":"IF('2.Logbook'!H155=\"\",\"\",'2.Logbook'!H155)","v":""},{"$f":"IF('2.Logbook'!I155=\"\",\"\",'2.Logbook'!I155)","v":""},{"$f":"IF('2.Logbook'!J155=\"\",\"\",'2.Logbook'!J155)","v":""},{"$f":"IF('2.Logbook'!K155=\"\",\"\",'2.Logbook'!K155)","v":""},{"$f":"IF('2.Logbook'!L155=\"\",\"\",'2.Logbook'!L155)","v":""},{"$f":"IF('2.Logbook'!M155=\"\",\"\",'2.Logbook'!M155)","v":""},{"$f":"IF('2.Logbook'!N155=\"\",\"\",'2.Logbook'!N155)","v":""},{"$f":"IF('2.Logbook'!O155=\"\",\"\",'2.Logbook'!O155)","v":""},{"$f":"IF('2.Logbook'!P155=\"\",\"\",'2.Logbook'!P155)","v":""},{"$f":"IF('2.Logbook'!Q155=\"\",\"\",'2.Logbook'!Q155)","v":""},{"$f":"IF('2.Logbook'!R155=\"\",\"\",'2.Logbook'!R155)","v":""},{"$f":"IF('2.Logbook'!S155=\"\",\"\",'2.Logbook'!S155)","v":""},{"$f":"IF('2.Logbook'!T155=\"\",\"\",'2.Logbook'!T155)","v":""},{"$f":"IF('2.Logbook'!U155=\"\",\"\",'2.Logbook'!U155)","v":""},{"$f":"IF('2.Logbook'!V155=\"\",\"\",'2.Logbook'!V155)","v":""},{"$f":"IF('2.Logbook'!W155=\"\",\"\",'2.Logbook'!W155)","v":""},{"$f":"IF('2.Logbook'!X155=\"\",\"\",'2.Logbook'!X155)","v":""},{"$f":"IF('2.Logbook'!Y155=\"\",\"\",'2.Logbook'!Y155)","v":""},{"$f":"IF('2.Logbook'!Z155=\"\",\"\",'2.Logbook'!Z155)","v":""},{"$f":"IF('2.Logbook'!AA155=\"\",\"\",'2.Logbook'!AA155)","v":""},{"$f":"IF('2.Logbook'!AB155=\"\",\"\",'2.Logbook'!AB155)","v":""},{"$f":"IF('2.Logbook'!AC155=\"\",\"\",'2.Logbook'!AC155)","v":""},{"$f":"IF('2.Logbook'!AD155=\"\",\"\",'2.Logbook'!AD155)","v":""},{"$f":"IF('2.Logbook'!AE155=\"\",\"\",'2.Logbook'!AE155)","v":""},{"$f":"IF('2.Logbook'!AF155=\"\",\"\",'2.Logbook'!AF155)","v":""},{"$f":"IF('2.Logbook'!AG155=\"\",\"\",'2.Logbook'!AG155)","v":""}]
[{"$f":"IF('2.Logbook'!A156=\"\",\"\",'2.Logbook'!A156)","v":""},{"$f":"IF('2.Logbook'!B156=\"\",\"\",'2.Logbook'!B156)","v":""},{"$f":"IF('2.Logbook'!C156=\"\",\"\",'2.Logbook'!C156)","v":""},{"$f":"IF('2.Logbook'!D156=\"\",\"\",'2.Logbook'!D156)","v":""},{"$f":"IF('2.Logbook'!E156=\"\",\"\",'2.Logbook'!E156)","v":""},{"$f":"IF('2.Logbook'!F156=\"\",\"\",'2.Logbook'!F156)","v":""},{"$f":"IF('2.Logbook'!G156=\"\",\"\",'2.Logbook'!G156)","v":""},{"$f":"IF('2.Logbook'!H156=\"\",\"\",'2.Logbook'!H156)","v":""},{"$f":"IF('2.Logbook'!I156=\"\",\"\",'2.Logbook'!I156)","v":""},{"$f":"IF('2.Logbook'!J156=\"\",\"\",'2.Logbook'!J156)","v":""},{"$f":"IF('2.Logbook'!K156=\"\",\"\",'2.Logbook'!K156)","v":""},{"$f":"IF('2.Logbook'!L156=\"\",\"\",'2.Logbook'!L156)","v":""},{"$f":"IF('2.Logbook'!M156=\"\",\"\",'2.Logbook'!M156)","v":""},{"$f":"IF('2.Logbook'!N156=\"\",\"\",'2.Logbook'!N156)","v":""},{"$f":"IF('2.Logbook'!O156=\"\",\"\",'2.Logbook'!O156)","v":""},{"$f":"IF('2.Logbook'!P156=\"\",\"\",'2.Logbook'!P156)","v":""},{"$f":"IF('2.Logbook'!Q156=\"\",\"\",'2.Logbook'!Q156)","v":""},{"$f":"IF('2.Logbook'!R156=\"\",\"\",'2.Logbook'!R156)","v":""},{"$f":"IF('2.Logbook'!S156=\"\",\"\",'2.Logbook'!S156)","v":""},{"$f":"IF('2.Logbook'!T156=\"\",\"\",'2.Logbook'!T156)","v":""},{"$f":"IF('2.Logbook'!U156=\"\",\"\",'2.Logbook'!U156)","v":""},{"$f":"IF('2.Logbook'!V156=\"\",\"\",'2.Logbook'!V156)","v":""},{"$f":"IF('2.Logbook'!W156=\"\",\"\",'2.Logbook'!W156)","v":""},{"$f":"IF('2.Logbook'!X156=\"\",\"\",'2.Logbook'!X156)","v":""},{"$f":"IF('2.Logbook'!Y156=\"\",\"\",'2.Logbook'!Y156)","v":""},{"$f":"IF('2.Logbook'!Z156=\"\",\"\",'2.Logbook'!Z156)","v":""},{"$f":"IF('2.Logbook'!AA156=\"\",\"\",'2.Logbook'!AA156)","v":""},{"$f":"IF('2.Logbook'!AB156=\"\",\"\",'2.Logbook'!AB156)","v":""},{"$f":"IF('2.Logbook'!AC156=\"\",\"\",'2.Logbook'!AC156)","v":""},{"$f":"IF('2.Logbook'!AD156=\"\",\"\",'2.Logbook'!AD156)","v":""},{"$f":"IF('2.Logbook'!AE156=\"\",\"\",'2.Logbook'!AE156)","v":""},{"$f":"IF('2.Logbook'!AF156=\"\",\"\",'2.Logbook'!AF156)","v":""},{"$f":"IF('2.Logbook'!AG156=\"\",\"\",'2.Logbook'!AG156)","v":""}]
[{"$f":"IF('2.Logbook'!A157=\"\",\"\",'2.Logbook'!A157)","v":""},{"$f":"IF('2.Logbook'!B157=\"\",\"\",'2.Logbook'!B157)","v":""},{"$f":"IF('2.Logbook'!C157=\"\",\"\",'2.Logbook'!C157)","v":""},{"$f":"IF('2.Logbook'!D157=\"\",\"\",'2.Logbook'!D157)","v":""},{"$f":"IF('2.Logbook'!E157=\"\",\"\",'2.Logbook'!E157)","v":""},{"$f":"IF('2.Logbook'!F157=\"\",\"\",'2.Logbook'!F157)","v":""},{"$f":"IF('2.Logbook'!G157=\"\",\"\",'2.Logbook'!G157)","v":""},{"$f":"IF('2.Logbook'!H157=\"\",\"\",'2.Logbook'!H157)","v":""},{"$f":"IF('2.Logbook'!I157=\"\",\"\",'2.Logbook'!I157)","v":""},{"$f":"IF('2.Logbook'!J157=\"\",\"\",'2.Logbook'!J157)","v":""},{"$f":"IF('2.Logbook'!K157=\"\",\"\",'2.Logbook'!K157)","v":""},{"$f":"IF('2.Logbook'!L157=\"\",\"\",'2.Logbook'!L157)","v":""},{"$f":"IF('2.Logbook'!M157=\"\",\"\",'2.Logbook'!M157)","v":""},{"$f":"IF('2.Logbook'!N157=\"\",\"\",'2.Logbook'!N157)","v":""},{"$f":"IF('2.Logbook'!O157=\"\",\"\",'2.Logbook'!O157)","v":""},{"$f":"IF('2.Logbook'!P157=\"\",\"\",'2.Logbook'!P157)","v":""},{"$f":"IF('2.Logbook'!Q157=\"\",\"\",'2.Logbook'!Q157)","v":""},{"$f":"IF('2.Logbook'!R157=\"\",\"\",'2.Logbook'!R157)","v":""},{"$f":"IF('2.Logbook'!S157=\"\",\"\",'2.Logbook'!S157)","v":""},{"$f":"IF('2.Logbook'!T157=\"\",\"\",'2.Logbook'!T157)","v":""},{"$f":"IF('2.Logbook'!U157=\"\",\"\",'2.Logbook'!U157)","v":""},{"$f":"IF('2.Logbook'!V157=\"\",\"\",'2.Logbook'!V157)","v":""},{"$f":"IF('2.Logbook'!W157=\"\",\"\",'2.Logbook'!W157)","v":""},{"$f":"IF('2.Logbook'!X157=\"\",\"\",'2.Logbook'!X157)","v":""},{"$f":"IF('2.Logbook'!Y157=\"\",\"\",'2.Logbook'!Y157)","v":""},{"$f":"IF('2.Logbook'!Z157=\"\",\"\",'2.Logbook'!Z157)","v":""},{"$f":"IF('2.Logbook'!AA157=\"\",\"\",'2.Logbook'!AA157)","v":""},{"$f":"IF('2.Logbook'!AB157=\"\",\"\",'2.Logbook'!AB157)","v":""},{"$f":"IF('2.Logbook'!AC157=\"\",\"\",'2.Logbook'!AC157)","v":""},{"$f":"IF('2.Logbook'!AD157=\"\",\"\",'2.Logbook'!AD157)","v":""},{"$f":"IF('2.Logbook'!AE157=\"\",\"\",'2.Logbook'!AE157)","v":""},{"$f":"IF('2.Logbook'!AF157=\"\",\"\",'2.Logbook'!AF157)","v":""},{"$f":"IF('2.Logbook'!AG157=\"\",\"\",'2.Logbook'!AG157)","v":""}]
[{"$f":"IF('2.Logbook'!A158=\"\",\"\",'2.Logbook'!A158)","v":""},{"$f":"IF('2.Logbook'!B158=\"\",\"\",'2.Logbook'!B158)","v":""},{"$f":"IF('2.Logbook'!C158=\"\",\"\",'2.Logbook'!C158)","v":""},{"$f":"IF('2.Logbook'!D158=\"\",\"\",'2.Logbook'!D158)","v":""},{"$f":"IF('2.Logbook'!E158=\"\",\"\",'2.Logbook'!E158)","v":""},{"$f":"IF('2.Logbook'!F158=\"\",\"\",'2.Logbook'!F158)","v":""},{"$f":"IF('2.Logbook'!G158=\"\",\"\",'2.Logbook'!G158)","v":""},{"$f":"IF('2.Logbook'!H158=\"\",\"\",'2.Logbook'!H158)","v":""},{"$f":"IF('2.Logbook'!I158=\"\",\"\",'2.Logbook'!I158)","v":""},{"$f":"IF('2.Logbook'!J158=\"\",\"\",'2.Logbook'!J158)","v":""},{"$f":"IF('2.Logbook'!K158=\"\",\"\",'2.Logbook'!K158)","v":""},{"$f":"IF('2.Logbook'!L158=\"\",\"\",'2.Logbook'!L158)","v":""},{"$f":"IF('2.Logbook'!M158=\"\",\"\",'2.Logbook'!M158)","v":""},{"$f":"IF('2.Logbook'!N158=\"\",\"\",'2.Logbook'!N158)","v":""},{"$f":"IF('2.Logbook'!O158=\"\",\"\",'2.Logbook'!O158)","v":""},{"$f":"IF('2.Logbook'!P158=\"\",\"\",'2.Logbook'!P158)","v":""},{"$f":"IF('2.Logbook'!Q158=\"\",\"\",'2.Logbook'!Q158)","v":""},{"$f":"IF('2.Logbook'!R158=\"\",\"\",'2.Logbook'!R158)","v":""},{"$f":"IF('2.Logbook'!S158=\"\",\"\",'2.Logbook'!S158)","v":""},{"$f":"IF('2.Logbook'!T158=\"\",\"\",'2.Logbook'!T158)","v":""},{"$f":"IF('2.Logbook'!U158=\"\",\"\",'2.Logbook'!U158)","v":""},{"$f":"IF('2.Logbook'!V158=\"\",\"\",'2.Logbook'!V158)","v":""},{"$f":"IF('2.Logbook'!W158=\"\",\"\",'2.Logbook'!W158)","v":""},{"$f":"IF('2.Logbook'!X158=\"\",\"\",'2.Logbook'!X158)","v":""},{"$f":"IF('2.Logbook'!Y158=\"\",\"\",'2.Logbook'!Y158)","v":""},{"$f":"IF('2.Logbook'!Z158=\"\",\"\",'2.Logbook'!Z158)","v":""},{"$f":"IF('2.Logbook'!AA158=\"\",\"\",'2.Logbook'!AA158)","v":""},{"$f":"IF('2.Logbook'!AB158=\"\",\"\",'2.Logbook'!AB158)","v":""},{"$f":"IF('2.Logbook'!AC158=\"\",\"\",'2.Logbook'!AC158)","v":""},{"$f":"IF('2.Logbook'!AD158=\"\",\"\",'2.Logbook'!AD158)","v":""},{"$f":"IF('2.Logbook'!AE158=\"\",\"\",'2.Logbook'!AE158)","v":""},{"$f":"IF('2.Logbook'!AF158=\"\",\"\",'2.Logbook'!AF158)","v":""},{"$f":"IF('2.Logbook'!AG158=\"\",\"\",'2.Logbook'!AG158)","v":""}]
[{"$f":"IF('2.Logbook'!A159=\"\",\"\",'2.Logbook'!A159)","v":""},{"$f":"IF('2.Logbook'!B159=\"\",\"\",'2.Logbook'!B159)","v":""},{"$f":"IF('2.Logbook'!C159=\"\",\"\",'2.Logbook'!C159)","v":""},{"$f":"IF('2.Logbook'!D159=\"\",\"\",'2.Logbook'!D159)","v":""},{"$f":"IF('2.Logbook'!E159=\"\",\"\",'2.Logbook'!E159)","v":""},{"$f":"IF('2.Logbook'!F159=\"\",\"\",'2.Logbook'!F159)","v":""},{"$f":"IF('2.Logbook'!G159=\"\",\"\",'2.Logbook'!G159)","v":""},{"$f":"IF('2.Logbook'!H159=\"\",\"\",'2.Logbook'!H159)","v":""},{"$f":"IF('2.Logbook'!I159=\"\",\"\",'2.Logbook'!I159)","v":""},{"$f":"IF('2.Logbook'!J159=\"\",\"\",'2.Logbook'!J159)","v":""},{"$f":"IF('2.Logbook'!K159=\"\",\"\",'2.Logbook'!K159)","v":""},{"$f":"IF('2.Logbook'!L159=\"\",\"\",'2.Logbook'!L159)","v":""},{"$f":"IF('2.Logbook'!M159=\"\",\"\",'2.Logbook'!M159)","v":""},{"$f":"IF('2.Logbook'!N159=\"\",\"\",'2.Logbook'!N159)","v":""},{"$f":"IF('2.Logbook'!O159=\"\",\"\",'2.Logbook'!O159)","v":""},{"$f":"IF('2.Logbook'!P159=\"\",\"\",'2.Logbook'!P159)","v":""},{"$f":"IF('2.Logbook'!Q159=\"\",\"\",'2.Logbook'!Q159)","v":""},{"$f":"IF('2.Logbook'!R159=\"\",\"\",'2.Logbook'!R159)","v":""},{"$f":"IF('2.Logbook'!S159=\"\",\"\",'2.Logbook'!S159)","v":""},{"$f":"IF('2.Logbook'!T159=\"\",\"\",'2.Logbook'!T159)","v":""},{"$f":"IF('2.Logbook'!U159=\"\",\"\",'2.Logbook'!U159)","v":""},{"$f":"IF('2.Logbook'!V159=\"\",\"\",'2.Logbook'!V159)","v":""},{"$f":"IF('2.Logbook'!W159=\"\",\"\",'2.Logbook'!W159)","v":""},{"$f":"IF('2.Logbook'!X159=\"\",\"\",'2.Logbook'!X159)","v":""},{"$f":"IF('2.Logbook'!Y159=\"\",\"\",'2.Logbook'!Y159)","v":""},{"$f":"IF('2.Logbook'!Z159=\"\",\"\",'2.Logbook'!Z159)","v":""},{"$f":"IF('2.Logbook'!AA159=\"\",\"\",'2.Logbook'!AA159)","v":""},{"$f":"IF('2.Logbook'!AB159=\"\",\"\",'2.Logbook'!AB159)","v":""},{"$f":"IF('2.Logbook'!AC159=\"\",\"\",'2.Logbook'!AC159)","v":""},{"$f":"IF('2.Logbook'!AD159=\"\",\"\",'2.Logbook'!AD159)","v":""},{"$f":"IF('2.Logbook'!AE159=\"\",\"\",'2.Logbook'!AE159)","v":""},{"$f":"IF('2.Logbook'!AF159=\"\",\"\",'2.Logbook'!AF159)","v":""},{"$f":"IF('2.Logbook'!AG159=\"\",\"\",'2.Logbook'!AG159)","v":""}]
[{"$f":"IF('2.Logbook'!A160=\"\",\"\",'2.Logbook'!A160)","v":""},{"$f":"IF('2.Logbook'!B160=\"\",\"\",'2.Logbook'!B160)","v":""},{"$f":"IF('2.Logbook'!C160=\"\",\"\",'2.Logbook'!C160)","v":""},{"$f":"IF('2.Logbook'!D160=\"\",\"\",'2.Logbook'!D160)","v":""},{"$f":"IF('2.Logbook'!E160=\"\",\"\",'2.Logbook'!E160)","v":""},{"$f":"IF('2.Logbook'!F160=\"\",\"\",'2.Logbook'!F160)","v":""},{"$f":"IF('2.Logbook'!G160=\"\",\"\",'2.Logbook'!G160)","v":""},{"$f":"IF('2.Logbook'!H160=\"\",\"\",'2.Logbook'!H160)","v":""},{"$f":"IF('2.Logbook'!I160=\"\",\"\",'2.Logbook'!I160)","v":""},{"$f":"IF('2.Logbook'!J160=\"\",\"\",'2.Logbook'!J160)","v":""},{"$f":"IF('2.Logbook'!K160=\"\",\"\",'2.Logbook'!K160)","v":""},{"$f":"IF('2.Logbook'!L160=\"\",\"\",'2.Logbook'!L160)","v":""},{"$f":"IF('2.Logbook'!M160=\"\",\"\",'2.Logbook'!M160)","v":""},{"$f":"IF('2.Logbook'!N160=\"\",\"\",'2.Logbook'!N160)","v":""},{"$f":"IF('2.Logbook'!O160=\"\",\"\",'2.Logbook'!O160)","v":""},{"$f":"IF('2.Logbook'!P160=\"\",\"\",'2.Logbook'!P160)","v":""},{"$f":"IF('2.Logbook'!Q160=\"\",\"\",'2.Logbook'!Q160)","v":""},{"$f":"IF('2.Logbook'!R160=\"\",\"\",'2.Logbook'!R160)","v":""},{"$f":"IF('2.Logbook'!S160=\"\",\"\",'2.Logbook'!S160)","v":""},{"$f":"IF('2.Logbook'!T160=\"\",\"\",'2.Logbook'!T160)","v":""},{"$f":"IF('2.Logbook'!U160=\"\",\"\",'2.Logbook'!U160)","v":""},{"$f":"IF('2.Logbook'!V160=\"\",\"\",'2.Logbook'!V160)","v":""},{"$f":"IF('2.Logbook'!W160=\"\",\"\",'2.Logbook'!W160)","v":""},{"$f":"IF('2.Logbook'!X160=\"\",\"\",'2.Logbook'!X160)","v":""},{"$f":"IF('2.Logbook'!Y160=\"\",\"\",'2.Logbook'!Y160)","v":""},{"$f":"IF('2.Logbook'!Z160=\"\",\"\",'2.Logbook'!Z160)","v":""},{"$f":"IF('2.Logbook'!AA160=\"\",\"\",'2.Logbook'!AA160)","v":""},{"$f":"IF('2.Logbook'!AB160=\"\",\"\",'2.Logbook'!AB160)","v":""},{"$f":"IF('2.Logbook'!AC160=\"\",\"\",'2.Logbook'!AC160)","v":""},{"$f":"IF('2.Logbook'!AD160=\"\",\"\",'2.Logbook'!AD160)","v":""},{"$f":"IF('2.Logbook'!AE160=\"\",\"\",'2.Logbook'!AE160)","v":""},{"$f":"IF('2.Logbook'!AF160=\"\",\"\",'2.Logbook'!AF160)","v":""},{"$f":"IF('2.Logbook'!AG160=\"\",\"\",'2.Logbook'!AG160)","v":""}]
[{"$f":"IF('2.Logbook'!A161=\"\",\"\",'2.Logbook'!A161)","v":""},{"$f":"IF('2.Logbook'!B161=\"\",\"\",'2.Logbook'!B161)","v":""},{"$f":"IF('2.Logbook'!C161=\"\",\"\",'2.Logbook'!C161)","v":""},{"$f":"IF('2.Logbook'!D161=\"\",\"\",'2.Logbook'!D161)","v":""},{"$f":"IF('2.Logbook'!E161=\"\",\"\",'2.Logbook'!E161)","v":""},{"$f":"IF('2.Logbook'!F161=\"\",\"\",'2.Logbook'!F161)","v":""},{"$f":"IF('2.Logbook'!G161=\"\",\"\",'2.Logbook'!G161)","v":""},{"$f":"IF('2.Logbook'!H161=\"\",\"\",'2.Logbook'!H161)","v":""},{"$f":"IF('2.Logbook'!I161=\"\",\"\",'2.Logbook'!I161)","v":""},{"$f":"IF('2.Logbook'!J161=\"\",\"\",'2.Logbook'!J161)","v":""},{"$f":"IF('2.Logbook'!K161=\"\",\"\",'2.Logbook'!K161)","v":""},{"$f":"IF('2.Logbook'!L161=\"\",\"\",'2.Logbook'!L161)","v":""},{"$f":"IF('2.Logbook'!M161=\"\",\"\",'2.Logbook'!M161)","v":""},{"$f":"IF('2.Logbook'!N161=\"\",\"\",'2.Logbook'!N161)","v":""},{"$f":"IF('2.Logbook'!O161=\"\",\"\",'2.Logbook'!O161)","v":""},{"$f":"IF('2.Logbook'!P161=\"\",\"\",'2.Logbook'!P161)","v":""},{"$f":"IF('2.Logbook'!Q161=\"\",\"\",'2.Logbook'!Q161)","v":""},{"$f":"IF('2.Logbook'!R161=\"\",\"\",'2.Logbook'!R161)","v":""},{"$f":"IF('2.Logbook'!S161=\"\",\"\",'2.Logbook'!S161)","v":""},{"$f":"IF('2.Logbook'!T161=\"\",\"\",'2.Logbook'!T161)","v":""},{"$f":"IF('2.Logbook'!U161=\"\",\"\",'2.Logbook'!U161)","v":""},{"$f":"IF('2.Logbook'!V161=\"\",\"\",'2.Logbook'!V161)","v":""},{"$f":"IF('2.Logbook'!W161=\"\",\"\",'2.Logbook'!W161)","v":""},{"$f":"IF('2.Logbook'!X161=\"\",\"\",'2.Logbook'!X161)","v":""},{"$f":"IF('2.Logbook'!Y161=\"\",\"\",'2.Logbook'!Y161)","v":""},{"$f":"IF('2.Logbook'!Z161=\"\",\"\",'2.Logbook'!Z161)","v":""},{"$f":"IF('2.Logbook'!AA161=\"\",\"\",'2.Logbook'!AA161)","v":""},{"$f":"IF('2.Logbook'!AB161=\"\",\"\",'2.Logbook'!AB161)","v":""},{"$f":"IF('2.Logbook'!AC161=\"\",\"\",'2.Logbook'!AC161)","v":""},{"$f":"IF('2.Logbook'!AD161=\"\",\"\",'2.Logbook'!AD161)","v":""},{"$f":"IF('2.Logbook'!AE161=\"\",\"\",'2.Logbook'!AE161)","v":""},{"$f":"IF('2.Logbook'!AF161=\"\",\"\",'2.Logbook'!AF161)","v":""},{"$f":"IF('2.Logbook'!AG161=\"\",\"\",'2.Logbook'!AG161)","v":""}]
[{"$f":"IF('2.Logbook'!A162=\"\",\"\",'2.Logbook'!A162)","v":""},{"$f":"IF('2.Logbook'!B162=\"\",\"\",'2.Logbook'!B162)","v":""},{"$f":"IF('2.Logbook'!C162=\"\",\"\",'2.Logbook'!C162)","v":""},{"$f":"IF('2.Logbook'!D162=\"\",\"\",'2.Logbook'!D162)","v":""},{"$f":"IF('2.Logbook'!E162=\"\",\"\",'2.Logbook'!E162)","v":""},{"$f":"IF('2.Logbook'!F162=\"\",\"\",'2.Logbook'!F162)","v":""},{"$f":"IF('2.Logbook'!G162=\"\",\"\",'2.Logbook'!G162)","v":""},{"$f":"IF('2.Logbook'!H162=\"\",\"\",'2.Logbook'!H162)","v":""},{"$f":"IF('2.Logbook'!I162=\"\",\"\",'2.Logbook'!I162)","v":""},{"$f":"IF('2.Logbook'!J162=\"\",\"\",'2.Logbook'!J162)","v":""},{"$f":"IF('2.Logbook'!K162=\"\",\"\",'2.Logbook'!K162)","v":""},{"$f":"IF('2.Logbook'!L162=\"\",\"\",'2.Logbook'!L162)","v":""},{"$f":"IF('2.Logbook'!M162=\"\",\"\",'2.Logbook'!M162)","v":""},{"$f":"IF('2.Logbook'!N162=\"\",\"\",'2.Logbook'!N162)","v":""},{"$f":"IF('2.Logbook'!O162=\"\",\"\",'2.Logbook'!O162)","v":""},{"$f":"IF('2.Logbook'!P162=\"\",\"\",'2.Logbook'!P162)","v":""},{"$f":"IF('2.Logbook'!Q162=\"\",\"\",'2.Logbook'!Q162)","v":""},{"$f":"IF('2.Logbook'!R162=\"\",\"\",'2.Logbook'!R162)","v":""},{"$f":"IF('2.Logbook'!S162=\"\",\"\",'2.Logbook'!S162)","v":""},{"$f":"IF('2.Logbook'!T162=\"\",\"\",'2.Logbook'!T162)","v":""},{"$f":"IF('2.Logbook'!U162=\"\",\"\",'2.Logbook'!U162)","v":""},{"$f":"IF('2.Logbook'!V162=\"\",\"\",'2.Logbook'!V162)","v":""},{"$f":"IF('2.Logbook'!W162=\"\",\"\",'2.Logbook'!W162)","v":""},{"$f":"IF('2.Logbook'!X162=\"\",\"\",'2.Logbook'!X162)","v":""},{"$f":"IF('2.Logbook'!Y162=\"\",\"\",'2.Logbook'!Y162)","v":""},{"$f":"IF('2.Logbook'!Z162=\"\",\"\",'2.Logbook'!Z162)","v":""},{"$f":"IF('2.Logbook'!AA162=\"\",\"\",'2.Logbook'!AA162)","v":""},{"$f":"IF('2.Logbook'!AB162=\"\",\"\",'2.Logbook'!AB162)","v":""},{"$f":"IF('2.Logbook'!AC162=\"\",\"\",'2.Logbook'!AC162)","v":""},{"$f":"IF('2.Logbook'!AD162=\"\",\"\",'2.Logbook'!AD162)","v":""},{"$f":"IF('2.Logbook'!AE162=\"\",\"\",'2.Logbook'!AE162)","v":""},{"$f":"IF('2.Logbook'!AF162=\"\",\"\",'2.Logbook'!AF162)","v":""},{"$f":"IF('2.Logbook'!AG162=\"\",\"\",'2.Logbook'!AG162)","v":""}]
[{"$f":"IF('2.Logbook'!A163=\"\",\"\",'2.Logbook'!A163)","v":""},{"$f":"IF('2.Logbook'!B163=\"\",\"\",'2.Logbook'!B163)","v":""},{"$f":"IF('2.Logbook'!C163=\"\",\"\",'2.Logbook'!C163)","v":""},{"$f":"IF('2.Logbook'!D163=\"\",\"\",'2.Logbook'!D163)","v":""},{"$f":"IF('2.Logbook'!E163=\"\",\"\",'2.Logbook'!E163)","v":""},{"$f":"IF('2.Logbook'!F163=\"\",\"\",'2.Logbook'!F163)","v":""},{"$f":"IF('2.Logbook'!G163=\"\",\"\",'2.Logbook'!G163)","v":""},{"$f":"IF('2.Logbook'!H163=\"\",\"\",'2.Logbook'!H163)","v":""},{"$f":"IF('2.Logbook'!I163=\"\",\"\",'2.Logbook'!I163)","v":""},{"$f":"IF('2.Logbook'!J163=\"\",\"\",'2.Logbook'!J163)","v":""},{"$f":"IF('2.Logbook'!K163=\"\",\"\",'2.Logbook'!K163)","v":""},{"$f":"IF('2.Logbook'!L163=\"\",\"\",'2.Logbook'!L163)","v":""},{"$f":"IF('2.Logbook'!M163=\"\",\"\",'2.Logbook'!M163)","v":""},{"$f":"IF('2.Logbook'!N163=\"\",\"\",'2.Logbook'!N163)","v":""},{"$f":"IF('2.Logbook'!O163=\"\",\"\",'2.Logbook'!O163)","v":""},{"$f":"IF('2.Logbook'!P163=\"\",\"\",'2.Logbook'!P163)","v":""},{"$f":"IF('2.Logbook'!Q163=\"\",\"\",'2.Logbook'!Q163)","v":""},{"$f":"IF('2.Logbook'!R163=\"\",\"\",'2.Logbook'!R163)","v":""},{"$f":"IF('2.Logbook'!S163=\"\",\"\",'2.Logbook'!S163)","v":""},{"$f":"IF('2.Logbook'!T163=\"\",\"\",'2.Logbook'!T163)","v":""},{"$f":"IF('2.Logbook'!U163=\"\",\"\",'2.Logbook'!U163)","v":""},{"$f":"IF('2.Logbook'!V163=\"\",\"\",'2.Logbook'!V163)","v":""},{"$f":"IF('2.Logbook'!W163=\"\",\"\",'2.Logbook'!W163)","v":""},{"$f":"IF('2.Logbook'!X163=\"\",\"\",'2.Logbook'!X163)","v":""},{"$f":"IF('2.Logbook'!Y163=\"\",\"\",'2.Logbook'!Y163)","v":""},{"$f":"IF('2.Logbook'!Z163=\"\",\"\",'2.Logbook'!Z163)","v":""},{"$f":"IF('2.Logbook'!AA163=\"\",\"\",'2.Logbook'!AA163)","v":""},{"$f":"IF('2.Logbook'!AB163=\"\",\"\",'2.Logbook'!AB163)","v":""},{"$f":"IF('2.Logbook'!AC163=\"\",\"\",'2.Logbook'!AC163)","v":""},{"$f":"IF('2.Logbook'!AD163=\"\",\"\",'2.Logbook'!AD163)","v":""},{"$f":"IF('2.Logbook'!AE163=\"\",\"\",'2.Logbook'!AE163)","v":""},{"$f":"IF('2.Logbook'!AF163=\"\",\"\",'2.Logbook'!AF163)","v":""},{"$f":"IF('2.Logbook'!AG163=\"\",\"\",'2.Logbook'!AG163)","v":""}]
[{"$f":"IF('2.Logbook'!A164=\"\",\"\",'2.Logbook'!A164)","v":""},{"$f":"IF('2.Logbook'!B164=\"\",\"\",'2.Logbook'!B164)","v":""},{"$f":"IF('2.Logbook'!C164=\"\",\"\",'2.Logbook'!C164)","v":""},{"$f":"IF('2.Logbook'!D164=\"\",\"\",'2.Logbook'!D164)","v":""},{"$f":"IF('2.Logbook'!E164=\"\",\"\",'2.Logbook'!E164)","v":""},{"$f":"IF('2.Logbook'!F164=\"\",\"\",'2.Logbook'!F164)","v":""},{"$f":"IF('2.Logbook'!G164=\"\",\"\",'2.Logbook'!G164)","v":""},{"$f":"IF('2.Logbook'!H164=\"\",\"\",'2.Logbook'!H164)","v":""},{"$f":"IF('2.Logbook'!I164=\"\",\"\",'2.Logbook'!I164)","v":""},{"$f":"IF('2.Logbook'!J164=\"\",\"\",'2.Logbook'!J164)","v":""},{"$f":"IF('2.Logbook'!K164=\"\",\"\",'2.Logbook'!K164)","v":""},{"$f":"IF('2.Logbook'!L164=\"\",\"\",'2.Logbook'!L164)","v":""},{"$f":"IF('2.Logbook'!M164=\"\",\"\",'2.Logbook'!M164)","v":""},{"$f":"IF('2.Logbook'!N164=\"\",\"\",'2.Logbook'!N164)","v":""},{"$f":"IF('2.Logbook'!O164=\"\",\"\",'2.Logbook'!O164)","v":""},{"$f":"IF('2.Logbook'!P164=\"\",\"\",'2.Logbook'!P164)","v":""},{"$f":"IF('2.Logbook'!Q164=\"\",\"\",'2.Logbook'!Q164)","v":""},{"$f":"IF('2.Logbook'!R164=\"\",\"\",'2.Logbook'!R164)","v":""},{"$f":"IF('2.Logbook'!S164=\"\",\"\",'2.Logbook'!S164)","v":""},{"$f":"IF('2.Logbook'!T164=\"\",\"\",'2.Logbook'!T164)","v":""},{"$f":"IF('2.Logbook'!U164=\"\",\"\",'2.Logbook'!U164)","v":""},{"$f":"IF('2.Logbook'!V164=\"\",\"\",'2.Logbook'!V164)","v":""},{"$f":"IF('2.Logbook'!W164=\"\",\"\",'2.Logbook'!W164)","v":""},{"$f":"IF('2.Logbook'!X164=\"\",\"\",'2.Logbook'!X164)","v":""},{"$f":"IF('2.Logbook'!Y164=\"\",\"\",'2.Logbook'!Y164)","v":""},{"$f":"IF('2.Logbook'!Z164=\"\",\"\",'2.Logbook'!Z164)","v":""},{"$f":"IF('2.Logbook'!AA164=\"\",\"\",'2.Logbook'!AA164)","v":""},{"$f":"IF('2.Logbook'!AB164=\"\",\"\",'2.Logbook'!AB164)","v":""},{"$f":"IF('2.Logbook'!AC164=\"\",\"\",'2.Logbook'!AC164)","v":""},{"$f":"IF('2.Logbook'!AD164=\"\",\"\",'2.Logbook'!AD164)","v":""},{"$f":"IF('2.Logbook'!AE164=\"\",\"\",'2.Logbook'!AE164)","v":""},{"$f":"IF('2.Logbook'!AF164=\"\",\"\",'2.Logbook'!AF164)","v":""},{"$f":"IF('2.Logbook'!AG164=\"\",\"\",'2.Logbook'!AG164)","v":""}]
[{"$f":"IF('2.Logbook'!A165=\"\",\"\",'2.Logbook'!A165)","v":""},{"$f":"IF('2.Logbook'!B165=\"\",\"\",'2.Logbook'!B165)","v":""},{"$f":"IF('2.Logbook'!C165=\"\",\"\",'2.Logbook'!C165)","v":""},{"$f":"IF('2.Logbook'!D165=\"\",\"\",'2.Logbook'!D165)","v":""},{"$f":"IF('2.Logbook'!E165=\"\",\"\",'2.Logbook'!E165)","v":""},{"$f":"IF('2.Logbook'!F165=\"\",\"\",'2.Logbook'!F165)","v":""},{"$f":"IF('2.Logbook'!G165=\"\",\"\",'2.Logbook'!G165)","v":""},{"$f":"IF('2.Logbook'!H165=\"\",\"\",'2.Logbook'!H165)","v":""},{"$f":"IF('2.Logbook'!I165=\"\",\"\",'2.Logbook'!I165)","v":""},{"$f":"IF('2.Logbook'!J165=\"\",\"\",'2.Logbook'!J165)","v":""},{"$f":"IF('2.Logbook'!K165=\"\",\"\",'2.Logbook'!K165)","v":""},{"$f":"IF('2.Logbook'!L165=\"\",\"\",'2.Logbook'!L165)","v":""},{"$f":"IF('2.Logbook'!M165=\"\",\"\",'2.Logbook'!M165)","v":""},{"$f":"IF('2.Logbook'!N165=\"\",\"\",'2.Logbook'!N165)","v":""},{"$f":"IF('2.Logbook'!O165=\"\",\"\",'2.Logbook'!O165)","v":""},{"$f":"IF('2.Logbook'!P165=\"\",\"\",'2.Logbook'!P165)","v":""},{"$f":"IF('2.Logbook'!Q165=\"\",\"\",'2.Logbook'!Q165)","v":""},{"$f":"IF('2.Logbook'!R165=\"\",\"\",'2.Logbook'!R165)","v":""},{"$f":"IF('2.Logbook'!S165=\"\",\"\",'2.Logbook'!S165)","v":""},{"$f":"IF('2.Logbook'!T165=\"\",\"\",'2.Logbook'!T165)","v":""},{"$f":"IF('2.Logbook'!U165=\"\",\"\",'2.Logbook'!U165)","v":""},{"$f":"IF('2.Logbook'!V165=\"\",\"\",'2.Logbook'!V165)","v":""},{"$f":"IF('2.Logbook'!W165=\"\",\"\",'2.Logbook'!W165)","v":""},{"$f":"IF('2.Logbook'!X165=\"\",\"\",'2.Logbook'!X165)","v":""},{"$f":"IF('2.Logbook'!Y165=\"\",\"\",'2.Logbook'!Y165)","v":""},{"$f":"IF('2.Logbook'!Z165=\"\",\"\",'2.Logbook'!Z165)","v":""},{"$f":"IF('2.Logbook'!AA165=\"\",\"\",'2.Logbook'!AA165)","v":""},{"$f":"IF('2.Logbook'!AB165=\"\",\"\",'2.Logbook'!AB165)","v":""},{"$f":"IF('2.Logbook'!AC165=\"\",\"\",'2.Logbook'!AC165)","v":""},{"$f":"IF('2.Logbook'!AD165=\"\",\"\",'2.Logbook'!AD165)","v":""},{"$f":"IF('2.Logbook'!AE165=\"\",\"\",'2.Logbook'!AE165)","v":""},{"$f":"IF('2.Logbook'!AF165=\"\",\"\",'2.Logbook'!AF165)","v":""},{"$f":"IF('2.Logbook'!AG165=\"\",\"\",'2.Logbook'!AG165)","v":""}]
[{"$f":"IF('2.Logbook'!A166=\"\",\"\",'2.Logbook'!A166)","v":""},{"$f":"IF('2.Logbook'!B166=\"\",\"\",'2.Logbook'!B166)","v":""},{"$f":"IF('2.Logbook'!C166=\"\",\"\",'2.Logbook'!C166)","v":""},{"$f":"IF('2.Logbook'!D166=\"\",\"\",'2.Logbook'!D166)","v":""},{"$f":"IF('2.Logbook'!E166=\"\",\"\",'2.Logbook'!E166)","v":""},{"$f":"IF('2.Logbook'!F166=\"\",\"\",'2.Logbook'!F166)","v":""},{"$f":"IF('2.Logbook'!G166=\"\",\"\",'2.Logbook'!G166)","v":""},{"$f":"IF('2.Logbook'!H166=\"\",\"\",'2.Logbook'!H166)","v":""},{"$f":"IF('2.Logbook'!I166=\"\",\"\",'2.Logbook'!I166)","v":""},{"$f":"IF('2.Logbook'!J166=\"\",\"\",'2.Logbook'!J166)","v":""},{"$f":"IF('2.Logbook'!K166=\"\",\"\",'2.Logbook'!K166)","v":""},{"$f":"IF('2.Logbook'!L166=\"\",\"\",'2.Logbook'!L166)","v":""},{"$f":"IF('2.Logbook'!M166=\"\",\"\",'2.Logbook'!M166)","v":""},{"$f":"IF('2.Logbook'!N166=\"\",\"\",'2.Logbook'!N166)","v":""},{"$f":"IF('2.Logbook'!O166=\"\",\"\",'2.Logbook'!O166)","v":""},{"$f":"IF('2.Logbook'!P166=\"\",\"\",'2.Logbook'!P166)","v":""},{"$f":"IF('2.Logbook'!Q166=\"\",\"\",'2.Logbook'!Q166)","v":""},{"$f":"IF('2.Logbook'!R166=\"\",\"\",'2.Logbook'!R166)","v":""},{"$f":"IF('2.Logbook'!S166=\"\",\"\",'2.Logbook'!S166)","v":""},{"$f":"IF('2.Logbook'!T166=\"\",\"\",'2.Logbook'!T166)","v":""},{"$f":"IF('2.Logbook'!U166=\"\",\"\",'2.Logbook'!U166)","v":""},{"$f":"IF('2.Logbook'!V166=\"\",\"\",'2.Logbook'!V166)","v":""},{"$f":"IF('2.Logbook'!W166=\"\",\"\",'2.Logbook'!W166)","v":""},{"$f":"IF('2.Logbook'!X166=\"\",\"\",'2.Logbook'!X166)","v":""},{"$f":"IF('2.Logbook'!Y166=\"\",\"\",'2.Logbook'!Y166)","v":""},{"$f":"IF('2.Logbook'!Z166=\"\",\"\",'2.Logbook'!Z166)","v":""},{"$f":"IF('2.Logbook'!AA166=\"\",\"\",'2.Logbook'!AA166)","v":""},{"$f":"IF('2.Logbook'!AB166=\"\",\"\",'2.Logbook'!AB166)","v":""},{"$f":"IF('2.Logbook'!AC166=\"\",\"\",'2.Logbook'!AC166)","v":""},{"$f":"IF('2.Logbook'!AD166=\"\",\"\",'2.Logbook'!AD166)","v":""},{"$f":"IF('2.Logbook'!AE166=\"\",\"\",'2.Logbook'!AE166)","v":""},{"$f":"IF('2.Logbook'!AF166=\"\",\"\",'2.Logbook'!AF166)","v":""},{"$f":"IF('2.Logbook'!AG166=\"\",\"\",'2.Logbook'!AG166)","v":""}]
[{"$f":"IF('2.Logbook'!A167=\"\",\"\",'2.Logbook'!A167)","v":""},{"$f":"IF('2.Logbook'!B167=\"\",\"\",'2.Logbook'!B167)","v":""},{"$f":"IF('2.Logbook'!C167=\"\",\"\",'2.Logbook'!C167)","v":""},{"$f":"IF('2.Logbook'!D167=\"\",\"\",'2.Logbook'!D167)","v":""},{"$f":"IF('2.Logbook'!E167=\"\",\"\",'2.Logbook'!E167)","v":""},{"$f":"IF('2.Logbook'!F167=\"\",\"\",'2.Logbook'!F167)","v":""},{"$f":"IF('2.Logbook'!G167=\"\",\"\",'2.Logbook'!G167)","v":""},{"$f":"IF('2.Logbook'!H167=\"\",\"\",'2.Logbook'!H167)","v":""},{"$f":"IF('2.Logbook'!I167=\"\",\"\",'2.Logbook'!I167)","v":""},{"$f":"IF('2.Logbook'!J167=\"\",\"\",'2.Logbook'!J167)","v":""},{"$f":"IF('2.Logbook'!K167=\"\",\"\",'2.Logbook'!K167)","v":""},{"$f":"IF('2.Logbook'!L167=\"\",\"\",'2.Logbook'!L167)","v":""},{"$f":"IF('2.Logbook'!M167=\"\",\"\",'2.Logbook'!M167)","v":""},{"$f":"IF('2.Logbook'!N167=\"\",\"\",'2.Logbook'!N167)","v":""},{"$f":"IF('2.Logbook'!O167=\"\",\"\",'2.Logbook'!O167)","v":""},{"$f":"IF('2.Logbook'!P167=\"\",\"\",'2.Logbook'!P167)","v":""},{"$f":"IF('2.Logbook'!Q167=\"\",\"\",'2.Logbook'!Q167)","v":""},{"$f":"IF('2.Logbook'!R167=\"\",\"\",'2.Logbook'!R167)","v":""},{"$f":"IF('2.Logbook'!S167=\"\",\"\",'2.Logbook'!S167)","v":""},{"$f":"IF('2.Logbook'!T167=\"\",\"\",'2.Logbook'!T167)","v":""},{"$f":"IF('2.Logbook'!U167=\"\",\"\",'2.Logbook'!U167)","v":""},{"$f":"IF('2.Logbook'!V167=\"\",\"\",'2.Logbook'!V167)","v":""},{"$f":"IF('2.Logbook'!W167=\"\",\"\",'2.Logbook'!W167)","v":""},{"$f":"IF('2.Logbook'!X167=\"\",\"\",'2.Logbook'!X167)","v":""},{"$f":"IF('2.Logbook'!Y167=\"\",\"\",'2.Logbook'!Y167)","v":""},{"$f":"IF('2.Logbook'!Z167=\"\",\"\",'2.Logbook'!Z167)","v":""},{"$f":"IF('2.Logbook'!AA167=\"\",\"\",'2.Logbook'!AA167)","v":""},{"$f":"IF('2.Logbook'!AB167=\"\",\"\",'2.Logbook'!AB167)","v":""},{"$f":"IF('2.Logbook'!AC167=\"\",\"\",'2.Logbook'!AC167)","v":""},{"$f":"IF('2.Logbook'!AD167=\"\",\"\",'2.Logbook'!AD167)","v":""},{"$f":"IF('2.Logbook'!AE167=\"\",\"\",'2.Logbook'!AE167)","v":""},{"$f":"IF('2.Logbook'!AF167=\"\",\"\",'2.Logbook'!AF167)","v":""},{"$f":"IF('2.Logbook'!AG167=\"\",\"\",'2.Logbook'!AG167)","v":""}]
[{"$f":"IF('2.Logbook'!A168=\"\",\"\",'2.Logbook'!A168)","v":""},{"$f":"IF('2.Logbook'!B168=\"\",\"\",'2.Logbook'!B168)","v":""},{"$f":"IF('2.Logbook'!C168=\"\",\"\",'2.Logbook'!C168)","v":""},{"$f":"IF('2.Logbook'!D168=\"\",\"\",'2.Logbook'!D168)","v":""},{"$f":"IF('2.Logbook'!E168=\"\",\"\",'2.Logbook'!E168)","v":""},{"$f":"IF('2.Logbook'!F168=\"\",\"\",'2.Logbook'!F168)","v":""},{"$f":"IF('2.Logbook'!G168=\"\",\"\",'2.Logbook'!G168)","v":""},{"$f":"IF('2.Logbook'!H168=\"\",\"\",'2.Logbook'!H168)","v":""},{"$f":"IF('2.Logbook'!I168=\"\",\"\",'2.Logbook'!I168)","v":""},{"$f":"IF('2.Logbook'!J168=\"\",\"\",'2.Logbook'!J168)","v":""},{"$f":"IF('2.Logbook'!K168=\"\",\"\",'2.Logbook'!K168)","v":""},{"$f":"IF('2.Logbook'!L168=\"\",\"\",'2.Logbook'!L168)","v":""},{"$f":"IF('2.Logbook'!M168=\"\",\"\",'2.Logbook'!M168)","v":""},{"$f":"IF('2.Logbook'!N168=\"\",\"\",'2.Logbook'!N168)","v":""},{"$f":"IF('2.Logbook'!O168=\"\",\"\",'2.Logbook'!O168)","v":""},{"$f":"IF('2.Logbook'!P168=\"\",\"\",'2.Logbook'!P168)","v":""},{"$f":"IF('2.Logbook'!Q168=\"\",\"\",'2.Logbook'!Q168)","v":""},{"$f":"IF('2.Logbook'!R168=\"\",\"\",'2.Logbook'!R168)","v":""},{"$f":"IF('2.Logbook'!S168=\"\",\"\",'2.Logbook'!S168)","v":""},{"$f":"IF('2.Logbook'!T168=\"\",\"\",'2.Logbook'!T168)","v":""},{"$f":"IF('2.Logbook'!U168=\"\",\"\",'2.Logbook'!U168)","v":""},{"$f":"IF('2.Logbook'!V168=\"\",\"\",'2.Logbook'!V168)","v":""},{"$f":"IF('2.Logbook'!W168=\"\",\"\",'2.Logbook'!W168)","v":""},{"$f":"IF('2.Logbook'!X168=\"\",\"\",'2.Logbook'!X168)","v":""},{"$f":"IF('2.Logbook'!Y168=\"\",\"\",'2.Logbook'!Y168)","v":""},{"$f":"IF('2.Logbook'!Z168=\"\",\"\",'2.Logbook'!Z168)","v":""},{"$f":"IF('2.Logbook'!AA168=\"\",\"\",'2.Logbook'!AA168)","v":""},{"$f":"IF('2.Logbook'!AB168=\"\",\"\",'2.Logbook'!AB168)","v":""},{"$f":"IF('2.Logbook'!AC168=\"\",\"\",'2.Logbook'!AC168)","v":""},{"$f":"IF('2.Logbook'!AD168=\"\",\"\",'2.Logbook'!AD168)","v":""},{"$f":"IF('2.Logbook'!AE168=\"\",\"\",'2.Logbook'!AE168)","v":""},{"$f":"IF('2.Logbook'!AF168=\"\",\"\",'2.Logbook'!AF168)","v":""},{"$f":"IF('2.Logbook'!AG168=\"\",\"\",'2.Logbook'!AG168)","v":""}]
[{"$f":"IF('2.Logbook'!A169=\"\",\"\",'2.Logbook'!A169)","v":""},{"$f":"IF('2.Logbook'!B169=\"\",\"\",'2.Logbook'!B169)","v":""},{"$f":"IF('2.Logbook'!C169=\"\",\"\",'2.Logbook'!C169)","v":""},{"$f":"IF('2.Logbook'!D169=\"\",\"\",'2.Logbook'!D169)","v":""},{"$f":"IF('2.Logbook'!E169=\"\",\"\",'2.Logbook'!E169)","v":""},{"$f":"IF('2.Logbook'!F169=\"\",\"\",'2.Logbook'!F169)","v":""},{"$f":"IF('2.Logbook'!G169=\"\",\"\",'2.Logbook'!G169)","v":""},{"$f":"IF('2.Logbook'!H169=\"\",\"\",'2.Logbook'!H169)","v":""},{"$f":"IF('2.Logbook'!I169=\"\",\"\",'2.Logbook'!I169)","v":""},{"$f":"IF('2.Logbook'!J169=\"\",\"\",'2.Logbook'!J169)","v":""},{"$f":"IF('2.Logbook'!K169=\"\",\"\",'2.Logbook'!K169)","v":""},{"$f":"IF('2.Logbook'!L169=\"\",\"\",'2.Logbook'!L169)","v":""},{"$f":"IF('2.Logbook'!M169=\"\",\"\",'2.Logbook'!M169)","v":""},{"$f":"IF('2.Logbook'!N169=\"\",\"\",'2.Logbook'!N169)","v":""},{"$f":"IF('2.Logbook'!O169=\"\",\"\",'2.Logbook'!O169)","v":""},{"$f":"IF('2.Logbook'!P169=\"\",\"\",'2.Logbook'!P169)","v":""},{"$f":"IF('2.Logbook'!Q169=\"\",\"\",'2.Logbook'!Q169)","v":""},{"$f":"IF('2.Logbook'!R169=\"\",\"\",'2.Logbook'!R169)","v":""},{"$f":"IF('2.Logbook'!S169=\"\",\"\",'2.Logbook'!S169)","v":""},{"$f":"IF('2.Logbook'!T169=\"\",\"\",'2.Logbook'!T169)","v":""},{"$f":"IF('2.Logbook'!U169=\"\",\"\",'2.Logbook'!U169)","v":""},{"$f":"IF('2.Logbook'!V169=\"\",\"\",'2.Logbook'!V169)","v":""},{"$f":"IF('2.Logbook'!W169=\"\",\"\",'2.Logbook'!W169)","v":""},{"$f":"IF('2.Logbook'!X169=\"\",\"\",'2.Logbook'!X169)","v":""},{"$f":"IF('2.Logbook'!Y169=\"\",\"\",'2.Logbook'!Y169)","v":""},{"$f":"IF('2.Logbook'!Z169=\"\",\"\",'2.Logbook'!Z169)","v":""},{"$f":"IF('2.Logbook'!AA169=\"\",\"\",'2.Logbook'!AA169)","v":""},{"$f":"IF('2.Logbook'!AB169=\"\",\"\",'2.Logbook'!AB169)","v":""},{"$f":"IF('2.Logbook'!AC169=\"\",\"\",'2.Logbook'!AC169)","v":""},{"$f":"IF('2.Logbook'!AD169=\"\",\"\",'2.Logbook'!AD169)","v":""},{"$f":"IF('2.Logbook'!AE169=\"\",\"\",'2.Logbook'!AE169)","v":""},{"$f":"IF('2.Logbook'!AF169=\"\",\"\",'2.Logbook'!AF169)","v":""},{"$f":"IF('2.Logbook'!AG169=\"\",\"\",'2.Logbook'!AG169)","v":""}]
[{"$f":"IF('2.Logbook'!A170=\"\",\"\",'2.Logbook'!A170)","v":""},{"$f":"IF('2.Logbook'!B170=\"\",\"\",'2.Logbook'!B170)","v":""},{"$f":"IF('2.Logbook'!C170=\"\",\"\",'2.Logbook'!C170)","v":""},{"$f":"IF('2.Logbook'!D170=\"\",\"\",'2.Logbook'!D170)","v":""},{"$f":"IF('2.Logbook'!E170=\"\",\"\",'2.Logbook'!E170)","v":""},{"$f":"IF('2.Logbook'!F170=\"\",\"\",'2.Logbook'!F170)","v":""},{"$f":"IF('2.Logbook'!G170=\"\",\"\",'2.Logbook'!G170)","v":""},{"$f":"IF('2.Logbook'!H170=\"\",\"\",'2.Logbook'!H170)","v":""},{"$f":"IF('2.Logbook'!I170=\"\",\"\",'2.Logbook'!I170)","v":""},{"$f":"IF('2.Logbook'!J170=\"\",\"\",'2.Logbook'!J170)","v":""},{"$f":"IF('2.Logbook'!K170=\"\",\"\",'2.Logbook'!K170)","v":""},{"$f":"IF('2.Logbook'!L170=\"\",\"\",'2.Logbook'!L170)","v":""},{"$f":"IF('2.Logbook'!M170=\"\",\"\",'2.Logbook'!M170)","v":""},{"$f":"IF('2.Logbook'!N170=\"\",\"\",'2.Logbook'!N170)","v":""},{"$f":"IF('2.Logbook'!O170=\"\",\"\",'2.Logbook'!O170)","v":""},{"$f":"IF('2.Logbook'!P170=\"\",\"\",'2.Logbook'!P170)","v":""},{"$f":"IF('2.Logbook'!Q170=\"\",\"\",'2.Logbook'!Q170)","v":""},{"$f":"IF('2.Logbook'!R170=\"\",\"\",'2.Logbook'!R170)","v":""},{"$f":"IF('2.Logbook'!S170=\"\",\"\",'2.Logbook'!S170)","v":""},{"$f":"IF('2.Logbook'!T170=\"\",\"\",'2.Logbook'!T170)","v":""},{"$f":"IF('2.Logbook'!U170=\"\",\"\",'2.Logbook'!U170)","v":""},{"$f":"IF('2.Logbook'!V170=\"\",\"\",'2.Logbook'!V170)","v":""},{"$f":"IF('2.Logbook'!W170=\"\",\"\",'2.Logbook'!W170)","v":""},{"$f":"IF('2.Logbook'!X170=\"\",\"\",'2.Logbook'!X170)","v":""},{"$f":"IF('2.Logbook'!Y170=\"\",\"\",'2.Logbook'!Y170)","v":""},{"$f":"IF('2.Logbook'!Z170=\"\",\"\",'2.Logbook'!Z170)","v":""},{"$f":"IF('2.Logbook'!AA170=\"\",\"\",'2.Logbook'!AA170)","v":""},{"$f":"IF('2.Logbook'!AB170=\"\",\"\",'2.Logbook'!AB170)","v":""},{"$f":"IF('2.Logbook'!AC170=\"\",\"\",'2.Logbook'!AC170)","v":""},{"$f":"IF('2.Logbook'!AD170=\"\",\"\",'2.Logbook'!AD170)","v":""},{"$f":"IF('2.Logbook'!AE170=\"\",\"\",'2.Logbook'!AE170)","v":""},{"$f":"IF('2.Logbook'!AF170=\"\",\"\",'2.Logbook'!AF170)","v":""},{"$f":"IF('2.Logbook'!AG170=\"\",\"\",'2.Logbook'!AG170)","v":""}]
[{"$f":"IF('2.Logbook'!A171=\"\",\"\",'2.Logbook'!A171)","v":""},{"$f":"IF('2.Logbook'!B171=\"\",\"\",'2.Logbook'!B171)","v":""},{"$f":"IF('2.Logbook'!C171=\"\",\"\",'2.Logbook'!C171)","v":""},{"$f":"IF('2.Logbook'!D171=\"\",\"\",'2.Logbook'!D171)","v":""},{"$f":"IF('2.Logbook'!E171=\"\",\"\",'2.Logbook'!E171)","v":""},{"$f":"IF('2.Logbook'!F171=\"\",\"\",'2.Logbook'!F171)","v":""},{"$f":"IF('2.Logbook'!G171=\"\",\"\",'2.Logbook'!G171)","v":""},{"$f":"IF('2.Logbook'!H171=\"\",\"\",'2.Logbook'!H171)","v":""},{"$f":"IF('2.Logbook'!I171=\"\",\"\",'2.Logbook'!I171)","v":""},{"$f":"IF('2.Logbook'!J171=\"\",\"\",'2.Logbook'!J171)","v":""},{"$f":"IF('2.Logbook'!K171=\"\",\"\",'2.Logbook'!K171)","v":""},{"$f":"IF('2.Logbook'!L171=\"\",\"\",'2.Logbook'!L171)","v":""},{"$f":"IF('2.Logbook'!M171=\"\",\"\",'2.Logbook'!M171)","v":""},{"$f":"IF('2.Logbook'!N171=\"\",\"\",'2.Logbook'!N171)","v":""},{"$f":"IF('2.Logbook'!O171=\"\",\"\",'2.Logbook'!O171)","v":""},{"$f":"IF('2.Logbook'!P171=\"\",\"\",'2.Logbook'!P171)","v":""},{"$f":"IF('2.Logbook'!Q171=\"\",\"\",'2.Logbook'!Q171)","v":""},{"$f":"IF('2.Logbook'!R171=\"\",\"\",'2.Logbook'!R171)","v":""},{"$f":"IF('2.Logbook'!S171=\"\",\"\",'2.Logbook'!S171)","v":""},{"$f":"IF('2.Logbook'!T171=\"\",\"\",'2.Logbook'!T171)","v":""},{"$f":"IF('2.Logbook'!U171=\"\",\"\",'2.Logbook'!U171)","v":""},{"$f":"IF('2.Logbook'!V171=\"\",\"\",'2.Logbook'!V171)","v":""},{"$f":"IF('2.Logbook'!W171=\"\",\"\",'2.Logbook'!W171)","v":""},{"$f":"IF('2.Logbook'!X171=\"\",\"\",'2.Logbook'!X171)","v":""},{"$f":"IF('2.Logbook'!Y171=\"\",\"\",'2.Logbook'!Y171)","v":""},{"$f":"IF('2.Logbook'!Z171=\"\",\"\",'2.Logbook'!Z171)","v":""},{"$f":"IF('2.Logbook'!AA171=\"\",\"\",'2.Logbook'!AA171)","v":""},{"$f":"IF('2.Logbook'!AB171=\"\",\"\",'2.Logbook'!AB171)","v":""},{"$f":"IF('2.Logbook'!AC171=\"\",\"\",'2.Logbook'!AC171)","v":""},{"$f":"IF('2.Logbook'!AD171=\"\",\"\",'2.Logbook'!AD171)","v":""},{"$f":"IF('2.Logbook'!AE171=\"\",\"\",'2.Logbook'!AE171)","v":""},{"$f":"IF('2.Logbook'!AF171=\"\",\"\",'2.Logbook'!AF171)","v":""},{"$f":"IF('2.Logbook'!AG171=\"\",\"\",'2.Logbook'!AG171)","v":""}]
[{"$f":"IF('2.Logbook'!A172=\"\",\"\",'2.Logbook'!A172)","v":""},{"$f":"IF('2.Logbook'!B172=\"\",\"\",'2.Logbook'!B172)","v":""},{"$f":"IF('2.Logbook'!C172=\"\",\"\",'2.Logbook'!C172)","v":""},{"$f":"IF('2.Logbook'!D172=\"\",\"\",'2.Logbook'!D172)","v":""},{"$f":"IF('2.Logbook'!E172=\"\",\"\",'2.Logbook'!E172)","v":""},{"$f":"IF('2.Logbook'!F172=\"\",\"\",'2.Logbook'!F172)","v":""},{"$f":"IF('2.Logbook'!G172=\"\",\"\",'2.Logbook'!G172)","v":""},{"$f":"IF('2.Logbook'!H172=\"\",\"\",'2.Logbook'!H172)","v":""},{"$f":"IF('2.Logbook'!I172=\"\",\"\",'2.Logbook'!I172)","v":""},{"$f":"IF('2.Logbook'!J172=\"\",\"\",'2.Logbook'!J172)","v":""},{"$f":"IF('2.Logbook'!K172=\"\",\"\",'2.Logbook'!K172)","v":""},{"$f":"IF('2.Logbook'!L172=\"\",\"\",'2.Logbook'!L172)","v":""},{"$f":"IF('2.Logbook'!M172=\"\",\"\",'2.Logbook'!M172)","v":""},{"$f":"IF('2.Logbook'!N172=\"\",\"\",'2.Logbook'!N172)","v":""},{"$f":"IF('2.Logbook'!O172=\"\",\"\",'2.Logbook'!O172)","v":""},{"$f":"IF('2.Logbook'!P172=\"\",\"\",'2.Logbook'!P172)","v":""},{"$f":"IF('2.Logbook'!Q172=\"\",\"\",'2.Logbook'!Q172)","v":""},{"$f":"IF('2.Logbook'!R172=\"\",\"\",'2.Logbook'!R172)","v":""},{"$f":"IF('2.Logbook'!S172=\"\",\"\",'2.Logbook'!S172)","v":""},{"$f":"IF('2.Logbook'!T172=\"\",\"\",'2.Logbook'!T172)","v":""},{"$f":"IF('2.Logbook'!U172=\"\",\"\",'2.Logbook'!U172)","v":""},{"$f":"IF('2.Logbook'!V172=\"\",\"\",'2.Logbook'!V172)","v":""},{"$f":"IF('2.Logbook'!W172=\"\",\"\",'2.Logbook'!W172)","v":""},{"$f":"IF('2.Logbook'!X172=\"\",\"\",'2.Logbook'!X172)","v":""},{"$f":"IF('2.Logbook'!Y172=\"\",\"\",'2.Logbook'!Y172)","v":""},{"$f":"IF('2.Logbook'!Z172=\"\",\"\",'2.Logbook'!Z172)","v":""},{"$f":"IF('2.Logbook'!AA172=\"\",\"\",'2.Logbook'!AA172)","v":""},{"$f":"IF('2.Logbook'!AB172=\"\",\"\",'2.Logbook'!AB172)","v":""},{"$f":"IF('2.Logbook'!AC172=\"\",\"\",'2.Logbook'!AC172)","v":""},{"$f":"IF('2.Logbook'!AD172=\"\",\"\",'2.Logbook'!AD172)","v":""},{"$f":"IF('2.Logbook'!AE172=\"\",\"\",'2.Logbook'!AE172)","v":""},{"$f":"IF('2.Logbook'!AF172=\"\",\"\",'2.Logbook'!AF172)","v":""},{"$f":"IF('2.Logbook'!AG172=\"\",\"\",'2.Logbook'!AG172)","v":""}]
[{"$f":"IF('2.Logbook'!A173=\"\",\"\",'2.Logbook'!A173)","v":""},{"$f":"IF('2.Logbook'!B173=\"\",\"\",'2.Logbook'!B173)","v":""},{"$f":"IF('2.Logbook'!C173=\"\",\"\",'2.Logbook'!C173)","v":""},{"$f":"IF('2.Logbook'!D173=\"\",\"\",'2.Logbook'!D173)","v":""},{"$f":"IF('2.Logbook'!E173=\"\",\"\",'2.Logbook'!E173)","v":""},{"$f":"IF('2.Logbook'!F173=\"\",\"\",'2.Logbook'!F173)","v":""},{"$f":"IF('2.Logbook'!G173=\"\",\"\",'2.Logbook'!G173)","v":""},{"$f":"IF('2.Logbook'!H173=\"\",\"\",'2.Logbook'!H173)","v":""},{"$f":"IF('2.Logbook'!I173=\"\",\"\",'2.Logbook'!I173)","v":""},{"$f":"IF('2.Logbook'!J173=\"\",\"\",'2.Logbook'!J173)","v":""},{"$f":"IF('2.Logbook'!K173=\"\",\"\",'2.Logbook'!K173)","v":""},{"$f":"IF('2.Logbook'!L173=\"\",\"\",'2.Logbook'!L173)","v":""},{"$f":"IF('2.Logbook'!M173=\"\",\"\",'2.Logbook'!M173)","v":""},{"$f":"IF('2.Logbook'!N173=\"\",\"\",'2.Logbook'!N173)","v":""},{"$f":"IF('2.Logbook'!O173=\"\",\"\",'2.Logbook'!O173)","v":""},{"$f":"IF('2.Logbook'!P173=\"\",\"\",'2.Logbook'!P173)","v":""},{"$f":"IF('2.Logbook'!Q173=\"\",\"\",'2.Logbook'!Q173)","v":""},{"$f":"IF('2.Logbook'!R173=\"\",\"\",'2.Logbook'!R173)","v":""},{"$f":"IF('2.Logbook'!S173=\"\",\"\",'2.Logbook'!S173)","v":""},{"$f":"IF('2.Logbook'!T173=\"\",\"\",'2.Logbook'!T173)","v":""},{"$f":"IF('2.Logbook'!U173=\"\",\"\",'2.Logbook'!U173)","v":""},{"$f":"IF('2.Logbook'!V173=\"\",\"\",'2.Logbook'!V173)","v":""},{"$f":"IF('2.Logbook'!W173=\"\",\"\",'2.Logbook'!W173)","v":""},{"$f":"IF('2.Logbook'!X173=\"\",\"\",'2.Logbook'!X173)","v":""},{"$f":"IF('2.Logbook'!Y173=\"\",\"\",'2.Logbook'!Y173)","v":""},{"$f":"IF('2.Logbook'!Z173=\"\",\"\",'2.Logbook'!Z173)","v":""},{"$f":"IF('2.Logbook'!AA173=\"\",\"\",'2.Logbook'!AA173)","v":""},{"$f":"IF('2.Logbook'!AB173=\"\",\"\",'2.Logbook'!AB173)","v":""},{"$f":"IF('2.Logbook'!AC173=\"\",\"\",'2.Logbook'!AC173)","v":""},{"$f":"IF('2.Logbook'!AD173=\"\",\"\",'2.Logbook'!AD173)","v":""},{"$f":"IF('2.Logbook'!AE173=\"\",\"\",'2.Logbook'!AE173)","v":""},{"$f":"IF('2.Logbook'!AF173=\"\",\"\",'2.Logbook'!AF173)","v":""},{"$f":"IF('2.Logbook'!AG173=\"\",\"\",'2.Logbook'!AG173)","v":""}]
[{"$f":"IF('2.Logbook'!A174=\"\",\"\",'2.Logbook'!A174)","v":""},{"$f":"IF('2.Logbook'!B174=\"\",\"\",'2.Logbook'!B174)","v":""},{"$f":"IF('2.Logbook'!C174=\"\",\"\",'2.Logbook'!C174)","v":""},{"$f":"IF('2.Logbook'!D174=\"\",\"\",'2.Logbook'!D174)","v":""},{"$f":"IF('2.Logbook'!E174=\"\",\"\",'2.Logbook'!E174)","v":""},{"$f":"IF('2.Logbook'!F174=\"\",\"\",'2.Logbook'!F174)","v":""},{"$f":"IF('2.Logbook'!G174=\"\",\"\",'2.Logbook'!G174)","v":""},{"$f":"IF('2.Logbook'!H174=\"\",\"\",'2.Logbook'!H174)","v":""},{"$f":"IF('2.Logbook'!I174=\"\",\"\",'2.Logbook'!I174)","v":""},{"$f":"IF('2.Logbook'!J174=\"\",\"\",'2.Logbook'!J174)","v":""},{"$f":"IF('2.Logbook'!K174=\"\",\"\",'2.Logbook'!K174)","v":""},{"$f":"IF('2.Logbook'!L174=\"\",\"\",'2.Logbook'!L174)","v":""},{"$f":"IF('2.Logbook'!M174=\"\",\"\",'2.Logbook'!M174)","v":""},{"$f":"IF('2.Logbook'!N174=\"\",\"\",'2.Logbook'!N174)","v":""},{"$f":"IF('2.Logbook'!O174=\"\",\"\",'2.Logbook'!O174)","v":""},{"$f":"IF('2.Logbook'!P174=\"\",\"\",'2.Logbook'!P174)","v":""},{"$f":"IF('2.Logbook'!Q174=\"\",\"\",'2.Logbook'!Q174)","v":""},{"$f":"IF('2.Logbook'!R174=\"\",\"\",'2.Logbook'!R174)","v":""},{"$f":"IF('2.Logbook'!S174=\"\",\"\",'2.Logbook'!S174)","v":""},{"$f":"IF('2.Logbook'!T174=\"\",\"\",'2.Logbook'!T174)","v":""},{"$f":"IF('2.Logbook'!U174=\"\",\"\",'2.Logbook'!U174)","v":""},{"$f":"IF('2.Logbook'!V174=\"\",\"\",'2.Logbook'!V174)","v":""},{"$f":"IF('2.Logbook'!W174=\"\",\"\",'2.Logbook'!W174)","v":""},{"$f":"IF('2.Logbook'!X174=\"\",\"\",'2.Logbook'!X174)","v":""},{"$f":"IF('2.Logbook'!Y174=\"\",\"\",'2.Logbook'!Y174)","v":""},{"$f":"IF('2.Logbook'!Z174=\"\",\"\",'2.Logbook'!Z174)","v":""},{"$f":"IF('2.Logbook'!AA174=\"\",\"\",'2.Logbook'!AA174)","v":""},{"$f":"IF('2.Logbook'!AB174=\"\",\"\",'2.Logbook'!AB174)","v":""},{"$f":"IF('2.Logbook'!AC174=\"\",\"\",'2.Logbook'!AC174)","v":""},{"$f":"IF('2.Logbook'!AD174=\"\",\"\",'2.Logbook'!AD174)","v":""},{"$f":"IF('2.Logbook'!AE174=\"\",\"\",'2.Logbook'!AE174)","v":""},{"$f":"IF('2.Logbook'!AF174=\"\",\"\",'2.Logbook'!AF174)","v":""},{"$f":"IF('2.Logbook'!AG174=\"\",\"\",'2.Logbook'!AG174)","v":""}]
[{"$f":"IF('2.Logbook'!A175=\"\",\"\",'2.Logbook'!A175)","v":""},{"$f":"IF('2.Logbook'!B175=\"\",\"\",'2.Logbook'!B175)","v":""},{"$f":"IF('2.Logbook'!C175=\"\",\"\",'2.Logbook'!C175)","v":""},{"$f":"IF('2.Logbook'!D175=\"\",\"\",'2.Logbook'!D175)","v":""},{"$f":"IF('2.Logbook'!E175=\"\",\"\",'2.Logbook'!E175)","v":""},{"$f":"IF('2.Logbook'!F175=\"\",\"\",'2.Logbook'!F175)","v":""},{"$f":"IF('2.Logbook'!G175=\"\",\"\",'2.Logbook'!G175)","v":""},{"$f":"IF('2.Logbook'!H175=\"\",\"\",'2.Logbook'!H175)","v":""},{"$f":"IF('2.Logbook'!I175=\"\",\"\",'2.Logbook'!I175)","v":""},{"$f":"IF('2.Logbook'!J175=\"\",\"\",'2.Logbook'!J175)","v":""},{"$f":"IF('2.Logbook'!K175=\"\",\"\",'2.Logbook'!K175)","v":""},{"$f":"IF('2.Logbook'!L175=\"\",\"\",'2.Logbook'!L175)","v":""},{"$f":"IF('2.Logbook'!M175=\"\",\"\",'2.Logbook'!M175)","v":""},{"$f":"IF('2.Logbook'!N175=\"\",\"\",'2.Logbook'!N175)","v":""},{"$f":"IF('2.Logbook'!O175=\"\",\"\",'2.Logbook'!O175)","v":""},{"$f":"IF('2.Logbook'!P175=\"\",\"\",'2.Logbook'!P175)","v":""},{"$f":"IF('2.Logbook'!Q175=\"\",\"\",'2.Logbook'!Q175)","v":""},{"$f":"IF('2.Logbook'!R175=\"\",\"\",'2.Logbook'!R175)","v":""},{"$f":"IF('2.Logbook'!S175=\"\",\"\",'2.Logbook'!S175)","v":""},{"$f":"IF('2.Logbook'!T175=\"\",\"\",'2.Logbook'!T175)","v":""},{"$f":"IF('2.Logbook'!U175=\"\",\"\",'2.Logbook'!U175)","v":""},{"$f":"IF('2.Logbook'!V175=\"\",\"\",'2.Logbook'!V175)","v":""},{"$f":"IF('2.Logbook'!W175=\"\",\"\",'2.Logbook'!W175)","v":""},{"$f":"IF('2.Logbook'!X175=\"\",\"\",'2.Logbook'!X175)","v":""},{"$f":"IF('2.Logbook'!Y175=\"\",\"\",'2.Logbook'!Y175)","v":""},{"$f":"IF('2.Logbook'!Z175=\"\",\"\",'2.Logbook'!Z175)","v":""},{"$f":"IF('2.Logbook'!AA175=\"\",\"\",'2.Logbook'!AA175)","v":""},{"$f":"IF('2.Logbook'!AB175=\"\",\"\",'2.Logbook'!AB175)","v":""},{"$f":"IF('2.Logbook'!AC175=\"\",\"\",'2.Logbook'!AC175)","v":""},{"$f":"IF('2.Logbook'!AD175=\"\",\"\",'2.Logbook'!AD175)","v":""},{"$f":"IF('2.Logbook'!AE175=\"\",\"\",'2.Logbook'!AE175)","v":""},{"$f":"IF('2.Logbook'!AF175=\"\",\"\",'2.Logbook'!AF175)","v":""},{"$f":"IF('2.Logbook'!AG175=\"\",\"\",'2.Logbook'!AG175)","v":""}]
[{"$f":"IF('2.Logbook'!A176=\"\",\"\",'2.Logbook'!A176)","v":""},{"$f":"IF('2.Logbook'!B176=\"\",\"\",'2.Logbook'!B176)","v":""},{"$f":"IF('2.Logbook'!C176=\"\",\"\",'2.Logbook'!C176)","v":""},{"$f":"IF('2.Logbook'!D176=\"\",\"\",'2.Logbook'!D176)","v":""},{"$f":"IF('2.Logbook'!E176=\"\",\"\",'2.Logbook'!E176)","v":""},{"$f":"IF('2.Logbook'!F176=\"\",\"\",'2.Logbook'!F176)","v":""},{"$f":"IF('2.Logbook'!G176=\"\",\"\",'2.Logbook'!G176)","v":""},{"$f":"IF('2.Logbook'!H176=\"\",\"\",'2.Logbook'!H176)","v":""},{"$f":"IF('2.Logbook'!I176=\"\",\"\",'2.Logbook'!I176)","v":""},{"$f":"IF('2.Logbook'!J176=\"\",\"\",'2.Logbook'!J176)","v":""},{"$f":"IF('2.Logbook'!K176=\"\",\"\",'2.Logbook'!K176)","v":""},{"$f":"IF('2.Logbook'!L176=\"\",\"\",'2.Logbook'!L176)","v":""},{"$f":"IF('2.Logbook'!M176=\"\",\"\",'2.Logbook'!M176)","v":""},{"$f":"IF('2.Logbook'!N176=\"\",\"\",'2.Logbook'!N176)","v":""},{"$f":"IF('2.Logbook'!O176=\"\",\"\",'2.Logbook'!O176)","v":""},{"$f":"IF('2.Logbook'!P176=\"\",\"\",'2.Logbook'!P176)","v":""},{"$f":"IF('2.Logbook'!Q176=\"\",\"\",'2.Logbook'!Q176)","v":""},{"$f":"IF('2.Logbook'!R176=\"\",\"\",'2.Logbook'!R176)","v":""},{"$f":"IF('2.Logbook'!S176=\"\",\"\",'2.Logbook'!S176)","v":""},{"$f":"IF('2.Logbook'!T176=\"\",\"\",'2.Logbook'!T176)","v":""},{"$f":"IF('2.Logbook'!U176=\"\",\"\",'2.Logbook'!U176)","v":""},{"$f":"IF('2.Logbook'!V176=\"\",\"\",'2.Logbook'!V176)","v":""},{"$f":"IF('2.Logbook'!W176=\"\",\"\",'2.Logbook'!W176)","v":""},{"$f":"IF('2.Logbook'!X176=\"\",\"\",'2.Logbook'!X176)","v":""},{"$f":"IF('2.Logbook'!Y176=\"\",\"\",'2.Logbook'!Y176)","v":""},{"$f":"IF('2.Logbook'!Z176=\"\",\"\",'2.Logbook'!Z176)","v":""},{"$f":"IF('2.Logbook'!AA176=\"\",\"\",'2.Logbook'!AA176)","v":""},{"$f":"IF('2.Logbook'!AB176=\"\",\"\",'2.Logbook'!AB176)","v":""},{"$f":"IF('2.Logbook'!AC176=\"\",\"\",'2.Logbook'!AC176)","v":""},{"$f":"IF('2.Logbook'!AD176=\"\",\"\",'2.Logbook'!AD176)","v":""},{"$f":"IF('2.Logbook'!AE176=\"\",\"\",'2.Logbook'!AE176)","v":""},{"$f":"IF('2.Logbook'!AF176=\"\",\"\",'2.Logbook'!AF176)","v":""},{"$f":"IF('2.Logbook'!AG176=\"\",\"\",'2.Logbook'!AG176)","v":""}]
[{"$f":"IF('2.Logbook'!A177=\"\",\"\",'2.Logbook'!A177)","v":""},{"$f":"IF('2.Logbook'!B177=\"\",\"\",'2.Logbook'!B177)","v":""},{"$f":"IF('2.Logbook'!C177=\"\",\"\",'2.Logbook'!C177)","v":""},{"$f":"IF('2.Logbook'!D177=\"\",\"\",'2.Logbook'!D177)","v":""},{"$f":"IF('2.Logbook'!E177=\"\",\"\",'2.Logbook'!E177)","v":""},{"$f":"IF('2.Logbook'!F177=\"\",\"\",'2.Logbook'!F177)","v":""},{"$f":"IF('2.Logbook'!G177=\"\",\"\",'2.Logbook'!G177)","v":""},{"$f":"IF('2.Logbook'!H177=\"\",\"\",'2.Logbook'!H177)","v":""},{"$f":"IF('2.Logbook'!I177=\"\",\"\",'2.Logbook'!I177)","v":""},{"$f":"IF('2.Logbook'!J177=\"\",\"\",'2.Logbook'!J177)","v":""},{"$f":"IF('2.Logbook'!K177=\"\",\"\",'2.Logbook'!K177)","v":""},{"$f":"IF('2.Logbook'!L177=\"\",\"\",'2.Logbook'!L177)","v":""},{"$f":"IF('2.Logbook'!M177=\"\",\"\",'2.Logbook'!M177)","v":""},{"$f":"IF('2.Logbook'!N177=\"\",\"\",'2.Logbook'!N177)","v":""},{"$f":"IF('2.Logbook'!O177=\"\",\"\",'2.Logbook'!O177)","v":""},{"$f":"IF('2.Logbook'!P177=\"\",\"\",'2.Logbook'!P177)","v":""},{"$f":"IF('2.Logbook'!Q177=\"\",\"\",'2.Logbook'!Q177)","v":""},{"$f":"IF('2.Logbook'!R177=\"\",\"\",'2.Logbook'!R177)","v":""},{"$f":"IF('2.Logbook'!S177=\"\",\"\",'2.Logbook'!S177)","v":""},{"$f":"IF('2.Logbook'!T177=\"\",\"\",'2.Logbook'!T177)","v":""},{"$f":"IF('2.Logbook'!U177=\"\",\"\",'2.Logbook'!U177)","v":""},{"$f":"IF('2.Logbook'!V177=\"\",\"\",'2.Logbook'!V177)","v":""},{"$f":"IF('2.Logbook'!W177=\"\",\"\",'2.Logbook'!W177)","v":""},{"$f":"IF('2.Logbook'!X177=\"\",\"\",'2.Logbook'!X177)","v":""},{"$f":"IF('2.Logbook'!Y177=\"\",\"\",'2.Logbook'!Y177)","v":""},{"$f":"IF('2.Logbook'!Z177=\"\",\"\",'2.Logbook'!Z177)","v":""},{"$f":"IF('2.Logbook'!AA177=\"\",\"\",'2.Logbook'!AA177)","v":""},{"$f":"IF('2.Logbook'!AB177=\"\",\"\",'2.Logbook'!AB177)","v":""},{"$f":"IF('2.Logbook'!AC177=\"\",\"\",'2.Logbook'!AC177)","v":""},{"$f":"IF('2.Logbook'!AD177=\"\",\"\",'2.Logbook'!AD177)","v":""},{"$f":"IF('2.Logbook'!AE177=\"\",\"\",'2.Logbook'!AE177)","v":""},{"$f":"IF('2.Logbook'!AF177=\"\",\"\",'2.Logbook'!AF177)","v":""},{"$f":"IF('2.Logbook'!AG177=\"\",\"\",'2.Logbook'!AG177)","v":""}]
[{"$f":"IF('2.Logbook'!A178=\"\",\"\",'2.Logbook'!A178)","v":""},{"$f":"IF('2.Logbook'!B178=\"\",\"\",'2.Logbook'!B178)","v":""},{"$f":"IF('2.Logbook'!C178=\"\",\"\",'2.Logbook'!C178)","v":""},{"$f":"IF('2.Logbook'!D178=\"\",\"\",'2.Logbook'!D178)","v":""},{"$f":"IF('2.Logbook'!E178=\"\",\"\",'2.Logbook'!E178)","v":""},{"$f":"IF('2.Logbook'!F178=\"\",\"\",'2.Logbook'!F178)","v":""},{"$f":"IF('2.Logbook'!G178=\"\",\"\",'2.Logbook'!G178)","v":""},{"$f":"IF('2.Logbook'!H178=\"\",\"\",'2.Logbook'!H178)","v":""},{"$f":"IF('2.Logbook'!I178=\"\",\"\",'2.Logbook'!I178)","v":""},{"$f":"IF('2.Logbook'!J178=\"\",\"\",'2.Logbook'!J178)","v":""},{"$f":"IF('2.Logbook'!K178=\"\",\"\",'2.Logbook'!K178)","v":""},{"$f":"IF('2.Logbook'!L178=\"\",\"\",'2.Logbook'!L178)","v":""},{"$f":"IF('2.Logbook'!M178=\"\",\"\",'2.Logbook'!M178)","v":""},{"$f":"IF('2.Logbook'!N178=\"\",\"\",'2.Logbook'!N178)","v":""},{"$f":"IF('2.Logbook'!O178=\"\",\"\",'2.Logbook'!O178)","v":""},{"$f":"IF('2.Logbook'!P178=\"\",\"\",'2.Logbook'!P178)","v":""},{"$f":"IF('2.Logbook'!Q178=\"\",\"\",'2.Logbook'!Q178)","v":""},{"$f":"IF('2.Logbook'!R178=\"\",\"\",'2.Logbook'!R178)","v":""},{"$f":"IF('2.Logbook'!S178=\"\",\"\",'2.Logbook'!S178)","v":""},{"$f":"IF('2.Logbook'!T178=\"\",\"\",'2.Logbook'!T178)","v":""},{"$f":"IF('2.Logbook'!U178=\"\",\"\",'2.Logbook'!U178)","v":""},{"$f":"IF('2.Logbook'!V178=\"\",\"\",'2.Logbook'!V178)","v":""},{"$f":"IF('2.Logbook'!W178=\"\",\"\",'2.Logbook'!W178)","v":""},{"$f":"IF('2.Logbook'!X178=\"\",\"\",'2.Logbook'!X178)","v":""},{"$f":"IF('2.Logbook'!Y178=\"\",\"\",'2.Logbook'!Y178)","v":""},{"$f":"IF('2.Logbook'!Z178=\"\",\"\",'2.Logbook'!Z178)","v":""},{"$f":"IF('2.Logbook'!AA178=\"\",\"\",'2.Logbook'!AA178)","v":""},{"$f":"IF('2.Logbook'!AB178=\"\",\"\",'2.Logbook'!AB178)","v":""},{"$f":"IF('2.Logbook'!AC178=\"\",\"\",'2.Logbook'!AC178)","v":""},{"$f":"IF('2.Logbook'!AD178=\"\",\"\",'2.Logbook'!AD178)","v":""},{"$f":"IF('2.Logbook'!AE178=\"\",\"\",'2.Logbook'!AE178)","v":""},{"$f":"IF('2.Logbook'!AF178=\"\",\"\",'2.Logbook'!AF178)","v":""},{"$f":"IF('2.Logbook'!AG178=\"\",\"\",'2.Logbook'!AG178)","v":""}]
[{"$f":"IF('2.Logbook'!A179=\"\",\"\",'2.Logbook'!A179)","v":""},{"$f":"IF('2.Logbook'!B179=\"\",\"\",'2.Logbook'!B179)","v":""},{"$f":"IF('2.Logbook'!C179=\"\",\"\",'2.Logbook'!C179)","v":""},{"$f":"IF('2.Logbook'!D179=\"\",\"\",'2.Logbook'!D179)","v":""},{"$f":"IF('2.Logbook'!E179=\"\",\"\",'2.Logbook'!E179)","v":""},{"$f":"IF('2.Logbook'!F179=\"\",\"\",'2.Logbook'!F179)","v":""},{"$f":"IF('2.Logbook'!G179=\"\",\"\",'2.Logbook'!G179)","v":""},{"$f":"IF('2.Logbook'!H179=\"\",\"\",'2.Logbook'!H179)","v":""},{"$f":"IF('2.Logbook'!I179=\"\",\"\",'2.Logbook'!I179)","v":""},{"$f":"IF('2.Logbook'!J179=\"\",\"\",'2.Logbook'!J179)","v":""},{"$f":"IF('2.Logbook'!K179=\"\",\"\",'2.Logbook'!K179)","v":""},{"$f":"IF('2.Logbook'!L179=\"\",\"\",'2.Logbook'!L179)","v":""},{"$f":"IF('2.Logbook'!M179=\"\",\"\",'2.Logbook'!M179)","v":""},{"$f":"IF('2.Logbook'!N179=\"\",\"\",'2.Logbook'!N179)","v":""},{"$f":"IF('2.Logbook'!O179=\"\",\"\",'2.Logbook'!O179)","v":""},{"$f":"IF('2.Logbook'!P179=\"\",\"\",'2.Logbook'!P179)","v":""},{"$f":"IF('2.Logbook'!Q179=\"\",\"\",'2.Logbook'!Q179)","v":""},{"$f":"IF('2.Logbook'!R179=\"\",\"\",'2.Logbook'!R179)","v":""},{"$f":"IF('2.Logbook'!S179=\"\",\"\",'2.Logbook'!S179)","v":""},{"$f":"IF('2.Logbook'!T179=\"\",\"\",'2.Logbook'!T179)","v":""},{"$f":"IF('2.Logbook'!U179=\"\",\"\",'2.Logbook'!U179)","v":""},{"$f":"IF('2.Logbook'!V179=\"\",\"\",'2.Logbook'!V179)","v":""},{"$f":"IF('2.Logbook'!W179=\"\",\"\",'2.Logbook'!W179)","v":""},{"$f":"IF('2.Logbook'!X179=\"\",\"\",'2.Logbook'!X179)","v":""},{"$f":"IF('2.Logbook'!Y179=\"\",\"\",'2.Logbook'!Y179)","v":""},{"$f":"IF('2.Logbook'!Z179=\"\",\"\",'2.Logbook'!Z179)","v":""},{"$f":"IF('2.Logbook'!AA179=\"\",\"\",'2.Logbook'!AA179)","v":""},{"$f":"IF('2.Logbook'!AB179=\"\",\"\",'2.Logbook'!AB179)","v":""},{"$f":"IF('2.Logbook'!AC179=\"\",\"\",'2.Logbook'!AC179)","v":""},{"$f":"IF('2.Logbook'!AD179=\"\",\"\",'2.Logbook'!AD179)","v":""},{"$f":"IF('2.Logbook'!AE179=\"\",\"\",'2.Logbook'!AE179)","v":""},{"$f":"IF('2.Logbook'!AF179=\"\",\"\",'2.Logbook'!AF179)","v":""},{"$f":"IF('2.Logbook'!AG179=\"\",\"\",'2.Logbook'!AG179)","v":""}]
[{"$f":"IF('2.Logbook'!A180=\"\",\"\",'2.Logbook'!A180)","v":""},{"$f":"IF('2.Logbook'!B180=\"\",\"\",'2.Logbook'!B180)","v":""},{"$f":"IF('2.Logbook'!C180=\"\",\"\",'2.Logbook'!C180)","v":""},{"$f":"IF('2.Logbook'!D180=\"\",\"\",'2.Logbook'!D180)","v":""},{"$f":"IF('2.Logbook'!E180=\"\",\"\",'2.Logbook'!E180)","v":""},{"$f":"IF('2.Logbook'!F180=\"\",\"\",'2.Logbook'!F180)","v":""},{"$f":"IF('2.Logbook'!G180=\"\",\"\",'2.Logbook'!G180)","v":""},{"$f":"IF('2.Logbook'!H180=\"\",\"\",'2.Logbook'!H180)","v":""},{"$f":"IF('2.Logbook'!I180=\"\",\"\",'2.Logbook'!I180)","v":""},{"$f":"IF('2.Logbook'!J180=\"\",\"\",'2.Logbook'!J180)","v":""},{"$f":"IF('2.Logbook'!K180=\"\",\"\",'2.Logbook'!K180)","v":""},{"$f":"IF('2.Logbook'!L180=\"\",\"\",'2.Logbook'!L180)","v":""},{"$f":"IF('2.Logbook'!M180=\"\",\"\",'2.Logbook'!M180)","v":""},{"$f":"IF('2.Logbook'!N180=\"\",\"\",'2.Logbook'!N180)","v":""},{"$f":"IF('2.Logbook'!O180=\"\",\"\",'2.Logbook'!O180)","v":""},{"$f":"IF('2.Logbook'!P180=\"\",\"\",'2.Logbook'!P180)","v":""},{"$f":"IF('2.Logbook'!Q180=\"\",\"\",'2.Logbook'!Q180)","v":""},{"$f":"IF('2.Logbook'!R180=\"\",\"\",'2.Logbook'!R180)","v":""},{"$f":"IF('2.Logbook'!S180=\"\",\"\",'2.Logbook'!S180)","v":""},{"$f":"IF('2.Logbook'!T180=\"\",\"\",'2.Logbook'!T180)","v":""},{"$f":"IF('2.Logbook'!U180=\"\",\"\",'2.Logbook'!U180)","v":""},{"$f":"IF('2.Logbook'!V180=\"\",\"\",'2.Logbook'!V180)","v":""},{"$f":"IF('2.Logbook'!W180=\"\",\"\",'2.Logbook'!W180)","v":""},{"$f":"IF('2.Logbook'!X180=\"\",\"\",'2.Logbook'!X180)","v":""},{"$f":"IF('2.Logbook'!Y180=\"\",\"\",'2.Logbook'!Y180)","v":""},{"$f":"IF('2.Logbook'!Z180=\"\",\"\",'2.Logbook'!Z180)","v":""},{"$f":"IF('2.Logbook'!AA180=\"\",\"\",'2.Logbook'!AA180)","v":""},{"$f":"IF('2.Logbook'!AB180=\"\",\"\",'2.Logbook'!AB180)","v":""},{"$f":"IF('2.Logbook'!AC180=\"\",\"\",'2.Logbook'!AC180)","v":""},{"$f":"IF('2.Logbook'!AD180=\"\",\"\",'2.Logbook'!AD180)","v":""},{"$f":"IF('2.Logbook'!AE180=\"\",\"\",'2.Logbook'!AE180)","v":""},{"$f":"IF('2.Logbook'!AF180=\"\",\"\",'2.Logbook'!AF180)","v":""},{"$f":"IF('2.Logbook'!AG180=\"\",\"\",'2.Logbook'!AG180)","v":""}]
[{"$f":"IF('2.Logbook'!A181=\"\",\"\",'2.Logbook'!A181)","v":""},{"$f":"IF('2.Logbook'!B181=\"\",\"\",'2.Logbook'!B181)","v":""},{"$f":"IF('2.Logbook'!C181=\"\",\"\",'2.Logbook'!C181)","v":""},{"$f":"IF('2.Logbook'!D181=\"\",\"\",'2.Logbook'!D181)","v":""},{"$f":"IF('2.Logbook'!E181=\"\",\"\",'2.Logbook'!E181)","v":""},{"$f":"IF('2.Logbook'!F181=\"\",\"\",'2.Logbook'!F181)","v":""},{"$f":"IF('2.Logbook'!G181=\"\",\"\",'2.Logbook'!G181)","v":""},{"$f":"IF('2.Logbook'!H181=\"\",\"\",'2.Logbook'!H181)","v":""},{"$f":"IF('2.Logbook'!I181=\"\",\"\",'2.Logbook'!I181)","v":""},{"$f":"IF('2.Logbook'!J181=\"\",\"\",'2.Logbook'!J181)","v":""},{"$f":"IF('2.Logbook'!K181=\"\",\"\",'2.Logbook'!K181)","v":""},{"$f":"IF('2.Logbook'!L181=\"\",\"\",'2.Logbook'!L181)","v":""},{"$f":"IF('2.Logbook'!M181=\"\",\"\",'2.Logbook'!M181)","v":""},{"$f":"IF('2.Logbook'!N181=\"\",\"\",'2.Logbook'!N181)","v":""},{"$f":"IF('2.Logbook'!O181=\"\",\"\",'2.Logbook'!O181)","v":""},{"$f":"IF('2.Logbook'!P181=\"\",\"\",'2.Logbook'!P181)","v":""},{"$f":"IF('2.Logbook'!Q181=\"\",\"\",'2.Logbook'!Q181)","v":""},{"$f":"IF('2.Logbook'!R181=\"\",\"\",'2.Logbook'!R181)","v":""},{"$f":"IF('2.Logbook'!S181=\"\",\"\",'2.Logbook'!S181)","v":""},{"$f":"IF('2.Logbook'!T181=\"\",\"\",'2.Logbook'!T181)","v":""},{"$f":"IF('2.Logbook'!U181=\"\",\"\",'2.Logbook'!U181)","v":""},{"$f":"IF('2.Logbook'!V181=\"\",\"\",'2.Logbook'!V181)","v":""},{"$f":"IF('2.Logbook'!W181=\"\",\"\",'2.Logbook'!W181)","v":""},{"$f":"IF('2.Logbook'!X181=\"\",\"\",'2.Logbook'!X181)","v":""},{"$f":"IF('2.Logbook'!Y181=\"\",\"\",'2.Logbook'!Y181)","v":""},{"$f":"IF('2.Logbook'!Z181=\"\",\"\",'2.Logbook'!Z181)","v":""},{"$f":"IF('2.Logbook'!AA181=\"\",\"\",'2.Logbook'!AA181)","v":""},{"$f":"IF('2.Logbook'!AB181=\"\",\"\",'2.Logbook'!AB181)","v":""},{"$f":"IF('2.Logbook'!AC181=\"\",\"\",'2.Logbook'!AC181)","v":""},{"$f":"IF('2.Logbook'!AD181=\"\",\"\",'2.Logbook'!AD181)","v":""},{"$f":"IF('2.Logbook'!AE181=\"\",\"\",'2.Logbook'!AE181)","v":""},{"$f":"IF('2.Logbook'!AF181=\"\",\"\",'2.Logbook'!AF181)","v":""},{"$f":"IF('2.Logbook'!AG181=\"\",\"\",'2.Logbook'!AG181)","v":""}]
[{"$f":"IF('2.Logbook'!A182=\"\",\"\",'2.Logbook'!A182)","v":""},{"$f":"IF('2.Logbook'!B182=\"\",\"\",'2.Logbook'!B182)","v":""},{"$f":"IF('2.Logbook'!C182=\"\",\"\",'2.Logbook'!C182)","v":""},{"$f":"IF('2.Logbook'!D182=\"\",\"\",'2.Logbook'!D182)","v":""},{"$f":"IF('2.Logbook'!E182=\"\",\"\",'2.Logbook'!E182)","v":""},{"$f":"IF('2.Logbook'!F182=\"\",\"\",'2.Logbook'!F182)","v":""},{"$f":"IF('2.Logbook'!G182=\"\",\"\",'2.Logbook'!G182)","v":""},{"$f":"IF('2.Logbook'!H182=\"\",\"\",'2.Logbook'!H182)","v":""},{"$f":"IF('2.Logbook'!I182=\"\",\"\",'2.Logbook'!I182)","v":""},{"$f":"IF('2.Logbook'!J182=\"\",\"\",'2.Logbook'!J182)","v":""},{"$f":"IF('2.Logbook'!K182=\"\",\"\",'2.Logbook'!K182)","v":""},{"$f":"IF('2.Logbook'!L182=\"\",\"\",'2.Logbook'!L182)","v":""},{"$f":"IF('2.Logbook'!M182=\"\",\"\",'2.Logbook'!M182)","v":""},{"$f":"IF('2.Logbook'!N182=\"\",\"\",'2.Logbook'!N182)","v":""},{"$f":"IF('2.Logbook'!O182=\"\",\"\",'2.Logbook'!O182)","v":""},{"$f":"IF('2.Logbook'!P182=\"\",\"\",'2.Logbook'!P182)","v":""},{"$f":"IF('2.Logbook'!Q182=\"\",\"\",'2.Logbook'!Q182)","v":""},{"$f":"IF('2.Logbook'!R182=\"\",\"\",'2.Logbook'!R182)","v":""},{"$f":"IF('2.Logbook'!S182=\"\",\"\",'2.Logbook'!S182)","v":""},{"$f":"IF('2.Logbook'!T182=\"\",\"\",'2.Logbook'!T182)","v":""},{"$f":"IF('2.Logbook'!U182=\"\",\"\",'2.Logbook'!U182)","v":""},{"$f":"IF('2.Logbook'!V182=\"\",\"\",'2.Logbook'!V182)","v":""},{"$f":"IF('2.Logbook'!W182=\"\",\"\",'2.Logbook'!W182)","v":""},{"$f":"IF('2.Logbook'!X182=\"\",\"\",'2.Logbook'!X182)","v":""},{"$f":"IF('2.Logbook'!Y182=\"\",\"\",'2.Logbook'!Y182)","v":""},{"$f":"IF('2.Logbook'!Z182=\"\",\"\",'2.Logbook'!Z182)","v":""},{"$f":"IF('2.Logbook'!AA182=\"\",\"\",'2.Logbook'!AA182)","v":""},{"$f":"IF('2.Logbook'!AB182=\"\",\"\",'2.Logbook'!AB182)","v":""},{"$f":"IF('2.Logbook'!AC182=\"\",\"\",'2.Logbook'!AC182)","v":""},{"$f":"IF('2.Logbook'!AD182=\"\",\"\",'2.Logbook'!AD182)","v":""},{"$f":"IF('2.Logbook'!AE182=\"\",\"\",'2.Logbook'!AE182)","v":""},{"$f":"IF('2.Logbook'!AF182=\"\",\"\",'2.Logbook'!AF182)","v":""},{"$f":"IF('2.Logbook'!AG182=\"\",\"\",'2.Logbook'!AG182)","v":""}]
[{"$f":"IF('2.Logbook'!A183=\"\",\"\",'2.Logbook'!A183)","v":""},{"$f":"IF('2.Logbook'!B183=\"\",\"\",'2.Logbook'!B183)","v":""},{"$f":"IF('2.Logbook'!C183=\"\",\"\",'2.Logbook'!C183)","v":""},{"$f":"IF('2.Logbook'!D183=\"\",\"\",'2.Logbook'!D183)","v":""},{"$f":"IF('2.Logbook'!E183=\"\",\"\",'2.Logbook'!E183)","v":""},{"$f":"IF('2.Logbook'!F183=\"\",\"\",'2.Logbook'!F183)","v":""},{"$f":"IF('2.Logbook'!G183=\"\",\"\",'2.Logbook'!G183)","v":""},{"$f":"IF('2.Logbook'!H183=\"\",\"\",'2.Logbook'!H183)","v":""},{"$f":"IF('2.Logbook'!I183=\"\",\"\",'2.Logbook'!I183)","v":""},{"$f":"IF('2.Logbook'!J183=\"\",\"\",'2.Logbook'!J183)","v":""},{"$f":"IF('2.Logbook'!K183=\"\",\"\",'2.Logbook'!K183)","v":""},{"$f":"IF('2.Logbook'!L183=\"\",\"\",'2.Logbook'!L183)","v":""},{"$f":"IF('2.Logbook'!M183=\"\",\"\",'2.Logbook'!M183)","v":""},{"$f":"IF('2.Logbook'!N183=\"\",\"\",'2.Logbook'!N183)","v":""},{"$f":"IF('2.Logbook'!O183=\"\",\"\",'2.Logbook'!O183)","v":""},{"$f":"IF('2.Logbook'!P183=\"\",\"\",'2.Logbook'!P183)","v":""},{"$f":"IF('2.Logbook'!Q183=\"\",\"\",'2.Logbook'!Q183)","v":""},{"$f":"IF('2.Logbook'!R183=\"\",\"\",'2.Logbook'!R183)","v":""},{"$f":"IF('2.Logbook'!S183=\"\",\"\",'2.Logbook'!S183)","v":""},{"$f":"IF('2.Logbook'!T183=\"\",\"\",'2.Logbook'!T183)","v":""},{"$f":"IF('2.Logbook'!U183=\"\",\"\",'2.Logbook'!U183)","v":""},{"$f":"IF('2.Logbook'!V183=\"\",\"\",'2.Logbook'!V183)","v":""},{"$f":"IF('2.Logbook'!W183=\"\",\"\",'2.Logbook'!W183)","v":""},{"$f":"IF('2.Logbook'!X183=\"\",\"\",'2.Logbook'!X183)","v":""},{"$f":"IF('2.Logbook'!Y183=\"\",\"\",'2.Logbook'!Y183)","v":""},{"$f":"IF('2.Logbook'!Z183=\"\",\"\",'2.Logbook'!Z183)","v":""},{"$f":"IF('2.Logbook'!AA183=\"\",\"\",'2.Logbook'!AA183)","v":""},{"$f":"IF('2.Logbook'!AB183=\"\",\"\",'2.Logbook'!AB183)","v":""},{"$f":"IF('2.Logbook'!AC183=\"\",\"\",'2.Logbook'!AC183)","v":""},{"$f":"IF('2.Logbook'!AD183=\"\",\"\",'2.Logbook'!AD183)","v":""},{"$f":"IF('2.Logbook'!AE183=\"\",\"\",'2.Logbook'!AE183)","v":""},{"$f":"IF('2.Logbook'!AF183=\"\",\"\",'2.Logbook'!AF183)","v":""},{"$f":"IF('2.Logbook'!AG183=\"\",\"\",'2.Logbook'!AG183)","v":""}]
[{"$f":"IF('2.Logbook'!A184=\"\",\"\",'2.Logbook'!A184)","v":""},{"$f":"IF('2.Logbook'!B184=\"\",\"\",'2.Logbook'!B184)","v":""},{"$f":"IF('2.Logbook'!C184=\"\",\"\",'2.Logbook'!C184)","v":""},{"$f":"IF('2.Logbook'!D184=\"\",\"\",'2.Logbook'!D184)","v":""},{"$f":"IF('2.Logbook'!E184=\"\",\"\",'2.Logbook'!E184)","v":""},{"$f":"IF('2.Logbook'!F184=\"\",\"\",'2.Logbook'!F184)","v":""},{"$f":"IF('2.Logbook'!G184=\"\",\"\",'2.Logbook'!G184)","v":""},{"$f":"IF('2.Logbook'!H184=\"\",\"\",'2.Logbook'!H184)","v":""},{"$f":"IF('2.Logbook'!I184=\"\",\"\",'2.Logbook'!I184)","v":""},{"$f":"IF('2.Logbook'!J184=\"\",\"\",'2.Logbook'!J184)","v":""},{"$f":"IF('2.Logbook'!K184=\"\",\"\",'2.Logbook'!K184)","v":""},{"$f":"IF('2.Logbook'!L184=\"\",\"\",'2.Logbook'!L184)","v":""},{"$f":"IF('2.Logbook'!M184=\"\",\"\",'2.Logbook'!M184)","v":""},{"$f":"IF('2.Logbook'!N184=\"\",\"\",'2.Logbook'!N184)","v":""},{"$f":"IF('2.Logbook'!O184=\"\",\"\",'2.Logbook'!O184)","v":""},{"$f":"IF('2.Logbook'!P184=\"\",\"\",'2.Logbook'!P184)","v":""},{"$f":"IF('2.Logbook'!Q184=\"\",\"\",'2.Logbook'!Q184)","v":""},{"$f":"IF('2.Logbook'!R184=\"\",\"\",'2.Logbook'!R184)","v":""},{"$f":"IF('2.Logbook'!S184=\"\",\"\",'2.Logbook'!S184)","v":""},{"$f":"IF('2.Logbook'!T184=\"\",\"\",'2.Logbook'!T184)","v":""},{"$f":"IF('2.Logbook'!U184=\"\",\"\",'2.Logbook'!U184)","v":""},{"$f":"IF('2.Logbook'!V184=\"\",\"\",'2.Logbook'!V184)","v":""},{"$f":"IF('2.Logbook'!W184=\"\",\"\",'2.Logbook'!W184)","v":""},{"$f":"IF('2.Logbook'!X184=\"\",\"\",'2.Logbook'!X184)","v":""},{"$f":"IF('2.Logbook'!Y184=\"\",\"\",'2.Logbook'!Y184)","v":""},{"$f":"IF('2.Logbook'!Z184=\"\",\"\",'2.Logbook'!Z184)","v":""},{"$f":"IF('2.Logbook'!AA184=\"\",\"\",'2.Logbook'!AA184)","v":""},{"$f":"IF('2.Logbook'!AB184=\"\",\"\",'2.Logbook'!AB184)","v":""},{"$f":"IF('2.Logbook'!AC184=\"\",\"\",'2.Logbook'!AC184)","v":""},{"$f":"IF('2.Logbook'!AD184=\"\",\"\",'2.Logbook'!AD184)","v":""},{"$f":"IF('2.Logbook'!AE184=\"\",\"\",'2.Logbook'!AE184)","v":""},{"$f":"IF('2.Logbook'!AF184=\"\",\"\",'2.Logbook'!AF184)","v":""},{"$f":"IF('2.Logbook'!AG184=\"\",\"\",'2.Logbook'!AG184)","v":""}]
[{"$f":"IF('2.Logbook'!A185=\"\",\"\",'2.Logbook'!A185)","v":""},{"$f":"IF('2.Logbook'!B185=\"\",\"\",'2.Logbook'!B185)","v":""},{"$f":"IF('2.Logbook'!C185=\"\",\"\",'2.Logbook'!C185)","v":""},{"$f":"IF('2.Logbook'!D185=\"\",\"\",'2.Logbook'!D185)","v":""},{"$f":"IF('2.Logbook'!E185=\"\",\"\",'2.Logbook'!E185)","v":""},{"$f":"IF('2.Logbook'!F185=\"\",\"\",'2.Logbook'!F185)","v":""},{"$f":"IF('2.Logbook'!G185=\"\",\"\",'2.Logbook'!G185)","v":""},{"$f":"IF('2.Logbook'!H185=\"\",\"\",'2.Logbook'!H185)","v":""},{"$f":"IF('2.Logbook'!I185=\"\",\"\",'2.Logbook'!I185)","v":""},{"$f":"IF('2.Logbook'!J185=\"\",\"\",'2.Logbook'!J185)","v":""},{"$f":"IF('2.Logbook'!K185=\"\",\"\",'2.Logbook'!K185)","v":""},{"$f":"IF('2.Logbook'!L185=\"\",\"\",'2.Logbook'!L185)","v":""},{"$f":"IF('2.Logbook'!M185=\"\",\"\",'2.Logbook'!M185)","v":""},{"$f":"IF('2.Logbook'!N185=\"\",\"\",'2.Logbook'!N185)","v":""},{"$f":"IF('2.Logbook'!O185=\"\",\"\",'2.Logbook'!O185)","v":""},{"$f":"IF('2.Logbook'!P185=\"\",\"\",'2.Logbook'!P185)","v":""},{"$f":"IF('2.Logbook'!Q185=\"\",\"\",'2.Logbook'!Q185)","v":""},{"$f":"IF('2.Logbook'!R185=\"\",\"\",'2.Logbook'!R185)","v":""},{"$f":"IF('2.Logbook'!S185=\"\",\"\",'2.Logbook'!S185)","v":""},{"$f":"IF('2.Logbook'!T185=\"\",\"\",'2.Logbook'!T185)","v":""},{"$f":"IF('2.Logbook'!U185=\"\",\"\",'2.Logbook'!U185)","v":""},{"$f":"IF('2.Logbook'!V185=\"\",\"\",'2.Logbook'!V185)","v":""},{"$f":"IF('2.Logbook'!W185=\"\",\"\",'2.Logbook'!W185)","v":""},{"$f":"IF('2.Logbook'!X185=\"\",\"\",'2.Logbook'!X185)","v":""},{"$f":"IF('2.Logbook'!Y185=\"\",\"\",'2.Logbook'!Y185)","v":""},{"$f":"IF('2.Logbook'!Z185=\"\",\"\",'2.Logbook'!Z185)","v":""},{"$f":"IF('2.Logbook'!AA185=\"\",\"\",'2.Logbook'!AA185)","v":""},{"$f":"IF('2.Logbook'!AB185=\"\",\"\",'2.Logbook'!AB185)","v":""},{"$f":"IF('2.Logbook'!AC185=\"\",\"\",'2.Logbook'!AC185)","v":""},{"$f":"IF('2.Logbook'!AD185=\"\",\"\",'2.Logbook'!AD185)","v":""},{"$f":"IF('2.Logbook'!AE185=\"\",\"\",'2.Logbook'!AE185)","v":""},{"$f":"IF('2.Logbook'!AF185=\"\",\"\",'2.Logbook'!AF185)","v":""},{"$f":"IF('2.Logbook'!AG185=\"\",\"\",'2.Logbook'!AG185)","v":""}]
[{"$f":"IF('2.Logbook'!A186=\"\",\"\",'2.Logbook'!A186)","v":""},{"$f":"IF('2.Logbook'!B186=\"\",\"\",'2.Logbook'!B186)","v":""},{"$f":"IF('2.Logbook'!C186=\"\",\"\",'2.Logbook'!C186)","v":""},{"$f":"IF('2.Logbook'!D186=\"\",\"\",'2.Logbook'!D186)","v":""},{"$f":"IF('2.Logbook'!E186=\"\",\"\",'2.Logbook'!E186)","v":""},{"$f":"IF('2.Logbook'!F186=\"\",\"\",'2.Logbook'!F186)","v":""},{"$f":"IF('2.Logbook'!G186=\"\",\"\",'2.Logbook'!G186)","v":""},{"$f":"IF('2.Logbook'!H186=\"\",\"\",'2.Logbook'!H186)","v":""},{"$f":"IF('2.Logbook'!I186=\"\",\"\",'2.Logbook'!I186)","v":""},{"$f":"IF('2.Logbook'!J186=\"\",\"\",'2.Logbook'!J186)","v":""},{"$f":"IF('2.Logbook'!K186=\"\",\"\",'2.Logbook'!K186)","v":""},{"$f":"IF('2.Logbook'!L186=\"\",\"\",'2.Logbook'!L186)","v":""},{"$f":"IF('2.Logbook'!M186=\"\",\"\",'2.Logbook'!M186)","v":""},{"$f":"IF('2.Logbook'!N186=\"\",\"\",'2.Logbook'!N186)","v":""},{"$f":"IF('2.Logbook'!O186=\"\",\"\",'2.Logbook'!O186)","v":""},{"$f":"IF('2.Logbook'!P186=\"\",\"\",'2.Logbook'!P186)","v":""},{"$f":"IF('2.Logbook'!Q186=\"\",\"\",'2.Logbook'!Q186)","v":""},{"$f":"IF('2.Logbook'!R186=\"\",\"\",'2.Logbook'!R186)","v":""},{"$f":"IF('2.Logbook'!S186=\"\",\"\",'2.Logbook'!S186)","v":""},{"$f":"IF('2.Logbook'!T186=\"\",\"\",'2.Logbook'!T186)","v":""},{"$f":"IF('2.Logbook'!U186=\"\",\"\",'2.Logbook'!U186)","v":""},{"$f":"IF('2.Logbook'!V186=\"\",\"\",'2.Logbook'!V186)","v":""},{"$f":"IF('2.Logbook'!W186=\"\",\"\",'2.Logbook'!W186)","v":""},{"$f":"IF('2.Logbook'!X186=\"\",\"\",'2.Logbook'!X186)","v":""},{"$f":"IF('2.Logbook'!Y186=\"\",\"\",'2.Logbook'!Y186)","v":""},{"$f":"IF('2.Logbook'!Z186=\"\",\"\",'2.Logbook'!Z186)","v":""},{"$f":"IF('2.Logbook'!AA186=\"\",\"\",'2.Logbook'!AA186)","v":""},{"$f":"IF('2.Logbook'!AB186=\"\",\"\",'2.Logbook'!AB186)","v":""},{"$f":"IF('2.Logbook'!AC186=\"\",\"\",'2.Logbook'!AC186)","v":""},{"$f":"IF('2.Logbook'!AD186=\"\",\"\",'2.Logbook'!AD186)","v":""},{"$f":"IF('2.Logbook'!AE186=\"\",\"\",'2.Logbook'!AE186)","v":""},{"$f":"IF('2.Logbook'!AF186=\"\",\"\",'2.Logbook'!AF186)","v":""},{"$f":"IF('2.Logbook'!AG186=\"\",\"\",'2.Logbook'!AG186)","v":""}]
[{"$f":"IF('2.Logbook'!A187=\"\",\"\",'2.Logbook'!A187)","v":""},{"$f":"IF('2.Logbook'!B187=\"\",\"\",'2.Logbook'!B187)","v":""},{"$f":"IF('2.Logbook'!C187=\"\",\"\",'2.Logbook'!C187)","v":""},{"$f":"IF('2.Logbook'!D187=\"\",\"\",'2.Logbook'!D187)","v":""},{"$f":"IF('2.Logbook'!E187=\"\",\"\",'2.Logbook'!E187)","v":""},{"$f":"IF('2.Logbook'!F187=\"\",\"\",'2.Logbook'!F187)","v":""},{"$f":"IF('2.Logbook'!G187=\"\",\"\",'2.Logbook'!G187)","v":""},{"$f":"IF('2.Logbook'!H187=\"\",\"\",'2.Logbook'!H187)","v":""},{"$f":"IF('2.Logbook'!I187=\"\",\"\",'2.Logbook'!I187)","v":""},{"$f":"IF('2.Logbook'!J187=\"\",\"\",'2.Logbook'!J187)","v":""},{"$f":"IF('2.Logbook'!K187=\"\",\"\",'2.Logbook'!K187)","v":""},{"$f":"IF('2.Logbook'!L187=\"\",\"\",'2.Logbook'!L187)","v":""},{"$f":"IF('2.Logbook'!M187=\"\",\"\",'2.Logbook'!M187)","v":""},{"$f":"IF('2.Logbook'!N187=\"\",\"\",'2.Logbook'!N187)","v":""},{"$f":"IF('2.Logbook'!O187=\"\",\"\",'2.Logbook'!O187)","v":""},{"$f":"IF('2.Logbook'!P187=\"\",\"\",'2.Logbook'!P187)","v":""},{"$f":"IF('2.Logbook'!Q187=\"\",\"\",'2.Logbook'!Q187)","v":""},{"$f":"IF('2.Logbook'!R187=\"\",\"\",'2.Logbook'!R187)","v":""},{"$f":"IF('2.Logbook'!S187=\"\",\"\",'2.Logbook'!S187)","v":""},{"$f":"IF('2.Logbook'!T187=\"\",\"\",'2.Logbook'!T187)","v":""},{"$f":"IF('2.Logbook'!U187=\"\",\"\",'2.Logbook'!U187)","v":""},{"$f":"IF('2.Logbook'!V187=\"\",\"\",'2.Logbook'!V187)","v":""},{"$f":"IF('2.Logbook'!W187=\"\",\"\",'2.Logbook'!W187)","v":""},{"$f":"IF('2.Logbook'!X187=\"\",\"\",'2.Logbook'!X187)","v":""},{"$f":"IF('2.Logbook'!Y187=\"\",\"\",'2.Logbook'!Y187)","v":""},{"$f":"IF('2.Logbook'!Z187=\"\",\"\",'2.Logbook'!Z187)","v":""},{"$f":"IF('2.Logbook'!AA187=\"\",\"\",'2.Logbook'!AA187)","v":""},{"$f":"IF('2.Logbook'!AB187=\"\",\"\",'2.Logbook'!AB187)","v":""},{"$f":"IF('2.Logbook'!AC187=\"\",\"\",'2.Logbook'!AC187)","v":""},{"$f":"IF('2.Logbook'!AD187=\"\",\"\",'2.Logbook'!AD187)","v":""},{"$f":"IF('2.Logbook'!AE187=\"\",\"\",'2.Logbook'!AE187)","v":""},{"$f":"IF('2.Logbook'!AF187=\"\",\"\",'2.Logbook'!AF187)","v":""},{"$f":"IF('2.Logbook'!AG187=\"\",\"\",'2.Logbook'!AG187)","v":""}]
[{"$f":"IF('2.Logbook'!A188=\"\",\"\",'2.Logbook'!A188)","v":""},{"$f":"IF('2.Logbook'!B188=\"\",\"\",'2.Logbook'!B188)","v":""},{"$f":"IF('2.Logbook'!C188=\"\",\"\",'2.Logbook'!C188)","v":""},{"$f":"IF('2.Logbook'!D188=\"\",\"\",'2.Logbook'!D188)","v":""},{"$f":"IF('2.Logbook'!E188=\"\",\"\",'2.Logbook'!E188)","v":""},{"$f":"IF('2.Logbook'!F188=\"\",\"\",'2.Logbook'!F188)","v":""},{"$f":"IF('2.Logbook'!G188=\"\",\"\",'2.Logbook'!G188)","v":""},{"$f":"IF('2.Logbook'!H188=\"\",\"\",'2.Logbook'!H188)","v":""},{"$f":"IF('2.Logbook'!I188=\"\",\"\",'2.Logbook'!I188)","v":""},{"$f":"IF('2.Logbook'!J188=\"\",\"\",'2.Logbook'!J188)","v":""},{"$f":"IF('2.Logbook'!K188=\"\",\"\",'2.Logbook'!K188)","v":""},{"$f":"IF('2.Logbook'!L188=\"\",\"\",'2.Logbook'!L188)","v":""},{"$f":"IF('2.Logbook'!M188=\"\",\"\",'2.Logbook'!M188)","v":""},{"$f":"IF('2.Logbook'!N188=\"\",\"\",'2.Logbook'!N188)","v":""},{"$f":"IF('2.Logbook'!O188=\"\",\"\",'2.Logbook'!O188)","v":""},{"$f":"IF('2.Logbook'!P188=\"\",\"\",'2.Logbook'!P188)","v":""},{"$f":"IF('2.Logbook'!Q188=\"\",\"\",'2.Logbook'!Q188)","v":""},{"$f":"IF('2.Logbook'!R188=\"\",\"\",'2.Logbook'!R188)","v":""},{"$f":"IF('2.Logbook'!S188=\"\",\"\",'2.Logbook'!S188)","v":""},{"$f":"IF('2.Logbook'!T188=\"\",\"\",'2.Logbook'!T188)","v":""},{"$f":"IF('2.Logbook'!U188=\"\",\"\",'2.Logbook'!U188)","v":""},{"$f":"IF('2.Logbook'!V188=\"\",\"\",'2.Logbook'!V188)","v":""},{"$f":"IF('2.Logbook'!W188=\"\",\"\",'2.Logbook'!W188)","v":""},{"$f":"IF('2.Logbook'!X188=\"\",\"\",'2.Logbook'!X188)","v":""},{"$f":"IF('2.Logbook'!Y188=\"\",\"\",'2.Logbook'!Y188)","v":""},{"$f":"IF('2.Logbook'!Z188=\"\",\"\",'2.Logbook'!Z188)","v":""},{"$f":"IF('2.Logbook'!AA188=\"\",\"\",'2.Logbook'!AA188)","v":""},{"$f":"IF('2.Logbook'!AB188=\"\",\"\",'2.Logbook'!AB188)","v":""},{"$f":"IF('2.Logbook'!AC188=\"\",\"\",'2.Logbook'!AC188)","v":""},{"$f":"IF('2.Logbook'!AD188=\"\",\"\",'2.Logbook'!AD188)","v":""},{"$f":"IF('2.Logbook'!AE188=\"\",\"\",'2.Logbook'!AE188)","v":""},{"$f":"IF('2.Logbook'!AF188=\"\",\"\",'2.Logbook'!AF188)","v":""},{"$f":"IF('2.Logbook'!AG188=\"\",\"\",'2.Logbook'!AG188)","v":""}]
[{"$f":"IF('2.Logbook'!A189=\"\",\"\",'2.Logbook'!A189)","v":""},{"$f":"IF('2.Logbook'!B189=\"\",\"\",'2.Logbook'!B189)","v":""},{"$f":"IF('2.Logbook'!C189=\"\",\"\",'2.Logbook'!C189)","v":""},{"$f":"IF('2.Logbook'!D189=\"\",\"\",'2.Logbook'!D189)","v":""},{"$f":"IF('2.Logbook'!E189=\"\",\"\",'2.Logbook'!E189)","v":""},{"$f":"IF('2.Logbook'!F189=\"\",\"\",'2.Logbook'!F189)","v":""},{"$f":"IF('2.Logbook'!G189=\"\",\"\",'2.Logbook'!G189)","v":""},{"$f":"IF('2.Logbook'!H189=\"\",\"\",'2.Logbook'!H189)","v":""},{"$f":"IF('2.Logbook'!I189=\"\",\"\",'2.Logbook'!I189)","v":""},{"$f":"IF('2.Logbook'!J189=\"\",\"\",'2.Logbook'!J189)","v":""},{"$f":"IF('2.Logbook'!K189=\"\",\"\",'2.Logbook'!K189)","v":""},{"$f":"IF('2.Logbook'!L189=\"\",\"\",'2.Logbook'!L189)","v":""},{"$f":"IF('2.Logbook'!M189=\"\",\"\",'2.Logbook'!M189)","v":""},{"$f":"IF('2.Logbook'!N189=\"\",\"\",'2.Logbook'!N189)","v":""},{"$f":"IF('2.Logbook'!O189=\"\",\"\",'2.Logbook'!O189)","v":""},{"$f":"IF('2.Logbook'!P189=\"\",\"\",'2.Logbook'!P189)","v":""},{"$f":"IF('2.Logbook'!Q189=\"\",\"\",'2.Logbook'!Q189)","v":""},{"$f":"IF('2.Logbook'!R189=\"\",\"\",'2.Logbook'!R189)","v":""},{"$f":"IF('2.Logbook'!S189=\"\",\"\",'2.Logbook'!S189)","v":""},{"$f":"IF('2.Logbook'!T189=\"\",\"\",'2.Logbook'!T189)","v":""},{"$f":"IF('2.Logbook'!U189=\"\",\"\",'2.Logbook'!U189)","v":""},{"$f":"IF('2.Logbook'!V189=\"\",\"\",'2.Logbook'!V189)","v":""},{"$f":"IF('2.Logbook'!W189=\"\",\"\",'2.Logbook'!W189)","v":""},{"$f":"IF('2.Logbook'!X189=\"\",\"\",'2.Logbook'!X189)","v":""},{"$f":"IF('2.Logbook'!Y189=\"\",\"\",'2.Logbook'!Y189)","v":""},{"$f":"IF('2.Logbook'!Z189=\"\",\"\",'2.Logbook'!Z189)","v":""},{"$f":"IF('2.Logbook'!AA189=\"\",\"\",'2.Logbook'!AA189)","v":""},{"$f":"IF('2.Logbook'!AB189=\"\",\"\",'2.Logbook'!AB189)","v":""},{"$f":"IF('2.Logbook'!AC189=\"\",\"\",'2.Logbook'!AC189)","v":""},{"$f":"IF('2.Logbook'!AD189=\"\",\"\",'2.Logbook'!AD189)","v":""},{"$f":"IF('2.Logbook'!AE189=\"\",\"\",'2.Logbook'!AE189)","v":""},{"$f":"IF('2.Logbook'!AF189=\"\",\"\",'2.Logbook'!AF189)","v":""},{"$f":"IF('2.Logbook'!AG189=\"\",\"\",'2.Logbook'!AG189)","v":""}]
[{"$f":"IF('2.Logbook'!A190=\"\",\"\",'2.Logbook'!A190)","v":""},{"$f":"IF('2.Logbook'!B190=\"\",\"\",'2.Logbook'!B190)","v":""},{"$f":"IF('2.Logbook'!C190=\"\",\"\",'2.Logbook'!C190)","v":""},{"$f":"IF('2.Logbook'!D190=\"\",\"\",'2.Logbook'!D190)","v":""},{"$f":"IF('2.Logbook'!E190=\"\",\"\",'2.Logbook'!E190)","v":""},{"$f":"IF('2.Logbook'!F190=\"\",\"\",'2.Logbook'!F190)","v":""},{"$f":"IF('2.Logbook'!G190=\"\",\"\",'2.Logbook'!G190)","v":""},{"$f":"IF('2.Logbook'!H190=\"\",\"\",'2.Logbook'!H190)","v":""},{"$f":"IF('2.Logbook'!I190=\"\",\"\",'2.Logbook'!I190)","v":""},{"$f":"IF('2.Logbook'!J190=\"\",\"\",'2.Logbook'!J190)","v":""},{"$f":"IF('2.Logbook'!K190=\"\",\"\",'2.Logbook'!K190)","v":""},{"$f":"IF('2.Logbook'!L190=\"\",\"\",'2.Logbook'!L190)","v":""},{"$f":"IF('2.Logbook'!M190=\"\",\"\",'2.Logbook'!M190)","v":""},{"$f":"IF('2.Logbook'!N190=\"\",\"\",'2.Logbook'!N190)","v":""},{"$f":"IF('2.Logbook'!O190=\"\",\"\",'2.Logbook'!O190)","v":""},{"$f":"IF('2.Logbook'!P190=\"\",\"\",'2.Logbook'!P190)","v":""},{"$f":"IF('2.Logbook'!Q190=\"\",\"\",'2.Logbook'!Q190)","v":""},{"$f":"IF('2.Logbook'!R190=\"\",\"\",'2.Logbook'!R190)","v":""},{"$f":"IF('2.Logbook'!S190=\"\",\"\",'2.Logbook'!S190)","v":""},{"$f":"IF('2.Logbook'!T190=\"\",\"\",'2.Logbook'!T190)","v":""},{"$f":"IF('2.Logbook'!U190=\"\",\"\",'2.Logbook'!U190)","v":""},{"$f":"IF('2.Logbook'!V190=\"\",\"\",'2.Logbook'!V190)","v":""},{"$f":"IF('2.Logbook'!W190=\"\",\"\",'2.Logbook'!W190)","v":""},{"$f":"IF('2.Logbook'!X190=\"\",\"\",'2.Logbook'!X190)","v":""},{"$f":"IF('2.Logbook'!Y190=\"\",\"\",'2.Logbook'!Y190)","v":""},{"$f":"IF('2.Logbook'!Z190=\"\",\"\",'2.Logbook'!Z190)","v":""},{"$f":"IF('2.Logbook'!AA190=\"\",\"\",'2.Logbook'!AA190)","v":""},{"$f":"IF('2.Logbook'!AB190=\"\",\"\",'2.Logbook'!AB190)","v":""},{"$f":"IF('2.Logbook'!AC190=\"\",\"\",'2.Logbook'!AC190)","v":""},{"$f":"IF('2.Logbook'!AD190=\"\",\"\",'2.Logbook'!AD190)","v":""},{"$f":"IF('2.Logbook'!AE190=\"\",\"\",'2.Logbook'!AE190)","v":""},{"$f":"IF('2.Logbook'!AF190=\"\",\"\",'2.Logbook'!AF190)","v":""},{"$f":"IF('2.Logbook'!AG190=\"\",\"\",'2.Logbook'!AG190)","v":""}]
[{"$f":"IF('2.Logbook'!A191=\"\",\"\",'2.Logbook'!A191)","v":""},{"$f":"IF('2.Logbook'!B191=\"\",\"\",'2.Logbook'!B191)","v":""},{"$f":"IF('2.Logbook'!C191=\"\",\"\",'2.Logbook'!C191)","v":""},{"$f":"IF('2.Logbook'!D191=\"\",\"\",'2.Logbook'!D191)","v":""},{"$f":"IF('2.Logbook'!E191=\"\",\"\",'2.Logbook'!E191)","v":""},{"$f":"IF('2.Logbook'!F191=\"\",\"\",'2.Logbook'!F191)","v":""},{"$f":"IF('2.Logbook'!G191=\"\",\"\",'2.Logbook'!G191)","v":""},{"$f":"IF('2.Logbook'!H191=\"\",\"\",'2.Logbook'!H191)","v":""},{"$f":"IF('2.Logbook'!I191=\"\",\"\",'2.Logbook'!I191)","v":""},{"$f":"IF('2.Logbook'!J191=\"\",\"\",'2.Logbook'!J191)","v":""},{"$f":"IF('2.Logbook'!K191=\"\",\"\",'2.Logbook'!K191)","v":""},{"$f":"IF('2.Logbook'!L191=\"\",\"\",'2.Logbook'!L191)","v":""},{"$f":"IF('2.Logbook'!M191=\"\",\"\",'2.Logbook'!M191)","v":""},{"$f":"IF('2.Logbook'!N191=\"\",\"\",'2.Logbook'!N191)","v":""},{"$f":"IF('2.Logbook'!O191=\"\",\"\",'2.Logbook'!O191)","v":""},{"$f":"IF('2.Logbook'!P191=\"\",\"\",'2.Logbook'!P191)","v":""},{"$f":"IF('2.Logbook'!Q191=\"\",\"\",'2.Logbook'!Q191)","v":""},{"$f":"IF('2.Logbook'!R191=\"\",\"\",'2.Logbook'!R191)","v":""},{"$f":"IF('2.Logbook'!S191=\"\",\"\",'2.Logbook'!S191)","v":""},{"$f":"IF('2.Logbook'!T191=\"\",\"\",'2.Logbook'!T191)","v":""},{"$f":"IF('2.Logbook'!U191=\"\",\"\",'2.Logbook'!U191)","v":""},{"$f":"IF('2.Logbook'!V191=\"\",\"\",'2.Logbook'!V191)","v":""},{"$f":"IF('2.Logbook'!W191=\"\",\"\",'2.Logbook'!W191)","v":""},{"$f":"IF('2.Logbook'!X191=\"\",\"\",'2.Logbook'!X191)","v":""},{"$f":"IF('2.Logbook'!Y191=\"\",\"\",'2.Logbook'!Y191)","v":""},{"$f":"IF('2.Logbook'!Z191=\"\",\"\",'2.Logbook'!Z191)","v":""},{"$f":"IF('2.Logbook'!AA191=\"\",\"\",'2.Logbook'!AA191)","v":""},{"$f":"IF('2.Logbook'!AB191=\"\",\"\",'2.Logbook'!AB191)","v":""},{"$f":"IF('2.Logbook'!AC191=\"\",\"\",'2.Logbook'!AC191)","v":""},{"$f":"IF('2.Logbook'!AD191=\"\",\"\",'2.Logbook'!AD191)","v":""},{"$f":"IF('2.Logbook'!AE191=\"\",\"\",'2.Logbook'!AE191)","v":""},{"$f":"IF('2.Logbook'!AF191=\"\",\"\",'2.Logbook'!AF191)","v":""},{"$f":"IF('2.Logbook'!AG191=\"\",\"\",'2.Logbook'!AG191)","v":""}]
[{"$f":"IF('2.Logbook'!A192=\"\",\"\",'2.Logbook'!A192)","v":""},{"$f":"IF('2.Logbook'!B192=\"\",\"\",'2.Logbook'!B192)","v":""},{"$f":"IF('2.Logbook'!C192=\"\",\"\",'2.Logbook'!C192)","v":""},{"$f":"IF('2.Logbook'!D192=\"\",\"\",'2.Logbook'!D192)","v":""},{"$f":"IF('2.Logbook'!E192=\"\",\"\",'2.Logbook'!E192)","v":""},{"$f":"IF('2.Logbook'!F192=\"\",\"\",'2.Logbook'!F192)","v":""},{"$f":"IF('2.Logbook'!G192=\"\",\"\",'2.Logbook'!G192)","v":""},{"$f":"IF('2.Logbook'!H192=\"\",\"\",'2.Logbook'!H192)","v":""},{"$f":"IF('2.Logbook'!I192=\"\",\"\",'2.Logbook'!I192)","v":""},{"$f":"IF('2.Logbook'!J192=\"\",\"\",'2.Logbook'!J192)","v":""},{"$f":"IF('2.Logbook'!K192=\"\",\"\",'2.Logbook'!K192)","v":""},{"$f":"IF('2.Logbook'!L192=\"\",\"\",'2.Logbook'!L192)","v":""},{"$f":"IF('2.Logbook'!M192=\"\",\"\",'2.Logbook'!M192)","v":""},{"$f":"IF('2.Logbook'!N192=\"\",\"\",'2.Logbook'!N192)","v":""},{"$f":"IF('2.Logbook'!O192=\"\",\"\",'2.Logbook'!O192)","v":""},{"$f":"IF('2.Logbook'!P192=\"\",\"\",'2.Logbook'!P192)","v":""},{"$f":"IF('2.Logbook'!Q192=\"\",\"\",'2.Logbook'!Q192)","v":""},{"$f":"IF('2.Logbook'!R192=\"\",\"\",'2.Logbook'!R192)","v":""},{"$f":"IF('2.Logbook'!S192=\"\",\"\",'2.Logbook'!S192)","v":""},{"$f":"IF('2.Logbook'!T192=\"\",\"\",'2.Logbook'!T192)","v":""},{"$f":"IF('2.Logbook'!U192=\"\",\"\",'2.Logbook'!U192)","v":""},{"$f":"IF('2.Logbook'!V192=\"\",\"\",'2.Logbook'!V192)","v":""},{"$f":"IF('2.Logbook'!W192=\"\",\"\",'2.Logbook'!W192)","v":""},{"$f":"IF('2.Logbook'!X192=\"\",\"\",'2.Logbook'!X192)","v":""},{"$f":"IF('2.Logbook'!Y192=\"\",\"\",'2.Logbook'!Y192)","v":""},{"$f":"IF('2.Logbook'!Z192=\"\",\"\",'2.Logbook'!Z192)","v":""},{"$f":"IF('2.Logbook'!AA192=\"\",\"\",'2.Logbook'!AA192)","v":""},{"$f":"IF('2.Logbook'!AB192=\"\",\"\",'2.Logbook'!AB192)","v":""},{"$f":"IF('2.Logbook'!AC192=\"\",\"\",'2.Logbook'!AC192)","v":""},{"$f":"IF('2.Logbook'!AD192=\"\",\"\",'2.Logbook'!AD192)","v":""},{"$f":"IF('2.Logbook'!AE192=\"\",\"\",'2.Logbook'!AE192)","v":""},{"$f":"IF('2.Logbook'!AF192=\"\",\"\",'2.Logbook'!AF192)","v":""},{"$f":"IF('2.Logbook'!AG192=\"\",\"\",'2.Logbook'!AG192)","v":""}]
[{"$f":"IF('2.Logbook'!A193=\"\",\"\",'2.Logbook'!A193)","v":""},{"$f":"IF('2.Logbook'!B193=\"\",\"\",'2.Logbook'!B193)","v":""},{"$f":"IF('2.Logbook'!C193=\"\",\"\",'2.Logbook'!C193)","v":""},{"$f":"IF('2.Logbook'!D193=\"\",\"\",'2.Logbook'!D193)","v":""},{"$f":"IF('2.Logbook'!E193=\"\",\"\",'2.Logbook'!E193)","v":""},{"$f":"IF('2.Logbook'!F193=\"\",\"\",'2.Logbook'!F193)","v":""},{"$f":"IF('2.Logbook'!G193=\"\",\"\",'2.Logbook'!G193)","v":""},{"$f":"IF('2.Logbook'!H193=\"\",\"\",'2.Logbook'!H193)","v":""},{"$f":"IF('2.Logbook'!I193=\"\",\"\",'2.Logbook'!I193)","v":""},{"$f":"IF('2.Logbook'!J193=\"\",\"\",'2.Logbook'!J193)","v":""},{"$f":"IF('2.Logbook'!K193=\"\",\"\",'2.Logbook'!K193)","v":""},{"$f":"IF('2.Logbook'!L193=\"\",\"\",'2.Logbook'!L193)","v":""},{"$f":"IF('2.Logbook'!M193=\"\",\"\",'2.Logbook'!M193)","v":""},{"$f":"IF('2.Logbook'!N193=\"\",\"\",'2.Logbook'!N193)","v":""},{"$f":"IF('2.Logbook'!O193=\"\",\"\",'2.Logbook'!O193)","v":""},{"$f":"IF('2.Logbook'!P193=\"\",\"\",'2.Logbook'!P193)","v":""},{"$f":"IF('2.Logbook'!Q193=\"\",\"\",'2.Logbook'!Q193)","v":""},{"$f":"IF('2.Logbook'!R193=\"\",\"\",'2.Logbook'!R193)","v":""},{"$f":"IF('2.Logbook'!S193=\"\",\"\",'2.Logbook'!S193)","v":""},{"$f":"IF('2.Logbook'!T193=\"\",\"\",'2.Logbook'!T193)","v":""},{"$f":"IF('2.Logbook'!U193=\"\",\"\",'2.Logbook'!U193)","v":""},{"$f":"IF('2.Logbook'!V193=\"\",\"\",'2.Logbook'!V193)","v":""},{"$f":"IF('2.Logbook'!W193=\"\",\"\",'2.Logbook'!W193)","v":""},{"$f":"IF('2.Logbook'!X193=\"\",\"\",'2.Logbook'!X193)","v":""},{"$f":"IF('2.Logbook'!Y193=\"\",\"\",'2.Logbook'!Y193)","v":""},{"$f":"IF('2.Logbook'!Z193=\"\",\"\",'2.Logbook'!Z193)","v":""},{"$f":"IF('2.Logbook'!AA193=\"\",\"\",'2.Logbook'!AA193)","v":""},{"$f":"IF('2.Logbook'!AB193=\"\",\"\",'2.Logbook'!AB193)","v":""},{"$f":"IF('2.Logbook'!AC193=\"\",\"\",'2.Logbook'!AC193)","v":""},{"$f":"IF('2.Logbook'!AD193=\"\",\"\",'2.Logbook'!AD193)","v":""},{"$f":"IF('2.Logbook'!AE193=\"\",\"\",'2.Logbook'!AE193)","v":""},{"$f":"IF('2.Logbook'!AF193=\"\",\"\",'2.Logbook'!AF193)","v":""},{"$f":"IF('2.Logbook'!AG193=\"\",\"\",'2.Logbook'!AG193)","v":""}]
[{"$f":"IF('2.Logbook'!A194=\"\",\"\",'2.Logbook'!A194)","v":""},{"$f":"IF('2.Logbook'!B194=\"\",\"\",'2.Logbook'!B194)","v":""},{"$f":"IF('2.Logbook'!C194=\"\",\"\",'2.Logbook'!C194)","v":""},{"$f":"IF('2.Logbook'!D194=\"\",\"\",'2.Logbook'!D194)","v":""},{"$f":"IF('2.Logbook'!E194=\"\",\"\",'2.Logbook'!E194)","v":""},{"$f":"IF('2.Logbook'!F194=\"\",\"\",'2.Logbook'!F194)","v":""},{"$f":"IF('2.Logbook'!G194=\"\",\"\",'2.Logbook'!G194)","v":""},{"$f":"IF('2.Logbook'!H194=\"\",\"\",'2.Logbook'!H194)","v":""},{"$f":"IF('2.Logbook'!I194=\"\",\"\",'2.Logbook'!I194)","v":""},{"$f":"IF('2.Logbook'!J194=\"\",\"\",'2.Logbook'!J194)","v":""},{"$f":"IF('2.Logbook'!K194=\"\",\"\",'2.Logbook'!K194)","v":""},{"$f":"IF('2.Logbook'!L194=\"\",\"\",'2.Logbook'!L194)","v":""},{"$f":"IF('2.Logbook'!M194=\"\",\"\",'2.Logbook'!M194)","v":""},{"$f":"IF('2.Logbook'!N194=\"\",\"\",'2.Logbook'!N194)","v":""},{"$f":"IF('2.Logbook'!O194=\"\",\"\",'2.Logbook'!O194)","v":""},{"$f":"IF('2.Logbook'!P194=\"\",\"\",'2.Logbook'!P194)","v":""},{"$f":"IF('2.Logbook'!Q194=\"\",\"\",'2.Logbook'!Q194)","v":""},{"$f":"IF('2.Logbook'!R194=\"\",\"\",'2.Logbook'!R194)","v":""},{"$f":"IF('2.Logbook'!S194=\"\",\"\",'2.Logbook'!S194)","v":""},{"$f":"IF('2.Logbook'!T194=\"\",\"\",'2.Logbook'!T194)","v":""},{"$f":"IF('2.Logbook'!U194=\"\",\"\",'2.Logbook'!U194)","v":""},{"$f":"IF('2.Logbook'!V194=\"\",\"\",'2.Logbook'!V194)","v":""},{"$f":"IF('2.Logbook'!W194=\"\",\"\",'2.Logbook'!W194)","v":""},{"$f":"IF('2.Logbook'!X194=\"\",\"\",'2.Logbook'!X194)","v":""},{"$f":"IF('2.Logbook'!Y194=\"\",\"\",'2.Logbook'!Y194)","v":""},{"$f":"IF('2.Logbook'!Z194=\"\",\"\",'2.Logbook'!Z194)","v":""},{"$f":"IF('2.Logbook'!AA194=\"\",\"\",'2.Logbook'!AA194)","v":""},{"$f":"IF('2.Logbook'!AB194=\"\",\"\",'2.Logbook'!AB194)","v":""},{"$f":"IF('2.Logbook'!AC194=\"\",\"\",'2.Logbook'!AC194)","v":""},{"$f":"IF('2.Logbook'!AD194=\"\",\"\",'2.Logbook'!AD194)","v":""},{"$f":"IF('2.Logbook'!AE194=\"\",\"\",'2.Logbook'!AE194)","v":""},{"$f":"IF('2.Logbook'!AF194=\"\",\"\",'2.Logbook'!AF194)","v":""},{"$f":"IF('2.Logbook'!AG194=\"\",\"\",'2.Logbook'!AG194)","v":""}]
[{"$f":"IF('2.Logbook'!A195=\"\",\"\",'2.Logbook'!A195)","v":""},{"$f":"IF('2.Logbook'!B195=\"\",\"\",'2.Logbook'!B195)","v":""},{"$f":"IF('2.Logbook'!C195=\"\",\"\",'2.Logbook'!C195)","v":""},{"$f":"IF('2.Logbook'!D195=\"\",\"\",'2.Logbook'!D195)","v":""},{"$f":"IF('2.Logbook'!E195=\"\",\"\",'2.Logbook'!E195)","v":""},{"$f":"IF('2.Logbook'!F195=\"\",\"\",'2.Logbook'!F195)","v":""},{"$f":"IF('2.Logbook'!G195=\"\",\"\",'2.Logbook'!G195)","v":""},{"$f":"IF('2.Logbook'!H195=\"\",\"\",'2.Logbook'!H195)","v":""},{"$f":"IF('2.Logbook'!I195=\"\",\"\",'2.Logbook'!I195)","v":""},{"$f":"IF('2.Logbook'!J195=\"\",\"\",'2.Logbook'!J195)","v":""},{"$f":"IF('2.Logbook'!K195=\"\",\"\",'2.Logbook'!K195)","v":""},{"$f":"IF('2.Logbook'!L195=\"\",\"\",'2.Logbook'!L195)","v":""},{"$f":"IF('2.Logbook'!M195=\"\",\"\",'2.Logbook'!M195)","v":""},{"$f":"IF('2.Logbook'!N195=\"\",\"\",'2.Logbook'!N195)","v":""},{"$f":"IF('2.Logbook'!O195=\"\",\"\",'2.Logbook'!O195)","v":""},{"$f":"IF('2.Logbook'!P195=\"\",\"\",'2.Logbook'!P195)","v":""},{"$f":"IF('2.Logbook'!Q195=\"\",\"\",'2.Logbook'!Q195)","v":""},{"$f":"IF('2.Logbook'!R195=\"\",\"\",'2.Logbook'!R195)","v":""},{"$f":"IF('2.Logbook'!S195=\"\",\"\",'2.Logbook'!S195)","v":""},{"$f":"IF('2.Logbook'!T195=\"\",\"\",'2.Logbook'!T195)","v":""},{"$f":"IF('2.Logbook'!U195=\"\",\"\",'2.Logbook'!U195)","v":""},{"$f":"IF('2.Logbook'!V195=\"\",\"\",'2.Logbook'!V195)","v":""},{"$f":"IF('2.Logbook'!W195=\"\",\"\",'2.Logbook'!W195)","v":""},{"$f":"IF('2.Logbook'!X195=\"\",\"\",'2.Logbook'!X195)","v":""},{"$f":"IF('2.Logbook'!Y195=\"\",\"\",'2.Logbook'!Y195)","v":""},{"$f":"IF('2.Logbook'!Z195=\"\",\"\",'2.Logbook'!Z195)","v":""},{"$f":"IF('2.Logbook'!AA195=\"\",\"\",'2.Logbook'!AA195)","v":""},{"$f":"IF('2.Logbook'!AB195=\"\",\"\",'2.Logbook'!AB195)","v":""},{"$f":"IF('2.Logbook'!AC195=\"\",\"\",'2.Logbook'!AC195)","v":""},{"$f":"IF('2.Logbook'!AD195=\"\",\"\",'2.Logbook'!AD195)","v":""},{"$f":"IF('2.Logbook'!AE195=\"\",\"\",'2.Logbook'!AE195)","v":""},{"$f":"IF('2.Logbook'!AF195=\"\",\"\",'2.Logbook'!AF195)","v":""},{"$f":"IF('2.Logbook'!AG195=\"\",\"\",'2.Logbook'!AG195)","v":""}]
[{"$f":"IF('2.Logbook'!A196=\"\",\"\",'2.Logbook'!A196)","v":""},{"$f":"IF('2.Logbook'!B196=\"\",\"\",'2.Logbook'!B196)","v":""},{"$f":"IF('2.Logbook'!C196=\"\",\"\",'2.Logbook'!C196)","v":""},{"$f":"IF('2.Logbook'!D196=\"\",\"\",'2.Logbook'!D196)","v":""},{"$f":"IF('2.Logbook'!E196=\"\",\"\",'2.Logbook'!E196)","v":""},{"$f":"IF('2.Logbook'!F196=\"\",\"\",'2.Logbook'!F196)","v":""},{"$f":"IF('2.Logbook'!G196=\"\",\"\",'2.Logbook'!G196)","v":""},{"$f":"IF('2.Logbook'!H196=\"\",\"\",'2.Logbook'!H196)","v":""},{"$f":"IF('2.Logbook'!I196=\"\",\"\",'2.Logbook'!I196)","v":""},{"$f":"IF('2.Logbook'!J196=\"\",\"\",'2.Logbook'!J196)","v":""},{"$f":"IF('2.Logbook'!K196=\"\",\"\",'2.Logbook'!K196)","v":""},{"$f":"IF('2.Logbook'!L196=\"\",\"\",'2.Logbook'!L196)","v":""},{"$f":"IF('2.Logbook'!M196=\"\",\"\",'2.Logbook'!M196)","v":""},{"$f":"IF('2.Logbook'!N196=\"\",\"\",'2.Logbook'!N196)","v":""},{"$f":"IF('2.Logbook'!O196=\"\",\"\",'2.Logbook'!O196)","v":""},{"$f":"IF('2.Logbook'!P196=\"\",\"\",'2.Logbook'!P196)","v":""},{"$f":"IF('2.Logbook'!Q196=\"\",\"\",'2.Logbook'!Q196)","v":""},{"$f":"IF('2.Logbook'!R196=\"\",\"\",'2.Logbook'!R196)","v":""},{"$f":"IF('2.Logbook'!S196=\"\",\"\",'2.Logbook'!S196)","v":""},{"$f":"IF('2.Logbook'!T196=\"\",\"\",'2.Logbook'!T196)","v":""},{"$f":"IF('2.Logbook'!U196=\"\",\"\",'2.Logbook'!U196)","v":""},{"$f":"IF('2.Logbook'!V196=\"\",\"\",'2.Logbook'!V196)","v":""},{"$f":"IF('2.Logbook'!W196=\"\",\"\",'2.Logbook'!W196)","v":""},{"$f":"IF('2.Logbook'!X196=\"\",\"\",'2.Logbook'!X196)","v":""},{"$f":"IF('2.Logbook'!Y196=\"\",\"\",'2.Logbook'!Y196)","v":""},{"$f":"IF('2.Logbook'!Z196=\"\",\"\",'2.Logbook'!Z196)","v":""},{"$f":"IF('2.Logbook'!AA196=\"\",\"\",'2.Logbook'!AA196)","v":""},{"$f":"IF('2.Logbook'!AB196=\"\",\"\",'2.Logbook'!AB196)","v":""},{"$f":"IF('2.Logbook'!AC196=\"\",\"\",'2.Logbook'!AC196)","v":""},{"$f":"IF('2.Logbook'!AD196=\"\",\"\",'2.Logbook'!AD196)","v":""},{"$f":"IF('2.Logbook'!AE196=\"\",\"\",'2.Logbook'!AE196)","v":""},{"$f":"IF('2.Logbook'!AF196=\"\",\"\",'2.Logbook'!AF196)","v":""},{"$f":"IF('2.Logbook'!AG196=\"\",\"\",'2.Logbook'!AG196)","v":""}]
[{"$f":"IF('2.Logbook'!A197=\"\",\"\",'2.Logbook'!A197)","v":""},{"$f":"IF('2.Logbook'!B197=\"\",\"\",'2.Logbook'!B197)","v":""},{"$f":"IF('2.Logbook'!C197=\"\",\"\",'2.Logbook'!C197)","v":""},{"$f":"IF('2.Logbook'!D197=\"\",\"\",'2.Logbook'!D197)","v":""},{"$f":"IF('2.Logbook'!E197=\"\",\"\",'2.Logbook'!E197)","v":""},{"$f":"IF('2.Logbook'!F197=\"\",\"\",'2.Logbook'!F197)","v":""},{"$f":"IF('2.Logbook'!G197=\"\",\"\",'2.Logbook'!G197)","v":""},{"$f":"IF('2.Logbook'!H197=\"\",\"\",'2.Logbook'!H197)","v":""},{"$f":"IF('2.Logbook'!I197=\"\",\"\",'2.Logbook'!I197)","v":""},{"$f":"IF('2.Logbook'!J197=\"\",\"\",'2.Logbook'!J197)","v":""},{"$f":"IF('2.Logbook'!K197=\"\",\"\",'2.Logbook'!K197)","v":""},{"$f":"IF('2.Logbook'!L197=\"\",\"\",'2.Logbook'!L197)","v":""},{"$f":"IF('2.Logbook'!M197=\"\",\"\",'2.Logbook'!M197)","v":""},{"$f":"IF('2.Logbook'!N197=\"\",\"\",'2.Logbook'!N197)","v":""},{"$f":"IF('2.Logbook'!O197=\"\",\"\",'2.Logbook'!O197)","v":""},{"$f":"IF('2.Logbook'!P197=\"\",\"\",'2.Logbook'!P197)","v":""},{"$f":"IF('2.Logbook'!Q197=\"\",\"\",'2.Logbook'!Q197)","v":""},{"$f":"IF('2.Logbook'!R197=\"\",\"\",'2.Logbook'!R197)","v":""},{"$f":"IF('2.Logbook'!S197=\"\",\"\",'2.Logbook'!S197)","v":""},{"$f":"IF('2.Logbook'!T197=\"\",\"\",'2.Logbook'!T197)","v":""},{"$f":"IF('2.Logbook'!U197=\"\",\"\",'2.Logbook'!U197)","v":""},{"$f":"IF('2.Logbook'!V197=\"\",\"\",'2.Logbook'!V197)","v":""},{"$f":"IF('2.Logbook'!W197=\"\",\"\",'2.Logbook'!W197)","v":""},{"$f":"IF('2.Logbook'!X197=\"\",\"\",'2.Logbook'!X197)","v":""},{"$f":"IF('2.Logbook'!Y197=\"\",\"\",'2.Logbook'!Y197)","v":""},{"$f":"IF('2.Logbook'!Z197=\"\",\"\",'2.Logbook'!Z197)","v":""},{"$f":"IF('2.Logbook'!AA197=\"\",\"\",'2.Logbook'!AA197)","v":""},{"$f":"IF('2.Logbook'!AB197=\"\",\"\",'2.Logbook'!AB197)","v":""},{"$f":"IF('2.Logbook'!AC197=\"\",\"\",'2.Logbook'!AC197)","v":""},{"$f":"IF('2.Logbook'!AD197=\"\",\"\",'2.Logbook'!AD197)","v":""},{"$f":"IF('2.Logbook'!AE197=\"\",\"\",'2.Logbook'!AE197)","v":""},{"$f":"IF('2.Logbook'!AF197=\"\",\"\",'2.Logbook'!AF197)","v":""},{"$f":"IF('2.Logbook'!AG197=\"\",\"\",'2.Logbook'!AG197)","v":""}]
[{"$f":"IF('2.Logbook'!A198=\"\",\"\",'2.Logbook'!A198)","v":""},{"$f":"IF('2.Logbook'!B198=\"\",\"\",'2.Logbook'!B198)","v":""},{"$f":"IF('2.Logbook'!C198=\"\",\"\",'2.Logbook'!C198)","v":""},{"$f":"IF('2.Logbook'!D198=\"\",\"\",'2.Logbook'!D198)","v":""},{"$f":"IF('2.Logbook'!E198=\"\",\"\",'2.Logbook'!E198)","v":""},{"$f":"IF('2.Logbook'!F198=\"\",\"\",'2.Logbook'!F198)","v":""},{"$f":"IF('2.Logbook'!G198=\"\",\"\",'2.Logbook'!G198)","v":""},{"$f":"IF('2.Logbook'!H198=\"\",\"\",'2.Logbook'!H198)","v":""},{"$f":"IF('2.Logbook'!I198=\"\",\"\",'2.Logbook'!I198)","v":""},{"$f":"IF('2.Logbook'!J198=\"\",\"\",'2.Logbook'!J198)","v":""},{"$f":"IF('2.Logbook'!K198=\"\",\"\",'2.Logbook'!K198)","v":""},{"$f":"IF('2.Logbook'!L198=\"\",\"\",'2.Logbook'!L198)","v":""},{"$f":"IF('2.Logbook'!M198=\"\",\"\",'2.Logbook'!M198)","v":""},{"$f":"IF('2.Logbook'!N198=\"\",\"\",'2.Logbook'!N198)","v":""},{"$f":"IF('2.Logbook'!O198=\"\",\"\",'2.Logbook'!O198)","v":""},{"$f":"IF('2.Logbook'!P198=\"\",\"\",'2.Logbook'!P198)","v":""},{"$f":"IF('2.Logbook'!Q198=\"\",\"\",'2.Logbook'!Q198)","v":""},{"$f":"IF('2.Logbook'!R198=\"\",\"\",'2.Logbook'!R198)","v":""},{"$f":"IF('2.Logbook'!S198=\"\",\"\",'2.Logbook'!S198)","v":""},{"$f":"IF('2.Logbook'!T198=\"\",\"\",'2.Logbook'!T198)","v":""},{"$f":"IF('2.Logbook'!U198=\"\",\"\",'2.Logbook'!U198)","v":""},{"$f":"IF('2.Logbook'!V198=\"\",\"\",'2.Logbook'!V198)","v":""},{"$f":"IF('2.Logbook'!W198=\"\",\"\",'2.Logbook'!W198)","v":""},{"$f":"IF('2.Logbook'!X198=\"\",\"\",'2.Logbook'!X198)","v":""},{"$f":"IF('2.Logbook'!Y198=\"\",\"\",'2.Logbook'!Y198)","v":""},{"$f":"IF('2.Logbook'!Z198=\"\",\"\",'2.Logbook'!Z198)","v":""},{"$f":"IF('2.Logbook'!AA198=\"\",\"\",'2.Logbook'!AA198)","v":""},{"$f":"IF('2.Logbook'!AB198=\"\",\"\",'2.Logbook'!AB198)","v":""},{"$f":"IF('2.Logbook'!AC198=\"\",\"\",'2.Logbook'!AC198)","v":""},{"$f":"IF('2.Logbook'!AD198=\"\",\"\",'2.Logbook'!AD198)","v":""},{"$f":"IF('2.Logbook'!AE198=\"\",\"\",'2.Logbook'!AE198)","v":""},{"$f":"IF('2.Logbook'!AF198=\"\",\"\",'2.Logbook'!AF198)","v":""},{"$f":"IF('2.Logbook'!AG198=\"\",\"\",'2.Logbook'!AG198)","v":""}]
[{"$f":"IF('2.Logbook'!A199=\"\",\"\",'2.Logbook'!A199)","v":""},{"$f":"IF('2.Logbook'!B199=\"\",\"\",'2.Logbook'!B199)","v":""},{"$f":"IF('2.Logbook'!C199=\"\",\"\",'2.Logbook'!C199)","v":""},{"$f":"IF('2.Logbook'!D199=\"\",\"\",'2.Logbook'!D199)","v":""},{"$f":"IF('2.Logbook'!E199=\"\",\"\",'2.Logbook'!E199)","v":""},{"$f":"IF('2.Logbook'!F199=\"\",\"\",'2.Logbook'!F199)","v":""},{"$f":"IF('2.Logbook'!G199=\"\",\"\",'2.Logbook'!G199)","v":""},{"$f":"IF('2.Logbook'!H199=\"\",\"\",'2.Logbook'!H199)","v":""},{"$f":"IF('2.Logbook'!I199=\"\",\"\",'2.Logbook'!I199)","v":""},{"$f":"IF('2.Logbook'!J199=\"\",\"\",'2.Logbook'!J199)","v":""},{"$f":"IF('2.Logbook'!K199=\"\",\"\",'2.Logbook'!K199)","v":""},{"$f":"IF('2.Logbook'!L199=\"\",\"\",'2.Logbook'!L199)","v":""},{"$f":"IF('2.Logbook'!M199=\"\",\"\",'2.Logbook'!M199)","v":""},{"$f":"IF('2.Logbook'!N199=\"\",\"\",'2.Logbook'!N199)","v":""},{"$f":"IF('2.Logbook'!O199=\"\",\"\",'2.Logbook'!O199)","v":""},{"$f":"IF('2.Logbook'!P199=\"\",\"\",'2.Logbook'!P199)","v":""},{"$f":"IF('2.Logbook'!Q199=\"\",\"\",'2.Logbook'!Q199)","v":""},{"$f":"IF('2.Logbook'!R199=\"\",\"\",'2.Logbook'!R199)","v":""},{"$f":"IF('2.Logbook'!S199=\"\",\"\",'2.Logbook'!S199)","v":""},{"$f":"IF('2.Logbook'!T199=\"\",\"\",'2.Logbook'!T199)","v":""},{"$f":"IF('2.Logbook'!U199=\"\",\"\",'2.Logbook'!U199)","v":""},{"$f":"IF('2.Logbook'!V199=\"\",\"\",'2.Logbook'!V199)","v":""},{"$f":"IF('2.Logbook'!W199=\"\",\"\",'2.Logbook'!W199)","v":""},{"$f":"IF('2.Logbook'!X199=\"\",\"\",'2.Logbook'!X199)","v":""},{"$f":"IF('2.Logbook'!Y199=\"\",\"\",'2.Logbook'!Y199)","v":""},{"$f":"IF('2.Logbook'!Z199=\"\",\"\",'2.Logbook'!Z199)","v":""},{"$f":"IF('2.Logbook'!AA199=\"\",\"\",'2.Logbook'!AA199)","v":""},{"$f":"IF('2.Logbook'!AB199=\"\",\"\",'2.Logbook'!AB199)","v":""},{"$f":"IF('2.Logbook'!AC199=\"\",\"\",'2.Logbook'!AC199)","v":""},{"$f":"IF('2.Logbook'!AD199=\"\",\"\",'2.Logbook'!AD199)","v":""},{"$f":"IF('2.Logbook'!AE199=\"\",\"\",'2.Logbook'!AE199)","v":""},{"$f":"IF('2.Logbook'!AF199=\"\",\"\",'2.Logbook'!AF199)","v":""},{"$f":"IF('2.Logbook'!AG199=\"\",\"\",'2.Logbook'!AG199)","v":""}]
[{"$f":"IF('2.Logbook'!A200=\"\",\"\",'2.Logbook'!A200)","v":""},{"$f":"IF('2.Logbook'!B200=\"\",\"\",'2.Logbook'!B200)","v":""},{"$f":"IF('2.Logbook'!C200=\"\",\"\",'2.Logbook'!C200)","v":""},{"$f":"IF('2.Logbook'!D200=\"\",\"\",'2.Logbook'!D200)","v":""},{"$f":"IF('2.Logbook'!E200=\"\",\"\",'2.Logbook'!E200)","v":""},{"$f":"IF('2.Logbook'!F200=\"\",\"\",'2.Logbook'!F200)","v":""},{"$f":"IF('2.Logbook'!G200=\"\",\"\",'2.Logbook'!G200)","v":""},{"$f":"IF('2.Logbook'!H200=\"\",\"\",'2.Logbook'!H200)","v":""},{"$f":"IF('2.Logbook'!I200=\"\",\"\",'2.Logbook'!I200)","v":""},{"$f":"IF('2.Logbook'!J200=\"\",\"\",'2.Logbook'!J200)","v":""},{"$f":"IF('2.Logbook'!K200=\"\",\"\",'2.Logbook'!K200)","v":""},{"$f":"IF('2.Logbook'!L200=\"\",\"\",'2.Logbook'!L200)","v":""},{"$f":"IF('2.Logbook'!M200=\"\",\"\",'2.Logbook'!M200)","v":""},{"$f":"IF('2.Logbook'!N200=\"\",\"\",'2.Logbook'!N200)","v":""},{"$f":"IF('2.Logbook'!O200=\"\",\"\",'2.Logbook'!O200)","v":""},{"$f":"IF('2.Logbook'!P200=\"\",\"\",'2.Logbook'!P200)","v":""},{"$f":"IF('2.Logbook'!Q200=\"\",\"\",'2.Logbook'!Q200)","v":""},{"$f":"IF('2.Logbook'!R200=\"\",\"\",'2.Logbook'!R200)","v":""},{"$f":"IF('2.Logbook'!S200=\"\",\"\",'2.Logbook'!S200)","v":""},{"$f":"IF('2.Logbook'!T200=\"\",\"\",'2.Logbook'!T200)","v":""},{"$f":"IF('2.Logbook'!U200=\"\",\"\",'2.Logbook'!U200)","v":""},{"$f":"IF('2.Logbook'!V200=\"\",\"\",'2.Logbook'!V200)","v":""},{"$f":"IF('2.Logbook'!W200=\"\",\"\",'2.Logbook'!W200)","v":""},{"$f":"IF('2.Logbook'!X200=\"\",\"\",'2.Logbook'!X200)","v":""},{"$f":"IF('2.Logbook'!Y200=\"\",\"\",'2.Logbook'!Y200)","v":""},{"$f":"IF('2.Logbook'!Z200=\"\",\"\",'2.Logbook'!Z200)","v":""},{"$f":"IF('2.Logbook'!AA200=\"\",\"\",'2.Logbook'!AA200)","v":""},{"$f":"IF('2.Logbook'!AB200=\"\",\"\",'2.Logbook'!AB200)","v":""},{"$f":"IF('2.Logbook'!AC200=\"\",\"\",'2.Logbook'!AC200)","v":""},{"$f":"IF('2.Logbook'!AD200=\"\",\"\",'2.Logbook'!AD200)","v":""},{"$f":"IF('2.Logbook'!AE200=\"\",\"\",'2.Logbook'!AE200)","v":""},{"$f":"IF('2.Logbook'!AF200=\"\",\"\",'2.Logbook'!AF200)","v":""},{"$f":"IF('2.Logbook'!AG200=\"\",\"\",'2.Logbook'!AG200)","v":""}]
[{"$f":"IF('2.Logbook'!A201=\"\",\"\",'2.Logbook'!A201)","v":""},{"$f":"IF('2.Logbook'!B201=\"\",\"\",'2.Logbook'!B201)","v":""},{"$f":"IF('2.Logbook'!C201=\"\",\"\",'2.Logbook'!C201)","v":""},{"$f":"IF('2.Logbook'!D201=\"\",\"\",'2.Logbook'!D201)","v":""},{"$f":"IF('2.Logbook'!E201=\"\",\"\",'2.Logbook'!E201)","v":""},{"$f":"IF('2.Logbook'!F201=\"\",\"\",'2.Logbook'!F201)","v":""},{"$f":"IF('2.Logbook'!G201=\"\",\"\",'2.Logbook'!G201)","v":""},{"$f":"IF('2.Logbook'!H201=\"\",\"\",'2.Logbook'!H201)","v":""},{"$f":"IF('2.Logbook'!I201=\"\",\"\",'2.Logbook'!I201)","v":""},{"$f":"IF('2.Logbook'!J201=\"\",\"\",'2.Logbook'!J201)","v":""},{"$f":"IF('2.Logbook'!K201=\"\",\"\",'2.Logbook'!K201)","v":""},{"$f":"IF('2.Logbook'!L201=\"\",\"\",'2.Logbook'!L201)","v":""},{"$f":"IF('2.Logbook'!M201=\"\",\"\",'2.Logbook'!M201)","v":""},{"$f":"IF('2.Logbook'!N201=\"\",\"\",'2.Logbook'!N201)","v":""},{"$f":"IF('2.Logbook'!O201=\"\",\"\",'2.Logbook'!O201)","v":""},{"$f":"IF('2.Logbook'!P201=\"\",\"\",'2.Logbook'!P201)","v":""},{"$f":"IF('2.Logbook'!Q201=\"\",\"\",'2.Logbook'!Q201)","v":""},{"$f":"IF('2.Logbook'!R201=\"\",\"\",'2.Logbook'!R201)","v":""},{"$f":"IF('2.Logbook'!S201=\"\",\"\",'2.Logbook'!S201)","v":""},{"$f":"IF('2.Logbook'!T201=\"\",\"\",'2.Logbook'!T201)","v":""},{"$f":"IF('2.Logbook'!U201=\"\",\"\",'2.Logbook'!U201)","v":""},{"$f":"IF('2.Logbook'!V201=\"\",\"\",'2.Logbook'!V201)","v":""},{"$f":"IF('2.Logbook'!W201=\"\",\"\",'2.Logbook'!W201)","v":""},{"$f":"IF('2.Logbook'!X201=\"\",\"\",'2.Logbook'!X201)","v":""},{"$f":"IF('2.Logbook'!Y201=\"\",\"\",'2.Logbook'!Y201)","v":""},{"$f":"IF('2.Logbook'!Z201=\"\",\"\",'2.Logbook'!Z201)","v":""},{"$f":"IF('2.Logbook'!AA201=\"\",\"\",'2.Logbook'!AA201)","v":""},{"$f":"IF('2.Logbook'!AB201=\"\",\"\",'2.Logbook'!AB201)","v":""},{"$f":"IF('2.Logbook'!AC201=\"\",\"\",'2.Logbook'!AC201)","v":""},{"$f":"IF('2.Logbook'!AD201=\"\",\"\",'2.Logbook'!AD201)","v":""},{"$f":"IF('2.Logbook'!AE201=\"\",\"\",'2.Logbook'!AE201)","v":""},{"$f":"IF('2.Logbook'!AF201=\"\",\"\",'2.Logbook'!AF201)","v":""},{"$f":"IF('2.Logbook'!AG201=\"\",\"\",'2.Logbook'!AG201)","v":""}]
[{"$f":"IF('2.Logbook'!A202=\"\",\"\",'2.Logbook'!A202)","v":""},{"$f":"IF('2.Logbook'!B202=\"\",\"\",'2.Logbook'!B202)","v":""},{"$f":"IF('2.Logbook'!C202=\"\",\"\",'2.Logbook'!C202)","v":""},{"$f":"IF('2.Logbook'!D202=\"\",\"\",'2.Logbook'!D202)","v":""},{"$f":"IF('2.Logbook'!E202=\"\",\"\",'2.Logbook'!E202)","v":""},{"$f":"IF('2.Logbook'!F202=\"\",\"\",'2.Logbook'!F202)","v":""},{"$f":"IF('2.Logbook'!G202=\"\",\"\",'2.Logbook'!G202)","v":""},{"$f":"IF('2.Logbook'!H202=\"\",\"\",'2.Logbook'!H202)","v":""},{"$f":"IF('2.Logbook'!I202=\"\",\"\",'2.Logbook'!I202)","v":""},{"$f":"IF('2.Logbook'!J202=\"\",\"\",'2.Logbook'!J202)","v":""},{"$f":"IF('2.Logbook'!K202=\"\",\"\",'2.Logbook'!K202)","v":""},{"$f":"IF('2.Logbook'!L202=\"\",\"\",'2.Logbook'!L202)","v":""},{"$f":"IF('2.Logbook'!M202=\"\",\"\",'2.Logbook'!M202)","v":""},{"$f":"IF('2.Logbook'!N202=\"\",\"\",'2.Logbook'!N202)","v":""},{"$f":"IF('2.Logbook'!O202=\"\",\"\",'2.Logbook'!O202)","v":""},{"$f":"IF('2.Logbook'!P202=\"\",\"\",'2.Logbook'!P202)","v":""},{"$f":"IF('2.Logbook'!Q202=\"\",\"\",'2.Logbook'!Q202)","v":""},{"$f":"IF('2.Logbook'!R202=\"\",\"\",'2.Logbook'!R202)","v":""},{"$f":"IF('2.Logbook'!S202=\"\",\"\",'2.Logbook'!S202)","v":""},{"$f":"IF('2.Logbook'!T202=\"\",\"\",'2.Logbook'!T202)","v":""},{"$f":"IF('2.Logbook'!U202=\"\",\"\",'2.Logbook'!U202)","v":""},{"$f":"IF('2.Logbook'!V202=\"\",\"\",'2.Logbook'!V202)","v":""},{"$f":"IF('2.Logbook'!W202=\"\",\"\",'2.Logbook'!W202)","v":""},{"$f":"IF('2.Logbook'!X202=\"\",\"\",'2.Logbook'!X202)","v":""},{"$f":"IF('2.Logbook'!Y202=\"\",\"\",'2.Logbook'!Y202)","v":""},{"$f":"IF('2.Logbook'!Z202=\"\",\"\",'2.Logbook'!Z202)","v":""},{"$f":"IF('2.Logbook'!AA202=\"\",\"\",'2.Logbook'!AA202)","v":""},{"$f":"IF('2.Logbook'!AB202=\"\",\"\",'2.Logbook'!AB202)","v":""},{"$f":"IF('2.Logbook'!AC202=\"\",\"\",'2.Logbook'!AC202)","v":""},{"$f":"IF('2.Logbook'!AD202=\"\",\"\",'2.Logbook'!AD202)","v":""},{"$f":"IF('2.Logbook'!AE202=\"\",\"\",'2.Logbook'!AE202)","v":""},{"$f":"IF('2.Logbook'!AF202=\"\",\"\",'2.Logbook'!AF202)","v":""},{"$f":"IF('2.Logbook'!AG202=\"\",\"\",'2.Logbook'!AG202)","v":""}]
[{"$f":"IF('2.Logbook'!A203=\"\",\"\",'2.Logbook'!A203)","v":""},{"$f":"IF('2.Logbook'!B203=\"\",\"\",'2.Logbook'!B203)","v":""},{"$f":"IF('2.Logbook'!C203=\"\",\"\",'2.Logbook'!C203)","v":""},{"$f":"IF('2.Logbook'!D203=\"\",\"\",'2.Logbook'!D203)","v":""},{"$f":"IF('2.Logbook'!E203=\"\",\"\",'2.Logbook'!E203)","v":""},{"$f":"IF('2.Logbook'!F203=\"\",\"\",'2.Logbook'!F203)","v":""},{"$f":"IF('2.Logbook'!G203=\"\",\"\",'2.Logbook'!G203)","v":""},{"$f":"IF('2.Logbook'!H203=\"\",\"\",'2.Logbook'!H203)","v":""},{"$f":"IF('2.Logbook'!I203=\"\",\"\",'2.Logbook'!I203)","v":""},{"$f":"IF('2.Logbook'!J203=\"\",\"\",'2.Logbook'!J203)","v":""},{"$f":"IF('2.Logbook'!K203=\"\",\"\",'2.Logbook'!K203)","v":""},{"$f":"IF('2.Logbook'!L203=\"\",\"\",'2.Logbook'!L203)","v":""},{"$f":"IF('2.Logbook'!M203=\"\",\"\",'2.Logbook'!M203)","v":""},{"$f":"IF('2.Logbook'!N203=\"\",\"\",'2.Logbook'!N203)","v":""},{"$f":"IF('2.Logbook'!O203=\"\",\"\",'2.Logbook'!O203)","v":""},{"$f":"IF('2.Logbook'!P203=\"\",\"\",'2.Logbook'!P203)","v":""},{"$f":"IF('2.Logbook'!Q203=\"\",\"\",'2.Logbook'!Q203)","v":""},{"$f":"IF('2.Logbook'!R203=\"\",\"\",'2.Logbook'!R203)","v":""},{"$f":"IF('2.Logbook'!S203=\"\",\"\",'2.Logbook'!S203)","v":""},{"$f":"IF('2.Logbook'!T203=\"\",\"\",'2.Logbook'!T203)","v":""},{"$f":"IF('2.Logbook'!U203=\"\",\"\",'2.Logbook'!U203)","v":""},{"$f":"IF('2.Logbook'!V203=\"\",\"\",'2.Logbook'!V203)","v":""},{"$f":"IF('2.Logbook'!W203=\"\",\"\",'2.Logbook'!W203)","v":""},{"$f":"IF('2.Logbook'!X203=\"\",\"\",'2.Logbook'!X203)","v":""},{"$f":"IF('2.Logbook'!Y203=\"\",\"\",'2.Logbook'!Y203)","v":""},{"$f":"IF('2.Logbook'!Z203=\"\",\"\",'2.Logbook'!Z203)","v":""},{"$f":"IF('2.Logbook'!AA203=\"\",\"\",'2.Logbook'!AA203)","v":""},{"$f":"IF('2.Logbook'!AB203=\"\",\"\",'2.Logbook'!AB203)","v":""},{"$f":"IF('2.Logbook'!AC203=\"\",\"\",'2.Logbook'!AC203)","v":""},{"$f":"IF('2.Logbook'!AD203=\"\",\"\",'2.Logbook'!AD203)","v":""},{"$f":"IF('2.Logbook'!AE203=\"\",\"\",'2.Logbook'!AE203)","v":""},{"$f":"IF('2.Logbook'!AF203=\"\",\"\",'2.Logbook'!AF203)","v":""},{"$f":"IF('2.Logbook'!AG203=\"\",\"\",'2.Logbook'!AG203)","v":""}]
[{"$f":"IF('2.Logbook'!A204=\"\",\"\",'2.Logbook'!A204)","v":""},{"$f":"IF('2.Logbook'!B204=\"\",\"\",'2.Logbook'!B204)","v":""},{"$f":"IF('2.Logbook'!C204=\"\",\"\",'2.Logbook'!C204)","v":""},{"$f":"IF('2.Logbook'!D204=\"\",\"\",'2.Logbook'!D204)","v":""},{"$f":"IF('2.Logbook'!E204=\"\",\"\",'2.Logbook'!E204)","v":""},{"$f":"IF('2.Logbook'!F204=\"\",\"\",'2.Logbook'!F204)","v":""},{"$f":"IF('2.Logbook'!G204=\"\",\"\",'2.Logbook'!G204)","v":""},{"$f":"IF('2.Logbook'!H204=\"\",\"\",'2.Logbook'!H204)","v":""},{"$f":"IF('2.Logbook'!I204=\"\",\"\",'2.Logbook'!I204)","v":""},{"$f":"IF('2.Logbook'!J204=\"\",\"\",'2.Logbook'!J204)","v":""},{"$f":"IF('2.Logbook'!K204=\"\",\"\",'2.Logbook'!K204)","v":""},{"$f":"IF('2.Logbook'!L204=\"\",\"\",'2.Logbook'!L204)","v":""},{"$f":"IF('2.Logbook'!M204=\"\",\"\",'2.Logbook'!M204)","v":""},{"$f":"IF('2.Logbook'!N204=\"\",\"\",'2.Logbook'!N204)","v":""},{"$f":"IF('2.Logbook'!O204=\"\",\"\",'2.Logbook'!O204)","v":""},{"$f":"IF('2.Logbook'!P204=\"\",\"\",'2.Logbook'!P204)","v":""},{"$f":"IF('2.Logbook'!Q204=\"\",\"\",'2.Logbook'!Q204)","v":""},{"$f":"IF('2.Logbook'!R204=\"\",\"\",'2.Logbook'!R204)","v":""},{"$f":"IF('2.Logbook'!S204=\"\",\"\",'2.Logbook'!S204)","v":""},{"$f":"IF('2.Logbook'!T204=\"\",\"\",'2.Logbook'!T204)","v":""},{"$f":"IF('2.Logbook'!U204=\"\",\"\",'2.Logbook'!U204)","v":""},{"$f":"IF('2.Logbook'!V204=\"\",\"\",'2.Logbook'!V204)","v":""},{"$f":"IF('2.Logbook'!W204=\"\",\"\",'2.Logbook'!W204)","v":""},{"$f":"IF('2.Logbook'!X204=\"\",\"\",'2.Logbook'!X204)","v":""},{"$f":"IF('2.Logbook'!Y204=\"\",\"\",'2.Logbook'!Y204)","v":""},{"$f":"IF('2.Logbook'!Z204=\"\",\"\",'2.Logbook'!Z204)","v":""},{"$f":"IF('2.Logbook'!AA204=\"\",\"\",'2.Logbook'!AA204)","v":""},{"$f":"IF('2.Logbook'!AB204=\"\",\"\",'2.Logbook'!AB204)","v":""},{"$f":"IF('2.Logbook'!AC204=\"\",\"\",'2.Logbook'!AC204)","v":""},{"$f":"IF('2.Logbook'!AD204=\"\",\"\",'2.Logbook'!AD204)","v":""},{"$f":"IF('2.Logbook'!AE204=\"\",\"\",'2.Logbook'!AE204)","v":""},{"$f":"IF('2.Logbook'!AF204=\"\",\"\",'2.Logbook'!AF204)","v":""},{"$f":"IF('2.Logbook'!AG204=\"\",\"\",'2.Logbook'!AG204)","v":""}]
[{"$f":"IF('2.Logbook'!A205=\"\",\"\",'2.Logbook'!A205)","v":""},{"$f":"IF('2.Logbook'!B205=\"\",\"\",'2.Logbook'!B205)","v":""},{"$f":"IF('2.Logbook'!C205=\"\",\"\",'2.Logbook'!C205)","v":""},{"$f":"IF('2.Logbook'!D205=\"\",\"\",'2.Logbook'!D205)","v":""},{"$f":"IF('2.Logbook'!E205=\"\",\"\",'2.Logbook'!E205)","v":""},{"$f":"IF('2.Logbook'!F205=\"\",\"\",'2.Logbook'!F205)","v":""},{"$f":"IF('2.Logbook'!G205=\"\",\"\",'2.Logbook'!G205)","v":""},{"$f":"IF('2.Logbook'!H205=\"\",\"\",'2.Logbook'!H205)","v":""},{"$f":"IF('2.Logbook'!I205=\"\",\"\",'2.Logbook'!I205)","v":""},{"$f":"IF('2.Logbook'!J205=\"\",\"\",'2.Logbook'!J205)","v":""},{"$f":"IF('2.Logbook'!K205=\"\",\"\",'2.Logbook'!K205)","v":""},{"$f":"IF('2.Logbook'!L205=\"\",\"\",'2.Logbook'!L205)","v":""},{"$f":"IF('2.Logbook'!M205=\"\",\"\",'2.Logbook'!M205)","v":""},{"$f":"IF('2.Logbook'!N205=\"\",\"\",'2.Logbook'!N205)","v":""},{"$f":"IF('2.Logbook'!O205=\"\",\"\",'2.Logbook'!O205)","v":""},{"$f":"IF('2.Logbook'!P205=\"\",\"\",'2.Logbook'!P205)","v":""},{"$f":"IF('2.Logbook'!Q205=\"\",\"\",'2.Logbook'!Q205)","v":""},{"$f":"IF('2.Logbook'!R205=\"\",\"\",'2.Logbook'!R205)","v":""},{"$f":"IF('2.Logbook'!S205=\"\",\"\",'2.Logbook'!S205)","v":""},{"$f":"IF('2.Logbook'!T205=\"\",\"\",'2.Logbook'!T205)","v":""},{"$f":"IF('2.Logbook'!U205=\"\",\"\",'2.Logbook'!U205)","v":""},{"$f":"IF('2.Logbook'!V205=\"\",\"\",'2.Logbook'!V205)","v":""},{"$f":"IF('2.Logbook'!W205=\"\",\"\",'2.Logbook'!W205)","v":""},{"$f":"IF('2.Logbook'!X205=\"\",\"\",'2.Logbook'!X205)","v":""},{"$f":"IF('2.Logbook'!Y205=\"\",\"\",'2.Logbook'!Y205)","v":""},{"$f":"IF('2.Logbook'!Z205=\"\",\"\",'2.Logbook'!Z205)","v":""},{"$f":"IF('2.Logbook'!AA205=\"\",\"\",'2.Logbook'!AA205)","v":""},{"$f":"IF('2.Logbook'!AB205=\"\",\"\",'2.Logbook'!AB205)","v":""},{"$f":"IF('2.Logbook'!AC205=\"\",\"\",'2.Logbook'!AC205)","v":""},{"$f":"IF('2.Logbook'!AD205=\"\",\"\",'2.Logbook'!AD205)","v":""},{"$f":"IF('2.Logbook'!AE205=\"\",\"\",'2.Logbook'!AE205)","v":""},{"$f":"IF('2.Logbook'!AF205=\"\",\"\",'2.Logbook'!AF205)","v":""},{"$f":"IF('2.Logbook'!AG205=\"\",\"\",'2.Logbook'!AG205)","v":""}]
[{"$f":"IF('2.Logbook'!A206=\"\",\"\",'2.Logbook'!A206)","v":""},{"$f":"IF('2.Logbook'!B206=\"\",\"\",'2.Logbook'!B206)","v":""},{"$f":"IF('2.Logbook'!C206=\"\",\"\",'2.Logbook'!C206)","v":""},{"$f":"IF('2.Logbook'!D206=\"\",\"\",'2.Logbook'!D206)","v":""},{"$f":"IF('2.Logbook'!E206=\"\",\"\",'2.Logbook'!E206)","v":""},{"$f":"IF('2.Logbook'!F206=\"\",\"\",'2.Logbook'!F206)","v":""},{"$f":"IF('2.Logbook'!G206=\"\",\"\",'2.Logbook'!G206)","v":""},{"$f":"IF('2.Logbook'!H206=\"\",\"\",'2.Logbook'!H206)","v":""},{"$f":"IF('2.Logbook'!I206=\"\",\"\",'2.Logbook'!I206)","v":""},{"$f":"IF('2.Logbook'!J206=\"\",\"\",'2.Logbook'!J206)","v":""},{"$f":"IF('2.Logbook'!K206=\"\",\"\",'2.Logbook'!K206)","v":""},{"$f":"IF('2.Logbook'!L206=\"\",\"\",'2.Logbook'!L206)","v":""},{"$f":"IF('2.Logbook'!M206=\"\",\"\",'2.Logbook'!M206)","v":""},{"$f":"IF('2.Logbook'!N206=\"\",\"\",'2.Logbook'!N206)","v":""},{"$f":"IF('2.Logbook'!O206=\"\",\"\",'2.Logbook'!O206)","v":""},{"$f":"IF('2.Logbook'!P206=\"\",\"\",'2.Logbook'!P206)","v":""},{"$f":"IF('2.Logbook'!Q206=\"\",\"\",'2.Logbook'!Q206)","v":""},{"$f":"IF('2.Logbook'!R206=\"\",\"\",'2.Logbook'!R206)","v":""},{"$f":"IF('2.Logbook'!S206=\"\",\"\",'2.Logbook'!S206)","v":""},{"$f":"IF('2.Logbook'!T206=\"\",\"\",'2.Logbook'!T206)","v":""},{"$f":"IF('2.Logbook'!U206=\"\",\"\",'2.Logbook'!U206)","v":""},{"$f":"IF('2.Logbook'!V206=\"\",\"\",'2.Logbook'!V206)","v":""},{"$f":"IF('2.Logbook'!W206=\"\",\"\",'2.Logbook'!W206)","v":""},{"$f":"IF('2.Logbook'!X206=\"\",\"\",'2.Logbook'!X206)","v":""},{"$f":"IF('2.Logbook'!Y206=\"\",\"\",'2.Logbook'!Y206)","v":""},{"$f":"IF('2.Logbook'!Z206=\"\",\"\",'2.Logbook'!Z206)","v":""},{"$f":"IF('2.Logbook'!AA206=\"\",\"\",'2.Logbook'!AA206)","v":""},{"$f":"IF('2.Logbook'!AB206=\"\",\"\",'2.Logbook'!AB206)","v":""},{"$f":"IF('2.Logbook'!AC206=\"\",\"\",'2.Logbook'!AC206)","v":""},{"$f":"IF('2.Logbook'!AD206=\"\",\"\",'2.Logbook'!AD206)","v":""},{"$f":"IF('2.Logbook'!AE206=\"\",\"\",'2.Logbook'!AE206)","v":""},{"$f":"IF('2.Logbook'!AF206=\"\",\"\",'2.Logbook'!AF206)","v":""},{"$f":"IF('2.Logbook'!AG206=\"\",\"\",'2.Logbook'!AG206)","v":""}]
[{"$f":"IF('2.Logbook'!A207=\"\",\"\",'2.Logbook'!A207)","v":""},{"$f":"IF('2.Logbook'!B207=\"\",\"\",'2.Logbook'!B207)","v":""},{"$f":"IF('2.Logbook'!C207=\"\",\"\",'2.Logbook'!C207)","v":""},{"$f":"IF('2.Logbook'!D207=\"\",\"\",'2.Logbook'!D207)","v":""},{"$f":"IF('2.Logbook'!E207=\"\",\"\",'2.Logbook'!E207)","v":""},{"$f":"IF('2.Logbook'!F207=\"\",\"\",'2.Logbook'!F207)","v":""},{"$f":"IF('2.Logbook'!G207=\"\",\"\",'2.Logbook'!G207)","v":""},{"$f":"IF('2.Logbook'!H207=\"\",\"\",'2.Logbook'!H207)","v":""},{"$f":"IF('2.Logbook'!I207=\"\",\"\",'2.Logbook'!I207)","v":""},{"$f":"IF('2.Logbook'!J207=\"\",\"\",'2.Logbook'!J207)","v":""},{"$f":"IF('2.Logbook'!K207=\"\",\"\",'2.Logbook'!K207)","v":""},{"$f":"IF('2.Logbook'!L207=\"\",\"\",'2.Logbook'!L207)","v":""},{"$f":"IF('2.Logbook'!M207=\"\",\"\",'2.Logbook'!M207)","v":""},{"$f":"IF('2.Logbook'!N207=\"\",\"\",'2.Logbook'!N207)","v":""},{"$f":"IF('2.Logbook'!O207=\"\",\"\",'2.Logbook'!O207)","v":""},{"$f":"IF('2.Logbook'!P207=\"\",\"\",'2.Logbook'!P207)","v":""},{"$f":"IF('2.Logbook'!Q207=\"\",\"\",'2.Logbook'!Q207)","v":""},{"$f":"IF('2.Logbook'!R207=\"\",\"\",'2.Logbook'!R207)","v":""},{"$f":"IF('2.Logbook'!S207=\"\",\"\",'2.Logbook'!S207)","v":""},{"$f":"IF('2.Logbook'!T207=\"\",\"\",'2.Logbook'!T207)","v":""},{"$f":"IF('2.Logbook'!U207=\"\",\"\",'2.Logbook'!U207)","v":""},{"$f":"IF('2.Logbook'!V207=\"\",\"\",'2.Logbook'!V207)","v":""},{"$f":"IF('2.Logbook'!W207=\"\",\"\",'2.Logbook'!W207)","v":""},{"$f":"IF('2.Logbook'!X207=\"\",\"\",'2.Logbook'!X207)","v":""},{"$f":"IF('2.Logbook'!Y207=\"\",\"\",'2.Logbook'!Y207)","v":""},{"$f":"IF('2.Logbook'!Z207=\"\",\"\",'2.Logbook'!Z207)","v":""},{"$f":"IF('2.Logbook'!AA207=\"\",\"\",'2.Logbook'!AA207)","v":""},{"$f":"IF('2.Logbook'!AB207=\"\",\"\",'2.Logbook'!AB207)","v":""},{"$f":"IF('2.Logbook'!AC207=\"\",\"\",'2.Logbook'!AC207)","v":""},{"$f":"IF('2.Logbook'!AD207=\"\",\"\",'2.Logbook'!AD207)","v":""},{"$f":"IF('2.Logbook'!AE207=\"\",\"\",'2.Logbook'!AE207)","v":""},{"$f":"IF('2.Logbook'!AF207=\"\",\"\",'2.Logbook'!AF207)","v":""},{"$f":"IF('2.Logbook'!AG207=\"\",\"\",'2.Logbook'!AG207)","v":""}]
[{"$f":"IF('2.Logbook'!A208=\"\",\"\",'2.Logbook'!A208)","v":""},{"$f":"IF('2.Logbook'!B208=\"\",\"\",'2.Logbook'!B208)","v":""},{"$f":"IF('2.Logbook'!C208=\"\",\"\",'2.Logbook'!C208)","v":""},{"$f":"IF('2.Logbook'!D208=\"\",\"\",'2.Logbook'!D208)","v":""},{"$f":"IF('2.Logbook'!E208=\"\",\"\",'2.Logbook'!E208)","v":""},{"$f":"IF('2.Logbook'!F208=\"\",\"\",'2.Logbook'!F208)","v":""},{"$f":"IF('2.Logbook'!G208=\"\",\"\",'2.Logbook'!G208)","v":""},{"$f":"IF('2.Logbook'!H208=\"\",\"\",'2.Logbook'!H208)","v":""},{"$f":"IF('2.Logbook'!I208=\"\",\"\",'2.Logbook'!I208)","v":""},{"$f":"IF('2.Logbook'!J208=\"\",\"\",'2.Logbook'!J208)","v":""},{"$f":"IF('2.Logbook'!K208=\"\",\"\",'2.Logbook'!K208)","v":""},{"$f":"IF('2.Logbook'!L208=\"\",\"\",'2.Logbook'!L208)","v":""},{"$f":"IF('2.Logbook'!M208=\"\",\"\",'2.Logbook'!M208)","v":""},{"$f":"IF('2.Logbook'!N208=\"\",\"\",'2.Logbook'!N208)","v":""},{"$f":"IF('2.Logbook'!O208=\"\",\"\",'2.Logbook'!O208)","v":""},{"$f":"IF('2.Logbook'!P208=\"\",\"\",'2.Logbook'!P208)","v":""},{"$f":"IF('2.Logbook'!Q208=\"\",\"\",'2.Logbook'!Q208)","v":""},{"$f":"IF('2.Logbook'!R208=\"\",\"\",'2.Logbook'!R208)","v":""},{"$f":"IF('2.Logbook'!S208=\"\",\"\",'2.Logbook'!S208)","v":""},{"$f":"IF('2.Logbook'!T208=\"\",\"\",'2.Logbook'!T208)","v":""},{"$f":"IF('2.Logbook'!U208=\"\",\"\",'2.Logbook'!U208)","v":""},{"$f":"IF('2.Logbook'!V208=\"\",\"\",'2.Logbook'!V208)","v":""},{"$f":"IF('2.Logbook'!W208=\"\",\"\",'2.Logbook'!W208)","v":""},{"$f":"IF('2.Logbook'!X208=\"\",\"\",'2.Logbook'!X208)","v":""},{"$f":"IF('2.Logbook'!Y208=\"\",\"\",'2.Logbook'!Y208)","v":""},{"$f":"IF('2.Logbook'!Z208=\"\",\"\",'2.Logbook'!Z208)","v":""},{"$f":"IF('2.Logbook'!AA208=\"\",\"\",'2.Logbook'!AA208)","v":""},{"$f":"IF('2.Logbook'!AB208=\"\",\"\",'2.Logbook'!AB208)","v":""},{"$f":"IF('2.Logbook'!AC208=\"\",\"\",'2.Logbook'!AC208)","v":""},{"$f":"IF('2.Logbook'!AD208=\"\",\"\",'2.Logbook'!AD208)","v":""},{"$f":"IF('2.Logbook'!AE208=\"\",\"\",'2.Logbook'!AE208)","v":""},{"$f":"IF('2.Logbook'!AF208=\"\",\"\",'2.Logbook'!AF208)","v":""},{"$f":"IF('2.Logbook'!AG208=\"\",\"\",'2.Logbook'!AG208)","v":""}]
[{"$f":"IF('2.Logbook'!A209=\"\",\"\",'2.Logbook'!A209)","v":""},{"$f":"IF('2.Logbook'!B209=\"\",\"\",'2.Logbook'!B209)","v":""},{"$f":"IF('2.Logbook'!C209=\"\",\"\",'2.Logbook'!C209)","v":""},{"$f":"IF('2.Logbook'!D209=\"\",\"\",'2.Logbook'!D209)","v":""},{"$f":"IF('2.Logbook'!E209=\"\",\"\",'2.Logbook'!E209)","v":""},{"$f":"IF('2.Logbook'!F209=\"\",\"\",'2.Logbook'!F209)","v":""},{"$f":"IF('2.Logbook'!G209=\"\",\"\",'2.Logbook'!G209)","v":""},{"$f":"IF('2.Logbook'!H209=\"\",\"\",'2.Logbook'!H209)","v":""},{"$f":"IF('2.Logbook'!I209=\"\",\"\",'2.Logbook'!I209)","v":""},{"$f":"IF('2.Logbook'!J209=\"\",\"\",'2.Logbook'!J209)","v":""},{"$f":"IF('2.Logbook'!K209=\"\",\"\",'2.Logbook'!K209)","v":""},{"$f":"IF('2.Logbook'!L209=\"\",\"\",'2.Logbook'!L209)","v":""},{"$f":"IF('2.Logbook'!M209=\"\",\"\",'2.Logbook'!M209)","v":""},{"$f":"IF('2.Logbook'!N209=\"\",\"\",'2.Logbook'!N209)","v":""},{"$f":"IF('2.Logbook'!O209=\"\",\"\",'2.Logbook'!O209)","v":""},{"$f":"IF('2.Logbook'!P209=\"\",\"\",'2.Logbook'!P209)","v":""},{"$f":"IF('2.Logbook'!Q209=\"\",\"\",'2.Logbook'!Q209)","v":""},{"$f":"IF('2.Logbook'!R209=\"\",\"\",'2.Logbook'!R209)","v":""},{"$f":"IF('2.Logbook'!S209=\"\",\"\",'2.Logbook'!S209)","v":""},{"$f":"IF('2.Logbook'!T209=\"\",\"\",'2.Logbook'!T209)","v":""},{"$f":"IF('2.Logbook'!U209=\"\",\"\",'2.Logbook'!U209)","v":""},{"$f":"IF('2.Logbook'!V209=\"\",\"\",'2.Logbook'!V209)","v":""},{"$f":"IF('2.Logbook'!W209=\"\",\"\",'2.Logbook'!W209)","v":""},{"$f":"IF('2.Logbook'!X209=\"\",\"\",'2.Logbook'!X209)","v":""},{"$f":"IF('2.Logbook'!Y209=\"\",\"\",'2.Logbook'!Y209)","v":""},{"$f":"IF('2.Logbook'!Z209=\"\",\"\",'2.Logbook'!Z209)","v":""},{"$f":"IF('2.Logbook'!AA209=\"\",\"\",'2.Logbook'!AA209)","v":""},{"$f":"IF('2.Logbook'!AB209=\"\",\"\",'2.Logbook'!AB209)","v":""},{"$f":"IF('2.Logbook'!AC209=\"\",\"\",'2.Logbook'!AC209)","v":""},{"$f":"IF('2.Logbook'!AD209=\"\",\"\",'2.Logbook'!AD209)","v":""},{"$f":"IF('2.Logbook'!AE209=\"\",\"\",'2.Logbook'!AE209)","v":""},{"$f":"IF('2.Logbook'!AF209=\"\",\"\",'2.Logbook'!AF209)","v":""},{"$f":"IF('2.Logbook'!AG209=\"\",\"\",'2.Logbook'!AG209)","v":""}]
[{"$f":"IF('2.Logbook'!A210=\"\",\"\",'2.Logbook'!A210)","v":""},{"$f":"IF('2.Logbook'!B210=\"\",\"\",'2.Logbook'!B210)","v":""},{"$f":"IF('2.Logbook'!C210=\"\",\"\",'2.Logbook'!C210)","v":""},{"$f":"IF('2.Logbook'!D210=\"\",\"\",'2.Logbook'!D210)","v":""},{"$f":"IF('2.Logbook'!E210=\"\",\"\",'2.Logbook'!E210)","v":""},{"$f":"IF('2.Logbook'!F210=\"\",\"\",'2.Logbook'!F210)","v":""},{"$f":"IF('2.Logbook'!G210=\"\",\"\",'2.Logbook'!G210)","v":""},{"$f":"IF('2.Logbook'!H210=\"\",\"\",'2.Logbook'!H210)","v":""},{"$f":"IF('2.Logbook'!I210=\"\",\"\",'2.Logbook'!I210)","v":""},{"$f":"IF('2.Logbook'!J210=\"\",\"\",'2.Logbook'!J210)","v":""},{"$f":"IF('2.Logbook'!K210=\"\",\"\",'2.Logbook'!K210)","v":""},{"$f":"IF('2.Logbook'!L210=\"\",\"\",'2.Logbook'!L210)","v":""},{"$f":"IF('2.Logbook'!M210=\"\",\"\",'2.Logbook'!M210)","v":""},{"$f":"IF('2.Logbook'!N210=\"\",\"\",'2.Logbook'!N210)","v":""},{"$f":"IF('2.Logbook'!O210=\"\",\"\",'2.Logbook'!O210)","v":""},{"$f":"IF('2.Logbook'!P210=\"\",\"\",'2.Logbook'!P210)","v":""},{"$f":"IF('2.Logbook'!Q210=\"\",\"\",'2.Logbook'!Q210)","v":""},{"$f":"IF('2.Logbook'!R210=\"\",\"\",'2.Logbook'!R210)","v":""},{"$f":"IF('2.Logbook'!S210=\"\",\"\",'2.Logbook'!S210)","v":""},{"$f":"IF('2.Logbook'!T210=\"\",\"\",'2.Logbook'!T210)","v":""},{"$f":"IF('2.Logbook'!U210=\"\",\"\",'2.Logbook'!U210)","v":""},{"$f":"IF('2.Logbook'!V210=\"\",\"\",'2.Logbook'!V210)","v":""},{"$f":"IF('2.Logbook'!W210=\"\",\"\",'2.Logbook'!W210)","v":""},{"$f":"IF('2.Logbook'!X210=\"\",\"\",'2.Logbook'!X210)","v":""},{"$f":"IF('2.Logbook'!Y210=\"\",\"\",'2.Logbook'!Y210)","v":""},{"$f":"IF('2.Logbook'!Z210=\"\",\"\",'2.Logbook'!Z210)","v":""},{"$f":"IF('2.Logbook'!AA210=\"\",\"\",'2.Logbook'!AA210)","v":""},{"$f":"IF('2.Logbook'!AB210=\"\",\"\",'2.Logbook'!AB210)","v":""},{"$f":"IF('2.Logbook'!AC210=\"\",\"\",'2.Logbook'!AC210)","v":""},{"$f":"IF('2.Logbook'!AD210=\"\",\"\",'2.Logbook'!AD210)","v":""},{"$f":"IF('2.Logbook'!AE210=\"\",\"\",'2.Logbook'!AE210)","v":""},{"$f":"IF('2.Logbook'!AF210=\"\",\"\",'2.Logbook'!AF210)","v":""},{"$f":"IF('2.Logbook'!AG210=\"\",\"\",'2.Logbook'!AG210)","v":""}]
[{"$f":"IF('2.Logbook'!A211=\"\",\"\",'2.Logbook'!A211)","v":""},{"$f":"IF('2.Logbook'!B211=\"\",\"\",'2.Logbook'!B211)","v":""},{"$f":"IF('2.Logbook'!C211=\"\",\"\",'2.Logbook'!C211)","v":""},{"$f":"IF('2.Logbook'!D211=\"\",\"\",'2.Logbook'!D211)","v":""},{"$f":"IF('2.Logbook'!E211=\"\",\"\",'2.Logbook'!E211)","v":""},{"$f":"IF('2.Logbook'!F211=\"\",\"\",'2.Logbook'!F211)","v":""},{"$f":"IF('2.Logbook'!G211=\"\",\"\",'2.Logbook'!G211)","v":""},{"$f":"IF('2.Logbook'!H211=\"\",\"\",'2.Logbook'!H211)","v":""},{"$f":"IF('2.Logbook'!I211=\"\",\"\",'2.Logbook'!I211)","v":""},{"$f":"IF('2.Logbook'!J211=\"\",\"\",'2.Logbook'!J211)","v":""},{"$f":"IF('2.Logbook'!K211=\"\",\"\",'2.Logbook'!K211)","v":""},{"$f":"IF('2.Logbook'!L211=\"\",\"\",'2.Logbook'!L211)","v":""},{"$f":"IF('2.Logbook'!M211=\"\",\"\",'2.Logbook'!M211)","v":""},{"$f":"IF('2.Logbook'!N211=\"\",\"\",'2.Logbook'!N211)","v":""},{"$f":"IF('2.Logbook'!O211=\"\",\"\",'2.Logbook'!O211)","v":""},{"$f":"IF('2.Logbook'!P211=\"\",\"\",'2.Logbook'!P211)","v":""},{"$f":"IF('2.Logbook'!Q211=\"\",\"\",'2.Logbook'!Q211)","v":""},{"$f":"IF('2.Logbook'!R211=\"\",\"\",'2.Logbook'!R211)","v":""},{"$f":"IF('2.Logbook'!S211=\"\",\"\",'2.Logbook'!S211)","v":""},{"$f":"IF('2.Logbook'!T211=\"\",\"\",'2.Logbook'!T211)","v":""},{"$f":"IF('2.Logbook'!U211=\"\",\"\",'2.Logbook'!U211)","v":""},{"$f":"IF('2.Logbook'!V211=\"\",\"\",'2.Logbook'!V211)","v":""},{"$f":"IF('2.Logbook'!W211=\"\",\"\",'2.Logbook'!W211)","v":""},{"$f":"IF('2.Logbook'!X211=\"\",\"\",'2.Logbook'!X211)","v":""},{"$f":"IF('2.Logbook'!Y211=\"\",\"\",'2.Logbook'!Y211)","v":""},{"$f":"IF('2.Logbook'!Z211=\"\",\"\",'2.Logbook'!Z211)","v":""},{"$f":"IF('2.Logbook'!AA211=\"\",\"\",'2.Logbook'!AA211)","v":""},{"$f":"IF('2.Logbook'!AB211=\"\",\"\",'2.Logbook'!AB211)","v":""},{"$f":"IF('2.Logbook'!AC211=\"\",\"\",'2.Logbook'!AC211)","v":""},{"$f":"IF('2.Logbook'!AD211=\"\",\"\",'2.Logbook'!AD211)","v":""},{"$f":"IF('2.Logbook'!AE211=\"\",\"\",'2.Logbook'!AE211)","v":""},{"$f":"IF('2.Logbook'!AF211=\"\",\"\",'2.Logbook'!AF211)","v":""},{"$f":"IF('2.Logbook'!AG211=\"\",\"\",'2.Logbook'!AG211)","v":""}]
[{"$f":"IF('2.Logbook'!A212=\"\",\"\",'2.Logbook'!A212)","v":""},{"$f":"IF('2.Logbook'!B212=\"\",\"\",'2.Logbook'!B212)","v":""},{"$f":"IF('2.Logbook'!C212=\"\",\"\",'2.Logbook'!C212)","v":""},{"$f":"IF('2.Logbook'!D212=\"\",\"\",'2.Logbook'!D212)","v":""},{"$f":"IF('2.Logbook'!E212=\"\",\"\",'2.Logbook'!E212)","v":""},{"$f":"IF('2.Logbook'!F212=\"\",\"\",'2.Logbook'!F212)","v":""},{"$f":"IF('2.Logbook'!G212=\"\",\"\",'2.Logbook'!G212)","v":""},{"$f":"IF('2.Logbook'!H212=\"\",\"\",'2.Logbook'!H212)","v":""},{"$f":"IF('2.Logbook'!I212=\"\",\"\",'2.Logbook'!I212)","v":""},{"$f":"IF('2.Logbook'!J212=\"\",\"\",'2.Logbook'!J212)","v":""},{"$f":"IF('2.Logbook'!K212=\"\",\"\",'2.Logbook'!K212)","v":""},{"$f":"IF('2.Logbook'!L212=\"\",\"\",'2.Logbook'!L212)","v":""},{"$f":"IF('2.Logbook'!M212=\"\",\"\",'2.Logbook'!M212)","v":""},{"$f":"IF('2.Logbook'!N212=\"\",\"\",'2.Logbook'!N212)","v":""},{"$f":"IF('2.Logbook'!O212=\"\",\"\",'2.Logbook'!O212)","v":""},{"$f":"IF('2.Logbook'!P212=\"\",\"\",'2.Logbook'!P212)","v":""},{"$f":"IF('2.Logbook'!Q212=\"\",\"\",'2.Logbook'!Q212)","v":""},{"$f":"IF('2.Logbook'!R212=\"\",\"\",'2.Logbook'!R212)","v":""},{"$f":"IF('2.Logbook'!S212=\"\",\"\",'2.Logbook'!S212)","v":""},{"$f":"IF('2.Logbook'!T212=\"\",\"\",'2.Logbook'!T212)","v":""},{"$f":"IF('2.Logbook'!U212=\"\",\"\",'2.Logbook'!U212)","v":""},{"$f":"IF('2.Logbook'!V212=\"\",\"\",'2.Logbook'!V212)","v":""},{"$f":"IF('2.Logbook'!W212=\"\",\"\",'2.Logbook'!W212)","v":""},{"$f":"IF('2.Logbook'!X212=\"\",\"\",'2.Logbook'!X212)","v":""},{"$f":"IF('2.Logbook'!Y212=\"\",\"\",'2.Logbook'!Y212)","v":""},{"$f":"IF('2.Logbook'!Z212=\"\",\"\",'2.Logbook'!Z212)","v":""},{"$f":"IF('2.Logbook'!AA212=\"\",\"\",'2.Logbook'!AA212)","v":""},{"$f":"IF('2.Logbook'!AB212=\"\",\"\",'2.Logbook'!AB212)","v":""},{"$f":"IF('2.Logbook'!AC212=\"\",\"\",'2.Logbook'!AC212)","v":""},{"$f":"IF('2.Logbook'!AD212=\"\",\"\",'2.Logbook'!AD212)","v":""},{"$f":"IF('2.Logbook'!AE212=\"\",\"\",'2.Logbook'!AE212)","v":""},{"$f":"IF('2.Logbook'!AF212=\"\",\"\",'2.Logbook'!AF212)","v":""},{"$f":"IF('2.Logbook'!AG212=\"\",\"\",'2.Logbook'!AG212)","v":""}]
[{"$f":"IF('2.Logbook'!A213=\"\",\"\",'2.Logbook'!A213)","v":""},{"$f":"IF('2.Logbook'!B213=\"\",\"\",'2.Logbook'!B213)","v":""},{"$f":"IF('2.Logbook'!C213=\"\",\"\",'2.Logbook'!C213)","v":""},{"$f":"IF('2.Logbook'!D213=\"\",\"\",'2.Logbook'!D213)","v":""},{"$f":"IF('2.Logbook'!E213=\"\",\"\",'2.Logbook'!E213)","v":""},{"$f":"IF('2.Logbook'!F213=\"\",\"\",'2.Logbook'!F213)","v":""},{"$f":"IF('2.Logbook'!G213=\"\",\"\",'2.Logbook'!G213)","v":""},{"$f":"IF('2.Logbook'!H213=\"\",\"\",'2.Logbook'!H213)","v":""},{"$f":"IF('2.Logbook'!I213=\"\",\"\",'2.Logbook'!I213)","v":""},{"$f":"IF('2.Logbook'!J213=\"\",\"\",'2.Logbook'!J213)","v":""},{"$f":"IF('2.Logbook'!K213=\"\",\"\",'2.Logbook'!K213)","v":""},{"$f":"IF('2.Logbook'!L213=\"\",\"\",'2.Logbook'!L213)","v":""},{"$f":"IF('2.Logbook'!M213=\"\",\"\",'2.Logbook'!M213)","v":""},{"$f":"IF('2.Logbook'!N213=\"\",\"\",'2.Logbook'!N213)","v":""},{"$f":"IF('2.Logbook'!O213=\"\",\"\",'2.Logbook'!O213)","v":""},{"$f":"IF('2.Logbook'!P213=\"\",\"\",'2.Logbook'!P213)","v":""},{"$f":"IF('2.Logbook'!Q213=\"\",\"\",'2.Logbook'!Q213)","v":""},{"$f":"IF('2.Logbook'!R213=\"\",\"\",'2.Logbook'!R213)","v":""},{"$f":"IF('2.Logbook'!S213=\"\",\"\",'2.Logbook'!S213)","v":""},{"$f":"IF('2.Logbook'!T213=\"\",\"\",'2.Logbook'!T213)","v":""},{"$f":"IF('2.Logbook'!U213=\"\",\"\",'2.Logbook'!U213)","v":""},{"$f":"IF('2.Logbook'!V213=\"\",\"\",'2.Logbook'!V213)","v":""},{"$f":"IF('2.Logbook'!W213=\"\",\"\",'2.Logbook'!W213)","v":""},{"$f":"IF('2.Logbook'!X213=\"\",\"\",'2.Logbook'!X213)","v":""},{"$f":"IF('2.Logbook'!Y213=\"\",\"\",'2.Logbook'!Y213)","v":""},{"$f":"IF('2.Logbook'!Z213=\"\",\"\",'2.Logbook'!Z213)","v":""},{"$f":"IF('2.Logbook'!AA213=\"\",\"\",'2.Logbook'!AA213)","v":""},{"$f":"IF('2.Logbook'!AB213=\"\",\"\",'2.Logbook'!AB213)","v":""},{"$f":"IF('2.Logbook'!AC213=\"\",\"\",'2.Logbook'!AC213)","v":""},{"$f":"IF('2.Logbook'!AD213=\"\",\"\",'2.Logbook'!AD213)","v":""},{"$f":"IF('2.Logbook'!AE213=\"\",\"\",'2.Logbook'!AE213)","v":""},{"$f":"IF('2.Logbook'!AF213=\"\",\"\",'2.Logbook'!AF213)","v":""},{"$f":"IF('2.Logbook'!AG213=\"\",\"\",'2.Logbook'!AG213)","v":""}]
[{"$f":"IF('2.Logbook'!A214=\"\",\"\",'2.Logbook'!A214)","v":""},{"$f":"IF('2.Logbook'!B214=\"\",\"\",'2.Logbook'!B214)","v":""},{"$f":"IF('2.Logbook'!C214=\"\",\"\",'2.Logbook'!C214)","v":""},{"$f":"IF('2.Logbook'!D214=\"\",\"\",'2.Logbook'!D214)","v":""},{"$f":"IF('2.Logbook'!E214=\"\",\"\",'2.Logbook'!E214)","v":""},{"$f":"IF('2.Logbook'!F214=\"\",\"\",'2.Logbook'!F214)","v":""},{"$f":"IF('2.Logbook'!G214=\"\",\"\",'2.Logbook'!G214)","v":""},{"$f":"IF('2.Logbook'!H214=\"\",\"\",'2.Logbook'!H214)","v":""},{"$f":"IF('2.Logbook'!I214=\"\",\"\",'2.Logbook'!I214)","v":""},{"$f":"IF('2.Logbook'!J214=\"\",\"\",'2.Logbook'!J214)","v":""},{"$f":"IF('2.Logbook'!K214=\"\",\"\",'2.Logbook'!K214)","v":""},{"$f":"IF('2.Logbook'!L214=\"\",\"\",'2.Logbook'!L214)","v":""},{"$f":"IF('2.Logbook'!M214=\"\",\"\",'2.Logbook'!M214)","v":""},{"$f":"IF('2.Logbook'!N214=\"\",\"\",'2.Logbook'!N214)","v":""},{"$f":"IF('2.Logbook'!O214=\"\",\"\",'2.Logbook'!O214)","v":""},{"$f":"IF('2.Logbook'!P214=\"\",\"\",'2.Logbook'!P214)","v":""},{"$f":"IF('2.Logbook'!Q214=\"\",\"\",'2.Logbook'!Q214)","v":""},{"$f":"IF('2.Logbook'!R214=\"\",\"\",'2.Logbook'!R214)","v":""},{"$f":"IF('2.Logbook'!S214=\"\",\"\",'2.Logbook'!S214)","v":""},{"$f":"IF('2.Logbook'!T214=\"\",\"\",'2.Logbook'!T214)","v":""},{"$f":"IF('2.Logbook'!U214=\"\",\"\",'2.Logbook'!U214)","v":""},{"$f":"IF('2.Logbook'!V214=\"\",\"\",'2.Logbook'!V214)","v":""},{"$f":"IF('2.Logbook'!W214=\"\",\"\",'2.Logbook'!W214)","v":""},{"$f":"IF('2.Logbook'!X214=\"\",\"\",'2.Logbook'!X214)","v":""},{"$f":"IF('2.Logbook'!Y214=\"\",\"\",'2.Logbook'!Y214)","v":""},{"$f":"IF('2.Logbook'!Z214=\"\",\"\",'2.Logbook'!Z214)","v":""},{"$f":"IF('2.Logbook'!AA214=\"\",\"\",'2.Logbook'!AA214)","v":""},{"$f":"IF('2.Logbook'!AB214=\"\",\"\",'2.Logbook'!AB214)","v":""},{"$f":"IF('2.Logbook'!AC214=\"\",\"\",'2.Logbook'!AC214)","v":""},{"$f":"IF('2.Logbook'!AD214=\"\",\"\",'2.Logbook'!AD214)","v":""},{"$f":"IF('2.Logbook'!AE214=\"\",\"\",'2.Logbook'!AE214)","v":""},{"$f":"IF('2.Logbook'!AF214=\"\",\"\",'2.Logbook'!AF214)","v":""},{"$f":"IF('2.Logbook'!AG214=\"\",\"\",'2.Logbook'!AG214)","v":""}]
[{"$f":"IF('2.Logbook'!A215=\"\",\"\",'2.Logbook'!A215)","v":""},{"$f":"IF('2.Logbook'!B215=\"\",\"\",'2.Logbook'!B215)","v":""},{"$f":"IF('2.Logbook'!C215=\"\",\"\",'2.Logbook'!C215)","v":""},{"$f":"IF('2.Logbook'!D215=\"\",\"\",'2.Logbook'!D215)","v":""},{"$f":"IF('2.Logbook'!E215=\"\",\"\",'2.Logbook'!E215)","v":""},{"$f":"IF('2.Logbook'!F215=\"\",\"\",'2.Logbook'!F215)","v":""},{"$f":"IF('2.Logbook'!G215=\"\",\"\",'2.Logbook'!G215)","v":""},{"$f":"IF('2.Logbook'!H215=\"\",\"\",'2.Logbook'!H215)","v":""},{"$f":"IF('2.Logbook'!I215=\"\",\"\",'2.Logbook'!I215)","v":""},{"$f":"IF('2.Logbook'!J215=\"\",\"\",'2.Logbook'!J215)","v":""},{"$f":"IF('2.Logbook'!K215=\"\",\"\",'2.Logbook'!K215)","v":""},{"$f":"IF('2.Logbook'!L215=\"\",\"\",'2.Logbook'!L215)","v":""},{"$f":"IF('2.Logbook'!M215=\"\",\"\",'2.Logbook'!M215)","v":""},{"$f":"IF('2.Logbook'!N215=\"\",\"\",'2.Logbook'!N215)","v":""},{"$f":"IF('2.Logbook'!O215=\"\",\"\",'2.Logbook'!O215)","v":""},{"$f":"IF('2.Logbook'!P215=\"\",\"\",'2.Logbook'!P215)","v":""},{"$f":"IF('2.Logbook'!Q215=\"\",\"\",'2.Logbook'!Q215)","v":""},{"$f":"IF('2.Logbook'!R215=\"\",\"\",'2.Logbook'!R215)","v":""},{"$f":"IF('2.Logbook'!S215=\"\",\"\",'2.Logbook'!S215)","v":""},{"$f":"IF('2.Logbook'!T215=\"\",\"\",'2.Logbook'!T215)","v":""},{"$f":"IF('2.Logbook'!U215=\"\",\"\",'2.Logbook'!U215)","v":""},{"$f":"IF('2.Logbook'!V215=\"\",\"\",'2.Logbook'!V215)","v":""},{"$f":"IF('2.Logbook'!W215=\"\",\"\",'2.Logbook'!W215)","v":""},{"$f":"IF('2.Logbook'!X215=\"\",\"\",'2.Logbook'!X215)","v":""},{"$f":"IF('2.Logbook'!Y215=\"\",\"\",'2.Logbook'!Y215)","v":""},{"$f":"IF('2.Logbook'!Z215=\"\",\"\",'2.Logbook'!Z215)","v":""},{"$f":"IF('2.Logbook'!AA215=\"\",\"\",'2.Logbook'!AA215)","v":""},{"$f":"IF('2.Logbook'!AB215=\"\",\"\",'2.Logbook'!AB215)","v":""},{"$f":"IF('2.Logbook'!AC215=\"\",\"\",'2.Logbook'!AC215)","v":""},{"$f":"IF('2.Logbook'!AD215=\"\",\"\",'2.Logbook'!AD215)","v":""},{"$f":"IF('2.Logbook'!AE215=\"\",\"\",'2.Logbook'!AE215)","v":""},{"$f":"IF('2.Logbook'!AF215=\"\",\"\",'2.Logbook'!AF215)","v":""},{"$f":"IF('2.Logbook'!AG215=\"\",\"\",'2.Logbook'!AG215)","v":""}]
[{"$f":"IF('2.Logbook'!A216=\"\",\"\",'2.Logbook'!A216)","v":""},{"$f":"IF('2.Logbook'!B216=\"\",\"\",'2.Logbook'!B216)","v":""},{"$f":"IF('2.Logbook'!C216=\"\",\"\",'2.Logbook'!C216)","v":""},{"$f":"IF('2.Logbook'!D216=\"\",\"\",'2.Logbook'!D216)","v":""},{"$f":"IF('2.Logbook'!E216=\"\",\"\",'2.Logbook'!E216)","v":""},{"$f":"IF('2.Logbook'!F216=\"\",\"\",'2.Logbook'!F216)","v":""},{"$f":"IF('2.Logbook'!G216=\"\",\"\",'2.Logbook'!G216)","v":""},{"$f":"IF('2.Logbook'!H216=\"\",\"\",'2.Logbook'!H216)","v":""},{"$f":"IF('2.Logbook'!I216=\"\",\"\",'2.Logbook'!I216)","v":""},{"$f":"IF('2.Logbook'!J216=\"\",\"\",'2.Logbook'!J216)","v":""},{"$f":"IF('2.Logbook'!K216=\"\",\"\",'2.Logbook'!K216)","v":""},{"$f":"IF('2.Logbook'!L216=\"\",\"\",'2.Logbook'!L216)","v":""},{"$f":"IF('2.Logbook'!M216=\"\",\"\",'2.Logbook'!M216)","v":""},{"$f":"IF('2.Logbook'!N216=\"\",\"\",'2.Logbook'!N216)","v":""},{"$f":"IF('2.Logbook'!O216=\"\",\"\",'2.Logbook'!O216)","v":""},{"$f":"IF('2.Logbook'!P216=\"\",\"\",'2.Logbook'!P216)","v":""},{"$f":"IF('2.Logbook'!Q216=\"\",\"\",'2.Logbook'!Q216)","v":""},{"$f":"IF('2.Logbook'!R216=\"\",\"\",'2.Logbook'!R216)","v":""},{"$f":"IF('2.Logbook'!S216=\"\",\"\",'2.Logbook'!S216)","v":""},{"$f":"IF('2.Logbook'!T216=\"\",\"\",'2.Logbook'!T216)","v":""},{"$f":"IF('2.Logbook'!U216=\"\",\"\",'2.Logbook'!U216)","v":""},{"$f":"IF('2.Logbook'!V216=\"\",\"\",'2.Logbook'!V216)","v":""},{"$f":"IF('2.Logbook'!W216=\"\",\"\",'2.Logbook'!W216)","v":""},{"$f":"IF('2.Logbook'!X216=\"\",\"\",'2.Logbook'!X216)","v":""},{"$f":"IF('2.Logbook'!Y216=\"\",\"\",'2.Logbook'!Y216)","v":""},{"$f":"IF('2.Logbook'!Z216=\"\",\"\",'2.Logbook'!Z216)","v":""},{"$f":"IF('2.Logbook'!AA216=\"\",\"\",'2.Logbook'!AA216)","v":""},{"$f":"IF('2.Logbook'!AB216=\"\",\"\",'2.Logbook'!AB216)","v":""},{"$f":"IF('2.Logbook'!AC216=\"\",\"\",'2.Logbook'!AC216)","v":""},{"$f":"IF('2.Logbook'!AD216=\"\",\"\",'2.Logbook'!AD216)","v":""},{"$f":"IF('2.Logbook'!AE216=\"\",\"\",'2.Logbook'!AE216)","v":""},{"$f":"IF('2.Logbook'!AF216=\"\",\"\",'2.Logbook'!AF216)","v":""},{"$f":"IF('2.Logbook'!AG216=\"\",\"\",'2.Logbook'!AG216)","v":""}]
[{"$f":"IF('2.Logbook'!A217=\"\",\"\",'2.Logbook'!A217)","v":""},{"$f":"IF('2.Logbook'!B217=\"\",\"\",'2.Logbook'!B217)","v":""},{"$f":"IF('2.Logbook'!C217=\"\",\"\",'2.Logbook'!C217)","v":""},{"$f":"IF('2.Logbook'!D217=\"\",\"\",'2.Logbook'!D217)","v":""},{"$f":"IF('2.Logbook'!E217=\"\",\"\",'2.Logbook'!E217)","v":""},{"$f":"IF('2.Logbook'!F217=\"\",\"\",'2.Logbook'!F217)","v":""},{"$f":"IF('2.Logbook'!G217=\"\",\"\",'2.Logbook'!G217)","v":""},{"$f":"IF('2.Logbook'!H217=\"\",\"\",'2.Logbook'!H217)","v":""},{"$f":"IF('2.Logbook'!I217=\"\",\"\",'2.Logbook'!I217)","v":""},{"$f":"IF('2.Logbook'!J217=\"\",\"\",'2.Logbook'!J217)","v":""},{"$f":"IF('2.Logbook'!K217=\"\",\"\",'2.Logbook'!K217)","v":""},{"$f":"IF('2.Logbook'!L217=\"\",\"\",'2.Logbook'!L217)","v":""},{"$f":"IF('2.Logbook'!M217=\"\",\"\",'2.Logbook'!M217)","v":""},{"$f":"IF('2.Logbook'!N217=\"\",\"\",'2.Logbook'!N217)","v":""},{"$f":"IF('2.Logbook'!O217=\"\",\"\",'2.Logbook'!O217)","v":""},{"$f":"IF('2.Logbook'!P217=\"\",\"\",'2.Logbook'!P217)","v":""},{"$f":"IF('2.Logbook'!Q217=\"\",\"\",'2.Logbook'!Q217)","v":""},{"$f":"IF('2.Logbook'!R217=\"\",\"\",'2.Logbook'!R217)","v":""},{"$f":"IF('2.Logbook'!S217=\"\",\"\",'2.Logbook'!S217)","v":""},{"$f":"IF('2.Logbook'!T217=\"\",\"\",'2.Logbook'!T217)","v":""},{"$f":"IF('2.Logbook'!U217=\"\",\"\",'2.Logbook'!U217)","v":""},{"$f":"IF('2.Logbook'!V217=\"\",\"\",'2.Logbook'!V217)","v":""},{"$f":"IF('2.Logbook'!W217=\"\",\"\",'2.Logbook'!W217)","v":""},{"$f":"IF('2.Logbook'!X217=\"\",\"\",'2.Logbook'!X217)","v":""},{"$f":"IF('2.Logbook'!Y217=\"\",\"\",'2.Logbook'!Y217)","v":""},{"$f":"IF('2.Logbook'!Z217=\"\",\"\",'2.Logbook'!Z217)","v":""},{"$f":"IF('2.Logbook'!AA217=\"\",\"\",'2.Logbook'!AA217)","v":""},{"$f":"IF('2.Logbook'!AB217=\"\",\"\",'2.Logbook'!AB217)","v":""},{"$f":"IF('2.Logbook'!AC217=\"\",\"\",'2.Logbook'!AC217)","v":""},{"$f":"IF('2.Logbook'!AD217=\"\",\"\",'2.Logbook'!AD217)","v":""},{"$f":"IF('2.Logbook'!AE217=\"\",\"\",'2.Logbook'!AE217)","v":""},{"$f":"IF('2.Logbook'!AF217=\"\",\"\",'2.Logbook'!AF217)","v":""},{"$f":"IF('2.Logbook'!AG217=\"\",\"\",'2.Logbook'!AG217)","v":""}]
[{"$f":"IF('2.Logbook'!A218=\"\",\"\",'2.Logbook'!A218)","v":""},{"$f":"IF('2.Logbook'!B218=\"\",\"\",'2.Logbook'!B218)","v":""},{"$f":"IF('2.Logbook'!C218=\"\",\"\",'2.Logbook'!C218)","v":""},{"$f":"IF('2.Logbook'!D218=\"\",\"\",'2.Logbook'!D218)","v":""},{"$f":"IF('2.Logbook'!E218=\"\",\"\",'2.Logbook'!E218)","v":""},{"$f":"IF('2.Logbook'!F218=\"\",\"\",'2.Logbook'!F218)","v":""},{"$f":"IF('2.Logbook'!G218=\"\",\"\",'2.Logbook'!G218)","v":""},{"$f":"IF('2.Logbook'!H218=\"\",\"\",'2.Logbook'!H218)","v":""},{"$f":"IF('2.Logbook'!I218=\"\",\"\",'2.Logbook'!I218)","v":""},{"$f":"IF('2.Logbook'!J218=\"\",\"\",'2.Logbook'!J218)","v":""},{"$f":"IF('2.Logbook'!K218=\"\",\"\",'2.Logbook'!K218)","v":""},{"$f":"IF('2.Logbook'!L218=\"\",\"\",'2.Logbook'!L218)","v":""},{"$f":"IF('2.Logbook'!M218=\"\",\"\",'2.Logbook'!M218)","v":""},{"$f":"IF('2.Logbook'!N218=\"\",\"\",'2.Logbook'!N218)","v":""},{"$f":"IF('2.Logbook'!O218=\"\",\"\",'2.Logbook'!O218)","v":""},{"$f":"IF('2.Logbook'!P218=\"\",\"\",'2.Logbook'!P218)","v":""},{"$f":"IF('2.Logbook'!Q218=\"\",\"\",'2.Logbook'!Q218)","v":""},{"$f":"IF('2.Logbook'!R218=\"\",\"\",'2.Logbook'!R218)","v":""},{"$f":"IF('2.Logbook'!S218=\"\",\"\",'2.Logbook'!S218)","v":""},{"$f":"IF('2.Logbook'!T218=\"\",\"\",'2.Logbook'!T218)","v":""},{"$f":"IF('2.Logbook'!U218=\"\",\"\",'2.Logbook'!U218)","v":""},{"$f":"IF('2.Logbook'!V218=\"\",\"\",'2.Logbook'!V218)","v":""},{"$f":"IF('2.Logbook'!W218=\"\",\"\",'2.Logbook'!W218)","v":""},{"$f":"IF('2.Logbook'!X218=\"\",\"\",'2.Logbook'!X218)","v":""},{"$f":"IF('2.Logbook'!Y218=\"\",\"\",'2.Logbook'!Y218)","v":""},{"$f":"IF('2.Logbook'!Z218=\"\",\"\",'2.Logbook'!Z218)","v":""},{"$f":"IF('2.Logbook'!AA218=\"\",\"\",'2.Logbook'!AA218)","v":""},{"$f":"IF('2.Logbook'!AB218=\"\",\"\",'2.Logbook'!AB218)","v":""},{"$f":"IF('2.Logbook'!AC218=\"\",\"\",'2.Logbook'!AC218)","v":""},{"$f":"IF('2.Logbook'!AD218=\"\",\"\",'2.Logbook'!AD218)","v":""},{"$f":"IF('2.Logbook'!AE218=\"\",\"\",'2.Logbook'!AE218)","v":""},{"$f":"IF('2.Logbook'!AF218=\"\",\"\",'2.Logbook'!AF218)","v":""},{"$f":"IF('2.Logbook'!AG218=\"\",\"\",'2.Logbook'!AG218)","v":""}]
[{"$f":"IF('2.Logbook'!A219=\"\",\"\",'2.Logbook'!A219)","v":""},{"$f":"IF('2.Logbook'!B219=\"\",\"\",'2.Logbook'!B219)","v":""},{"$f":"IF('2.Logbook'!C219=\"\",\"\",'2.Logbook'!C219)","v":""},{"$f":"IF('2.Logbook'!D219=\"\",\"\",'2.Logbook'!D219)","v":""},{"$f":"IF('2.Logbook'!E219=\"\",\"\",'2.Logbook'!E219)","v":""},{"$f":"IF('2.Logbook'!F219=\"\",\"\",'2.Logbook'!F219)","v":""},{"$f":"IF('2.Logbook'!G219=\"\",\"\",'2.Logbook'!G219)","v":""},{"$f":"IF('2.Logbook'!H219=\"\",\"\",'2.Logbook'!H219)","v":""},{"$f":"IF('2.Logbook'!I219=\"\",\"\",'2.Logbook'!I219)","v":""},{"$f":"IF('2.Logbook'!J219=\"\",\"\",'2.Logbook'!J219)","v":""},{"$f":"IF('2.Logbook'!K219=\"\",\"\",'2.Logbook'!K219)","v":""},{"$f":"IF('2.Logbook'!L219=\"\",\"\",'2.Logbook'!L219)","v":""},{"$f":"IF('2.Logbook'!M219=\"\",\"\",'2.Logbook'!M219)","v":""},{"$f":"IF('2.Logbook'!N219=\"\",\"\",'2.Logbook'!N219)","v":""},{"$f":"IF('2.Logbook'!O219=\"\",\"\",'2.Logbook'!O219)","v":""},{"$f":"IF('2.Logbook'!P219=\"\",\"\",'2.Logbook'!P219)","v":""},{"$f":"IF('2.Logbook'!Q219=\"\",\"\",'2.Logbook'!Q219)","v":""},{"$f":"IF('2.Logbook'!R219=\"\",\"\",'2.Logbook'!R219)","v":""},{"$f":"IF('2.Logbook'!S219=\"\",\"\",'2.Logbook'!S219)","v":""},{"$f":"IF('2.Logbook'!T219=\"\",\"\",'2.Logbook'!T219)","v":""},{"$f":"IF('2.Logbook'!U219=\"\",\"\",'2.Logbook'!U219)","v":""},{"$f":"IF('2.Logbook'!V219=\"\",\"\",'2.Logbook'!V219)","v":""},{"$f":"IF('2.Logbook'!W219=\"\",\"\",'2.Logbook'!W219)","v":""},{"$f":"IF('2.Logbook'!X219=\"\",\"\",'2.Logbook'!X219)","v":""},{"$f":"IF('2.Logbook'!Y219=\"\",\"\",'2.Logbook'!Y219)","v":""},{"$f":"IF('2.Logbook'!Z219=\"\",\"\",'2.Logbook'!Z219)","v":""},{"$f":"IF('2.Logbook'!AA219=\"\",\"\",'2.Logbook'!AA219)","v":""},{"$f":"IF('2.Logbook'!AB219=\"\",\"\",'2.Logbook'!AB219)","v":""},{"$f":"IF('2.Logbook'!AC219=\"\",\"\",'2.Logbook'!AC219)","v":""},{"$f":"IF('2.Logbook'!AD219=\"\",\"\",'2.Logbook'!AD219)","v":""},{"$f":"IF('2.Logbook'!AE219=\"\",\"\",'2.Logbook'!AE219)","v":""},{"$f":"IF('2.Logbook'!AF219=\"\",\"\",'2.Logbook'!AF219)","v":""},{"$f":"IF('2.Logbook'!AG219=\"\",\"\",'2.Logbook'!AG219)","v":""}]
[{"$f":"IF('2.Logbook'!A220=\"\",\"\",'2.Logbook'!A220)","v":""},{"$f":"IF('2.Logbook'!B220=\"\",\"\",'2.Logbook'!B220)","v":""},{"$f":"IF('2.Logbook'!C220=\"\",\"\",'2.Logbook'!C220)","v":""},{"$f":"IF('2.Logbook'!D220=\"\",\"\",'2.Logbook'!D220)","v":""},{"$f":"IF('2.Logbook'!E220=\"\",\"\",'2.Logbook'!E220)","v":""},{"$f":"IF('2.Logbook'!F220=\"\",\"\",'2.Logbook'!F220)","v":""},{"$f":"IF('2.Logbook'!G220=\"\",\"\",'2.Logbook'!G220)","v":""},{"$f":"IF('2.Logbook'!H220=\"\",\"\",'2.Logbook'!H220)","v":""},{"$f":"IF('2.Logbook'!I220=\"\",\"\",'2.Logbook'!I220)","v":""},{"$f":"IF('2.Logbook'!J220=\"\",\"\",'2.Logbook'!J220)","v":""},{"$f":"IF('2.Logbook'!K220=\"\",\"\",'2.Logbook'!K220)","v":""},{"$f":"IF('2.Logbook'!L220=\"\",\"\",'2.Logbook'!L220)","v":""},{"$f":"IF('2.Logbook'!M220=\"\",\"\",'2.Logbook'!M220)","v":""},{"$f":"IF('2.Logbook'!N220=\"\",\"\",'2.Logbook'!N220)","v":""},{"$f":"IF('2.Logbook'!O220=\"\",\"\",'2.Logbook'!O220)","v":""},{"$f":"IF('2.Logbook'!P220=\"\",\"\",'2.Logbook'!P220)","v":""},{"$f":"IF('2.Logbook'!Q220=\"\",\"\",'2.Logbook'!Q220)","v":""},{"$f":"IF('2.Logbook'!R220=\"\",\"\",'2.Logbook'!R220)","v":""},{"$f":"IF('2.Logbook'!S220=\"\",\"\",'2.Logbook'!S220)","v":""},{"$f":"IF('2.Logbook'!T220=\"\",\"\",'2.Logbook'!T220)","v":""},{"$f":"IF('2.Logbook'!U220=\"\",\"\",'2.Logbook'!U220)","v":""},{"$f":"IF('2.Logbook'!V220=\"\",\"\",'2.Logbook'!V220)","v":""},{"$f":"IF('2.Logbook'!W220=\"\",\"\",'2.Logbook'!W220)","v":""},{"$f":"IF('2.Logbook'!X220=\"\",\"\",'2.Logbook'!X220)","v":""},{"$f":"IF('2.Logbook'!Y220=\"\",\"\",'2.Logbook'!Y220)","v":""},{"$f":"IF('2.Logbook'!Z220=\"\",\"\",'2.Logbook'!Z220)","v":""},{"$f":"IF('2.Logbook'!AA220=\"\",\"\",'2.Logbook'!AA220)","v":""},{"$f":"IF('2.Logbook'!AB220=\"\",\"\",'2.Logbook'!AB220)","v":""},{"$f":"IF('2.Logbook'!AC220=\"\",\"\",'2.Logbook'!AC220)","v":""},{"$f":"IF('2.Logbook'!AD220=\"\",\"\",'2.Logbook'!AD220)","v":""},{"$f":"IF('2.Logbook'!AE220=\"\",\"\",'2.Logbook'!AE220)","v":""},{"$f":"IF('2.Logbook'!AF220=\"\",\"\",'2.Logbook'!AF220)","v":""},{"$f":"IF('2.Logbook'!AG220=\"\",\"\",'2.Logbook'!AG220)","v":""}]
[{"$f":"IF('2.Logbook'!A221=\"\",\"\",'2.Logbook'!A221)","v":""},{"$f":"IF('2.Logbook'!B221=\"\",\"\",'2.Logbook'!B221)","v":""},{"$f":"IF('2.Logbook'!C221=\"\",\"\",'2.Logbook'!C221)","v":""},{"$f":"IF('2.Logbook'!D221=\"\",\"\",'2.Logbook'!D221)","v":""},{"$f":"IF('2.Logbook'!E221=\"\",\"\",'2.Logbook'!E221)","v":""},{"$f":"IF('2.Logbook'!F221=\"\",\"\",'2.Logbook'!F221)","v":""},{"$f":"IF('2.Logbook'!G221=\"\",\"\",'2.Logbook'!G221)","v":""},{"$f":"IF('2.Logbook'!H221=\"\",\"\",'2.Logbook'!H221)","v":""},{"$f":"IF('2.Logbook'!I221=\"\",\"\",'2.Logbook'!I221)","v":""},{"$f":"IF('2.Logbook'!J221=\"\",\"\",'2.Logbook'!J221)","v":""},{"$f":"IF('2.Logbook'!K221=\"\",\"\",'2.Logbook'!K221)","v":""},{"$f":"IF('2.Logbook'!L221=\"\",\"\",'2.Logbook'!L221)","v":""},{"$f":"IF('2.Logbook'!M221=\"\",\"\",'2.Logbook'!M221)","v":""},{"$f":"IF('2.Logbook'!N221=\"\",\"\",'2.Logbook'!N221)","v":""},{"$f":"IF('2.Logbook'!O221=\"\",\"\",'2.Logbook'!O221)","v":""},{"$f":"IF('2.Logbook'!P221=\"\",\"\",'2.Logbook'!P221)","v":""},{"$f":"IF('2.Logbook'!Q221=\"\",\"\",'2.Logbook'!Q221)","v":""},{"$f":"IF('2.Logbook'!R221=\"\",\"\",'2.Logbook'!R221)","v":""},{"$f":"IF('2.Logbook'!S221=\"\",\"\",'2.Logbook'!S221)","v":""},{"$f":"IF('2.Logbook'!T221=\"\",\"\",'2.Logbook'!T221)","v":""},{"$f":"IF('2.Logbook'!U221=\"\",\"\",'2.Logbook'!U221)","v":""},{"$f":"IF('2.Logbook'!V221=\"\",\"\",'2.Logbook'!V221)","v":""},{"$f":"IF('2.Logbook'!W221=\"\",\"\",'2.Logbook'!W221)","v":""},{"$f":"IF('2.Logbook'!X221=\"\",\"\",'2.Logbook'!X221)","v":""},{"$f":"IF('2.Logbook'!Y221=\"\",\"\",'2.Logbook'!Y221)","v":""},{"$f":"IF('2.Logbook'!Z221=\"\",\"\",'2.Logbook'!Z221)","v":""},{"$f":"IF('2.Logbook'!AA221=\"\",\"\",'2.Logbook'!AA221)","v":""},{"$f":"IF('2.Logbook'!AB221=\"\",\"\",'2.Logbook'!AB221)","v":""},{"$f":"IF('2.Logbook'!AC221=\"\",\"\",'2.Logbook'!AC221)","v":""},{"$f":"IF('2.Logbook'!AD221=\"\",\"\",'2.Logbook'!AD221)","v":""},{"$f":"IF('2.Logbook'!AE221=\"\",\"\",'2.Logbook'!AE221)","v":""},{"$f":"IF('2.Logbook'!AF221=\"\",\"\",'2.Logbook'!AF221)","v":""},{"$f":"IF('2.Logbook'!AG221=\"\",\"\",'2.Logbook'!AG221)","v":""}]
[{"$f":"IF('2.Logbook'!A222=\"\",\"\",'2.Logbook'!A222)","v":""},{"$f":"IF('2.Logbook'!B222=\"\",\"\",'2.Logbook'!B222)","v":""},{"$f":"IF('2.Logbook'!C222=\"\",\"\",'2.Logbook'!C222)","v":""},{"$f":"IF('2.Logbook'!D222=\"\",\"\",'2.Logbook'!D222)","v":""},{"$f":"IF('2.Logbook'!E222=\"\",\"\",'2.Logbook'!E222)","v":""},{"$f":"IF('2.Logbook'!F222=\"\",\"\",'2.Logbook'!F222)","v":""},{"$f":"IF('2.Logbook'!G222=\"\",\"\",'2.Logbook'!G222)","v":""},{"$f":"IF('2.Logbook'!H222=\"\",\"\",'2.Logbook'!H222)","v":""},{"$f":"IF('2.Logbook'!I222=\"\",\"\",'2.Logbook'!I222)","v":""},{"$f":"IF('2.Logbook'!J222=\"\",\"\",'2.Logbook'!J222)","v":""},{"$f":"IF('2.Logbook'!K222=\"\",\"\",'2.Logbook'!K222)","v":""},{"$f":"IF('2.Logbook'!L222=\"\",\"\",'2.Logbook'!L222)","v":""},{"$f":"IF('2.Logbook'!M222=\"\",\"\",'2.Logbook'!M222)","v":""},{"$f":"IF('2.Logbook'!N222=\"\",\"\",'2.Logbook'!N222)","v":""},{"$f":"IF('2.Logbook'!O222=\"\",\"\",'2.Logbook'!O222)","v":""},{"$f":"IF('2.Logbook'!P222=\"\",\"\",'2.Logbook'!P222)","v":""},{"$f":"IF('2.Logbook'!Q222=\"\",\"\",'2.Logbook'!Q222)","v":""},{"$f":"IF('2.Logbook'!R222=\"\",\"\",'2.Logbook'!R222)","v":""},{"$f":"IF('2.Logbook'!S222=\"\",\"\",'2.Logbook'!S222)","v":""},{"$f":"IF('2.Logbook'!T222=\"\",\"\",'2.Logbook'!T222)","v":""},{"$f":"IF('2.Logbook'!U222=\"\",\"\",'2.Logbook'!U222)","v":""},{"$f":"IF('2.Logbook'!V222=\"\",\"\",'2.Logbook'!V222)","v":""},{"$f":"IF('2.Logbook'!W222=\"\",\"\",'2.Logbook'!W222)","v":""},{"$f":"IF('2.Logbook'!X222=\"\",\"\",'2.Logbook'!X222)","v":""},{"$f":"IF('2.Logbook'!Y222=\"\",\"\",'2.Logbook'!Y222)","v":""},{"$f":"IF('2.Logbook'!Z222=\"\",\"\",'2.Logbook'!Z222)","v":""},{"$f":"IF('2.Logbook'!AA222=\"\",\"\",'2.Logbook'!AA222)","v":""},{"$f":"IF('2.Logbook'!AB222=\"\",\"\",'2.Logbook'!AB222)","v":""},{"$f":"IF('2.Logbook'!AC222=\"\",\"\",'2.Logbook'!AC222)","v":""},{"$f":"IF('2.Logbook'!AD222=\"\",\"\",'2.Logbook'!AD222)","v":""},{"$f":"IF('2.Logbook'!AE222=\"\",\"\",'2.Logbook'!AE222)","v":""},{"$f":"IF('2.Logbook'!AF222=\"\",\"\",'2.Logbook'!AF222)","v":""},{"$f":"IF('2.Logbook'!AG222=\"\",\"\",'2.Logbook'!AG222)","v":""}]
[{"$f":"IF('2.Logbook'!A223=\"\",\"\",'2.Logbook'!A223)","v":""},{"$f":"IF('2.Logbook'!B223=\"\",\"\",'2.Logbook'!B223)","v":""},{"$f":"IF('2.Logbook'!C223=\"\",\"\",'2.Logbook'!C223)","v":""},{"$f":"IF('2.Logbook'!D223=\"\",\"\",'2.Logbook'!D223)","v":""},{"$f":"IF('2.Logbook'!E223=\"\",\"\",'2.Logbook'!E223)","v":""},{"$f":"IF('2.Logbook'!F223=\"\",\"\",'2.Logbook'!F223)","v":""},{"$f":"IF('2.Logbook'!G223=\"\",\"\",'2.Logbook'!G223)","v":""},{"$f":"IF('2.Logbook'!H223=\"\",\"\",'2.Logbook'!H223)","v":""},{"$f":"IF('2.Logbook'!I223=\"\",\"\",'2.Logbook'!I223)","v":""},{"$f":"IF('2.Logbook'!J223=\"\",\"\",'2.Logbook'!J223)","v":""},{"$f":"IF('2.Logbook'!K223=\"\",\"\",'2.Logbook'!K223)","v":""},{"$f":"IF('2.Logbook'!L223=\"\",\"\",'2.Logbook'!L223)","v":""},{"$f":"IF('2.Logbook'!M223=\"\",\"\",'2.Logbook'!M223)","v":""},{"$f":"IF('2.Logbook'!N223=\"\",\"\",'2.Logbook'!N223)","v":""},{"$f":"IF('2.Logbook'!O223=\"\",\"\",'2.Logbook'!O223)","v":""},{"$f":"IF('2.Logbook'!P223=\"\",\"\",'2.Logbook'!P223)","v":""},{"$f":"IF('2.Logbook'!Q223=\"\",\"\",'2.Logbook'!Q223)","v":""},{"$f":"IF('2.Logbook'!R223=\"\",\"\",'2.Logbook'!R223)","v":""},{"$f":"IF('2.Logbook'!S223=\"\",\"\",'2.Logbook'!S223)","v":""},{"$f":"IF('2.Logbook'!T223=\"\",\"\",'2.Logbook'!T223)","v":""},{"$f":"IF('2.Logbook'!U223=\"\",\"\",'2.Logbook'!U223)","v":""},{"$f":"IF('2.Logbook'!V223=\"\",\"\",'2.Logbook'!V223)","v":""},{"$f":"IF('2.Logbook'!W223=\"\",\"\",'2.Logbook'!W223)","v":""},{"$f":"IF('2.Logbook'!X223=\"\",\"\",'2.Logbook'!X223)","v":""},{"$f":"IF('2.Logbook'!Y223=\"\",\"\",'2.Logbook'!Y223)","v":""},{"$f":"IF('2.Logbook'!Z223=\"\",\"\",'2.Logbook'!Z223)","v":""},{"$f":"IF('2.Logbook'!AA223=\"\",\"\",'2.Logbook'!AA223)","v":""},{"$f":"IF('2.Logbook'!AB223=\"\",\"\",'2.Logbook'!AB223)","v":""},{"$f":"IF('2.Logbook'!AC223=\"\",\"\",'2.Logbook'!AC223)","v":""},{"$f":"IF('2.Logbook'!AD223=\"\",\"\",'2.Logbook'!AD223)","v":""},{"$f":"IF('2.Logbook'!AE223=\"\",\"\",'2.Logbook'!AE223)","v":""},{"$f":"IF('2.Logbook'!AF223=\"\",\"\",'2.Logbook'!AF223)","v":""},{"$f":"IF('2.Logbook'!AG223=\"\",\"\",'2.Logbook'!AG223)","v":""}]
[{"$f":"IF('2.Logbook'!A224=\"\",\"\",'2.Logbook'!A224)","v":""},{"$f":"IF('2.Logbook'!B224=\"\",\"\",'2.Logbook'!B224)","v":""},{"$f":"IF('2.Logbook'!C224=\"\",\"\",'2.Logbook'!C224)","v":""},{"$f":"IF('2.Logbook'!D224=\"\",\"\",'2.Logbook'!D224)","v":""},{"$f":"IF('2.Logbook'!E224=\"\",\"\",'2.Logbook'!E224)","v":""},{"$f":"IF('2.Logbook'!F224=\"\",\"\",'2.Logbook'!F224)","v":""},{"$f":"IF('2.Logbook'!G224=\"\",\"\",'2.Logbook'!G224)","v":""},{"$f":"IF('2.Logbook'!H224=\"\",\"\",'2.Logbook'!H224)","v":""},{"$f":"IF('2.Logbook'!I224=\"\",\"\",'2.Logbook'!I224)","v":""},{"$f":"IF('2.Logbook'!J224=\"\",\"\",'2.Logbook'!J224)","v":""},{"$f":"IF('2.Logbook'!K224=\"\",\"\",'2.Logbook'!K224)","v":""},{"$f":"IF('2.Logbook'!L224=\"\",\"\",'2.Logbook'!L224)","v":""},{"$f":"IF('2.Logbook'!M224=\"\",\"\",'2.Logbook'!M224)","v":""},{"$f":"IF('2.Logbook'!N224=\"\",\"\",'2.Logbook'!N224)","v":""},{"$f":"IF('2.Logbook'!O224=\"\",\"\",'2.Logbook'!O224)","v":""},{"$f":"IF('2.Logbook'!P224=\"\",\"\",'2.Logbook'!P224)","v":""},{"$f":"IF('2.Logbook'!Q224=\"\",\"\",'2.Logbook'!Q224)","v":""},{"$f":"IF('2.Logbook'!R224=\"\",\"\",'2.Logbook'!R224)","v":""},{"$f":"IF('2.Logbook'!S224=\"\",\"\",'2.Logbook'!S224)","v":""},{"$f":"IF('2.Logbook'!T224=\"\",\"\",'2.Logbook'!T224)","v":""},{"$f":"IF('2.Logbook'!U224=\"\",\"\",'2.Logbook'!U224)","v":""},{"$f":"IF('2.Logbook'!V224=\"\",\"\",'2.Logbook'!V224)","v":""},{"$f":"IF('2.Logbook'!W224=\"\",\"\",'2.Logbook'!W224)","v":""},{"$f":"IF('2.Logbook'!X224=\"\",\"\",'2.Logbook'!X224)","v":""},{"$f":"IF('2.Logbook'!Y224=\"\",\"\",'2.Logbook'!Y224)","v":""},{"$f":"IF('2.Logbook'!Z224=\"\",\"\",'2.Logbook'!Z224)","v":""},{"$f":"IF('2.Logbook'!AA224=\"\",\"\",'2.Logbook'!AA224)","v":""},{"$f":"IF('2.Logbook'!AB224=\"\",\"\",'2.Logbook'!AB224)","v":""},{"$f":"IF('2.Logbook'!AC224=\"\",\"\",'2.Logbook'!AC224)","v":""},{"$f":"IF('2.Logbook'!AD224=\"\",\"\",'2.Logbook'!AD224)","v":""},{"$f":"IF('2.Logbook'!AE224=\"\",\"\",'2.Logbook'!AE224)","v":""},{"$f":"IF('2.Logbook'!AF224=\"\",\"\",'2.Logbook'!AF224)","v":""},{"$f":"IF('2.Logbook'!AG224=\"\",\"\",'2.Logbook'!AG224)","v":""}]
[{"$f":"IF('2.Logbook'!A225=\"\",\"\",'2.Logbook'!A225)","v":""},{"$f":"IF('2.Logbook'!B225=\"\",\"\",'2.Logbook'!B225)","v":""},{"$f":"IF('2.Logbook'!C225=\"\",\"\",'2.Logbook'!C225)","v":""},{"$f":"IF('2.Logbook'!D225=\"\",\"\",'2.Logbook'!D225)","v":""},{"$f":"IF('2.Logbook'!E225=\"\",\"\",'2.Logbook'!E225)","v":""},{"$f":"IF('2.Logbook'!F225=\"\",\"\",'2.Logbook'!F225)","v":""},{"$f":"IF('2.Logbook'!G225=\"\",\"\",'2.Logbook'!G225)","v":""},{"$f":"IF('2.Logbook'!H225=\"\",\"\",'2.Logbook'!H225)","v":""},{"$f":"IF('2.Logbook'!I225=\"\",\"\",'2.Logbook'!I225)","v":""},{"$f":"IF('2.Logbook'!J225=\"\",\"\",'2.Logbook'!J225)","v":""},{"$f":"IF('2.Logbook'!K225=\"\",\"\",'2.Logbook'!K225)","v":""},{"$f":"IF('2.Logbook'!L225=\"\",\"\",'2.Logbook'!L225)","v":""},{"$f":"IF('2.Logbook'!M225=\"\",\"\",'2.Logbook'!M225)","v":""},{"$f":"IF('2.Logbook'!N225=\"\",\"\",'2.Logbook'!N225)","v":""},{"$f":"IF('2.Logbook'!O225=\"\",\"\",'2.Logbook'!O225)","v":""},{"$f":"IF('2.Logbook'!P225=\"\",\"\",'2.Logbook'!P225)","v":""},{"$f":"IF('2.Logbook'!Q225=\"\",\"\",'2.Logbook'!Q225)","v":""},{"$f":"IF('2.Logbook'!R225=\"\",\"\",'2.Logbook'!R225)","v":""},{"$f":"IF('2.Logbook'!S225=\"\",\"\",'2.Logbook'!S225)","v":""},{"$f":"IF('2.Logbook'!T225=\"\",\"\",'2.Logbook'!T225)","v":""},{"$f":"IF('2.Logbook'!U225=\"\",\"\",'2.Logbook'!U225)","v":""},{"$f":"IF('2.Logbook'!V225=\"\",\"\",'2.Logbook'!V225)","v":""},{"$f":"IF('2.Logbook'!W225=\"\",\"\",'2.Logbook'!W225)","v":""},{"$f":"IF('2.Logbook'!X225=\"\",\"\",'2.Logbook'!X225)","v":""},{"$f":"IF('2.Logbook'!Y225=\"\",\"\",'2.Logbook'!Y225)","v":""},{"$f":"IF('2.Logbook'!Z225=\"\",\"\",'2.Logbook'!Z225)","v":""},{"$f":"IF('2.Logbook'!AA225=\"\",\"\",'2.Logbook'!AA225)","v":""},{"$f":"IF('2.Logbook'!AB225=\"\",\"\",'2.Logbook'!AB225)","v":""},{"$f":"IF('2.Logbook'!AC225=\"\",\"\",'2.Logbook'!AC225)","v":""},{"$f":"IF('2.Logbook'!AD225=\"\",\"\",'2.Logbook'!AD225)","v":""},{"$f":"IF('2.Logbook'!AE225=\"\",\"\",'2.Logbook'!AE225)","v":""},{"$f":"IF('2.Logbook'!AF225=\"\",\"\",'2.Logbook'!AF225)","v":""},{"$f":"IF('2.Logbook'!AG225=\"\",\"\",'2.Logbook'!AG225)","v":""}]
[{"$f":"IF('2.Logbook'!A226=\"\",\"\",'2.Logbook'!A226)","v":""},{"$f":"IF('2.Logbook'!B226=\"\",\"\",'2.Logbook'!B226)","v":""},{"$f":"IF('2.Logbook'!C226=\"\",\"\",'2.Logbook'!C226)","v":""},{"$f":"IF('2.Logbook'!D226=\"\",\"\",'2.Logbook'!D226)","v":""},{"$f":"IF('2.Logbook'!E226=\"\",\"\",'2.Logbook'!E226)","v":""},{"$f":"IF('2.Logbook'!F226=\"\",\"\",'2.Logbook'!F226)","v":""},{"$f":"IF('2.Logbook'!G226=\"\",\"\",'2.Logbook'!G226)","v":""},{"$f":"IF('2.Logbook'!H226=\"\",\"\",'2.Logbook'!H226)","v":""},{"$f":"IF('2.Logbook'!I226=\"\",\"\",'2.Logbook'!I226)","v":""},{"$f":"IF('2.Logbook'!J226=\"\",\"\",'2.Logbook'!J226)","v":""},{"$f":"IF('2.Logbook'!K226=\"\",\"\",'2.Logbook'!K226)","v":""},{"$f":"IF('2.Logbook'!L226=\"\",\"\",'2.Logbook'!L226)","v":""},{"$f":"IF('2.Logbook'!M226=\"\",\"\",'2.Logbook'!M226)","v":""},{"$f":"IF('2.Logbook'!N226=\"\",\"\",'2.Logbook'!N226)","v":""},{"$f":"IF('2.Logbook'!O226=\"\",\"\",'2.Logbook'!O226)","v":""},{"$f":"IF('2.Logbook'!P226=\"\",\"\",'2.Logbook'!P226)","v":""},{"$f":"IF('2.Logbook'!Q226=\"\",\"\",'2.Logbook'!Q226)","v":""},{"$f":"IF('2.Logbook'!R226=\"\",\"\",'2.Logbook'!R226)","v":""},{"$f":"IF('2.Logbook'!S226=\"\",\"\",'2.Logbook'!S226)","v":""},{"$f":"IF('2.Logbook'!T226=\"\",\"\",'2.Logbook'!T226)","v":""},{"$f":"IF('2.Logbook'!U226=\"\",\"\",'2.Logbook'!U226)","v":""},{"$f":"IF('2.Logbook'!V226=\"\",\"\",'2.Logbook'!V226)","v":""},{"$f":"IF('2.Logbook'!W226=\"\",\"\",'2.Logbook'!W226)","v":""},{"$f":"IF('2.Logbook'!X226=\"\",\"\",'2.Logbook'!X226)","v":""},{"$f":"IF('2.Logbook'!Y226=\"\",\"\",'2.Logbook'!Y226)","v":""},{"$f":"IF('2.Logbook'!Z226=\"\",\"\",'2.Logbook'!Z226)","v":""},{"$f":"IF('2.Logbook'!AA226=\"\",\"\",'2.Logbook'!AA226)","v":""},{"$f":"IF('2.Logbook'!AB226=\"\",\"\",'2.Logbook'!AB226)","v":""},{"$f":"IF('2.Logbook'!AC226=\"\",\"\",'2.Logbook'!AC226)","v":""},{"$f":"IF('2.Logbook'!AD226=\"\",\"\",'2.Logbook'!AD226)","v":""},{"$f":"IF('2.Logbook'!AE226=\"\",\"\",'2.Logbook'!AE226)","v":""},{"$f":"IF('2.Logbook'!AF226=\"\",\"\",'2.Logbook'!AF226)","v":""},{"$f":"IF('2.Logbook'!AG226=\"\",\"\",'2.Logbook'!AG226)","v":""}]
[{"$f":"IF('2.Logbook'!A227=\"\",\"\",'2.Logbook'!A227)","v":""},{"$f":"IF('2.Logbook'!B227=\"\",\"\",'2.Logbook'!B227)","v":""},{"$f":"IF('2.Logbook'!C227=\"\",\"\",'2.Logbook'!C227)","v":""},{"$f":"IF('2.Logbook'!D227=\"\",\"\",'2.Logbook'!D227)","v":""},{"$f":"IF('2.Logbook'!E227=\"\",\"\",'2.Logbook'!E227)","v":""},{"$f":"IF('2.Logbook'!F227=\"\",\"\",'2.Logbook'!F227)","v":""},{"$f":"IF('2.Logbook'!G227=\"\",\"\",'2.Logbook'!G227)","v":""},{"$f":"IF('2.Logbook'!H227=\"\",\"\",'2.Logbook'!H227)","v":""},{"$f":"IF('2.Logbook'!I227=\"\",\"\",'2.Logbook'!I227)","v":""},{"$f":"IF('2.Logbook'!J227=\"\",\"\",'2.Logbook'!J227)","v":""},{"$f":"IF('2.Logbook'!K227=\"\",\"\",'2.Logbook'!K227)","v":""},{"$f":"IF('2.Logbook'!L227=\"\",\"\",'2.Logbook'!L227)","v":""},{"$f":"IF('2.Logbook'!M227=\"\",\"\",'2.Logbook'!M227)","v":""},{"$f":"IF('2.Logbook'!N227=\"\",\"\",'2.Logbook'!N227)","v":""},{"$f":"IF('2.Logbook'!O227=\"\",\"\",'2.Logbook'!O227)","v":""},{"$f":"IF('2.Logbook'!P227=\"\",\"\",'2.Logbook'!P227)","v":""},{"$f":"IF('2.Logbook'!Q227=\"\",\"\",'2.Logbook'!Q227)","v":""},{"$f":"IF('2.Logbook'!R227=\"\",\"\",'2.Logbook'!R227)","v":""},{"$f":"IF('2.Logbook'!S227=\"\",\"\",'2.Logbook'!S227)","v":""},{"$f":"IF('2.Logbook'!T227=\"\",\"\",'2.Logbook'!T227)","v":""},{"$f":"IF('2.Logbook'!U227=\"\",\"\",'2.Logbook'!U227)","v":""},{"$f":"IF('2.Logbook'!V227=\"\",\"\",'2.Logbook'!V227)","v":""},{"$f":"IF('2.Logbook'!W227=\"\",\"\",'2.Logbook'!W227)","v":""},{"$f":"IF('2.Logbook'!X227=\"\",\"\",'2.Logbook'!X227)","v":""},{"$f":"IF('2.Logbook'!Y227=\"\",\"\",'2.Logbook'!Y227)","v":""},{"$f":"IF('2.Logbook'!Z227=\"\",\"\",'2.Logbook'!Z227)","v":""},{"$f":"IF('2.Logbook'!AA227=\"\",\"\",'2.Logbook'!AA227)","v":""},{"$f":"IF('2.Logbook'!AB227=\"\",\"\",'2.Logbook'!AB227)","v":""},{"$f":"IF('2.Logbook'!AC227=\"\",\"\",'2.Logbook'!AC227)","v":""},{"$f":"IF('2.Logbook'!AD227=\"\",\"\",'2.Logbook'!AD227)","v":""},{"$f":"IF('2.Logbook'!AE227=\"\",\"\",'2.Logbook'!AE227)","v":""},{"$f":"IF('2.Logbook'!AF227=\"\",\"\",'2.Logbook'!AF227)","v":""},{"$f":"IF('2.Logbook'!AG227=\"\",\"\",'2.Logbook'!AG227)","v":""}]
[{"$f":"IF('2.Logbook'!A228=\"\",\"\",'2.Logbook'!A228)","v":""},{"$f":"IF('2.Logbook'!B228=\"\",\"\",'2.Logbook'!B228)","v":""},{"$f":"IF('2.Logbook'!C228=\"\",\"\",'2.Logbook'!C228)","v":""},{"$f":"IF('2.Logbook'!D228=\"\",\"\",'2.Logbook'!D228)","v":""},{"$f":"IF('2.Logbook'!E228=\"\",\"\",'2.Logbook'!E228)","v":""},{"$f":"IF('2.Logbook'!F228=\"\",\"\",'2.Logbook'!F228)","v":""},{"$f":"IF('2.Logbook'!G228=\"\",\"\",'2.Logbook'!G228)","v":""},{"$f":"IF('2.Logbook'!H228=\"\",\"\",'2.Logbook'!H228)","v":""},{"$f":"IF('2.Logbook'!I228=\"\",\"\",'2.Logbook'!I228)","v":""},{"$f":"IF('2.Logbook'!J228=\"\",\"\",'2.Logbook'!J228)","v":""},{"$f":"IF('2.Logbook'!K228=\"\",\"\",'2.Logbook'!K228)","v":""},{"$f":"IF('2.Logbook'!L228=\"\",\"\",'2.Logbook'!L228)","v":""},{"$f":"IF('2.Logbook'!M228=\"\",\"\",'2.Logbook'!M228)","v":""},{"$f":"IF('2.Logbook'!N228=\"\",\"\",'2.Logbook'!N228)","v":""},{"$f":"IF('2.Logbook'!O228=\"\",\"\",'2.Logbook'!O228)","v":""},{"$f":"IF('2.Logbook'!P228=\"\",\"\",'2.Logbook'!P228)","v":""},{"$f":"IF('2.Logbook'!Q228=\"\",\"\",'2.Logbook'!Q228)","v":""},{"$f":"IF('2.Logbook'!R228=\"\",\"\",'2.Logbook'!R228)","v":""},{"$f":"IF('2.Logbook'!S228=\"\",\"\",'2.Logbook'!S228)","v":""},{"$f":"IF('2.Logbook'!T228=\"\",\"\",'2.Logbook'!T228)","v":""},{"$f":"IF('2.Logbook'!U228=\"\",\"\",'2.Logbook'!U228)","v":""},{"$f":"IF('2.Logbook'!V228=\"\",\"\",'2.Logbook'!V228)","v":""},{"$f":"IF('2.Logbook'!W228=\"\",\"\",'2.Logbook'!W228)","v":""},{"$f":"IF('2.Logbook'!X228=\"\",\"\",'2.Logbook'!X228)","v":""},{"$f":"IF('2.Logbook'!Y228=\"\",\"\",'2.Logbook'!Y228)","v":""},{"$f":"IF('2.Logbook'!Z228=\"\",\"\",'2.Logbook'!Z228)","v":""},{"$f":"IF('2.Logbook'!AA228=\"\",\"\",'2.Logbook'!AA228)","v":""},{"$f":"IF('2.Logbook'!AB228=\"\",\"\",'2.Logbook'!AB228)","v":""},{"$f":"IF('2.Logbook'!AC228=\"\",\"\",'2.Logbook'!AC228)","v":""},{"$f":"IF('2.Logbook'!AD228=\"\",\"\",'2.Logbook'!AD228)","v":""},{"$f":"IF('2.Logbook'!AE228=\"\",\"\",'2.Logbook'!AE228)","v":""},{"$f":"IF('2.Logbook'!AF228=\"\",\"\",'2.Logbook'!AF228)","v":""},{"$f":"IF('2.Logbook'!AG228=\"\",\"\",'2.Logbook'!AG228)","v":""}]
[{"$f":"IF('2.Logbook'!A229=\"\",\"\",'2.Logbook'!A229)","v":""},{"$f":"IF('2.Logbook'!B229=\"\",\"\",'2.Logbook'!B229)","v":""},{"$f":"IF('2.Logbook'!C229=\"\",\"\",'2.Logbook'!C229)","v":""},{"$f":"IF('2.Logbook'!D229=\"\",\"\",'2.Logbook'!D229)","v":""},{"$f":"IF('2.Logbook'!E229=\"\",\"\",'2.Logbook'!E229)","v":""},{"$f":"IF('2.Logbook'!F229=\"\",\"\",'2.Logbook'!F229)","v":""},{"$f":"IF('2.Logbook'!G229=\"\",\"\",'2.Logbook'!G229)","v":""},{"$f":"IF('2.Logbook'!H229=\"\",\"\",'2.Logbook'!H229)","v":""},{"$f":"IF('2.Logbook'!I229=\"\",\"\",'2.Logbook'!I229)","v":""},{"$f":"IF('2.Logbook'!J229=\"\",\"\",'2.Logbook'!J229)","v":""},{"$f":"IF('2.Logbook'!K229=\"\",\"\",'2.Logbook'!K229)","v":""},{"$f":"IF('2.Logbook'!L229=\"\",\"\",'2.Logbook'!L229)","v":""},{"$f":"IF('2.Logbook'!M229=\"\",\"\",'2.Logbook'!M229)","v":""},{"$f":"IF('2.Logbook'!N229=\"\",\"\",'2.Logbook'!N229)","v":""},{"$f":"IF('2.Logbook'!O229=\"\",\"\",'2.Logbook'!O229)","v":""},{"$f":"IF('2.Logbook'!P229=\"\",\"\",'2.Logbook'!P229)","v":""},{"$f":"IF('2.Logbook'!Q229=\"\",\"\",'2.Logbook'!Q229)","v":""},{"$f":"IF('2.Logbook'!R229=\"\",\"\",'2.Logbook'!R229)","v":""},{"$f":"IF('2.Logbook'!S229=\"\",\"\",'2.Logbook'!S229)","v":""},{"$f":"IF('2.Logbook'!T229=\"\",\"\",'2.Logbook'!T229)","v":""},{"$f":"IF('2.Logbook'!U229=\"\",\"\",'2.Logbook'!U229)","v":""},{"$f":"IF('2.Logbook'!V229=\"\",\"\",'2.Logbook'!V229)","v":""},{"$f":"IF('2.Logbook'!W229=\"\",\"\",'2.Logbook'!W229)","v":""},{"$f":"IF('2.Logbook'!X229=\"\",\"\",'2.Logbook'!X229)","v":""},{"$f":"IF('2.Logbook'!Y229=\"\",\"\",'2.Logbook'!Y229)","v":""},{"$f":"IF('2.Logbook'!Z229=\"\",\"\",'2.Logbook'!Z229)","v":""},{"$f":"IF('2.Logbook'!AA229=\"\",\"\",'2.Logbook'!AA229)","v":""},{"$f":"IF('2.Logbook'!AB229=\"\",\"\",'2.Logbook'!AB229)","v":""},{"$f":"IF('2.Logbook'!AC229=\"\",\"\",'2.Logbook'!AC229)","v":""},{"$f":"IF('2.Logbook'!AD229=\"\",\"\",'2.Logbook'!AD229)","v":""},{"$f":"IF('2.Logbook'!AE229=\"\",\"\",'2.Logbook'!AE229)","v":""},{"$f":"IF('2.Logbook'!AF229=\"\",\"\",'2.Logbook'!AF229)","v":""},{"$f":"IF('2.Logbook'!AG229=\"\",\"\",'2.Logbook'!AG229)","v":""}]
[{"$f":"IF('2.Logbook'!A230=\"\",\"\",'2.Logbook'!A230)","v":""},{"$f":"IF('2.Logbook'!B230=\"\",\"\",'2.Logbook'!B230)","v":""},{"$f":"IF('2.Logbook'!C230=\"\",\"\",'2.Logbook'!C230)","v":""},{"$f":"IF('2.Logbook'!D230=\"\",\"\",'2.Logbook'!D230)","v":""},{"$f":"IF('2.Logbook'!E230=\"\",\"\",'2.Logbook'!E230)","v":""},{"$f":"IF('2.Logbook'!F230=\"\",\"\",'2.Logbook'!F230)","v":""},{"$f":"IF('2.Logbook'!G230=\"\",\"\",'2.Logbook'!G230)","v":""},{"$f":"IF('2.Logbook'!H230=\"\",\"\",'2.Logbook'!H230)","v":""},{"$f":"IF('2.Logbook'!I230=\"\",\"\",'2.Logbook'!I230)","v":""},{"$f":"IF('2.Logbook'!J230=\"\",\"\",'2.Logbook'!J230)","v":""},{"$f":"IF('2.Logbook'!K230=\"\",\"\",'2.Logbook'!K230)","v":""},{"$f":"IF('2.Logbook'!L230=\"\",\"\",'2.Logbook'!L230)","v":""},{"$f":"IF('2.Logbook'!M230=\"\",\"\",'2.Logbook'!M230)","v":""},{"$f":"IF('2.Logbook'!N230=\"\",\"\",'2.Logbook'!N230)","v":""},{"$f":"IF('2.Logbook'!O230=\"\",\"\",'2.Logbook'!O230)","v":""},{"$f":"IF('2.Logbook'!P230=\"\",\"\",'2.Logbook'!P230)","v":""},{"$f":"IF('2.Logbook'!Q230=\"\",\"\",'2.Logbook'!Q230)","v":""},{"$f":"IF('2.Logbook'!R230=\"\",\"\",'2.Logbook'!R230)","v":""},{"$f":"IF('2.Logbook'!S230=\"\",\"\",'2.Logbook'!S230)","v":""},{"$f":"IF('2.Logbook'!T230=\"\",\"\",'2.Logbook'!T230)","v":""},{"$f":"IF('2.Logbook'!U230=\"\",\"\",'2.Logbook'!U230)","v":""},{"$f":"IF('2.Logbook'!V230=\"\",\"\",'2.Logbook'!V230)","v":""},{"$f":"IF('2.Logbook'!W230=\"\",\"\",'2.Logbook'!W230)","v":""},{"$f":"IF('2.Logbook'!X230=\"\",\"\",'2.Logbook'!X230)","v":""},{"$f":"IF('2.Logbook'!Y230=\"\",\"\",'2.Logbook'!Y230)","v":""},{"$f":"IF('2.Logbook'!Z230=\"\",\"\",'2.Logbook'!Z230)","v":""},{"$f":"IF('2.Logbook'!AA230=\"\",\"\",'2.Logbook'!AA230)","v":""},{"$f":"IF('2.Logbook'!AB230=\"\",\"\",'2.Logbook'!AB230)","v":""},{"$f":"IF('2.Logbook'!AC230=\"\",\"\",'2.Logbook'!AC230)","v":""},{"$f":"IF('2.Logbook'!AD230=\"\",\"\",'2.Logbook'!AD230)","v":""},{"$f":"IF('2.Logbook'!AE230=\"\",\"\",'2.Logbook'!AE230)","v":""},{"$f":"IF('2.Logbook'!AF230=\"\",\"\",'2.Logbook'!AF230)","v":""},{"$f":"IF('2.Logbook'!AG230=\"\",\"\",'2.Logbook'!AG230)","v":""}]
[{"$f":"IF('2.Logbook'!A231=\"\",\"\",'2.Logbook'!A231)","v":""},{"$f":"IF('2.Logbook'!B231=\"\",\"\",'2.Logbook'!B231)","v":""},{"$f":"IF('2.Logbook'!C231=\"\",\"\",'2.Logbook'!C231)","v":""},{"$f":"IF('2.Logbook'!D231=\"\",\"\",'2.Logbook'!D231)","v":""},{"$f":"IF('2.Logbook'!E231=\"\",\"\",'2.Logbook'!E231)","v":""},{"$f":"IF('2.Logbook'!F231=\"\",\"\",'2.Logbook'!F231)","v":""},{"$f":"IF('2.Logbook'!G231=\"\",\"\",'2.Logbook'!G231)","v":""},{"$f":"IF('2.Logbook'!H231=\"\",\"\",'2.Logbook'!H231)","v":""},{"$f":"IF('2.Logbook'!I231=\"\",\"\",'2.Logbook'!I231)","v":""},{"$f":"IF('2.Logbook'!J231=\"\",\"\",'2.Logbook'!J231)","v":""},{"$f":"IF('2.Logbook'!K231=\"\",\"\",'2.Logbook'!K231)","v":""},{"$f":"IF('2.Logbook'!L231=\"\",\"\",'2.Logbook'!L231)","v":""},{"$f":"IF('2.Logbook'!M231=\"\",\"\",'2.Logbook'!M231)","v":""},{"$f":"IF('2.Logbook'!N231=\"\",\"\",'2.Logbook'!N231)","v":""},{"$f":"IF('2.Logbook'!O231=\"\",\"\",'2.Logbook'!O231)","v":""},{"$f":"IF('2.Logbook'!P231=\"\",\"\",'2.Logbook'!P231)","v":""},{"$f":"IF('2.Logbook'!Q231=\"\",\"\",'2.Logbook'!Q231)","v":""},{"$f":"IF('2.Logbook'!R231=\"\",\"\",'2.Logbook'!R231)","v":""},{"$f":"IF('2.Logbook'!S231=\"\",\"\",'2.Logbook'!S231)","v":""},{"$f":"IF('2.Logbook'!T231=\"\",\"\",'2.Logbook'!T231)","v":""},{"$f":"IF('2.Logbook'!U231=\"\",\"\",'2.Logbook'!U231)","v":""},{"$f":"IF('2.Logbook'!V231=\"\",\"\",'2.Logbook'!V231)","v":""},{"$f":"IF('2.Logbook'!W231=\"\",\"\",'2.Logbook'!W231)","v":""},{"$f":"IF('2.Logbook'!X231=\"\",\"\",'2.Logbook'!X231)","v":""},{"$f":"IF('2.Logbook'!Y231=\"\",\"\",'2.Logbook'!Y231)","v":""},{"$f":"IF('2.Logbook'!Z231=\"\",\"\",'2.Logbook'!Z231)","v":""},{"$f":"IF('2.Logbook'!AA231=\"\",\"\",'2.Logbook'!AA231)","v":""},{"$f":"IF('2.Logbook'!AB231=\"\",\"\",'2.Logbook'!AB231)","v":""},{"$f":"IF('2.Logbook'!AC231=\"\",\"\",'2.Logbook'!AC231)","v":""},{"$f":"IF('2.Logbook'!AD231=\"\",\"\",'2.Logbook'!AD231)","v":""},{"$f":"IF('2.Logbook'!AE231=\"\",\"\",'2.Logbook'!AE231)","v":""},{"$f":"IF('2.Logbook'!AF231=\"\",\"\",'2.Logbook'!AF231)","v":""},{"$f":"IF('2.Logbook'!AG231=\"\",\"\",'2.Logbook'!AG231)","v":""}]
[{"$f":"IF('2.Logbook'!A232=\"\",\"\",'2.Logbook'!A232)","v":""},{"$f":"IF('2.Logbook'!B232=\"\",\"\",'2.Logbook'!B232)","v":""},{"$f":"IF('2.Logbook'!C232=\"\",\"\",'2.Logbook'!C232)","v":""},{"$f":"IF('2.Logbook'!D232=\"\",\"\",'2.Logbook'!D232)","v":""},{"$f":"IF('2.Logbook'!E232=\"\",\"\",'2.Logbook'!E232)","v":""},{"$f":"IF('2.Logbook'!F232=\"\",\"\",'2.Logbook'!F232)","v":""},{"$f":"IF('2.Logbook'!G232=\"\",\"\",'2.Logbook'!G232)","v":""},{"$f":"IF('2.Logbook'!H232=\"\",\"\",'2.Logbook'!H232)","v":""},{"$f":"IF('2.Logbook'!I232=\"\",\"\",'2.Logbook'!I232)","v":""},{"$f":"IF('2.Logbook'!J232=\"\",\"\",'2.Logbook'!J232)","v":""},{"$f":"IF('2.Logbook'!K232=\"\",\"\",'2.Logbook'!K232)","v":""},{"$f":"IF('2.Logbook'!L232=\"\",\"\",'2.Logbook'!L232)","v":""},{"$f":"IF('2.Logbook'!M232=\"\",\"\",'2.Logbook'!M232)","v":""},{"$f":"IF('2.Logbook'!N232=\"\",\"\",'2.Logbook'!N232)","v":""},{"$f":"IF('2.Logbook'!O232=\"\",\"\",'2.Logbook'!O232)","v":""},{"$f":"IF('2.Logbook'!P232=\"\",\"\",'2.Logbook'!P232)","v":""},{"$f":"IF('2.Logbook'!Q232=\"\",\"\",'2.Logbook'!Q232)","v":""},{"$f":"IF('2.Logbook'!R232=\"\",\"\",'2.Logbook'!R232)","v":""},{"$f":"IF('2.Logbook'!S232=\"\",\"\",'2.Logbook'!S232)","v":""},{"$f":"IF('2.Logbook'!T232=\"\",\"\",'2.Logbook'!T232)","v":""},{"$f":"IF('2.Logbook'!U232=\"\",\"\",'2.Logbook'!U232)","v":""},{"$f":"IF('2.Logbook'!V232=\"\",\"\",'2.Logbook'!V232)","v":""},{"$f":"IF('2.Logbook'!W232=\"\",\"\",'2.Logbook'!W232)","v":""},{"$f":"IF('2.Logbook'!X232=\"\",\"\",'2.Logbook'!X232)","v":""},{"$f":"IF('2.Logbook'!Y232=\"\",\"\",'2.Logbook'!Y232)","v":""},{"$f":"IF('2.Logbook'!Z232=\"\",\"\",'2.Logbook'!Z232)","v":""},{"$f":"IF('2.Logbook'!AA232=\"\",\"\",'2.Logbook'!AA232)","v":""},{"$f":"IF('2.Logbook'!AB232=\"\",\"\",'2.Logbook'!AB232)","v":""},{"$f":"IF('2.Logbook'!AC232=\"\",\"\",'2.Logbook'!AC232)","v":""},{"$f":"IF('2.Logbook'!AD232=\"\",\"\",'2.Logbook'!AD232)","v":""},{"$f":"IF('2.Logbook'!AE232=\"\",\"\",'2.Logbook'!AE232)","v":""},{"$f":"IF('2.Logbook'!AF232=\"\",\"\",'2.Logbook'!AF232)","v":""},{"$f":"IF('2.Logbook'!AG232=\"\",\"\",'2.Logbook'!AG232)","v":""}]
[{"$f":"IF('2.Logbook'!A233=\"\",\"\",'2.Logbook'!A233)","v":""},{"$f":"IF('2.Logbook'!B233=\"\",\"\",'2.Logbook'!B233)","v":""},{"$f":"IF('2.Logbook'!C233=\"\",\"\",'2.Logbook'!C233)","v":""},{"$f":"IF('2.Logbook'!D233=\"\",\"\",'2.Logbook'!D233)","v":""},{"$f":"IF('2.Logbook'!E233=\"\",\"\",'2.Logbook'!E233)","v":""},{"$f":"IF('2.Logbook'!F233=\"\",\"\",'2.Logbook'!F233)","v":""},{"$f":"IF('2.Logbook'!G233=\"\",\"\",'2.Logbook'!G233)","v":""},{"$f":"IF('2.Logbook'!H233=\"\",\"\",'2.Logbook'!H233)","v":""},{"$f":"IF('2.Logbook'!I233=\"\",\"\",'2.Logbook'!I233)","v":""},{"$f":"IF('2.Logbook'!J233=\"\",\"\",'2.Logbook'!J233)","v":""},{"$f":"IF('2.Logbook'!K233=\"\",\"\",'2.Logbook'!K233)","v":""},{"$f":"IF('2.Logbook'!L233=\"\",\"\",'2.Logbook'!L233)","v":""},{"$f":"IF('2.Logbook'!M233=\"\",\"\",'2.Logbook'!M233)","v":""},{"$f":"IF('2.Logbook'!N233=\"\",\"\",'2.Logbook'!N233)","v":""},{"$f":"IF('2.Logbook'!O233=\"\",\"\",'2.Logbook'!O233)","v":""},{"$f":"IF('2.Logbook'!P233=\"\",\"\",'2.Logbook'!P233)","v":""},{"$f":"IF('2.Logbook'!Q233=\"\",\"\",'2.Logbook'!Q233)","v":""},{"$f":"IF('2.Logbook'!R233=\"\",\"\",'2.Logbook'!R233)","v":""},{"$f":"IF('2.Logbook'!S233=\"\",\"\",'2.Logbook'!S233)","v":""},{"$f":"IF('2.Logbook'!T233=\"\",\"\",'2.Logbook'!T233)","v":""},{"$f":"IF('2.Logbook'!U233=\"\",\"\",'2.Logbook'!U233)","v":""},{"$f":"IF('2.Logbook'!V233=\"\",\"\",'2.Logbook'!V233)","v":""},{"$f":"IF('2.Logbook'!W233=\"\",\"\",'2.Logbook'!W233)","v":""},{"$f":"IF('2.Logbook'!X233=\"\",\"\",'2.Logbook'!X233)","v":""},{"$f":"IF('2.Logbook'!Y233=\"\",\"\",'2.Logbook'!Y233)","v":""},{"$f":"IF('2.Logbook'!Z233=\"\",\"\",'2.Logbook'!Z233)","v":""},{"$f":"IF('2.Logbook'!AA233=\"\",\"\",'2.Logbook'!AA233)","v":""},{"$f":"IF('2.Logbook'!AB233=\"\",\"\",'2.Logbook'!AB233)","v":""},{"$f":"IF('2.Logbook'!AC233=\"\",\"\",'2.Logbook'!AC233)","v":""},{"$f":"IF('2.Logbook'!AD233=\"\",\"\",'2.Logbook'!AD233)","v":""},{"$f":"IF('2.Logbook'!AE233=\"\",\"\",'2.Logbook'!AE233)","v":""},{"$f":"IF('2.Logbook'!AF233=\"\",\"\",'2.Logbook'!AF233)","v":""},{"$f":"IF('2.Logbook'!AG233=\"\",\"\",'2.Logbook'!AG233)","v":""}]
[{"$f":"IF('2.Logbook'!A234=\"\",\"\",'2.Logbook'!A234)","v":""},{"$f":"IF('2.Logbook'!B234=\"\",\"\",'2.Logbook'!B234)","v":""},{"$f":"IF('2.Logbook'!C234=\"\",\"\",'2.Logbook'!C234)","v":""},{"$f":"IF('2.Logbook'!D234=\"\",\"\",'2.Logbook'!D234)","v":""},{"$f":"IF('2.Logbook'!E234=\"\",\"\",'2.Logbook'!E234)","v":""},{"$f":"IF('2.Logbook'!F234=\"\",\"\",'2.Logbook'!F234)","v":""},{"$f":"IF('2.Logbook'!G234=\"\",\"\",'2.Logbook'!G234)","v":""},{"$f":"IF('2.Logbook'!H234=\"\",\"\",'2.Logbook'!H234)","v":""},{"$f":"IF('2.Logbook'!I234=\"\",\"\",'2.Logbook'!I234)","v":""},{"$f":"IF('2.Logbook'!J234=\"\",\"\",'2.Logbook'!J234)","v":""},{"$f":"IF('2.Logbook'!K234=\"\",\"\",'2.Logbook'!K234)","v":""},{"$f":"IF('2.Logbook'!L234=\"\",\"\",'2.Logbook'!L234)","v":""},{"$f":"IF('2.Logbook'!M234=\"\",\"\",'2.Logbook'!M234)","v":""},{"$f":"IF('2.Logbook'!N234=\"\",\"\",'2.Logbook'!N234)","v":""},{"$f":"IF('2.Logbook'!O234=\"\",\"\",'2.Logbook'!O234)","v":""},{"$f":"IF('2.Logbook'!P234=\"\",\"\",'2.Logbook'!P234)","v":""},{"$f":"IF('2.Logbook'!Q234=\"\",\"\",'2.Logbook'!Q234)","v":""},{"$f":"IF('2.Logbook'!R234=\"\",\"\",'2.Logbook'!R234)","v":""},{"$f":"IF('2.Logbook'!S234=\"\",\"\",'2.Logbook'!S234)","v":""},{"$f":"IF('2.Logbook'!T234=\"\",\"\",'2.Logbook'!T234)","v":""},{"$f":"IF('2.Logbook'!U234=\"\",\"\",'2.Logbook'!U234)","v":""},{"$f":"IF('2.Logbook'!V234=\"\",\"\",'2.Logbook'!V234)","v":""},{"$f":"IF('2.Logbook'!W234=\"\",\"\",'2.Logbook'!W234)","v":""},{"$f":"IF('2.Logbook'!X234=\"\",\"\",'2.Logbook'!X234)","v":""},{"$f":"IF('2.Logbook'!Y234=\"\",\"\",'2.Logbook'!Y234)","v":""},{"$f":"IF('2.Logbook'!Z234=\"\",\"\",'2.Logbook'!Z234)","v":""},{"$f":"IF('2.Logbook'!AA234=\"\",\"\",'2.Logbook'!AA234)","v":""},{"$f":"IF('2.Logbook'!AB234=\"\",\"\",'2.Logbook'!AB234)","v":""},{"$f":"IF('2.Logbook'!AC234=\"\",\"\",'2.Logbook'!AC234)","v":""},{"$f":"IF('2.Logbook'!AD234=\"\",\"\",'2.Logbook'!AD234)","v":""},{"$f":"IF('2.Logbook'!AE234=\"\",\"\",'2.Logbook'!AE234)","v":""},{"$f":"IF('2.Logbook'!AF234=\"\",\"\",'2.Logbook'!AF234)","v":""},{"$f":"IF('2.Logbook'!AG234=\"\",\"\",'2.Logbook'!AG234)","v":""}]
[{"$f":"IF('2.Logbook'!A235=\"\",\"\",'2.Logbook'!A235)","v":""},{"$f":"IF('2.Logbook'!B235=\"\",\"\",'2.Logbook'!B235)","v":""},{"$f":"IF('2.Logbook'!C235=\"\",\"\",'2.Logbook'!C235)","v":""},{"$f":"IF('2.Logbook'!D235=\"\",\"\",'2.Logbook'!D235)","v":""},{"$f":"IF('2.Logbook'!E235=\"\",\"\",'2.Logbook'!E235)","v":""},{"$f":"IF('2.Logbook'!F235=\"\",\"\",'2.Logbook'!F235)","v":""},{"$f":"IF('2.Logbook'!G235=\"\",\"\",'2.Logbook'!G235)","v":""},{"$f":"IF('2.Logbook'!H235=\"\",\"\",'2.Logbook'!H235)","v":""},{"$f":"IF('2.Logbook'!I235=\"\",\"\",'2.Logbook'!I235)","v":""},{"$f":"IF('2.Logbook'!J235=\"\",\"\",'2.Logbook'!J235)","v":""},{"$f":"IF('2.Logbook'!K235=\"\",\"\",'2.Logbook'!K235)","v":""},{"$f":"IF('2.Logbook'!L235=\"\",\"\",'2.Logbook'!L235)","v":""},{"$f":"IF('2.Logbook'!M235=\"\",\"\",'2.Logbook'!M235)","v":""},{"$f":"IF('2.Logbook'!N235=\"\",\"\",'2.Logbook'!N235)","v":""},{"$f":"IF('2.Logbook'!O235=\"\",\"\",'2.Logbook'!O235)","v":""},{"$f":"IF('2.Logbook'!P235=\"\",\"\",'2.Logbook'!P235)","v":""},{"$f":"IF('2.Logbook'!Q235=\"\",\"\",'2.Logbook'!Q235)","v":""},{"$f":"IF('2.Logbook'!R235=\"\",\"\",'2.Logbook'!R235)","v":""},{"$f":"IF('2.Logbook'!S235=\"\",\"\",'2.Logbook'!S235)","v":""},{"$f":"IF('2.Logbook'!T235=\"\",\"\",'2.Logbook'!T235)","v":""},{"$f":"IF('2.Logbook'!U235=\"\",\"\",'2.Logbook'!U235)","v":""},{"$f":"IF('2.Logbook'!V235=\"\",\"\",'2.Logbook'!V235)","v":""},{"$f":"IF('2.Logbook'!W235=\"\",\"\",'2.Logbook'!W235)","v":""},{"$f":"IF('2.Logbook'!X235=\"\",\"\",'2.Logbook'!X235)","v":""},{"$f":"IF('2.Logbook'!Y235=\"\",\"\",'2.Logbook'!Y235)","v":""},{"$f":"IF('2.Logbook'!Z235=\"\",\"\",'2.Logbook'!Z235)","v":""},{"$f":"IF('2.Logbook'!AA235=\"\",\"\",'2.Logbook'!AA235)","v":""},{"$f":"IF('2.Logbook'!AB235=\"\",\"\",'2.Logbook'!AB235)","v":""},{"$f":"IF('2.Logbook'!AC235=\"\",\"\",'2.Logbook'!AC235)","v":""},{"$f":"IF('2.Logbook'!AD235=\"\",\"\",'2.Logbook'!AD235)","v":""},{"$f":"IF('2.Logbook'!AE235=\"\",\"\",'2.Logbook'!AE235)","v":""},{"$f":"IF('2.Logbook'!AF235=\"\",\"\",'2.Logbook'!AF235)","v":""},{"$f":"IF('2.Logbook'!AG235=\"\",\"\",'2.Logbook'!AG235)","v":""}]
[{"$f":"IF('2.Logbook'!A236=\"\",\"\",'2.Logbook'!A236)","v":""},{"$f":"IF('2.Logbook'!B236=\"\",\"\",'2.Logbook'!B236)","v":""},{"$f":"IF('2.Logbook'!C236=\"\",\"\",'2.Logbook'!C236)","v":""},{"$f":"IF('2.Logbook'!D236=\"\",\"\",'2.Logbook'!D236)","v":""},{"$f":"IF('2.Logbook'!E236=\"\",\"\",'2.Logbook'!E236)","v":""},{"$f":"IF('2.Logbook'!F236=\"\",\"\",'2.Logbook'!F236)","v":""},{"$f":"IF('2.Logbook'!G236=\"\",\"\",'2.Logbook'!G236)","v":""},{"$f":"IF('2.Logbook'!H236=\"\",\"\",'2.Logbook'!H236)","v":""},{"$f":"IF('2.Logbook'!I236=\"\",\"\",'2.Logbook'!I236)","v":""},{"$f":"IF('2.Logbook'!J236=\"\",\"\",'2.Logbook'!J236)","v":""},{"$f":"IF('2.Logbook'!K236=\"\",\"\",'2.Logbook'!K236)","v":""},{"$f":"IF('2.Logbook'!L236=\"\",\"\",'2.Logbook'!L236)","v":""},{"$f":"IF('2.Logbook'!M236=\"\",\"\",'2.Logbook'!M236)","v":""},{"$f":"IF('2.Logbook'!N236=\"\",\"\",'2.Logbook'!N236)","v":""},{"$f":"IF('2.Logbook'!O236=\"\",\"\",'2.Logbook'!O236)","v":""},{"$f":"IF('2.Logbook'!P236=\"\",\"\",'2.Logbook'!P236)","v":""},{"$f":"IF('2.Logbook'!Q236=\"\",\"\",'2.Logbook'!Q236)","v":""},{"$f":"IF('2.Logbook'!R236=\"\",\"\",'2.Logbook'!R236)","v":""},{"$f":"IF('2.Logbook'!S236=\"\",\"\",'2.Logbook'!S236)","v":""},{"$f":"IF('2.Logbook'!T236=\"\",\"\",'2.Logbook'!T236)","v":""},{"$f":"IF('2.Logbook'!U236=\"\",\"\",'2.Logbook'!U236)","v":""},{"$f":"IF('2.Logbook'!V236=\"\",\"\",'2.Logbook'!V236)","v":""},{"$f":"IF('2.Logbook'!W236=\"\",\"\",'2.Logbook'!W236)","v":""},{"$f":"IF('2.Logbook'!X236=\"\",\"\",'2.Logbook'!X236)","v":""},{"$f":"IF('2.Logbook'!Y236=\"\",\"\",'2.Logbook'!Y236)","v":""},{"$f":"IF('2.Logbook'!Z236=\"\",\"\",'2.Logbook'!Z236)","v":""},{"$f":"IF('2.Logbook'!AA236=\"\",\"\",'2.Logbook'!AA236)","v":""},{"$f":"IF('2.Logbook'!AB236=\"\",\"\",'2.Logbook'!AB236)","v":""},{"$f":"IF('2.Logbook'!AC236=\"\",\"\",'2.Logbook'!AC236)","v":""},{"$f":"IF('2.Logbook'!AD236=\"\",\"\",'2.Logbook'!AD236)","v":""},{"$f":"IF('2.Logbook'!AE236=\"\",\"\",'2.Logbook'!AE236)","v":""},{"$f":"IF('2.Logbook'!AF236=\"\",\"\",'2.Logbook'!AF236)","v":""},{"$f":"IF('2.Logbook'!AG236=\"\",\"\",'2.Logbook'!AG236)","v":""}]
[{"$f":"IF('2.Logbook'!A237=\"\",\"\",'2.Logbook'!A237)","v":""},{"$f":"IF('2.Logbook'!B237=\"\",\"\",'2.Logbook'!B237)","v":""},{"$f":"IF('2.Logbook'!C237=\"\",\"\",'2.Logbook'!C237)","v":""},{"$f":"IF('2.Logbook'!D237=\"\",\"\",'2.Logbook'!D237)","v":""},{"$f":"IF('2.Logbook'!E237=\"\",\"\",'2.Logbook'!E237)","v":""},{"$f":"IF('2.Logbook'!F237=\"\",\"\",'2.Logbook'!F237)","v":""},{"$f":"IF('2.Logbook'!G237=\"\",\"\",'2.Logbook'!G237)","v":""},{"$f":"IF('2.Logbook'!H237=\"\",\"\",'2.Logbook'!H237)","v":""},{"$f":"IF('2.Logbook'!I237=\"\",\"\",'2.Logbook'!I237)","v":""},{"$f":"IF('2.Logbook'!J237=\"\",\"\",'2.Logbook'!J237)","v":""},{"$f":"IF('2.Logbook'!K237=\"\",\"\",'2.Logbook'!K237)","v":""},{"$f":"IF('2.Logbook'!L237=\"\",\"\",'2.Logbook'!L237)","v":""},{"$f":"IF('2.Logbook'!M237=\"\",\"\",'2.Logbook'!M237)","v":""},{"$f":"IF('2.Logbook'!N237=\"\",\"\",'2.Logbook'!N237)","v":""},{"$f":"IF('2.Logbook'!O237=\"\",\"\",'2.Logbook'!O237)","v":""},{"$f":"IF('2.Logbook'!P237=\"\",\"\",'2.Logbook'!P237)","v":""},{"$f":"IF('2.Logbook'!Q237=\"\",\"\",'2.Logbook'!Q237)","v":""},{"$f":"IF('2.Logbook'!R237=\"\",\"\",'2.Logbook'!R237)","v":""},{"$f":"IF('2.Logbook'!S237=\"\",\"\",'2.Logbook'!S237)","v":""},{"$f":"IF('2.Logbook'!T237=\"\",\"\",'2.Logbook'!T237)","v":""},{"$f":"IF('2.Logbook'!U237=\"\",\"\",'2.Logbook'!U237)","v":""},{"$f":"IF('2.Logbook'!V237=\"\",\"\",'2.Logbook'!V237)","v":""},{"$f":"IF('2.Logbook'!W237=\"\",\"\",'2.Logbook'!W237)","v":""},{"$f":"IF('2.Logbook'!X237=\"\",\"\",'2.Logbook'!X237)","v":""},{"$f":"IF('2.Logbook'!Y237=\"\",\"\",'2.Logbook'!Y237)","v":""},{"$f":"IF('2.Logbook'!Z237=\"\",\"\",'2.Logbook'!Z237)","v":""},{"$f":"IF('2.Logbook'!AA237=\"\",\"\",'2.Logbook'!AA237)","v":""},{"$f":"IF('2.Logbook'!AB237=\"\",\"\",'2.Logbook'!AB237)","v":""},{"$f":"IF('2.Logbook'!AC237=\"\",\"\",'2.Logbook'!AC237)","v":""},{"$f":"IF('2.Logbook'!AD237=\"\",\"\",'2.Logbook'!AD237)","v":""},{"$f":"IF('2.Logbook'!AE237=\"\",\"\",'2.Logbook'!AE237)","v":""},{"$f":"IF('2.Logbook'!AF237=\"\",\"\",'2.Logbook'!AF237)","v":""},{"$f":"IF('2.Logbook'!AG237=\"\",\"\",'2.Logbook'!AG237)","v":""}]
[{"$f":"IF('2.Logbook'!A238=\"\",\"\",'2.Logbook'!A238)","v":""},{"$f":"IF('2.Logbook'!B238=\"\",\"\",'2.Logbook'!B238)","v":""},{"$f":"IF('2.Logbook'!C238=\"\",\"\",'2.Logbook'!C238)","v":""},{"$f":"IF('2.Logbook'!D238=\"\",\"\",'2.Logbook'!D238)","v":""},{"$f":"IF('2.Logbook'!E238=\"\",\"\",'2.Logbook'!E238)","v":""},{"$f":"IF('2.Logbook'!F238=\"\",\"\",'2.Logbook'!F238)","v":""},{"$f":"IF('2.Logbook'!G238=\"\",\"\",'2.Logbook'!G238)","v":""},{"$f":"IF('2.Logbook'!H238=\"\",\"\",'2.Logbook'!H238)","v":""},{"$f":"IF('2.Logbook'!I238=\"\",\"\",'2.Logbook'!I238)","v":""},{"$f":"IF('2.Logbook'!J238=\"\",\"\",'2.Logbook'!J238)","v":""},{"$f":"IF('2.Logbook'!K238=\"\",\"\",'2.Logbook'!K238)","v":""},{"$f":"IF('2.Logbook'!L238=\"\",\"\",'2.Logbook'!L238)","v":""},{"$f":"IF('2.Logbook'!M238=\"\",\"\",'2.Logbook'!M238)","v":""},{"$f":"IF('2.Logbook'!N238=\"\",\"\",'2.Logbook'!N238)","v":""},{"$f":"IF('2.Logbook'!O238=\"\",\"\",'2.Logbook'!O238)","v":""},{"$f":"IF('2.Logbook'!P238=\"\",\"\",'2.Logbook'!P238)","v":""},{"$f":"IF('2.Logbook'!Q238=\"\",\"\",'2.Logbook'!Q238)","v":""},{"$f":"IF('2.Logbook'!R238=\"\",\"\",'2.Logbook'!R238)","v":""},{"$f":"IF('2.Logbook'!S238=\"\",\"\",'2.Logbook'!S238)","v":""},{"$f":"IF('2.Logbook'!T238=\"\",\"\",'2.Logbook'!T238)","v":""},{"$f":"IF('2.Logbook'!U238=\"\",\"\",'2.Logbook'!U238)","v":""},{"$f":"IF('2.Logbook'!V238=\"\",\"\",'2.Logbook'!V238)","v":""},{"$f":"IF('2.Logbook'!W238=\"\",\"\",'2.Logbook'!W238)","v":""},{"$f":"IF('2.Logbook'!X238=\"\",\"\",'2.Logbook'!X238)","v":""},{"$f":"IF('2.Logbook'!Y238=\"\",\"\",'2.Logbook'!Y238)","v":""},{"$f":"IF('2.Logbook'!Z238=\"\",\"\",'2.Logbook'!Z238)","v":""},{"$f":"IF('2.Logbook'!AA238=\"\",\"\",'2.Logbook'!AA238)","v":""},{"$f":"IF('2.Logbook'!AB238=\"\",\"\",'2.Logbook'!AB238)","v":""},{"$f":"IF('2.Logbook'!AC238=\"\",\"\",'2.Logbook'!AC238)","v":""},{"$f":"IF('2.Logbook'!AD238=\"\",\"\",'2.Logbook'!AD238)","v":""},{"$f":"IF('2.Logbook'!AE238=\"\",\"\",'2.Logbook'!AE238)","v":""},{"$f":"IF('2.Logbook'!AF238=\"\",\"\",'2.Logbook'!AF238)","v":""},{"$f":"IF('2.Logbook'!AG238=\"\",\"\",'2.Logbook'!AG238)","v":""}]
[{"$f":"IF('2.Logbook'!A239=\"\",\"\",'2.Logbook'!A239)","v":""},{"$f":"IF('2.Logbook'!B239=\"\",\"\",'2.Logbook'!B239)","v":""},{"$f":"IF('2.Logbook'!C239=\"\",\"\",'2.Logbook'!C239)","v":""},{"$f":"IF('2.Logbook'!D239=\"\",\"\",'2.Logbook'!D239)","v":""},{"$f":"IF('2.Logbook'!E239=\"\",\"\",'2.Logbook'!E239)","v":""},{"$f":"IF('2.Logbook'!F239=\"\",\"\",'2.Logbook'!F239)","v":""},{"$f":"IF('2.Logbook'!G239=\"\",\"\",'2.Logbook'!G239)","v":""},{"$f":"IF('2.Logbook'!H239=\"\",\"\",'2.Logbook'!H239)","v":""},{"$f":"IF('2.Logbook'!I239=\"\",\"\",'2.Logbook'!I239)","v":""},{"$f":"IF('2.Logbook'!J239=\"\",\"\",'2.Logbook'!J239)","v":""},{"$f":"IF('2.Logbook'!K239=\"\",\"\",'2.Logbook'!K239)","v":""},{"$f":"IF('2.Logbook'!L239=\"\",\"\",'2.Logbook'!L239)","v":""},{"$f":"IF('2.Logbook'!M239=\"\",\"\",'2.Logbook'!M239)","v":""},{"$f":"IF('2.Logbook'!N239=\"\",\"\",'2.Logbook'!N239)","v":""},{"$f":"IF('2.Logbook'!O239=\"\",\"\",'2.Logbook'!O239)","v":""},{"$f":"IF('2.Logbook'!P239=\"\",\"\",'2.Logbook'!P239)","v":""},{"$f":"IF('2.Logbook'!Q239=\"\",\"\",'2.Logbook'!Q239)","v":""},{"$f":"IF('2.Logbook'!R239=\"\",\"\",'2.Logbook'!R239)","v":""},{"$f":"IF('2.Logbook'!S239=\"\",\"\",'2.Logbook'!S239)","v":""},{"$f":"IF('2.Logbook'!T239=\"\",\"\",'2.Logbook'!T239)","v":""},{"$f":"IF('2.Logbook'!U239=\"\",\"\",'2.Logbook'!U239)","v":""},{"$f":"IF('2.Logbook'!V239=\"\",\"\",'2.Logbook'!V239)","v":""},{"$f":"IF('2.Logbook'!W239=\"\",\"\",'2.Logbook'!W239)","v":""},{"$f":"IF('2.Logbook'!X239=\"\",\"\",'2.Logbook'!X239)","v":""},{"$f":"IF('2.Logbook'!Y239=\"\",\"\",'2.Logbook'!Y239)","v":""},{"$f":"IF('2.Logbook'!Z239=\"\",\"\",'2.Logbook'!Z239)","v":""},{"$f":"IF('2.Logbook'!AA239=\"\",\"\",'2.Logbook'!AA239)","v":""},{"$f":"IF('2.Logbook'!AB239=\"\",\"\",'2.Logbook'!AB239)","v":""},{"$f":"IF('2.Logbook'!AC239=\"\",\"\",'2.Logbook'!AC239)","v":""},{"$f":"IF('2.Logbook'!AD239=\"\",\"\",'2.Logbook'!AD239)","v":""},{"$f":"IF('2.Logbook'!AE239=\"\",\"\",'2.Logbook'!AE239)","v":""},{"$f":"IF('2.Logbook'!AF239=\"\",\"\",'2.Logbook'!AF239)","v":""},{"$f":"IF('2.Logbook'!AG239=\"\",\"\",'2.Logbook'!AG239)","v":""}]
[{"$f":"IF('2.Logbook'!A240=\"\",\"\",'2.Logbook'!A240)","v":""},{"$f":"IF('2.Logbook'!B240=\"\",\"\",'2.Logbook'!B240)","v":""},{"$f":"IF('2.Logbook'!C240=\"\",\"\",'2.Logbook'!C240)","v":""},{"$f":"IF('2.Logbook'!D240=\"\",\"\",'2.Logbook'!D240)","v":""},{"$f":"IF('2.Logbook'!E240=\"\",\"\",'2.Logbook'!E240)","v":""},{"$f":"IF('2.Logbook'!F240=\"\",\"\",'2.Logbook'!F240)","v":""},{"$f":"IF('2.Logbook'!G240=\"\",\"\",'2.Logbook'!G240)","v":""},{"$f":"IF('2.Logbook'!H240=\"\",\"\",'2.Logbook'!H240)","v":""},{"$f":"IF('2.Logbook'!I240=\"\",\"\",'2.Logbook'!I240)","v":""},{"$f":"IF('2.Logbook'!J240=\"\",\"\",'2.Logbook'!J240)","v":""},{"$f":"IF('2.Logbook'!K240=\"\",\"\",'2.Logbook'!K240)","v":""},{"$f":"IF('2.Logbook'!L240=\"\",\"\",'2.Logbook'!L240)","v":""},{"$f":"IF('2.Logbook'!M240=\"\",\"\",'2.Logbook'!M240)","v":""},{"$f":"IF('2.Logbook'!N240=\"\",\"\",'2.Logbook'!N240)","v":""},{"$f":"IF('2.Logbook'!O240=\"\",\"\",'2.Logbook'!O240)","v":""},{"$f":"IF('2.Logbook'!P240=\"\",\"\",'2.Logbook'!P240)","v":""},{"$f":"IF('2.Logbook'!Q240=\"\",\"\",'2.Logbook'!Q240)","v":""},{"$f":"IF('2.Logbook'!R240=\"\",\"\",'2.Logbook'!R240)","v":""},{"$f":"IF('2.Logbook'!S240=\"\",\"\",'2.Logbook'!S240)","v":""},{"$f":"IF('2.Logbook'!T240=\"\",\"\",'2.Logbook'!T240)","v":""},{"$f":"IF('2.Logbook'!U240=\"\",\"\",'2.Logbook'!U240)","v":""},{"$f":"IF('2.Logbook'!V240=\"\",\"\",'2.Logbook'!V240)","v":""},{"$f":"IF('2.Logbook'!W240=\"\",\"\",'2.Logbook'!W240)","v":""},{"$f":"IF('2.Logbook'!X240=\"\",\"\",'2.Logbook'!X240)","v":""},{"$f":"IF('2.Logbook'!Y240=\"\",\"\",'2.Logbook'!Y240)","v":""},{"$f":"IF('2.Logbook'!Z240=\"\",\"\",'2.Logbook'!Z240)","v":""},{"$f":"IF('2.Logbook'!AA240=\"\",\"\",'2.Logbook'!AA240)","v":""},{"$f":"IF('2.Logbook'!AB240=\"\",\"\",'2.Logbook'!AB240)","v":""},{"$f":"IF('2.Logbook'!AC240=\"\",\"\",'2.Logbook'!AC240)","v":""},{"$f":"IF('2.Logbook'!AD240=\"\",\"\",'2.Logbook'!AD240)","v":""},{"$f":"IF('2.Logbook'!AE240=\"\",\"\",'2.Logbook'!AE240)","v":""},{"$f":"IF('2.Logbook'!AF240=\"\",\"\",'2.Logbook'!AF240)","v":""},{"$f":"IF('2.Logbook'!AG240=\"\",\"\",'2.Logbook'!AG240)","v":""}]
[{"$f":"IF('2.Logbook'!A241=\"\",\"\",'2.Logbook'!A241)","v":""},{"$f":"IF('2.Logbook'!B241=\"\",\"\",'2.Logbook'!B241)","v":""},{"$f":"IF('2.Logbook'!C241=\"\",\"\",'2.Logbook'!C241)","v":""},{"$f":"IF('2.Logbook'!D241=\"\",\"\",'2.Logbook'!D241)","v":""},{"$f":"IF('2.Logbook'!E241=\"\",\"\",'2.Logbook'!E241)","v":""},{"$f":"IF('2.Logbook'!F241=\"\",\"\",'2.Logbook'!F241)","v":""},{"$f":"IF('2.Logbook'!G241=\"\",\"\",'2.Logbook'!G241)","v":""},{"$f":"IF('2.Logbook'!H241=\"\",\"\",'2.Logbook'!H241)","v":""},{"$f":"IF('2.Logbook'!I241=\"\",\"\",'2.Logbook'!I241)","v":""},{"$f":"IF('2.Logbook'!J241=\"\",\"\",'2.Logbook'!J241)","v":""},{"$f":"IF('2.Logbook'!K241=\"\",\"\",'2.Logbook'!K241)","v":""},{"$f":"IF('2.Logbook'!L241=\"\",\"\",'2.Logbook'!L241)","v":""},{"$f":"IF('2.Logbook'!M241=\"\",\"\",'2.Logbook'!M241)","v":""},{"$f":"IF('2.Logbook'!N241=\"\",\"\",'2.Logbook'!N241)","v":""},{"$f":"IF('2.Logbook'!O241=\"\",\"\",'2.Logbook'!O241)","v":""},{"$f":"IF('2.Logbook'!P241=\"\",\"\",'2.Logbook'!P241)","v":""},{"$f":"IF('2.Logbook'!Q241=\"\",\"\",'2.Logbook'!Q241)","v":""},{"$f":"IF('2.Logbook'!R241=\"\",\"\",'2.Logbook'!R241)","v":""},{"$f":"IF('2.Logbook'!S241=\"\",\"\",'2.Logbook'!S241)","v":""},{"$f":"IF('2.Logbook'!T241=\"\",\"\",'2.Logbook'!T241)","v":""},{"$f":"IF('2.Logbook'!U241=\"\",\"\",'2.Logbook'!U241)","v":""},{"$f":"IF('2.Logbook'!V241=\"\",\"\",'2.Logbook'!V241)","v":""},{"$f":"IF('2.Logbook'!W241=\"\",\"\",'2.Logbook'!W241)","v":""},{"$f":"IF('2.Logbook'!X241=\"\",\"\",'2.Logbook'!X241)","v":""},{"$f":"IF('2.Logbook'!Y241=\"\",\"\",'2.Logbook'!Y241)","v":""},{"$f":"IF('2.Logbook'!Z241=\"\",\"\",'2.Logbook'!Z241)","v":""},{"$f":"IF('2.Logbook'!AA241=\"\",\"\",'2.Logbook'!AA241)","v":""},{"$f":"IF('2.Logbook'!AB241=\"\",\"\",'2.Logbook'!AB241)","v":""},{"$f":"IF('2.Logbook'!AC241=\"\",\"\",'2.Logbook'!AC241)","v":""},{"$f":"IF('2.Logbook'!AD241=\"\",\"\",'2.Logbook'!AD241)","v":""},{"$f":"IF('2.Logbook'!AE241=\"\",\"\",'2.Logbook'!AE241)","v":""},{"$f":"IF('2.Logbook'!AF241=\"\",\"\",'2.Logbook'!AF241)","v":""},{"$f":"IF('2.Logbook'!AG241=\"\",\"\",'2.Logbook'!AG241)","v":""}]
[{"$f":"IF('2.Logbook'!A242=\"\",\"\",'2.Logbook'!A242)","v":""},{"$f":"IF('2.Logbook'!B242=\"\",\"\",'2.Logbook'!B242)","v":""},{"$f":"IF('2.Logbook'!C242=\"\",\"\",'2.Logbook'!C242)","v":""},{"$f":"IF('2.Logbook'!D242=\"\",\"\",'2.Logbook'!D242)","v":""},{"$f":"IF('2.Logbook'!E242=\"\",\"\",'2.Logbook'!E242)","v":""},{"$f":"IF('2.Logbook'!F242=\"\",\"\",'2.Logbook'!F242)","v":""},{"$f":"IF('2.Logbook'!G242=\"\",\"\",'2.Logbook'!G242)","v":""},{"$f":"IF('2.Logbook'!H242=\"\",\"\",'2.Logbook'!H242)","v":""},{"$f":"IF('2.Logbook'!I242=\"\",\"\",'2.Logbook'!I242)","v":""},{"$f":"IF('2.Logbook'!J242=\"\",\"\",'2.Logbook'!J242)","v":""},{"$f":"IF('2.Logbook'!K242=\"\",\"\",'2.Logbook'!K242)","v":""},{"$f":"IF('2.Logbook'!L242=\"\",\"\",'2.Logbook'!L242)","v":""},{"$f":"IF('2.Logbook'!M242=\"\",\"\",'2.Logbook'!M242)","v":""},{"$f":"IF('2.Logbook'!N242=\"\",\"\",'2.Logbook'!N242)","v":""},{"$f":"IF('2.Logbook'!O242=\"\",\"\",'2.Logbook'!O242)","v":""},{"$f":"IF('2.Logbook'!P242=\"\",\"\",'2.Logbook'!P242)","v":""},{"$f":"IF('2.Logbook'!Q242=\"\",\"\",'2.Logbook'!Q242)","v":""},{"$f":"IF('2.Logbook'!R242=\"\",\"\",'2.Logbook'!R242)","v":""},{"$f":"IF('2.Logbook'!S242=\"\",\"\",'2.Logbook'!S242)","v":""},{"$f":"IF('2.Logbook'!T242=\"\",\"\",'2.Logbook'!T242)","v":""},{"$f":"IF('2.Logbook'!U242=\"\",\"\",'2.Logbook'!U242)","v":""},{"$f":"IF('2.Logbook'!V242=\"\",\"\",'2.Logbook'!V242)","v":""},{"$f":"IF('2.Logbook'!W242=\"\",\"\",'2.Logbook'!W242)","v":""},{"$f":"IF('2.Logbook'!X242=\"\",\"\",'2.Logbook'!X242)","v":""},{"$f":"IF('2.Logbook'!Y242=\"\",\"\",'2.Logbook'!Y242)","v":""},{"$f":"IF('2.Logbook'!Z242=\"\",\"\",'2.Logbook'!Z242)","v":""},{"$f":"IF('2.Logbook'!AA242=\"\",\"\",'2.Logbook'!AA242)","v":""},{"$f":"IF('2.Logbook'!AB242=\"\",\"\",'2.Logbook'!AB242)","v":""},{"$f":"IF('2.Logbook'!AC242=\"\",\"\",'2.Logbook'!AC242)","v":""},{"$f":"IF('2.Logbook'!AD242=\"\",\"\",'2.Logbook'!AD242)","v":""},{"$f":"IF('2.Logbook'!AE242=\"\",\"\",'2.Logbook'!AE242)","v":""},{"$f":"IF('2.Logbook'!AF242=\"\",\"\",'2.Logbook'!AF242)","v":""},{"$f":"IF('2.Logbook'!AG242=\"\",\"\",'2.Logbook'!AG242)","v":""}]
[{"$f":"IF('2.Logbook'!A243=\"\",\"\",'2.Logbook'!A243)","v":""},{"$f":"IF('2.Logbook'!B243=\"\",\"\",'2.Logbook'!B243)","v":""},{"$f":"IF('2.Logbook'!C243=\"\",\"\",'2.Logbook'!C243)","v":""},{"$f":"IF('2.Logbook'!D243=\"\",\"\",'2.Logbook'!D243)","v":""},{"$f":"IF('2.Logbook'!E243=\"\",\"\",'2.Logbook'!E243)","v":""},{"$f":"IF('2.Logbook'!F243=\"\",\"\",'2.Logbook'!F243)","v":""},{"$f":"IF('2.Logbook'!G243=\"\",\"\",'2.Logbook'!G243)","v":""},{"$f":"IF('2.Logbook'!H243=\"\",\"\",'2.Logbook'!H243)","v":""},{"$f":"IF('2.Logbook'!I243=\"\",\"\",'2.Logbook'!I243)","v":""},{"$f":"IF('2.Logbook'!J243=\"\",\"\",'2.Logbook'!J243)","v":""},{"$f":"IF('2.Logbook'!K243=\"\",\"\",'2.Logbook'!K243)","v":""},{"$f":"IF('2.Logbook'!L243=\"\",\"\",'2.Logbook'!L243)","v":""},{"$f":"IF('2.Logbook'!M243=\"\",\"\",'2.Logbook'!M243)","v":""},{"$f":"IF('2.Logbook'!N243=\"\",\"\",'2.Logbook'!N243)","v":""},{"$f":"IF('2.Logbook'!O243=\"\",\"\",'2.Logbook'!O243)","v":""},{"$f":"IF('2.Logbook'!P243=\"\",\"\",'2.Logbook'!P243)","v":""},{"$f":"IF('2.Logbook'!Q243=\"\",\"\",'2.Logbook'!Q243)","v":""},{"$f":"IF('2.Logbook'!R243=\"\",\"\",'2.Logbook'!R243)","v":""},{"$f":"IF('2.Logbook'!S243=\"\",\"\",'2.Logbook'!S243)","v":""},{"$f":"IF('2.Logbook'!T243=\"\",\"\",'2.Logbook'!T243)","v":""},{"$f":"IF('2.Logbook'!U243=\"\",\"\",'2.Logbook'!U243)","v":""},{"$f":"IF('2.Logbook'!V243=\"\",\"\",'2.Logbook'!V243)","v":""},{"$f":"IF('2.Logbook'!W243=\"\",\"\",'2.Logbook'!W243)","v":""},{"$f":"IF('2.Logbook'!X243=\"\",\"\",'2.Logbook'!X243)","v":""},{"$f":"IF('2.Logbook'!Y243=\"\",\"\",'2.Logbook'!Y243)","v":""},{"$f":"IF('2.Logbook'!Z243=\"\",\"\",'2.Logbook'!Z243)","v":""},{"$f":"IF('2.Logbook'!AA243=\"\",\"\",'2.Logbook'!AA243)","v":""},{"$f":"IF('2.Logbook'!AB243=\"\",\"\",'2.Logbook'!AB243)","v":""},{"$f":"IF('2.Logbook'!AC243=\"\",\"\",'2.Logbook'!AC243)","v":""},{"$f":"IF('2.Logbook'!AD243=\"\",\"\",'2.Logbook'!AD243)","v":""},{"$f":"IF('2.Logbook'!AE243=\"\",\"\",'2.Logbook'!AE243)","v":""},{"$f":"IF('2.Logbook'!AF243=\"\",\"\",'2.Logbook'!AF243)","v":""},{"$f":"IF('2.Logbook'!AG243=\"\",\"\",'2.Logbook'!AG243)","v":""}]
[{"$f":"IF('2.Logbook'!A244=\"\",\"\",'2.Logbook'!A244)","v":""},{"$f":"IF('2.Logbook'!B244=\"\",\"\",'2.Logbook'!B244)","v":""},{"$f":"IF('2.Logbook'!C244=\"\",\"\",'2.Logbook'!C244)","v":""},{"$f":"IF('2.Logbook'!D244=\"\",\"\",'2.Logbook'!D244)","v":""},{"$f":"IF('2.Logbook'!E244=\"\",\"\",'2.Logbook'!E244)","v":""},{"$f":"IF('2.Logbook'!F244=\"\",\"\",'2.Logbook'!F244)","v":""},{"$f":"IF('2.Logbook'!G244=\"\",\"\",'2.Logbook'!G244)","v":""},{"$f":"IF('2.Logbook'!H244=\"\",\"\",'2.Logbook'!H244)","v":""},{"$f":"IF('2.Logbook'!I244=\"\",\"\",'2.Logbook'!I244)","v":""},{"$f":"IF('2.Logbook'!J244=\"\",\"\",'2.Logbook'!J244)","v":""},{"$f":"IF('2.Logbook'!K244=\"\",\"\",'2.Logbook'!K244)","v":""},{"$f":"IF('2.Logbook'!L244=\"\",\"\",'2.Logbook'!L244)","v":""},{"$f":"IF('2.Logbook'!M244=\"\",\"\",'2.Logbook'!M244)","v":""},{"$f":"IF('2.Logbook'!N244=\"\",\"\",'2.Logbook'!N244)","v":""},{"$f":"IF('2.Logbook'!O244=\"\",\"\",'2.Logbook'!O244)","v":""},{"$f":"IF('2.Logbook'!P244=\"\",\"\",'2.Logbook'!P244)","v":""},{"$f":"IF('2.Logbook'!Q244=\"\",\"\",'2.Logbook'!Q244)","v":""},{"$f":"IF('2.Logbook'!R244=\"\",\"\",'2.Logbook'!R244)","v":""},{"$f":"IF('2.Logbook'!S244=\"\",\"\",'2.Logbook'!S244)","v":""},{"$f":"IF('2.Logbook'!T244=\"\",\"\",'2.Logbook'!T244)","v":""},{"$f":"IF('2.Logbook'!U244=\"\",\"\",'2.Logbook'!U244)","v":""},{"$f":"IF('2.Logbook'!V244=\"\",\"\",'2.Logbook'!V244)","v":""},{"$f":"IF('2.Logbook'!W244=\"\",\"\",'2.Logbook'!W244)","v":""},{"$f":"IF('2.Logbook'!X244=\"\",\"\",'2.Logbook'!X244)","v":""},{"$f":"IF('2.Logbook'!Y244=\"\",\"\",'2.Logbook'!Y244)","v":""},{"$f":"IF('2.Logbook'!Z244=\"\",\"\",'2.Logbook'!Z244)","v":""},{"$f":"IF('2.Logbook'!AA244=\"\",\"\",'2.Logbook'!AA244)","v":""},{"$f":"IF('2.Logbook'!AB244=\"\",\"\",'2.Logbook'!AB244)","v":""},{"$f":"IF('2.Logbook'!AC244=\"\",\"\",'2.Logbook'!AC244)","v":""},{"$f":"IF('2.Logbook'!AD244=\"\",\"\",'2.Logbook'!AD244)","v":""},{"$f":"IF('2.Logbook'!AE244=\"\",\"\",'2.Logbook'!AE244)","v":""},{"$f":"IF('2.Logbook'!AF244=\"\",\"\",'2.Logbook'!AF244)","v":""},{"$f":"IF('2.Logbook'!AG244=\"\",\"\",'2.Logbook'!AG244)","v":""}]
[{"$f":"IF('2.Logbook'!A245=\"\",\"\",'2.Logbook'!A245)","v":""},{"$f":"IF('2.Logbook'!B245=\"\",\"\",'2.Logbook'!B245)","v":""},{"$f":"IF('2.Logbook'!C245=\"\",\"\",'2.Logbook'!C245)","v":""},{"$f":"IF('2.Logbook'!D245=\"\",\"\",'2.Logbook'!D245)","v":""},{"$f":"IF('2.Logbook'!E245=\"\",\"\",'2.Logbook'!E245)","v":""},{"$f":"IF('2.Logbook'!F245=\"\",\"\",'2.Logbook'!F245)","v":""},{"$f":"IF('2.Logbook'!G245=\"\",\"\",'2.Logbook'!G245)","v":""},{"$f":"IF('2.Logbook'!H245=\"\",\"\",'2.Logbook'!H245)","v":""},{"$f":"IF('2.Logbook'!I245=\"\",\"\",'2.Logbook'!I245)","v":""},{"$f":"IF('2.Logbook'!J245=\"\",\"\",'2.Logbook'!J245)","v":""},{"$f":"IF('2.Logbook'!K245=\"\",\"\",'2.Logbook'!K245)","v":""},{"$f":"IF('2.Logbook'!L245=\"\",\"\",'2.Logbook'!L245)","v":""},{"$f":"IF('2.Logbook'!M245=\"\",\"\",'2.Logbook'!M245)","v":""},{"$f":"IF('2.Logbook'!N245=\"\",\"\",'2.Logbook'!N245)","v":""},{"$f":"IF('2.Logbook'!O245=\"\",\"\",'2.Logbook'!O245)","v":""},{"$f":"IF('2.Logbook'!P245=\"\",\"\",'2.Logbook'!P245)","v":""},{"$f":"IF('2.Logbook'!Q245=\"\",\"\",'2.Logbook'!Q245)","v":""},{"$f":"IF('2.Logbook'!R245=\"\",\"\",'2.Logbook'!R245)","v":""},{"$f":"IF('2.Logbook'!S245=\"\",\"\",'2.Logbook'!S245)","v":""},{"$f":"IF('2.Logbook'!T245=\"\",\"\",'2.Logbook'!T245)","v":""},{"$f":"IF('2.Logbook'!U245=\"\",\"\",'2.Logbook'!U245)","v":""},{"$f":"IF('2.Logbook'!V245=\"\",\"\",'2.Logbook'!V245)","v":""},{"$f":"IF('2.Logbook'!W245=\"\",\"\",'2.Logbook'!W245)","v":""},{"$f":"IF('2.Logbook'!X245=\"\",\"\",'2.Logbook'!X245)","v":""},{"$f":"IF('2.Logbook'!Y245=\"\",\"\",'2.Logbook'!Y245)","v":""},{"$f":"IF('2.Logbook'!Z245=\"\",\"\",'2.Logbook'!Z245)","v":""},{"$f":"IF('2.Logbook'!AA245=\"\",\"\",'2.Logbook'!AA245)","v":""},{"$f":"IF('2.Logbook'!AB245=\"\",\"\",'2.Logbook'!AB245)","v":""},{"$f":"IF('2.Logbook'!AC245=\"\",\"\",'2.Logbook'!AC245)","v":""},{"$f":"IF('2.Logbook'!AD245=\"\",\"\",'2.Logbook'!AD245)","v":""},{"$f":"IF('2.Logbook'!AE245=\"\",\"\",'2.Logbook'!AE245)","v":""},{"$f":"IF('2.Logbook'!AF245=\"\",\"\",'2.Logbook'!AF245)","v":""},{"$f":"IF('2.Logbook'!AG245=\"\",\"\",'2.Logbook'!AG245)","v":""}]
[{"$f":"IF('2.Logbook'!A246=\"\",\"\",'2.Logbook'!A246)","v":""},{"$f":"IF('2.Logbook'!B246=\"\",\"\",'2.Logbook'!B246)","v":""},{"$f":"IF('2.Logbook'!C246=\"\",\"\",'2.Logbook'!C246)","v":""},{"$f":"IF('2.Logbook'!D246=\"\",\"\",'2.Logbook'!D246)","v":""},{"$f":"IF('2.Logbook'!E246=\"\",\"\",'2.Logbook'!E246)","v":""},{"$f":"IF('2.Logbook'!F246=\"\",\"\",'2.Logbook'!F246)","v":""},{"$f":"IF('2.Logbook'!G246=\"\",\"\",'2.Logbook'!G246)","v":""},{"$f":"IF('2.Logbook'!H246=\"\",\"\",'2.Logbook'!H246)","v":""},{"$f":"IF('2.Logbook'!I246=\"\",\"\",'2.Logbook'!I246)","v":""},{"$f":"IF('2.Logbook'!J246=\"\",\"\",'2.Logbook'!J246)","v":""},{"$f":"IF('2.Logbook'!K246=\"\",\"\",'2.Logbook'!K246)","v":""},{"$f":"IF('2.Logbook'!L246=\"\",\"\",'2.Logbook'!L246)","v":""},{"$f":"IF('2.Logbook'!M246=\"\",\"\",'2.Logbook'!M246)","v":""},{"$f":"IF('2.Logbook'!N246=\"\",\"\",'2.Logbook'!N246)","v":""},{"$f":"IF('2.Logbook'!O246=\"\",\"\",'2.Logbook'!O246)","v":""},{"$f":"IF('2.Logbook'!P246=\"\",\"\",'2.Logbook'!P246)","v":""},{"$f":"IF('2.Logbook'!Q246=\"\",\"\",'2.Logbook'!Q246)","v":""},{"$f":"IF('2.Logbook'!R246=\"\",\"\",'2.Logbook'!R246)","v":""},{"$f":"IF('2.Logbook'!S246=\"\",\"\",'2.Logbook'!S246)","v":""},{"$f":"IF('2.Logbook'!T246=\"\",\"\",'2.Logbook'!T246)","v":""},{"$f":"IF('2.Logbook'!U246=\"\",\"\",'2.Logbook'!U246)","v":""},{"$f":"IF('2.Logbook'!V246=\"\",\"\",'2.Logbook'!V246)","v":""},{"$f":"IF('2.Logbook'!W246=\"\",\"\",'2.Logbook'!W246)","v":""},{"$f":"IF('2.Logbook'!X246=\"\",\"\",'2.Logbook'!X246)","v":""},{"$f":"IF('2.Logbook'!Y246=\"\",\"\",'2.Logbook'!Y246)","v":""},{"$f":"IF('2.Logbook'!Z246=\"\",\"\",'2.Logbook'!Z246)","v":""},{"$f":"IF('2.Logbook'!AA246=\"\",\"\",'2.Logbook'!AA246)","v":""},{"$f":"IF('2.Logbook'!AB246=\"\",\"\",'2.Logbook'!AB246)","v":""},{"$f":"IF('2.Logbook'!AC246=\"\",\"\",'2.Logbook'!AC246)","v":""},{"$f":"IF('2.Logbook'!AD246=\"\",\"\",'2.Logbook'!AD246)","v":""},{"$f":"IF('2.Logbook'!AE246=\"\",\"\",'2.Logbook'!AE246)","v":""},{"$f":"IF('2.Logbook'!AF246=\"\",\"\",'2.Logbook'!AF246)","v":""},{"$f":"IF('2.Logbook'!AG246=\"\",\"\",'2.Logbook'!AG246)","v":""}]
[{"$f":"IF('2.Logbook'!A247=\"\",\"\",'2.Logbook'!A247)","v":""},{"$f":"IF('2.Logbook'!B247=\"\",\"\",'2.Logbook'!B247)","v":""},{"$f":"IF('2.Logbook'!C247=\"\",\"\",'2.Logbook'!C247)","v":""},{"$f":"IF('2.Logbook'!D247=\"\",\"\",'2.Logbook'!D247)","v":""},{"$f":"IF('2.Logbook'!E247=\"\",\"\",'2.Logbook'!E247)","v":""},{"$f":"IF('2.Logbook'!F247=\"\",\"\",'2.Logbook'!F247)","v":""},{"$f":"IF('2.Logbook'!G247=\"\",\"\",'2.Logbook'!G247)","v":""},{"$f":"IF('2.Logbook'!H247=\"\",\"\",'2.Logbook'!H247)","v":""},{"$f":"IF('2.Logbook'!I247=\"\",\"\",'2.Logbook'!I247)","v":""},{"$f":"IF('2.Logbook'!J247=\"\",\"\",'2.Logbook'!J247)","v":""},{"$f":"IF('2.Logbook'!K247=\"\",\"\",'2.Logbook'!K247)","v":""},{"$f":"IF('2.Logbook'!L247=\"\",\"\",'2.Logbook'!L247)","v":""},{"$f":"IF('2.Logbook'!M247=\"\",\"\",'2.Logbook'!M247)","v":""},{"$f":"IF('2.Logbook'!N247=\"\",\"\",'2.Logbook'!N247)","v":""},{"$f":"IF('2.Logbook'!O247=\"\",\"\",'2.Logbook'!O247)","v":""},{"$f":"IF('2.Logbook'!P247=\"\",\"\",'2.Logbook'!P247)","v":""},{"$f":"IF('2.Logbook'!Q247=\"\",\"\",'2.Logbook'!Q247)","v":""},{"$f":"IF('2.Logbook'!R247=\"\",\"\",'2.Logbook'!R247)","v":""},{"$f":"IF('2.Logbook'!S247=\"\",\"\",'2.Logbook'!S247)","v":""},{"$f":"IF('2.Logbook'!T247=\"\",\"\",'2.Logbook'!T247)","v":""},{"$f":"IF('2.Logbook'!U247=\"\",\"\",'2.Logbook'!U247)","v":""},{"$f":"IF('2.Logbook'!V247=\"\",\"\",'2.Logbook'!V247)","v":""},{"$f":"IF('2.Logbook'!W247=\"\",\"\",'2.Logbook'!W247)","v":""},{"$f":"IF('2.Logbook'!X247=\"\",\"\",'2.Logbook'!X247)","v":""},{"$f":"IF('2.Logbook'!Y247=\"\",\"\",'2.Logbook'!Y247)","v":""},{"$f":"IF('2.Logbook'!Z247=\"\",\"\",'2.Logbook'!Z247)","v":""},{"$f":"IF('2.Logbook'!AA247=\"\",\"\",'2.Logbook'!AA247)","v":""},{"$f":"IF('2.Logbook'!AB247=\"\",\"\",'2.Logbook'!AB247)","v":""},{"$f":"IF('2.Logbook'!AC247=\"\",\"\",'2.Logbook'!AC247)","v":""},{"$f":"IF('2.Logbook'!AD247=\"\",\"\",'2.Logbook'!AD247)","v":""},{"$f":"IF('2.Logbook'!AE247=\"\",\"\",'2.Logbook'!AE247)","v":""},{"$f":"IF('2.Logbook'!AF247=\"\",\"\",'2.Logbook'!AF247)","v":""},{"$f":"IF('2.Logbook'!AG247=\"\",\"\",'2.Logbook'!AG247)","v":""}]
[{"$f":"IF('2.Logbook'!A248=\"\",\"\",'2.Logbook'!A248)","v":""},{"$f":"IF('2.Logbook'!B248=\"\",\"\",'2.Logbook'!B248)","v":""},{"$f":"IF('2.Logbook'!C248=\"\",\"\",'2.Logbook'!C248)","v":""},{"$f":"IF('2.Logbook'!D248=\"\",\"\",'2.Logbook'!D248)","v":""},{"$f":"IF('2.Logbook'!E248=\"\",\"\",'2.Logbook'!E248)","v":""},{"$f":"IF('2.Logbook'!F248=\"\",\"\",'2.Logbook'!F248)","v":""},{"$f":"IF('2.Logbook'!G248=\"\",\"\",'2.Logbook'!G248)","v":""},{"$f":"IF('2.Logbook'!H248=\"\",\"\",'2.Logbook'!H248)","v":""},{"$f":"IF('2.Logbook'!I248=\"\",\"\",'2.Logbook'!I248)","v":""},{"$f":"IF('2.Logbook'!J248=\"\",\"\",'2.Logbook'!J248)","v":""},{"$f":"IF('2.Logbook'!K248=\"\",\"\",'2.Logbook'!K248)","v":""},{"$f":"IF('2.Logbook'!L248=\"\",\"\",'2.Logbook'!L248)","v":""},{"$f":"IF('2.Logbook'!M248=\"\",\"\",'2.Logbook'!M248)","v":""},{"$f":"IF('2.Logbook'!N248=\"\",\"\",'2.Logbook'!N248)","v":""},{"$f":"IF('2.Logbook'!O248=\"\",\"\",'2.Logbook'!O248)","v":""},{"$f":"IF('2.Logbook'!P248=\"\",\"\",'2.Logbook'!P248)","v":""},{"$f":"IF('2.Logbook'!Q248=\"\",\"\",'2.Logbook'!Q248)","v":""},{"$f":"IF('2.Logbook'!R248=\"\",\"\",'2.Logbook'!R248)","v":""},{"$f":"IF('2.Logbook'!S248=\"\",\"\",'2.Logbook'!S248)","v":""},{"$f":"IF('2.Logbook'!T248=\"\",\"\",'2.Logbook'!T248)","v":""},{"$f":"IF('2.Logbook'!U248=\"\",\"\",'2.Logbook'!U248)","v":""},{"$f":"IF('2.Logbook'!V248=\"\",\"\",'2.Logbook'!V248)","v":""},{"$f":"IF('2.Logbook'!W248=\"\",\"\",'2.Logbook'!W248)","v":""},{"$f":"IF('2.Logbook'!X248=\"\",\"\",'2.Logbook'!X248)","v":""},{"$f":"IF('2.Logbook'!Y248=\"\",\"\",'2.Logbook'!Y248)","v":""},{"$f":"IF('2.Logbook'!Z248=\"\",\"\",'2.Logbook'!Z248)","v":""},{"$f":"IF('2.Logbook'!AA248=\"\",\"\",'2.Logbook'!AA248)","v":""},{"$f":"IF('2.Logbook'!AB248=\"\",\"\",'2.Logbook'!AB248)","v":""},{"$f":"IF('2.Logbook'!AC248=\"\",\"\",'2.Logbook'!AC248)","v":""},{"$f":"IF('2.Logbook'!AD248=\"\",\"\",'2.Logbook'!AD248)","v":""},{"$f":"IF('2.Logbook'!AE248=\"\",\"\",'2.Logbook'!AE248)","v":""},{"$f":"IF('2.Logbook'!AF248=\"\",\"\",'2.Logbook'!AF248)","v":""},{"$f":"IF('2.Logbook'!AG248=\"\",\"\",'2.Logbook'!AG248)","v":""}]
[{"$f":"IF('2.Logbook'!A249=\"\",\"\",'2.Logbook'!A249)","v":""},{"$f":"IF('2.Logbook'!B249=\"\",\"\",'2.Logbook'!B249)","v":""},{"$f":"IF('2.Logbook'!C249=\"\",\"\",'2.Logbook'!C249)","v":""},{"$f":"IF('2.Logbook'!D249=\"\",\"\",'2.Logbook'!D249)","v":""},{"$f":"IF('2.Logbook'!E249=\"\",\"\",'2.Logbook'!E249)","v":""},{"$f":"IF('2.Logbook'!F249=\"\",\"\",'2.Logbook'!F249)","v":""},{"$f":"IF('2.Logbook'!G249=\"\",\"\",'2.Logbook'!G249)","v":""},{"$f":"IF('2.Logbook'!H249=\"\",\"\",'2.Logbook'!H249)","v":""},{"$f":"IF('2.Logbook'!I249=\"\",\"\",'2.Logbook'!I249)","v":""},{"$f":"IF('2.Logbook'!J249=\"\",\"\",'2.Logbook'!J249)","v":""},{"$f":"IF('2.Logbook'!K249=\"\",\"\",'2.Logbook'!K249)","v":""},{"$f":"IF('2.Logbook'!L249=\"\",\"\",'2.Logbook'!L249)","v":""},{"$f":"IF('2.Logbook'!M249=\"\",\"\",'2.Logbook'!M249)","v":""},{"$f":"IF('2.Logbook'!N249=\"\",\"\",'2.Logbook'!N249)","v":""},{"$f":"IF('2.Logbook'!O249=\"\",\"\",'2.Logbook'!O249)","v":""},{"$f":"IF('2.Logbook'!P249=\"\",\"\",'2.Logbook'!P249)","v":""},{"$f":"IF('2.Logbook'!Q249=\"\",\"\",'2.Logbook'!Q249)","v":""},{"$f":"IF('2.Logbook'!R249=\"\",\"\",'2.Logbook'!R249)","v":""},{"$f":"IF('2.Logbook'!S249=\"\",\"\",'2.Logbook'!S249)","v":""},{"$f":"IF('2.Logbook'!T249=\"\",\"\",'2.Logbook'!T249)","v":""},{"$f":"IF('2.Logbook'!U249=\"\",\"\",'2.Logbook'!U249)","v":""},{"$f":"IF('2.Logbook'!V249=\"\",\"\",'2.Logbook'!V249)","v":""},{"$f":"IF('2.Logbook'!W249=\"\",\"\",'2.Logbook'!W249)","v":""},{"$f":"IF('2.Logbook'!X249=\"\",\"\",'2.Logbook'!X249)","v":""},{"$f":"IF('2.Logbook'!Y249=\"\",\"\",'2.Logbook'!Y249)","v":""},{"$f":"IF('2.Logbook'!Z249=\"\",\"\",'2.Logbook'!Z249)","v":""},{"$f":"IF('2.Logbook'!AA249=\"\",\"\",'2.Logbook'!AA249)","v":""},{"$f":"IF('2.Logbook'!AB249=\"\",\"\",'2.Logbook'!AB249)","v":""},{"$f":"IF('2.Logbook'!AC249=\"\",\"\",'2.Logbook'!AC249)","v":""},{"$f":"IF('2.Logbook'!AD249=\"\",\"\",'2.Logbook'!AD249)","v":""},{"$f":"IF('2.Logbook'!AE249=\"\",\"\",'2.Logbook'!AE249)","v":""},{"$f":"IF('2.Logbook'!AF249=\"\",\"\",'2.Logbook'!AF249)","v":""},{"$f":"IF('2.Logbook'!AG249=\"\",\"\",'2.Logbook'!AG249)","v":""}]
[{"$f":"IF('2.Logbook'!A250=\"\",\"\",'2.Logbook'!A250)","v":""},{"$f":"IF('2.Logbook'!B250=\"\",\"\",'2.Logbook'!B250)","v":""},{"$f":"IF('2.Logbook'!C250=\"\",\"\",'2.Logbook'!C250)","v":""},{"$f":"IF('2.Logbook'!D250=\"\",\"\",'2.Logbook'!D250)","v":""},{"$f":"IF('2.Logbook'!E250=\"\",\"\",'2.Logbook'!E250)","v":""},{"$f":"IF('2.Logbook'!F250=\"\",\"\",'2.Logbook'!F250)","v":""},{"$f":"IF('2.Logbook'!G250=\"\",\"\",'2.Logbook'!G250)","v":""},{"$f":"IF('2.Logbook'!H250=\"\",\"\",'2.Logbook'!H250)","v":""},{"$f":"IF('2.Logbook'!I250=\"\",\"\",'2.Logbook'!I250)","v":""},{"$f":"IF('2.Logbook'!J250=\"\",\"\",'2.Logbook'!J250)","v":""},{"$f":"IF('2.Logbook'!K250=\"\",\"\",'2.Logbook'!K250)","v":""},{"$f":"IF('2.Logbook'!L250=\"\",\"\",'2.Logbook'!L250)","v":""},{"$f":"IF('2.Logbook'!M250=\"\",\"\",'2.Logbook'!M250)","v":""},{"$f":"IF('2.Logbook'!N250=\"\",\"\",'2.Logbook'!N250)","v":""},{"$f":"IF('2.Logbook'!O250=\"\",\"\",'2.Logbook'!O250)","v":""},{"$f":"IF('2.Logbook'!P250=\"\",\"\",'2.Logbook'!P250)","v":""},{"$f":"IF('2.Logbook'!Q250=\"\",\"\",'2.Logbook'!Q250)","v":""},{"$f":"IF('2.Logbook'!R250=\"\",\"\",'2.Logbook'!R250)","v":""},{"$f":"IF('2.Logbook'!S250=\"\",\"\",'2.Logbook'!S250)","v":""},{"$f":"IF('2.Logbook'!T250=\"\",\"\",'2.Logbook'!T250)","v":""},{"$f":"IF('2.Logbook'!U250=\"\",\"\",'2.Logbook'!U250)","v":""},{"$f":"IF('2.Logbook'!V250=\"\",\"\",'2.Logbook'!V250)","v":""},{"$f":"IF('2.Logbook'!W250=\"\",\"\",'2.Logbook'!W250)","v":""},{"$f":"IF('2.Logbook'!X250=\"\",\"\",'2.Logbook'!X250)","v":""},{"$f":"IF('2.Logbook'!Y250=\"\",\"\",'2.Logbook'!Y250)","v":""},{"$f":"IF('2.Logbook'!Z250=\"\",\"\",'2.Logbook'!Z250)","v":""},{"$f":"IF('2.Logbook'!AA250=\"\",\"\",'2.Logbook'!AA250)","v":""},{"$f":"IF('2.Logbook'!AB250=\"\",\"\",'2.Logbook'!AB250)","v":""},{"$f":"IF('2.Logbook'!AC250=\"\",\"\",'2.Logbook'!AC250)","v":""},{"$f":"IF('2.Logbook'!AD250=\"\",\"\",'2.Logbook'!AD250)","v":""},{"$f":"IF('2.Logbook'!AE250=\"\",\"\",'2.Logbook'!AE250)","v":""},{"$f":"IF('2.Logbook'!AF250=\"\",\"\",'2.Logbook'!AF250)","v":""},{"$f":"IF('2.Logbook'!AG250=\"\",\"\",'2.Logbook'!AG250)","v":""}]
[{"$f":"IF('2.Logbook'!A251=\"\",\"\",'2.Logbook'!A251)","v":""},{"$f":"IF('2.Logbook'!B251=\"\",\"\",'2.Logbook'!B251)","v":""},{"$f":"IF('2.Logbook'!C251=\"\",\"\",'2.Logbook'!C251)","v":""},{"$f":"IF('2.Logbook'!D251=\"\",\"\",'2.Logbook'!D251)","v":""},{"$f":"IF('2.Logbook'!E251=\"\",\"\",'2.Logbook'!E251)","v":""},{"$f":"IF('2.Logbook'!F251=\"\",\"\",'2.Logbook'!F251)","v":""},{"$f":"IF('2.Logbook'!G251=\"\",\"\",'2.Logbook'!G251)","v":""},{"$f":"IF('2.Logbook'!H251=\"\",\"\",'2.Logbook'!H251)","v":""},{"$f":"IF('2.Logbook'!I251=\"\",\"\",'2.Logbook'!I251)","v":""},{"$f":"IF('2.Logbook'!J251=\"\",\"\",'2.Logbook'!J251)","v":""},{"$f":"IF('2.Logbook'!K251=\"\",\"\",'2.Logbook'!K251)","v":""},{"$f":"IF('2.Logbook'!L251=\"\",\"\",'2.Logbook'!L251)","v":""},{"$f":"IF('2.Logbook'!M251=\"\",\"\",'2.Logbook'!M251)","v":""},{"$f":"IF('2.Logbook'!N251=\"\",\"\",'2.Logbook'!N251)","v":""},{"$f":"IF('2.Logbook'!O251=\"\",\"\",'2.Logbook'!O251)","v":""},{"$f":"IF('2.Logbook'!P251=\"\",\"\",'2.Logbook'!P251)","v":""},{"$f":"IF('2.Logbook'!Q251=\"\",\"\",'2.Logbook'!Q251)","v":""},{"$f":"IF('2.Logbook'!R251=\"\",\"\",'2.Logbook'!R251)","v":""},{"$f":"IF('2.Logbook'!S251=\"\",\"\",'2.Logbook'!S251)","v":""},{"$f":"IF('2.Logbook'!T251=\"\",\"\",'2.Logbook'!T251)","v":""},{"$f":"IF('2.Logbook'!U251=\"\",\"\",'2.Logbook'!U251)","v":""},{"$f":"IF('2.Logbook'!V251=\"\",\"\",'2.Logbook'!V251)","v":""},{"$f":"IF('2.Logbook'!W251=\"\",\"\",'2.Logbook'!W251)","v":""},{"$f":"IF('2.Logbook'!X251=\"\",\"\",'2.Logbook'!X251)","v":""},{"$f":"IF('2.Logbook'!Y251=\"\",\"\",'2.Logbook'!Y251)","v":""},{"$f":"IF('2.Logbook'!Z251=\"\",\"\",'2.Logbook'!Z251)","v":""},{"$f":"IF('2.Logbook'!AA251=\"\",\"\",'2.Logbook'!AA251)","v":""},{"$f":"IF('2.Logbook'!AB251=\"\",\"\",'2.Logbook'!AB251)","v":""},{"$f":"IF('2.Logbook'!AC251=\"\",\"\",'2.Logbook'!AC251)","v":""},{"$f":"IF('2.Logbook'!AD251=\"\",\"\",'2.Logbook'!AD251)","v":""},{"$f":"IF('2.Logbook'!AE251=\"\",\"\",'2.Logbook'!AE251)","v":""},{"$f":"IF('2.Logbook'!AF251=\"\",\"\",'2.Logbook'!AF251)","v":""},{"$f":"IF('2.Logbook'!AG251=\"\",\"\",'2.Logbook'!AG251)","v":""}]
[{"$f":"IF('2.Logbook'!A252=\"\",\"\",'2.Logbook'!A252)","v":""},{"$f":"IF('2.Logbook'!B252=\"\",\"\",'2.Logbook'!B252)","v":""},{"$f":"IF('2.Logbook'!C252=\"\",\"\",'2.Logbook'!C252)","v":""},{"$f":"IF('2.Logbook'!D252=\"\",\"\",'2.Logbook'!D252)","v":""},{"$f":"IF('2.Logbook'!E252=\"\",\"\",'2.Logbook'!E252)","v":""},{"$f":"IF('2.Logbook'!F252=\"\",\"\",'2.Logbook'!F252)","v":""},{"$f":"IF('2.Logbook'!G252=\"\",\"\",'2.Logbook'!G252)","v":""},{"$f":"IF('2.Logbook'!H252=\"\",\"\",'2.Logbook'!H252)","v":""},{"$f":"IF('2.Logbook'!I252=\"\",\"\",'2.Logbook'!I252)","v":""},{"$f":"IF('2.Logbook'!J252=\"\",\"\",'2.Logbook'!J252)","v":""},{"$f":"IF('2.Logbook'!K252=\"\",\"\",'2.Logbook'!K252)","v":""},{"$f":"IF('2.Logbook'!L252=\"\",\"\",'2.Logbook'!L252)","v":""},{"$f":"IF('2.Logbook'!M252=\"\",\"\",'2.Logbook'!M252)","v":""},{"$f":"IF('2.Logbook'!N252=\"\",\"\",'2.Logbook'!N252)","v":""},{"$f":"IF('2.Logbook'!O252=\"\",\"\",'2.Logbook'!O252)","v":""},{"$f":"IF('2.Logbook'!P252=\"\",\"\",'2.Logbook'!P252)","v":""},{"$f":"IF('2.Logbook'!Q252=\"\",\"\",'2.Logbook'!Q252)","v":""},{"$f":"IF('2.Logbook'!R252=\"\",\"\",'2.Logbook'!R252)","v":""},{"$f":"IF('2.Logbook'!S252=\"\",\"\",'2.Logbook'!S252)","v":""},{"$f":"IF('2.Logbook'!T252=\"\",\"\",'2.Logbook'!T252)","v":""},{"$f":"IF('2.Logbook'!U252=\"\",\"\",'2.Logbook'!U252)","v":""},{"$f":"IF('2.Logbook'!V252=\"\",\"\",'2.Logbook'!V252)","v":""},{"$f":"IF('2.Logbook'!W252=\"\",\"\",'2.Logbook'!W252)","v":""},{"$f":"IF('2.Logbook'!X252=\"\",\"\",'2.Logbook'!X252)","v":""},{"$f":"IF('2.Logbook'!Y252=\"\",\"\",'2.Logbook'!Y252)","v":""},{"$f":"IF('2.Logbook'!Z252=\"\",\"\",'2.Logbook'!Z252)","v":""},{"$f":"IF('2.Logbook'!AA252=\"\",\"\",'2.Logbook'!AA252)","v":""},{"$f":"IF('2.Logbook'!AB252=\"\",\"\",'2.Logbook'!AB252)","v":""},{"$f":"IF('2.Logbook'!AC252=\"\",\"\",'2.Logbook'!AC252)","v":""},{"$f":"IF('2.Logbook'!AD252=\"\",\"\",'2.Logbook'!AD252)","v":""},{"$f":"IF('2.Logbook'!AE252=\"\",\"\",'2.Logbook'!AE252)","v":""},{"$f":"IF('2.Logbook'!AF252=\"\",\"\",'2.Logbook'!AF252)","v":""},{"$f":"IF('2.Logbook'!AG252=\"\",\"\",'2.Logbook'!AG252)","v":""}]
[{"$f":"IF('2.Logbook'!A253=\"\",\"\",'2.Logbook'!A253)","v":""},{"$f":"IF('2.Logbook'!B253=\"\",\"\",'2.Logbook'!B253)","v":""},{"$f":"IF('2.Logbook'!C253=\"\",\"\",'2.Logbook'!C253)","v":""},{"$f":"IF('2.Logbook'!D253=\"\",\"\",'2.Logbook'!D253)","v":""},{"$f":"IF('2.Logbook'!E253=\"\",\"\",'2.Logbook'!E253)","v":""},{"$f":"IF('2.Logbook'!F253=\"\",\"\",'2.Logbook'!F253)","v":""},{"$f":"IF('2.Logbook'!G253=\"\",\"\",'2.Logbook'!G253)","v":""},{"$f":"IF('2.Logbook'!H253=\"\",\"\",'2.Logbook'!H253)","v":""},{"$f":"IF('2.Logbook'!I253=\"\",\"\",'2.Logbook'!I253)","v":""},{"$f":"IF('2.Logbook'!J253=\"\",\"\",'2.Logbook'!J253)","v":""},{"$f":"IF('2.Logbook'!K253=\"\",\"\",'2.Logbook'!K253)","v":""},{"$f":"IF('2.Logbook'!L253=\"\",\"\",'2.Logbook'!L253)","v":""},{"$f":"IF('2.Logbook'!M253=\"\",\"\",'2.Logbook'!M253)","v":""},{"$f":"IF('2.Logbook'!N253=\"\",\"\",'2.Logbook'!N253)","v":""},{"$f":"IF('2.Logbook'!O253=\"\",\"\",'2.Logbook'!O253)","v":""},{"$f":"IF('2.Logbook'!P253=\"\",\"\",'2.Logbook'!P253)","v":""},{"$f":"IF('2.Logbook'!Q253=\"\",\"\",'2.Logbook'!Q253)","v":""},{"$f":"IF('2.Logbook'!R253=\"\",\"\",'2.Logbook'!R253)","v":""},{"$f":"IF('2.Logbook'!S253=\"\",\"\",'2.Logbook'!S253)","v":""},{"$f":"IF('2.Logbook'!T253=\"\",\"\",'2.Logbook'!T253)","v":""},{"$f":"IF('2.Logbook'!U253=\"\",\"\",'2.Logbook'!U253)","v":""},{"$f":"IF('2.Logbook'!V253=\"\",\"\",'2.Logbook'!V253)","v":""},{"$f":"IF('2.Logbook'!W253=\"\",\"\",'2.Logbook'!W253)","v":""},{"$f":"IF('2.Logbook'!X253=\"\",\"\",'2.Logbook'!X253)","v":""},{"$f":"IF('2.Logbook'!Y253=\"\",\"\",'2.Logbook'!Y253)","v":""},{"$f":"IF('2.Logbook'!Z253=\"\",\"\",'2.Logbook'!Z253)","v":""},{"$f":"IF('2.Logbook'!AA253=\"\",\"\",'2.Logbook'!AA253)","v":""},{"$f":"IF('2.Logbook'!AB253=\"\",\"\",'2.Logbook'!AB253)","v":""},{"$f":"IF('2.Logbook'!AC253=\"\",\"\",'2.Logbook'!AC253)","v":""},{"$f":"IF('2.Logbook'!AD253=\"\",\"\",'2.Logbook'!AD253)","v":""},{"$f":"IF('2.Logbook'!AE253=\"\",\"\",'2.Logbook'!AE253)","v":""},{"$f":"IF('2.Logbook'!AF253=\"\",\"\",'2.Logbook'!AF253)","v":""},{"$f":"IF('2.Logbook'!AG253=\"\",\"\",'2.Logbook'!AG253)","v":""}]
[{"$f":"IF('2.Logbook'!A254=\"\",\"\",'2.Logbook'!A254)","v":""},{"$f":"IF('2.Logbook'!B254=\"\",\"\",'2.Logbook'!B254)","v":""},{"$f":"IF('2.Logbook'!C254=\"\",\"\",'2.Logbook'!C254)","v":""},{"$f":"IF('2.Logbook'!D254=\"\",\"\",'2.Logbook'!D254)","v":""},{"$f":"IF('2.Logbook'!E254=\"\",\"\",'2.Logbook'!E254)","v":""},{"$f":"IF('2.Logbook'!F254=\"\",\"\",'2.Logbook'!F254)","v":""},{"$f":"IF('2.Logbook'!G254=\"\",\"\",'2.Logbook'!G254)","v":""},{"$f":"IF('2.Logbook'!H254=\"\",\"\",'2.Logbook'!H254)","v":""},{"$f":"IF('2.Logbook'!I254=\"\",\"\",'2.Logbook'!I254)","v":""},{"$f":"IF('2.Logbook'!J254=\"\",\"\",'2.Logbook'!J254)","v":""},{"$f":"IF('2.Logbook'!K254=\"\",\"\",'2.Logbook'!K254)","v":""},{"$f":"IF('2.Logbook'!L254=\"\",\"\",'2.Logbook'!L254)","v":""},{"$f":"IF('2.Logbook'!M254=\"\",\"\",'2.Logbook'!M254)","v":""},{"$f":"IF('2.Logbook'!N254=\"\",\"\",'2.Logbook'!N254)","v":""},{"$f":"IF('2.Logbook'!O254=\"\",\"\",'2.Logbook'!O254)","v":""},{"$f":"IF('2.Logbook'!P254=\"\",\"\",'2.Logbook'!P254)","v":""},{"$f":"IF('2.Logbook'!Q254=\"\",\"\",'2.Logbook'!Q254)","v":""},{"$f":"IF('2.Logbook'!R254=\"\",\"\",'2.Logbook'!R254)","v":""},{"$f":"IF('2.Logbook'!S254=\"\",\"\",'2.Logbook'!S254)","v":""},{"$f":"IF('2.Logbook'!T254=\"\",\"\",'2.Logbook'!T254)","v":""},{"$f":"IF('2.Logbook'!U254=\"\",\"\",'2.Logbook'!U254)","v":""},{"$f":"IF('2.Logbook'!V254=\"\",\"\",'2.Logbook'!V254)","v":""},{"$f":"IF('2.Logbook'!W254=\"\",\"\",'2.Logbook'!W254)","v":""},{"$f":"IF('2.Logbook'!X254=\"\",\"\",'2.Logbook'!X254)","v":""},{"$f":"IF('2.Logbook'!Y254=\"\",\"\",'2.Logbook'!Y254)","v":""},{"$f":"IF('2.Logbook'!Z254=\"\",\"\",'2.Logbook'!Z254)","v":""},{"$f":"IF('2.Logbook'!AA254=\"\",\"\",'2.Logbook'!AA254)","v":""},{"$f":"IF('2.Logbook'!AB254=\"\",\"\",'2.Logbook'!AB254)","v":""},{"$f":"IF('2.Logbook'!AC254=\"\",\"\",'2.Logbook'!AC254)","v":""},{"$f":"IF('2.Logbook'!AD254=\"\",\"\",'2.Logbook'!AD254)","v":""},{"$f":"IF('2.Logbook'!AE254=\"\",\"\",'2.Logbook'!AE254)","v":""},{"$f":"IF('2.Logbook'!AF254=\"\",\"\",'2.Logbook'!AF254)","v":""},{"$f":"IF('2.Logbook'!AG254=\"\",\"\",'2.Logbook'!AG254)","v":""}]
[{"$f":"IF('2.Logbook'!A255=\"\",\"\",'2.Logbook'!A255)","v":""},{"$f":"IF('2.Logbook'!B255=\"\",\"\",'2.Logbook'!B255)","v":""},{"$f":"IF('2.Logbook'!C255=\"\",\"\",'2.Logbook'!C255)","v":""},{"$f":"IF('2.Logbook'!D255=\"\",\"\",'2.Logbook'!D255)","v":""},{"$f":"IF('2.Logbook'!E255=\"\",\"\",'2.Logbook'!E255)","v":""},{"$f":"IF('2.Logbook'!F255=\"\",\"\",'2.Logbook'!F255)","v":""},{"$f":"IF('2.Logbook'!G255=\"\",\"\",'2.Logbook'!G255)","v":""},{"$f":"IF('2.Logbook'!H255=\"\",\"\",'2.Logbook'!H255)","v":""},{"$f":"IF('2.Logbook'!I255=\"\",\"\",'2.Logbook'!I255)","v":""},{"$f":"IF('2.Logbook'!J255=\"\",\"\",'2.Logbook'!J255)","v":""},{"$f":"IF('2.Logbook'!K255=\"\",\"\",'2.Logbook'!K255)","v":""},{"$f":"IF('2.Logbook'!L255=\"\",\"\",'2.Logbook'!L255)","v":""},{"$f":"IF('2.Logbook'!M255=\"\",\"\",'2.Logbook'!M255)","v":""},{"$f":"IF('2.Logbook'!N255=\"\",\"\",'2.Logbook'!N255)","v":""},{"$f":"IF('2.Logbook'!O255=\"\",\"\",'2.Logbook'!O255)","v":""},{"$f":"IF('2.Logbook'!P255=\"\",\"\",'2.Logbook'!P255)","v":""},{"$f":"IF('2.Logbook'!Q255=\"\",\"\",'2.Logbook'!Q255)","v":""},{"$f":"IF('2.Logbook'!R255=\"\",\"\",'2.Logbook'!R255)","v":""},{"$f":"IF('2.Logbook'!S255=\"\",\"\",'2.Logbook'!S255)","v":""},{"$f":"IF('2.Logbook'!T255=\"\",\"\",'2.Logbook'!T255)","v":""},{"$f":"IF('2.Logbook'!U255=\"\",\"\",'2.Logbook'!U255)","v":""},{"$f":"IF('2.Logbook'!V255=\"\",\"\",'2.Logbook'!V255)","v":""},{"$f":"IF('2.Logbook'!W255=\"\",\"\",'2.Logbook'!W255)","v":""},{"$f":"IF('2.Logbook'!X255=\"\",\"\",'2.Logbook'!X255)","v":""},{"$f":"IF('2.Logbook'!Y255=\"\",\"\",'2.Logbook'!Y255)","v":""},{"$f":"IF('2.Logbook'!Z255=\"\",\"\",'2.Logbook'!Z255)","v":""},{"$f":"IF('2.Logbook'!AA255=\"\",\"\",'2.Logbook'!AA255)","v":""},{"$f":"IF('2.Logbook'!AB255=\"\",\"\",'2.Logbook'!AB255)","v":""},{"$f":"IF('2.Logbook'!AC255=\"\",\"\",'2.Logbook'!AC255)","v":""},{"$f":"IF('2.Logbook'!AD255=\"\",\"\",'2.Logbook'!AD255)","v":""},{"$f":"IF('2.Logbook'!AE255=\"\",\"\",'2.Logbook'!AE255)","v":""},{"$f":"IF('2.Logbook'!AF255=\"\",\"\",'2.Logbook'!AF255)","v":""},{"$f":"IF('2.Logbook'!AG255=\"\",\"\",'2.Logbook'!AG255)","v":""}]
[{"$f":"IF('2.Logbook'!A256=\"\",\"\",'2.Logbook'!A256)","v":""},{"$f":"IF('2.Logbook'!B256=\"\",\"\",'2.Logbook'!B256)","v":""},{"$f":"IF('2.Logbook'!C256=\"\",\"\",'2.Logbook'!C256)","v":""},{"$f":"IF('2.Logbook'!D256=\"\",\"\",'2.Logbook'!D256)","v":""},{"$f":"IF('2.Logbook'!E256=\"\",\"\",'2.Logbook'!E256)","v":""},{"$f":"IF('2.Logbook'!F256=\"\",\"\",'2.Logbook'!F256)","v":""},{"$f":"IF('2.Logbook'!G256=\"\",\"\",'2.Logbook'!G256)","v":""},{"$f":"IF('2.Logbook'!H256=\"\",\"\",'2.Logbook'!H256)","v":""},{"$f":"IF('2.Logbook'!I256=\"\",\"\",'2.Logbook'!I256)","v":""},{"$f":"IF('2.Logbook'!J256=\"\",\"\",'2.Logbook'!J256)","v":""},{"$f":"IF('2.Logbook'!K256=\"\",\"\",'2.Logbook'!K256)","v":""},{"$f":"IF('2.Logbook'!L256=\"\",\"\",'2.Logbook'!L256)","v":""},{"$f":"IF('2.Logbook'!M256=\"\",\"\",'2.Logbook'!M256)","v":""},{"$f":"IF('2.Logbook'!N256=\"\",\"\",'2.Logbook'!N256)","v":""},{"$f":"IF('2.Logbook'!O256=\"\",\"\",'2.Logbook'!O256)","v":""},{"$f":"IF('2.Logbook'!P256=\"\",\"\",'2.Logbook'!P256)","v":""},{"$f":"IF('2.Logbook'!Q256=\"\",\"\",'2.Logbook'!Q256)","v":""},{"$f":"IF('2.Logbook'!R256=\"\",\"\",'2.Logbook'!R256)","v":""},{"$f":"IF('2.Logbook'!S256=\"\",\"\",'2.Logbook'!S256)","v":""},{"$f":"IF('2.Logbook'!T256=\"\",\"\",'2.Logbook'!T256)","v":""},{"$f":"IF('2.Logbook'!U256=\"\",\"\",'2.Logbook'!U256)","v":""},{"$f":"IF('2.Logbook'!V256=\"\",\"\",'2.Logbook'!V256)","v":""},{"$f":"IF('2.Logbook'!W256=\"\",\"\",'2.Logbook'!W256)","v":""},{"$f":"IF('2.Logbook'!X256=\"\",\"\",'2.Logbook'!X256)","v":""},{"$f":"IF('2.Logbook'!Y256=\"\",\"\",'2.Logbook'!Y256)","v":""},{"$f":"IF('2.Logbook'!Z256=\"\",\"\",'2.Logbook'!Z256)","v":""},{"$f":"IF('2.Logbook'!AA256=\"\",\"\",'2.Logbook'!AA256)","v":""},{"$f":"IF('2.Logbook'!AB256=\"\",\"\",'2.Logbook'!AB256)","v":""},{"$f":"IF('2.Logbook'!AC256=\"\",\"\",'2.Logbook'!AC256)","v":""},{"$f":"IF('2.Logbook'!AD256=\"\",\"\",'2.Logbook'!AD256)","v":""},{"$f":"IF('2.Logbook'!AE256=\"\",\"\",'2.Logbook'!AE256)","v":""},{"$f":"IF('2.Logbook'!AF256=\"\",\"\",'2.Logbook'!AF256)","v":""},{"$f":"IF('2.Logbook'!AG256=\"\",\"\",'2.Logbook'!AG256)","v":""}]
[{"$f":"IF('2.Logbook'!A257=\"\",\"\",'2.Logbook'!A257)","v":""},{"$f":"IF('2.Logbook'!B257=\"\",\"\",'2.Logbook'!B257)","v":""},{"$f":"IF('2.Logbook'!C257=\"\",\"\",'2.Logbook'!C257)","v":""},{"$f":"IF('2.Logbook'!D257=\"\",\"\",'2.Logbook'!D257)","v":""},{"$f":"IF('2.Logbook'!E257=\"\",\"\",'2.Logbook'!E257)","v":""},{"$f":"IF('2.Logbook'!F257=\"\",\"\",'2.Logbook'!F257)","v":""},{"$f":"IF('2.Logbook'!G257=\"\",\"\",'2.Logbook'!G257)","v":""},{"$f":"IF('2.Logbook'!H257=\"\",\"\",'2.Logbook'!H257)","v":""},{"$f":"IF('2.Logbook'!I257=\"\",\"\",'2.Logbook'!I257)","v":""},{"$f":"IF('2.Logbook'!J257=\"\",\"\",'2.Logbook'!J257)","v":""},{"$f":"IF('2.Logbook'!K257=\"\",\"\",'2.Logbook'!K257)","v":""},{"$f":"IF('2.Logbook'!L257=\"\",\"\",'2.Logbook'!L257)","v":""},{"$f":"IF('2.Logbook'!M257=\"\",\"\",'2.Logbook'!M257)","v":""},{"$f":"IF('2.Logbook'!N257=\"\",\"\",'2.Logbook'!N257)","v":""},{"$f":"IF('2.Logbook'!O257=\"\",\"\",'2.Logbook'!O257)","v":""},{"$f":"IF('2.Logbook'!P257=\"\",\"\",'2.Logbook'!P257)","v":""},{"$f":"IF('2.Logbook'!Q257=\"\",\"\",'2.Logbook'!Q257)","v":""},{"$f":"IF('2.Logbook'!R257=\"\",\"\",'2.Logbook'!R257)","v":""},{"$f":"IF('2.Logbook'!S257=\"\",\"\",'2.Logbook'!S257)","v":""},{"$f":"IF('2.Logbook'!T257=\"\",\"\",'2.Logbook'!T257)","v":""},{"$f":"IF('2.Logbook'!U257=\"\",\"\",'2.Logbook'!U257)","v":""},{"$f":"IF('2.Logbook'!V257=\"\",\"\",'2.Logbook'!V257)","v":""},{"$f":"IF('2.Logbook'!W257=\"\",\"\",'2.Logbook'!W257)","v":""},{"$f":"IF('2.Logbook'!X257=\"\",\"\",'2.Logbook'!X257)","v":""},{"$f":"IF('2.Logbook'!Y257=\"\",\"\",'2.Logbook'!Y257)","v":""},{"$f":"IF('2.Logbook'!Z257=\"\",\"\",'2.Logbook'!Z257)","v":""},{"$f":"IF('2.Logbook'!AA257=\"\",\"\",'2.Logbook'!AA257)","v":""},{"$f":"IF('2.Logbook'!AB257=\"\",\"\",'2.Logbook'!AB257)","v":""},{"$f":"IF('2.Logbook'!AC257=\"\",\"\",'2.Logbook'!AC257)","v":""},{"$f":"IF('2.Logbook'!AD257=\"\",\"\",'2.Logbook'!AD257)","v":""},{"$f":"IF('2.Logbook'!AE257=\"\",\"\",'2.Logbook'!AE257)","v":""},{"$f":"IF('2.Logbook'!AF257=\"\",\"\",'2.Logbook'!AF257)","v":""},{"$f":"IF('2.Logbook'!AG257=\"\",\"\",'2.Logbook'!AG257)","v":""}]
[{"$f":"IF('2.Logbook'!A258=\"\",\"\",'2.Logbook'!A258)","v":""},{"$f":"IF('2.Logbook'!B258=\"\",\"\",'2.Logbook'!B258)","v":""},{"$f":"IF('2.Logbook'!C258=\"\",\"\",'2.Logbook'!C258)","v":""},{"$f":"IF('2.Logbook'!D258=\"\",\"\",'2.Logbook'!D258)","v":""},{"$f":"IF('2.Logbook'!E258=\"\",\"\",'2.Logbook'!E258)","v":""},{"$f":"IF('2.Logbook'!F258=\"\",\"\",'2.Logbook'!F258)","v":""},{"$f":"IF('2.Logbook'!G258=\"\",\"\",'2.Logbook'!G258)","v":""},{"$f":"IF('2.Logbook'!H258=\"\",\"\",'2.Logbook'!H258)","v":""},{"$f":"IF('2.Logbook'!I258=\"\",\"\",'2.Logbook'!I258)","v":""},{"$f":"IF('2.Logbook'!J258=\"\",\"\",'2.Logbook'!J258)","v":""},{"$f":"IF('2.Logbook'!K258=\"\",\"\",'2.Logbook'!K258)","v":""},{"$f":"IF('2.Logbook'!L258=\"\",\"\",'2.Logbook'!L258)","v":""},{"$f":"IF('2.Logbook'!M258=\"\",\"\",'2.Logbook'!M258)","v":""},{"$f":"IF('2.Logbook'!N258=\"\",\"\",'2.Logbook'!N258)","v":""},{"$f":"IF('2.Logbook'!O258=\"\",\"\",'2.Logbook'!O258)","v":""},{"$f":"IF('2.Logbook'!P258=\"\",\"\",'2.Logbook'!P258)","v":""},{"$f":"IF('2.Logbook'!Q258=\"\",\"\",'2.Logbook'!Q258)","v":""},{"$f":"IF('2.Logbook'!R258=\"\",\"\",'2.Logbook'!R258)","v":""},{"$f":"IF('2.Logbook'!S258=\"\",\"\",'2.Logbook'!S258)","v":""},{"$f":"IF('2.Logbook'!T258=\"\",\"\",'2.Logbook'!T258)","v":""},{"$f":"IF('2.Logbook'!U258=\"\",\"\",'2.Logbook'!U258)","v":""},{"$f":"IF('2.Logbook'!V258=\"\",\"\",'2.Logbook'!V258)","v":""},{"$f":"IF('2.Logbook'!W258=\"\",\"\",'2.Logbook'!W258)","v":""},{"$f":"IF('2.Logbook'!X258=\"\",\"\",'2.Logbook'!X258)","v":""},{"$f":"IF('2.Logbook'!Y258=\"\",\"\",'2.Logbook'!Y258)","v":""},{"$f":"IF('2.Logbook'!Z258=\"\",\"\",'2.Logbook'!Z258)","v":""},{"$f":"IF('2.Logbook'!AA258=\"\",\"\",'2.Logbook'!AA258)","v":""},{"$f":"IF('2.Logbook'!AB258=\"\",\"\",'2.Logbook'!AB258)","v":""},{"$f":"IF('2.Logbook'!AC258=\"\",\"\",'2.Logbook'!AC258)","v":""},{"$f":"IF('2.Logbook'!AD258=\"\",\"\",'2.Logbook'!AD258)","v":""},{"$f":"IF('2.Logbook'!AE258=\"\",\"\",'2.Logbook'!AE258)","v":""},{"$f":"IF('2.Logbook'!AF258=\"\",\"\",'2.Logbook'!AF258)","v":""},{"$f":"IF('2.Logbook'!AG258=\"\",\"\",'2.Logbook'!AG258)","v":""}]
[{"$f":"IF('2.Logbook'!A259=\"\",\"\",'2.Logbook'!A259)","v":""},{"$f":"IF('2.Logbook'!B259=\"\",\"\",'2.Logbook'!B259)","v":""},{"$f":"IF('2.Logbook'!C259=\"\",\"\",'2.Logbook'!C259)","v":""},{"$f":"IF('2.Logbook'!D259=\"\",\"\",'2.Logbook'!D259)","v":""},{"$f":"IF('2.Logbook'!E259=\"\",\"\",'2.Logbook'!E259)","v":""},{"$f":"IF('2.Logbook'!F259=\"\",\"\",'2.Logbook'!F259)","v":""},{"$f":"IF('2.Logbook'!G259=\"\",\"\",'2.Logbook'!G259)","v":""},{"$f":"IF('2.Logbook'!H259=\"\",\"\",'2.Logbook'!H259)","v":""},{"$f":"IF('2.Logbook'!I259=\"\",\"\",'2.Logbook'!I259)","v":""},{"$f":"IF('2.Logbook'!J259=\"\",\"\",'2.Logbook'!J259)","v":""},{"$f":"IF('2.Logbook'!K259=\"\",\"\",'2.Logbook'!K259)","v":""},{"$f":"IF('2.Logbook'!L259=\"\",\"\",'2.Logbook'!L259)","v":""},{"$f":"IF('2.Logbook'!M259=\"\",\"\",'2.Logbook'!M259)","v":""},{"$f":"IF('2.Logbook'!N259=\"\",\"\",'2.Logbook'!N259)","v":""},{"$f":"IF('2.Logbook'!O259=\"\",\"\",'2.Logbook'!O259)","v":""},{"$f":"IF('2.Logbook'!P259=\"\",\"\",'2.Logbook'!P259)","v":""},{"$f":"IF('2.Logbook'!Q259=\"\",\"\",'2.Logbook'!Q259)","v":""},{"$f":"IF('2.Logbook'!R259=\"\",\"\",'2.Logbook'!R259)","v":""},{"$f":"IF('2.Logbook'!S259=\"\",\"\",'2.Logbook'!S259)","v":""},{"$f":"IF('2.Logbook'!T259=\"\",\"\",'2.Logbook'!T259)","v":""},{"$f":"IF('2.Logbook'!U259=\"\",\"\",'2.Logbook'!U259)","v":""},{"$f":"IF('2.Logbook'!V259=\"\",\"\",'2.Logbook'!V259)","v":""},{"$f":"IF('2.Logbook'!W259=\"\",\"\",'2.Logbook'!W259)","v":""},{"$f":"IF('2.Logbook'!X259=\"\",\"\",'2.Logbook'!X259)","v":""},{"$f":"IF('2.Logbook'!Y259=\"\",\"\",'2.Logbook'!Y259)","v":""},{"$f":"IF('2.Logbook'!Z259=\"\",\"\",'2.Logbook'!Z259)","v":""},{"$f":"IF('2.Logbook'!AA259=\"\",\"\",'2.Logbook'!AA259)","v":""},{"$f":"IF('2.Logbook'!AB259=\"\",\"\",'2.Logbook'!AB259)","v":""},{"$f":"IF('2.Logbook'!AC259=\"\",\"\",'2.Logbook'!AC259)","v":""},{"$f":"IF('2.Logbook'!AD259=\"\",\"\",'2.Logbook'!AD259)","v":""},{"$f":"IF('2.Logbook'!AE259=\"\",\"\",'2.Logbook'!AE259)","v":""},{"$f":"IF('2.Logbook'!AF259=\"\",\"\",'2.Logbook'!AF259)","v":""},{"$f":"IF('2.Logbook'!AG259=\"\",\"\",'2.Logbook'!AG259)","v":""}]
[{"$f":"IF('2.Logbook'!A260=\"\",\"\",'2.Logbook'!A260)","v":""},{"$f":"IF('2.Logbook'!B260=\"\",\"\",'2.Logbook'!B260)","v":""},{"$f":"IF('2.Logbook'!C260=\"\",\"\",'2.Logbook'!C260)","v":""},{"$f":"IF('2.Logbook'!D260=\"\",\"\",'2.Logbook'!D260)","v":""},{"$f":"IF('2.Logbook'!E260=\"\",\"\",'2.Logbook'!E260)","v":""},{"$f":"IF('2.Logbook'!F260=\"\",\"\",'2.Logbook'!F260)","v":""},{"$f":"IF('2.Logbook'!G260=\"\",\"\",'2.Logbook'!G260)","v":""},{"$f":"IF('2.Logbook'!H260=\"\",\"\",'2.Logbook'!H260)","v":""},{"$f":"IF('2.Logbook'!I260=\"\",\"\",'2.Logbook'!I260)","v":""},{"$f":"IF('2.Logbook'!J260=\"\",\"\",'2.Logbook'!J260)","v":""},{"$f":"IF('2.Logbook'!K260=\"\",\"\",'2.Logbook'!K260)","v":""},{"$f":"IF('2.Logbook'!L260=\"\",\"\",'2.Logbook'!L260)","v":""},{"$f":"IF('2.Logbook'!M260=\"\",\"\",'2.Logbook'!M260)","v":""},{"$f":"IF('2.Logbook'!N260=\"\",\"\",'2.Logbook'!N260)","v":""},{"$f":"IF('2.Logbook'!O260=\"\",\"\",'2.Logbook'!O260)","v":""},{"$f":"IF('2.Logbook'!P260=\"\",\"\",'2.Logbook'!P260)","v":""},{"$f":"IF('2.Logbook'!Q260=\"\",\"\",'2.Logbook'!Q260)","v":""},{"$f":"IF('2.Logbook'!R260=\"\",\"\",'2.Logbook'!R260)","v":""},{"$f":"IF('2.Logbook'!S260=\"\",\"\",'2.Logbook'!S260)","v":""},{"$f":"IF('2.Logbook'!T260=\"\",\"\",'2.Logbook'!T260)","v":""},{"$f":"IF('2.Logbook'!U260=\"\",\"\",'2.Logbook'!U260)","v":""},{"$f":"IF('2.Logbook'!V260=\"\",\"\",'2.Logbook'!V260)","v":""},{"$f":"IF('2.Logbook'!W260=\"\",\"\",'2.Logbook'!W260)","v":""},{"$f":"IF('2.Logbook'!X260=\"\",\"\",'2.Logbook'!X260)","v":""},{"$f":"IF('2.Logbook'!Y260=\"\",\"\",'2.Logbook'!Y260)","v":""},{"$f":"IF('2.Logbook'!Z260=\"\",\"\",'2.Logbook'!Z260)","v":""},{"$f":"IF('2.Logbook'!AA260=\"\",\"\",'2.Logbook'!AA260)","v":""},{"$f":"IF('2.Logbook'!AB260=\"\",\"\",'2.Logbook'!AB260)","v":""},{"$f":"IF('2.Logbook'!AC260=\"\",\"\",'2.Logbook'!AC260)","v":""},{"$f":"IF('2.Logbook'!AD260=\"\",\"\",'2.Logbook'!AD260)","v":""},{"$f":"IF('2.Logbook'!AE260=\"\",\"\",'2.Logbook'!AE260)","v":""},{"$f":"IF('2.Logbook'!AF260=\"\",\"\",'2.Logbook'!AF260)","v":""},{"$f":"IF('2.Logbook'!AG260=\"\",\"\",'2.Logbook'!AG260)","v":""}]
[{"$f":"IF('2.Logbook'!A261=\"\",\"\",'2.Logbook'!A261)","v":""},{"$f":"IF('2.Logbook'!B261=\"\",\"\",'2.Logbook'!B261)","v":""},{"$f":"IF('2.Logbook'!C261=\"\",\"\",'2.Logbook'!C261)","v":""},{"$f":"IF('2.Logbook'!D261=\"\",\"\",'2.Logbook'!D261)","v":""},{"$f":"IF('2.Logbook'!E261=\"\",\"\",'2.Logbook'!E261)","v":""},{"$f":"IF('2.Logbook'!F261=\"\",\"\",'2.Logbook'!F261)","v":""},{"$f":"IF('2.Logbook'!G261=\"\",\"\",'2.Logbook'!G261)","v":""},{"$f":"IF('2.Logbook'!H261=\"\",\"\",'2.Logbook'!H261)","v":""},{"$f":"IF('2.Logbook'!I261=\"\",\"\",'2.Logbook'!I261)","v":""},{"$f":"IF('2.Logbook'!J261=\"\",\"\",'2.Logbook'!J261)","v":""},{"$f":"IF('2.Logbook'!K261=\"\",\"\",'2.Logbook'!K261)","v":""},{"$f":"IF('2.Logbook'!L261=\"\",\"\",'2.Logbook'!L261)","v":""},{"$f":"IF('2.Logbook'!M261=\"\",\"\",'2.Logbook'!M261)","v":""},{"$f":"IF('2.Logbook'!N261=\"\",\"\",'2.Logbook'!N261)","v":""},{"$f":"IF('2.Logbook'!O261=\"\",\"\",'2.Logbook'!O261)","v":""},{"$f":"IF('2.Logbook'!P261=\"\",\"\",'2.Logbook'!P261)","v":""},{"$f":"IF('2.Logbook'!Q261=\"\",\"\",'2.Logbook'!Q261)","v":""},{"$f":"IF('2.Logbook'!R261=\"\",\"\",'2.Logbook'!R261)","v":""},{"$f":"IF('2.Logbook'!S261=\"\",\"\",'2.Logbook'!S261)","v":""},{"$f":"IF('2.Logbook'!T261=\"\",\"\",'2.Logbook'!T261)","v":""},{"$f":"IF('2.Logbook'!U261=\"\",\"\",'2.Logbook'!U261)","v":""},{"$f":"IF('2.Logbook'!V261=\"\",\"\",'2.Logbook'!V261)","v":""},{"$f":"IF('2.Logbook'!W261=\"\",\"\",'2.Logbook'!W261)","v":""},{"$f":"IF('2.Logbook'!X261=\"\",\"\",'2.Logbook'!X261)","v":""},{"$f":"IF('2.Logbook'!Y261=\"\",\"\",'2.Logbook'!Y261)","v":""},{"$f":"IF('2.Logbook'!Z261=\"\",\"\",'2.Logbook'!Z261)","v":""},{"$f":"IF('2.Logbook'!AA261=\"\",\"\",'2.Logbook'!AA261)","v":""},{"$f":"IF('2.Logbook'!AB261=\"\",\"\",'2.Logbook'!AB261)","v":""},{"$f":"IF('2.Logbook'!AC261=\"\",\"\",'2.Logbook'!AC261)","v":""},{"$f":"IF('2.Logbook'!AD261=\"\",\"\",'2.Logbook'!AD261)","v":""},{"$f":"IF('2.Logbook'!AE261=\"\",\"\",'2.Logbook'!AE261)","v":""},{"$f":"IF('2.Logbook'!AF261=\"\",\"\",'2.Logbook'!AF261)","v":""},{"$f":"IF('2.Logbook'!AG261=\"\",\"\",'2.Logbook'!AG261)","v":""}]
[{"$f":"IF('2.Logbook'!A262=\"\",\"\",'2.Logbook'!A262)","v":""},{"$f":"IF('2.Logbook'!B262=\"\",\"\",'2.Logbook'!B262)","v":""},{"$f":"IF('2.Logbook'!C262=\"\",\"\",'2.Logbook'!C262)","v":""},{"$f":"IF('2.Logbook'!D262=\"\",\"\",'2.Logbook'!D262)","v":""},{"$f":"IF('2.Logbook'!E262=\"\",\"\",'2.Logbook'!E262)","v":""},{"$f":"IF('2.Logbook'!F262=\"\",\"\",'2.Logbook'!F262)","v":""},{"$f":"IF('2.Logbook'!G262=\"\",\"\",'2.Logbook'!G262)","v":""},{"$f":"IF('2.Logbook'!H262=\"\",\"\",'2.Logbook'!H262)","v":""},{"$f":"IF('2.Logbook'!I262=\"\",\"\",'2.Logbook'!I262)","v":""},{"$f":"IF('2.Logbook'!J262=\"\",\"\",'2.Logbook'!J262)","v":""},{"$f":"IF('2.Logbook'!K262=\"\",\"\",'2.Logbook'!K262)","v":""},{"$f":"IF('2.Logbook'!L262=\"\",\"\",'2.Logbook'!L262)","v":""},{"$f":"IF('2.Logbook'!M262=\"\",\"\",'2.Logbook'!M262)","v":""},{"$f":"IF('2.Logbook'!N262=\"\",\"\",'2.Logbook'!N262)","v":""},{"$f":"IF('2.Logbook'!O262=\"\",\"\",'2.Logbook'!O262)","v":""},{"$f":"IF('2.Logbook'!P262=\"\",\"\",'2.Logbook'!P262)","v":""},{"$f":"IF('2.Logbook'!Q262=\"\",\"\",'2.Logbook'!Q262)","v":""},{"$f":"IF('2.Logbook'!R262=\"\",\"\",'2.Logbook'!R262)","v":""},{"$f":"IF('2.Logbook'!S262=\"\",\"\",'2.Logbook'!S262)","v":""},{"$f":"IF('2.Logbook'!T262=\"\",\"\",'2.Logbook'!T262)","v":""},{"$f":"IF('2.Logbook'!U262=\"\",\"\",'2.Logbook'!U262)","v":""},{"$f":"IF('2.Logbook'!V262=\"\",\"\",'2.Logbook'!V262)","v":""},{"$f":"IF('2.Logbook'!W262=\"\",\"\",'2.Logbook'!W262)","v":""},{"$f":"IF('2.Logbook'!X262=\"\",\"\",'2.Logbook'!X262)","v":""},{"$f":"IF('2.Logbook'!Y262=\"\",\"\",'2.Logbook'!Y262)","v":""},{"$f":"IF('2.Logbook'!Z262=\"\",\"\",'2.Logbook'!Z262)","v":""},{"$f":"IF('2.Logbook'!AA262=\"\",\"\",'2.Logbook'!AA262)","v":""},{"$f":"IF('2.Logbook'!AB262=\"\",\"\",'2.Logbook'!AB262)","v":""},{"$f":"IF('2.Logbook'!AC262=\"\",\"\",'2.Logbook'!AC262)","v":""},{"$f":"IF('2.Logbook'!AD262=\"\",\"\",'2.Logbook'!AD262)","v":""},{"$f":"IF('2.Logbook'!AE262=\"\",\"\",'2.Logbook'!AE262)","v":""},{"$f":"IF('2.Logbook'!AF262=\"\",\"\",'2.Logbook'!AF262)","v":""},{"$f":"IF('2.Logbook'!AG262=\"\",\"\",'2.Logbook'!AG262)","v":""}]
[{"$f":"IF('2.Logbook'!A263=\"\",\"\",'2.Logbook'!A263)","v":""},{"$f":"IF('2.Logbook'!B263=\"\",\"\",'2.Logbook'!B263)","v":""},{"$f":"IF('2.Logbook'!C263=\"\",\"\",'2.Logbook'!C263)","v":""},{"$f":"IF('2.Logbook'!D263=\"\",\"\",'2.Logbook'!D263)","v":""},{"$f":"IF('2.Logbook'!E263=\"\",\"\",'2.Logbook'!E263)","v":""},{"$f":"IF('2.Logbook'!F263=\"\",\"\",'2.Logbook'!F263)","v":""},{"$f":"IF('2.Logbook'!G263=\"\",\"\",'2.Logbook'!G263)","v":""},{"$f":"IF('2.Logbook'!H263=\"\",\"\",'2.Logbook'!H263)","v":""},{"$f":"IF('2.Logbook'!I263=\"\",\"\",'2.Logbook'!I263)","v":""},{"$f":"IF('2.Logbook'!J263=\"\",\"\",'2.Logbook'!J263)","v":""},{"$f":"IF('2.Logbook'!K263=\"\",\"\",'2.Logbook'!K263)","v":""},{"$f":"IF('2.Logbook'!L263=\"\",\"\",'2.Logbook'!L263)","v":""},{"$f":"IF('2.Logbook'!M263=\"\",\"\",'2.Logbook'!M263)","v":""},{"$f":"IF('2.Logbook'!N263=\"\",\"\",'2.Logbook'!N263)","v":""},{"$f":"IF('2.Logbook'!O263=\"\",\"\",'2.Logbook'!O263)","v":""},{"$f":"IF('2.Logbook'!P263=\"\",\"\",'2.Logbook'!P263)","v":""},{"$f":"IF('2.Logbook'!Q263=\"\",\"\",'2.Logbook'!Q263)","v":""},{"$f":"IF('2.Logbook'!R263=\"\",\"\",'2.Logbook'!R263)","v":""},{"$f":"IF('2.Logbook'!S263=\"\",\"\",'2.Logbook'!S263)","v":""},{"$f":"IF('2.Logbook'!T263=\"\",\"\",'2.Logbook'!T263)","v":""},{"$f":"IF('2.Logbook'!U263=\"\",\"\",'2.Logbook'!U263)","v":""},{"$f":"IF('2.Logbook'!V263=\"\",\"\",'2.Logbook'!V263)","v":""},{"$f":"IF('2.Logbook'!W263=\"\",\"\",'2.Logbook'!W263)","v":""},{"$f":"IF('2.Logbook'!X263=\"\",\"\",'2.Logbook'!X263)","v":""},{"$f":"IF('2.Logbook'!Y263=\"\",\"\",'2.Logbook'!Y263)","v":""},{"$f":"IF('2.Logbook'!Z263=\"\",\"\",'2.Logbook'!Z263)","v":""},{"$f":"IF('2.Logbook'!AA263=\"\",\"\",'2.Logbook'!AA263)","v":""},{"$f":"IF('2.Logbook'!AB263=\"\",\"\",'2.Logbook'!AB263)","v":""},{"$f":"IF('2.Logbook'!AC263=\"\",\"\",'2.Logbook'!AC263)","v":""},{"$f":"IF('2.Logbook'!AD263=\"\",\"\",'2.Logbook'!AD263)","v":""},{"$f":"IF('2.Logbook'!AE263=\"\",\"\",'2.Logbook'!AE263)","v":""},{"$f":"IF('2.Logbook'!AF263=\"\",\"\",'2.Logbook'!AF263)","v":""},{"$f":"IF('2.Logbook'!AG263=\"\",\"\",'2.Logbook'!AG263)","v":""}]
[{"$f":"IF('2.Logbook'!A264=\"\",\"\",'2.Logbook'!A264)","v":""},{"$f":"IF('2.Logbook'!B264=\"\",\"\",'2.Logbook'!B264)","v":""},{"$f":"IF('2.Logbook'!C264=\"\",\"\",'2.Logbook'!C264)","v":""},{"$f":"IF('2.Logbook'!D264=\"\",\"\",'2.Logbook'!D264)","v":""},{"$f":"IF('2.Logbook'!E264=\"\",\"\",'2.Logbook'!E264)","v":""},{"$f":"IF('2.Logbook'!F264=\"\",\"\",'2.Logbook'!F264)","v":""},{"$f":"IF('2.Logbook'!G264=\"\",\"\",'2.Logbook'!G264)","v":""},{"$f":"IF('2.Logbook'!H264=\"\",\"\",'2.Logbook'!H264)","v":""},{"$f":"IF('2.Logbook'!I264=\"\",\"\",'2.Logbook'!I264)","v":""},{"$f":"IF('2.Logbook'!J264=\"\",\"\",'2.Logbook'!J264)","v":""},{"$f":"IF('2.Logbook'!K264=\"\",\"\",'2.Logbook'!K264)","v":""},{"$f":"IF('2.Logbook'!L264=\"\",\"\",'2.Logbook'!L264)","v":""},{"$f":"IF('2.Logbook'!M264=\"\",\"\",'2.Logbook'!M264)","v":""},{"$f":"IF('2.Logbook'!N264=\"\",\"\",'2.Logbook'!N264)","v":""},{"$f":"IF('2.Logbook'!O264=\"\",\"\",'2.Logbook'!O264)","v":""},{"$f":"IF('2.Logbook'!P264=\"\",\"\",'2.Logbook'!P264)","v":""},{"$f":"IF('2.Logbook'!Q264=\"\",\"\",'2.Logbook'!Q264)","v":""},{"$f":"IF('2.Logbook'!R264=\"\",\"\",'2.Logbook'!R264)","v":""},{"$f":"IF('2.Logbook'!S264=\"\",\"\",'2.Logbook'!S264)","v":""},{"$f":"IF('2.Logbook'!T264=\"\",\"\",'2.Logbook'!T264)","v":""},{"$f":"IF('2.Logbook'!U264=\"\",\"\",'2.Logbook'!U264)","v":""},{"$f":"IF('2.Logbook'!V264=\"\",\"\",'2.Logbook'!V264)","v":""},{"$f":"IF('2.Logbook'!W264=\"\",\"\",'2.Logbook'!W264)","v":""},{"$f":"IF('2.Logbook'!X264=\"\",\"\",'2.Logbook'!X264)","v":""},{"$f":"IF('2.Logbook'!Y264=\"\",\"\",'2.Logbook'!Y264)","v":""},{"$f":"IF('2.Logbook'!Z264=\"\",\"\",'2.Logbook'!Z264)","v":""},{"$f":"IF('2.Logbook'!AA264=\"\",\"\",'2.Logbook'!AA264)","v":""},{"$f":"IF('2.Logbook'!AB264=\"\",\"\",'2.Logbook'!AB264)","v":""},{"$f":"IF('2.Logbook'!AC264=\"\",\"\",'2.Logbook'!AC264)","v":""},{"$f":"IF('2.Logbook'!AD264=\"\",\"\",'2.Logbook'!AD264)","v":""},{"$f":"IF('2.Logbook'!AE264=\"\",\"\",'2.Logbook'!AE264)","v":""},{"$f":"IF('2.Logbook'!AF264=\"\",\"\",'2.Logbook'!AF264)","v":""},{"$f":"IF('2.Logbook'!AG264=\"\",\"\",'2.Logbook'!AG264)","v":""}]
[{"$f":"IF('2.Logbook'!A265=\"\",\"\",'2.Logbook'!A265)","v":""},{"$f":"IF('2.Logbook'!B265=\"\",\"\",'2.Logbook'!B265)","v":""},{"$f":"IF('2.Logbook'!C265=\"\",\"\",'2.Logbook'!C265)","v":""},{"$f":"IF('2.Logbook'!D265=\"\",\"\",'2.Logbook'!D265)","v":""},{"$f":"IF('2.Logbook'!E265=\"\",\"\",'2.Logbook'!E265)","v":""},{"$f":"IF('2.Logbook'!F265=\"\",\"\",'2.Logbook'!F265)","v":""},{"$f":"IF('2.Logbook'!G265=\"\",\"\",'2.Logbook'!G265)","v":""},{"$f":"IF('2.Logbook'!H265=\"\",\"\",'2.Logbook'!H265)","v":""},{"$f":"IF('2.Logbook'!I265=\"\",\"\",'2.Logbook'!I265)","v":""},{"$f":"IF('2.Logbook'!J265=\"\",\"\",'2.Logbook'!J265)","v":""},{"$f":"IF('2.Logbook'!K265=\"\",\"\",'2.Logbook'!K265)","v":""},{"$f":"IF('2.Logbook'!L265=\"\",\"\",'2.Logbook'!L265)","v":""},{"$f":"IF('2.Logbook'!M265=\"\",\"\",'2.Logbook'!M265)","v":""},{"$f":"IF('2.Logbook'!N265=\"\",\"\",'2.Logbook'!N265)","v":""},{"$f":"IF('2.Logbook'!O265=\"\",\"\",'2.Logbook'!O265)","v":""},{"$f":"IF('2.Logbook'!P265=\"\",\"\",'2.Logbook'!P265)","v":""},{"$f":"IF('2.Logbook'!Q265=\"\",\"\",'2.Logbook'!Q265)","v":""},{"$f":"IF('2.Logbook'!R265=\"\",\"\",'2.Logbook'!R265)","v":""},{"$f":"IF('2.Logbook'!S265=\"\",\"\",'2.Logbook'!S265)","v":""},{"$f":"IF('2.Logbook'!T265=\"\",\"\",'2.Logbook'!T265)","v":""},{"$f":"IF('2.Logbook'!U265=\"\",\"\",'2.Logbook'!U265)","v":""},{"$f":"IF('2.Logbook'!V265=\"\",\"\",'2.Logbook'!V265)","v":""},{"$f":"IF('2.Logbook'!W265=\"\",\"\",'2.Logbook'!W265)","v":""},{"$f":"IF('2.Logbook'!X265=\"\",\"\",'2.Logbook'!X265)","v":""},{"$f":"IF('2.Logbook'!Y265=\"\",\"\",'2.Logbook'!Y265)","v":""},{"$f":"IF('2.Logbook'!Z265=\"\",\"\",'2.Logbook'!Z265)","v":""},{"$f":"IF('2.Logbook'!AA265=\"\",\"\",'2.Logbook'!AA265)","v":""},{"$f":"IF('2.Logbook'!AB265=\"\",\"\",'2.Logbook'!AB265)","v":""},{"$f":"IF('2.Logbook'!AC265=\"\",\"\",'2.Logbook'!AC265)","v":""},{"$f":"IF('2.Logbook'!AD265=\"\",\"\",'2.Logbook'!AD265)","v":""},{"$f":"IF('2.Logbook'!AE265=\"\",\"\",'2.Logbook'!AE265)","v":""},{"$f":"IF('2.Logbook'!AF265=\"\",\"\",'2.Logbook'!AF265)","v":""},{"$f":"IF('2.Logbook'!AG265=\"\",\"\",'2.Logbook'!AG265)","v":""}]
[{"$f":"IF('2.Logbook'!A266=\"\",\"\",'2.Logbook'!A266)","v":""},{"$f":"IF('2.Logbook'!B266=\"\",\"\",'2.Logbook'!B266)","v":""},{"$f":"IF('2.Logbook'!C266=\"\",\"\",'2.Logbook'!C266)","v":""},{"$f":"IF('2.Logbook'!D266=\"\",\"\",'2.Logbook'!D266)","v":""},{"$f":"IF('2.Logbook'!E266=\"\",\"\",'2.Logbook'!E266)","v":""},{"$f":"IF('2.Logbook'!F266=\"\",\"\",'2.Logbook'!F266)","v":""},{"$f":"IF('2.Logbook'!G266=\"\",\"\",'2.Logbook'!G266)","v":""},{"$f":"IF('2.Logbook'!H266=\"\",\"\",'2.Logbook'!H266)","v":""},{"$f":"IF('2.Logbook'!I266=\"\",\"\",'2.Logbook'!I266)","v":""},{"$f":"IF('2.Logbook'!J266=\"\",\"\",'2.Logbook'!J266)","v":""},{"$f":"IF('2.Logbook'!K266=\"\",\"\",'2.Logbook'!K266)","v":""},{"$f":"IF('2.Logbook'!L266=\"\",\"\",'2.Logbook'!L266)","v":""},{"$f":"IF('2.Logbook'!M266=\"\",\"\",'2.Logbook'!M266)","v":""},{"$f":"IF('2.Logbook'!N266=\"\",\"\",'2.Logbook'!N266)","v":""},{"$f":"IF('2.Logbook'!O266=\"\",\"\",'2.Logbook'!O266)","v":""},{"$f":"IF('2.Logbook'!P266=\"\",\"\",'2.Logbook'!P266)","v":""},{"$f":"IF('2.Logbook'!Q266=\"\",\"\",'2.Logbook'!Q266)","v":""},{"$f":"IF('2.Logbook'!R266=\"\",\"\",'2.Logbook'!R266)","v":""},{"$f":"IF('2.Logbook'!S266=\"\",\"\",'2.Logbook'!S266)","v":""},{"$f":"IF('2.Logbook'!T266=\"\",\"\",'2.Logbook'!T266)","v":""},{"$f":"IF('2.Logbook'!U266=\"\",\"\",'2.Logbook'!U266)","v":""},{"$f":"IF('2.Logbook'!V266=\"\",\"\",'2.Logbook'!V266)","v":""},{"$f":"IF('2.Logbook'!W266=\"\",\"\",'2.Logbook'!W266)","v":""},{"$f":"IF('2.Logbook'!X266=\"\",\"\",'2.Logbook'!X266)","v":""},{"$f":"IF('2.Logbook'!Y266=\"\",\"\",'2.Logbook'!Y266)","v":""},{"$f":"IF('2.Logbook'!Z266=\"\",\"\",'2.Logbook'!Z266)","v":""},{"$f":"IF('2.Logbook'!AA266=\"\",\"\",'2.Logbook'!AA266)","v":""},{"$f":"IF('2.Logbook'!AB266=\"\",\"\",'2.Logbook'!AB266)","v":""},{"$f":"IF('2.Logbook'!AC266=\"\",\"\",'2.Logbook'!AC266)","v":""},{"$f":"IF('2.Logbook'!AD266=\"\",\"\",'2.Logbook'!AD266)","v":""},{"$f":"IF('2.Logbook'!AE266=\"\",\"\",'2.Logbook'!AE266)","v":""},{"$f":"IF('2.Logbook'!AF266=\"\",\"\",'2.Logbook'!AF266)","v":""},{"$f":"IF('2.Logbook'!AG266=\"\",\"\",'2.Logbook'!AG266)","v":""}]
[{"$f":"IF('2.Logbook'!A267=\"\",\"\",'2.Logbook'!A267)","v":""},{"$f":"IF('2.Logbook'!B267=\"\",\"\",'2.Logbook'!B267)","v":""},{"$f":"IF('2.Logbook'!C267=\"\",\"\",'2.Logbook'!C267)","v":""},{"$f":"IF('2.Logbook'!D267=\"\",\"\",'2.Logbook'!D267)","v":""},{"$f":"IF('2.Logbook'!E267=\"\",\"\",'2.Logbook'!E267)","v":""},{"$f":"IF('2.Logbook'!F267=\"\",\"\",'2.Logbook'!F267)","v":""},{"$f":"IF('2.Logbook'!G267=\"\",\"\",'2.Logbook'!G267)","v":""},{"$f":"IF('2.Logbook'!H267=\"\",\"\",'2.Logbook'!H267)","v":""},{"$f":"IF('2.Logbook'!I267=\"\",\"\",'2.Logbook'!I267)","v":""},{"$f":"IF('2.Logbook'!J267=\"\",\"\",'2.Logbook'!J267)","v":""},{"$f":"IF('2.Logbook'!K267=\"\",\"\",'2.Logbook'!K267)","v":""},{"$f":"IF('2.Logbook'!L267=\"\",\"\",'2.Logbook'!L267)","v":""},{"$f":"IF('2.Logbook'!M267=\"\",\"\",'2.Logbook'!M267)","v":""},{"$f":"IF('2.Logbook'!N267=\"\",\"\",'2.Logbook'!N267)","v":""},{"$f":"IF('2.Logbook'!O267=\"\",\"\",'2.Logbook'!O267)","v":""},{"$f":"IF('2.Logbook'!P267=\"\",\"\",'2.Logbook'!P267)","v":""},{"$f":"IF('2.Logbook'!Q267=\"\",\"\",'2.Logbook'!Q267)","v":""},{"$f":"IF('2.Logbook'!R267=\"\",\"\",'2.Logbook'!R267)","v":""},{"$f":"IF('2.Logbook'!S267=\"\",\"\",'2.Logbook'!S267)","v":""},{"$f":"IF('2.Logbook'!T267=\"\",\"\",'2.Logbook'!T267)","v":""},{"$f":"IF('2.Logbook'!U267=\"\",\"\",'2.Logbook'!U267)","v":""},{"$f":"IF('2.Logbook'!V267=\"\",\"\",'2.Logbook'!V267)","v":""},{"$f":"IF('2.Logbook'!W267=\"\",\"\",'2.Logbook'!W267)","v":""},{"$f":"IF('2.Logbook'!X267=\"\",\"\",'2.Logbook'!X267)","v":""},{"$f":"IF('2.Logbook'!Y267=\"\",\"\",'2.Logbook'!Y267)","v":""},{"$f":"IF('2.Logbook'!Z267=\"\",\"\",'2.Logbook'!Z267)","v":""},{"$f":"IF('2.Logbook'!AA267=\"\",\"\",'2.Logbook'!AA267)","v":""},{"$f":"IF('2.Logbook'!AB267=\"\",\"\",'2.Logbook'!AB267)","v":""},{"$f":"IF('2.Logbook'!AC267=\"\",\"\",'2.Logbook'!AC267)","v":""},{"$f":"IF('2.Logbook'!AD267=\"\",\"\",'2.Logbook'!AD267)","v":""},{"$f":"IF('2.Logbook'!AE267=\"\",\"\",'2.Logbook'!AE267)","v":""},{"$f":"IF('2.Logbook'!AF267=\"\",\"\",'2.Logbook'!AF267)","v":""},{"$f":"IF('2.Logbook'!AG267=\"\",\"\",'2.Logbook'!AG267)","v":""}]
[{"$f":"IF('2.Logbook'!A268=\"\",\"\",'2.Logbook'!A268)","v":""},{"$f":"IF('2.Logbook'!B268=\"\",\"\",'2.Logbook'!B268)","v":""},{"$f":"IF('2.Logbook'!C268=\"\",\"\",'2.Logbook'!C268)","v":""},{"$f":"IF('2.Logbook'!D268=\"\",\"\",'2.Logbook'!D268)","v":""},{"$f":"IF('2.Logbook'!E268=\"\",\"\",'2.Logbook'!E268)","v":""},{"$f":"IF('2.Logbook'!F268=\"\",\"\",'2.Logbook'!F268)","v":""},{"$f":"IF('2.Logbook'!G268=\"\",\"\",'2.Logbook'!G268)","v":""},{"$f":"IF('2.Logbook'!H268=\"\",\"\",'2.Logbook'!H268)","v":""},{"$f":"IF('2.Logbook'!I268=\"\",\"\",'2.Logbook'!I268)","v":""},{"$f":"IF('2.Logbook'!J268=\"\",\"\",'2.Logbook'!J268)","v":""},{"$f":"IF('2.Logbook'!K268=\"\",\"\",'2.Logbook'!K268)","v":""},{"$f":"IF('2.Logbook'!L268=\"\",\"\",'2.Logbook'!L268)","v":""},{"$f":"IF('2.Logbook'!M268=\"\",\"\",'2.Logbook'!M268)","v":""},{"$f":"IF('2.Logbook'!N268=\"\",\"\",'2.Logbook'!N268)","v":""},{"$f":"IF('2.Logbook'!O268=\"\",\"\",'2.Logbook'!O268)","v":""},{"$f":"IF('2.Logbook'!P268=\"\",\"\",'2.Logbook'!P268)","v":""},{"$f":"IF('2.Logbook'!Q268=\"\",\"\",'2.Logbook'!Q268)","v":""},{"$f":"IF('2.Logbook'!R268=\"\",\"\",'2.Logbook'!R268)","v":""},{"$f":"IF('2.Logbook'!S268=\"\",\"\",'2.Logbook'!S268)","v":""},{"$f":"IF('2.Logbook'!T268=\"\",\"\",'2.Logbook'!T268)","v":""},{"$f":"IF('2.Logbook'!U268=\"\",\"\",'2.Logbook'!U268)","v":""},{"$f":"IF('2.Logbook'!V268=\"\",\"\",'2.Logbook'!V268)","v":""},{"$f":"IF('2.Logbook'!W268=\"\",\"\",'2.Logbook'!W268)","v":""},{"$f":"IF('2.Logbook'!X268=\"\",\"\",'2.Logbook'!X268)","v":""},{"$f":"IF('2.Logbook'!Y268=\"\",\"\",'2.Logbook'!Y268)","v":""},{"$f":"IF('2.Logbook'!Z268=\"\",\"\",'2.Logbook'!Z268)","v":""},{"$f":"IF('2.Logbook'!AA268=\"\",\"\",'2.Logbook'!AA268)","v":""},{"$f":"IF('2.Logbook'!AB268=\"\",\"\",'2.Logbook'!AB268)","v":""},{"$f":"IF('2.Logbook'!AC268=\"\",\"\",'2.Logbook'!AC268)","v":""},{"$f":"IF('2.Logbook'!AD268=\"\",\"\",'2.Logbook'!AD268)","v":""},{"$f":"IF('2.Logbook'!AE268=\"\",\"\",'2.Logbook'!AE268)","v":""},{"$f":"IF('2.Logbook'!AF268=\"\",\"\",'2.Logbook'!AF268)","v":""},{"$f":"IF('2.Logbook'!AG268=\"\",\"\",'2.Logbook'!AG268)","v":""}]
[{"$f":"IF('2.Logbook'!A269=\"\",\"\",'2.Logbook'!A269)","v":""},{"$f":"IF('2.Logbook'!B269=\"\",\"\",'2.Logbook'!B269)","v":""},{"$f":"IF('2.Logbook'!C269=\"\",\"\",'2.Logbook'!C269)","v":""},{"$f":"IF('2.Logbook'!D269=\"\",\"\",'2.Logbook'!D269)","v":""},{"$f":"IF('2.Logbook'!E269=\"\",\"\",'2.Logbook'!E269)","v":""},{"$f":"IF('2.Logbook'!F269=\"\",\"\",'2.Logbook'!F269)","v":""},{"$f":"IF('2.Logbook'!G269=\"\",\"\",'2.Logbook'!G269)","v":""},{"$f":"IF('2.Logbook'!H269=\"\",\"\",'2.Logbook'!H269)","v":""},{"$f":"IF('2.Logbook'!I269=\"\",\"\",'2.Logbook'!I269)","v":""},{"$f":"IF('2.Logbook'!J269=\"\",\"\",'2.Logbook'!J269)","v":""},{"$f":"IF('2.Logbook'!K269=\"\",\"\",'2.Logbook'!K269)","v":""},{"$f":"IF('2.Logbook'!L269=\"\",\"\",'2.Logbook'!L269)","v":""},{"$f":"IF('2.Logbook'!M269=\"\",\"\",'2.Logbook'!M269)","v":""},{"$f":"IF('2.Logbook'!N269=\"\",\"\",'2.Logbook'!N269)","v":""},{"$f":"IF('2.Logbook'!O269=\"\",\"\",'2.Logbook'!O269)","v":""},{"$f":"IF('2.Logbook'!P269=\"\",\"\",'2.Logbook'!P269)","v":""},{"$f":"IF('2.Logbook'!Q269=\"\",\"\",'2.Logbook'!Q269)","v":""},{"$f":"IF('2.Logbook'!R269=\"\",\"\",'2.Logbook'!R269)","v":""},{"$f":"IF('2.Logbook'!S269=\"\",\"\",'2.Logbook'!S269)","v":""},{"$f":"IF('2.Logbook'!T269=\"\",\"\",'2.Logbook'!T269)","v":""},{"$f":"IF('2.Logbook'!U269=\"\",\"\",'2.Logbook'!U269)","v":""},{"$f":"IF('2.Logbook'!V269=\"\",\"\",'2.Logbook'!V269)","v":""},{"$f":"IF('2.Logbook'!W269=\"\",\"\",'2.Logbook'!W269)","v":""},{"$f":"IF('2.Logbook'!X269=\"\",\"\",'2.Logbook'!X269)","v":""},{"$f":"IF('2.Logbook'!Y269=\"\",\"\",'2.Logbook'!Y269)","v":""},{"$f":"IF('2.Logbook'!Z269=\"\",\"\",'2.Logbook'!Z269)","v":""},{"$f":"IF('2.Logbook'!AA269=\"\",\"\",'2.Logbook'!AA269)","v":""},{"$f":"IF('2.Logbook'!AB269=\"\",\"\",'2.Logbook'!AB269)","v":""},{"$f":"IF('2.Logbook'!AC269=\"\",\"\",'2.Logbook'!AC269)","v":""},{"$f":"IF('2.Logbook'!AD269=\"\",\"\",'2.Logbook'!AD269)","v":""},{"$f":"IF('2.Logbook'!AE269=\"\",\"\",'2.Logbook'!AE269)","v":""},{"$f":"IF('2.Logbook'!AF269=\"\",\"\",'2.Logbook'!AF269)","v":""},{"$f":"IF('2.Logbook'!AG269=\"\",\"\",'2.Logbook'!AG269)","v":""}]
[{"$f":"IF('2.Logbook'!A270=\"\",\"\",'2.Logbook'!A270)","v":""},{"$f":"IF('2.Logbook'!B270=\"\",\"\",'2.Logbook'!B270)","v":""},{"$f":"IF('2.Logbook'!C270=\"\",\"\",'2.Logbook'!C270)","v":""},{"$f":"IF('2.Logbook'!D270=\"\",\"\",'2.Logbook'!D270)","v":""},{"$f":"IF('2.Logbook'!E270=\"\",\"\",'2.Logbook'!E270)","v":""},{"$f":"IF('2.Logbook'!F270=\"\",\"\",'2.Logbook'!F270)","v":""},{"$f":"IF('2.Logbook'!G270=\"\",\"\",'2.Logbook'!G270)","v":""},{"$f":"IF('2.Logbook'!H270=\"\",\"\",'2.Logbook'!H270)","v":""},{"$f":"IF('2.Logbook'!I270=\"\",\"\",'2.Logbook'!I270)","v":""},{"$f":"IF('2.Logbook'!J270=\"\",\"\",'2.Logbook'!J270)","v":""},{"$f":"IF('2.Logbook'!K270=\"\",\"\",'2.Logbook'!K270)","v":""},{"$f":"IF('2.Logbook'!L270=\"\",\"\",'2.Logbook'!L270)","v":""},{"$f":"IF('2.Logbook'!M270=\"\",\"\",'2.Logbook'!M270)","v":""},{"$f":"IF('2.Logbook'!N270=\"\",\"\",'2.Logbook'!N270)","v":""},{"$f":"IF('2.Logbook'!O270=\"\",\"\",'2.Logbook'!O270)","v":""},{"$f":"IF('2.Logbook'!P270=\"\",\"\",'2.Logbook'!P270)","v":""},{"$f":"IF('2.Logbook'!Q270=\"\",\"\",'2.Logbook'!Q270)","v":""},{"$f":"IF('2.Logbook'!R270=\"\",\"\",'2.Logbook'!R270)","v":""},{"$f":"IF('2.Logbook'!S270=\"\",\"\",'2.Logbook'!S270)","v":""},{"$f":"IF('2.Logbook'!T270=\"\",\"\",'2.Logbook'!T270)","v":""},{"$f":"IF('2.Logbook'!U270=\"\",\"\",'2.Logbook'!U270)","v":""},{"$f":"IF('2.Logbook'!V270=\"\",\"\",'2.Logbook'!V270)","v":""},{"$f":"IF('2.Logbook'!W270=\"\",\"\",'2.Logbook'!W270)","v":""},{"$f":"IF('2.Logbook'!X270=\"\",\"\",'2.Logbook'!X270)","v":""},{"$f":"IF('2.Logbook'!Y270=\"\",\"\",'2.Logbook'!Y270)","v":""},{"$f":"IF('2.Logbook'!Z270=\"\",\"\",'2.Logbook'!Z270)","v":""},{"$f":"IF('2.Logbook'!AA270=\"\",\"\",'2.Logbook'!AA270)","v":""},{"$f":"IF('2.Logbook'!AB270=\"\",\"\",'2.Logbook'!AB270)","v":""},{"$f":"IF('2.Logbook'!AC270=\"\",\"\",'2.Logbook'!AC270)","v":""},{"$f":"IF('2.Logbook'!AD270=\"\",\"\",'2.Logbook'!AD270)","v":""},{"$f":"IF('2.Logbook'!AE270=\"\",\"\",'2.Logbook'!AE270)","v":""},{"$f":"IF('2.Logbook'!AF270=\"\",\"\",'2.Logbook'!AF270)","v":""},{"$f":"IF('2.Logbook'!AG270=\"\",\"\",'2.Logbook'!AG270)","v":""}]
[{"$f":"IF('2.Logbook'!A271=\"\",\"\",'2.Logbook'!A271)","v":""},{"$f":"IF('2.Logbook'!B271=\"\",\"\",'2.Logbook'!B271)","v":""},{"$f":"IF('2.Logbook'!C271=\"\",\"\",'2.Logbook'!C271)","v":""},{"$f":"IF('2.Logbook'!D271=\"\",\"\",'2.Logbook'!D271)","v":""},{"$f":"IF('2.Logbook'!E271=\"\",\"\",'2.Logbook'!E271)","v":""},{"$f":"IF('2.Logbook'!F271=\"\",\"\",'2.Logbook'!F271)","v":""},{"$f":"IF('2.Logbook'!G271=\"\",\"\",'2.Logbook'!G271)","v":""},{"$f":"IF('2.Logbook'!H271=\"\",\"\",'2.Logbook'!H271)","v":""},{"$f":"IF('2.Logbook'!I271=\"\",\"\",'2.Logbook'!I271)","v":""},{"$f":"IF('2.Logbook'!J271=\"\",\"\",'2.Logbook'!J271)","v":""},{"$f":"IF('2.Logbook'!K271=\"\",\"\",'2.Logbook'!K271)","v":""},{"$f":"IF('2.Logbook'!L271=\"\",\"\",'2.Logbook'!L271)","v":""},{"$f":"IF('2.Logbook'!M271=\"\",\"\",'2.Logbook'!M271)","v":""},{"$f":"IF('2.Logbook'!N271=\"\",\"\",'2.Logbook'!N271)","v":""},{"$f":"IF('2.Logbook'!O271=\"\",\"\",'2.Logbook'!O271)","v":""},{"$f":"IF('2.Logbook'!P271=\"\",\"\",'2.Logbook'!P271)","v":""},{"$f":"IF('2.Logbook'!Q271=\"\",\"\",'2.Logbook'!Q271)","v":""},{"$f":"IF('2.Logbook'!R271=\"\",\"\",'2.Logbook'!R271)","v":""},{"$f":"IF('2.Logbook'!S271=\"\",\"\",'2.Logbook'!S271)","v":""},{"$f":"IF('2.Logbook'!T271=\"\",\"\",'2.Logbook'!T271)","v":""},{"$f":"IF('2.Logbook'!U271=\"\",\"\",'2.Logbook'!U271)","v":""},{"$f":"IF('2.Logbook'!V271=\"\",\"\",'2.Logbook'!V271)","v":""},{"$f":"IF('2.Logbook'!W271=\"\",\"\",'2.Logbook'!W271)","v":""},{"$f":"IF('2.Logbook'!X271=\"\",\"\",'2.Logbook'!X271)","v":""},{"$f":"IF('2.Logbook'!Y271=\"\",\"\",'2.Logbook'!Y271)","v":""},{"$f":"IF('2.Logbook'!Z271=\"\",\"\",'2.Logbook'!Z271)","v":""},{"$f":"IF('2.Logbook'!AA271=\"\",\"\",'2.Logbook'!AA271)","v":""},{"$f":"IF('2.Logbook'!AB271=\"\",\"\",'2.Logbook'!AB271)","v":""},{"$f":"IF('2.Logbook'!AC271=\"\",\"\",'2.Logbook'!AC271)","v":""},{"$f":"IF('2.Logbook'!AD271=\"\",\"\",'2.Logbook'!AD271)","v":""},{"$f":"IF('2.Logbook'!AE271=\"\",\"\",'2.Logbook'!AE271)","v":""},{"$f":"IF('2.Logbook'!AF271=\"\",\"\",'2.Logbook'!AF271)","v":""},{"$f":"IF('2.Logbook'!AG271=\"\",\"\",'2.Logbook'!AG271)","v":""}]
[{"$f":"IF('2.Logbook'!A272=\"\",\"\",'2.Logbook'!A272)","v":""},{"$f":"IF('2.Logbook'!B272=\"\",\"\",'2.Logbook'!B272)","v":""},{"$f":"IF('2.Logbook'!C272=\"\",\"\",'2.Logbook'!C272)","v":""},{"$f":"IF('2.Logbook'!D272=\"\",\"\",'2.Logbook'!D272)","v":""},{"$f":"IF('2.Logbook'!E272=\"\",\"\",'2.Logbook'!E272)","v":""},{"$f":"IF('2.Logbook'!F272=\"\",\"\",'2.Logbook'!F272)","v":""},{"$f":"IF('2.Logbook'!G272=\"\",\"\",'2.Logbook'!G272)","v":""},{"$f":"IF('2.Logbook'!H272=\"\",\"\",'2.Logbook'!H272)","v":""},{"$f":"IF('2.Logbook'!I272=\"\",\"\",'2.Logbook'!I272)","v":""},{"$f":"IF('2.Logbook'!J272=\"\",\"\",'2.Logbook'!J272)","v":""},{"$f":"IF('2.Logbook'!K272=\"\",\"\",'2.Logbook'!K272)","v":""},{"$f":"IF('2.Logbook'!L272=\"\",\"\",'2.Logbook'!L272)","v":""},{"$f":"IF('2.Logbook'!M272=\"\",\"\",'2.Logbook'!M272)","v":""},{"$f":"IF('2.Logbook'!N272=\"\",\"\",'2.Logbook'!N272)","v":""},{"$f":"IF('2.Logbook'!O272=\"\",\"\",'2.Logbook'!O272)","v":""},{"$f":"IF('2.Logbook'!P272=\"\",\"\",'2.Logbook'!P272)","v":""},{"$f":"IF('2.Logbook'!Q272=\"\",\"\",'2.Logbook'!Q272)","v":""},{"$f":"IF('2.Logbook'!R272=\"\",\"\",'2.Logbook'!R272)","v":""},{"$f":"IF('2.Logbook'!S272=\"\",\"\",'2.Logbook'!S272)","v":""},{"$f":"IF('2.Logbook'!T272=\"\",\"\",'2.Logbook'!T272)","v":""},{"$f":"IF('2.Logbook'!U272=\"\",\"\",'2.Logbook'!U272)","v":""},{"$f":"IF('2.Logbook'!V272=\"\",\"\",'2.Logbook'!V272)","v":""},{"$f":"IF('2.Logbook'!W272=\"\",\"\",'2.Logbook'!W272)","v":""},{"$f":"IF('2.Logbook'!X272=\"\",\"\",'2.Logbook'!X272)","v":""},{"$f":"IF('2.Logbook'!Y272=\"\",\"\",'2.Logbook'!Y272)","v":""},{"$f":"IF('2.Logbook'!Z272=\"\",\"\",'2.Logbook'!Z272)","v":""},{"$f":"IF('2.Logbook'!AA272=\"\",\"\",'2.Logbook'!AA272)","v":""},{"$f":"IF('2.Logbook'!AB272=\"\",\"\",'2.Logbook'!AB272)","v":""},{"$f":"IF('2.Logbook'!AC272=\"\",\"\",'2.Logbook'!AC272)","v":""},{"$f":"IF('2.Logbook'!AD272=\"\",\"\",'2.Logbook'!AD272)","v":""},{"$f":"IF('2.Logbook'!AE272=\"\",\"\",'2.Logbook'!AE272)","v":""},{"$f":"IF('2.Logbook'!AF272=\"\",\"\",'2.Logbook'!AF272)","v":""},{"$f":"IF('2.Logbook'!AG272=\"\",\"\",'2.Logbook'!AG272)","v":""}]
[{"$f":"IF('2.Logbook'!A273=\"\",\"\",'2.Logbook'!A273)","v":""},{"$f":"IF('2.Logbook'!B273=\"\",\"\",'2.Logbook'!B273)","v":""},{"$f":"IF('2.Logbook'!C273=\"\",\"\",'2.Logbook'!C273)","v":""},{"$f":"IF('2.Logbook'!D273=\"\",\"\",'2.Logbook'!D273)","v":""},{"$f":"IF('2.Logbook'!E273=\"\",\"\",'2.Logbook'!E273)","v":""},{"$f":"IF('2.Logbook'!F273=\"\",\"\",'2.Logbook'!F273)","v":""},{"$f":"IF('2.Logbook'!G273=\"\",\"\",'2.Logbook'!G273)","v":""},{"$f":"IF('2.Logbook'!H273=\"\",\"\",'2.Logbook'!H273)","v":""},{"$f":"IF('2.Logbook'!I273=\"\",\"\",'2.Logbook'!I273)","v":""},{"$f":"IF('2.Logbook'!J273=\"\",\"\",'2.Logbook'!J273)","v":""},{"$f":"IF('2.Logbook'!K273=\"\",\"\",'2.Logbook'!K273)","v":""},{"$f":"IF('2.Logbook'!L273=\"\",\"\",'2.Logbook'!L273)","v":""},{"$f":"IF('2.Logbook'!M273=\"\",\"\",'2.Logbook'!M273)","v":""},{"$f":"IF('2.Logbook'!N273=\"\",\"\",'2.Logbook'!N273)","v":""},{"$f":"IF('2.Logbook'!O273=\"\",\"\",'2.Logbook'!O273)","v":""},{"$f":"IF('2.Logbook'!P273=\"\",\"\",'2.Logbook'!P273)","v":""},{"$f":"IF('2.Logbook'!Q273=\"\",\"\",'2.Logbook'!Q273)","v":""},{"$f":"IF('2.Logbook'!R273=\"\",\"\",'2.Logbook'!R273)","v":""},{"$f":"IF('2.Logbook'!S273=\"\",\"\",'2.Logbook'!S273)","v":""},{"$f":"IF('2.Logbook'!T273=\"\",\"\",'2.Logbook'!T273)","v":""},{"$f":"IF('2.Logbook'!U273=\"\",\"\",'2.Logbook'!U273)","v":""},{"$f":"IF('2.Logbook'!V273=\"\",\"\",'2.Logbook'!V273)","v":""},{"$f":"IF('2.Logbook'!W273=\"\",\"\",'2.Logbook'!W273)","v":""},{"$f":"IF('2.Logbook'!X273=\"\",\"\",'2.Logbook'!X273)","v":""},{"$f":"IF('2.Logbook'!Y273=\"\",\"\",'2.Logbook'!Y273)","v":""},{"$f":"IF('2.Logbook'!Z273=\"\",\"\",'2.Logbook'!Z273)","v":""},{"$f":"IF('2.Logbook'!AA273=\"\",\"\",'2.Logbook'!AA273)","v":""},{"$f":"IF('2.Logbook'!AB273=\"\",\"\",'2.Logbook'!AB273)","v":""},{"$f":"IF('2.Logbook'!AC273=\"\",\"\",'2.Logbook'!AC273)","v":""},{"$f":"IF('2.Logbook'!AD273=\"\",\"\",'2.Logbook'!AD273)","v":""},{"$f":"IF('2.Logbook'!AE273=\"\",\"\",'2.Logbook'!AE273)","v":""},{"$f":"IF('2.Logbook'!AF273=\"\",\"\",'2.Logbook'!AF273)","v":""},{"$f":"IF('2.Logbook'!AG273=\"\",\"\",'2.Logbook'!AG273)","v":""}]
[{"$f":"IF('2.Logbook'!A274=\"\",\"\",'2.Logbook'!A274)","v":""},{"$f":"IF('2.Logbook'!B274=\"\",\"\",'2.Logbook'!B274)","v":""},{"$f":"IF('2.Logbook'!C274=\"\",\"\",'2.Logbook'!C274)","v":""},{"$f":"IF('2.Logbook'!D274=\"\",\"\",'2.Logbook'!D274)","v":""},{"$f":"IF('2.Logbook'!E274=\"\",\"\",'2.Logbook'!E274)","v":""},{"$f":"IF('2.Logbook'!F274=\"\",\"\",'2.Logbook'!F274)","v":""},{"$f":"IF('2.Logbook'!G274=\"\",\"\",'2.Logbook'!G274)","v":""},{"$f":"IF('2.Logbook'!H274=\"\",\"\",'2.Logbook'!H274)","v":""},{"$f":"IF('2.Logbook'!I274=\"\",\"\",'2.Logbook'!I274)","v":""},{"$f":"IF('2.Logbook'!J274=\"\",\"\",'2.Logbook'!J274)","v":""},{"$f":"IF('2.Logbook'!K274=\"\",\"\",'2.Logbook'!K274)","v":""},{"$f":"IF('2.Logbook'!L274=\"\",\"\",'2.Logbook'!L274)","v":""},{"$f":"IF('2.Logbook'!M274=\"\",\"\",'2.Logbook'!M274)","v":""},{"$f":"IF('2.Logbook'!N274=\"\",\"\",'2.Logbook'!N274)","v":""},{"$f":"IF('2.Logbook'!O274=\"\",\"\",'2.Logbook'!O274)","v":""},{"$f":"IF('2.Logbook'!P274=\"\",\"\",'2.Logbook'!P274)","v":""},{"$f":"IF('2.Logbook'!Q274=\"\",\"\",'2.Logbook'!Q274)","v":""},{"$f":"IF('2.Logbook'!R274=\"\",\"\",'2.Logbook'!R274)","v":""},{"$f":"IF('2.Logbook'!S274=\"\",\"\",'2.Logbook'!S274)","v":""},{"$f":"IF('2.Logbook'!T274=\"\",\"\",'2.Logbook'!T274)","v":""},{"$f":"IF('2.Logbook'!U274=\"\",\"\",'2.Logbook'!U274)","v":""},{"$f":"IF('2.Logbook'!V274=\"\",\"\",'2.Logbook'!V274)","v":""},{"$f":"IF('2.Logbook'!W274=\"\",\"\",'2.Logbook'!W274)","v":""},{"$f":"IF('2.Logbook'!X274=\"\",\"\",'2.Logbook'!X274)","v":""},{"$f":"IF('2.Logbook'!Y274=\"\",\"\",'2.Logbook'!Y274)","v":""},{"$f":"IF('2.Logbook'!Z274=\"\",\"\",'2.Logbook'!Z274)","v":""},{"$f":"IF('2.Logbook'!AA274=\"\",\"\",'2.Logbook'!AA274)","v":""},{"$f":"IF('2.Logbook'!AB274=\"\",\"\",'2.Logbook'!AB274)","v":""},{"$f":"IF('2.Logbook'!AC274=\"\",\"\",'2.Logbook'!AC274)","v":""},{"$f":"IF('2.Logbook'!AD274=\"\",\"\",'2.Logbook'!AD274)","v":""},{"$f":"IF('2.Logbook'!AE274=\"\",\"\",'2.Logbook'!AE274)","v":""},{"$f":"IF('2.Logbook'!AF274=\"\",\"\",'2.Logbook'!AF274)","v":""},{"$f":"IF('2.Logbook'!AG274=\"\",\"\",'2.Logbook'!AG274)","v":""}]
[{"$f":"IF('2.Logbook'!A275=\"\",\"\",'2.Logbook'!A275)","v":""},{"$f":"IF('2.Logbook'!B275=\"\",\"\",'2.Logbook'!B275)","v":""},{"$f":"IF('2.Logbook'!C275=\"\",\"\",'2.Logbook'!C275)","v":""},{"$f":"IF('2.Logbook'!D275=\"\",\"\",'2.Logbook'!D275)","v":""},{"$f":"IF('2.Logbook'!E275=\"\",\"\",'2.Logbook'!E275)","v":""},{"$f":"IF('2.Logbook'!F275=\"\",\"\",'2.Logbook'!F275)","v":""},{"$f":"IF('2.Logbook'!G275=\"\",\"\",'2.Logbook'!G275)","v":""},{"$f":"IF('2.Logbook'!H275=\"\",\"\",'2.Logbook'!H275)","v":""},{"$f":"IF('2.Logbook'!I275=\"\",\"\",'2.Logbook'!I275)","v":""},{"$f":"IF('2.Logbook'!J275=\"\",\"\",'2.Logbook'!J275)","v":""},{"$f":"IF('2.Logbook'!K275=\"\",\"\",'2.Logbook'!K275)","v":""},{"$f":"IF('2.Logbook'!L275=\"\",\"\",'2.Logbook'!L275)","v":""},{"$f":"IF('2.Logbook'!M275=\"\",\"\",'2.Logbook'!M275)","v":""},{"$f":"IF('2.Logbook'!N275=\"\",\"\",'2.Logbook'!N275)","v":""},{"$f":"IF('2.Logbook'!O275=\"\",\"\",'2.Logbook'!O275)","v":""},{"$f":"IF('2.Logbook'!P275=\"\",\"\",'2.Logbook'!P275)","v":""},{"$f":"IF('2.Logbook'!Q275=\"\",\"\",'2.Logbook'!Q275)","v":""},{"$f":"IF('2.Logbook'!R275=\"\",\"\",'2.Logbook'!R275)","v":""},{"$f":"IF('2.Logbook'!S275=\"\",\"\",'2.Logbook'!S275)","v":""},{"$f":"IF('2.Logbook'!T275=\"\",\"\",'2.Logbook'!T275)","v":""},{"$f":"IF('2.Logbook'!U275=\"\",\"\",'2.Logbook'!U275)","v":""},{"$f":"IF('2.Logbook'!V275=\"\",\"\",'2.Logbook'!V275)","v":""},{"$f":"IF('2.Logbook'!W275=\"\",\"\",'2.Logbook'!W275)","v":""},{"$f":"IF('2.Logbook'!X275=\"\",\"\",'2.Logbook'!X275)","v":""},{"$f":"IF('2.Logbook'!Y275=\"\",\"\",'2.Logbook'!Y275)","v":""},{"$f":"IF('2.Logbook'!Z275=\"\",\"\",'2.Logbook'!Z275)","v":""},{"$f":"IF('2.Logbook'!AA275=\"\",\"\",'2.Logbook'!AA275)","v":""},{"$f":"IF('2.Logbook'!AB275=\"\",\"\",'2.Logbook'!AB275)","v":""},{"$f":"IF('2.Logbook'!AC275=\"\",\"\",'2.Logbook'!AC275)","v":""},{"$f":"IF('2.Logbook'!AD275=\"\",\"\",'2.Logbook'!AD275)","v":""},{"$f":"IF('2.Logbook'!AE275=\"\",\"\",'2.Logbook'!AE275)","v":""},{"$f":"IF('2.Logbook'!AF275=\"\",\"\",'2.Logbook'!AF275)","v":""},{"$f":"IF('2.Logbook'!AG275=\"\",\"\",'2.Logbook'!AG275)","v":""}]
[{"$f":"IF('2.Logbook'!A276=\"\",\"\",'2.Logbook'!A276)","v":""},{"$f":"IF('2.Logbook'!B276=\"\",\"\",'2.Logbook'!B276)","v":""},{"$f":"IF('2.Logbook'!C276=\"\",\"\",'2.Logbook'!C276)","v":""},{"$f":"IF('2.Logbook'!D276=\"\",\"\",'2.Logbook'!D276)","v":""},{"$f":"IF('2.Logbook'!E276=\"\",\"\",'2.Logbook'!E276)","v":""},{"$f":"IF('2.Logbook'!F276=\"\",\"\",'2.Logbook'!F276)","v":""},{"$f":"IF('2.Logbook'!G276=\"\",\"\",'2.Logbook'!G276)","v":""},{"$f":"IF('2.Logbook'!H276=\"\",\"\",'2.Logbook'!H276)","v":""},{"$f":"IF('2.Logbook'!I276=\"\",\"\",'2.Logbook'!I276)","v":""},{"$f":"IF('2.Logbook'!J276=\"\",\"\",'2.Logbook'!J276)","v":""},{"$f":"IF('2.Logbook'!K276=\"\",\"\",'2.Logbook'!K276)","v":""},{"$f":"IF('2.Logbook'!L276=\"\",\"\",'2.Logbook'!L276)","v":""},{"$f":"IF('2.Logbook'!M276=\"\",\"\",'2.Logbook'!M276)","v":""},{"$f":"IF('2.Logbook'!N276=\"\",\"\",'2.Logbook'!N276)","v":""},{"$f":"IF('2.Logbook'!O276=\"\",\"\",'2.Logbook'!O276)","v":""},{"$f":"IF('2.Logbook'!P276=\"\",\"\",'2.Logbook'!P276)","v":""},{"$f":"IF('2.Logbook'!Q276=\"\",\"\",'2.Logbook'!Q276)","v":""},{"$f":"IF('2.Logbook'!R276=\"\",\"\",'2.Logbook'!R276)","v":""},{"$f":"IF('2.Logbook'!S276=\"\",\"\",'2.Logbook'!S276)","v":""},{"$f":"IF('2.Logbook'!T276=\"\",\"\",'2.Logbook'!T276)","v":""},{"$f":"IF('2.Logbook'!U276=\"\",\"\",'2.Logbook'!U276)","v":""},{"$f":"IF('2.Logbook'!V276=\"\",\"\",'2.Logbook'!V276)","v":""},{"$f":"IF('2.Logbook'!W276=\"\",\"\",'2.Logbook'!W276)","v":""},{"$f":"IF('2.Logbook'!X276=\"\",\"\",'2.Logbook'!X276)","v":""},{"$f":"IF('2.Logbook'!Y276=\"\",\"\",'2.Logbook'!Y276)","v":""},{"$f":"IF('2.Logbook'!Z276=\"\",\"\",'2.Logbook'!Z276)","v":""},{"$f":"IF('2.Logbook'!AA276=\"\",\"\",'2.Logbook'!AA276)","v":""},{"$f":"IF('2.Logbook'!AB276=\"\",\"\",'2.Logbook'!AB276)","v":""},{"$f":"IF('2.Logbook'!AC276=\"\",\"\",'2.Logbook'!AC276)","v":""},{"$f":"IF('2.Logbook'!AD276=\"\",\"\",'2.Logbook'!AD276)","v":""},{"$f":"IF('2.Logbook'!AE276=\"\",\"\",'2.Logbook'!AE276)","v":""},{"$f":"IF('2.Logbook'!AF276=\"\",\"\",'2.Logbook'!AF276)","v":""},{"$f":"IF('2.Logbook'!AG276=\"\",\"\",'2.Logbook'!AG276)","v":""}]
[{"$f":"IF('2.Logbook'!A277=\"\",\"\",'2.Logbook'!A277)","v":""},{"$f":"IF('2.Logbook'!B277=\"\",\"\",'2.Logbook'!B277)","v":""},{"$f":"IF('2.Logbook'!C277=\"\",\"\",'2.Logbook'!C277)","v":""},{"$f":"IF('2.Logbook'!D277=\"\",\"\",'2.Logbook'!D277)","v":""},{"$f":"IF('2.Logbook'!E277=\"\",\"\",'2.Logbook'!E277)","v":""},{"$f":"IF('2.Logbook'!F277=\"\",\"\",'2.Logbook'!F277)","v":""},{"$f":"IF('2.Logbook'!G277=\"\",\"\",'2.Logbook'!G277)","v":""},{"$f":"IF('2.Logbook'!H277=\"\",\"\",'2.Logbook'!H277)","v":""},{"$f":"IF('2.Logbook'!I277=\"\",\"\",'2.Logbook'!I277)","v":""},{"$f":"IF('2.Logbook'!J277=\"\",\"\",'2.Logbook'!J277)","v":""},{"$f":"IF('2.Logbook'!K277=\"\",\"\",'2.Logbook'!K277)","v":""},{"$f":"IF('2.Logbook'!L277=\"\",\"\",'2.Logbook'!L277)","v":""},{"$f":"IF('2.Logbook'!M277=\"\",\"\",'2.Logbook'!M277)","v":""},{"$f":"IF('2.Logbook'!N277=\"\",\"\",'2.Logbook'!N277)","v":""},{"$f":"IF('2.Logbook'!O277=\"\",\"\",'2.Logbook'!O277)","v":""},{"$f":"IF('2.Logbook'!P277=\"\",\"\",'2.Logbook'!P277)","v":""},{"$f":"IF('2.Logbook'!Q277=\"\",\"\",'2.Logbook'!Q277)","v":""},{"$f":"IF('2.Logbook'!R277=\"\",\"\",'2.Logbook'!R277)","v":""},{"$f":"IF('2.Logbook'!S277=\"\",\"\",'2.Logbook'!S277)","v":""},{"$f":"IF('2.Logbook'!T277=\"\",\"\",'2.Logbook'!T277)","v":""},{"$f":"IF('2.Logbook'!U277=\"\",\"\",'2.Logbook'!U277)","v":""},{"$f":"IF('2.Logbook'!V277=\"\",\"\",'2.Logbook'!V277)","v":""},{"$f":"IF('2.Logbook'!W277=\"\",\"\",'2.Logbook'!W277)","v":""},{"$f":"IF('2.Logbook'!X277=\"\",\"\",'2.Logbook'!X277)","v":""},{"$f":"IF('2.Logbook'!Y277=\"\",\"\",'2.Logbook'!Y277)","v":""},{"$f":"IF('2.Logbook'!Z277=\"\",\"\",'2.Logbook'!Z277)","v":""},{"$f":"IF('2.Logbook'!AA277=\"\",\"\",'2.Logbook'!AA277)","v":""},{"$f":"IF('2.Logbook'!AB277=\"\",\"\",'2.Logbook'!AB277)","v":""},{"$f":"IF('2.Logbook'!AC277=\"\",\"\",'2.Logbook'!AC277)","v":""},{"$f":"IF('2.Logbook'!AD277=\"\",\"\",'2.Logbook'!AD277)","v":""},{"$f":"IF('2.Logbook'!AE277=\"\",\"\",'2.Logbook'!AE277)","v":""},{"$f":"IF('2.Logbook'!AF277=\"\",\"\",'2.Logbook'!AF277)","v":""},{"$f":"IF('2.Logbook'!AG277=\"\",\"\",'2.Logbook'!AG277)","v":""}]
[{"$f":"IF('2.Logbook'!A278=\"\",\"\",'2.Logbook'!A278)","v":""},{"$f":"IF('2.Logbook'!B278=\"\",\"\",'2.Logbook'!B278)","v":""},{"$f":"IF('2.Logbook'!C278=\"\",\"\",'2.Logbook'!C278)","v":""},{"$f":"IF('2.Logbook'!D278=\"\",\"\",'2.Logbook'!D278)","v":""},{"$f":"IF('2.Logbook'!E278=\"\",\"\",'2.Logbook'!E278)","v":""},{"$f":"IF('2.Logbook'!F278=\"\",\"\",'2.Logbook'!F278)","v":""},{"$f":"IF('2.Logbook'!G278=\"\",\"\",'2.Logbook'!G278)","v":""},{"$f":"IF('2.Logbook'!H278=\"\",\"\",'2.Logbook'!H278)","v":""},{"$f":"IF('2.Logbook'!I278=\"\",\"\",'2.Logbook'!I278)","v":""},{"$f":"IF('2.Logbook'!J278=\"\",\"\",'2.Logbook'!J278)","v":""},{"$f":"IF('2.Logbook'!K278=\"\",\"\",'2.Logbook'!K278)","v":""},{"$f":"IF('2.Logbook'!L278=\"\",\"\",'2.Logbook'!L278)","v":""},{"$f":"IF('2.Logbook'!M278=\"\",\"\",'2.Logbook'!M278)","v":""},{"$f":"IF('2.Logbook'!N278=\"\",\"\",'2.Logbook'!N278)","v":""},{"$f":"IF('2.Logbook'!O278=\"\",\"\",'2.Logbook'!O278)","v":""},{"$f":"IF('2.Logbook'!P278=\"\",\"\",'2.Logbook'!P278)","v":""},{"$f":"IF('2.Logbook'!Q278=\"\",\"\",'2.Logbook'!Q278)","v":""},{"$f":"IF('2.Logbook'!R278=\"\",\"\",'2.Logbook'!R278)","v":""},{"$f":"IF('2.Logbook'!S278=\"\",\"\",'2.Logbook'!S278)","v":""},{"$f":"IF('2.Logbook'!T278=\"\",\"\",'2.Logbook'!T278)","v":""},{"$f":"IF('2.Logbook'!U278=\"\",\"\",'2.Logbook'!U278)","v":""},{"$f":"IF('2.Logbook'!V278=\"\",\"\",'2.Logbook'!V278)","v":""},{"$f":"IF('2.Logbook'!W278=\"\",\"\",'2.Logbook'!W278)","v":""},{"$f":"IF('2.Logbook'!X278=\"\",\"\",'2.Logbook'!X278)","v":""},{"$f":"IF('2.Logbook'!Y278=\"\",\"\",'2.Logbook'!Y278)","v":""},{"$f":"IF('2.Logbook'!Z278=\"\",\"\",'2.Logbook'!Z278)","v":""},{"$f":"IF('2.Logbook'!AA278=\"\",\"\",'2.Logbook'!AA278)","v":""},{"$f":"IF('2.Logbook'!AB278=\"\",\"\",'2.Logbook'!AB278)","v":""},{"$f":"IF('2.Logbook'!AC278=\"\",\"\",'2.Logbook'!AC278)","v":""},{"$f":"IF('2.Logbook'!AD278=\"\",\"\",'2.Logbook'!AD278)","v":""},{"$f":"IF('2.Logbook'!AE278=\"\",\"\",'2.Logbook'!AE278)","v":""},{"$f":"IF('2.Logbook'!AF278=\"\",\"\",'2.Logbook'!AF278)","v":""},{"$f":"IF('2.Logbook'!AG278=\"\",\"\",'2.Logbook'!AG278)","v":""}]
[{"$f":"IF('2.Logbook'!A279=\"\",\"\",'2.Logbook'!A279)","v":""},{"$f":"IF('2.Logbook'!B279=\"\",\"\",'2.Logbook'!B279)","v":""},{"$f":"IF('2.Logbook'!C279=\"\",\"\",'2.Logbook'!C279)","v":""},{"$f":"IF('2.Logbook'!D279=\"\",\"\",'2.Logbook'!D279)","v":""},{"$f":"IF('2.Logbook'!E279=\"\",\"\",'2.Logbook'!E279)","v":""},{"$f":"IF('2.Logbook'!F279=\"\",\"\",'2.Logbook'!F279)","v":""},{"$f":"IF('2.Logbook'!G279=\"\",\"\",'2.Logbook'!G279)","v":""},{"$f":"IF('2.Logbook'!H279=\"\",\"\",'2.Logbook'!H279)","v":""},{"$f":"IF('2.Logbook'!I279=\"\",\"\",'2.Logbook'!I279)","v":""},{"$f":"IF('2.Logbook'!J279=\"\",\"\",'2.Logbook'!J279)","v":""},{"$f":"IF('2.Logbook'!K279=\"\",\"\",'2.Logbook'!K279)","v":""},{"$f":"IF('2.Logbook'!L279=\"\",\"\",'2.Logbook'!L279)","v":""},{"$f":"IF('2.Logbook'!M279=\"\",\"\",'2.Logbook'!M279)","v":""},{"$f":"IF('2.Logbook'!N279=\"\",\"\",'2.Logbook'!N279)","v":""},{"$f":"IF('2.Logbook'!O279=\"\",\"\",'2.Logbook'!O279)","v":""},{"$f":"IF('2.Logbook'!P279=\"\",\"\",'2.Logbook'!P279)","v":""},{"$f":"IF('2.Logbook'!Q279=\"\",\"\",'2.Logbook'!Q279)","v":""},{"$f":"IF('2.Logbook'!R279=\"\",\"\",'2.Logbook'!R279)","v":""},{"$f":"IF('2.Logbook'!S279=\"\",\"\",'2.Logbook'!S279)","v":""},{"$f":"IF('2.Logbook'!T279=\"\",\"\",'2.Logbook'!T279)","v":""},{"$f":"IF('2.Logbook'!U279=\"\",\"\",'2.Logbook'!U279)","v":""},{"$f":"IF('2.Logbook'!V279=\"\",\"\",'2.Logbook'!V279)","v":""},{"$f":"IF('2.Logbook'!W279=\"\",\"\",'2.Logbook'!W279)","v":""},{"$f":"IF('2.Logbook'!X279=\"\",\"\",'2.Logbook'!X279)","v":""},{"$f":"IF('2.Logbook'!Y279=\"\",\"\",'2.Logbook'!Y279)","v":""},{"$f":"IF('2.Logbook'!Z279=\"\",\"\",'2.Logbook'!Z279)","v":""},{"$f":"IF('2.Logbook'!AA279=\"\",\"\",'2.Logbook'!AA279)","v":""},{"$f":"IF('2.Logbook'!AB279=\"\",\"\",'2.Logbook'!AB279)","v":""},{"$f":"IF('2.Logbook'!AC279=\"\",\"\",'2.Logbook'!AC279)","v":""},{"$f":"IF('2.Logbook'!AD279=\"\",\"\",'2.Logbook'!AD279)","v":""},{"$f":"IF('2.Logbook'!AE279=\"\",\"\",'2.Logbook'!AE279)","v":""},{"$f":"IF('2.Logbook'!AF279=\"\",\"\",'2.Logbook'!AF279)","v":""},{"$f":"IF('2.Logbook'!AG279=\"\",\"\",'2.Logbook'!AG279)","v":""}]
[{"$f":"IF('2.Logbook'!A280=\"\",\"\",'2.Logbook'!A280)","v":""},{"$f":"IF('2.Logbook'!B280=\"\",\"\",'2.Logbook'!B280)","v":""},{"$f":"IF('2.Logbook'!C280=\"\",\"\",'2.Logbook'!C280)","v":""},{"$f":"IF('2.Logbook'!D280=\"\",\"\",'2.Logbook'!D280)","v":""},{"$f":"IF('2.Logbook'!E280=\"\",\"\",'2.Logbook'!E280)","v":""},{"$f":"IF('2.Logbook'!F280=\"\",\"\",'2.Logbook'!F280)","v":""},{"$f":"IF('2.Logbook'!G280=\"\",\"\",'2.Logbook'!G280)","v":""},{"$f":"IF('2.Logbook'!H280=\"\",\"\",'2.Logbook'!H280)","v":""},{"$f":"IF('2.Logbook'!I280=\"\",\"\",'2.Logbook'!I280)","v":""},{"$f":"IF('2.Logbook'!J280=\"\",\"\",'2.Logbook'!J280)","v":""},{"$f":"IF('2.Logbook'!K280=\"\",\"\",'2.Logbook'!K280)","v":""},{"$f":"IF('2.Logbook'!L280=\"\",\"\",'2.Logbook'!L280)","v":""},{"$f":"IF('2.Logbook'!M280=\"\",\"\",'2.Logbook'!M280)","v":""},{"$f":"IF('2.Logbook'!N280=\"\",\"\",'2.Logbook'!N280)","v":""},{"$f":"IF('2.Logbook'!O280=\"\",\"\",'2.Logbook'!O280)","v":""},{"$f":"IF('2.Logbook'!P280=\"\",\"\",'2.Logbook'!P280)","v":""},{"$f":"IF('2.Logbook'!Q280=\"\",\"\",'2.Logbook'!Q280)","v":""},{"$f":"IF('2.Logbook'!R280=\"\",\"\",'2.Logbook'!R280)","v":""},{"$f":"IF('2.Logbook'!S280=\"\",\"\",'2.Logbook'!S280)","v":""},{"$f":"IF('2.Logbook'!T280=\"\",\"\",'2.Logbook'!T280)","v":""},{"$f":"IF('2.Logbook'!U280=\"\",\"\",'2.Logbook'!U280)","v":""},{"$f":"IF('2.Logbook'!V280=\"\",\"\",'2.Logbook'!V280)","v":""},{"$f":"IF('2.Logbook'!W280=\"\",\"\",'2.Logbook'!W280)","v":""},{"$f":"IF('2.Logbook'!X280=\"\",\"\",'2.Logbook'!X280)","v":""},{"$f":"IF('2.Logbook'!Y280=\"\",\"\",'2.Logbook'!Y280)","v":""},{"$f":"IF('2.Logbook'!Z280=\"\",\"\",'2.Logbook'!Z280)","v":""},{"$f":"IF('2.Logbook'!AA280=\"\",\"\",'2.Logbook'!AA280)","v":""},{"$f":"IF('2.Logbook'!AB280=\"\",\"\",'2.Logbook'!AB280)","v":""},{"$f":"IF('2.Logbook'!AC280=\"\",\"\",'2.Logbook'!AC280)","v":""},{"$f":"IF('2.Logbook'!AD280=\"\",\"\",'2.Logbook'!AD280)","v":""},{"$f":"IF('2.Logbook'!AE280=\"\",\"\",'2.Logbook'!AE280)","v":""},{"$f":"IF('2.Logbook'!AF280=\"\",\"\",'2.Logbook'!AF280)","v":""},{"$f":"IF('2.Logbook'!AG280=\"\",\"\",'2.Logbook'!AG280)","v":""}]
[{"$f":"IF('2.Logbook'!A281=\"\",\"\",'2.Logbook'!A281)","v":""},{"$f":"IF('2.Logbook'!B281=\"\",\"\",'2.Logbook'!B281)","v":""},{"$f":"IF('2.Logbook'!C281=\"\",\"\",'2.Logbook'!C281)","v":""},{"$f":"IF('2.Logbook'!D281=\"\",\"\",'2.Logbook'!D281)","v":""},{"$f":"IF('2.Logbook'!E281=\"\",\"\",'2.Logbook'!E281)","v":""},{"$f":"IF('2.Logbook'!F281=\"\",\"\",'2.Logbook'!F281)","v":""},{"$f":"IF('2.Logbook'!G281=\"\",\"\",'2.Logbook'!G281)","v":""},{"$f":"IF('2.Logbook'!H281=\"\",\"\",'2.Logbook'!H281)","v":""},{"$f":"IF('2.Logbook'!I281=\"\",\"\",'2.Logbook'!I281)","v":""},{"$f":"IF('2.Logbook'!J281=\"\",\"\",'2.Logbook'!J281)","v":""},{"$f":"IF('2.Logbook'!K281=\"\",\"\",'2.Logbook'!K281)","v":""},{"$f":"IF('2.Logbook'!L281=\"\",\"\",'2.Logbook'!L281)","v":""},{"$f":"IF('2.Logbook'!M281=\"\",\"\",'2.Logbook'!M281)","v":""},{"$f":"IF('2.Logbook'!N281=\"\",\"\",'2.Logbook'!N281)","v":""},{"$f":"IF('2.Logbook'!O281=\"\",\"\",'2.Logbook'!O281)","v":""},{"$f":"IF('2.Logbook'!P281=\"\",\"\",'2.Logbook'!P281)","v":""},{"$f":"IF('2.Logbook'!Q281=\"\",\"\",'2.Logbook'!Q281)","v":""},{"$f":"IF('2.Logbook'!R281=\"\",\"\",'2.Logbook'!R281)","v":""},{"$f":"IF('2.Logbook'!S281=\"\",\"\",'2.Logbook'!S281)","v":""},{"$f":"IF('2.Logbook'!T281=\"\",\"\",'2.Logbook'!T281)","v":""},{"$f":"IF('2.Logbook'!U281=\"\",\"\",'2.Logbook'!U281)","v":""},{"$f":"IF('2.Logbook'!V281=\"\",\"\",'2.Logbook'!V281)","v":""},{"$f":"IF('2.Logbook'!W281=\"\",\"\",'2.Logbook'!W281)","v":""},{"$f":"IF('2.Logbook'!X281=\"\",\"\",'2.Logbook'!X281)","v":""},{"$f":"IF('2.Logbook'!Y281=\"\",\"\",'2.Logbook'!Y281)","v":""},{"$f":"IF('2.Logbook'!Z281=\"\",\"\",'2.Logbook'!Z281)","v":""},{"$f":"IF('2.Logbook'!AA281=\"\",\"\",'2.Logbook'!AA281)","v":""},{"$f":"IF('2.Logbook'!AB281=\"\",\"\",'2.Logbook'!AB281)","v":""},{"$f":"IF('2.Logbook'!AC281=\"\",\"\",'2.Logbook'!AC281)","v":""},{"$f":"IF('2.Logbook'!AD281=\"\",\"\",'2.Logbook'!AD281)","v":""},{"$f":"IF('2.Logbook'!AE281=\"\",\"\",'2.Logbook'!AE281)","v":""},{"$f":"IF('2.Logbook'!AF281=\"\",\"\",'2.Logbook'!AF281)","v":""},{"$f":"IF('2.Logbook'!AG281=\"\",\"\",'2.Logbook'!AG281)","v":""}]
[{"$f":"IF('2.Logbook'!A282=\"\",\"\",'2.Logbook'!A282)","v":""},{"$f":"IF('2.Logbook'!B282=\"\",\"\",'2.Logbook'!B282)","v":""},{"$f":"IF('2.Logbook'!C282=\"\",\"\",'2.Logbook'!C282)","v":""},{"$f":"IF('2.Logbook'!D282=\"\",\"\",'2.Logbook'!D282)","v":""},{"$f":"IF('2.Logbook'!E282=\"\",\"\",'2.Logbook'!E282)","v":""},{"$f":"IF('2.Logbook'!F282=\"\",\"\",'2.Logbook'!F282)","v":""},{"$f":"IF('2.Logbook'!G282=\"\",\"\",'2.Logbook'!G282)","v":""},{"$f":"IF('2.Logbook'!H282=\"\",\"\",'2.Logbook'!H282)","v":""},{"$f":"IF('2.Logbook'!I282=\"\",\"\",'2.Logbook'!I282)","v":""},{"$f":"IF('2.Logbook'!J282=\"\",\"\",'2.Logbook'!J282)","v":""},{"$f":"IF('2.Logbook'!K282=\"\",\"\",'2.Logbook'!K282)","v":""},{"$f":"IF('2.Logbook'!L282=\"\",\"\",'2.Logbook'!L282)","v":""},{"$f":"IF('2.Logbook'!M282=\"\",\"\",'2.Logbook'!M282)","v":""},{"$f":"IF('2.Logbook'!N282=\"\",\"\",'2.Logbook'!N282)","v":""},{"$f":"IF('2.Logbook'!O282=\"\",\"\",'2.Logbook'!O282)","v":""},{"$f":"IF('2.Logbook'!P282=\"\",\"\",'2.Logbook'!P282)","v":""},{"$f":"IF('2.Logbook'!Q282=\"\",\"\",'2.Logbook'!Q282)","v":""},{"$f":"IF('2.Logbook'!R282=\"\",\"\",'2.Logbook'!R282)","v":""},{"$f":"IF('2.Logbook'!S282=\"\",\"\",'2.Logbook'!S282)","v":""},{"$f":"IF('2.Logbook'!T282=\"\",\"\",'2.Logbook'!T282)","v":""},{"$f":"IF('2.Logbook'!U282=\"\",\"\",'2.Logbook'!U282)","v":""},{"$f":"IF('2.Logbook'!V282=\"\",\"\",'2.Logbook'!V282)","v":""},{"$f":"IF('2.Logbook'!W282=\"\",\"\",'2.Logbook'!W282)","v":""},{"$f":"IF('2.Logbook'!X282=\"\",\"\",'2.Logbook'!X282)","v":""},{"$f":"IF('2.Logbook'!Y282=\"\",\"\",'2.Logbook'!Y282)","v":""},{"$f":"IF('2.Logbook'!Z282=\"\",\"\",'2.Logbook'!Z282)","v":""},{"$f":"IF('2.Logbook'!AA282=\"\",\"\",'2.Logbook'!AA282)","v":""},{"$f":"IF('2.Logbook'!AB282=\"\",\"\",'2.Logbook'!AB282)","v":""},{"$f":"IF('2.Logbook'!AC282=\"\",\"\",'2.Logbook'!AC282)","v":""},{"$f":"IF('2.Logbook'!AD282=\"\",\"\",'2.Logbook'!AD282)","v":""},{"$f":"IF('2.Logbook'!AE282=\"\",\"\",'2.Logbook'!AE282)","v":""},{"$f":"IF('2.Logbook'!AF282=\"\",\"\",'2.Logbook'!AF282)","v":""},{"$f":"IF('2.Logbook'!AG282=\"\",\"\",'2.Logbook'!AG282)","v":""}]
[{"$f":"IF('2.Logbook'!A283=\"\",\"\",'2.Logbook'!A283)","v":""},{"$f":"IF('2.Logbook'!B283=\"\",\"\",'2.Logbook'!B283)","v":""},{"$f":"IF('2.Logbook'!C283=\"\",\"\",'2.Logbook'!C283)","v":""},{"$f":"IF('2.Logbook'!D283=\"\",\"\",'2.Logbook'!D283)","v":""},{"$f":"IF('2.Logbook'!E283=\"\",\"\",'2.Logbook'!E283)","v":""},{"$f":"IF('2.Logbook'!F283=\"\",\"\",'2.Logbook'!F283)","v":""},{"$f":"IF('2.Logbook'!G283=\"\",\"\",'2.Logbook'!G283)","v":""},{"$f":"IF('2.Logbook'!H283=\"\",\"\",'2.Logbook'!H283)","v":""},{"$f":"IF('2.Logbook'!I283=\"\",\"\",'2.Logbook'!I283)","v":""},{"$f":"IF('2.Logbook'!J283=\"\",\"\",'2.Logbook'!J283)","v":""},{"$f":"IF('2.Logbook'!K283=\"\",\"\",'2.Logbook'!K283)","v":""},{"$f":"IF('2.Logbook'!L283=\"\",\"\",'2.Logbook'!L283)","v":""},{"$f":"IF('2.Logbook'!M283=\"\",\"\",'2.Logbook'!M283)","v":""},{"$f":"IF('2.Logbook'!N283=\"\",\"\",'2.Logbook'!N283)","v":""},{"$f":"IF('2.Logbook'!O283=\"\",\"\",'2.Logbook'!O283)","v":""},{"$f":"IF('2.Logbook'!P283=\"\",\"\",'2.Logbook'!P283)","v":""},{"$f":"IF('2.Logbook'!Q283=\"\",\"\",'2.Logbook'!Q283)","v":""},{"$f":"IF('2.Logbook'!R283=\"\",\"\",'2.Logbook'!R283)","v":""},{"$f":"IF('2.Logbook'!S283=\"\",\"\",'2.Logbook'!S283)","v":""},{"$f":"IF('2.Logbook'!T283=\"\",\"\",'2.Logbook'!T283)","v":""},{"$f":"IF('2.Logbook'!U283=\"\",\"\",'2.Logbook'!U283)","v":""},{"$f":"IF('2.Logbook'!V283=\"\",\"\",'2.Logbook'!V283)","v":""},{"$f":"IF('2.Logbook'!W283=\"\",\"\",'2.Logbook'!W283)","v":""},{"$f":"IF('2.Logbook'!X283=\"\",\"\",'2.Logbook'!X283)","v":""},{"$f":"IF('2.Logbook'!Y283=\"\",\"\",'2.Logbook'!Y283)","v":""},{"$f":"IF('2.Logbook'!Z283=\"\",\"\",'2.Logbook'!Z283)","v":""},{"$f":"IF('2.Logbook'!AA283=\"\",\"\",'2.Logbook'!AA283)","v":""},{"$f":"IF('2.Logbook'!AB283=\"\",\"\",'2.Logbook'!AB283)","v":""},{"$f":"IF('2.Logbook'!AC283=\"\",\"\",'2.Logbook'!AC283)","v":""},{"$f":"IF('2.Logbook'!AD283=\"\",\"\",'2.Logbook'!AD283)","v":""},{"$f":"IF('2.Logbook'!AE283=\"\",\"\",'2.Logbook'!AE283)","v":""},{"$f":"IF('2.Logbook'!AF283=\"\",\"\",'2.Logbook'!AF283)","v":""},{"$f":"IF('2.Logbook'!AG283=\"\",\"\",'2.Logbook'!AG283)","v":""}]
[{"$f":"IF('2.Logbook'!A284=\"\",\"\",'2.Logbook'!A284)","v":""},{"$f":"IF('2.Logbook'!B284=\"\",\"\",'2.Logbook'!B284)","v":""},{"$f":"IF('2.Logbook'!C284=\"\",\"\",'2.Logbook'!C284)","v":""},{"$f":"IF('2.Logbook'!D284=\"\",\"\",'2.Logbook'!D284)","v":""},{"$f":"IF('2.Logbook'!E284=\"\",\"\",'2.Logbook'!E284)","v":""},{"$f":"IF('2.Logbook'!F284=\"\",\"\",'2.Logbook'!F284)","v":""},{"$f":"IF('2.Logbook'!G284=\"\",\"\",'2.Logbook'!G284)","v":""},{"$f":"IF('2.Logbook'!H284=\"\",\"\",'2.Logbook'!H284)","v":""},{"$f":"IF('2.Logbook'!I284=\"\",\"\",'2.Logbook'!I284)","v":""},{"$f":"IF('2.Logbook'!J284=\"\",\"\",'2.Logbook'!J284)","v":""},{"$f":"IF('2.Logbook'!K284=\"\",\"\",'2.Logbook'!K284)","v":""},{"$f":"IF('2.Logbook'!L284=\"\",\"\",'2.Logbook'!L284)","v":""},{"$f":"IF('2.Logbook'!M284=\"\",\"\",'2.Logbook'!M284)","v":""},{"$f":"IF('2.Logbook'!N284=\"\",\"\",'2.Logbook'!N284)","v":""},{"$f":"IF('2.Logbook'!O284=\"\",\"\",'2.Logbook'!O284)","v":""},{"$f":"IF('2.Logbook'!P284=\"\",\"\",'2.Logbook'!P284)","v":""},{"$f":"IF('2.Logbook'!Q284=\"\",\"\",'2.Logbook'!Q284)","v":""},{"$f":"IF('2.Logbook'!R284=\"\",\"\",'2.Logbook'!R284)","v":""},{"$f":"IF('2.Logbook'!S284=\"\",\"\",'2.Logbook'!S284)","v":""},{"$f":"IF('2.Logbook'!T284=\"\",\"\",'2.Logbook'!T284)","v":""},{"$f":"IF('2.Logbook'!U284=\"\",\"\",'2.Logbook'!U284)","v":""},{"$f":"IF('2.Logbook'!V284=\"\",\"\",'2.Logbook'!V284)","v":""},{"$f":"IF('2.Logbook'!W284=\"\",\"\",'2.Logbook'!W284)","v":""},{"$f":"IF('2.Logbook'!X284=\"\",\"\",'2.Logbook'!X284)","v":""},{"$f":"IF('2.Logbook'!Y284=\"\",\"\",'2.Logbook'!Y284)","v":""},{"$f":"IF('2.Logbook'!Z284=\"\",\"\",'2.Logbook'!Z284)","v":""},{"$f":"IF('2.Logbook'!AA284=\"\",\"\",'2.Logbook'!AA284)","v":""},{"$f":"IF('2.Logbook'!AB284=\"\",\"\",'2.Logbook'!AB284)","v":""},{"$f":"IF('2.Logbook'!AC284=\"\",\"\",'2.Logbook'!AC284)","v":""},{"$f":"IF('2.Logbook'!AD284=\"\",\"\",'2.Logbook'!AD284)","v":""},{"$f":"IF('2.Logbook'!AE284=\"\",\"\",'2.Logbook'!AE284)","v":""},{"$f":"IF('2.Logbook'!AF284=\"\",\"\",'2.Logbook'!AF284)","v":""},{"$f":"IF('2.Logbook'!AG284=\"\",\"\",'2.Logbook'!AG284)","v":""}]
[{"$f":"IF('2.Logbook'!A285=\"\",\"\",'2.Logbook'!A285)","v":""},{"$f":"IF('2.Logbook'!B285=\"\",\"\",'2.Logbook'!B285)","v":""},{"$f":"IF('2.Logbook'!C285=\"\",\"\",'2.Logbook'!C285)","v":""},{"$f":"IF('2.Logbook'!D285=\"\",\"\",'2.Logbook'!D285)","v":""},{"$f":"IF('2.Logbook'!E285=\"\",\"\",'2.Logbook'!E285)","v":""},{"$f":"IF('2.Logbook'!F285=\"\",\"\",'2.Logbook'!F285)","v":""},{"$f":"IF('2.Logbook'!G285=\"\",\"\",'2.Logbook'!G285)","v":""},{"$f":"IF('2.Logbook'!H285=\"\",\"\",'2.Logbook'!H285)","v":""},{"$f":"IF('2.Logbook'!I285=\"\",\"\",'2.Logbook'!I285)","v":""},{"$f":"IF('2.Logbook'!J285=\"\",\"\",'2.Logbook'!J285)","v":""},{"$f":"IF('2.Logbook'!K285=\"\",\"\",'2.Logbook'!K285)","v":""},{"$f":"IF('2.Logbook'!L285=\"\",\"\",'2.Logbook'!L285)","v":""},{"$f":"IF('2.Logbook'!M285=\"\",\"\",'2.Logbook'!M285)","v":""},{"$f":"IF('2.Logbook'!N285=\"\",\"\",'2.Logbook'!N285)","v":""},{"$f":"IF('2.Logbook'!O285=\"\",\"\",'2.Logbook'!O285)","v":""},{"$f":"IF('2.Logbook'!P285=\"\",\"\",'2.Logbook'!P285)","v":""},{"$f":"IF('2.Logbook'!Q285=\"\",\"\",'2.Logbook'!Q285)","v":""},{"$f":"IF('2.Logbook'!R285=\"\",\"\",'2.Logbook'!R285)","v":""},{"$f":"IF('2.Logbook'!S285=\"\",\"\",'2.Logbook'!S285)","v":""},{"$f":"IF('2.Logbook'!T285=\"\",\"\",'2.Logbook'!T285)","v":""},{"$f":"IF('2.Logbook'!U285=\"\",\"\",'2.Logbook'!U285)","v":""},{"$f":"IF('2.Logbook'!V285=\"\",\"\",'2.Logbook'!V285)","v":""},{"$f":"IF('2.Logbook'!W285=\"\",\"\",'2.Logbook'!W285)","v":""},{"$f":"IF('2.Logbook'!X285=\"\",\"\",'2.Logbook'!X285)","v":""},{"$f":"IF('2.Logbook'!Y285=\"\",\"\",'2.Logbook'!Y285)","v":""},{"$f":"IF('2.Logbook'!Z285=\"\",\"\",'2.Logbook'!Z285)","v":""},{"$f":"IF('2.Logbook'!AA285=\"\",\"\",'2.Logbook'!AA285)","v":""},{"$f":"IF('2.Logbook'!AB285=\"\",\"\",'2.Logbook'!AB285)","v":""},{"$f":"IF('2.Logbook'!AC285=\"\",\"\",'2.Logbook'!AC285)","v":""},{"$f":"IF('2.Logbook'!AD285=\"\",\"\",'2.Logbook'!AD285)","v":""},{"$f":"IF('2.Logbook'!AE285=\"\",\"\",'2.Logbook'!AE285)","v":""},{"$f":"IF('2.Logbook'!AF285=\"\",\"\",'2.Logbook'!AF285)","v":""},{"$f":"IF('2.Logbook'!AG285=\"\",\"\",'2.Logbook'!AG285)","v":""}]
[{"$f":"IF('2.Logbook'!A286=\"\",\"\",'2.Logbook'!A286)","v":""},{"$f":"IF('2.Logbook'!B286=\"\",\"\",'2.Logbook'!B286)","v":""},{"$f":"IF('2.Logbook'!C286=\"\",\"\",'2.Logbook'!C286)","v":""},{"$f":"IF('2.Logbook'!D286=\"\",\"\",'2.Logbook'!D286)","v":""},{"$f":"IF('2.Logbook'!E286=\"\",\"\",'2.Logbook'!E286)","v":""},{"$f":"IF('2.Logbook'!F286=\"\",\"\",'2.Logbook'!F286)","v":""},{"$f":"IF('2.Logbook'!G286=\"\",\"\",'2.Logbook'!G286)","v":""},{"$f":"IF('2.Logbook'!H286=\"\",\"\",'2.Logbook'!H286)","v":""},{"$f":"IF('2.Logbook'!I286=\"\",\"\",'2.Logbook'!I286)","v":""},{"$f":"IF('2.Logbook'!J286=\"\",\"\",'2.Logbook'!J286)","v":""},{"$f":"IF('2.Logbook'!K286=\"\",\"\",'2.Logbook'!K286)","v":""},{"$f":"IF('2.Logbook'!L286=\"\",\"\",'2.Logbook'!L286)","v":""},{"$f":"IF('2.Logbook'!M286=\"\",\"\",'2.Logbook'!M286)","v":""},{"$f":"IF('2.Logbook'!N286=\"\",\"\",'2.Logbook'!N286)","v":""},{"$f":"IF('2.Logbook'!O286=\"\",\"\",'2.Logbook'!O286)","v":""},{"$f":"IF('2.Logbook'!P286=\"\",\"\",'2.Logbook'!P286)","v":""},{"$f":"IF('2.Logbook'!Q286=\"\",\"\",'2.Logbook'!Q286)","v":""},{"$f":"IF('2.Logbook'!R286=\"\",\"\",'2.Logbook'!R286)","v":""},{"$f":"IF('2.Logbook'!S286=\"\",\"\",'2.Logbook'!S286)","v":""},{"$f":"IF('2.Logbook'!T286=\"\",\"\",'2.Logbook'!T286)","v":""},{"$f":"IF('2.Logbook'!U286=\"\",\"\",'2.Logbook'!U286)","v":""},{"$f":"IF('2.Logbook'!V286=\"\",\"\",'2.Logbook'!V286)","v":""},{"$f":"IF('2.Logbook'!W286=\"\",\"\",'2.Logbook'!W286)","v":""},{"$f":"IF('2.Logbook'!X286=\"\",\"\",'2.Logbook'!X286)","v":""},{"$f":"IF('2.Logbook'!Y286=\"\",\"\",'2.Logbook'!Y286)","v":""},{"$f":"IF('2.Logbook'!Z286=\"\",\"\",'2.Logbook'!Z286)","v":""},{"$f":"IF('2.Logbook'!AA286=\"\",\"\",'2.Logbook'!AA286)","v":""},{"$f":"IF('2.Logbook'!AB286=\"\",\"\",'2.Logbook'!AB286)","v":""},{"$f":"IF('2.Logbook'!AC286=\"\",\"\",'2.Logbook'!AC286)","v":""},{"$f":"IF('2.Logbook'!AD286=\"\",\"\",'2.Logbook'!AD286)","v":""},{"$f":"IF('2.Logbook'!AE286=\"\",\"\",'2.Logbook'!AE286)","v":""},{"$f":"IF('2.Logbook'!AF286=\"\",\"\",'2.Logbook'!AF286)","v":""},{"$f":"IF('2.Logbook'!AG286=\"\",\"\",'2.Logbook'!AG286)","v":""}]
[{"$f":"IF('2.Logbook'!A287=\"\",\"\",'2.Logbook'!A287)","v":""},{"$f":"IF('2.Logbook'!B287=\"\",\"\",'2.Logbook'!B287)","v":""},{"$f":"IF('2.Logbook'!C287=\"\",\"\",'2.Logbook'!C287)","v":""},{"$f":"IF('2.Logbook'!D287=\"\",\"\",'2.Logbook'!D287)","v":""},{"$f":"IF('2.Logbook'!E287=\"\",\"\",'2.Logbook'!E287)","v":""},{"$f":"IF('2.Logbook'!F287=\"\",\"\",'2.Logbook'!F287)","v":""},{"$f":"IF('2.Logbook'!G287=\"\",\"\",'2.Logbook'!G287)","v":""},{"$f":"IF('2.Logbook'!H287=\"\",\"\",'2.Logbook'!H287)","v":""},{"$f":"IF('2.Logbook'!I287=\"\",\"\",'2.Logbook'!I287)","v":""},{"$f":"IF('2.Logbook'!J287=\"\",\"\",'2.Logbook'!J287)","v":""},{"$f":"IF('2.Logbook'!K287=\"\",\"\",'2.Logbook'!K287)","v":""},{"$f":"IF('2.Logbook'!L287=\"\",\"\",'2.Logbook'!L287)","v":""},{"$f":"IF('2.Logbook'!M287=\"\",\"\",'2.Logbook'!M287)","v":""},{"$f":"IF('2.Logbook'!N287=\"\",\"\",'2.Logbook'!N287)","v":""},{"$f":"IF('2.Logbook'!O287=\"\",\"\",'2.Logbook'!O287)","v":""},{"$f":"IF('2.Logbook'!P287=\"\",\"\",'2.Logbook'!P287)","v":""},{"$f":"IF('2.Logbook'!Q287=\"\",\"\",'2.Logbook'!Q287)","v":""},{"$f":"IF('2.Logbook'!R287=\"\",\"\",'2.Logbook'!R287)","v":""},{"$f":"IF('2.Logbook'!S287=\"\",\"\",'2.Logbook'!S287)","v":""},{"$f":"IF('2.Logbook'!T287=\"\",\"\",'2.Logbook'!T287)","v":""},{"$f":"IF('2.Logbook'!U287=\"\",\"\",'2.Logbook'!U287)","v":""},{"$f":"IF('2.Logbook'!V287=\"\",\"\",'2.Logbook'!V287)","v":""},{"$f":"IF('2.Logbook'!W287=\"\",\"\",'2.Logbook'!W287)","v":""},{"$f":"IF('2.Logbook'!X287=\"\",\"\",'2.Logbook'!X287)","v":""},{"$f":"IF('2.Logbook'!Y287=\"\",\"\",'2.Logbook'!Y287)","v":""},{"$f":"IF('2.Logbook'!Z287=\"\",\"\",'2.Logbook'!Z287)","v":""},{"$f":"IF('2.Logbook'!AA287=\"\",\"\",'2.Logbook'!AA287)","v":""},{"$f":"IF('2.Logbook'!AB287=\"\",\"\",'2.Logbook'!AB287)","v":""},{"$f":"IF('2.Logbook'!AC287=\"\",\"\",'2.Logbook'!AC287)","v":""},{"$f":"IF('2.Logbook'!AD287=\"\",\"\",'2.Logbook'!AD287)","v":""},{"$f":"IF('2.Logbook'!AE287=\"\",\"\",'2.Logbook'!AE287)","v":""},{"$f":"IF('2.Logbook'!AF287=\"\",\"\",'2.Logbook'!AF287)","v":""},{"$f":"IF('2.Logbook'!AG287=\"\",\"\",'2.Logbook'!AG287)","v":""}]
[{"$f":"IF('2.Logbook'!A288=\"\",\"\",'2.Logbook'!A288)","v":""},{"$f":"IF('2.Logbook'!B288=\"\",\"\",'2.Logbook'!B288)","v":""},{"$f":"IF('2.Logbook'!C288=\"\",\"\",'2.Logbook'!C288)","v":""},{"$f":"IF('2.Logbook'!D288=\"\",\"\",'2.Logbook'!D288)","v":""},{"$f":"IF('2.Logbook'!E288=\"\",\"\",'2.Logbook'!E288)","v":""},{"$f":"IF('2.Logbook'!F288=\"\",\"\",'2.Logbook'!F288)","v":""},{"$f":"IF('2.Logbook'!G288=\"\",\"\",'2.Logbook'!G288)","v":""},{"$f":"IF('2.Logbook'!H288=\"\",\"\",'2.Logbook'!H288)","v":""},{"$f":"IF('2.Logbook'!I288=\"\",\"\",'2.Logbook'!I288)","v":""},{"$f":"IF('2.Logbook'!J288=\"\",\"\",'2.Logbook'!J288)","v":""},{"$f":"IF('2.Logbook'!K288=\"\",\"\",'2.Logbook'!K288)","v":""},{"$f":"IF('2.Logbook'!L288=\"\",\"\",'2.Logbook'!L288)","v":""},{"$f":"IF('2.Logbook'!M288=\"\",\"\",'2.Logbook'!M288)","v":""},{"$f":"IF('2.Logbook'!N288=\"\",\"\",'2.Logbook'!N288)","v":""},{"$f":"IF('2.Logbook'!O288=\"\",\"\",'2.Logbook'!O288)","v":""},{"$f":"IF('2.Logbook'!P288=\"\",\"\",'2.Logbook'!P288)","v":""},{"$f":"IF('2.Logbook'!Q288=\"\",\"\",'2.Logbook'!Q288)","v":""},{"$f":"IF('2.Logbook'!R288=\"\",\"\",'2.Logbook'!R288)","v":""},{"$f":"IF('2.Logbook'!S288=\"\",\"\",'2.Logbook'!S288)","v":""},{"$f":"IF('2.Logbook'!T288=\"\",\"\",'2.Logbook'!T288)","v":""},{"$f":"IF('2.Logbook'!U288=\"\",\"\",'2.Logbook'!U288)","v":""},{"$f":"IF('2.Logbook'!V288=\"\",\"\",'2.Logbook'!V288)","v":""},{"$f":"IF('2.Logbook'!W288=\"\",\"\",'2.Logbook'!W288)","v":""},{"$f":"IF('2.Logbook'!X288=\"\",\"\",'2.Logbook'!X288)","v":""},{"$f":"IF('2.Logbook'!Y288=\"\",\"\",'2.Logbook'!Y288)","v":""},{"$f":"IF('2.Logbook'!Z288=\"\",\"\",'2.Logbook'!Z288)","v":""},{"$f":"IF('2.Logbook'!AA288=\"\",\"\",'2.Logbook'!AA288)","v":""},{"$f":"IF('2.Logbook'!AB288=\"\",\"\",'2.Logbook'!AB288)","v":""},{"$f":"IF('2.Logbook'!AC288=\"\",\"\",'2.Logbook'!AC288)","v":""},{"$f":"IF('2.Logbook'!AD288=\"\",\"\",'2.Logbook'!AD288)","v":""},{"$f":"IF('2.Logbook'!AE288=\"\",\"\",'2.Logbook'!AE288)","v":""},{"$f":"IF('2.Logbook'!AF288=\"\",\"\",'2.Logbook'!AF288)","v":""},{"$f":"IF('2.Logbook'!AG288=\"\",\"\",'2.Logbook'!AG288)","v":""}]
[{"$f":"IF('2.Logbook'!A289=\"\",\"\",'2.Logbook'!A289)","v":""},{"$f":"IF('2.Logbook'!B289=\"\",\"\",'2.Logbook'!B289)","v":""},{"$f":"IF('2.Logbook'!C289=\"\",\"\",'2.Logbook'!C289)","v":""},{"$f":"IF('2.Logbook'!D289=\"\",\"\",'2.Logbook'!D289)","v":""},{"$f":"IF('2.Logbook'!E289=\"\",\"\",'2.Logbook'!E289)","v":""},{"$f":"IF('2.Logbook'!F289=\"\",\"\",'2.Logbook'!F289)","v":""},{"$f":"IF('2.Logbook'!G289=\"\",\"\",'2.Logbook'!G289)","v":""},{"$f":"IF('2.Logbook'!H289=\"\",\"\",'2.Logbook'!H289)","v":""},{"$f":"IF('2.Logbook'!I289=\"\",\"\",'2.Logbook'!I289)","v":""},{"$f":"IF('2.Logbook'!J289=\"\",\"\",'2.Logbook'!J289)","v":""},{"$f":"IF('2.Logbook'!K289=\"\",\"\",'2.Logbook'!K289)","v":""},{"$f":"IF('2.Logbook'!L289=\"\",\"\",'2.Logbook'!L289)","v":""},{"$f":"IF('2.Logbook'!M289=\"\",\"\",'2.Logbook'!M289)","v":""},{"$f":"IF('2.Logbook'!N289=\"\",\"\",'2.Logbook'!N289)","v":""},{"$f":"IF('2.Logbook'!O289=\"\",\"\",'2.Logbook'!O289)","v":""},{"$f":"IF('2.Logbook'!P289=\"\",\"\",'2.Logbook'!P289)","v":""},{"$f":"IF('2.Logbook'!Q289=\"\",\"\",'2.Logbook'!Q289)","v":""},{"$f":"IF('2.Logbook'!R289=\"\",\"\",'2.Logbook'!R289)","v":""},{"$f":"IF('2.Logbook'!S289=\"\",\"\",'2.Logbook'!S289)","v":""},{"$f":"IF('2.Logbook'!T289=\"\",\"\",'2.Logbook'!T289)","v":""},{"$f":"IF('2.Logbook'!U289=\"\",\"\",'2.Logbook'!U289)","v":""},{"$f":"IF('2.Logbook'!V289=\"\",\"\",'2.Logbook'!V289)","v":""},{"$f":"IF('2.Logbook'!W289=\"\",\"\",'2.Logbook'!W289)","v":""},{"$f":"IF('2.Logbook'!X289=\"\",\"\",'2.Logbook'!X289)","v":""},{"$f":"IF('2.Logbook'!Y289=\"\",\"\",'2.Logbook'!Y289)","v":""},{"$f":"IF('2.Logbook'!Z289=\"\",\"\",'2.Logbook'!Z289)","v":""},{"$f":"IF('2.Logbook'!AA289=\"\",\"\",'2.Logbook'!AA289)","v":""},{"$f":"IF('2.Logbook'!AB289=\"\",\"\",'2.Logbook'!AB289)","v":""},{"$f":"IF('2.Logbook'!AC289=\"\",\"\",'2.Logbook'!AC289)","v":""},{"$f":"IF('2.Logbook'!AD289=\"\",\"\",'2.Logbook'!AD289)","v":""},{"$f":"IF('2.Logbook'!AE289=\"\",\"\",'2.Logbook'!AE289)","v":""},{"$f":"IF('2.Logbook'!AF289=\"\",\"\",'2.Logbook'!AF289)","v":""},{"$f":"IF('2.Logbook'!AG289=\"\",\"\",'2.Logbook'!AG289)","v":""}]
[{"$f":"IF('2.Logbook'!A290=\"\",\"\",'2.Logbook'!A290)","v":""},{"$f":"IF('2.Logbook'!B290=\"\",\"\",'2.Logbook'!B290)","v":""},{"$f":"IF('2.Logbook'!C290=\"\",\"\",'2.Logbook'!C290)","v":""},{"$f":"IF('2.Logbook'!D290=\"\",\"\",'2.Logbook'!D290)","v":""},{"$f":"IF('2.Logbook'!E290=\"\",\"\",'2.Logbook'!E290)","v":""},{"$f":"IF('2.Logbook'!F290=\"\",\"\",'2.Logbook'!F290)","v":""},{"$f":"IF('2.Logbook'!G290=\"\",\"\",'2.Logbook'!G290)","v":""},{"$f":"IF('2.Logbook'!H290=\"\",\"\",'2.Logbook'!H290)","v":""},{"$f":"IF('2.Logbook'!I290=\"\",\"\",'2.Logbook'!I290)","v":""},{"$f":"IF('2.Logbook'!J290=\"\",\"\",'2.Logbook'!J290)","v":""},{"$f":"IF('2.Logbook'!K290=\"\",\"\",'2.Logbook'!K290)","v":""},{"$f":"IF('2.Logbook'!L290=\"\",\"\",'2.Logbook'!L290)","v":""},{"$f":"IF('2.Logbook'!M290=\"\",\"\",'2.Logbook'!M290)","v":""},{"$f":"IF('2.Logbook'!N290=\"\",\"\",'2.Logbook'!N290)","v":""},{"$f":"IF('2.Logbook'!O290=\"\",\"\",'2.Logbook'!O290)","v":""},{"$f":"IF('2.Logbook'!P290=\"\",\"\",'2.Logbook'!P290)","v":""},{"$f":"IF('2.Logbook'!Q290=\"\",\"\",'2.Logbook'!Q290)","v":""},{"$f":"IF('2.Logbook'!R290=\"\",\"\",'2.Logbook'!R290)","v":""},{"$f":"IF('2.Logbook'!S290=\"\",\"\",'2.Logbook'!S290)","v":""},{"$f":"IF('2.Logbook'!T290=\"\",\"\",'2.Logbook'!T290)","v":""},{"$f":"IF('2.Logbook'!U290=\"\",\"\",'2.Logbook'!U290)","v":""},{"$f":"IF('2.Logbook'!V290=\"\",\"\",'2.Logbook'!V290)","v":""},{"$f":"IF('2.Logbook'!W290=\"\",\"\",'2.Logbook'!W290)","v":""},{"$f":"IF('2.Logbook'!X290=\"\",\"\",'2.Logbook'!X290)","v":""},{"$f":"IF('2.Logbook'!Y290=\"\",\"\",'2.Logbook'!Y290)","v":""},{"$f":"IF('2.Logbook'!Z290=\"\",\"\",'2.Logbook'!Z290)","v":""},{"$f":"IF('2.Logbook'!AA290=\"\",\"\",'2.Logbook'!AA290)","v":""},{"$f":"IF('2.Logbook'!AB290=\"\",\"\",'2.Logbook'!AB290)","v":""},{"$f":"IF('2.Logbook'!AC290=\"\",\"\",'2.Logbook'!AC290)","v":""},{"$f":"IF('2.Logbook'!AD290=\"\",\"\",'2.Logbook'!AD290)","v":""},{"$f":"IF('2.Logbook'!AE290=\"\",\"\",'2.Logbook'!AE290)","v":""},{"$f":"IF('2.Logbook'!AF290=\"\",\"\",'2.Logbook'!AF290)","v":""},{"$f":"IF('2.Logbook'!AG290=\"\",\"\",'2.Logbook'!AG290)","v":""}]
[{"$f":"IF('2.Logbook'!A291=\"\",\"\",'2.Logbook'!A291)","v":""},{"$f":"IF('2.Logbook'!B291=\"\",\"\",'2.Logbook'!B291)","v":""},{"$f":"IF('2.Logbook'!C291=\"\",\"\",'2.Logbook'!C291)","v":""},{"$f":"IF('2.Logbook'!D291=\"\",\"\",'2.Logbook'!D291)","v":""},{"$f":"IF('2.Logbook'!E291=\"\",\"\",'2.Logbook'!E291)","v":""},{"$f":"IF('2.Logbook'!F291=\"\",\"\",'2.Logbook'!F291)","v":""},{"$f":"IF('2.Logbook'!G291=\"\",\"\",'2.Logbook'!G291)","v":""},{"$f":"IF('2.Logbook'!H291=\"\",\"\",'2.Logbook'!H291)","v":""},{"$f":"IF('2.Logbook'!I291=\"\",\"\",'2.Logbook'!I291)","v":""},{"$f":"IF('2.Logbook'!J291=\"\",\"\",'2.Logbook'!J291)","v":""},{"$f":"IF('2.Logbook'!K291=\"\",\"\",'2.Logbook'!K291)","v":""},{"$f":"IF('2.Logbook'!L291=\"\",\"\",'2.Logbook'!L291)","v":""},{"$f":"IF('2.Logbook'!M291=\"\",\"\",'2.Logbook'!M291)","v":""},{"$f":"IF('2.Logbook'!N291=\"\",\"\",'2.Logbook'!N291)","v":""},{"$f":"IF('2.Logbook'!O291=\"\",\"\",'2.Logbook'!O291)","v":""},{"$f":"IF('2.Logbook'!P291=\"\",\"\",'2.Logbook'!P291)","v":""},{"$f":"IF('2.Logbook'!Q291=\"\",\"\",'2.Logbook'!Q291)","v":""},{"$f":"IF('2.Logbook'!R291=\"\",\"\",'2.Logbook'!R291)","v":""},{"$f":"IF('2.Logbook'!S291=\"\",\"\",'2.Logbook'!S291)","v":""},{"$f":"IF('2.Logbook'!T291=\"\",\"\",'2.Logbook'!T291)","v":""},{"$f":"IF('2.Logbook'!U291=\"\",\"\",'2.Logbook'!U291)","v":""},{"$f":"IF('2.Logbook'!V291=\"\",\"\",'2.Logbook'!V291)","v":""},{"$f":"IF('2.Logbook'!W291=\"\",\"\",'2.Logbook'!W291)","v":""},{"$f":"IF('2.Logbook'!X291=\"\",\"\",'2.Logbook'!X291)","v":""},{"$f":"IF('2.Logbook'!Y291=\"\",\"\",'2.Logbook'!Y291)","v":""},{"$f":"IF('2.Logbook'!Z291=\"\",\"\",'2.Logbook'!Z291)","v":""},{"$f":"IF('2.Logbook'!AA291=\"\",\"\",'2.Logbook'!AA291)","v":""},{"$f":"IF('2.Logbook'!AB291=\"\",\"\",'2.Logbook'!AB291)","v":""},{"$f":"IF('2.Logbook'!AC291=\"\",\"\",'2.Logbook'!AC291)","v":""},{"$f":"IF('2.Logbook'!AD291=\"\",\"\",'2.Logbook'!AD291)","v":""},{"$f":"IF('2.Logbook'!AE291=\"\",\"\",'2.Logbook'!AE291)","v":""},{"$f":"IF('2.Logbook'!AF291=\"\",\"\",'2.Logbook'!AF291)","v":""},{"$f":"IF('2.Logbook'!AG291=\"\",\"\",'2.Logbook'!AG291)","v":""}]
[{"$f":"IF('2.Logbook'!A292=\"\",\"\",'2.Logbook'!A292)","v":""},{"$f":"IF('2.Logbook'!B292=\"\",\"\",'2.Logbook'!B292)","v":""},{"$f":"IF('2.Logbook'!C292=\"\",\"\",'2.Logbook'!C292)","v":""},{"$f":"IF('2.Logbook'!D292=\"\",\"\",'2.Logbook'!D292)","v":""},{"$f":"IF('2.Logbook'!E292=\"\",\"\",'2.Logbook'!E292)","v":""},{"$f":"IF('2.Logbook'!F292=\"\",\"\",'2.Logbook'!F292)","v":""},{"$f":"IF('2.Logbook'!G292=\"\",\"\",'2.Logbook'!G292)","v":""},{"$f":"IF('2.Logbook'!H292=\"\",\"\",'2.Logbook'!H292)","v":""},{"$f":"IF('2.Logbook'!I292=\"\",\"\",'2.Logbook'!I292)","v":""},{"$f":"IF('2.Logbook'!J292=\"\",\"\",'2.Logbook'!J292)","v":""},{"$f":"IF('2.Logbook'!K292=\"\",\"\",'2.Logbook'!K292)","v":""},{"$f":"IF('2.Logbook'!L292=\"\",\"\",'2.Logbook'!L292)","v":""},{"$f":"IF('2.Logbook'!M292=\"\",\"\",'2.Logbook'!M292)","v":""},{"$f":"IF('2.Logbook'!N292=\"\",\"\",'2.Logbook'!N292)","v":""},{"$f":"IF('2.Logbook'!O292=\"\",\"\",'2.Logbook'!O292)","v":""},{"$f":"IF('2.Logbook'!P292=\"\",\"\",'2.Logbook'!P292)","v":""},{"$f":"IF('2.Logbook'!Q292=\"\",\"\",'2.Logbook'!Q292)","v":""},{"$f":"IF('2.Logbook'!R292=\"\",\"\",'2.Logbook'!R292)","v":""},{"$f":"IF('2.Logbook'!S292=\"\",\"\",'2.Logbook'!S292)","v":""},{"$f":"IF('2.Logbook'!T292=\"\",\"\",'2.Logbook'!T292)","v":""},{"$f":"IF('2.Logbook'!U292=\"\",\"\",'2.Logbook'!U292)","v":""},{"$f":"IF('2.Logbook'!V292=\"\",\"\",'2.Logbook'!V292)","v":""},{"$f":"IF('2.Logbook'!W292=\"\",\"\",'2.Logbook'!W292)","v":""},{"$f":"IF('2.Logbook'!X292=\"\",\"\",'2.Logbook'!X292)","v":""},{"$f":"IF('2.Logbook'!Y292=\"\",\"\",'2.Logbook'!Y292)","v":""},{"$f":"IF('2.Logbook'!Z292=\"\",\"\",'2.Logbook'!Z292)","v":""},{"$f":"IF('2.Logbook'!AA292=\"\",\"\",'2.Logbook'!AA292)","v":""},{"$f":"IF('2.Logbook'!AB292=\"\",\"\",'2.Logbook'!AB292)","v":""},{"$f":"IF('2.Logbook'!AC292=\"\",\"\",'2.Logbook'!AC292)","v":""},{"$f":"IF('2.Logbook'!AD292=\"\",\"\",'2.Logbook'!AD292)","v":""},{"$f":"IF('2.Logbook'!AE292=\"\",\"\",'2.Logbook'!AE292)","v":""},{"$f":"IF('2.Logbook'!AF292=\"\",\"\",'2.Logbook'!AF292)","v":""},{"$f":"IF('2.Logbook'!AG292=\"\",\"\",'2.Logbook'!AG292)","v":""}]
[{"$f":"IF('2.Logbook'!A293=\"\",\"\",'2.Logbook'!A293)","v":""},{"$f":"IF('2.Logbook'!B293=\"\",\"\",'2.Logbook'!B293)","v":""},{"$f":"IF('2.Logbook'!C293=\"\",\"\",'2.Logbook'!C293)","v":""},{"$f":"IF('2.Logbook'!D293=\"\",\"\",'2.Logbook'!D293)","v":""},{"$f":"IF('2.Logbook'!E293=\"\",\"\",'2.Logbook'!E293)","v":""},{"$f":"IF('2.Logbook'!F293=\"\",\"\",'2.Logbook'!F293)","v":""},{"$f":"IF('2.Logbook'!G293=\"\",\"\",'2.Logbook'!G293)","v":""},{"$f":"IF('2.Logbook'!H293=\"\",\"\",'2.Logbook'!H293)","v":""},{"$f":"IF('2.Logbook'!I293=\"\",\"\",'2.Logbook'!I293)","v":""},{"$f":"IF('2.Logbook'!J293=\"\",\"\",'2.Logbook'!J293)","v":""},{"$f":"IF('2.Logbook'!K293=\"\",\"\",'2.Logbook'!K293)","v":""},{"$f":"IF('2.Logbook'!L293=\"\",\"\",'2.Logbook'!L293)","v":""},{"$f":"IF('2.Logbook'!M293=\"\",\"\",'2.Logbook'!M293)","v":""},{"$f":"IF('2.Logbook'!N293=\"\",\"\",'2.Logbook'!N293)","v":""},{"$f":"IF('2.Logbook'!O293=\"\",\"\",'2.Logbook'!O293)","v":""},{"$f":"IF('2.Logbook'!P293=\"\",\"\",'2.Logbook'!P293)","v":""},{"$f":"IF('2.Logbook'!Q293=\"\",\"\",'2.Logbook'!Q293)","v":""},{"$f":"IF('2.Logbook'!R293=\"\",\"\",'2.Logbook'!R293)","v":""},{"$f":"IF('2.Logbook'!S293=\"\",\"\",'2.Logbook'!S293)","v":""},{"$f":"IF('2.Logbook'!T293=\"\",\"\",'2.Logbook'!T293)","v":""},{"$f":"IF('2.Logbook'!U293=\"\",\"\",'2.Logbook'!U293)","v":""},{"$f":"IF('2.Logbook'!V293=\"\",\"\",'2.Logbook'!V293)","v":""},{"$f":"IF('2.Logbook'!W293=\"\",\"\",'2.Logbook'!W293)","v":""},{"$f":"IF('2.Logbook'!X293=\"\",\"\",'2.Logbook'!X293)","v":""},{"$f":"IF('2.Logbook'!Y293=\"\",\"\",'2.Logbook'!Y293)","v":""},{"$f":"IF('2.Logbook'!Z293=\"\",\"\",'2.Logbook'!Z293)","v":""},{"$f":"IF('2.Logbook'!AA293=\"\",\"\",'2.Logbook'!AA293)","v":""},{"$f":"IF('2.Logbook'!AB293=\"\",\"\",'2.Logbook'!AB293)","v":""},{"$f":"IF('2.Logbook'!AC293=\"\",\"\",'2.Logbook'!AC293)","v":""},{"$f":"IF('2.Logbook'!AD293=\"\",\"\",'2.Logbook'!AD293)","v":""},{"$f":"IF('2.Logbook'!AE293=\"\",\"\",'2.Logbook'!AE293)","v":""},{"$f":"IF('2.Logbook'!AF293=\"\",\"\",'2.Logbook'!AF293)","v":""},{"$f":"IF('2.Logbook'!AG293=\"\",\"\",'2.Logbook'!AG293)","v":""}]
[{"$f":"IF('2.Logbook'!A294=\"\",\"\",'2.Logbook'!A294)","v":""},{"$f":"IF('2.Logbook'!B294=\"\",\"\",'2.Logbook'!B294)","v":""},{"$f":"IF('2.Logbook'!C294=\"\",\"\",'2.Logbook'!C294)","v":""},{"$f":"IF('2.Logbook'!D294=\"\",\"\",'2.Logbook'!D294)","v":""},{"$f":"IF('2.Logbook'!E294=\"\",\"\",'2.Logbook'!E294)","v":""},{"$f":"IF('2.Logbook'!F294=\"\",\"\",'2.Logbook'!F294)","v":""},{"$f":"IF('2.Logbook'!G294=\"\",\"\",'2.Logbook'!G294)","v":""},{"$f":"IF('2.Logbook'!H294=\"\",\"\",'2.Logbook'!H294)","v":""},{"$f":"IF('2.Logbook'!I294=\"\",\"\",'2.Logbook'!I294)","v":""},{"$f":"IF('2.Logbook'!J294=\"\",\"\",'2.Logbook'!J294)","v":""},{"$f":"IF('2.Logbook'!K294=\"\",\"\",'2.Logbook'!K294)","v":""},{"$f":"IF('2.Logbook'!L294=\"\",\"\",'2.Logbook'!L294)","v":""},{"$f":"IF('2.Logbook'!M294=\"\",\"\",'2.Logbook'!M294)","v":""},{"$f":"IF('2.Logbook'!N294=\"\",\"\",'2.Logbook'!N294)","v":""},{"$f":"IF('2.Logbook'!O294=\"\",\"\",'2.Logbook'!O294)","v":""},{"$f":"IF('2.Logbook'!P294=\"\",\"\",'2.Logbook'!P294)","v":""},{"$f":"IF('2.Logbook'!Q294=\"\",\"\",'2.Logbook'!Q294)","v":""},{"$f":"IF('2.Logbook'!R294=\"\",\"\",'2.Logbook'!R294)","v":""},{"$f":"IF('2.Logbook'!S294=\"\",\"\",'2.Logbook'!S294)","v":""},{"$f":"IF('2.Logbook'!T294=\"\",\"\",'2.Logbook'!T294)","v":""},{"$f":"IF('2.Logbook'!U294=\"\",\"\",'2.Logbook'!U294)","v":""},{"$f":"IF('2.Logbook'!V294=\"\",\"\",'2.Logbook'!V294)","v":""},{"$f":"IF('2.Logbook'!W294=\"\",\"\",'2.Logbook'!W294)","v":""},{"$f":"IF('2.Logbook'!X294=\"\",\"\",'2.Logbook'!X294)","v":""},{"$f":"IF('2.Logbook'!Y294=\"\",\"\",'2.Logbook'!Y294)","v":""},{"$f":"IF('2.Logbook'!Z294=\"\",\"\",'2.Logbook'!Z294)","v":""},{"$f":"IF('2.Logbook'!AA294=\"\",\"\",'2.Logbook'!AA294)","v":""},{"$f":"IF('2.Logbook'!AB294=\"\",\"\",'2.Logbook'!AB294)","v":""},{"$f":"IF('2.Logbook'!AC294=\"\",\"\",'2.Logbook'!AC294)","v":""},{"$f":"IF('2.Logbook'!AD294=\"\",\"\",'2.Logbook'!AD294)","v":""},{"$f":"IF('2.Logbook'!AE294=\"\",\"\",'2.Logbook'!AE294)","v":""},{"$f":"IF('2.Logbook'!AF294=\"\",\"\",'2.Logbook'!AF294)","v":""},{"$f":"IF('2.Logbook'!AG294=\"\",\"\",'2.Logbook'!AG294)","v":""}]
[{"$f":"IF('2.Logbook'!A295=\"\",\"\",'2.Logbook'!A295)","v":""},{"$f":"IF('2.Logbook'!B295=\"\",\"\",'2.Logbook'!B295)","v":""},{"$f":"IF('2.Logbook'!C295=\"\",\"\",'2.Logbook'!C295)","v":""},{"$f":"IF('2.Logbook'!D295=\"\",\"\",'2.Logbook'!D295)","v":""},{"$f":"IF('2.Logbook'!E295=\"\",\"\",'2.Logbook'!E295)","v":""},{"$f":"IF('2.Logbook'!F295=\"\",\"\",'2.Logbook'!F295)","v":""},{"$f":"IF('2.Logbook'!G295=\"\",\"\",'2.Logbook'!G295)","v":""},{"$f":"IF('2.Logbook'!H295=\"\",\"\",'2.Logbook'!H295)","v":""},{"$f":"IF('2.Logbook'!I295=\"\",\"\",'2.Logbook'!I295)","v":""},{"$f":"IF('2.Logbook'!J295=\"\",\"\",'2.Logbook'!J295)","v":""},{"$f":"IF('2.Logbook'!K295=\"\",\"\",'2.Logbook'!K295)","v":""},{"$f":"IF('2.Logbook'!L295=\"\",\"\",'2.Logbook'!L295)","v":""},{"$f":"IF('2.Logbook'!M295=\"\",\"\",'2.Logbook'!M295)","v":""},{"$f":"IF('2.Logbook'!N295=\"\",\"\",'2.Logbook'!N295)","v":""},{"$f":"IF('2.Logbook'!O295=\"\",\"\",'2.Logbook'!O295)","v":""},{"$f":"IF('2.Logbook'!P295=\"\",\"\",'2.Logbook'!P295)","v":""},{"$f":"IF('2.Logbook'!Q295=\"\",\"\",'2.Logbook'!Q295)","v":""},{"$f":"IF('2.Logbook'!R295=\"\",\"\",'2.Logbook'!R295)","v":""},{"$f":"IF('2.Logbook'!S295=\"\",\"\",'2.Logbook'!S295)","v":""},{"$f":"IF('2.Logbook'!T295=\"\",\"\",'2.Logbook'!T295)","v":""},{"$f":"IF('2.Logbook'!U295=\"\",\"\",'2.Logbook'!U295)","v":""},{"$f":"IF('2.Logbook'!V295=\"\",\"\",'2.Logbook'!V295)","v":""},{"$f":"IF('2.Logbook'!W295=\"\",\"\",'2.Logbook'!W295)","v":""},{"$f":"IF('2.Logbook'!X295=\"\",\"\",'2.Logbook'!X295)","v":""},{"$f":"IF('2.Logbook'!Y295=\"\",\"\",'2.Logbook'!Y295)","v":""},{"$f":"IF('2.Logbook'!Z295=\"\",\"\",'2.Logbook'!Z295)","v":""},{"$f":"IF('2.Logbook'!AA295=\"\",\"\",'2.Logbook'!AA295)","v":""},{"$f":"IF('2.Logbook'!AB295=\"\",\"\",'2.Logbook'!AB295)","v":""},{"$f":"IF('2.Logbook'!AC295=\"\",\"\",'2.Logbook'!AC295)","v":""},{"$f":"IF('2.Logbook'!AD295=\"\",\"\",'2.Logbook'!AD295)","v":""},{"$f":"IF('2.Logbook'!AE295=\"\",\"\",'2.Logbook'!AE295)","v":""},{"$f":"IF('2.Logbook'!AF295=\"\",\"\",'2.Logbook'!AF295)","v":""},{"$f":"IF('2.Logbook'!AG295=\"\",\"\",'2.Logbook'!AG295)","v":""}]
[{"$f":"IF('2.Logbook'!A296=\"\",\"\",'2.Logbook'!A296)","v":""},{"$f":"IF('2.Logbook'!B296=\"\",\"\",'2.Logbook'!B296)","v":""},{"$f":"IF('2.Logbook'!C296=\"\",\"\",'2.Logbook'!C296)","v":""},{"$f":"IF('2.Logbook'!D296=\"\",\"\",'2.Logbook'!D296)","v":""},{"$f":"IF('2.Logbook'!E296=\"\",\"\",'2.Logbook'!E296)","v":""},{"$f":"IF('2.Logbook'!F296=\"\",\"\",'2.Logbook'!F296)","v":""},{"$f":"IF('2.Logbook'!G296=\"\",\"\",'2.Logbook'!G296)","v":""},{"$f":"IF('2.Logbook'!H296=\"\",\"\",'2.Logbook'!H296)","v":""},{"$f":"IF('2.Logbook'!I296=\"\",\"\",'2.Logbook'!I296)","v":""},{"$f":"IF('2.Logbook'!J296=\"\",\"\",'2.Logbook'!J296)","v":""},{"$f":"IF('2.Logbook'!K296=\"\",\"\",'2.Logbook'!K296)","v":""},{"$f":"IF('2.Logbook'!L296=\"\",\"\",'2.Logbook'!L296)","v":""},{"$f":"IF('2.Logbook'!M296=\"\",\"\",'2.Logbook'!M296)","v":""},{"$f":"IF('2.Logbook'!N296=\"\",\"\",'2.Logbook'!N296)","v":""},{"$f":"IF('2.Logbook'!O296=\"\",\"\",'2.Logbook'!O296)","v":""},{"$f":"IF('2.Logbook'!P296=\"\",\"\",'2.Logbook'!P296)","v":""},{"$f":"IF('2.Logbook'!Q296=\"\",\"\",'2.Logbook'!Q296)","v":""},{"$f":"IF('2.Logbook'!R296=\"\",\"\",'2.Logbook'!R296)","v":""},{"$f":"IF('2.Logbook'!S296=\"\",\"\",'2.Logbook'!S296)","v":""},{"$f":"IF('2.Logbook'!T296=\"\",\"\",'2.Logbook'!T296)","v":""},{"$f":"IF('2.Logbook'!U296=\"\",\"\",'2.Logbook'!U296)","v":""},{"$f":"IF('2.Logbook'!V296=\"\",\"\",'2.Logbook'!V296)","v":""},{"$f":"IF('2.Logbook'!W296=\"\",\"\",'2.Logbook'!W296)","v":""},{"$f":"IF('2.Logbook'!X296=\"\",\"\",'2.Logbook'!X296)","v":""},{"$f":"IF('2.Logbook'!Y296=\"\",\"\",'2.Logbook'!Y296)","v":""},{"$f":"IF('2.Logbook'!Z296=\"\",\"\",'2.Logbook'!Z296)","v":""},{"$f":"IF('2.Logbook'!AA296=\"\",\"\",'2.Logbook'!AA296)","v":""},{"$f":"IF('2.Logbook'!AB296=\"\",\"\",'2.Logbook'!AB296)","v":""},{"$f":"IF('2.Logbook'!AC296=\"\",\"\",'2.Logbook'!AC296)","v":""},{"$f":"IF('2.Logbook'!AD296=\"\",\"\",'2.Logbook'!AD296)","v":""},{"$f":"IF('2.Logbook'!AE296=\"\",\"\",'2.Logbook'!AE296)","v":""},{"$f":"IF('2.Logbook'!AF296=\"\",\"\",'2.Logbook'!AF296)","v":""},{"$f":"IF('2.Logbook'!AG296=\"\",\"\",'2.Logbook'!AG296)","v":""}]
[{"$f":"IF('2.Logbook'!A297=\"\",\"\",'2.Logbook'!A297)","v":""},{"$f":"IF('2.Logbook'!B297=\"\",\"\",'2.Logbook'!B297)","v":""},{"$f":"IF('2.Logbook'!C297=\"\",\"\",'2.Logbook'!C297)","v":""},{"$f":"IF('2.Logbook'!D297=\"\",\"\",'2.Logbook'!D297)","v":""},{"$f":"IF('2.Logbook'!E297=\"\",\"\",'2.Logbook'!E297)","v":""},{"$f":"IF('2.Logbook'!F297=\"\",\"\",'2.Logbook'!F297)","v":""},{"$f":"IF('2.Logbook'!G297=\"\",\"\",'2.Logbook'!G297)","v":""},{"$f":"IF('2.Logbook'!H297=\"\",\"\",'2.Logbook'!H297)","v":""},{"$f":"IF('2.Logbook'!I297=\"\",\"\",'2.Logbook'!I297)","v":""},{"$f":"IF('2.Logbook'!J297=\"\",\"\",'2.Logbook'!J297)","v":""},{"$f":"IF('2.Logbook'!K297=\"\",\"\",'2.Logbook'!K297)","v":""},{"$f":"IF('2.Logbook'!L297=\"\",\"\",'2.Logbook'!L297)","v":""},{"$f":"IF('2.Logbook'!M297=\"\",\"\",'2.Logbook'!M297)","v":""},{"$f":"IF('2.Logbook'!N297=\"\",\"\",'2.Logbook'!N297)","v":""},{"$f":"IF('2.Logbook'!O297=\"\",\"\",'2.Logbook'!O297)","v":""},{"$f":"IF('2.Logbook'!P297=\"\",\"\",'2.Logbook'!P297)","v":""},{"$f":"IF('2.Logbook'!Q297=\"\",\"\",'2.Logbook'!Q297)","v":""},{"$f":"IF('2.Logbook'!R297=\"\",\"\",'2.Logbook'!R297)","v":""},{"$f":"IF('2.Logbook'!S297=\"\",\"\",'2.Logbook'!S297)","v":""},{"$f":"IF('2.Logbook'!T297=\"\",\"\",'2.Logbook'!T297)","v":""},{"$f":"IF('2.Logbook'!U297=\"\",\"\",'2.Logbook'!U297)","v":""},{"$f":"IF('2.Logbook'!V297=\"\",\"\",'2.Logbook'!V297)","v":""},{"$f":"IF('2.Logbook'!W297=\"\",\"\",'2.Logbook'!W297)","v":""},{"$f":"IF('2.Logbook'!X297=\"\",\"\",'2.Logbook'!X297)","v":""},{"$f":"IF('2.Logbook'!Y297=\"\",\"\",'2.Logbook'!Y297)","v":""},{"$f":"IF('2.Logbook'!Z297=\"\",\"\",'2.Logbook'!Z297)","v":""},{"$f":"IF('2.Logbook'!AA297=\"\",\"\",'2.Logbook'!AA297)","v":""},{"$f":"IF('2.Logbook'!AB297=\"\",\"\",'2.Logbook'!AB297)","v":""},{"$f":"IF('2.Logbook'!AC297=\"\",\"\",'2.Logbook'!AC297)","v":""},{"$f":"IF('2.Logbook'!AD297=\"\",\"\",'2.Logbook'!AD297)","v":""},{"$f":"IF('2.Logbook'!AE297=\"\",\"\",'2.Logbook'!AE297)","v":""},{"$f":"IF('2.Logbook'!AF297=\"\",\"\",'2.Logbook'!AF297)","v":""},{"$f":"IF('2.Logbook'!AG297=\"\",\"\",'2.Logbook'!AG297)","v":""}]
[{"$f":"IF('2.Logbook'!A298=\"\",\"\",'2.Logbook'!A298)","v":""},{"$f":"IF('2.Logbook'!B298=\"\",\"\",'2.Logbook'!B298)","v":""},{"$f":"IF('2.Logbook'!C298=\"\",\"\",'2.Logbook'!C298)","v":""},{"$f":"IF('2.Logbook'!D298=\"\",\"\",'2.Logbook'!D298)","v":""},{"$f":"IF('2.Logbook'!E298=\"\",\"\",'2.Logbook'!E298)","v":""},{"$f":"IF('2.Logbook'!F298=\"\",\"\",'2.Logbook'!F298)","v":""},{"$f":"IF('2.Logbook'!G298=\"\",\"\",'2.Logbook'!G298)","v":""},{"$f":"IF('2.Logbook'!H298=\"\",\"\",'2.Logbook'!H298)","v":""},{"$f":"IF('2.Logbook'!I298=\"\",\"\",'2.Logbook'!I298)","v":""},{"$f":"IF('2.Logbook'!J298=\"\",\"\",'2.Logbook'!J298)","v":""},{"$f":"IF('2.Logbook'!K298=\"\",\"\",'2.Logbook'!K298)","v":""},{"$f":"IF('2.Logbook'!L298=\"\",\"\",'2.Logbook'!L298)","v":""},{"$f":"IF('2.Logbook'!M298=\"\",\"\",'2.Logbook'!M298)","v":""},{"$f":"IF('2.Logbook'!N298=\"\",\"\",'2.Logbook'!N298)","v":""},{"$f":"IF('2.Logbook'!O298=\"\",\"\",'2.Logbook'!O298)","v":""},{"$f":"IF('2.Logbook'!P298=\"\",\"\",'2.Logbook'!P298)","v":""},{"$f":"IF('2.Logbook'!Q298=\"\",\"\",'2.Logbook'!Q298)","v":""},{"$f":"IF('2.Logbook'!R298=\"\",\"\",'2.Logbook'!R298)","v":""},{"$f":"IF('2.Logbook'!S298=\"\",\"\",'2.Logbook'!S298)","v":""},{"$f":"IF('2.Logbook'!T298=\"\",\"\",'2.Logbook'!T298)","v":""},{"$f":"IF('2.Logbook'!U298=\"\",\"\",'2.Logbook'!U298)","v":""},{"$f":"IF('2.Logbook'!V298=\"\",\"\",'2.Logbook'!V298)","v":""},{"$f":"IF('2.Logbook'!W298=\"\",\"\",'2.Logbook'!W298)","v":""},{"$f":"IF('2.Logbook'!X298=\"\",\"\",'2.Logbook'!X298)","v":""},{"$f":"IF('2.Logbook'!Y298=\"\",\"\",'2.Logbook'!Y298)","v":""},{"$f":"IF('2.Logbook'!Z298=\"\",\"\",'2.Logbook'!Z298)","v":""},{"$f":"IF('2.Logbook'!AA298=\"\",\"\",'2.Logbook'!AA298)","v":""},{"$f":"IF('2.Logbook'!AB298=\"\",\"\",'2.Logbook'!AB298)","v":""},{"$f":"IF('2.Logbook'!AC298=\"\",\"\",'2.Logbook'!AC298)","v":""},{"$f":"IF('2.Logbook'!AD298=\"\",\"\",'2.Logbook'!AD298)","v":""},{"$f":"IF('2.Logbook'!AE298=\"\",\"\",'2.Logbook'!AE298)","v":""},{"$f":"IF('2.Logbook'!AF298=\"\",\"\",'2.Logbook'!AF298)","v":""},{"$f":"IF('2.Logbook'!AG298=\"\",\"\",'2.Logbook'!AG298)","v":""}]
[{"$f":"IF('2.Logbook'!A299=\"\",\"\",'2.Logbook'!A299)","v":""},{"$f":"IF('2.Logbook'!B299=\"\",\"\",'2.Logbook'!B299)","v":""},{"$f":"IF('2.Logbook'!C299=\"\",\"\",'2.Logbook'!C299)","v":""},{"$f":"IF('2.Logbook'!D299=\"\",\"\",'2.Logbook'!D299)","v":""},{"$f":"IF('2.Logbook'!E299=\"\",\"\",'2.Logbook'!E299)","v":""},{"$f":"IF('2.Logbook'!F299=\"\",\"\",'2.Logbook'!F299)","v":""},{"$f":"IF('2.Logbook'!G299=\"\",\"\",'2.Logbook'!G299)","v":""},{"$f":"IF('2.Logbook'!H299=\"\",\"\",'2.Logbook'!H299)","v":""},{"$f":"IF('2.Logbook'!I299=\"\",\"\",'2.Logbook'!I299)","v":""},{"$f":"IF('2.Logbook'!J299=\"\",\"\",'2.Logbook'!J299)","v":""},{"$f":"IF('2.Logbook'!K299=\"\",\"\",'2.Logbook'!K299)","v":""},{"$f":"IF('2.Logbook'!L299=\"\",\"\",'2.Logbook'!L299)","v":""},{"$f":"IF('2.Logbook'!M299=\"\",\"\",'2.Logbook'!M299)","v":""},{"$f":"IF('2.Logbook'!N299=\"\",\"\",'2.Logbook'!N299)","v":""},{"$f":"IF('2.Logbook'!O299=\"\",\"\",'2.Logbook'!O299)","v":""},{"$f":"IF('2.Logbook'!P299=\"\",\"\",'2.Logbook'!P299)","v":""},{"$f":"IF('2.Logbook'!Q299=\"\",\"\",'2.Logbook'!Q299)","v":""},{"$f":"IF('2.Logbook'!R299=\"\",\"\",'2.Logbook'!R299)","v":""},{"$f":"IF('2.Logbook'!S299=\"\",\"\",'2.Logbook'!S299)","v":""},{"$f":"IF('2.Logbook'!T299=\"\",\"\",'2.Logbook'!T299)","v":""},{"$f":"IF('2.Logbook'!U299=\"\",\"\",'2.Logbook'!U299)","v":""},{"$f":"IF('2.Logbook'!V299=\"\",\"\",'2.Logbook'!V299)","v":""},{"$f":"IF('2.Logbook'!W299=\"\",\"\",'2.Logbook'!W299)","v":""},{"$f":"IF('2.Logbook'!X299=\"\",\"\",'2.Logbook'!X299)","v":""},{"$f":"IF('2.Logbook'!Y299=\"\",\"\",'2.Logbook'!Y299)","v":""},{"$f":"IF('2.Logbook'!Z299=\"\",\"\",'2.Logbook'!Z299)","v":""},{"$f":"IF('2.Logbook'!AA299=\"\",\"\",'2.Logbook'!AA299)","v":""},{"$f":"IF('2.Logbook'!AB299=\"\",\"\",'2.Logbook'!AB299)","v":""},{"$f":"IF('2.Logbook'!AC299=\"\",\"\",'2.Logbook'!AC299)","v":""},{"$f":"IF('2.Logbook'!AD299=\"\",\"\",'2.Logbook'!AD299)","v":""},{"$f":"IF('2.Logbook'!AE299=\"\",\"\",'2.Logbook'!AE299)","v":""},{"$f":"IF('2.Logbook'!AF299=\"\",\"\",'2.Logbook'!AF299)","v":""},{"$f":"IF('2.Logbook'!AG299=\"\",\"\",'2.Logbook'!AG299)","v":""}]
[{"$f":"IF('2.Logbook'!A300=\"\",\"\",'2.Logbook'!A300)","v":""},{"$f":"IF('2.Logbook'!B300=\"\",\"\",'2.Logbook'!B300)","v":""},{"$f":"IF('2.Logbook'!C300=\"\",\"\",'2.Logbook'!C300)","v":""},{"$f":"IF('2.Logbook'!D300=\"\",\"\",'2.Logbook'!D300)","v":""},{"$f":"IF('2.Logbook'!E300=\"\",\"\",'2.Logbook'!E300)","v":""},{"$f":"IF('2.Logbook'!F300=\"\",\"\",'2.Logbook'!F300)","v":""},{"$f":"IF('2.Logbook'!G300=\"\",\"\",'2.Logbook'!G300)","v":""},{"$f":"IF('2.Logbook'!H300=\"\",\"\",'2.Logbook'!H300)","v":""},{"$f":"IF('2.Logbook'!I300=\"\",\"\",'2.Logbook'!I300)","v":""},{"$f":"IF('2.Logbook'!J300=\"\",\"\",'2.Logbook'!J300)","v":""},{"$f":"IF('2.Logbook'!K300=\"\",\"\",'2.Logbook'!K300)","v":""},{"$f":"IF('2.Logbook'!L300=\"\",\"\",'2.Logbook'!L300)","v":""},{"$f":"IF('2.Logbook'!M300=\"\",\"\",'2.Logbook'!M300)","v":""},{"$f":"IF('2.Logbook'!N300=\"\",\"\",'2.Logbook'!N300)","v":""},{"$f":"IF('2.Logbook'!O300=\"\",\"\",'2.Logbook'!O300)","v":""},{"$f":"IF('2.Logbook'!P300=\"\",\"\",'2.Logbook'!P300)","v":""},{"$f":"IF('2.Logbook'!Q300=\"\",\"\",'2.Logbook'!Q300)","v":""},{"$f":"IF('2.Logbook'!R300=\"\",\"\",'2.Logbook'!R300)","v":""},{"$f":"IF('2.Logbook'!S300=\"\",\"\",'2.Logbook'!S300)","v":""},{"$f":"IF('2.Logbook'!T300=\"\",\"\",'2.Logbook'!T300)","v":""},{"$f":"IF('2.Logbook'!U300=\"\",\"\",'2.Logbook'!U300)","v":""},{"$f":"IF('2.Logbook'!V300=\"\",\"\",'2.Logbook'!V300)","v":""},{"$f":"IF('2.Logbook'!W300=\"\",\"\",'2.Logbook'!W300)","v":""},{"$f":"IF('2.Logbook'!X300=\"\",\"\",'2.Logbook'!X300)","v":""},{"$f":"IF('2.Logbook'!Y300=\"\",\"\",'2.Logbook'!Y300)","v":""},{"$f":"IF('2.Logbook'!Z300=\"\",\"\",'2.Logbook'!Z300)","v":""},{"$f":"IF('2.Logbook'!AA300=\"\",\"\",'2.Logbook'!AA300)","v":""},{"$f":"IF('2.Logbook'!AB300=\"\",\"\",'2.Logbook'!AB300)","v":""},{"$f":"IF('2.Logbook'!AC300=\"\",\"\",'2.Logbook'!AC300)","v":""},{"$f":"IF('2.Logbook'!AD300=\"\",\"\",'2.Logbook'!AD300)","v":""},{"$f":"IF('2.Logbook'!AE300=\"\",\"\",'2.Logbook'!AE300)","v":""},{"$f":"IF('2.Logbook'!AF300=\"\",\"\",'2.Logbook'!AF300)","v":""},{"$f":"IF('2.Logbook'!AG300=\"\",\"\",'2.Logbook'!AG300)","v":""}]
[{"$f":"IF('2.Logbook'!A301=\"\",\"\",'2.Logbook'!A301)","v":""},{"$f":"IF('2.Logbook'!B301=\"\",\"\",'2.Logbook'!B301)","v":""},{"$f":"IF('2.Logbook'!C301=\"\",\"\",'2.Logbook'!C301)","v":""},{"$f":"IF('2.Logbook'!D301=\"\",\"\",'2.Logbook'!D301)","v":""},{"$f":"IF('2.Logbook'!E301=\"\",\"\",'2.Logbook'!E301)","v":""},{"$f":"IF('2.Logbook'!F301=\"\",\"\",'2.Logbook'!F301)","v":""},{"$f":"IF('2.Logbook'!G301=\"\",\"\",'2.Logbook'!G301)","v":""},{"$f":"IF('2.Logbook'!H301=\"\",\"\",'2.Logbook'!H301)","v":""},{"$f":"IF('2.Logbook'!I301=\"\",\"\",'2.Logbook'!I301)","v":""},{"$f":"IF('2.Logbook'!J301=\"\",\"\",'2.Logbook'!J301)","v":""},{"$f":"IF('2.Logbook'!K301=\"\",\"\",'2.Logbook'!K301)","v":""},{"$f":"IF('2.Logbook'!L301=\"\",\"\",'2.Logbook'!L301)","v":""},{"$f":"IF('2.Logbook'!M301=\"\",\"\",'2.Logbook'!M301)","v":""},{"$f":"IF('2.Logbook'!N301=\"\",\"\",'2.Logbook'!N301)","v":""},{"$f":"IF('2.Logbook'!O301=\"\",\"\",'2.Logbook'!O301)","v":""},{"$f":"IF('2.Logbook'!P301=\"\",\"\",'2.Logbook'!P301)","v":""},{"$f":"IF('2.Logbook'!Q301=\"\",\"\",'2.Logbook'!Q301)","v":""},{"$f":"IF('2.Logbook'!R301=\"\",\"\",'2.Logbook'!R301)","v":""},{"$f":"IF('2.Logbook'!S301=\"\",\"\",'2.Logbook'!S301)","v":""},{"$f":"IF('2.Logbook'!T301=\"\",\"\",'2.Logbook'!T301)","v":""},{"$f":"IF('2.Logbook'!U301=\"\",\"\",'2.Logbook'!U301)","v":""},{"$f":"IF('2.Logbook'!V301=\"\",\"\",'2.Logbook'!V301)","v":""},{"$f":"IF('2.Logbook'!W301=\"\",\"\",'2.Logbook'!W301)","v":""},{"$f":"IF('2.Logbook'!X301=\"\",\"\",'2.Logbook'!X301)","v":""},{"$f":"IF('2.Logbook'!Y301=\"\",\"\",'2.Logbook'!Y301)","v":""},{"$f":"IF('2.Logbook'!Z301=\"\",\"\",'2.Logbook'!Z301)","v":""},{"$f":"IF('2.Logbook'!AA301=\"\",\"\",'2.Logbook'!AA301)","v":""},{"$f":"IF('2.Logbook'!AB301=\"\",\"\",'2.Logbook'!AB301)","v":""},{"$f":"IF('2.Logbook'!AC301=\"\",\"\",'2.Logbook'!AC301)","v":""},{"$f":"IF('2.Logbook'!AD301=\"\",\"\",'2.Logbook'!AD301)","v":""},{"$f":"IF('2.Logbook'!AE301=\"\",\"\",'2.Logbook'!AE301)","v":""},{"$f":"IF('2.Logbook'!AF301=\"\",\"\",'2.Logbook'!AF301)","v":""},{"$f":"IF('2.Logbook'!AG301=\"\",\"\",'2.Logbook'!AG301)","v":""}]
[{"$f":"IF('2.Logbook'!A302=\"\",\"\",'2.Logbook'!A302)","v":""},{"$f":"IF('2.Logbook'!B302=\"\",\"\",'2.Logbook'!B302)","v":""},{"$f":"IF('2.Logbook'!C302=\"\",\"\",'2.Logbook'!C302)","v":""},{"$f":"IF('2.Logbook'!D302=\"\",\"\",'2.Logbook'!D302)","v":""},{"$f":"IF('2.Logbook'!E302=\"\",\"\",'2.Logbook'!E302)","v":""},{"$f":"IF('2.Logbook'!F302=\"\",\"\",'2.Logbook'!F302)","v":""},{"$f":"IF('2.Logbook'!G302=\"\",\"\",'2.Logbook'!G302)","v":""},{"$f":"IF('2.Logbook'!H302=\"\",\"\",'2.Logbook'!H302)","v":""},{"$f":"IF('2.Logbook'!I302=\"\",\"\",'2.Logbook'!I302)","v":""},{"$f":"IF('2.Logbook'!J302=\"\",\"\",'2.Logbook'!J302)","v":""},{"$f":"IF('2.Logbook'!K302=\"\",\"\",'2.Logbook'!K302)","v":""},{"$f":"IF('2.Logbook'!L302=\"\",\"\",'2.Logbook'!L302)","v":""},{"$f":"IF('2.Logbook'!M302=\"\",\"\",'2.Logbook'!M302)","v":""},{"$f":"IF('2.Logbook'!N302=\"\",\"\",'2.Logbook'!N302)","v":""},{"$f":"IF('2.Logbook'!O302=\"\",\"\",'2.Logbook'!O302)","v":""},{"$f":"IF('2.Logbook'!P302=\"\",\"\",'2.Logbook'!P302)","v":""},{"$f":"IF('2.Logbook'!Q302=\"\",\"\",'2.Logbook'!Q302)","v":""},{"$f":"IF('2.Logbook'!R302=\"\",\"\",'2.Logbook'!R302)","v":""},{"$f":"IF('2.Logbook'!S302=\"\",\"\",'2.Logbook'!S302)","v":""},{"$f":"IF('2.Logbook'!T302=\"\",\"\",'2.Logbook'!T302)","v":""},{"$f":"IF('2.Logbook'!U302=\"\",\"\",'2.Logbook'!U302)","v":""},{"$f":"IF('2.Logbook'!V302=\"\",\"\",'2.Logbook'!V302)","v":""},{"$f":"IF('2.Logbook'!W302=\"\",\"\",'2.Logbook'!W302)","v":""},{"$f":"IF('2.Logbook'!X302=\"\",\"\",'2.Logbook'!X302)","v":""},{"$f":"IF('2.Logbook'!Y302=\"\",\"\",'2.Logbook'!Y302)","v":""},{"$f":"IF('2.Logbook'!Z302=\"\",\"\",'2.Logbook'!Z302)","v":""},{"$f":"IF('2.Logbook'!AA302=\"\",\"\",'2.Logbook'!AA302)","v":""},{"$f":"IF('2.Logbook'!AB302=\"\",\"\",'2.Logbook'!AB302)","v":""},{"$f":"IF('2.Logbook'!AC302=\"\",\"\",'2.Logbook'!AC302)","v":""},{"$f":"IF('2.Logbook'!AD302=\"\",\"\",'2.Logbook'!AD302)","v":""},{"$f":"IF('2.Logbook'!AE302=\"\",\"\",'2.Logbook'!AE302)","v":""},{"$f":"IF('2.Logbook'!AF302=\"\",\"\",'2.Logbook'!AF302)","v":""},{"$f":"IF('2.Logbook'!AG302=\"\",\"\",'2.Logbook'!AG302)","v":""}]
[{"$f":"IF('2.Logbook'!A303=\"\",\"\",'2.Logbook'!A303)","v":""},{"$f":"IF('2.Logbook'!B303=\"\",\"\",'2.Logbook'!B303)","v":""},{"$f":"IF('2.Logbook'!C303=\"\",\"\",'2.Logbook'!C303)","v":""},{"$f":"IF('2.Logbook'!D303=\"\",\"\",'2.Logbook'!D303)","v":""},{"$f":"IF('2.Logbook'!E303=\"\",\"\",'2.Logbook'!E303)","v":""},{"$f":"IF('2.Logbook'!F303=\"\",\"\",'2.Logbook'!F303)","v":""},{"$f":"IF('2.Logbook'!G303=\"\",\"\",'2.Logbook'!G303)","v":""},{"$f":"IF('2.Logbook'!H303=\"\",\"\",'2.Logbook'!H303)","v":""},{"$f":"IF('2.Logbook'!I303=\"\",\"\",'2.Logbook'!I303)","v":""},{"$f":"IF('2.Logbook'!J303=\"\",\"\",'2.Logbook'!J303)","v":""},{"$f":"IF('2.Logbook'!K303=\"\",\"\",'2.Logbook'!K303)","v":""},{"$f":"IF('2.Logbook'!L303=\"\",\"\",'2.Logbook'!L303)","v":""},{"$f":"IF('2.Logbook'!M303=\"\",\"\",'2.Logbook'!M303)","v":""},{"$f":"IF('2.Logbook'!N303=\"\",\"\",'2.Logbook'!N303)","v":""},{"$f":"IF('2.Logbook'!O303=\"\",\"\",'2.Logbook'!O303)","v":""},{"$f":"IF('2.Logbook'!P303=\"\",\"\",'2.Logbook'!P303)","v":""},{"$f":"IF('2.Logbook'!Q303=\"\",\"\",'2.Logbook'!Q303)","v":""},{"$f":"IF('2.Logbook'!R303=\"\",\"\",'2.Logbook'!R303)","v":""},{"$f":"IF('2.Logbook'!S303=\"\",\"\",'2.Logbook'!S303)","v":""},{"$f":"IF('2.Logbook'!T303=\"\",\"\",'2.Logbook'!T303)","v":""},{"$f":"IF('2.Logbook'!U303=\"\",\"\",'2.Logbook'!U303)","v":""},{"$f":"IF('2.Logbook'!V303=\"\",\"\",'2.Logbook'!V303)","v":""},{"$f":"IF('2.Logbook'!W303=\"\",\"\",'2.Logbook'!W303)","v":""},{"$f":"IF('2.Logbook'!X303=\"\",\"\",'2.Logbook'!X303)","v":""},{"$f":"IF('2.Logbook'!Y303=\"\",\"\",'2.Logbook'!Y303)","v":""},{"$f":"IF('2.Logbook'!Z303=\"\",\"\",'2.Logbook'!Z303)","v":""},{"$f":"IF('2.Logbook'!AA303=\"\",\"\",'2.Logbook'!AA303)","v":""},{"$f":"IF('2.Logbook'!AB303=\"\",\"\",'2.Logbook'!AB303)","v":""},{"$f":"IF('2.Logbook'!AC303=\"\",\"\",'2.Logbook'!AC303)","v":""},{"$f":"IF('2.Logbook'!AD303=\"\",\"\",'2.Logbook'!AD303)","v":""},{"$f":"IF('2.Logbook'!AE303=\"\",\"\",'2.Logbook'!AE303)","v":""},{"$f":"IF('2.Logbook'!AF303=\"\",\"\",'2.Logbook'!AF303)","v":""},{"$f":"IF('2.Logbook'!AG303=\"\",\"\",'2.Logbook'!AG303)","v":""}]
[{"$f":"IF('2.Logbook'!A304=\"\",\"\",'2.Logbook'!A304)","v":""},{"$f":"IF('2.Logbook'!B304=\"\",\"\",'2.Logbook'!B304)","v":""},{"$f":"IF('2.Logbook'!C304=\"\",\"\",'2.Logbook'!C304)","v":""},{"$f":"IF('2.Logbook'!D304=\"\",\"\",'2.Logbook'!D304)","v":""},{"$f":"IF('2.Logbook'!E304=\"\",\"\",'2.Logbook'!E304)","v":""},{"$f":"IF('2.Logbook'!F304=\"\",\"\",'2.Logbook'!F304)","v":""},{"$f":"IF('2.Logbook'!G304=\"\",\"\",'2.Logbook'!G304)","v":""},{"$f":"IF('2.Logbook'!H304=\"\",\"\",'2.Logbook'!H304)","v":""},{"$f":"IF('2.Logbook'!I304=\"\",\"\",'2.Logbook'!I304)","v":""},{"$f":"IF('2.Logbook'!J304=\"\",\"\",'2.Logbook'!J304)","v":""},{"$f":"IF('2.Logbook'!K304=\"\",\"\",'2.Logbook'!K304)","v":""},{"$f":"IF('2.Logbook'!L304=\"\",\"\",'2.Logbook'!L304)","v":""},{"$f":"IF('2.Logbook'!M304=\"\",\"\",'2.Logbook'!M304)","v":""},{"$f":"IF('2.Logbook'!N304=\"\",\"\",'2.Logbook'!N304)","v":""},{"$f":"IF('2.Logbook'!O304=\"\",\"\",'2.Logbook'!O304)","v":""},{"$f":"IF('2.Logbook'!P304=\"\",\"\",'2.Logbook'!P304)","v":""},{"$f":"IF('2.Logbook'!Q304=\"\",\"\",'2.Logbook'!Q304)","v":""},{"$f":"IF('2.Logbook'!R304=\"\",\"\",'2.Logbook'!R304)","v":""},{"$f":"IF('2.Logbook'!S304=\"\",\"\",'2.Logbook'!S304)","v":""},{"$f":"IF('2.Logbook'!T304=\"\",\"\",'2.Logbook'!T304)","v":""},{"$f":"IF('2.Logbook'!U304=\"\",\"\",'2.Logbook'!U304)","v":""},{"$f":"IF('2.Logbook'!V304=\"\",\"\",'2.Logbook'!V304)","v":""},{"$f":"IF('2.Logbook'!W304=\"\",\"\",'2.Logbook'!W304)","v":""},{"$f":"IF('2.Logbook'!X304=\"\",\"\",'2.Logbook'!X304)","v":""},{"$f":"IF('2.Logbook'!Y304=\"\",\"\",'2.Logbook'!Y304)","v":""},{"$f":"IF('2.Logbook'!Z304=\"\",\"\",'2.Logbook'!Z304)","v":""},{"$f":"IF('2.Logbook'!AA304=\"\",\"\",'2.Logbook'!AA304)","v":""},{"$f":"IF('2.Logbook'!AB304=\"\",\"\",'2.Logbook'!AB304)","v":""},{"$f":"IF('2.Logbook'!AC304=\"\",\"\",'2.Logbook'!AC304)","v":""},{"$f":"IF('2.Logbook'!AD304=\"\",\"\",'2.Logbook'!AD304)","v":""},{"$f":"IF('2.Logbook'!AE304=\"\",\"\",'2.Logbook'!AE304)","v":""},{"$f":"IF('2.Logbook'!AF304=\"\",\"\",'2.Logbook'!AF304)","v":""},{"$f":"IF('2.Logbook'!AG304=\"\",\"\",'2.Logbook'!AG304)","v":""}]
[{"$f":"IF('2.Logbook'!A305=\"\",\"\",'2.Logbook'!A305)","v":""},{"$f":"IF('2.Logbook'!B305=\"\",\"\",'2.Logbook'!B305)","v":""},{"$f":"IF('2.Logbook'!C305=\"\",\"\",'2.Logbook'!C305)","v":""},{"$f":"IF('2.Logbook'!D305=\"\",\"\",'2.Logbook'!D305)","v":""},{"$f":"IF('2.Logbook'!E305=\"\",\"\",'2.Logbook'!E305)","v":""},{"$f":"IF('2.Logbook'!F305=\"\",\"\",'2.Logbook'!F305)","v":""},{"$f":"IF('2.Logbook'!G305=\"\",\"\",'2.Logbook'!G305)","v":""},{"$f":"IF('2.Logbook'!H305=\"\",\"\",'2.Logbook'!H305)","v":""},{"$f":"IF('2.Logbook'!I305=\"\",\"\",'2.Logbook'!I305)","v":""},{"$f":"IF('2.Logbook'!J305=\"\",\"\",'2.Logbook'!J305)","v":""},{"$f":"IF('2.Logbook'!K305=\"\",\"\",'2.Logbook'!K305)","v":""},{"$f":"IF('2.Logbook'!L305=\"\",\"\",'2.Logbook'!L305)","v":""},{"$f":"IF('2.Logbook'!M305=\"\",\"\",'2.Logbook'!M305)","v":""},{"$f":"IF('2.Logbook'!N305=\"\",\"\",'2.Logbook'!N305)","v":""},{"$f":"IF('2.Logbook'!O305=\"\",\"\",'2.Logbook'!O305)","v":""},{"$f":"IF('2.Logbook'!P305=\"\",\"\",'2.Logbook'!P305)","v":""},{"$f":"IF('2.Logbook'!Q305=\"\",\"\",'2.Logbook'!Q305)","v":""},{"$f":"IF('2.Logbook'!R305=\"\",\"\",'2.Logbook'!R305)","v":""},{"$f":"IF('2.Logbook'!S305=\"\",\"\",'2.Logbook'!S305)","v":""},{"$f":"IF('2.Logbook'!T305=\"\",\"\",'2.Logbook'!T305)","v":""},{"$f":"IF('2.Logbook'!U305=\"\",\"\",'2.Logbook'!U305)","v":""},{"$f":"IF('2.Logbook'!V305=\"\",\"\",'2.Logbook'!V305)","v":""},{"$f":"IF('2.Logbook'!W305=\"\",\"\",'2.Logbook'!W305)","v":""},{"$f":"IF('2.Logbook'!X305=\"\",\"\",'2.Logbook'!X305)","v":""},{"$f":"IF('2.Logbook'!Y305=\"\",\"\",'2.Logbook'!Y305)","v":""},{"$f":"IF('2.Logbook'!Z305=\"\",\"\",'2.Logbook'!Z305)","v":""},{"$f":"IF('2.Logbook'!AA305=\"\",\"\",'2.Logbook'!AA305)","v":""},{"$f":"IF('2.Logbook'!AB305=\"\",\"\",'2.Logbook'!AB305)","v":""},{"$f":"IF('2.Logbook'!AC305=\"\",\"\",'2.Logbook'!AC305)","v":""},{"$f":"IF('2.Logbook'!AD305=\"\",\"\",'2.Logbook'!AD305)","v":""},{"$f":"IF('2.Logbook'!AE305=\"\",\"\",'2.Logbook'!AE305)","v":""},{"$f":"IF('2.Logbook'!AF305=\"\",\"\",'2.Logbook'!AF305)","v":""},{"$f":"IF('2.Logbook'!AG305=\"\",\"\",'2.Logbook'!AG305)","v":""}]
[{"$f":"IF('2.Logbook'!A306=\"\",\"\",'2.Logbook'!A306)","v":""},{"$f":"IF('2.Logbook'!B306=\"\",\"\",'2.Logbook'!B306)","v":""},{"$f":"IF('2.Logbook'!C306=\"\",\"\",'2.Logbook'!C306)","v":""},{"$f":"IF('2.Logbook'!D306=\"\",\"\",'2.Logbook'!D306)","v":""},{"$f":"IF('2.Logbook'!E306=\"\",\"\",'2.Logbook'!E306)","v":""},{"$f":"IF('2.Logbook'!F306=\"\",\"\",'2.Logbook'!F306)","v":""},{"$f":"IF('2.Logbook'!G306=\"\",\"\",'2.Logbook'!G306)","v":""},{"$f":"IF('2.Logbook'!H306=\"\",\"\",'2.Logbook'!H306)","v":""},{"$f":"IF('2.Logbook'!I306=\"\",\"\",'2.Logbook'!I306)","v":""},{"$f":"IF('2.Logbook'!J306=\"\",\"\",'2.Logbook'!J306)","v":""},{"$f":"IF('2.Logbook'!K306=\"\",\"\",'2.Logbook'!K306)","v":""},{"$f":"IF('2.Logbook'!L306=\"\",\"\",'2.Logbook'!L306)","v":""},{"$f":"IF('2.Logbook'!M306=\"\",\"\",'2.Logbook'!M306)","v":""},{"$f":"IF('2.Logbook'!N306=\"\",\"\",'2.Logbook'!N306)","v":""},{"$f":"IF('2.Logbook'!O306=\"\",\"\",'2.Logbook'!O306)","v":""},{"$f":"IF('2.Logbook'!P306=\"\",\"\",'2.Logbook'!P306)","v":""},{"$f":"IF('2.Logbook'!Q306=\"\",\"\",'2.Logbook'!Q306)","v":""},{"$f":"IF('2.Logbook'!R306=\"\",\"\",'2.Logbook'!R306)","v":""},{"$f":"IF('2.Logbook'!S306=\"\",\"\",'2.Logbook'!S306)","v":""},{"$f":"IF('2.Logbook'!T306=\"\",\"\",'2.Logbook'!T306)","v":""},{"$f":"IF('2.Logbook'!U306=\"\",\"\",'2.Logbook'!U306)","v":""},{"$f":"IF('2.Logbook'!V306=\"\",\"\",'2.Logbook'!V306)","v":""},{"$f":"IF('2.Logbook'!W306=\"\",\"\",'2.Logbook'!W306)","v":""},{"$f":"IF('2.Logbook'!X306=\"\",\"\",'2.Logbook'!X306)","v":""},{"$f":"IF('2.Logbook'!Y306=\"\",\"\",'2.Logbook'!Y306)","v":""},{"$f":"IF('2.Logbook'!Z306=\"\",\"\",'2.Logbook'!Z306)","v":""},{"$f":"IF('2.Logbook'!AA306=\"\",\"\",'2.Logbook'!AA306)","v":""},{"$f":"IF('2.Logbook'!AB306=\"\",\"\",'2.Logbook'!AB306)","v":""},{"$f":"IF('2.Logbook'!AC306=\"\",\"\",'2.Logbook'!AC306)","v":""},{"$f":"IF('2.Logbook'!AD306=\"\",\"\",'2.Logbook'!AD306)","v":""},{"$f":"IF('2.Logbook'!AE306=\"\",\"\",'2.Logbook'!AE306)","v":""},{"$f":"IF('2.Logbook'!AF306=\"\",\"\",'2.Logbook'!AF306)","v":""},{"$f":"IF('2.Logbook'!AG306=\"\",\"\",'2.Logbook'!AG306)","v":""}]
[{"$f":"IF('2.Logbook'!A307=\"\",\"\",'2.Logbook'!A307)","v":""},{"$f":"IF('2.Logbook'!B307=\"\",\"\",'2.Logbook'!B307)","v":""},{"$f":"IF('2.Logbook'!C307=\"\",\"\",'2.Logbook'!C307)","v":""},{"$f":"IF('2.Logbook'!D307=\"\",\"\",'2.Logbook'!D307)","v":""},{"$f":"IF('2.Logbook'!E307=\"\",\"\",'2.Logbook'!E307)","v":""},{"$f":"IF('2.Logbook'!F307=\"\",\"\",'2.Logbook'!F307)","v":""},{"$f":"IF('2.Logbook'!G307=\"\",\"\",'2.Logbook'!G307)","v":""},{"$f":"IF('2.Logbook'!H307=\"\",\"\",'2.Logbook'!H307)","v":""},{"$f":"IF('2.Logbook'!I307=\"\",\"\",'2.Logbook'!I307)","v":""},{"$f":"IF('2.Logbook'!J307=\"\",\"\",'2.Logbook'!J307)","v":""},{"$f":"IF('2.Logbook'!K307=\"\",\"\",'2.Logbook'!K307)","v":""},{"$f":"IF('2.Logbook'!L307=\"\",\"\",'2.Logbook'!L307)","v":""},{"$f":"IF('2.Logbook'!M307=\"\",\"\",'2.Logbook'!M307)","v":""},{"$f":"IF('2.Logbook'!N307=\"\",\"\",'2.Logbook'!N307)","v":""},{"$f":"IF('2.Logbook'!O307=\"\",\"\",'2.Logbook'!O307)","v":""},{"$f":"IF('2.Logbook'!P307=\"\",\"\",'2.Logbook'!P307)","v":""},{"$f":"IF('2.Logbook'!Q307=\"\",\"\",'2.Logbook'!Q307)","v":""},{"$f":"IF('2.Logbook'!R307=\"\",\"\",'2.Logbook'!R307)","v":""},{"$f":"IF('2.Logbook'!S307=\"\",\"\",'2.Logbook'!S307)","v":""},{"$f":"IF('2.Logbook'!T307=\"\",\"\",'2.Logbook'!T307)","v":""},{"$f":"IF('2.Logbook'!U307=\"\",\"\",'2.Logbook'!U307)","v":""},{"$f":"IF('2.Logbook'!V307=\"\",\"\",'2.Logbook'!V307)","v":""},{"$f":"IF('2.Logbook'!W307=\"\",\"\",'2.Logbook'!W307)","v":""},{"$f":"IF('2.Logbook'!X307=\"\",\"\",'2.Logbook'!X307)","v":""},{"$f":"IF('2.Logbook'!Y307=\"\",\"\",'2.Logbook'!Y307)","v":""},{"$f":"IF('2.Logbook'!Z307=\"\",\"\",'2.Logbook'!Z307)","v":""},{"$f":"IF('2.Logbook'!AA307=\"\",\"\",'2.Logbook'!AA307)","v":""},{"$f":"IF('2.Logbook'!AB307=\"\",\"\",'2.Logbook'!AB307)","v":""},{"$f":"IF('2.Logbook'!AC307=\"\",\"\",'2.Logbook'!AC307)","v":""},{"$f":"IF('2.Logbook'!AD307=\"\",\"\",'2.Logbook'!AD307)","v":""},{"$f":"IF('2.Logbook'!AE307=\"\",\"\",'2.Logbook'!AE307)","v":""},{"$f":"IF('2.Logbook'!AF307=\"\",\"\",'2.Logbook'!AF307)","v":""},{"$f":"IF('2.Logbook'!AG307=\"\",\"\",'2.Logbook'!AG307)","v":""}]
[{"$f":"IF('2.Logbook'!A308=\"\",\"\",'2.Logbook'!A308)","v":""},{"$f":"IF('2.Logbook'!B308=\"\",\"\",'2.Logbook'!B308)","v":""},{"$f":"IF('2.Logbook'!C308=\"\",\"\",'2.Logbook'!C308)","v":""},{"$f":"IF('2.Logbook'!D308=\"\",\"\",'2.Logbook'!D308)","v":""},{"$f":"IF('2.Logbook'!E308=\"\",\"\",'2.Logbook'!E308)","v":""},{"$f":"IF('2.Logbook'!F308=\"\",\"\",'2.Logbook'!F308)","v":""},{"$f":"IF('2.Logbook'!G308=\"\",\"\",'2.Logbook'!G308)","v":""},{"$f":"IF('2.Logbook'!H308=\"\",\"\",'2.Logbook'!H308)","v":""},{"$f":"IF('2.Logbook'!I308=\"\",\"\",'2.Logbook'!I308)","v":""},{"$f":"IF('2.Logbook'!J308=\"\",\"\",'2.Logbook'!J308)","v":""},{"$f":"IF('2.Logbook'!K308=\"\",\"\",'2.Logbook'!K308)","v":""},{"$f":"IF('2.Logbook'!L308=\"\",\"\",'2.Logbook'!L308)","v":""},{"$f":"IF('2.Logbook'!M308=\"\",\"\",'2.Logbook'!M308)","v":""},{"$f":"IF('2.Logbook'!N308=\"\",\"\",'2.Logbook'!N308)","v":""},{"$f":"IF('2.Logbook'!O308=\"\",\"\",'2.Logbook'!O308)","v":""},{"$f":"IF('2.Logbook'!P308=\"\",\"\",'2.Logbook'!P308)","v":""},{"$f":"IF('2.Logbook'!Q308=\"\",\"\",'2.Logbook'!Q308)","v":""},{"$f":"IF('2.Logbook'!R308=\"\",\"\",'2.Logbook'!R308)","v":""},{"$f":"IF('2.Logbook'!S308=\"\",\"\",'2.Logbook'!S308)","v":""},{"$f":"IF('2.Logbook'!T308=\"\",\"\",'2.Logbook'!T308)","v":""},{"$f":"IF('2.Logbook'!U308=\"\",\"\",'2.Logbook'!U308)","v":""},{"$f":"IF('2.Logbook'!V308=\"\",\"\",'2.Logbook'!V308)","v":""},{"$f":"IF('2.Logbook'!W308=\"\",\"\",'2.Logbook'!W308)","v":""},{"$f":"IF('2.Logbook'!X308=\"\",\"\",'2.Logbook'!X308)","v":""},{"$f":"IF('2.Logbook'!Y308=\"\",\"\",'2.Logbook'!Y308)","v":""},{"$f":"IF('2.Logbook'!Z308=\"\",\"\",'2.Logbook'!Z308)","v":""},{"$f":"IF('2.Logbook'!AA308=\"\",\"\",'2.Logbook'!AA308)","v":""},{"$f":"IF('2.Logbook'!AB308=\"\",\"\",'2.Logbook'!AB308)","v":""},{"$f":"IF('2.Logbook'!AC308=\"\",\"\",'2.Logbook'!AC308)","v":""},{"$f":"IF('2.Logbook'!AD308=\"\",\"\",'2.Logbook'!AD308)","v":""},{"$f":"IF('2.Logbook'!AE308=\"\",\"\",'2.Logbook'!AE308)","v":""},{"$f":"IF('2.Logbook'!AF308=\"\",\"\",'2.Logbook'!AF308)","v":""},{"$f":"IF('2.Logbook'!AG308=\"\",\"\",'2.Logbook'!AG308)","v":""}]
[{"$f":"IF('2.Logbook'!A309=\"\",\"\",'2.Logbook'!A309)","v":""},{"$f":"IF('2.Logbook'!B309=\"\",\"\",'2.Logbook'!B309)","v":""},{"$f":"IF('2.Logbook'!C309=\"\",\"\",'2.Logbook'!C309)","v":""},{"$f":"IF('2.Logbook'!D309=\"\",\"\",'2.Logbook'!D309)","v":""},{"$f":"IF('2.Logbook'!E309=\"\",\"\",'2.Logbook'!E309)","v":""},{"$f":"IF('2.Logbook'!F309=\"\",\"\",'2.Logbook'!F309)","v":""},{"$f":"IF('2.Logbook'!G309=\"\",\"\",'2.Logbook'!G309)","v":""},{"$f":"IF('2.Logbook'!H309=\"\",\"\",'2.Logbook'!H309)","v":""},{"$f":"IF('2.Logbook'!I309=\"\",\"\",'2.Logbook'!I309)","v":""},{"$f":"IF('2.Logbook'!J309=\"\",\"\",'2.Logbook'!J309)","v":""},{"$f":"IF('2.Logbook'!K309=\"\",\"\",'2.Logbook'!K309)","v":""},{"$f":"IF('2.Logbook'!L309=\"\",\"\",'2.Logbook'!L309)","v":""},{"$f":"IF('2.Logbook'!M309=\"\",\"\",'2.Logbook'!M309)","v":""},{"$f":"IF('2.Logbook'!N309=\"\",\"\",'2.Logbook'!N309)","v":""},{"$f":"IF('2.Logbook'!O309=\"\",\"\",'2.Logbook'!O309)","v":""},{"$f":"IF('2.Logbook'!P309=\"\",\"\",'2.Logbook'!P309)","v":""},{"$f":"IF('2.Logbook'!Q309=\"\",\"\",'2.Logbook'!Q309)","v":""},{"$f":"IF('2.Logbook'!R309=\"\",\"\",'2.Logbook'!R309)","v":""},{"$f":"IF('2.Logbook'!S309=\"\",\"\",'2.Logbook'!S309)","v":""},{"$f":"IF('2.Logbook'!T309=\"\",\"\",'2.Logbook'!T309)","v":""},{"$f":"IF('2.Logbook'!U309=\"\",\"\",'2.Logbook'!U309)","v":""},{"$f":"IF('2.Logbook'!V309=\"\",\"\",'2.Logbook'!V309)","v":""},{"$f":"IF('2.Logbook'!W309=\"\",\"\",'2.Logbook'!W309)","v":""},{"$f":"IF('2.Logbook'!X309=\"\",\"\",'2.Logbook'!X309)","v":""},{"$f":"IF('2.Logbook'!Y309=\"\",\"\",'2.Logbook'!Y309)","v":""},{"$f":"IF('2.Logbook'!Z309=\"\",\"\",'2.Logbook'!Z309)","v":""},{"$f":"IF('2.Logbook'!AA309=\"\",\"\",'2.Logbook'!AA309)","v":""},{"$f":"IF('2.Logbook'!AB309=\"\",\"\",'2.Logbook'!AB309)","v":""},{"$f":"IF('2.Logbook'!AC309=\"\",\"\",'2.Logbook'!AC309)","v":""},{"$f":"IF('2.Logbook'!AD309=\"\",\"\",'2.Logbook'!AD309)","v":""},{"$f":"IF('2.Logbook'!AE309=\"\",\"\",'2.Logbook'!AE309)","v":""},{"$f":"IF('2.Logbook'!AF309=\"\",\"\",'2.Logbook'!AF309)","v":""},{"$f":"IF('2.Logbook'!AG309=\"\",\"\",'2.Logbook'!AG309)","v":""}]
[{"$f":"IF('2.Logbook'!A310=\"\",\"\",'2.Logbook'!A310)","v":""},{"$f":"IF('2.Logbook'!B310=\"\",\"\",'2.Logbook'!B310)","v":""},{"$f":"IF('2.Logbook'!C310=\"\",\"\",'2.Logbook'!C310)","v":""},{"$f":"IF('2.Logbook'!D310=\"\",\"\",'2.Logbook'!D310)","v":""},{"$f":"IF('2.Logbook'!E310=\"\",\"\",'2.Logbook'!E310)","v":""},{"$f":"IF('2.Logbook'!F310=\"\",\"\",'2.Logbook'!F310)","v":""},{"$f":"IF('2.Logbook'!G310=\"\",\"\",'2.Logbook'!G310)","v":""},{"$f":"IF('2.Logbook'!H310=\"\",\"\",'2.Logbook'!H310)","v":""},{"$f":"IF('2.Logbook'!I310=\"\",\"\",'2.Logbook'!I310)","v":""},{"$f":"IF('2.Logbook'!J310=\"\",\"\",'2.Logbook'!J310)","v":""},{"$f":"IF('2.Logbook'!K310=\"\",\"\",'2.Logbook'!K310)","v":""},{"$f":"IF('2.Logbook'!L310=\"\",\"\",'2.Logbook'!L310)","v":""},{"$f":"IF('2.Logbook'!M310=\"\",\"\",'2.Logbook'!M310)","v":""},{"$f":"IF('2.Logbook'!N310=\"\",\"\",'2.Logbook'!N310)","v":""},{"$f":"IF('2.Logbook'!O310=\"\",\"\",'2.Logbook'!O310)","v":""},{"$f":"IF('2.Logbook'!P310=\"\",\"\",'2.Logbook'!P310)","v":""},{"$f":"IF('2.Logbook'!Q310=\"\",\"\",'2.Logbook'!Q310)","v":""},{"$f":"IF('2.Logbook'!R310=\"\",\"\",'2.Logbook'!R310)","v":""},{"$f":"IF('2.Logbook'!S310=\"\",\"\",'2.Logbook'!S310)","v":""},{"$f":"IF('2.Logbook'!T310=\"\",\"\",'2.Logbook'!T310)","v":""},{"$f":"IF('2.Logbook'!U310=\"\",\"\",'2.Logbook'!U310)","v":""},{"$f":"IF('2.Logbook'!V310=\"\",\"\",'2.Logbook'!V310)","v":""},{"$f":"IF('2.Logbook'!W310=\"\",\"\",'2.Logbook'!W310)","v":""},{"$f":"IF('2.Logbook'!X310=\"\",\"\",'2.Logbook'!X310)","v":""},{"$f":"IF('2.Logbook'!Y310=\"\",\"\",'2.Logbook'!Y310)","v":""},{"$f":"IF('2.Logbook'!Z310=\"\",\"\",'2.Logbook'!Z310)","v":""},{"$f":"IF('2.Logbook'!AA310=\"\",\"\",'2.Logbook'!AA310)","v":""},{"$f":"IF('2.Logbook'!AB310=\"\",\"\",'2.Logbook'!AB310)","v":""},{"$f":"IF('2.Logbook'!AC310=\"\",\"\",'2.Logbook'!AC310)","v":""},{"$f":"IF('2.Logbook'!AD310=\"\",\"\",'2.Logbook'!AD310)","v":""},{"$f":"IF('2.Logbook'!AE310=\"\",\"\",'2.Logbook'!AE310)","v":""},{"$f":"IF('2.Logbook'!AF310=\"\",\"\",'2.Logbook'!AF310)","v":""},{"$f":"IF('2.Logbook'!AG310=\"\",\"\",'2.Logbook'!AG310)","v":""}]
[{"$f":"IF('2.Logbook'!A311=\"\",\"\",'2.Logbook'!A311)","v":""},{"$f":"IF('2.Logbook'!B311=\"\",\"\",'2.Logbook'!B311)","v":""},{"$f":"IF('2.Logbook'!C311=\"\",\"\",'2.Logbook'!C311)","v":""},{"$f":"IF('2.Logbook'!D311=\"\",\"\",'2.Logbook'!D311)","v":""},{"$f":"IF('2.Logbook'!E311=\"\",\"\",'2.Logbook'!E311)","v":""},{"$f":"IF('2.Logbook'!F311=\"\",\"\",'2.Logbook'!F311)","v":""},{"$f":"IF('2.Logbook'!G311=\"\",\"\",'2.Logbook'!G311)","v":""},{"$f":"IF('2.Logbook'!H311=\"\",\"\",'2.Logbook'!H311)","v":""},{"$f":"IF('2.Logbook'!I311=\"\",\"\",'2.Logbook'!I311)","v":""},{"$f":"IF('2.Logbook'!J311=\"\",\"\",'2.Logbook'!J311)","v":""},{"$f":"IF('2.Logbook'!K311=\"\",\"\",'2.Logbook'!K311)","v":""},{"$f":"IF('2.Logbook'!L311=\"\",\"\",'2.Logbook'!L311)","v":""},{"$f":"IF('2.Logbook'!M311=\"\",\"\",'2.Logbook'!M311)","v":""},{"$f":"IF('2.Logbook'!N311=\"\",\"\",'2.Logbook'!N311)","v":""},{"$f":"IF('2.Logbook'!O311=\"\",\"\",'2.Logbook'!O311)","v":""},{"$f":"IF('2.Logbook'!P311=\"\",\"\",'2.Logbook'!P311)","v":""},{"$f":"IF('2.Logbook'!Q311=\"\",\"\",'2.Logbook'!Q311)","v":""},{"$f":"IF('2.Logbook'!R311=\"\",\"\",'2.Logbook'!R311)","v":""},{"$f":"IF('2.Logbook'!S311=\"\",\"\",'2.Logbook'!S311)","v":""},{"$f":"IF('2.Logbook'!T311=\"\",\"\",'2.Logbook'!T311)","v":""},{"$f":"IF('2.Logbook'!U311=\"\",\"\",'2.Logbook'!U311)","v":""},{"$f":"IF('2.Logbook'!V311=\"\",\"\",'2.Logbook'!V311)","v":""},{"$f":"IF('2.Logbook'!W311=\"\",\"\",'2.Logbook'!W311)","v":""},{"$f":"IF('2.Logbook'!X311=\"\",\"\",'2.Logbook'!X311)","v":""},{"$f":"IF('2.Logbook'!Y311=\"\",\"\",'2.Logbook'!Y311)","v":""},{"$f":"IF('2.Logbook'!Z311=\"\",\"\",'2.Logbook'!Z311)","v":""},{"$f":"IF('2.Logbook'!AA311=\"\",\"\",'2.Logbook'!AA311)","v":""},{"$f":"IF('2.Logbook'!AB311=\"\",\"\",'2.Logbook'!AB311)","v":""},{"$f":"IF('2.Logbook'!AC311=\"\",\"\",'2.Logbook'!AC311)","v":""},{"$f":"IF('2.Logbook'!AD311=\"\",\"\",'2.Logbook'!AD311)","v":""},{"$f":"IF('2.Logbook'!AE311=\"\",\"\",'2.Logbook'!AE311)","v":""},{"$f":"IF('2.Logbook'!AF311=\"\",\"\",'2.Logbook'!AF311)","v":""},{"$f":"IF('2.Logbook'!AG311=\"\",\"\",'2.Logbook'!AG311)","v":""}]
[{"$f":"IF('2.Logbook'!A312=\"\",\"\",'2.Logbook'!A312)","v":""},{"$f":"IF('2.Logbook'!B312=\"\",\"\",'2.Logbook'!B312)","v":""},{"$f":"IF('2.Logbook'!C312=\"\",\"\",'2.Logbook'!C312)","v":""},{"$f":"IF('2.Logbook'!D312=\"\",\"\",'2.Logbook'!D312)","v":""},{"$f":"IF('2.Logbook'!E312=\"\",\"\",'2.Logbook'!E312)","v":""},{"$f":"IF('2.Logbook'!F312=\"\",\"\",'2.Logbook'!F312)","v":""},{"$f":"IF('2.Logbook'!G312=\"\",\"\",'2.Logbook'!G312)","v":""},{"$f":"IF('2.Logbook'!H312=\"\",\"\",'2.Logbook'!H312)","v":""},{"$f":"IF('2.Logbook'!I312=\"\",\"\",'2.Logbook'!I312)","v":""},{"$f":"IF('2.Logbook'!J312=\"\",\"\",'2.Logbook'!J312)","v":""},{"$f":"IF('2.Logbook'!K312=\"\",\"\",'2.Logbook'!K312)","v":""},{"$f":"IF('2.Logbook'!L312=\"\",\"\",'2.Logbook'!L312)","v":""},{"$f":"IF('2.Logbook'!M312=\"\",\"\",'2.Logbook'!M312)","v":""},{"$f":"IF('2.Logbook'!N312=\"\",\"\",'2.Logbook'!N312)","v":""},{"$f":"IF('2.Logbook'!O312=\"\",\"\",'2.Logbook'!O312)","v":""},{"$f":"IF('2.Logbook'!P312=\"\",\"\",'2.Logbook'!P312)","v":""},{"$f":"IF('2.Logbook'!Q312=\"\",\"\",'2.Logbook'!Q312)","v":""},{"$f":"IF('2.Logbook'!R312=\"\",\"\",'2.Logbook'!R312)","v":""},{"$f":"IF('2.Logbook'!S312=\"\",\"\",'2.Logbook'!S312)","v":""},{"$f":"IF('2.Logbook'!T312=\"\",\"\",'2.Logbook'!T312)","v":""},{"$f":"IF('2.Logbook'!U312=\"\",\"\",'2.Logbook'!U312)","v":""},{"$f":"IF('2.Logbook'!V312=\"\",\"\",'2.Logbook'!V312)","v":""},{"$f":"IF('2.Logbook'!W312=\"\",\"\",'2.Logbook'!W312)","v":""},{"$f":"IF('2.Logbook'!X312=\"\",\"\",'2.Logbook'!X312)","v":""},{"$f":"IF('2.Logbook'!Y312=\"\",\"\",'2.Logbook'!Y312)","v":""},{"$f":"IF('2.Logbook'!Z312=\"\",\"\",'2.Logbook'!Z312)","v":""},{"$f":"IF('2.Logbook'!AA312=\"\",\"\",'2.Logbook'!AA312)","v":""},{"$f":"IF('2.Logbook'!AB312=\"\",\"\",'2.Logbook'!AB312)","v":""},{"$f":"IF('2.Logbook'!AC312=\"\",\"\",'2.Logbook'!AC312)","v":""},{"$f":"IF('2.Logbook'!AD312=\"\",\"\",'2.Logbook'!AD312)","v":""},{"$f":"IF('2.Logbook'!AE312=\"\",\"\",'2.Logbook'!AE312)","v":""},{"$f":"IF('2.Logbook'!AF312=\"\",\"\",'2.Logbook'!AF312)","v":""},{"$f":"IF('2.Logbook'!AG312=\"\",\"\",'2.Logbook'!AG312)","v":""}]
[{"$f":"IF('2.Logbook'!A313=\"\",\"\",'2.Logbook'!A313)","v":""},{"$f":"IF('2.Logbook'!B313=\"\",\"\",'2.Logbook'!B313)","v":""},{"$f":"IF('2.Logbook'!C313=\"\",\"\",'2.Logbook'!C313)","v":""},{"$f":"IF('2.Logbook'!D313=\"\",\"\",'2.Logbook'!D313)","v":""},{"$f":"IF('2.Logbook'!E313=\"\",\"\",'2.Logbook'!E313)","v":""},{"$f":"IF('2.Logbook'!F313=\"\",\"\",'2.Logbook'!F313)","v":""},{"$f":"IF('2.Logbook'!G313=\"\",\"\",'2.Logbook'!G313)","v":""},{"$f":"IF('2.Logbook'!H313=\"\",\"\",'2.Logbook'!H313)","v":""},{"$f":"IF('2.Logbook'!I313=\"\",\"\",'2.Logbook'!I313)","v":""},{"$f":"IF('2.Logbook'!J313=\"\",\"\",'2.Logbook'!J313)","v":""},{"$f":"IF('2.Logbook'!K313=\"\",\"\",'2.Logbook'!K313)","v":""},{"$f":"IF('2.Logbook'!L313=\"\",\"\",'2.Logbook'!L313)","v":""},{"$f":"IF('2.Logbook'!M313=\"\",\"\",'2.Logbook'!M313)","v":""},{"$f":"IF('2.Logbook'!N313=\"\",\"\",'2.Logbook'!N313)","v":""},{"$f":"IF('2.Logbook'!O313=\"\",\"\",'2.Logbook'!O313)","v":""},{"$f":"IF('2.Logbook'!P313=\"\",\"\",'2.Logbook'!P313)","v":""},{"$f":"IF('2.Logbook'!Q313=\"\",\"\",'2.Logbook'!Q313)","v":""},{"$f":"IF('2.Logbook'!R313=\"\",\"\",'2.Logbook'!R313)","v":""},{"$f":"IF('2.Logbook'!S313=\"\",\"\",'2.Logbook'!S313)","v":""},{"$f":"IF('2.Logbook'!T313=\"\",\"\",'2.Logbook'!T313)","v":""},{"$f":"IF('2.Logbook'!U313=\"\",\"\",'2.Logbook'!U313)","v":""},{"$f":"IF('2.Logbook'!V313=\"\",\"\",'2.Logbook'!V313)","v":""},{"$f":"IF('2.Logbook'!W313=\"\",\"\",'2.Logbook'!W313)","v":""},{"$f":"IF('2.Logbook'!X313=\"\",\"\",'2.Logbook'!X313)","v":""},{"$f":"IF('2.Logbook'!Y313=\"\",\"\",'2.Logbook'!Y313)","v":""},{"$f":"IF('2.Logbook'!Z313=\"\",\"\",'2.Logbook'!Z313)","v":""},{"$f":"IF('2.Logbook'!AA313=\"\",\"\",'2.Logbook'!AA313)","v":""},{"$f":"IF('2.Logbook'!AB313=\"\",\"\",'2.Logbook'!AB313)","v":""},{"$f":"IF('2.Logbook'!AC313=\"\",\"\",'2.Logbook'!AC313)","v":""},{"$f":"IF('2.Logbook'!AD313=\"\",\"\",'2.Logbook'!AD313)","v":""},{"$f":"IF('2.Logbook'!AE313=\"\",\"\",'2.Logbook'!AE313)","v":""},{"$f":"IF('2.Logbook'!AF313=\"\",\"\",'2.Logbook'!AF313)","v":""},{"$f":"IF('2.Logbook'!AG313=\"\",\"\",'2.Logbook'!AG313)","v":""}]
[{"$f":"IF('2.Logbook'!A314=\"\",\"\",'2.Logbook'!A314)","v":""},{"$f":"IF('2.Logbook'!B314=\"\",\"\",'2.Logbook'!B314)","v":""},{"$f":"IF('2.Logbook'!C314=\"\",\"\",'2.Logbook'!C314)","v":""},{"$f":"IF('2.Logbook'!D314=\"\",\"\",'2.Logbook'!D314)","v":""},{"$f":"IF('2.Logbook'!E314=\"\",\"\",'2.Logbook'!E314)","v":""},{"$f":"IF('2.Logbook'!F314=\"\",\"\",'2.Logbook'!F314)","v":""},{"$f":"IF('2.Logbook'!G314=\"\",\"\",'2.Logbook'!G314)","v":""},{"$f":"IF('2.Logbook'!H314=\"\",\"\",'2.Logbook'!H314)","v":""},{"$f":"IF('2.Logbook'!I314=\"\",\"\",'2.Logbook'!I314)","v":""},{"$f":"IF('2.Logbook'!J314=\"\",\"\",'2.Logbook'!J314)","v":""},{"$f":"IF('2.Logbook'!K314=\"\",\"\",'2.Logbook'!K314)","v":""},{"$f":"IF('2.Logbook'!L314=\"\",\"\",'2.Logbook'!L314)","v":""},{"$f":"IF('2.Logbook'!M314=\"\",\"\",'2.Logbook'!M314)","v":""},{"$f":"IF('2.Logbook'!N314=\"\",\"\",'2.Logbook'!N314)","v":""},{"$f":"IF('2.Logbook'!O314=\"\",\"\",'2.Logbook'!O314)","v":""},{"$f":"IF('2.Logbook'!P314=\"\",\"\",'2.Logbook'!P314)","v":""},{"$f":"IF('2.Logbook'!Q314=\"\",\"\",'2.Logbook'!Q314)","v":""},{"$f":"IF('2.Logbook'!R314=\"\",\"\",'2.Logbook'!R314)","v":""},{"$f":"IF('2.Logbook'!S314=\"\",\"\",'2.Logbook'!S314)","v":""},{"$f":"IF('2.Logbook'!T314=\"\",\"\",'2.Logbook'!T314)","v":""},{"$f":"IF('2.Logbook'!U314=\"\",\"\",'2.Logbook'!U314)","v":""},{"$f":"IF('2.Logbook'!V314=\"\",\"\",'2.Logbook'!V314)","v":""},{"$f":"IF('2.Logbook'!W314=\"\",\"\",'2.Logbook'!W314)","v":""},{"$f":"IF('2.Logbook'!X314=\"\",\"\",'2.Logbook'!X314)","v":""},{"$f":"IF('2.Logbook'!Y314=\"\",\"\",'2.Logbook'!Y314)","v":""},{"$f":"IF('2.Logbook'!Z314=\"\",\"\",'2.Logbook'!Z314)","v":""},{"$f":"IF('2.Logbook'!AA314=\"\",\"\",'2.Logbook'!AA314)","v":""},{"$f":"IF('2.Logbook'!AB314=\"\",\"\",'2.Logbook'!AB314)","v":""},{"$f":"IF('2.Logbook'!AC314=\"\",\"\",'2.Logbook'!AC314)","v":""},{"$f":"IF('2.Logbook'!AD314=\"\",\"\",'2.Logbook'!AD314)","v":""},{"$f":"IF('2.Logbook'!AE314=\"\",\"\",'2.Logbook'!AE314)","v":""},{"$f":"IF('2.Logbook'!AF314=\"\",\"\",'2.Logbook'!AF314)","v":""},{"$f":"IF('2.Logbook'!AG314=\"\",\"\",'2.Logbook'!AG314)","v":""}]
[{"$f":"IF('2.Logbook'!A315=\"\",\"\",'2.Logbook'!A315)","v":""},{"$f":"IF('2.Logbook'!B315=\"\",\"\",'2.Logbook'!B315)","v":""},{"$f":"IF('2.Logbook'!C315=\"\",\"\",'2.Logbook'!C315)","v":""},{"$f":"IF('2.Logbook'!D315=\"\",\"\",'2.Logbook'!D315)","v":""},{"$f":"IF('2.Logbook'!E315=\"\",\"\",'2.Logbook'!E315)","v":""},{"$f":"IF('2.Logbook'!F315=\"\",\"\",'2.Logbook'!F315)","v":""},{"$f":"IF('2.Logbook'!G315=\"\",\"\",'2.Logbook'!G315)","v":""},{"$f":"IF('2.Logbook'!H315=\"\",\"\",'2.Logbook'!H315)","v":""},{"$f":"IF('2.Logbook'!I315=\"\",\"\",'2.Logbook'!I315)","v":""},{"$f":"IF('2.Logbook'!J315=\"\",\"\",'2.Logbook'!J315)","v":""},{"$f":"IF('2.Logbook'!K315=\"\",\"\",'2.Logbook'!K315)","v":""},{"$f":"IF('2.Logbook'!L315=\"\",\"\",'2.Logbook'!L315)","v":""},{"$f":"IF('2.Logbook'!M315=\"\",\"\",'2.Logbook'!M315)","v":""},{"$f":"IF('2.Logbook'!N315=\"\",\"\",'2.Logbook'!N315)","v":""},{"$f":"IF('2.Logbook'!O315=\"\",\"\",'2.Logbook'!O315)","v":""},{"$f":"IF('2.Logbook'!P315=\"\",\"\",'2.Logbook'!P315)","v":""},{"$f":"IF('2.Logbook'!Q315=\"\",\"\",'2.Logbook'!Q315)","v":""},{"$f":"IF('2.Logbook'!R315=\"\",\"\",'2.Logbook'!R315)","v":""},{"$f":"IF('2.Logbook'!S315=\"\",\"\",'2.Logbook'!S315)","v":""},{"$f":"IF('2.Logbook'!T315=\"\",\"\",'2.Logbook'!T315)","v":""},{"$f":"IF('2.Logbook'!U315=\"\",\"\",'2.Logbook'!U315)","v":""},{"$f":"IF('2.Logbook'!V315=\"\",\"\",'2.Logbook'!V315)","v":""},{"$f":"IF('2.Logbook'!W315=\"\",\"\",'2.Logbook'!W315)","v":""},{"$f":"IF('2.Logbook'!X315=\"\",\"\",'2.Logbook'!X315)","v":""},{"$f":"IF('2.Logbook'!Y315=\"\",\"\",'2.Logbook'!Y315)","v":""},{"$f":"IF('2.Logbook'!Z315=\"\",\"\",'2.Logbook'!Z315)","v":""},{"$f":"IF('2.Logbook'!AA315=\"\",\"\",'2.Logbook'!AA315)","v":""},{"$f":"IF('2.Logbook'!AB315=\"\",\"\",'2.Logbook'!AB315)","v":""},{"$f":"IF('2.Logbook'!AC315=\"\",\"\",'2.Logbook'!AC315)","v":""},{"$f":"IF('2.Logbook'!AD315=\"\",\"\",'2.Logbook'!AD315)","v":""},{"$f":"IF('2.Logbook'!AE315=\"\",\"\",'2.Logbook'!AE315)","v":""},{"$f":"IF('2.Logbook'!AF315=\"\",\"\",'2.Logbook'!AF315)","v":""},{"$f":"IF('2.Logbook'!AG315=\"\",\"\",'2.Logbook'!AG315)","v":""}]
[{"$f":"IF('2.Logbook'!A316=\"\",\"\",'2.Logbook'!A316)","v":""},{"$f":"IF('2.Logbook'!B316=\"\",\"\",'2.Logbook'!B316)","v":""},{"$f":"IF('2.Logbook'!C316=\"\",\"\",'2.Logbook'!C316)","v":""},{"$f":"IF('2.Logbook'!D316=\"\",\"\",'2.Logbook'!D316)","v":""},{"$f":"IF('2.Logbook'!E316=\"\",\"\",'2.Logbook'!E316)","v":""},{"$f":"IF('2.Logbook'!F316=\"\",\"\",'2.Logbook'!F316)","v":""},{"$f":"IF('2.Logbook'!G316=\"\",\"\",'2.Logbook'!G316)","v":""},{"$f":"IF('2.Logbook'!H316=\"\",\"\",'2.Logbook'!H316)","v":""},{"$f":"IF('2.Logbook'!I316=\"\",\"\",'2.Logbook'!I316)","v":""},{"$f":"IF('2.Logbook'!J316=\"\",\"\",'2.Logbook'!J316)","v":""},{"$f":"IF('2.Logbook'!K316=\"\",\"\",'2.Logbook'!K316)","v":""},{"$f":"IF('2.Logbook'!L316=\"\",\"\",'2.Logbook'!L316)","v":""},{"$f":"IF('2.Logbook'!M316=\"\",\"\",'2.Logbook'!M316)","v":""},{"$f":"IF('2.Logbook'!N316=\"\",\"\",'2.Logbook'!N316)","v":""},{"$f":"IF('2.Logbook'!O316=\"\",\"\",'2.Logbook'!O316)","v":""},{"$f":"IF('2.Logbook'!P316=\"\",\"\",'2.Logbook'!P316)","v":""},{"$f":"IF('2.Logbook'!Q316=\"\",\"\",'2.Logbook'!Q316)","v":""},{"$f":"IF('2.Logbook'!R316=\"\",\"\",'2.Logbook'!R316)","v":""},{"$f":"IF('2.Logbook'!S316=\"\",\"\",'2.Logbook'!S316)","v":""},{"$f":"IF('2.Logbook'!T316=\"\",\"\",'2.Logbook'!T316)","v":""},{"$f":"IF('2.Logbook'!U316=\"\",\"\",'2.Logbook'!U316)","v":""},{"$f":"IF('2.Logbook'!V316=\"\",\"\",'2.Logbook'!V316)","v":""},{"$f":"IF('2.Logbook'!W316=\"\",\"\",'2.Logbook'!W316)","v":""},{"$f":"IF('2.Logbook'!X316=\"\",\"\",'2.Logbook'!X316)","v":""},{"$f":"IF('2.Logbook'!Y316=\"\",\"\",'2.Logbook'!Y316)","v":""},{"$f":"IF('2.Logbook'!Z316=\"\",\"\",'2.Logbook'!Z316)","v":""},{"$f":"IF('2.Logbook'!AA316=\"\",\"\",'2.Logbook'!AA316)","v":""},{"$f":"IF('2.Logbook'!AB316=\"\",\"\",'2.Logbook'!AB316)","v":""},{"$f":"IF('2.Logbook'!AC316=\"\",\"\",'2.Logbook'!AC316)","v":""},{"$f":"IF('2.Logbook'!AD316=\"\",\"\",'2.Logbook'!AD316)","v":""},{"$f":"IF('2.Logbook'!AE316=\"\",\"\",'2.Logbook'!AE316)","v":""},{"$f":"IF('2.Logbook'!AF316=\"\",\"\",'2.Logbook'!AF316)","v":""},{"$f":"IF('2.Logbook'!AG316=\"\",\"\",'2.Logbook'!AG316)","v":""}]
[{"$f":"IF('2.Logbook'!A317=\"\",\"\",'2.Logbook'!A317)","v":""},{"$f":"IF('2.Logbook'!B317=\"\",\"\",'2.Logbook'!B317)","v":""},{"$f":"IF('2.Logbook'!C317=\"\",\"\",'2.Logbook'!C317)","v":""},{"$f":"IF('2.Logbook'!D317=\"\",\"\",'2.Logbook'!D317)","v":""},{"$f":"IF('2.Logbook'!E317=\"\",\"\",'2.Logbook'!E317)","v":""},{"$f":"IF('2.Logbook'!F317=\"\",\"\",'2.Logbook'!F317)","v":""},{"$f":"IF('2.Logbook'!G317=\"\",\"\",'2.Logbook'!G317)","v":""},{"$f":"IF('2.Logbook'!H317=\"\",\"\",'2.Logbook'!H317)","v":""},{"$f":"IF('2.Logbook'!I317=\"\",\"\",'2.Logbook'!I317)","v":""},{"$f":"IF('2.Logbook'!J317=\"\",\"\",'2.Logbook'!J317)","v":""},{"$f":"IF('2.Logbook'!K317=\"\",\"\",'2.Logbook'!K317)","v":""},{"$f":"IF('2.Logbook'!L317=\"\",\"\",'2.Logbook'!L317)","v":""},{"$f":"IF('2.Logbook'!M317=\"\",\"\",'2.Logbook'!M317)","v":""},{"$f":"IF('2.Logbook'!N317=\"\",\"\",'2.Logbook'!N317)","v":""},{"$f":"IF('2.Logbook'!O317=\"\",\"\",'2.Logbook'!O317)","v":""},{"$f":"IF('2.Logbook'!P317=\"\",\"\",'2.Logbook'!P317)","v":""},{"$f":"IF('2.Logbook'!Q317=\"\",\"\",'2.Logbook'!Q317)","v":""},{"$f":"IF('2.Logbook'!R317=\"\",\"\",'2.Logbook'!R317)","v":""},{"$f":"IF('2.Logbook'!S317=\"\",\"\",'2.Logbook'!S317)","v":""},{"$f":"IF('2.Logbook'!T317=\"\",\"\",'2.Logbook'!T317)","v":""},{"$f":"IF('2.Logbook'!U317=\"\",\"\",'2.Logbook'!U317)","v":""},{"$f":"IF('2.Logbook'!V317=\"\",\"\",'2.Logbook'!V317)","v":""},{"$f":"IF('2.Logbook'!W317=\"\",\"\",'2.Logbook'!W317)","v":""},{"$f":"IF('2.Logbook'!X317=\"\",\"\",'2.Logbook'!X317)","v":""},{"$f":"IF('2.Logbook'!Y317=\"\",\"\",'2.Logbook'!Y317)","v":""},{"$f":"IF('2.Logbook'!Z317=\"\",\"\",'2.Logbook'!Z317)","v":""},{"$f":"IF('2.Logbook'!AA317=\"\",\"\",'2.Logbook'!AA317)","v":""},{"$f":"IF('2.Logbook'!AB317=\"\",\"\",'2.Logbook'!AB317)","v":""},{"$f":"IF('2.Logbook'!AC317=\"\",\"\",'2.Logbook'!AC317)","v":""},{"$f":"IF('2.Logbook'!AD317=\"\",\"\",'2.Logbook'!AD317)","v":""},{"$f":"IF('2.Logbook'!AE317=\"\",\"\",'2.Logbook'!AE317)","v":""},{"$f":"IF('2.Logbook'!AF317=\"\",\"\",'2.Logbook'!AF317)","v":""},{"$f":"IF('2.Logbook'!AG317=\"\",\"\",'2.Logbook'!AG317)","v":""}]
[{"$f":"IF('2.Logbook'!A318=\"\",\"\",'2.Logbook'!A318)","v":""},{"$f":"IF('2.Logbook'!B318=\"\",\"\",'2.Logbook'!B318)","v":""},{"$f":"IF('2.Logbook'!C318=\"\",\"\",'2.Logbook'!C318)","v":""},{"$f":"IF('2.Logbook'!D318=\"\",\"\",'2.Logbook'!D318)","v":""},{"$f":"IF('2.Logbook'!E318=\"\",\"\",'2.Logbook'!E318)","v":""},{"$f":"IF('2.Logbook'!F318=\"\",\"\",'2.Logbook'!F318)","v":""},{"$f":"IF('2.Logbook'!G318=\"\",\"\",'2.Logbook'!G318)","v":""},{"$f":"IF('2.Logbook'!H318=\"\",\"\",'2.Logbook'!H318)","v":""},{"$f":"IF('2.Logbook'!I318=\"\",\"\",'2.Logbook'!I318)","v":""},{"$f":"IF('2.Logbook'!J318=\"\",\"\",'2.Logbook'!J318)","v":""},{"$f":"IF('2.Logbook'!K318=\"\",\"\",'2.Logbook'!K318)","v":""},{"$f":"IF('2.Logbook'!L318=\"\",\"\",'2.Logbook'!L318)","v":""},{"$f":"IF('2.Logbook'!M318=\"\",\"\",'2.Logbook'!M318)","v":""},{"$f":"IF('2.Logbook'!N318=\"\",\"\",'2.Logbook'!N318)","v":""},{"$f":"IF('2.Logbook'!O318=\"\",\"\",'2.Logbook'!O318)","v":""},{"$f":"IF('2.Logbook'!P318=\"\",\"\",'2.Logbook'!P318)","v":""},{"$f":"IF('2.Logbook'!Q318=\"\",\"\",'2.Logbook'!Q318)","v":""},{"$f":"IF('2.Logbook'!R318=\"\",\"\",'2.Logbook'!R318)","v":""},{"$f":"IF('2.Logbook'!S318=\"\",\"\",'2.Logbook'!S318)","v":""},{"$f":"IF('2.Logbook'!T318=\"\",\"\",'2.Logbook'!T318)","v":""},{"$f":"IF('2.Logbook'!U318=\"\",\"\",'2.Logbook'!U318)","v":""},{"$f":"IF('2.Logbook'!V318=\"\",\"\",'2.Logbook'!V318)","v":""},{"$f":"IF('2.Logbook'!W318=\"\",\"\",'2.Logbook'!W318)","v":""},{"$f":"IF('2.Logbook'!X318=\"\",\"\",'2.Logbook'!X318)","v":""},{"$f":"IF('2.Logbook'!Y318=\"\",\"\",'2.Logbook'!Y318)","v":""},{"$f":"IF('2.Logbook'!Z318=\"\",\"\",'2.Logbook'!Z318)","v":""},{"$f":"IF('2.Logbook'!AA318=\"\",\"\",'2.Logbook'!AA318)","v":""},{"$f":"IF('2.Logbook'!AB318=\"\",\"\",'2.Logbook'!AB318)","v":""},{"$f":"IF('2.Logbook'!AC318=\"\",\"\",'2.Logbook'!AC318)","v":""},{"$f":"IF('2.Logbook'!AD318=\"\",\"\",'2.Logbook'!AD318)","v":""},{"$f":"IF('2.Logbook'!AE318=\"\",\"\",'2.Logbook'!AE318)","v":""},{"$f":"IF('2.Logbook'!AF318=\"\",\"\",'2.Logbook'!AF318)","v":""},{"$f":"IF('2.Logbook'!AG318=\"\",\"\",'2.Logbook'!AG318)","v":""}]
[{"$f":"IF('2.Logbook'!A319=\"\",\"\",'2.Logbook'!A319)","v":""},{"$f":"IF('2.Logbook'!B319=\"\",\"\",'2.Logbook'!B319)","v":""},{"$f":"IF('2.Logbook'!C319=\"\",\"\",'2.Logbook'!C319)","v":""},{"$f":"IF('2.Logbook'!D319=\"\",\"\",'2.Logbook'!D319)","v":""},{"$f":"IF('2.Logbook'!E319=\"\",\"\",'2.Logbook'!E319)","v":""},{"$f":"IF('2.Logbook'!F319=\"\",\"\",'2.Logbook'!F319)","v":""},{"$f":"IF('2.Logbook'!G319=\"\",\"\",'2.Logbook'!G319)","v":""},{"$f":"IF('2.Logbook'!H319=\"\",\"\",'2.Logbook'!H319)","v":""},{"$f":"IF('2.Logbook'!I319=\"\",\"\",'2.Logbook'!I319)","v":""},{"$f":"IF('2.Logbook'!J319=\"\",\"\",'2.Logbook'!J319)","v":""},{"$f":"IF('2.Logbook'!K319=\"\",\"\",'2.Logbook'!K319)","v":""},{"$f":"IF('2.Logbook'!L319=\"\",\"\",'2.Logbook'!L319)","v":""},{"$f":"IF('2.Logbook'!M319=\"\",\"\",'2.Logbook'!M319)","v":""},{"$f":"IF('2.Logbook'!N319=\"\",\"\",'2.Logbook'!N319)","v":""},{"$f":"IF('2.Logbook'!O319=\"\",\"\",'2.Logbook'!O319)","v":""},{"$f":"IF('2.Logbook'!P319=\"\",\"\",'2.Logbook'!P319)","v":""},{"$f":"IF('2.Logbook'!Q319=\"\",\"\",'2.Logbook'!Q319)","v":""},{"$f":"IF('2.Logbook'!R319=\"\",\"\",'2.Logbook'!R319)","v":""},{"$f":"IF('2.Logbook'!S319=\"\",\"\",'2.Logbook'!S319)","v":""},{"$f":"IF('2.Logbook'!T319=\"\",\"\",'2.Logbook'!T319)","v":""},{"$f":"IF('2.Logbook'!U319=\"\",\"\",'2.Logbook'!U319)","v":""},{"$f":"IF('2.Logbook'!V319=\"\",\"\",'2.Logbook'!V319)","v":""},{"$f":"IF('2.Logbook'!W319=\"\",\"\",'2.Logbook'!W319)","v":""},{"$f":"IF('2.Logbook'!X319=\"\",\"\",'2.Logbook'!X319)","v":""},{"$f":"IF('2.Logbook'!Y319=\"\",\"\",'2.Logbook'!Y319)","v":""},{"$f":"IF('2.Logbook'!Z319=\"\",\"\",'2.Logbook'!Z319)","v":""},{"$f":"IF('2.Logbook'!AA319=\"\",\"\",'2.Logbook'!AA319)","v":""},{"$f":"IF('2.Logbook'!AB319=\"\",\"\",'2.Logbook'!AB319)","v":""},{"$f":"IF('2.Logbook'!AC319=\"\",\"\",'2.Logbook'!AC319)","v":""},{"$f":"IF('2.Logbook'!AD319=\"\",\"\",'2.Logbook'!AD319)","v":""},{"$f":"IF('2.Logbook'!AE319=\"\",\"\",'2.Logbook'!AE319)","v":""},{"$f":"IF('2.Logbook'!AF319=\"\",\"\",'2.Logbook'!AF319)","v":""},{"$f":"IF('2.Logbook'!AG319=\"\",\"\",'2.Logbook'!AG319)","v":""}]
[{"$f":"IF('2.Logbook'!A320=\"\",\"\",'2.Logbook'!A320)","v":""},{"$f":"IF('2.Logbook'!B320=\"\",\"\",'2.Logbook'!B320)","v":""},{"$f":"IF('2.Logbook'!C320=\"\",\"\",'2.Logbook'!C320)","v":""},{"$f":"IF('2.Logbook'!D320=\"\",\"\",'2.Logbook'!D320)","v":""},{"$f":"IF('2.Logbook'!E320=\"\",\"\",'2.Logbook'!E320)","v":""},{"$f":"IF('2.Logbook'!F320=\"\",\"\",'2.Logbook'!F320)","v":""},{"$f":"IF('2.Logbook'!G320=\"\",\"\",'2.Logbook'!G320)","v":""},{"$f":"IF('2.Logbook'!H320=\"\",\"\",'2.Logbook'!H320)","v":""},{"$f":"IF('2.Logbook'!I320=\"\",\"\",'2.Logbook'!I320)","v":""},{"$f":"IF('2.Logbook'!J320=\"\",\"\",'2.Logbook'!J320)","v":""},{"$f":"IF('2.Logbook'!K320=\"\",\"\",'2.Logbook'!K320)","v":""},{"$f":"IF('2.Logbook'!L320=\"\",\"\",'2.Logbook'!L320)","v":""},{"$f":"IF('2.Logbook'!M320=\"\",\"\",'2.Logbook'!M320)","v":""},{"$f":"IF('2.Logbook'!N320=\"\",\"\",'2.Logbook'!N320)","v":""},{"$f":"IF('2.Logbook'!O320=\"\",\"\",'2.Logbook'!O320)","v":""},{"$f":"IF('2.Logbook'!P320=\"\",\"\",'2.Logbook'!P320)","v":""},{"$f":"IF('2.Logbook'!Q320=\"\",\"\",'2.Logbook'!Q320)","v":""},{"$f":"IF('2.Logbook'!R320=\"\",\"\",'2.Logbook'!R320)","v":""},{"$f":"IF('2.Logbook'!S320=\"\",\"\",'2.Logbook'!S320)","v":""},{"$f":"IF('2.Logbook'!T320=\"\",\"\",'2.Logbook'!T320)","v":""},{"$f":"IF('2.Logbook'!U320=\"\",\"\",'2.Logbook'!U320)","v":""},{"$f":"IF('2.Logbook'!V320=\"\",\"\",'2.Logbook'!V320)","v":""},{"$f":"IF('2.Logbook'!W320=\"\",\"\",'2.Logbook'!W320)","v":""},{"$f":"IF('2.Logbook'!X320=\"\",\"\",'2.Logbook'!X320)","v":""},{"$f":"IF('2.Logbook'!Y320=\"\",\"\",'2.Logbook'!Y320)","v":""},{"$f":"IF('2.Logbook'!Z320=\"\",\"\",'2.Logbook'!Z320)","v":""},{"$f":"IF('2.Logbook'!AA320=\"\",\"\",'2.Logbook'!AA320)","v":""},{"$f":"IF('2.Logbook'!AB320=\"\",\"\",'2.Logbook'!AB320)","v":""},{"$f":"IF('2.Logbook'!AC320=\"\",\"\",'2.Logbook'!AC320)","v":""},{"$f":"IF('2.Logbook'!AD320=\"\",\"\",'2.Logbook'!AD320)","v":""},{"$f":"IF('2.Logbook'!AE320=\"\",\"\",'2.Logbook'!AE320)","v":""},{"$f":"IF('2.Logbook'!AF320=\"\",\"\",'2.Logbook'!AF320)","v":""},{"$f":"IF('2.Logbook'!AG320=\"\",\"\",'2.Logbook'!AG320)","v":""}]
[{"$f":"IF('2.Logbook'!A321=\"\",\"\",'2.Logbook'!A321)","v":""},{"$f":"IF('2.Logbook'!B321=\"\",\"\",'2.Logbook'!B321)","v":""},{"$f":"IF('2.Logbook'!C321=\"\",\"\",'2.Logbook'!C321)","v":""},{"$f":"IF('2.Logbook'!D321=\"\",\"\",'2.Logbook'!D321)","v":""},{"$f":"IF('2.Logbook'!E321=\"\",\"\",'2.Logbook'!E321)","v":""},{"$f":"IF('2.Logbook'!F321=\"\",\"\",'2.Logbook'!F321)","v":""},{"$f":"IF('2.Logbook'!G321=\"\",\"\",'2.Logbook'!G321)","v":""},{"$f":"IF('2.Logbook'!H321=\"\",\"\",'2.Logbook'!H321)","v":""},{"$f":"IF('2.Logbook'!I321=\"\",\"\",'2.Logbook'!I321)","v":""},{"$f":"IF('2.Logbook'!J321=\"\",\"\",'2.Logbook'!J321)","v":""},{"$f":"IF('2.Logbook'!K321=\"\",\"\",'2.Logbook'!K321)","v":""},{"$f":"IF('2.Logbook'!L321=\"\",\"\",'2.Logbook'!L321)","v":""},{"$f":"IF('2.Logbook'!M321=\"\",\"\",'2.Logbook'!M321)","v":""},{"$f":"IF('2.Logbook'!N321=\"\",\"\",'2.Logbook'!N321)","v":""},{"$f":"IF('2.Logbook'!O321=\"\",\"\",'2.Logbook'!O321)","v":""},{"$f":"IF('2.Logbook'!P321=\"\",\"\",'2.Logbook'!P321)","v":""},{"$f":"IF('2.Logbook'!Q321=\"\",\"\",'2.Logbook'!Q321)","v":""},{"$f":"IF('2.Logbook'!R321=\"\",\"\",'2.Logbook'!R321)","v":""},{"$f":"IF('2.Logbook'!S321=\"\",\"\",'2.Logbook'!S321)","v":""},{"$f":"IF('2.Logbook'!T321=\"\",\"\",'2.Logbook'!T321)","v":""},{"$f":"IF('2.Logbook'!U321=\"\",\"\",'2.Logbook'!U321)","v":""},{"$f":"IF('2.Logbook'!V321=\"\",\"\",'2.Logbook'!V321)","v":""},{"$f":"IF('2.Logbook'!W321=\"\",\"\",'2.Logbook'!W321)","v":""},{"$f":"IF('2.Logbook'!X321=\"\",\"\",'2.Logbook'!X321)","v":""},{"$f":"IF('2.Logbook'!Y321=\"\",\"\",'2.Logbook'!Y321)","v":""},{"$f":"IF('2.Logbook'!Z321=\"\",\"\",'2.Logbook'!Z321)","v":""},{"$f":"IF('2.Logbook'!AA321=\"\",\"\",'2.Logbook'!AA321)","v":""},{"$f":"IF('2.Logbook'!AB321=\"\",\"\",'2.Logbook'!AB321)","v":""},{"$f":"IF('2.Logbook'!AC321=\"\",\"\",'2.Logbook'!AC321)","v":""},{"$f":"IF('2.Logbook'!AD321=\"\",\"\",'2.Logbook'!AD321)","v":""},{"$f":"IF('2.Logbook'!AE321=\"\",\"\",'2.Logbook'!AE321)","v":""},{"$f":"IF('2.Logbook'!AF321=\"\",\"\",'2.Logbook'!AF321)","v":""},{"$f":"IF('2.Logbook'!AG321=\"\",\"\",'2.Logbook'!AG321)","v":""}]
[{"$f":"IF('2.Logbook'!A322=\"\",\"\",'2.Logbook'!A322)","v":""},{"$f":"IF('2.Logbook'!B322=\"\",\"\",'2.Logbook'!B322)","v":""},{"$f":"IF('2.Logbook'!C322=\"\",\"\",'2.Logbook'!C322)","v":""},{"$f":"IF('2.Logbook'!D322=\"\",\"\",'2.Logbook'!D322)","v":""},{"$f":"IF('2.Logbook'!E322=\"\",\"\",'2.Logbook'!E322)","v":""},{"$f":"IF('2.Logbook'!F322=\"\",\"\",'2.Logbook'!F322)","v":""},{"$f":"IF('2.Logbook'!G322=\"\",\"\",'2.Logbook'!G322)","v":""},{"$f":"IF('2.Logbook'!H322=\"\",\"\",'2.Logbook'!H322)","v":""},{"$f":"IF('2.Logbook'!I322=\"\",\"\",'2.Logbook'!I322)","v":""},{"$f":"IF('2.Logbook'!J322=\"\",\"\",'2.Logbook'!J322)","v":""},{"$f":"IF('2.Logbook'!K322=\"\",\"\",'2.Logbook'!K322)","v":""},{"$f":"IF('2.Logbook'!L322=\"\",\"\",'2.Logbook'!L322)","v":""},{"$f":"IF('2.Logbook'!M322=\"\",\"\",'2.Logbook'!M322)","v":""},{"$f":"IF('2.Logbook'!N322=\"\",\"\",'2.Logbook'!N322)","v":""},{"$f":"IF('2.Logbook'!O322=\"\",\"\",'2.Logbook'!O322)","v":""},{"$f":"IF('2.Logbook'!P322=\"\",\"\",'2.Logbook'!P322)","v":""},{"$f":"IF('2.Logbook'!Q322=\"\",\"\",'2.Logbook'!Q322)","v":""},{"$f":"IF('2.Logbook'!R322=\"\",\"\",'2.Logbook'!R322)","v":""},{"$f":"IF('2.Logbook'!S322=\"\",\"\",'2.Logbook'!S322)","v":""},{"$f":"IF('2.Logbook'!T322=\"\",\"\",'2.Logbook'!T322)","v":""},{"$f":"IF('2.Logbook'!U322=\"\",\"\",'2.Logbook'!U322)","v":""},{"$f":"IF('2.Logbook'!V322=\"\",\"\",'2.Logbook'!V322)","v":""},{"$f":"IF('2.Logbook'!W322=\"\",\"\",'2.Logbook'!W322)","v":""},{"$f":"IF('2.Logbook'!X322=\"\",\"\",'2.Logbook'!X322)","v":""},{"$f":"IF('2.Logbook'!Y322=\"\",\"\",'2.Logbook'!Y322)","v":""},{"$f":"IF('2.Logbook'!Z322=\"\",\"\",'2.Logbook'!Z322)","v":""},{"$f":"IF('2.Logbook'!AA322=\"\",\"\",'2.Logbook'!AA322)","v":""},{"$f":"IF('2.Logbook'!AB322=\"\",\"\",'2.Logbook'!AB322)","v":""},{"$f":"IF('2.Logbook'!AC322=\"\",\"\",'2.Logbook'!AC322)","v":""},{"$f":"IF('2.Logbook'!AD322=\"\",\"\",'2.Logbook'!AD322)","v":""},{"$f":"IF('2.Logbook'!AE322=\"\",\"\",'2.Logbook'!AE322)","v":""},{"$f":"IF('2.Logbook'!AF322=\"\",\"\",'2.Logbook'!AF322)","v":""},{"$f":"IF('2.Logbook'!AG322=\"\",\"\",'2.Logbook'!AG322)","v":""}]
[{"$f":"IF('2.Logbook'!A323=\"\",\"\",'2.Logbook'!A323)","v":""},{"$f":"IF('2.Logbook'!B323=\"\",\"\",'2.Logbook'!B323)","v":""},{"$f":"IF('2.Logbook'!C323=\"\",\"\",'2.Logbook'!C323)","v":""},{"$f":"IF('2.Logbook'!D323=\"\",\"\",'2.Logbook'!D323)","v":""},{"$f":"IF('2.Logbook'!E323=\"\",\"\",'2.Logbook'!E323)","v":""},{"$f":"IF('2.Logbook'!F323=\"\",\"\",'2.Logbook'!F323)","v":""},{"$f":"IF('2.Logbook'!G323=\"\",\"\",'2.Logbook'!G323)","v":""},{"$f":"IF('2.Logbook'!H323=\"\",\"\",'2.Logbook'!H323)","v":""},{"$f":"IF('2.Logbook'!I323=\"\",\"\",'2.Logbook'!I323)","v":""},{"$f":"IF('2.Logbook'!J323=\"\",\"\",'2.Logbook'!J323)","v":""},{"$f":"IF('2.Logbook'!K323=\"\",\"\",'2.Logbook'!K323)","v":""},{"$f":"IF('2.Logbook'!L323=\"\",\"\",'2.Logbook'!L323)","v":""},{"$f":"IF('2.Logbook'!M323=\"\",\"\",'2.Logbook'!M323)","v":""},{"$f":"IF('2.Logbook'!N323=\"\",\"\",'2.Logbook'!N323)","v":""},{"$f":"IF('2.Logbook'!O323=\"\",\"\",'2.Logbook'!O323)","v":""},{"$f":"IF('2.Logbook'!P323=\"\",\"\",'2.Logbook'!P323)","v":""},{"$f":"IF('2.Logbook'!Q323=\"\",\"\",'2.Logbook'!Q323)","v":""},{"$f":"IF('2.Logbook'!R323=\"\",\"\",'2.Logbook'!R323)","v":""},{"$f":"IF('2.Logbook'!S323=\"\",\"\",'2.Logbook'!S323)","v":""},{"$f":"IF('2.Logbook'!T323=\"\",\"\",'2.Logbook'!T323)","v":""},{"$f":"IF('2.Logbook'!U323=\"\",\"\",'2.Logbook'!U323)","v":""},{"$f":"IF('2.Logbook'!V323=\"\",\"\",'2.Logbook'!V323)","v":""},{"$f":"IF('2.Logbook'!W323=\"\",\"\",'2.Logbook'!W323)","v":""},{"$f":"IF('2.Logbook'!X323=\"\",\"\",'2.Logbook'!X323)","v":""},{"$f":"IF('2.Logbook'!Y323=\"\",\"\",'2.Logbook'!Y323)","v":""},{"$f":"IF('2.Logbook'!Z323=\"\",\"\",'2.Logbook'!Z323)","v":""},{"$f":"IF('2.Logbook'!AA323=\"\",\"\",'2.Logbook'!AA323)","v":""},{"$f":"IF('2.Logbook'!AB323=\"\",\"\",'2.Logbook'!AB323)","v":""},{"$f":"IF('2.Logbook'!AC323=\"\",\"\",'2.Logbook'!AC323)","v":""},{"$f":"IF('2.Logbook'!AD323=\"\",\"\",'2.Logbook'!AD323)","v":""},{"$f":"IF('2.Logbook'!AE323=\"\",\"\",'2.Logbook'!AE323)","v":""},{"$f":"IF('2.Logbook'!AF323=\"\",\"\",'2.Logbook'!AF323)","v":""},{"$f":"IF('2.Logbook'!AG323=\"\",\"\",'2.Logbook'!AG323)","v":""}]
[{"$f":"IF('2.Logbook'!A324=\"\",\"\",'2.Logbook'!A324)","v":""},{"$f":"IF('2.Logbook'!B324=\"\",\"\",'2.Logbook'!B324)","v":""},{"$f":"IF('2.Logbook'!C324=\"\",\"\",'2.Logbook'!C324)","v":""},{"$f":"IF('2.Logbook'!D324=\"\",\"\",'2.Logbook'!D324)","v":""},{"$f":"IF('2.Logbook'!E324=\"\",\"\",'2.Logbook'!E324)","v":""},{"$f":"IF('2.Logbook'!F324=\"\",\"\",'2.Logbook'!F324)","v":""},{"$f":"IF('2.Logbook'!G324=\"\",\"\",'2.Logbook'!G324)","v":""},{"$f":"IF('2.Logbook'!H324=\"\",\"\",'2.Logbook'!H324)","v":""},{"$f":"IF('2.Logbook'!I324=\"\",\"\",'2.Logbook'!I324)","v":""},{"$f":"IF('2.Logbook'!J324=\"\",\"\",'2.Logbook'!J324)","v":""},{"$f":"IF('2.Logbook'!K324=\"\",\"\",'2.Logbook'!K324)","v":""},{"$f":"IF('2.Logbook'!L324=\"\",\"\",'2.Logbook'!L324)","v":""},{"$f":"IF('2.Logbook'!M324=\"\",\"\",'2.Logbook'!M324)","v":""},{"$f":"IF('2.Logbook'!N324=\"\",\"\",'2.Logbook'!N324)","v":""},{"$f":"IF('2.Logbook'!O324=\"\",\"\",'2.Logbook'!O324)","v":""},{"$f":"IF('2.Logbook'!P324=\"\",\"\",'2.Logbook'!P324)","v":""},{"$f":"IF('2.Logbook'!Q324=\"\",\"\",'2.Logbook'!Q324)","v":""},{"$f":"IF('2.Logbook'!R324=\"\",\"\",'2.Logbook'!R324)","v":""},{"$f":"IF('2.Logbook'!S324=\"\",\"\",'2.Logbook'!S324)","v":""},{"$f":"IF('2.Logbook'!T324=\"\",\"\",'2.Logbook'!T324)","v":""},{"$f":"IF('2.Logbook'!U324=\"\",\"\",'2.Logbook'!U324)","v":""},{"$f":"IF('2.Logbook'!V324=\"\",\"\",'2.Logbook'!V324)","v":""},{"$f":"IF('2.Logbook'!W324=\"\",\"\",'2.Logbook'!W324)","v":""},{"$f":"IF('2.Logbook'!X324=\"\",\"\",'2.Logbook'!X324)","v":""},{"$f":"IF('2.Logbook'!Y324=\"\",\"\",'2.Logbook'!Y324)","v":""},{"$f":"IF('2.Logbook'!Z324=\"\",\"\",'2.Logbook'!Z324)","v":""},{"$f":"IF('2.Logbook'!AA324=\"\",\"\",'2.Logbook'!AA324)","v":""},{"$f":"IF('2.Logbook'!AB324=\"\",\"\",'2.Logbook'!AB324)","v":""},{"$f":"IF('2.Logbook'!AC324=\"\",\"\",'2.Logbook'!AC324)","v":""},{"$f":"IF('2.Logbook'!AD324=\"\",\"\",'2.Logbook'!AD324)","v":""},{"$f":"IF('2.Logbook'!AE324=\"\",\"\",'2.Logbook'!AE324)","v":""},{"$f":"IF('2.Logbook'!AF324=\"\",\"\",'2.Logbook'!AF324)","v":""},{"$f":"IF('2.Logbook'!AG324=\"\",\"\",'2.Logbook'!AG324)","v":""}]
[{"$f":"IF('2.Logbook'!A325=\"\",\"\",'2.Logbook'!A325)","v":""},{"$f":"IF('2.Logbook'!B325=\"\",\"\",'2.Logbook'!B325)","v":""},{"$f":"IF('2.Logbook'!C325=\"\",\"\",'2.Logbook'!C325)","v":""},{"$f":"IF('2.Logbook'!D325=\"\",\"\",'2.Logbook'!D325)","v":""},{"$f":"IF('2.Logbook'!E325=\"\",\"\",'2.Logbook'!E325)","v":""},{"$f":"IF('2.Logbook'!F325=\"\",\"\",'2.Logbook'!F325)","v":""},{"$f":"IF('2.Logbook'!G325=\"\",\"\",'2.Logbook'!G325)","v":""},{"$f":"IF('2.Logbook'!H325=\"\",\"\",'2.Logbook'!H325)","v":""},{"$f":"IF('2.Logbook'!I325=\"\",\"\",'2.Logbook'!I325)","v":""},{"$f":"IF('2.Logbook'!J325=\"\",\"\",'2.Logbook'!J325)","v":""},{"$f":"IF('2.Logbook'!K325=\"\",\"\",'2.Logbook'!K325)","v":""},{"$f":"IF('2.Logbook'!L325=\"\",\"\",'2.Logbook'!L325)","v":""},{"$f":"IF('2.Logbook'!M325=\"\",\"\",'2.Logbook'!M325)","v":""},{"$f":"IF('2.Logbook'!N325=\"\",\"\",'2.Logbook'!N325)","v":""},{"$f":"IF('2.Logbook'!O325=\"\",\"\",'2.Logbook'!O325)","v":""},{"$f":"IF('2.Logbook'!P325=\"\",\"\",'2.Logbook'!P325)","v":""},{"$f":"IF('2.Logbook'!Q325=\"\",\"\",'2.Logbook'!Q325)","v":""},{"$f":"IF('2.Logbook'!R325=\"\",\"\",'2.Logbook'!R325)","v":""},{"$f":"IF('2.Logbook'!S325=\"\",\"\",'2.Logbook'!S325)","v":""},{"$f":"IF('2.Logbook'!T325=\"\",\"\",'2.Logbook'!T325)","v":""},{"$f":"IF('2.Logbook'!U325=\"\",\"\",'2.Logbook'!U325)","v":""},{"$f":"IF('2.Logbook'!V325=\"\",\"\",'2.Logbook'!V325)","v":""},{"$f":"IF('2.Logbook'!W325=\"\",\"\",'2.Logbook'!W325)","v":""},{"$f":"IF('2.Logbook'!X325=\"\",\"\",'2.Logbook'!X325)","v":""},{"$f":"IF('2.Logbook'!Y325=\"\",\"\",'2.Logbook'!Y325)","v":""},{"$f":"IF('2.Logbook'!Z325=\"\",\"\",'2.Logbook'!Z325)","v":""},{"$f":"IF('2.Logbook'!AA325=\"\",\"\",'2.Logbook'!AA325)","v":""},{"$f":"IF('2.Logbook'!AB325=\"\",\"\",'2.Logbook'!AB325)","v":""},{"$f":"IF('2.Logbook'!AC325=\"\",\"\",'2.Logbook'!AC325)","v":""},{"$f":"IF('2.Logbook'!AD325=\"\",\"\",'2.Logbook'!AD325)","v":""},{"$f":"IF('2.Logbook'!AE325=\"\",\"\",'2.Logbook'!AE325)","v":""},{"$f":"IF('2.Logbook'!AF325=\"\",\"\",'2.Logbook'!AF325)","v":""},{"$f":"IF('2.Logbook'!AG325=\"\",\"\",'2.Logbook'!AG325)","v":""}]
[{"$f":"IF('2.Logbook'!A326=\"\",\"\",'2.Logbook'!A326)","v":""},{"$f":"IF('2.Logbook'!B326=\"\",\"\",'2.Logbook'!B326)","v":""},{"$f":"IF('2.Logbook'!C326=\"\",\"\",'2.Logbook'!C326)","v":""},{"$f":"IF('2.Logbook'!D326=\"\",\"\",'2.Logbook'!D326)","v":""},{"$f":"IF('2.Logbook'!E326=\"\",\"\",'2.Logbook'!E326)","v":""},{"$f":"IF('2.Logbook'!F326=\"\",\"\",'2.Logbook'!F326)","v":""},{"$f":"IF('2.Logbook'!G326=\"\",\"\",'2.Logbook'!G326)","v":""},{"$f":"IF('2.Logbook'!H326=\"\",\"\",'2.Logbook'!H326)","v":""},{"$f":"IF('2.Logbook'!I326=\"\",\"\",'2.Logbook'!I326)","v":""},{"$f":"IF('2.Logbook'!J326=\"\",\"\",'2.Logbook'!J326)","v":""},{"$f":"IF('2.Logbook'!K326=\"\",\"\",'2.Logbook'!K326)","v":""},{"$f":"IF('2.Logbook'!L326=\"\",\"\",'2.Logbook'!L326)","v":""},{"$f":"IF('2.Logbook'!M326=\"\",\"\",'2.Logbook'!M326)","v":""},{"$f":"IF('2.Logbook'!N326=\"\",\"\",'2.Logbook'!N326)","v":""},{"$f":"IF('2.Logbook'!O326=\"\",\"\",'2.Logbook'!O326)","v":""},{"$f":"IF('2.Logbook'!P326=\"\",\"\",'2.Logbook'!P326)","v":""},{"$f":"IF('2.Logbook'!Q326=\"\",\"\",'2.Logbook'!Q326)","v":""},{"$f":"IF('2.Logbook'!R326=\"\",\"\",'2.Logbook'!R326)","v":""},{"$f":"IF('2.Logbook'!S326=\"\",\"\",'2.Logbook'!S326)","v":""},{"$f":"IF('2.Logbook'!T326=\"\",\"\",'2.Logbook'!T326)","v":""},{"$f":"IF('2.Logbook'!U326=\"\",\"\",'2.Logbook'!U326)","v":""},{"$f":"IF('2.Logbook'!V326=\"\",\"\",'2.Logbook'!V326)","v":""},{"$f":"IF('2.Logbook'!W326=\"\",\"\",'2.Logbook'!W326)","v":""},{"$f":"IF('2.Logbook'!X326=\"\",\"\",'2.Logbook'!X326)","v":""},{"$f":"IF('2.Logbook'!Y326=\"\",\"\",'2.Logbook'!Y326)","v":""},{"$f":"IF('2.Logbook'!Z326=\"\",\"\",'2.Logbook'!Z326)","v":""},{"$f":"IF('2.Logbook'!AA326=\"\",\"\",'2.Logbook'!AA326)","v":""},{"$f":"IF('2.Logbook'!AB326=\"\",\"\",'2.Logbook'!AB326)","v":""},{"$f":"IF('2.Logbook'!AC326=\"\",\"\",'2.Logbook'!AC326)","v":""},{"$f":"IF('2.Logbook'!AD326=\"\",\"\",'2.Logbook'!AD326)","v":""},{"$f":"IF('2.Logbook'!AE326=\"\",\"\",'2.Logbook'!AE326)","v":""},{"$f":"IF('2.Logbook'!AF326=\"\",\"\",'2.Logbook'!AF326)","v":""},{"$f":"IF('2.Logbook'!AG326=\"\",\"\",'2.Logbook'!AG326)","v":""}]
[{"$f":"IF('2.Logbook'!A327=\"\",\"\",'2.Logbook'!A327)","v":""},{"$f":"IF('2.Logbook'!B327=\"\",\"\",'2.Logbook'!B327)","v":""},{"$f":"IF('2.Logbook'!C327=\"\",\"\",'2.Logbook'!C327)","v":""},{"$f":"IF('2.Logbook'!D327=\"\",\"\",'2.Logbook'!D327)","v":""},{"$f":"IF('2.Logbook'!E327=\"\",\"\",'2.Logbook'!E327)","v":""},{"$f":"IF('2.Logbook'!F327=\"\",\"\",'2.Logbook'!F327)","v":""},{"$f":"IF('2.Logbook'!G327=\"\",\"\",'2.Logbook'!G327)","v":""},{"$f":"IF('2.Logbook'!H327=\"\",\"\",'2.Logbook'!H327)","v":""},{"$f":"IF('2.Logbook'!I327=\"\",\"\",'2.Logbook'!I327)","v":""},{"$f":"IF('2.Logbook'!J327=\"\",\"\",'2.Logbook'!J327)","v":""},{"$f":"IF('2.Logbook'!K327=\"\",\"\",'2.Logbook'!K327)","v":""},{"$f":"IF('2.Logbook'!L327=\"\",\"\",'2.Logbook'!L327)","v":""},{"$f":"IF('2.Logbook'!M327=\"\",\"\",'2.Logbook'!M327)","v":""},{"$f":"IF('2.Logbook'!N327=\"\",\"\",'2.Logbook'!N327)","v":""},{"$f":"IF('2.Logbook'!O327=\"\",\"\",'2.Logbook'!O327)","v":""},{"$f":"IF('2.Logbook'!P327=\"\",\"\",'2.Logbook'!P327)","v":""},{"$f":"IF('2.Logbook'!Q327=\"\",\"\",'2.Logbook'!Q327)","v":""},{"$f":"IF('2.Logbook'!R327=\"\",\"\",'2.Logbook'!R327)","v":""},{"$f":"IF('2.Logbook'!S327=\"\",\"\",'2.Logbook'!S327)","v":""},{"$f":"IF('2.Logbook'!T327=\"\",\"\",'2.Logbook'!T327)","v":""},{"$f":"IF('2.Logbook'!U327=\"\",\"\",'2.Logbook'!U327)","v":""},{"$f":"IF('2.Logbook'!V327=\"\",\"\",'2.Logbook'!V327)","v":""},{"$f":"IF('2.Logbook'!W327=\"\",\"\",'2.Logbook'!W327)","v":""},{"$f":"IF('2.Logbook'!X327=\"\",\"\",'2.Logbook'!X327)","v":""},{"$f":"IF('2.Logbook'!Y327=\"\",\"\",'2.Logbook'!Y327)","v":""},{"$f":"IF('2.Logbook'!Z327=\"\",\"\",'2.Logbook'!Z327)","v":""},{"$f":"IF('2.Logbook'!AA327=\"\",\"\",'2.Logbook'!AA327)","v":""},{"$f":"IF('2.Logbook'!AB327=\"\",\"\",'2.Logbook'!AB327)","v":""},{"$f":"IF('2.Logbook'!AC327=\"\",\"\",'2.Logbook'!AC327)","v":""},{"$f":"IF('2.Logbook'!AD327=\"\",\"\",'2.Logbook'!AD327)","v":""},{"$f":"IF('2.Logbook'!AE327=\"\",\"\",'2.Logbook'!AE327)","v":""},{"$f":"IF('2.Logbook'!AF327=\"\",\"\",'2.Logbook'!AF327)","v":""},{"$f":"IF('2.Logbook'!AG327=\"\",\"\",'2.Logbook'!AG327)","v":""}]
[{"$f":"IF('2.Logbook'!A328=\"\",\"\",'2.Logbook'!A328)","v":""},{"$f":"IF('2.Logbook'!B328=\"\",\"\",'2.Logbook'!B328)","v":""},{"$f":"IF('2.Logbook'!C328=\"\",\"\",'2.Logbook'!C328)","v":""},{"$f":"IF('2.Logbook'!D328=\"\",\"\",'2.Logbook'!D328)","v":""},{"$f":"IF('2.Logbook'!E328=\"\",\"\",'2.Logbook'!E328)","v":""},{"$f":"IF('2.Logbook'!F328=\"\",\"\",'2.Logbook'!F328)","v":""},{"$f":"IF('2.Logbook'!G328=\"\",\"\",'2.Logbook'!G328)","v":""},{"$f":"IF('2.Logbook'!H328=\"\",\"\",'2.Logbook'!H328)","v":""},{"$f":"IF('2.Logbook'!I328=\"\",\"\",'2.Logbook'!I328)","v":""},{"$f":"IF('2.Logbook'!J328=\"\",\"\",'2.Logbook'!J328)","v":""},{"$f":"IF('2.Logbook'!K328=\"\",\"\",'2.Logbook'!K328)","v":""},{"$f":"IF('2.Logbook'!L328=\"\",\"\",'2.Logbook'!L328)","v":""},{"$f":"IF('2.Logbook'!M328=\"\",\"\",'2.Logbook'!M328)","v":""},{"$f":"IF('2.Logbook'!N328=\"\",\"\",'2.Logbook'!N328)","v":""},{"$f":"IF('2.Logbook'!O328=\"\",\"\",'2.Logbook'!O328)","v":""},{"$f":"IF('2.Logbook'!P328=\"\",\"\",'2.Logbook'!P328)","v":""},{"$f":"IF('2.Logbook'!Q328=\"\",\"\",'2.Logbook'!Q328)","v":""},{"$f":"IF('2.Logbook'!R328=\"\",\"\",'2.Logbook'!R328)","v":""},{"$f":"IF('2.Logbook'!S328=\"\",\"\",'2.Logbook'!S328)","v":""},{"$f":"IF('2.Logbook'!T328=\"\",\"\",'2.Logbook'!T328)","v":""},{"$f":"IF('2.Logbook'!U328=\"\",\"\",'2.Logbook'!U328)","v":""},{"$f":"IF('2.Logbook'!V328=\"\",\"\",'2.Logbook'!V328)","v":""},{"$f":"IF('2.Logbook'!W328=\"\",\"\",'2.Logbook'!W328)","v":""},{"$f":"IF('2.Logbook'!X328=\"\",\"\",'2.Logbook'!X328)","v":""},{"$f":"IF('2.Logbook'!Y328=\"\",\"\",'2.Logbook'!Y328)","v":""},{"$f":"IF('2.Logbook'!Z328=\"\",\"\",'2.Logbook'!Z328)","v":""},{"$f":"IF('2.Logbook'!AA328=\"\",\"\",'2.Logbook'!AA328)","v":""},{"$f":"IF('2.Logbook'!AB328=\"\",\"\",'2.Logbook'!AB328)","v":""},{"$f":"IF('2.Logbook'!AC328=\"\",\"\",'2.Logbook'!AC328)","v":""},{"$f":"IF('2.Logbook'!AD328=\"\",\"\",'2.Logbook'!AD328)","v":""},{"$f":"IF('2.Logbook'!AE328=\"\",\"\",'2.Logbook'!AE328)","v":""},{"$f":"IF('2.Logbook'!AF328=\"\",\"\",'2.Logbook'!AF328)","v":""},{"$f":"IF('2.Logbook'!AG328=\"\",\"\",'2.Logbook'!AG328)","v":""}]
[{"$f":"IF('2.Logbook'!A329=\"\",\"\",'2.Logbook'!A329)","v":""},{"$f":"IF('2.Logbook'!B329=\"\",\"\",'2.Logbook'!B329)","v":""},{"$f":"IF('2.Logbook'!C329=\"\",\"\",'2.Logbook'!C329)","v":""},{"$f":"IF('2.Logbook'!D329=\"\",\"\",'2.Logbook'!D329)","v":""},{"$f":"IF('2.Logbook'!E329=\"\",\"\",'2.Logbook'!E329)","v":""},{"$f":"IF('2.Logbook'!F329=\"\",\"\",'2.Logbook'!F329)","v":""},{"$f":"IF('2.Logbook'!G329=\"\",\"\",'2.Logbook'!G329)","v":""},{"$f":"IF('2.Logbook'!H329=\"\",\"\",'2.Logbook'!H329)","v":""},{"$f":"IF('2.Logbook'!I329=\"\",\"\",'2.Logbook'!I329)","v":""},{"$f":"IF('2.Logbook'!J329=\"\",\"\",'2.Logbook'!J329)","v":""},{"$f":"IF('2.Logbook'!K329=\"\",\"\",'2.Logbook'!K329)","v":""},{"$f":"IF('2.Logbook'!L329=\"\",\"\",'2.Logbook'!L329)","v":""},{"$f":"IF('2.Logbook'!M329=\"\",\"\",'2.Logbook'!M329)","v":""},{"$f":"IF('2.Logbook'!N329=\"\",\"\",'2.Logbook'!N329)","v":""},{"$f":"IF('2.Logbook'!O329=\"\",\"\",'2.Logbook'!O329)","v":""},{"$f":"IF('2.Logbook'!P329=\"\",\"\",'2.Logbook'!P329)","v":""},{"$f":"IF('2.Logbook'!Q329=\"\",\"\",'2.Logbook'!Q329)","v":""},{"$f":"IF('2.Logbook'!R329=\"\",\"\",'2.Logbook'!R329)","v":""},{"$f":"IF('2.Logbook'!S329=\"\",\"\",'2.Logbook'!S329)","v":""},{"$f":"IF('2.Logbook'!T329=\"\",\"\",'2.Logbook'!T329)","v":""},{"$f":"IF('2.Logbook'!U329=\"\",\"\",'2.Logbook'!U329)","v":""},{"$f":"IF('2.Logbook'!V329=\"\",\"\",'2.Logbook'!V329)","v":""},{"$f":"IF('2.Logbook'!W329=\"\",\"\",'2.Logbook'!W329)","v":""},{"$f":"IF('2.Logbook'!X329=\"\",\"\",'2.Logbook'!X329)","v":""},{"$f":"IF('2.Logbook'!Y329=\"\",\"\",'2.Logbook'!Y329)","v":""},{"$f":"IF('2.Logbook'!Z329=\"\",\"\",'2.Logbook'!Z329)","v":""},{"$f":"IF('2.Logbook'!AA329=\"\",\"\",'2.Logbook'!AA329)","v":""},{"$f":"IF('2.Logbook'!AB329=\"\",\"\",'2.Logbook'!AB329)","v":""},{"$f":"IF('2.Logbook'!AC329=\"\",\"\",'2.Logbook'!AC329)","v":""},{"$f":"IF('2.Logbook'!AD329=\"\",\"\",'2.Logbook'!AD329)","v":""},{"$f":"IF('2.Logbook'!AE329=\"\",\"\",'2.Logbook'!AE329)","v":""},{"$f":"IF('2.Logbook'!AF329=\"\",\"\",'2.Logbook'!AF329)","v":""},{"$f":"IF('2.Logbook'!AG329=\"\",\"\",'2.Logbook'!AG329)","v":""}]
[{"$f":"IF('2.Logbook'!A330=\"\",\"\",'2.Logbook'!A330)","v":""},{"$f":"IF('2.Logbook'!B330=\"\",\"\",'2.Logbook'!B330)","v":""},{"$f":"IF('2.Logbook'!C330=\"\",\"\",'2.Logbook'!C330)","v":""},{"$f":"IF('2.Logbook'!D330=\"\",\"\",'2.Logbook'!D330)","v":""},{"$f":"IF('2.Logbook'!E330=\"\",\"\",'2.Logbook'!E330)","v":""},{"$f":"IF('2.Logbook'!F330=\"\",\"\",'2.Logbook'!F330)","v":""},{"$f":"IF('2.Logbook'!G330=\"\",\"\",'2.Logbook'!G330)","v":""},{"$f":"IF('2.Logbook'!H330=\"\",\"\",'2.Logbook'!H330)","v":""},{"$f":"IF('2.Logbook'!I330=\"\",\"\",'2.Logbook'!I330)","v":""},{"$f":"IF('2.Logbook'!J330=\"\",\"\",'2.Logbook'!J330)","v":""},{"$f":"IF('2.Logbook'!K330=\"\",\"\",'2.Logbook'!K330)","v":""},{"$f":"IF('2.Logbook'!L330=\"\",\"\",'2.Logbook'!L330)","v":""},{"$f":"IF('2.Logbook'!M330=\"\",\"\",'2.Logbook'!M330)","v":""},{"$f":"IF('2.Logbook'!N330=\"\",\"\",'2.Logbook'!N330)","v":""},{"$f":"IF('2.Logbook'!O330=\"\",\"\",'2.Logbook'!O330)","v":""},{"$f":"IF('2.Logbook'!P330=\"\",\"\",'2.Logbook'!P330)","v":""},{"$f":"IF('2.Logbook'!Q330=\"\",\"\",'2.Logbook'!Q330)","v":""},{"$f":"IF('2.Logbook'!R330=\"\",\"\",'2.Logbook'!R330)","v":""},{"$f":"IF('2.Logbook'!S330=\"\",\"\",'2.Logbook'!S330)","v":""},{"$f":"IF('2.Logbook'!T330=\"\",\"\",'2.Logbook'!T330)","v":""},{"$f":"IF('2.Logbook'!U330=\"\",\"\",'2.Logbook'!U330)","v":""},{"$f":"IF('2.Logbook'!V330=\"\",\"\",'2.Logbook'!V330)","v":""},{"$f":"IF('2.Logbook'!W330=\"\",\"\",'2.Logbook'!W330)","v":""},{"$f":"IF('2.Logbook'!X330=\"\",\"\",'2.Logbook'!X330)","v":""},{"$f":"IF('2.Logbook'!Y330=\"\",\"\",'2.Logbook'!Y330)","v":""},{"$f":"IF('2.Logbook'!Z330=\"\",\"\",'2.Logbook'!Z330)","v":""},{"$f":"IF('2.Logbook'!AA330=\"\",\"\",'2.Logbook'!AA330)","v":""},{"$f":"IF('2.Logbook'!AB330=\"\",\"\",'2.Logbook'!AB330)","v":""},{"$f":"IF('2.Logbook'!AC330=\"\",\"\",'2.Logbook'!AC330)","v":""},{"$f":"IF('2.Logbook'!AD330=\"\",\"\",'2.Logbook'!AD330)","v":""},{"$f":"IF('2.Logbook'!AE330=\"\",\"\",'2.Logbook'!AE330)","v":""},{"$f":"IF('2.Logbook'!AF330=\"\",\"\",'2.Logbook'!AF330)","v":""},{"$f":"IF('2.Logbook'!AG330=\"\",\"\",'2.Logbook'!AG330)","v":""}]
[{"$f":"IF('2.Logbook'!A331=\"\",\"\",'2.Logbook'!A331)","v":""},{"$f":"IF('2.Logbook'!B331=\"\",\"\",'2.Logbook'!B331)","v":""},{"$f":"IF('2.Logbook'!C331=\"\",\"\",'2.Logbook'!C331)","v":""},{"$f":"IF('2.Logbook'!D331=\"\",\"\",'2.Logbook'!D331)","v":""},{"$f":"IF('2.Logbook'!E331=\"\",\"\",'2.Logbook'!E331)","v":""},{"$f":"IF('2.Logbook'!F331=\"\",\"\",'2.Logbook'!F331)","v":""},{"$f":"IF('2.Logbook'!G331=\"\",\"\",'2.Logbook'!G331)","v":""},{"$f":"IF('2.Logbook'!H331=\"\",\"\",'2.Logbook'!H331)","v":""},{"$f":"IF('2.Logbook'!I331=\"\",\"\",'2.Logbook'!I331)","v":""},{"$f":"IF('2.Logbook'!J331=\"\",\"\",'2.Logbook'!J331)","v":""},{"$f":"IF('2.Logbook'!K331=\"\",\"\",'2.Logbook'!K331)","v":""},{"$f":"IF('2.Logbook'!L331=\"\",\"\",'2.Logbook'!L331)","v":""},{"$f":"IF('2.Logbook'!M331=\"\",\"\",'2.Logbook'!M331)","v":""},{"$f":"IF('2.Logbook'!N331=\"\",\"\",'2.Logbook'!N331)","v":""},{"$f":"IF('2.Logbook'!O331=\"\",\"\",'2.Logbook'!O331)","v":""},{"$f":"IF('2.Logbook'!P331=\"\",\"\",'2.Logbook'!P331)","v":""},{"$f":"IF('2.Logbook'!Q331=\"\",\"\",'2.Logbook'!Q331)","v":""},{"$f":"IF('2.Logbook'!R331=\"\",\"\",'2.Logbook'!R331)","v":""},{"$f":"IF('2.Logbook'!S331=\"\",\"\",'2.Logbook'!S331)","v":""},{"$f":"IF('2.Logbook'!T331=\"\",\"\",'2.Logbook'!T331)","v":""},{"$f":"IF('2.Logbook'!U331=\"\",\"\",'2.Logbook'!U331)","v":""},{"$f":"IF('2.Logbook'!V331=\"\",\"\",'2.Logbook'!V331)","v":""},{"$f":"IF('2.Logbook'!W331=\"\",\"\",'2.Logbook'!W331)","v":""},{"$f":"IF('2.Logbook'!X331=\"\",\"\",'2.Logbook'!X331)","v":""},{"$f":"IF('2.Logbook'!Y331=\"\",\"\",'2.Logbook'!Y331)","v":""},{"$f":"IF('2.Logbook'!Z331=\"\",\"\",'2.Logbook'!Z331)","v":""},{"$f":"IF('2.Logbook'!AA331=\"\",\"\",'2.Logbook'!AA331)","v":""},{"$f":"IF('2.Logbook'!AB331=\"\",\"\",'2.Logbook'!AB331)","v":""},{"$f":"IF('2.Logbook'!AC331=\"\",\"\",'2.Logbook'!AC331)","v":""},{"$f":"IF('2.Logbook'!AD331=\"\",\"\",'2.Logbook'!AD331)","v":""},{"$f":"IF('2.Logbook'!AE331=\"\",\"\",'2.Logbook'!AE331)","v":""},{"$f":"IF('2.Logbook'!AF331=\"\",\"\",'2.Logbook'!AF331)","v":""},{"$f":"IF('2.Logbook'!AG331=\"\",\"\",'2.Logbook'!AG331)","v":""}]
[{"$f":"IF('2.Logbook'!A332=\"\",\"\",'2.Logbook'!A332)","v":""},{"$f":"IF('2.Logbook'!B332=\"\",\"\",'2.Logbook'!B332)","v":""},{"$f":"IF('2.Logbook'!C332=\"\",\"\",'2.Logbook'!C332)","v":""},{"$f":"IF('2.Logbook'!D332=\"\",\"\",'2.Logbook'!D332)","v":""},{"$f":"IF('2.Logbook'!E332=\"\",\"\",'2.Logbook'!E332)","v":""},{"$f":"IF('2.Logbook'!F332=\"\",\"\",'2.Logbook'!F332)","v":""},{"$f":"IF('2.Logbook'!G332=\"\",\"\",'2.Logbook'!G332)","v":""},{"$f":"IF('2.Logbook'!H332=\"\",\"\",'2.Logbook'!H332)","v":""},{"$f":"IF('2.Logbook'!I332=\"\",\"\",'2.Logbook'!I332)","v":""},{"$f":"IF('2.Logbook'!J332=\"\",\"\",'2.Logbook'!J332)","v":""},{"$f":"IF('2.Logbook'!K332=\"\",\"\",'2.Logbook'!K332)","v":""},{"$f":"IF('2.Logbook'!L332=\"\",\"\",'2.Logbook'!L332)","v":""},{"$f":"IF('2.Logbook'!M332=\"\",\"\",'2.Logbook'!M332)","v":""},{"$f":"IF('2.Logbook'!N332=\"\",\"\",'2.Logbook'!N332)","v":""},{"$f":"IF('2.Logbook'!O332=\"\",\"\",'2.Logbook'!O332)","v":""},{"$f":"IF('2.Logbook'!P332=\"\",\"\",'2.Logbook'!P332)","v":""},{"$f":"IF('2.Logbook'!Q332=\"\",\"\",'2.Logbook'!Q332)","v":""},{"$f":"IF('2.Logbook'!R332=\"\",\"\",'2.Logbook'!R332)","v":""},{"$f":"IF('2.Logbook'!S332=\"\",\"\",'2.Logbook'!S332)","v":""},{"$f":"IF('2.Logbook'!T332=\"\",\"\",'2.Logbook'!T332)","v":""},{"$f":"IF('2.Logbook'!U332=\"\",\"\",'2.Logbook'!U332)","v":""},{"$f":"IF('2.Logbook'!V332=\"\",\"\",'2.Logbook'!V332)","v":""},{"$f":"IF('2.Logbook'!W332=\"\",\"\",'2.Logbook'!W332)","v":""},{"$f":"IF('2.Logbook'!X332=\"\",\"\",'2.Logbook'!X332)","v":""},{"$f":"IF('2.Logbook'!Y332=\"\",\"\",'2.Logbook'!Y332)","v":""},{"$f":"IF('2.Logbook'!Z332=\"\",\"\",'2.Logbook'!Z332)","v":""},{"$f":"IF('2.Logbook'!AA332=\"\",\"\",'2.Logbook'!AA332)","v":""},{"$f":"IF('2.Logbook'!AB332=\"\",\"\",'2.Logbook'!AB332)","v":""},{"$f":"IF('2.Logbook'!AC332=\"\",\"\",'2.Logbook'!AC332)","v":""},{"$f":"IF('2.Logbook'!AD332=\"\",\"\",'2.Logbook'!AD332)","v":""},{"$f":"IF('2.Logbook'!AE332=\"\",\"\",'2.Logbook'!AE332)","v":""},{"$f":"IF('2.Logbook'!AF332=\"\",\"\",'2.Logbook'!AF332)","v":""},{"$f":"IF('2.Logbook'!AG332=\"\",\"\",'2.Logbook'!AG332)","v":""}]
[{"$f":"IF('2.Logbook'!A333=\"\",\"\",'2.Logbook'!A333)","v":""},{"$f":"IF('2.Logbook'!B333=\"\",\"\",'2.Logbook'!B333)","v":""},{"$f":"IF('2.Logbook'!C333=\"\",\"\",'2.Logbook'!C333)","v":""},{"$f":"IF('2.Logbook'!D333=\"\",\"\",'2.Logbook'!D333)","v":""},{"$f":"IF('2.Logbook'!E333=\"\",\"\",'2.Logbook'!E333)","v":""},{"$f":"IF('2.Logbook'!F333=\"\",\"\",'2.Logbook'!F333)","v":""},{"$f":"IF('2.Logbook'!G333=\"\",\"\",'2.Logbook'!G333)","v":""},{"$f":"IF('2.Logbook'!H333=\"\",\"\",'2.Logbook'!H333)","v":""},{"$f":"IF('2.Logbook'!I333=\"\",\"\",'2.Logbook'!I333)","v":""},{"$f":"IF('2.Logbook'!J333=\"\",\"\",'2.Logbook'!J333)","v":""},{"$f":"IF('2.Logbook'!K333=\"\",\"\",'2.Logbook'!K333)","v":""},{"$f":"IF('2.Logbook'!L333=\"\",\"\",'2.Logbook'!L333)","v":""},{"$f":"IF('2.Logbook'!M333=\"\",\"\",'2.Logbook'!M333)","v":""},{"$f":"IF('2.Logbook'!N333=\"\",\"\",'2.Logbook'!N333)","v":""},{"$f":"IF('2.Logbook'!O333=\"\",\"\",'2.Logbook'!O333)","v":""},{"$f":"IF('2.Logbook'!P333=\"\",\"\",'2.Logbook'!P333)","v":""},{"$f":"IF('2.Logbook'!Q333=\"\",\"\",'2.Logbook'!Q333)","v":""},{"$f":"IF('2.Logbook'!R333=\"\",\"\",'2.Logbook'!R333)","v":""},{"$f":"IF('2.Logbook'!S333=\"\",\"\",'2.Logbook'!S333)","v":""},{"$f":"IF('2.Logbook'!T333=\"\",\"\",'2.Logbook'!T333)","v":""},{"$f":"IF('2.Logbook'!U333=\"\",\"\",'2.Logbook'!U333)","v":""},{"$f":"IF('2.Logbook'!V333=\"\",\"\",'2.Logbook'!V333)","v":""},{"$f":"IF('2.Logbook'!W333=\"\",\"\",'2.Logbook'!W333)","v":""},{"$f":"IF('2.Logbook'!X333=\"\",\"\",'2.Logbook'!X333)","v":""},{"$f":"IF('2.Logbook'!Y333=\"\",\"\",'2.Logbook'!Y333)","v":""},{"$f":"IF('2.Logbook'!Z333=\"\",\"\",'2.Logbook'!Z333)","v":""},{"$f":"IF('2.Logbook'!AA333=\"\",\"\",'2.Logbook'!AA333)","v":""},{"$f":"IF('2.Logbook'!AB333=\"\",\"\",'2.Logbook'!AB333)","v":""},{"$f":"IF('2.Logbook'!AC333=\"\",\"\",'2.Logbook'!AC333)","v":""},{"$f":"IF('2.Logbook'!AD333=\"\",\"\",'2.Logbook'!AD333)","v":""},{"$f":"IF('2.Logbook'!AE333=\"\",\"\",'2.Logbook'!AE333)","v":""},{"$f":"IF('2.Logbook'!AF333=\"\",\"\",'2.Logbook'!AF333)","v":""},{"$f":"IF('2.Logbook'!AG333=\"\",\"\",'2.Logbook'!AG333)","v":""}]
[{"$f":"IF('2.Logbook'!A334=\"\",\"\",'2.Logbook'!A334)","v":""},{"$f":"IF('2.Logbook'!B334=\"\",\"\",'2.Logbook'!B334)","v":""},{"$f":"IF('2.Logbook'!C334=\"\",\"\",'2.Logbook'!C334)","v":""},{"$f":"IF('2.Logbook'!D334=\"\",\"\",'2.Logbook'!D334)","v":""},{"$f":"IF('2.Logbook'!E334=\"\",\"\",'2.Logbook'!E334)","v":""},{"$f":"IF('2.Logbook'!F334=\"\",\"\",'2.Logbook'!F334)","v":""},{"$f":"IF('2.Logbook'!G334=\"\",\"\",'2.Logbook'!G334)","v":""},{"$f":"IF('2.Logbook'!H334=\"\",\"\",'2.Logbook'!H334)","v":""},{"$f":"IF('2.Logbook'!I334=\"\",\"\",'2.Logbook'!I334)","v":""},{"$f":"IF('2.Logbook'!J334=\"\",\"\",'2.Logbook'!J334)","v":""},{"$f":"IF('2.Logbook'!K334=\"\",\"\",'2.Logbook'!K334)","v":""},{"$f":"IF('2.Logbook'!L334=\"\",\"\",'2.Logbook'!L334)","v":""},{"$f":"IF('2.Logbook'!M334=\"\",\"\",'2.Logbook'!M334)","v":""},{"$f":"IF('2.Logbook'!N334=\"\",\"\",'2.Logbook'!N334)","v":""},{"$f":"IF('2.Logbook'!O334=\"\",\"\",'2.Logbook'!O334)","v":""},{"$f":"IF('2.Logbook'!P334=\"\",\"\",'2.Logbook'!P334)","v":""},{"$f":"IF('2.Logbook'!Q334=\"\",\"\",'2.Logbook'!Q334)","v":""},{"$f":"IF('2.Logbook'!R334=\"\",\"\",'2.Logbook'!R334)","v":""},{"$f":"IF('2.Logbook'!S334=\"\",\"\",'2.Logbook'!S334)","v":""},{"$f":"IF('2.Logbook'!T334=\"\",\"\",'2.Logbook'!T334)","v":""},{"$f":"IF('2.Logbook'!U334=\"\",\"\",'2.Logbook'!U334)","v":""},{"$f":"IF('2.Logbook'!V334=\"\",\"\",'2.Logbook'!V334)","v":""},{"$f":"IF('2.Logbook'!W334=\"\",\"\",'2.Logbook'!W334)","v":""},{"$f":"IF('2.Logbook'!X334=\"\",\"\",'2.Logbook'!X334)","v":""},{"$f":"IF('2.Logbook'!Y334=\"\",\"\",'2.Logbook'!Y334)","v":""},{"$f":"IF('2.Logbook'!Z334=\"\",\"\",'2.Logbook'!Z334)","v":""},{"$f":"IF('2.Logbook'!AA334=\"\",\"\",'2.Logbook'!AA334)","v":""},{"$f":"IF('2.Logbook'!AB334=\"\",\"\",'2.Logbook'!AB334)","v":""},{"$f":"IF('2.Logbook'!AC334=\"\",\"\",'2.Logbook'!AC334)","v":""},{"$f":"IF('2.Logbook'!AD334=\"\",\"\",'2.Logbook'!AD334)","v":""},{"$f":"IF('2.Logbook'!AE334=\"\",\"\",'2.Logbook'!AE334)","v":""},{"$f":"IF('2.Logbook'!AF334=\"\",\"\",'2.Logbook'!AF334)","v":""},{"$f":"IF('2.Logbook'!AG334=\"\",\"\",'2.Logbook'!AG334)","v":""}]
[{"$f":"IF('2.Logbook'!A335=\"\",\"\",'2.Logbook'!A335)","v":""},{"$f":"IF('2.Logbook'!B335=\"\",\"\",'2.Logbook'!B335)","v":""},{"$f":"IF('2.Logbook'!C335=\"\",\"\",'2.Logbook'!C335)","v":""},{"$f":"IF('2.Logbook'!D335=\"\",\"\",'2.Logbook'!D335)","v":""},{"$f":"IF('2.Logbook'!E335=\"\",\"\",'2.Logbook'!E335)","v":""},{"$f":"IF('2.Logbook'!F335=\"\",\"\",'2.Logbook'!F335)","v":""},{"$f":"IF('2.Logbook'!G335=\"\",\"\",'2.Logbook'!G335)","v":""},{"$f":"IF('2.Logbook'!H335=\"\",\"\",'2.Logbook'!H335)","v":""},{"$f":"IF('2.Logbook'!I335=\"\",\"\",'2.Logbook'!I335)","v":""},{"$f":"IF('2.Logbook'!J335=\"\",\"\",'2.Logbook'!J335)","v":""},{"$f":"IF('2.Logbook'!K335=\"\",\"\",'2.Logbook'!K335)","v":""},{"$f":"IF('2.Logbook'!L335=\"\",\"\",'2.Logbook'!L335)","v":""},{"$f":"IF('2.Logbook'!M335=\"\",\"\",'2.Logbook'!M335)","v":""},{"$f":"IF('2.Logbook'!N335=\"\",\"\",'2.Logbook'!N335)","v":""},{"$f":"IF('2.Logbook'!O335=\"\",\"\",'2.Logbook'!O335)","v":""},{"$f":"IF('2.Logbook'!P335=\"\",\"\",'2.Logbook'!P335)","v":""},{"$f":"IF('2.Logbook'!Q335=\"\",\"\",'2.Logbook'!Q335)","v":""},{"$f":"IF('2.Logbook'!R335=\"\",\"\",'2.Logbook'!R335)","v":""},{"$f":"IF('2.Logbook'!S335=\"\",\"\",'2.Logbook'!S335)","v":""},{"$f":"IF('2.Logbook'!T335=\"\",\"\",'2.Logbook'!T335)","v":""},{"$f":"IF('2.Logbook'!U335=\"\",\"\",'2.Logbook'!U335)","v":""},{"$f":"IF('2.Logbook'!V335=\"\",\"\",'2.Logbook'!V335)","v":""},{"$f":"IF('2.Logbook'!W335=\"\",\"\",'2.Logbook'!W335)","v":""},{"$f":"IF('2.Logbook'!X335=\"\",\"\",'2.Logbook'!X335)","v":""},{"$f":"IF('2.Logbook'!Y335=\"\",\"\",'2.Logbook'!Y335)","v":""},{"$f":"IF('2.Logbook'!Z335=\"\",\"\",'2.Logbook'!Z335)","v":""},{"$f":"IF('2.Logbook'!AA335=\"\",\"\",'2.Logbook'!AA335)","v":""},{"$f":"IF('2.Logbook'!AB335=\"\",\"\",'2.Logbook'!AB335)","v":""},{"$f":"IF('2.Logbook'!AC335=\"\",\"\",'2.Logbook'!AC335)","v":""},{"$f":"IF('2.Logbook'!AD335=\"\",\"\",'2.Logbook'!AD335)","v":""},{"$f":"IF('2.Logbook'!AE335=\"\",\"\",'2.Logbook'!AE335)","v":""},{"$f":"IF('2.Logbook'!AF335=\"\",\"\",'2.Logbook'!AF335)","v":""},{"$f":"IF('2.Logbook'!AG335=\"\",\"\",'2.Logbook'!AG335)","v":""}]
[{"$f":"IF('2.Logbook'!A336=\"\",\"\",'2.Logbook'!A336)","v":""},{"$f":"IF('2.Logbook'!B336=\"\",\"\",'2.Logbook'!B336)","v":""},{"$f":"IF('2.Logbook'!C336=\"\",\"\",'2.Logbook'!C336)","v":""},{"$f":"IF('2.Logbook'!D336=\"\",\"\",'2.Logbook'!D336)","v":""},{"$f":"IF('2.Logbook'!E336=\"\",\"\",'2.Logbook'!E336)","v":""},{"$f":"IF('2.Logbook'!F336=\"\",\"\",'2.Logbook'!F336)","v":""},{"$f":"IF('2.Logbook'!G336=\"\",\"\",'2.Logbook'!G336)","v":""},{"$f":"IF('2.Logbook'!H336=\"\",\"\",'2.Logbook'!H336)","v":""},{"$f":"IF('2.Logbook'!I336=\"\",\"\",'2.Logbook'!I336)","v":""},{"$f":"IF('2.Logbook'!J336=\"\",\"\",'2.Logbook'!J336)","v":""},{"$f":"IF('2.Logbook'!K336=\"\",\"\",'2.Logbook'!K336)","v":""},{"$f":"IF('2.Logbook'!L336=\"\",\"\",'2.Logbook'!L336)","v":""},{"$f":"IF('2.Logbook'!M336=\"\",\"\",'2.Logbook'!M336)","v":""},{"$f":"IF('2.Logbook'!N336=\"\",\"\",'2.Logbook'!N336)","v":""},{"$f":"IF('2.Logbook'!O336=\"\",\"\",'2.Logbook'!O336)","v":""},{"$f":"IF('2.Logbook'!P336=\"\",\"\",'2.Logbook'!P336)","v":""},{"$f":"IF('2.Logbook'!Q336=\"\",\"\",'2.Logbook'!Q336)","v":""},{"$f":"IF('2.Logbook'!R336=\"\",\"\",'2.Logbook'!R336)","v":""},{"$f":"IF('2.Logbook'!S336=\"\",\"\",'2.Logbook'!S336)","v":""},{"$f":"IF('2.Logbook'!T336=\"\",\"\",'2.Logbook'!T336)","v":""},{"$f":"IF('2.Logbook'!U336=\"\",\"\",'2.Logbook'!U336)","v":""},{"$f":"IF('2.Logbook'!V336=\"\",\"\",'2.Logbook'!V336)","v":""},{"$f":"IF('2.Logbook'!W336=\"\",\"\",'2.Logbook'!W336)","v":""},{"$f":"IF('2.Logbook'!X336=\"\",\"\",'2.Logbook'!X336)","v":""},{"$f":"IF('2.Logbook'!Y336=\"\",\"\",'2.Logbook'!Y336)","v":""},{"$f":"IF('2.Logbook'!Z336=\"\",\"\",'2.Logbook'!Z336)","v":""},{"$f":"IF('2.Logbook'!AA336=\"\",\"\",'2.Logbook'!AA336)","v":""},{"$f":"IF('2.Logbook'!AB336=\"\",\"\",'2.Logbook'!AB336)","v":""},{"$f":"IF('2.Logbook'!AC336=\"\",\"\",'2.Logbook'!AC336)","v":""},{"$f":"IF('2.Logbook'!AD336=\"\",\"\",'2.Logbook'!AD336)","v":""},{"$f":"IF('2.Logbook'!AE336=\"\",\"\",'2.Logbook'!AE336)","v":""},{"$f":"IF('2.Logbook'!AF336=\"\",\"\",'2.Logbook'!AF336)","v":""},{"$f":"IF('2.Logbook'!AG336=\"\",\"\",'2.Logbook'!AG336)","v":""}]
[{"$f":"IF('2.Logbook'!A337=\"\",\"\",'2.Logbook'!A337)","v":""},{"$f":"IF('2.Logbook'!B337=\"\",\"\",'2.Logbook'!B337)","v":""},{"$f":"IF('2.Logbook'!C337=\"\",\"\",'2.Logbook'!C337)","v":""},{"$f":"IF('2.Logbook'!D337=\"\",\"\",'2.Logbook'!D337)","v":""},{"$f":"IF('2.Logbook'!E337=\"\",\"\",'2.Logbook'!E337)","v":""},{"$f":"IF('2.Logbook'!F337=\"\",\"\",'2.Logbook'!F337)","v":""},{"$f":"IF('2.Logbook'!G337=\"\",\"\",'2.Logbook'!G337)","v":""},{"$f":"IF('2.Logbook'!H337=\"\",\"\",'2.Logbook'!H337)","v":""},{"$f":"IF('2.Logbook'!I337=\"\",\"\",'2.Logbook'!I337)","v":""},{"$f":"IF('2.Logbook'!J337=\"\",\"\",'2.Logbook'!J337)","v":""},{"$f":"IF('2.Logbook'!K337=\"\",\"\",'2.Logbook'!K337)","v":""},{"$f":"IF('2.Logbook'!L337=\"\",\"\",'2.Logbook'!L337)","v":""},{"$f":"IF('2.Logbook'!M337=\"\",\"\",'2.Logbook'!M337)","v":""},{"$f":"IF('2.Logbook'!N337=\"\",\"\",'2.Logbook'!N337)","v":""},{"$f":"IF('2.Logbook'!O337=\"\",\"\",'2.Logbook'!O337)","v":""},{"$f":"IF('2.Logbook'!P337=\"\",\"\",'2.Logbook'!P337)","v":""},{"$f":"IF('2.Logbook'!Q337=\"\",\"\",'2.Logbook'!Q337)","v":""},{"$f":"IF('2.Logbook'!R337=\"\",\"\",'2.Logbook'!R337)","v":""},{"$f":"IF('2.Logbook'!S337=\"\",\"\",'2.Logbook'!S337)","v":""},{"$f":"IF('2.Logbook'!T337=\"\",\"\",'2.Logbook'!T337)","v":""},{"$f":"IF('2.Logbook'!U337=\"\",\"\",'2.Logbook'!U337)","v":""},{"$f":"IF('2.Logbook'!V337=\"\",\"\",'2.Logbook'!V337)","v":""},{"$f":"IF('2.Logbook'!W337=\"\",\"\",'2.Logbook'!W337)","v":""},{"$f":"IF('2.Logbook'!X337=\"\",\"\",'2.Logbook'!X337)","v":""},{"$f":"IF('2.Logbook'!Y337=\"\",\"\",'2.Logbook'!Y337)","v":""},{"$f":"IF('2.Logbook'!Z337=\"\",\"\",'2.Logbook'!Z337)","v":""},{"$f":"IF('2.Logbook'!AA337=\"\",\"\",'2.Logbook'!AA337)","v":""},{"$f":"IF('2.Logbook'!AB337=\"\",\"\",'2.Logbook'!AB337)","v":""},{"$f":"IF('2.Logbook'!AC337=\"\",\"\",'2.Logbook'!AC337)","v":""},{"$f":"IF('2.Logbook'!AD337=\"\",\"\",'2.Logbook'!AD337)","v":""},{"$f":"IF('2.Logbook'!AE337=\"\",\"\",'2.Logbook'!AE337)","v":""},{"$f":"IF('2.Logbook'!AF337=\"\",\"\",'2.Logbook'!AF337)","v":""},{"$f":"IF('2.Logbook'!AG337=\"\",\"\",'2.Logbook'!AG337)","v":""}]
[{"$f":"IF('2.Logbook'!A338=\"\",\"\",'2.Logbook'!A338)","v":""},{"$f":"IF('2.Logbook'!B338=\"\",\"\",'2.Logbook'!B338)","v":""},{"$f":"IF('2.Logbook'!C338=\"\",\"\",'2.Logbook'!C338)","v":""},{"$f":"IF('2.Logbook'!D338=\"\",\"\",'2.Logbook'!D338)","v":""},{"$f":"IF('2.Logbook'!E338=\"\",\"\",'2.Logbook'!E338)","v":""},{"$f":"IF('2.Logbook'!F338=\"\",\"\",'2.Logbook'!F338)","v":""},{"$f":"IF('2.Logbook'!G338=\"\",\"\",'2.Logbook'!G338)","v":""},{"$f":"IF('2.Logbook'!H338=\"\",\"\",'2.Logbook'!H338)","v":""},{"$f":"IF('2.Logbook'!I338=\"\",\"\",'2.Logbook'!I338)","v":""},{"$f":"IF('2.Logbook'!J338=\"\",\"\",'2.Logbook'!J338)","v":""},{"$f":"IF('2.Logbook'!K338=\"\",\"\",'2.Logbook'!K338)","v":""},{"$f":"IF('2.Logbook'!L338=\"\",\"\",'2.Logbook'!L338)","v":""},{"$f":"IF('2.Logbook'!M338=\"\",\"\",'2.Logbook'!M338)","v":""},{"$f":"IF('2.Logbook'!N338=\"\",\"\",'2.Logbook'!N338)","v":""},{"$f":"IF('2.Logbook'!O338=\"\",\"\",'2.Logbook'!O338)","v":""},{"$f":"IF('2.Logbook'!P338=\"\",\"\",'2.Logbook'!P338)","v":""},{"$f":"IF('2.Logbook'!Q338=\"\",\"\",'2.Logbook'!Q338)","v":""},{"$f":"IF('2.Logbook'!R338=\"\",\"\",'2.Logbook'!R338)","v":""},{"$f":"IF('2.Logbook'!S338=\"\",\"\",'2.Logbook'!S338)","v":""},{"$f":"IF('2.Logbook'!T338=\"\",\"\",'2.Logbook'!T338)","v":""},{"$f":"IF('2.Logbook'!U338=\"\",\"\",'2.Logbook'!U338)","v":""},{"$f":"IF('2.Logbook'!V338=\"\",\"\",'2.Logbook'!V338)","v":""},{"$f":"IF('2.Logbook'!W338=\"\",\"\",'2.Logbook'!W338)","v":""},{"$f":"IF('2.Logbook'!X338=\"\",\"\",'2.Logbook'!X338)","v":""},{"$f":"IF('2.Logbook'!Y338=\"\",\"\",'2.Logbook'!Y338)","v":""},{"$f":"IF('2.Logbook'!Z338=\"\",\"\",'2.Logbook'!Z338)","v":""},{"$f":"IF('2.Logbook'!AA338=\"\",\"\",'2.Logbook'!AA338)","v":""},{"$f":"IF('2.Logbook'!AB338=\"\",\"\",'2.Logbook'!AB338)","v":""},{"$f":"IF('2.Logbook'!AC338=\"\",\"\",'2.Logbook'!AC338)","v":""},{"$f":"IF('2.Logbook'!AD338=\"\",\"\",'2.Logbook'!AD338)","v":""},{"$f":"IF('2.Logbook'!AE338=\"\",\"\",'2.Logbook'!AE338)","v":""},{"$f":"IF('2.Logbook'!AF338=\"\",\"\",'2.Logbook'!AF338)","v":""},{"$f":"IF('2.Logbook'!AG338=\"\",\"\",'2.Logbook'!AG338)","v":""}]
[{"$f":"IF('2.Logbook'!A339=\"\",\"\",'2.Logbook'!A339)","v":""},{"$f":"IF('2.Logbook'!B339=\"\",\"\",'2.Logbook'!B339)","v":""},{"$f":"IF('2.Logbook'!C339=\"\",\"\",'2.Logbook'!C339)","v":""},{"$f":"IF('2.Logbook'!D339=\"\",\"\",'2.Logbook'!D339)","v":""},{"$f":"IF('2.Logbook'!E339=\"\",\"\",'2.Logbook'!E339)","v":""},{"$f":"IF('2.Logbook'!F339=\"\",\"\",'2.Logbook'!F339)","v":""},{"$f":"IF('2.Logbook'!G339=\"\",\"\",'2.Logbook'!G339)","v":""},{"$f":"IF('2.Logbook'!H339=\"\",\"\",'2.Logbook'!H339)","v":""},{"$f":"IF('2.Logbook'!I339=\"\",\"\",'2.Logbook'!I339)","v":""},{"$f":"IF('2.Logbook'!J339=\"\",\"\",'2.Logbook'!J339)","v":""},{"$f":"IF('2.Logbook'!K339=\"\",\"\",'2.Logbook'!K339)","v":""},{"$f":"IF('2.Logbook'!L339=\"\",\"\",'2.Logbook'!L339)","v":""},{"$f":"IF('2.Logbook'!M339=\"\",\"\",'2.Logbook'!M339)","v":""},{"$f":"IF('2.Logbook'!N339=\"\",\"\",'2.Logbook'!N339)","v":""},{"$f":"IF('2.Logbook'!O339=\"\",\"\",'2.Logbook'!O339)","v":""},{"$f":"IF('2.Logbook'!P339=\"\",\"\",'2.Logbook'!P339)","v":""},{"$f":"IF('2.Logbook'!Q339=\"\",\"\",'2.Logbook'!Q339)","v":""},{"$f":"IF('2.Logbook'!R339=\"\",\"\",'2.Logbook'!R339)","v":""},{"$f":"IF('2.Logbook'!S339=\"\",\"\",'2.Logbook'!S339)","v":""},{"$f":"IF('2.Logbook'!T339=\"\",\"\",'2.Logbook'!T339)","v":""},{"$f":"IF('2.Logbook'!U339=\"\",\"\",'2.Logbook'!U339)","v":""},{"$f":"IF('2.Logbook'!V339=\"\",\"\",'2.Logbook'!V339)","v":""},{"$f":"IF('2.Logbook'!W339=\"\",\"\",'2.Logbook'!W339)","v":""},{"$f":"IF('2.Logbook'!X339=\"\",\"\",'2.Logbook'!X339)","v":""},{"$f":"IF('2.Logbook'!Y339=\"\",\"\",'2.Logbook'!Y339)","v":""},{"$f":"IF('2.Logbook'!Z339=\"\",\"\",'2.Logbook'!Z339)","v":""},{"$f":"IF('2.Logbook'!AA339=\"\",\"\",'2.Logbook'!AA339)","v":""},{"$f":"IF('2.Logbook'!AB339=\"\",\"\",'2.Logbook'!AB339)","v":""},{"$f":"IF('2.Logbook'!AC339=\"\",\"\",'2.Logbook'!AC339)","v":""},{"$f":"IF('2.Logbook'!AD339=\"\",\"\",'2.Logbook'!AD339)","v":""},{"$f":"IF('2.Logbook'!AE339=\"\",\"\",'2.Logbook'!AE339)","v":""},{"$f":"IF('2.Logbook'!AF339=\"\",\"\",'2.Logbook'!AF339)","v":""},{"$f":"IF('2.Logbook'!AG339=\"\",\"\",'2.Logbook'!AG339)","v":""}]
[{"$f":"IF('2.Logbook'!A340=\"\",\"\",'2.Logbook'!A340)","v":""},{"$f":"IF('2.Logbook'!B340=\"\",\"\",'2.Logbook'!B340)","v":""},{"$f":"IF('2.Logbook'!C340=\"\",\"\",'2.Logbook'!C340)","v":""},{"$f":"IF('2.Logbook'!D340=\"\",\"\",'2.Logbook'!D340)","v":""},{"$f":"IF('2.Logbook'!E340=\"\",\"\",'2.Logbook'!E340)","v":""},{"$f":"IF('2.Logbook'!F340=\"\",\"\",'2.Logbook'!F340)","v":""},{"$f":"IF('2.Logbook'!G340=\"\",\"\",'2.Logbook'!G340)","v":""},{"$f":"IF('2.Logbook'!H340=\"\",\"\",'2.Logbook'!H340)","v":""},{"$f":"IF('2.Logbook'!I340=\"\",\"\",'2.Logbook'!I340)","v":""},{"$f":"IF('2.Logbook'!J340=\"\",\"\",'2.Logbook'!J340)","v":""},{"$f":"IF('2.Logbook'!K340=\"\",\"\",'2.Logbook'!K340)","v":""},{"$f":"IF('2.Logbook'!L340=\"\",\"\",'2.Logbook'!L340)","v":""},{"$f":"IF('2.Logbook'!M340=\"\",\"\",'2.Logbook'!M340)","v":""},{"$f":"IF('2.Logbook'!N340=\"\",\"\",'2.Logbook'!N340)","v":""},{"$f":"IF('2.Logbook'!O340=\"\",\"\",'2.Logbook'!O340)","v":""},{"$f":"IF('2.Logbook'!P340=\"\",\"\",'2.Logbook'!P340)","v":""},{"$f":"IF('2.Logbook'!Q340=\"\",\"\",'2.Logbook'!Q340)","v":""},{"$f":"IF('2.Logbook'!R340=\"\",\"\",'2.Logbook'!R340)","v":""},{"$f":"IF('2.Logbook'!S340=\"\",\"\",'2.Logbook'!S340)","v":""},{"$f":"IF('2.Logbook'!T340=\"\",\"\",'2.Logbook'!T340)","v":""},{"$f":"IF('2.Logbook'!U340=\"\",\"\",'2.Logbook'!U340)","v":""},{"$f":"IF('2.Logbook'!V340=\"\",\"\",'2.Logbook'!V340)","v":""},{"$f":"IF('2.Logbook'!W340=\"\",\"\",'2.Logbook'!W340)","v":""},{"$f":"IF('2.Logbook'!X340=\"\",\"\",'2.Logbook'!X340)","v":""},{"$f":"IF('2.Logbook'!Y340=\"\",\"\",'2.Logbook'!Y340)","v":""},{"$f":"IF('2.Logbook'!Z340=\"\",\"\",'2.Logbook'!Z340)","v":""},{"$f":"IF('2.Logbook'!AA340=\"\",\"\",'2.Logbook'!AA340)","v":""},{"$f":"IF('2.Logbook'!AB340=\"\",\"\",'2.Logbook'!AB340)","v":""},{"$f":"IF('2.Logbook'!AC340=\"\",\"\",'2.Logbook'!AC340)","v":""},{"$f":"IF('2.Logbook'!AD340=\"\",\"\",'2.Logbook'!AD340)","v":""},{"$f":"IF('2.Logbook'!AE340=\"\",\"\",'2.Logbook'!AE340)","v":""},{"$f":"IF('2.Logbook'!AF340=\"\",\"\",'2.Logbook'!AF340)","v":""},{"$f":"IF('2.Logbook'!AG340=\"\",\"\",'2.Logbook'!AG340)","v":""}]
[{"$f":"IF('2.Logbook'!A341=\"\",\"\",'2.Logbook'!A341)","v":""},{"$f":"IF('2.Logbook'!B341=\"\",\"\",'2.Logbook'!B341)","v":""},{"$f":"IF('2.Logbook'!C341=\"\",\"\",'2.Logbook'!C341)","v":""},{"$f":"IF('2.Logbook'!D341=\"\",\"\",'2.Logbook'!D341)","v":""},{"$f":"IF('2.Logbook'!E341=\"\",\"\",'2.Logbook'!E341)","v":""},{"$f":"IF('2.Logbook'!F341=\"\",\"\",'2.Logbook'!F341)","v":""},{"$f":"IF('2.Logbook'!G341=\"\",\"\",'2.Logbook'!G341)","v":""},{"$f":"IF('2.Logbook'!H341=\"\",\"\",'2.Logbook'!H341)","v":""},{"$f":"IF('2.Logbook'!I341=\"\",\"\",'2.Logbook'!I341)","v":""},{"$f":"IF('2.Logbook'!J341=\"\",\"\",'2.Logbook'!J341)","v":""},{"$f":"IF('2.Logbook'!K341=\"\",\"\",'2.Logbook'!K341)","v":""},{"$f":"IF('2.Logbook'!L341=\"\",\"\",'2.Logbook'!L341)","v":""},{"$f":"IF('2.Logbook'!M341=\"\",\"\",'2.Logbook'!M341)","v":""},{"$f":"IF('2.Logbook'!N341=\"\",\"\",'2.Logbook'!N341)","v":""},{"$f":"IF('2.Logbook'!O341=\"\",\"\",'2.Logbook'!O341)","v":""},{"$f":"IF('2.Logbook'!P341=\"\",\"\",'2.Logbook'!P341)","v":""},{"$f":"IF('2.Logbook'!Q341=\"\",\"\",'2.Logbook'!Q341)","v":""},{"$f":"IF('2.Logbook'!R341=\"\",\"\",'2.Logbook'!R341)","v":""},{"$f":"IF('2.Logbook'!S341=\"\",\"\",'2.Logbook'!S341)","v":""},{"$f":"IF('2.Logbook'!T341=\"\",\"\",'2.Logbook'!T341)","v":""},{"$f":"IF('2.Logbook'!U341=\"\",\"\",'2.Logbook'!U341)","v":""},{"$f":"IF('2.Logbook'!V341=\"\",\"\",'2.Logbook'!V341)","v":""},{"$f":"IF('2.Logbook'!W341=\"\",\"\",'2.Logbook'!W341)","v":""},{"$f":"IF('2.Logbook'!X341=\"\",\"\",'2.Logbook'!X341)","v":""},{"$f":"IF('2.Logbook'!Y341=\"\",\"\",'2.Logbook'!Y341)","v":""},{"$f":"IF('2.Logbook'!Z341=\"\",\"\",'2.Logbook'!Z341)","v":""},{"$f":"IF('2.Logbook'!AA341=\"\",\"\",'2.Logbook'!AA341)","v":""},{"$f":"IF('2.Logbook'!AB341=\"\",\"\",'2.Logbook'!AB341)","v":""},{"$f":"IF('2.Logbook'!AC341=\"\",\"\",'2.Logbook'!AC341)","v":""},{"$f":"IF('2.Logbook'!AD341=\"\",\"\",'2.Logbook'!AD341)","v":""},{"$f":"IF('2.Logbook'!AE341=\"\",\"\",'2.Logbook'!AE341)","v":""},{"$f":"IF('2.Logbook'!AF341=\"\",\"\",'2.Logbook'!AF341)","v":""},{"$f":"IF('2.Logbook'!AG341=\"\",\"\",'2.Logbook'!AG341)","v":""}]
[{"$f":"IF('2.Logbook'!A342=\"\",\"\",'2.Logbook'!A342)","v":""},{"$f":"IF('2.Logbook'!B342=\"\",\"\",'2.Logbook'!B342)","v":""},{"$f":"IF('2.Logbook'!C342=\"\",\"\",'2.Logbook'!C342)","v":""},{"$f":"IF('2.Logbook'!D342=\"\",\"\",'2.Logbook'!D342)","v":""},{"$f":"IF('2.Logbook'!E342=\"\",\"\",'2.Logbook'!E342)","v":""},{"$f":"IF('2.Logbook'!F342=\"\",\"\",'2.Logbook'!F342)","v":""},{"$f":"IF('2.Logbook'!G342=\"\",\"\",'2.Logbook'!G342)","v":""},{"$f":"IF('2.Logbook'!H342=\"\",\"\",'2.Logbook'!H342)","v":""},{"$f":"IF('2.Logbook'!I342=\"\",\"\",'2.Logbook'!I342)","v":""},{"$f":"IF('2.Logbook'!J342=\"\",\"\",'2.Logbook'!J342)","v":""},{"$f":"IF('2.Logbook'!K342=\"\",\"\",'2.Logbook'!K342)","v":""},{"$f":"IF('2.Logbook'!L342=\"\",\"\",'2.Logbook'!L342)","v":""},{"$f":"IF('2.Logbook'!M342=\"\",\"\",'2.Logbook'!M342)","v":""},{"$f":"IF('2.Logbook'!N342=\"\",\"\",'2.Logbook'!N342)","v":""},{"$f":"IF('2.Logbook'!O342=\"\",\"\",'2.Logbook'!O342)","v":""},{"$f":"IF('2.Logbook'!P342=\"\",\"\",'2.Logbook'!P342)","v":""},{"$f":"IF('2.Logbook'!Q342=\"\",\"\",'2.Logbook'!Q342)","v":""},{"$f":"IF('2.Logbook'!R342=\"\",\"\",'2.Logbook'!R342)","v":""},{"$f":"IF('2.Logbook'!S342=\"\",\"\",'2.Logbook'!S342)","v":""},{"$f":"IF('2.Logbook'!T342=\"\",\"\",'2.Logbook'!T342)","v":""},{"$f":"IF('2.Logbook'!U342=\"\",\"\",'2.Logbook'!U342)","v":""},{"$f":"IF('2.Logbook'!V342=\"\",\"\",'2.Logbook'!V342)","v":""},{"$f":"IF('2.Logbook'!W342=\"\",\"\",'2.Logbook'!W342)","v":""},{"$f":"IF('2.Logbook'!X342=\"\",\"\",'2.Logbook'!X342)","v":""},{"$f":"IF('2.Logbook'!Y342=\"\",\"\",'2.Logbook'!Y342)","v":""},{"$f":"IF('2.Logbook'!Z342=\"\",\"\",'2.Logbook'!Z342)","v":""},{"$f":"IF('2.Logbook'!AA342=\"\",\"\",'2.Logbook'!AA342)","v":""},{"$f":"IF('2.Logbook'!AB342=\"\",\"\",'2.Logbook'!AB342)","v":""},{"$f":"IF('2.Logbook'!AC342=\"\",\"\",'2.Logbook'!AC342)","v":""},{"$f":"IF('2.Logbook'!AD342=\"\",\"\",'2.Logbook'!AD342)","v":""},{"$f":"IF('2.Logbook'!AE342=\"\",\"\",'2.Logbook'!AE342)","v":""},{"$f":"IF('2.Logbook'!AF342=\"\",\"\",'2.Logbook'!AF342)","v":""},{"$f":"IF('2.Logbook'!AG342=\"\",\"\",'2.Logbook'!AG342)","v":""}]
[{"$f":"IF('2.Logbook'!A343=\"\",\"\",'2.Logbook'!A343)","v":""},{"$f":"IF('2.Logbook'!B343=\"\",\"\",'2.Logbook'!B343)","v":""},{"$f":"IF('2.Logbook'!C343=\"\",\"\",'2.Logbook'!C343)","v":""},{"$f":"IF('2.Logbook'!D343=\"\",\"\",'2.Logbook'!D343)","v":""},{"$f":"IF('2.Logbook'!E343=\"\",\"\",'2.Logbook'!E343)","v":""},{"$f":"IF('2.Logbook'!F343=\"\",\"\",'2.Logbook'!F343)","v":""},{"$f":"IF('2.Logbook'!G343=\"\",\"\",'2.Logbook'!G343)","v":""},{"$f":"IF('2.Logbook'!H343=\"\",\"\",'2.Logbook'!H343)","v":""},{"$f":"IF('2.Logbook'!I343=\"\",\"\",'2.Logbook'!I343)","v":""},{"$f":"IF('2.Logbook'!J343=\"\",\"\",'2.Logbook'!J343)","v":""},{"$f":"IF('2.Logbook'!K343=\"\",\"\",'2.Logbook'!K343)","v":""},{"$f":"IF('2.Logbook'!L343=\"\",\"\",'2.Logbook'!L343)","v":""},{"$f":"IF('2.Logbook'!M343=\"\",\"\",'2.Logbook'!M343)","v":""},{"$f":"IF('2.Logbook'!N343=\"\",\"\",'2.Logbook'!N343)","v":""},{"$f":"IF('2.Logbook'!O343=\"\",\"\",'2.Logbook'!O343)","v":""},{"$f":"IF('2.Logbook'!P343=\"\",\"\",'2.Logbook'!P343)","v":""},{"$f":"IF('2.Logbook'!Q343=\"\",\"\",'2.Logbook'!Q343)","v":""},{"$f":"IF('2.Logbook'!R343=\"\",\"\",'2.Logbook'!R343)","v":""},{"$f":"IF('2.Logbook'!S343=\"\",\"\",'2.Logbook'!S343)","v":""},{"$f":"IF('2.Logbook'!T343=\"\",\"\",'2.Logbook'!T343)","v":""},{"$f":"IF('2.Logbook'!U343=\"\",\"\",'2.Logbook'!U343)","v":""},{"$f":"IF('2.Logbook'!V343=\"\",\"\",'2.Logbook'!V343)","v":""},{"$f":"IF('2.Logbook'!W343=\"\",\"\",'2.Logbook'!W343)","v":""},{"$f":"IF('2.Logbook'!X343=\"\",\"\",'2.Logbook'!X343)","v":""},{"$f":"IF('2.Logbook'!Y343=\"\",\"\",'2.Logbook'!Y343)","v":""},{"$f":"IF('2.Logbook'!Z343=\"\",\"\",'2.Logbook'!Z343)","v":""},{"$f":"IF('2.Logbook'!AA343=\"\",\"\",'2.Logbook'!AA343)","v":""},{"$f":"IF('2.Logbook'!AB343=\"\",\"\",'2.Logbook'!AB343)","v":""},{"$f":"IF('2.Logbook'!AC343=\"\",\"\",'2.Logbook'!AC343)","v":""},{"$f":"IF('2.Logbook'!AD343=\"\",\"\",'2.Logbook'!AD343)","v":""},{"$f":"IF('2.Logbook'!AE343=\"\",\"\",'2.Logbook'!AE343)","v":""},{"$f":"IF('2.Logbook'!AF343=\"\",\"\",'2.Logbook'!AF343)","v":""},{"$f":"IF('2.Logbook'!AG343=\"\",\"\",'2.Logbook'!AG343)","v":""}]
[{"$f":"IF('2.Logbook'!A344=\"\",\"\",'2.Logbook'!A344)","v":""},{"$f":"IF('2.Logbook'!B344=\"\",\"\",'2.Logbook'!B344)","v":""},{"$f":"IF('2.Logbook'!C344=\"\",\"\",'2.Logbook'!C344)","v":""},{"$f":"IF('2.Logbook'!D344=\"\",\"\",'2.Logbook'!D344)","v":""},{"$f":"IF('2.Logbook'!E344=\"\",\"\",'2.Logbook'!E344)","v":""},{"$f":"IF('2.Logbook'!F344=\"\",\"\",'2.Logbook'!F344)","v":""},{"$f":"IF('2.Logbook'!G344=\"\",\"\",'2.Logbook'!G344)","v":""},{"$f":"IF('2.Logbook'!H344=\"\",\"\",'2.Logbook'!H344)","v":""},{"$f":"IF('2.Logbook'!I344=\"\",\"\",'2.Logbook'!I344)","v":""},{"$f":"IF('2.Logbook'!J344=\"\",\"\",'2.Logbook'!J344)","v":""},{"$f":"IF('2.Logbook'!K344=\"\",\"\",'2.Logbook'!K344)","v":""},{"$f":"IF('2.Logbook'!L344=\"\",\"\",'2.Logbook'!L344)","v":""},{"$f":"IF('2.Logbook'!M344=\"\",\"\",'2.Logbook'!M344)","v":""},{"$f":"IF('2.Logbook'!N344=\"\",\"\",'2.Logbook'!N344)","v":""},{"$f":"IF('2.Logbook'!O344=\"\",\"\",'2.Logbook'!O344)","v":""},{"$f":"IF('2.Logbook'!P344=\"\",\"\",'2.Logbook'!P344)","v":""},{"$f":"IF('2.Logbook'!Q344=\"\",\"\",'2.Logbook'!Q344)","v":""},{"$f":"IF('2.Logbook'!R344=\"\",\"\",'2.Logbook'!R344)","v":""},{"$f":"IF('2.Logbook'!S344=\"\",\"\",'2.Logbook'!S344)","v":""},{"$f":"IF('2.Logbook'!T344=\"\",\"\",'2.Logbook'!T344)","v":""},{"$f":"IF('2.Logbook'!U344=\"\",\"\",'2.Logbook'!U344)","v":""},{"$f":"IF('2.Logbook'!V344=\"\",\"\",'2.Logbook'!V344)","v":""},{"$f":"IF('2.Logbook'!W344=\"\",\"\",'2.Logbook'!W344)","v":""},{"$f":"IF('2.Logbook'!X344=\"\",\"\",'2.Logbook'!X344)","v":""},{"$f":"IF('2.Logbook'!Y344=\"\",\"\",'2.Logbook'!Y344)","v":""},{"$f":"IF('2.Logbook'!Z344=\"\",\"\",'2.Logbook'!Z344)","v":""},{"$f":"IF('2.Logbook'!AA344=\"\",\"\",'2.Logbook'!AA344)","v":""},{"$f":"IF('2.Logbook'!AB344=\"\",\"\",'2.Logbook'!AB344)","v":""},{"$f":"IF('2.Logbook'!AC344=\"\",\"\",'2.Logbook'!AC344)","v":""},{"$f":"IF('2.Logbook'!AD344=\"\",\"\",'2.Logbook'!AD344)","v":""},{"$f":"IF('2.Logbook'!AE344=\"\",\"\",'2.Logbook'!AE344)","v":""},{"$f":"IF('2.Logbook'!AF344=\"\",\"\",'2.Logbook'!AF344)","v":""},{"$f":"IF('2.Logbook'!AG344=\"\",\"\",'2.Logbook'!AG344)","v":""}]
[{"$f":"IF('2.Logbook'!A345=\"\",\"\",'2.Logbook'!A345)","v":""},{"$f":"IF('2.Logbook'!B345=\"\",\"\",'2.Logbook'!B345)","v":""},{"$f":"IF('2.Logbook'!C345=\"\",\"\",'2.Logbook'!C345)","v":""},{"$f":"IF('2.Logbook'!D345=\"\",\"\",'2.Logbook'!D345)","v":""},{"$f":"IF('2.Logbook'!E345=\"\",\"\",'2.Logbook'!E345)","v":""},{"$f":"IF('2.Logbook'!F345=\"\",\"\",'2.Logbook'!F345)","v":""},{"$f":"IF('2.Logbook'!G345=\"\",\"\",'2.Logbook'!G345)","v":""},{"$f":"IF('2.Logbook'!H345=\"\",\"\",'2.Logbook'!H345)","v":""},{"$f":"IF('2.Logbook'!I345=\"\",\"\",'2.Logbook'!I345)","v":""},{"$f":"IF('2.Logbook'!J345=\"\",\"\",'2.Logbook'!J345)","v":""},{"$f":"IF('2.Logbook'!K345=\"\",\"\",'2.Logbook'!K345)","v":""},{"$f":"IF('2.Logbook'!L345=\"\",\"\",'2.Logbook'!L345)","v":""},{"$f":"IF('2.Logbook'!M345=\"\",\"\",'2.Logbook'!M345)","v":""},{"$f":"IF('2.Logbook'!N345=\"\",\"\",'2.Logbook'!N345)","v":""},{"$f":"IF('2.Logbook'!O345=\"\",\"\",'2.Logbook'!O345)","v":""},{"$f":"IF('2.Logbook'!P345=\"\",\"\",'2.Logbook'!P345)","v":""},{"$f":"IF('2.Logbook'!Q345=\"\",\"\",'2.Logbook'!Q345)","v":""},{"$f":"IF('2.Logbook'!R345=\"\",\"\",'2.Logbook'!R345)","v":""},{"$f":"IF('2.Logbook'!S345=\"\",\"\",'2.Logbook'!S345)","v":""},{"$f":"IF('2.Logbook'!T345=\"\",\"\",'2.Logbook'!T345)","v":""},{"$f":"IF('2.Logbook'!U345=\"\",\"\",'2.Logbook'!U345)","v":""},{"$f":"IF('2.Logbook'!V345=\"\",\"\",'2.Logbook'!V345)","v":""},{"$f":"IF('2.Logbook'!W345=\"\",\"\",'2.Logbook'!W345)","v":""},{"$f":"IF('2.Logbook'!X345=\"\",\"\",'2.Logbook'!X345)","v":""},{"$f":"IF('2.Logbook'!Y345=\"\",\"\",'2.Logbook'!Y345)","v":""},{"$f":"IF('2.Logbook'!Z345=\"\",\"\",'2.Logbook'!Z345)","v":""},{"$f":"IF('2.Logbook'!AA345=\"\",\"\",'2.Logbook'!AA345)","v":""},{"$f":"IF('2.Logbook'!AB345=\"\",\"\",'2.Logbook'!AB345)","v":""},{"$f":"IF('2.Logbook'!AC345=\"\",\"\",'2.Logbook'!AC345)","v":""},{"$f":"IF('2.Logbook'!AD345=\"\",\"\",'2.Logbook'!AD345)","v":""},{"$f":"IF('2.Logbook'!AE345=\"\",\"\",'2.Logbook'!AE345)","v":""},{"$f":"IF('2.Logbook'!AF345=\"\",\"\",'2.Logbook'!AF345)","v":""},{"$f":"IF('2.Logbook'!AG345=\"\",\"\",'2.Logbook'!AG345)","v":""}]
[{"$f":"IF('2.Logbook'!A346=\"\",\"\",'2.Logbook'!A346)","v":""},{"$f":"IF('2.Logbook'!B346=\"\",\"\",'2.Logbook'!B346)","v":""},{"$f":"IF('2.Logbook'!C346=\"\",\"\",'2.Logbook'!C346)","v":""},{"$f":"IF('2.Logbook'!D346=\"\",\"\",'2.Logbook'!D346)","v":""},{"$f":"IF('2.Logbook'!E346=\"\",\"\",'2.Logbook'!E346)","v":""},{"$f":"IF('2.Logbook'!F346=\"\",\"\",'2.Logbook'!F346)","v":""},{"$f":"IF('2.Logbook'!G346=\"\",\"\",'2.Logbook'!G346)","v":""},{"$f":"IF('2.Logbook'!H346=\"\",\"\",'2.Logbook'!H346)","v":""},{"$f":"IF('2.Logbook'!I346=\"\",\"\",'2.Logbook'!I346)","v":""},{"$f":"IF('2.Logbook'!J346=\"\",\"\",'2.Logbook'!J346)","v":""},{"$f":"IF('2.Logbook'!K346=\"\",\"\",'2.Logbook'!K346)","v":""},{"$f":"IF('2.Logbook'!L346=\"\",\"\",'2.Logbook'!L346)","v":""},{"$f":"IF('2.Logbook'!M346=\"\",\"\",'2.Logbook'!M346)","v":""},{"$f":"IF('2.Logbook'!N346=\"\",\"\",'2.Logbook'!N346)","v":""},{"$f":"IF('2.Logbook'!O346=\"\",\"\",'2.Logbook'!O346)","v":""},{"$f":"IF('2.Logbook'!P346=\"\",\"\",'2.Logbook'!P346)","v":""},{"$f":"IF('2.Logbook'!Q346=\"\",\"\",'2.Logbook'!Q346)","v":""},{"$f":"IF('2.Logbook'!R346=\"\",\"\",'2.Logbook'!R346)","v":""},{"$f":"IF('2.Logbook'!S346=\"\",\"\",'2.Logbook'!S346)","v":""},{"$f":"IF('2.Logbook'!T346=\"\",\"\",'2.Logbook'!T346)","v":""},{"$f":"IF('2.Logbook'!U346=\"\",\"\",'2.Logbook'!U346)","v":""},{"$f":"IF('2.Logbook'!V346=\"\",\"\",'2.Logbook'!V346)","v":""},{"$f":"IF('2.Logbook'!W346=\"\",\"\",'2.Logbook'!W346)","v":""},{"$f":"IF('2.Logbook'!X346=\"\",\"\",'2.Logbook'!X346)","v":""},{"$f":"IF('2.Logbook'!Y346=\"\",\"\",'2.Logbook'!Y346)","v":""},{"$f":"IF('2.Logbook'!Z346=\"\",\"\",'2.Logbook'!Z346)","v":""},{"$f":"IF('2.Logbook'!AA346=\"\",\"\",'2.Logbook'!AA346)","v":""},{"$f":"IF('2.Logbook'!AB346=\"\",\"\",'2.Logbook'!AB346)","v":""},{"$f":"IF('2.Logbook'!AC346=\"\",\"\",'2.Logbook'!AC346)","v":""},{"$f":"IF('2.Logbook'!AD346=\"\",\"\",'2.Logbook'!AD346)","v":""},{"$f":"IF('2.Logbook'!AE346=\"\",\"\",'2.Logbook'!AE346)","v":""},{"$f":"IF('2.Logbook'!AF346=\"\",\"\",'2.Logbook'!AF346)","v":""},{"$f":"IF('2.Logbook'!AG346=\"\",\"\",'2.Logbook'!AG346)","v":""}]
[{"$f":"IF('2.Logbook'!A347=\"\",\"\",'2.Logbook'!A347)","v":""},{"$f":"IF('2.Logbook'!B347=\"\",\"\",'2.Logbook'!B347)","v":""},{"$f":"IF('2.Logbook'!C347=\"\",\"\",'2.Logbook'!C347)","v":""},{"$f":"IF('2.Logbook'!D347=\"\",\"\",'2.Logbook'!D347)","v":""},{"$f":"IF('2.Logbook'!E347=\"\",\"\",'2.Logbook'!E347)","v":""},{"$f":"IF('2.Logbook'!F347=\"\",\"\",'2.Logbook'!F347)","v":""},{"$f":"IF('2.Logbook'!G347=\"\",\"\",'2.Logbook'!G347)","v":""},{"$f":"IF('2.Logbook'!H347=\"\",\"\",'2.Logbook'!H347)","v":""},{"$f":"IF('2.Logbook'!I347=\"\",\"\",'2.Logbook'!I347)","v":""},{"$f":"IF('2.Logbook'!J347=\"\",\"\",'2.Logbook'!J347)","v":""},{"$f":"IF('2.Logbook'!K347=\"\",\"\",'2.Logbook'!K347)","v":""},{"$f":"IF('2.Logbook'!L347=\"\",\"\",'2.Logbook'!L347)","v":""},{"$f":"IF('2.Logbook'!M347=\"\",\"\",'2.Logbook'!M347)","v":""},{"$f":"IF('2.Logbook'!N347=\"\",\"\",'2.Logbook'!N347)","v":""},{"$f":"IF('2.Logbook'!O347=\"\",\"\",'2.Logbook'!O347)","v":""},{"$f":"IF('2.Logbook'!P347=\"\",\"\",'2.Logbook'!P347)","v":""},{"$f":"IF('2.Logbook'!Q347=\"\",\"\",'2.Logbook'!Q347)","v":""},{"$f":"IF('2.Logbook'!R347=\"\",\"\",'2.Logbook'!R347)","v":""},{"$f":"IF('2.Logbook'!S347=\"\",\"\",'2.Logbook'!S347)","v":""},{"$f":"IF('2.Logbook'!T347=\"\",\"\",'2.Logbook'!T347)","v":""},{"$f":"IF('2.Logbook'!U347=\"\",\"\",'2.Logbook'!U347)","v":""},{"$f":"IF('2.Logbook'!V347=\"\",\"\",'2.Logbook'!V347)","v":""},{"$f":"IF('2.Logbook'!W347=\"\",\"\",'2.Logbook'!W347)","v":""},{"$f":"IF('2.Logbook'!X347=\"\",\"\",'2.Logbook'!X347)","v":""},{"$f":"IF('2.Logbook'!Y347=\"\",\"\",'2.Logbook'!Y347)","v":""},{"$f":"IF('2.Logbook'!Z347=\"\",\"\",'2.Logbook'!Z347)","v":""},{"$f":"IF('2.Logbook'!AA347=\"\",\"\",'2.Logbook'!AA347)","v":""},{"$f":"IF('2.Logbook'!AB347=\"\",\"\",'2.Logbook'!AB347)","v":""},{"$f":"IF('2.Logbook'!AC347=\"\",\"\",'2.Logbook'!AC347)","v":""},{"$f":"IF('2.Logbook'!AD347=\"\",\"\",'2.Logbook'!AD347)","v":""},{"$f":"IF('2.Logbook'!AE347=\"\",\"\",'2.Logbook'!AE347)","v":""},{"$f":"IF('2.Logbook'!AF347=\"\",\"\",'2.Logbook'!AF347)","v":""},{"$f":"IF('2.Logbook'!AG347=\"\",\"\",'2.Logbook'!AG347)","v":""}]
[{"$f":"IF('2.Logbook'!A348=\"\",\"\",'2.Logbook'!A348)","v":""},{"$f":"IF('2.Logbook'!B348=\"\",\"\",'2.Logbook'!B348)","v":""},{"$f":"IF('2.Logbook'!C348=\"\",\"\",'2.Logbook'!C348)","v":""},{"$f":"IF('2.Logbook'!D348=\"\",\"\",'2.Logbook'!D348)","v":""},{"$f":"IF('2.Logbook'!E348=\"\",\"\",'2.Logbook'!E348)","v":""},{"$f":"IF('2.Logbook'!F348=\"\",\"\",'2.Logbook'!F348)","v":""},{"$f":"IF('2.Logbook'!G348=\"\",\"\",'2.Logbook'!G348)","v":""},{"$f":"IF('2.Logbook'!H348=\"\",\"\",'2.Logbook'!H348)","v":""},{"$f":"IF('2.Logbook'!I348=\"\",\"\",'2.Logbook'!I348)","v":""},{"$f":"IF('2.Logbook'!J348=\"\",\"\",'2.Logbook'!J348)","v":""},{"$f":"IF('2.Logbook'!K348=\"\",\"\",'2.Logbook'!K348)","v":""},{"$f":"IF('2.Logbook'!L348=\"\",\"\",'2.Logbook'!L348)","v":""},{"$f":"IF('2.Logbook'!M348=\"\",\"\",'2.Logbook'!M348)","v":""},{"$f":"IF('2.Logbook'!N348=\"\",\"\",'2.Logbook'!N348)","v":""},{"$f":"IF('2.Logbook'!O348=\"\",\"\",'2.Logbook'!O348)","v":""},{"$f":"IF('2.Logbook'!P348=\"\",\"\",'2.Logbook'!P348)","v":""},{"$f":"IF('2.Logbook'!Q348=\"\",\"\",'2.Logbook'!Q348)","v":""},{"$f":"IF('2.Logbook'!R348=\"\",\"\",'2.Logbook'!R348)","v":""},{"$f":"IF('2.Logbook'!S348=\"\",\"\",'2.Logbook'!S348)","v":""},{"$f":"IF('2.Logbook'!T348=\"\",\"\",'2.Logbook'!T348)","v":""},{"$f":"IF('2.Logbook'!U348=\"\",\"\",'2.Logbook'!U348)","v":""},{"$f":"IF('2.Logbook'!V348=\"\",\"\",'2.Logbook'!V348)","v":""},{"$f":"IF('2.Logbook'!W348=\"\",\"\",'2.Logbook'!W348)","v":""},{"$f":"IF('2.Logbook'!X348=\"\",\"\",'2.Logbook'!X348)","v":""},{"$f":"IF('2.Logbook'!Y348=\"\",\"\",'2.Logbook'!Y348)","v":""},{"$f":"IF('2.Logbook'!Z348=\"\",\"\",'2.Logbook'!Z348)","v":""},{"$f":"IF('2.Logbook'!AA348=\"\",\"\",'2.Logbook'!AA348)","v":""},{"$f":"IF('2.Logbook'!AB348=\"\",\"\",'2.Logbook'!AB348)","v":""},{"$f":"IF('2.Logbook'!AC348=\"\",\"\",'2.Logbook'!AC348)","v":""},{"$f":"IF('2.Logbook'!AD348=\"\",\"\",'2.Logbook'!AD348)","v":""},{"$f":"IF('2.Logbook'!AE348=\"\",\"\",'2.Logbook'!AE348)","v":""},{"$f":"IF('2.Logbook'!AF348=\"\",\"\",'2.Logbook'!AF348)","v":""},{"$f":"IF('2.Logbook'!AG348=\"\",\"\",'2.Logbook'!AG348)","v":""}]
[{"$f":"IF('2.Logbook'!A349=\"\",\"\",'2.Logbook'!A349)","v":""},{"$f":"IF('2.Logbook'!B349=\"\",\"\",'2.Logbook'!B349)","v":""},{"$f":"IF('2.Logbook'!C349=\"\",\"\",'2.Logbook'!C349)","v":""},{"$f":"IF('2.Logbook'!D349=\"\",\"\",'2.Logbook'!D349)","v":""},{"$f":"IF('2.Logbook'!E349=\"\",\"\",'2.Logbook'!E349)","v":""},{"$f":"IF('2.Logbook'!F349=\"\",\"\",'2.Logbook'!F349)","v":""},{"$f":"IF('2.Logbook'!G349=\"\",\"\",'2.Logbook'!G349)","v":""},{"$f":"IF('2.Logbook'!H349=\"\",\"\",'2.Logbook'!H349)","v":""},{"$f":"IF('2.Logbook'!I349=\"\",\"\",'2.Logbook'!I349)","v":""},{"$f":"IF('2.Logbook'!J349=\"\",\"\",'2.Logbook'!J349)","v":""},{"$f":"IF('2.Logbook'!K349=\"\",\"\",'2.Logbook'!K349)","v":""},{"$f":"IF('2.Logbook'!L349=\"\",\"\",'2.Logbook'!L349)","v":""},{"$f":"IF('2.Logbook'!M349=\"\",\"\",'2.Logbook'!M349)","v":""},{"$f":"IF('2.Logbook'!N349=\"\",\"\",'2.Logbook'!N349)","v":""},{"$f":"IF('2.Logbook'!O349=\"\",\"\",'2.Logbook'!O349)","v":""},{"$f":"IF('2.Logbook'!P349=\"\",\"\",'2.Logbook'!P349)","v":""},{"$f":"IF('2.Logbook'!Q349=\"\",\"\",'2.Logbook'!Q349)","v":""},{"$f":"IF('2.Logbook'!R349=\"\",\"\",'2.Logbook'!R349)","v":""},{"$f":"IF('2.Logbook'!S349=\"\",\"\",'2.Logbook'!S349)","v":""},{"$f":"IF('2.Logbook'!T349=\"\",\"\",'2.Logbook'!T349)","v":""},{"$f":"IF('2.Logbook'!U349=\"\",\"\",'2.Logbook'!U349)","v":""},{"$f":"IF('2.Logbook'!V349=\"\",\"\",'2.Logbook'!V349)","v":""},{"$f":"IF('2.Logbook'!W349=\"\",\"\",'2.Logbook'!W349)","v":""},{"$f":"IF('2.Logbook'!X349=\"\",\"\",'2.Logbook'!X349)","v":""},{"$f":"IF('2.Logbook'!Y349=\"\",\"\",'2.Logbook'!Y349)","v":""},{"$f":"IF('2.Logbook'!Z349=\"\",\"\",'2.Logbook'!Z349)","v":""},{"$f":"IF('2.Logbook'!AA349=\"\",\"\",'2.Logbook'!AA349)","v":""},{"$f":"IF('2.Logbook'!AB349=\"\",\"\",'2.Logbook'!AB349)","v":""},{"$f":"IF('2.Logbook'!AC349=\"\",\"\",'2.Logbook'!AC349)","v":""},{"$f":"IF('2.Logbook'!AD349=\"\",\"\",'2.Logbook'!AD349)","v":""},{"$f":"IF('2.Logbook'!AE349=\"\",\"\",'2.Logbook'!AE349)","v":""},{"$f":"IF('2.Logbook'!AF349=\"\",\"\",'2.Logbook'!AF349)","v":""},{"$f":"IF('2.Logbook'!AG349=\"\",\"\",'2.Logbook'!AG349)","v":""}]
[{"$f":"IF('2.Logbook'!A350=\"\",\"\",'2.Logbook'!A350)","v":""},{"$f":"IF('2.Logbook'!B350=\"\",\"\",'2.Logbook'!B350)","v":""},{"$f":"IF('2.Logbook'!C350=\"\",\"\",'2.Logbook'!C350)","v":""},{"$f":"IF('2.Logbook'!D350=\"\",\"\",'2.Logbook'!D350)","v":""},{"$f":"IF('2.Logbook'!E350=\"\",\"\",'2.Logbook'!E350)","v":""},{"$f":"IF('2.Logbook'!F350=\"\",\"\",'2.Logbook'!F350)","v":""},{"$f":"IF('2.Logbook'!G350=\"\",\"\",'2.Logbook'!G350)","v":""},{"$f":"IF('2.Logbook'!H350=\"\",\"\",'2.Logbook'!H350)","v":""},{"$f":"IF('2.Logbook'!I350=\"\",\"\",'2.Logbook'!I350)","v":""},{"$f":"IF('2.Logbook'!J350=\"\",\"\",'2.Logbook'!J350)","v":""},{"$f":"IF('2.Logbook'!K350=\"\",\"\",'2.Logbook'!K350)","v":""},{"$f":"IF('2.Logbook'!L350=\"\",\"\",'2.Logbook'!L350)","v":""},{"$f":"IF('2.Logbook'!M350=\"\",\"\",'2.Logbook'!M350)","v":""},{"$f":"IF('2.Logbook'!N350=\"\",\"\",'2.Logbook'!N350)","v":""},{"$f":"IF('2.Logbook'!O350=\"\",\"\",'2.Logbook'!O350)","v":""},{"$f":"IF('2.Logbook'!P350=\"\",\"\",'2.Logbook'!P350)","v":""},{"$f":"IF('2.Logbook'!Q350=\"\",\"\",'2.Logbook'!Q350)","v":""},{"$f":"IF('2.Logbook'!R350=\"\",\"\",'2.Logbook'!R350)","v":""},{"$f":"IF('2.Logbook'!S350=\"\",\"\",'2.Logbook'!S350)","v":""},{"$f":"IF('2.Logbook'!T350=\"\",\"\",'2.Logbook'!T350)","v":""},{"$f":"IF('2.Logbook'!U350=\"\",\"\",'2.Logbook'!U350)","v":""},{"$f":"IF('2.Logbook'!V350=\"\",\"\",'2.Logbook'!V350)","v":""},{"$f":"IF('2.Logbook'!W350=\"\",\"\",'2.Logbook'!W350)","v":""},{"$f":"IF('2.Logbook'!X350=\"\",\"\",'2.Logbook'!X350)","v":""},{"$f":"IF('2.Logbook'!Y350=\"\",\"\",'2.Logbook'!Y350)","v":""},{"$f":"IF('2.Logbook'!Z350=\"\",\"\",'2.Logbook'!Z350)","v":""},{"$f":"IF('2.Logbook'!AA350=\"\",\"\",'2.Logbook'!AA350)","v":""},{"$f":"IF('2.Logbook'!AB350=\"\",\"\",'2.Logbook'!AB350)","v":""},{"$f":"IF('2.Logbook'!AC350=\"\",\"\",'2.Logbook'!AC350)","v":""},{"$f":"IF('2.Logbook'!AD350=\"\",\"\",'2.Logbook'!AD350)","v":""},{"$f":"IF('2.Logbook'!AE350=\"\",\"\",'2.Logbook'!AE350)","v":""},{"$f":"IF('2.Logbook'!AF350=\"\",\"\",'2.Logbook'!AF350)","v":""},{"$f":"IF('2.Logbook'!AG350=\"\",\"\",'2.Logbook'!AG350)","v":""}]
[{"$f":"IF('2.Logbook'!A351=\"\",\"\",'2.Logbook'!A351)","v":""},{"$f":"IF('2.Logbook'!B351=\"\",\"\",'2.Logbook'!B351)","v":""},{"$f":"IF('2.Logbook'!C351=\"\",\"\",'2.Logbook'!C351)","v":""},{"$f":"IF('2.Logbook'!D351=\"\",\"\",'2.Logbook'!D351)","v":""},{"$f":"IF('2.Logbook'!E351=\"\",\"\",'2.Logbook'!E351)","v":""},{"$f":"IF('2.Logbook'!F351=\"\",\"\",'2.Logbook'!F351)","v":""},{"$f":"IF('2.Logbook'!G351=\"\",\"\",'2.Logbook'!G351)","v":""},{"$f":"IF('2.Logbook'!H351=\"\",\"\",'2.Logbook'!H351)","v":""},{"$f":"IF('2.Logbook'!I351=\"\",\"\",'2.Logbook'!I351)","v":""},{"$f":"IF('2.Logbook'!J351=\"\",\"\",'2.Logbook'!J351)","v":""},{"$f":"IF('2.Logbook'!K351=\"\",\"\",'2.Logbook'!K351)","v":""},{"$f":"IF('2.Logbook'!L351=\"\",\"\",'2.Logbook'!L351)","v":""},{"$f":"IF('2.Logbook'!M351=\"\",\"\",'2.Logbook'!M351)","v":""},{"$f":"IF('2.Logbook'!N351=\"\",\"\",'2.Logbook'!N351)","v":""},{"$f":"IF('2.Logbook'!O351=\"\",\"\",'2.Logbook'!O351)","v":""},{"$f":"IF('2.Logbook'!P351=\"\",\"\",'2.Logbook'!P351)","v":""},{"$f":"IF('2.Logbook'!Q351=\"\",\"\",'2.Logbook'!Q351)","v":""},{"$f":"IF('2.Logbook'!R351=\"\",\"\",'2.Logbook'!R351)","v":""},{"$f":"IF('2.Logbook'!S351=\"\",\"\",'2.Logbook'!S351)","v":""},{"$f":"IF('2.Logbook'!T351=\"\",\"\",'2.Logbook'!T351)","v":""},{"$f":"IF('2.Logbook'!U351=\"\",\"\",'2.Logbook'!U351)","v":""},{"$f":"IF('2.Logbook'!V351=\"\",\"\",'2.Logbook'!V351)","v":""},{"$f":"IF('2.Logbook'!W351=\"\",\"\",'2.Logbook'!W351)","v":""},{"$f":"IF('2.Logbook'!X351=\"\",\"\",'2.Logbook'!X351)","v":""},{"$f":"IF('2.Logbook'!Y351=\"\",\"\",'2.Logbook'!Y351)","v":""},{"$f":"IF('2.Logbook'!Z351=\"\",\"\",'2.Logbook'!Z351)","v":""},{"$f":"IF('2.Logbook'!AA351=\"\",\"\",'2.Logbook'!AA351)","v":""},{"$f":"IF('2.Logbook'!AB351=\"\",\"\",'2.Logbook'!AB351)","v":""},{"$f":"IF('2.Logbook'!AC351=\"\",\"\",'2.Logbook'!AC351)","v":""},{"$f":"IF('2.Logbook'!AD351=\"\",\"\",'2.Logbook'!AD351)","v":""},{"$f":"IF('2.Logbook'!AE351=\"\",\"\",'2.Logbook'!AE351)","v":""},{"$f":"IF('2.Logbook'!AF351=\"\",\"\",'2.Logbook'!AF351)","v":""},{"$f":"IF('2.Logbook'!AG351=\"\",\"\",'2.Logbook'!AG351)","v":""}]
[{"$f":"IF('2.Logbook'!A352=\"\",\"\",'2.Logbook'!A352)","v":""},{"$f":"IF('2.Logbook'!B352=\"\",\"\",'2.Logbook'!B352)","v":""},{"$f":"IF('2.Logbook'!C352=\"\",\"\",'2.Logbook'!C352)","v":""},{"$f":"IF('2.Logbook'!D352=\"\",\"\",'2.Logbook'!D352)","v":""},{"$f":"IF('2.Logbook'!E352=\"\",\"\",'2.Logbook'!E352)","v":""},{"$f":"IF('2.Logbook'!F352=\"\",\"\",'2.Logbook'!F352)","v":""},{"$f":"IF('2.Logbook'!G352=\"\",\"\",'2.Logbook'!G352)","v":""},{"$f":"IF('2.Logbook'!H352=\"\",\"\",'2.Logbook'!H352)","v":""},{"$f":"IF('2.Logbook'!I352=\"\",\"\",'2.Logbook'!I352)","v":""},{"$f":"IF('2.Logbook'!J352=\"\",\"\",'2.Logbook'!J352)","v":""},{"$f":"IF('2.Logbook'!K352=\"\",\"\",'2.Logbook'!K352)","v":""},{"$f":"IF('2.Logbook'!L352=\"\",\"\",'2.Logbook'!L352)","v":""},{"$f":"IF('2.Logbook'!M352=\"\",\"\",'2.Logbook'!M352)","v":""},{"$f":"IF('2.Logbook'!N352=\"\",\"\",'2.Logbook'!N352)","v":""},{"$f":"IF('2.Logbook'!O352=\"\",\"\",'2.Logbook'!O352)","v":""},{"$f":"IF('2.Logbook'!P352=\"\",\"\",'2.Logbook'!P352)","v":""},{"$f":"IF('2.Logbook'!Q352=\"\",\"\",'2.Logbook'!Q352)","v":""},{"$f":"IF('2.Logbook'!R352=\"\",\"\",'2.Logbook'!R352)","v":""},{"$f":"IF('2.Logbook'!S352=\"\",\"\",'2.Logbook'!S352)","v":""},{"$f":"IF('2.Logbook'!T352=\"\",\"\",'2.Logbook'!T352)","v":""},{"$f":"IF('2.Logbook'!U352=\"\",\"\",'2.Logbook'!U352)","v":""},{"$f":"IF('2.Logbook'!V352=\"\",\"\",'2.Logbook'!V352)","v":""},{"$f":"IF('2.Logbook'!W352=\"\",\"\",'2.Logbook'!W352)","v":""},{"$f":"IF('2.Logbook'!X352=\"\",\"\",'2.Logbook'!X352)","v":""},{"$f":"IF('2.Logbook'!Y352=\"\",\"\",'2.Logbook'!Y352)","v":""},{"$f":"IF('2.Logbook'!Z352=\"\",\"\",'2.Logbook'!Z352)","v":""},{"$f":"IF('2.Logbook'!AA352=\"\",\"\",'2.Logbook'!AA352)","v":""},{"$f":"IF('2.Logbook'!AB352=\"\",\"\",'2.Logbook'!AB352)","v":""},{"$f":"IF('2.Logbook'!AC352=\"\",\"\",'2.Logbook'!AC352)","v":""},{"$f":"IF('2.Logbook'!AD352=\"\",\"\",'2.Logbook'!AD352)","v":""},{"$f":"IF('2.Logbook'!AE352=\"\",\"\",'2.Logbook'!AE352)","v":""},{"$f":"IF('2.Logbook'!AF352=\"\",\"\",'2.Logbook'!AF352)","v":""},{"$f":"IF('2.Logbook'!AG352=\"\",\"\",'2.Logbook'!AG352)","v":""}]
[{"$f":"IF('2.Logbook'!A353=\"\",\"\",'2.Logbook'!A353)","v":""},{"$f":"IF('2.Logbook'!B353=\"\",\"\",'2.Logbook'!B353)","v":""},{"$f":"IF('2.Logbook'!C353=\"\",\"\",'2.Logbook'!C353)","v":""},{"$f":"IF('2.Logbook'!D353=\"\",\"\",'2.Logbook'!D353)","v":""},{"$f":"IF('2.Logbook'!E353=\"\",\"\",'2.Logbook'!E353)","v":""},{"$f":"IF('2.Logbook'!F353=\"\",\"\",'2.Logbook'!F353)","v":""},{"$f":"IF('2.Logbook'!G353=\"\",\"\",'2.Logbook'!G353)","v":""},{"$f":"IF('2.Logbook'!H353=\"\",\"\",'2.Logbook'!H353)","v":""},{"$f":"IF('2.Logbook'!I353=\"\",\"\",'2.Logbook'!I353)","v":""},{"$f":"IF('2.Logbook'!J353=\"\",\"\",'2.Logbook'!J353)","v":""},{"$f":"IF('2.Logbook'!K353=\"\",\"\",'2.Logbook'!K353)","v":""},{"$f":"IF('2.Logbook'!L353=\"\",\"\",'2.Logbook'!L353)","v":""},{"$f":"IF('2.Logbook'!M353=\"\",\"\",'2.Logbook'!M353)","v":""},{"$f":"IF('2.Logbook'!N353=\"\",\"\",'2.Logbook'!N353)","v":""},{"$f":"IF('2.Logbook'!O353=\"\",\"\",'2.Logbook'!O353)","v":""},{"$f":"IF('2.Logbook'!P353=\"\",\"\",'2.Logbook'!P353)","v":""},{"$f":"IF('2.Logbook'!Q353=\"\",\"\",'2.Logbook'!Q353)","v":""},{"$f":"IF('2.Logbook'!R353=\"\",\"\",'2.Logbook'!R353)","v":""},{"$f":"IF('2.Logbook'!S353=\"\",\"\",'2.Logbook'!S353)","v":""},{"$f":"IF('2.Logbook'!T353=\"\",\"\",'2.Logbook'!T353)","v":""},{"$f":"IF('2.Logbook'!U353=\"\",\"\",'2.Logbook'!U353)","v":""},{"$f":"IF('2.Logbook'!V353=\"\",\"\",'2.Logbook'!V353)","v":""},{"$f":"IF('2.Logbook'!W353=\"\",\"\",'2.Logbook'!W353)","v":""},{"$f":"IF('2.Logbook'!X353=\"\",\"\",'2.Logbook'!X353)","v":""},{"$f":"IF('2.Logbook'!Y353=\"\",\"\",'2.Logbook'!Y353)","v":""},{"$f":"IF('2.Logbook'!Z353=\"\",\"\",'2.Logbook'!Z353)","v":""},{"$f":"IF('2.Logbook'!AA353=\"\",\"\",'2.Logbook'!AA353)","v":""},{"$f":"IF('2.Logbook'!AB353=\"\",\"\",'2.Logbook'!AB353)","v":""},{"$f":"IF('2.Logbook'!AC353=\"\",\"\",'2.Logbook'!AC353)","v":""},{"$f":"IF('2.Logbook'!AD353=\"\",\"\",'2.Logbook'!AD353)","v":""},{"$f":"IF('2.Logbook'!AE353=\"\",\"\",'2.Logbook'!AE353)","v":""},{"$f":"IF('2.Logbook'!AF353=\"\",\"\",'2.Logbook'!AF353)","v":""},{"$f":"IF('2.Logbook'!AG353=\"\",\"\",'2.Logbook'!AG353)","v":""}]
[{"$f":"IF('2.Logbook'!A354=\"\",\"\",'2.Logbook'!A354)","v":""},{"$f":"IF('2.Logbook'!B354=\"\",\"\",'2.Logbook'!B354)","v":""},{"$f":"IF('2.Logbook'!C354=\"\",\"\",'2.Logbook'!C354)","v":""},{"$f":"IF('2.Logbook'!D354=\"\",\"\",'2.Logbook'!D354)","v":""},{"$f":"IF('2.Logbook'!E354=\"\",\"\",'2.Logbook'!E354)","v":""},{"$f":"IF('2.Logbook'!F354=\"\",\"\",'2.Logbook'!F354)","v":""},{"$f":"IF('2.Logbook'!G354=\"\",\"\",'2.Logbook'!G354)","v":""},{"$f":"IF('2.Logbook'!H354=\"\",\"\",'2.Logbook'!H354)","v":""},{"$f":"IF('2.Logbook'!I354=\"\",\"\",'2.Logbook'!I354)","v":""},{"$f":"IF('2.Logbook'!J354=\"\",\"\",'2.Logbook'!J354)","v":""},{"$f":"IF('2.Logbook'!K354=\"\",\"\",'2.Logbook'!K354)","v":""},{"$f":"IF('2.Logbook'!L354=\"\",\"\",'2.Logbook'!L354)","v":""},{"$f":"IF('2.Logbook'!M354=\"\",\"\",'2.Logbook'!M354)","v":""},{"$f":"IF('2.Logbook'!N354=\"\",\"\",'2.Logbook'!N354)","v":""},{"$f":"IF('2.Logbook'!O354=\"\",\"\",'2.Logbook'!O354)","v":""},{"$f":"IF('2.Logbook'!P354=\"\",\"\",'2.Logbook'!P354)","v":""},{"$f":"IF('2.Logbook'!Q354=\"\",\"\",'2.Logbook'!Q354)","v":""},{"$f":"IF('2.Logbook'!R354=\"\",\"\",'2.Logbook'!R354)","v":""},{"$f":"IF('2.Logbook'!S354=\"\",\"\",'2.Logbook'!S354)","v":""},{"$f":"IF('2.Logbook'!T354=\"\",\"\",'2.Logbook'!T354)","v":""},{"$f":"IF('2.Logbook'!U354=\"\",\"\",'2.Logbook'!U354)","v":""},{"$f":"IF('2.Logbook'!V354=\"\",\"\",'2.Logbook'!V354)","v":""},{"$f":"IF('2.Logbook'!W354=\"\",\"\",'2.Logbook'!W354)","v":""},{"$f":"IF('2.Logbook'!X354=\"\",\"\",'2.Logbook'!X354)","v":""},{"$f":"IF('2.Logbook'!Y354=\"\",\"\",'2.Logbook'!Y354)","v":""},{"$f":"IF('2.Logbook'!Z354=\"\",\"\",'2.Logbook'!Z354)","v":""},{"$f":"IF('2.Logbook'!AA354=\"\",\"\",'2.Logbook'!AA354)","v":""},{"$f":"IF('2.Logbook'!AB354=\"\",\"\",'2.Logbook'!AB354)","v":""},{"$f":"IF('2.Logbook'!AC354=\"\",\"\",'2.Logbook'!AC354)","v":""},{"$f":"IF('2.Logbook'!AD354=\"\",\"\",'2.Logbook'!AD354)","v":""},{"$f":"IF('2.Logbook'!AE354=\"\",\"\",'2.Logbook'!AE354)","v":""},{"$f":"IF('2.Logbook'!AF354=\"\",\"\",'2.Logbook'!AF354)","v":""},{"$f":"IF('2.Logbook'!AG354=\"\",\"\",'2.Logbook'!AG354)","v":""}]
[{"$f":"IF('2.Logbook'!A355=\"\",\"\",'2.Logbook'!A355)","v":""},{"$f":"IF('2.Logbook'!B355=\"\",\"\",'2.Logbook'!B355)","v":""},{"$f":"IF('2.Logbook'!C355=\"\",\"\",'2.Logbook'!C355)","v":""},{"$f":"IF('2.Logbook'!D355=\"\",\"\",'2.Logbook'!D355)","v":""},{"$f":"IF('2.Logbook'!E355=\"\",\"\",'2.Logbook'!E355)","v":""},{"$f":"IF('2.Logbook'!F355=\"\",\"\",'2.Logbook'!F355)","v":""},{"$f":"IF('2.Logbook'!G355=\"\",\"\",'2.Logbook'!G355)","v":""},{"$f":"IF('2.Logbook'!H355=\"\",\"\",'2.Logbook'!H355)","v":""},{"$f":"IF('2.Logbook'!I355=\"\",\"\",'2.Logbook'!I355)","v":""},{"$f":"IF('2.Logbook'!J355=\"\",\"\",'2.Logbook'!J355)","v":""},{"$f":"IF('2.Logbook'!K355=\"\",\"\",'2.Logbook'!K355)","v":""},{"$f":"IF('2.Logbook'!L355=\"\",\"\",'2.Logbook'!L355)","v":""},{"$f":"IF('2.Logbook'!M355=\"\",\"\",'2.Logbook'!M355)","v":""},{"$f":"IF('2.Logbook'!N355=\"\",\"\",'2.Logbook'!N355)","v":""},{"$f":"IF('2.Logbook'!O355=\"\",\"\",'2.Logbook'!O355)","v":""},{"$f":"IF('2.Logbook'!P355=\"\",\"\",'2.Logbook'!P355)","v":""},{"$f":"IF('2.Logbook'!Q355=\"\",\"\",'2.Logbook'!Q355)","v":""},{"$f":"IF('2.Logbook'!R355=\"\",\"\",'2.Logbook'!R355)","v":""},{"$f":"IF('2.Logbook'!S355=\"\",\"\",'2.Logbook'!S355)","v":""},{"$f":"IF('2.Logbook'!T355=\"\",\"\",'2.Logbook'!T355)","v":""},{"$f":"IF('2.Logbook'!U355=\"\",\"\",'2.Logbook'!U355)","v":""},{"$f":"IF('2.Logbook'!V355=\"\",\"\",'2.Logbook'!V355)","v":""},{"$f":"IF('2.Logbook'!W355=\"\",\"\",'2.Logbook'!W355)","v":""},{"$f":"IF('2.Logbook'!X355=\"\",\"\",'2.Logbook'!X355)","v":""},{"$f":"IF('2.Logbook'!Y355=\"\",\"\",'2.Logbook'!Y355)","v":""},{"$f":"IF('2.Logbook'!Z355=\"\",\"\",'2.Logbook'!Z355)","v":""},{"$f":"IF('2.Logbook'!AA355=\"\",\"\",'2.Logbook'!AA355)","v":""},{"$f":"IF('2.Logbook'!AB355=\"\",\"\",'2.Logbook'!AB355)","v":""},{"$f":"IF('2.Logbook'!AC355=\"\",\"\",'2.Logbook'!AC355)","v":""},{"$f":"IF('2.Logbook'!AD355=\"\",\"\",'2.Logbook'!AD355)","v":""},{"$f":"IF('2.Logbook'!AE355=\"\",\"\",'2.Logbook'!AE355)","v":""},{"$f":"IF('2.Logbook'!AF355=\"\",\"\",'2.Logbook'!AF355)","v":""},{"$f":"IF('2.Logbook'!AG355=\"\",\"\",'2.Logbook'!AG355)","v":""}]
[{"$f":"IF('2.Logbook'!A356=\"\",\"\",'2.Logbook'!A356)","v":""},{"$f":"IF('2.Logbook'!B356=\"\",\"\",'2.Logbook'!B356)","v":""},{"$f":"IF('2.Logbook'!C356=\"\",\"\",'2.Logbook'!C356)","v":""},{"$f":"IF('2.Logbook'!D356=\"\",\"\",'2.Logbook'!D356)","v":""},{"$f":"IF('2.Logbook'!E356=\"\",\"\",'2.Logbook'!E356)","v":""},{"$f":"IF('2.Logbook'!F356=\"\",\"\",'2.Logbook'!F356)","v":""},{"$f":"IF('2.Logbook'!G356=\"\",\"\",'2.Logbook'!G356)","v":""},{"$f":"IF('2.Logbook'!H356=\"\",\"\",'2.Logbook'!H356)","v":""},{"$f":"IF('2.Logbook'!I356=\"\",\"\",'2.Logbook'!I356)","v":""},{"$f":"IF('2.Logbook'!J356=\"\",\"\",'2.Logbook'!J356)","v":""},{"$f":"IF('2.Logbook'!K356=\"\",\"\",'2.Logbook'!K356)","v":""},{"$f":"IF('2.Logbook'!L356=\"\",\"\",'2.Logbook'!L356)","v":""},{"$f":"IF('2.Logbook'!M356=\"\",\"\",'2.Logbook'!M356)","v":""},{"$f":"IF('2.Logbook'!N356=\"\",\"\",'2.Logbook'!N356)","v":""},{"$f":"IF('2.Logbook'!O356=\"\",\"\",'2.Logbook'!O356)","v":""},{"$f":"IF('2.Logbook'!P356=\"\",\"\",'2.Logbook'!P356)","v":""},{"$f":"IF('2.Logbook'!Q356=\"\",\"\",'2.Logbook'!Q356)","v":""},{"$f":"IF('2.Logbook'!R356=\"\",\"\",'2.Logbook'!R356)","v":""},{"$f":"IF('2.Logbook'!S356=\"\",\"\",'2.Logbook'!S356)","v":""},{"$f":"IF('2.Logbook'!T356=\"\",\"\",'2.Logbook'!T356)","v":""},{"$f":"IF('2.Logbook'!U356=\"\",\"\",'2.Logbook'!U356)","v":""},{"$f":"IF('2.Logbook'!V356=\"\",\"\",'2.Logbook'!V356)","v":""},{"$f":"IF('2.Logbook'!W356=\"\",\"\",'2.Logbook'!W356)","v":""},{"$f":"IF('2.Logbook'!X356=\"\",\"\",'2.Logbook'!X356)","v":""},{"$f":"IF('2.Logbook'!Y356=\"\",\"\",'2.Logbook'!Y356)","v":""},{"$f":"IF('2.Logbook'!Z356=\"\",\"\",'2.Logbook'!Z356)","v":""},{"$f":"IF('2.Logbook'!AA356=\"\",\"\",'2.Logbook'!AA356)","v":""},{"$f":"IF('2.Logbook'!AB356=\"\",\"\",'2.Logbook'!AB356)","v":""},{"$f":"IF('2.Logbook'!AC356=\"\",\"\",'2.Logbook'!AC356)","v":""},{"$f":"IF('2.Logbook'!AD356=\"\",\"\",'2.Logbook'!AD356)","v":""},{"$f":"IF('2.Logbook'!AE356=\"\",\"\",'2.Logbook'!AE356)","v":""},{"$f":"IF('2.Logbook'!AF356=\"\",\"\",'2.Logbook'!AF356)","v":""},{"$f":"IF('2.Logbook'!AG356=\"\",\"\",'2.Logbook'!AG356)","v":""}]
[{"$f":"IF('2.Logbook'!A357=\"\",\"\",'2.Logbook'!A357)","v":""},{"$f":"IF('2.Logbook'!B357=\"\",\"\",'2.Logbook'!B357)","v":""},{"$f":"IF('2.Logbook'!C357=\"\",\"\",'2.Logbook'!C357)","v":""},{"$f":"IF('2.Logbook'!D357=\"\",\"\",'2.Logbook'!D357)","v":""},{"$f":"IF('2.Logbook'!E357=\"\",\"\",'2.Logbook'!E357)","v":""},{"$f":"IF('2.Logbook'!F357=\"\",\"\",'2.Logbook'!F357)","v":""},{"$f":"IF('2.Logbook'!G357=\"\",\"\",'2.Logbook'!G357)","v":""},{"$f":"IF('2.Logbook'!H357=\"\",\"\",'2.Logbook'!H357)","v":""},{"$f":"IF('2.Logbook'!I357=\"\",\"\",'2.Logbook'!I357)","v":""},{"$f":"IF('2.Logbook'!J357=\"\",\"\",'2.Logbook'!J357)","v":""},{"$f":"IF('2.Logbook'!K357=\"\",\"\",'2.Logbook'!K357)","v":""},{"$f":"IF('2.Logbook'!L357=\"\",\"\",'2.Logbook'!L357)","v":""},{"$f":"IF('2.Logbook'!M357=\"\",\"\",'2.Logbook'!M357)","v":""},{"$f":"IF('2.Logbook'!N357=\"\",\"\",'2.Logbook'!N357)","v":""},{"$f":"IF('2.Logbook'!O357=\"\",\"\",'2.Logbook'!O357)","v":""},{"$f":"IF('2.Logbook'!P357=\"\",\"\",'2.Logbook'!P357)","v":""},{"$f":"IF('2.Logbook'!Q357=\"\",\"\",'2.Logbook'!Q357)","v":""},{"$f":"IF('2.Logbook'!R357=\"\",\"\",'2.Logbook'!R357)","v":""},{"$f":"IF('2.Logbook'!S357=\"\",\"\",'2.Logbook'!S357)","v":""},{"$f":"IF('2.Logbook'!T357=\"\",\"\",'2.Logbook'!T357)","v":""},{"$f":"IF('2.Logbook'!U357=\"\",\"\",'2.Logbook'!U357)","v":""},{"$f":"IF('2.Logbook'!V357=\"\",\"\",'2.Logbook'!V357)","v":""},{"$f":"IF('2.Logbook'!W357=\"\",\"\",'2.Logbook'!W357)","v":""},{"$f":"IF('2.Logbook'!X357=\"\",\"\",'2.Logbook'!X357)","v":""},{"$f":"IF('2.Logbook'!Y357=\"\",\"\",'2.Logbook'!Y357)","v":""},{"$f":"IF('2.Logbook'!Z357=\"\",\"\",'2.Logbook'!Z357)","v":""},{"$f":"IF('2.Logbook'!AA357=\"\",\"\",'2.Logbook'!AA357)","v":""},{"$f":"IF('2.Logbook'!AB357=\"\",\"\",'2.Logbook'!AB357)","v":""},{"$f":"IF('2.Logbook'!AC357=\"\",\"\",'2.Logbook'!AC357)","v":""},{"$f":"IF('2.Logbook'!AD357=\"\",\"\",'2.Logbook'!AD357)","v":""},{"$f":"IF('2.Logbook'!AE357=\"\",\"\",'2.Logbook'!AE357)","v":""},{"$f":"IF('2.Logbook'!AF357=\"\",\"\",'2.Logbook'!AF357)","v":""},{"$f":"IF('2.Logbook'!AG357=\"\",\"\",'2.Logbook'!AG357)","v":""}]
[{"$f":"IF('2.Logbook'!A358=\"\",\"\",'2.Logbook'!A358)","v":""},{"$f":"IF('2.Logbook'!B358=\"\",\"\",'2.Logbook'!B358)","v":""},{"$f":"IF('2.Logbook'!C358=\"\",\"\",'2.Logbook'!C358)","v":""},{"$f":"IF('2.Logbook'!D358=\"\",\"\",'2.Logbook'!D358)","v":""},{"$f":"IF('2.Logbook'!E358=\"\",\"\",'2.Logbook'!E358)","v":""},{"$f":"IF('2.Logbook'!F358=\"\",\"\",'2.Logbook'!F358)","v":""},{"$f":"IF('2.Logbook'!G358=\"\",\"\",'2.Logbook'!G358)","v":""},{"$f":"IF('2.Logbook'!H358=\"\",\"\",'2.Logbook'!H358)","v":""},{"$f":"IF('2.Logbook'!I358=\"\",\"\",'2.Logbook'!I358)","v":""},{"$f":"IF('2.Logbook'!J358=\"\",\"\",'2.Logbook'!J358)","v":""},{"$f":"IF('2.Logbook'!K358=\"\",\"\",'2.Logbook'!K358)","v":""},{"$f":"IF('2.Logbook'!L358=\"\",\"\",'2.Logbook'!L358)","v":""},{"$f":"IF('2.Logbook'!M358=\"\",\"\",'2.Logbook'!M358)","v":""},{"$f":"IF('2.Logbook'!N358=\"\",\"\",'2.Logbook'!N358)","v":""},{"$f":"IF('2.Logbook'!O358=\"\",\"\",'2.Logbook'!O358)","v":""},{"$f":"IF('2.Logbook'!P358=\"\",\"\",'2.Logbook'!P358)","v":""},{"$f":"IF('2.Logbook'!Q358=\"\",\"\",'2.Logbook'!Q358)","v":""},{"$f":"IF('2.Logbook'!R358=\"\",\"\",'2.Logbook'!R358)","v":""},{"$f":"IF('2.Logbook'!S358=\"\",\"\",'2.Logbook'!S358)","v":""},{"$f":"IF('2.Logbook'!T358=\"\",\"\",'2.Logbook'!T358)","v":""},{"$f":"IF('2.Logbook'!U358=\"\",\"\",'2.Logbook'!U358)","v":""},{"$f":"IF('2.Logbook'!V358=\"\",\"\",'2.Logbook'!V358)","v":""},{"$f":"IF('2.Logbook'!W358=\"\",\"\",'2.Logbook'!W358)","v":""},{"$f":"IF('2.Logbook'!X358=\"\",\"\",'2.Logbook'!X358)","v":""},{"$f":"IF('2.Logbook'!Y358=\"\",\"\",'2.Logbook'!Y358)","v":""},{"$f":"IF('2.Logbook'!Z358=\"\",\"\",'2.Logbook'!Z358)","v":""},{"$f":"IF('2.Logbook'!AA358=\"\",\"\",'2.Logbook'!AA358)","v":""},{"$f":"IF('2.Logbook'!AB358=\"\",\"\",'2.Logbook'!AB358)","v":""},{"$f":"IF('2.Logbook'!AC358=\"\",\"\",'2.Logbook'!AC358)","v":""},{"$f":"IF('2.Logbook'!AD358=\"\",\"\",'2.Logbook'!AD358)","v":""},{"$f":"IF('2.Logbook'!AE358=\"\",\"\",'2.Logbook'!AE358)","v":""},{"$f":"IF('2.Logbook'!AF358=\"\",\"\",'2.Logbook'!AF358)","v":""},{"$f":"IF('2.Logbook'!AG358=\"\",\"\",'2.Logbook'!AG358)","v":""}]
[{"$f":"IF('2.Logbook'!A359=\"\",\"\",'2.Logbook'!A359)","v":""},{"$f":"IF('2.Logbook'!B359=\"\",\"\",'2.Logbook'!B359)","v":""},{"$f":"IF('2.Logbook'!C359=\"\",\"\",'2.Logbook'!C359)","v":""},{"$f":"IF('2.Logbook'!D359=\"\",\"\",'2.Logbook'!D359)","v":""},{"$f":"IF('2.Logbook'!E359=\"\",\"\",'2.Logbook'!E359)","v":""},{"$f":"IF('2.Logbook'!F359=\"\",\"\",'2.Logbook'!F359)","v":""},{"$f":"IF('2.Logbook'!G359=\"\",\"\",'2.Logbook'!G359)","v":""},{"$f":"IF('2.Logbook'!H359=\"\",\"\",'2.Logbook'!H359)","v":""},{"$f":"IF('2.Logbook'!I359=\"\",\"\",'2.Logbook'!I359)","v":""},{"$f":"IF('2.Logbook'!J359=\"\",\"\",'2.Logbook'!J359)","v":""},{"$f":"IF('2.Logbook'!K359=\"\",\"\",'2.Logbook'!K359)","v":""},{"$f":"IF('2.Logbook'!L359=\"\",\"\",'2.Logbook'!L359)","v":""},{"$f":"IF('2.Logbook'!M359=\"\",\"\",'2.Logbook'!M359)","v":""},{"$f":"IF('2.Logbook'!N359=\"\",\"\",'2.Logbook'!N359)","v":""},{"$f":"IF('2.Logbook'!O359=\"\",\"\",'2.Logbook'!O359)","v":""},{"$f":"IF('2.Logbook'!P359=\"\",\"\",'2.Logbook'!P359)","v":""},{"$f":"IF('2.Logbook'!Q359=\"\",\"\",'2.Logbook'!Q359)","v":""},{"$f":"IF('2.Logbook'!R359=\"\",\"\",'2.Logbook'!R359)","v":""},{"$f":"IF('2.Logbook'!S359=\"\",\"\",'2.Logbook'!S359)","v":""},{"$f":"IF('2.Logbook'!T359=\"\",\"\",'2.Logbook'!T359)","v":""},{"$f":"IF('2.Logbook'!U359=\"\",\"\",'2.Logbook'!U359)","v":""},{"$f":"IF('2.Logbook'!V359=\"\",\"\",'2.Logbook'!V359)","v":""},{"$f":"IF('2.Logbook'!W359=\"\",\"\",'2.Logbook'!W359)","v":""},{"$f":"IF('2.Logbook'!X359=\"\",\"\",'2.Logbook'!X359)","v":""},{"$f":"IF('2.Logbook'!Y359=\"\",\"\",'2.Logbook'!Y359)","v":""},{"$f":"IF('2.Logbook'!Z359=\"\",\"\",'2.Logbook'!Z359)","v":""},{"$f":"IF('2.Logbook'!AA359=\"\",\"\",'2.Logbook'!AA359)","v":""},{"$f":"IF('2.Logbook'!AB359=\"\",\"\",'2.Logbook'!AB359)","v":""},{"$f":"IF('2.Logbook'!AC359=\"\",\"\",'2.Logbook'!AC359)","v":""},{"$f":"IF('2.Logbook'!AD359=\"\",\"\",'2.Logbook'!AD359)","v":""},{"$f":"IF('2.Logbook'!AE359=\"\",\"\",'2.Logbook'!AE359)","v":""},{"$f":"IF('2.Logbook'!AF359=\"\",\"\",'2.Logbook'!AF359)","v":""},{"$f":"IF('2.Logbook'!AG359=\"\",\"\",'2.Logbook'!AG359)","v":""}]
[{"$f":"IF('2.Logbook'!A360=\"\",\"\",'2.Logbook'!A360)","v":""},{"$f":"IF('2.Logbook'!B360=\"\",\"\",'2.Logbook'!B360)","v":""},{"$f":"IF('2.Logbook'!C360=\"\",\"\",'2.Logbook'!C360)","v":""},{"$f":"IF('2.Logbook'!D360=\"\",\"\",'2.Logbook'!D360)","v":""},{"$f":"IF('2.Logbook'!E360=\"\",\"\",'2.Logbook'!E360)","v":""},{"$f":"IF('2.Logbook'!F360=\"\",\"\",'2.Logbook'!F360)","v":""},{"$f":"IF('2.Logbook'!G360=\"\",\"\",'2.Logbook'!G360)","v":""},{"$f":"IF('2.Logbook'!H360=\"\",\"\",'2.Logbook'!H360)","v":""},{"$f":"IF('2.Logbook'!I360=\"\",\"\",'2.Logbook'!I360)","v":""},{"$f":"IF('2.Logbook'!J360=\"\",\"\",'2.Logbook'!J360)","v":""},{"$f":"IF('2.Logbook'!K360=\"\",\"\",'2.Logbook'!K360)","v":""},{"$f":"IF('2.Logbook'!L360=\"\",\"\",'2.Logbook'!L360)","v":""},{"$f":"IF('2.Logbook'!M360=\"\",\"\",'2.Logbook'!M360)","v":""},{"$f":"IF('2.Logbook'!N360=\"\",\"\",'2.Logbook'!N360)","v":""},{"$f":"IF('2.Logbook'!O360=\"\",\"\",'2.Logbook'!O360)","v":""},{"$f":"IF('2.Logbook'!P360=\"\",\"\",'2.Logbook'!P360)","v":""},{"$f":"IF('2.Logbook'!Q360=\"\",\"\",'2.Logbook'!Q360)","v":""},{"$f":"IF('2.Logbook'!R360=\"\",\"\",'2.Logbook'!R360)","v":""},{"$f":"IF('2.Logbook'!S360=\"\",\"\",'2.Logbook'!S360)","v":""},{"$f":"IF('2.Logbook'!T360=\"\",\"\",'2.Logbook'!T360)","v":""},{"$f":"IF('2.Logbook'!U360=\"\",\"\",'2.Logbook'!U360)","v":""},{"$f":"IF('2.Logbook'!V360=\"\",\"\",'2.Logbook'!V360)","v":""},{"$f":"IF('2.Logbook'!W360=\"\",\"\",'2.Logbook'!W360)","v":""},{"$f":"IF('2.Logbook'!X360=\"\",\"\",'2.Logbook'!X360)","v":""},{"$f":"IF('2.Logbook'!Y360=\"\",\"\",'2.Logbook'!Y360)","v":""},{"$f":"IF('2.Logbook'!Z360=\"\",\"\",'2.Logbook'!Z360)","v":""},{"$f":"IF('2.Logbook'!AA360=\"\",\"\",'2.Logbook'!AA360)","v":""},{"$f":"IF('2.Logbook'!AB360=\"\",\"\",'2.Logbook'!AB360)","v":""},{"$f":"IF('2.Logbook'!AC360=\"\",\"\",'2.Logbook'!AC360)","v":""},{"$f":"IF('2.Logbook'!AD360=\"\",\"\",'2.Logbook'!AD360)","v":""},{"$f":"IF('2.Logbook'!AE360=\"\",\"\",'2.Logbook'!AE360)","v":""},{"$f":"IF('2.Logbook'!AF360=\"\",\"\",'2.Logbook'!AF360)","v":""},{"$f":"IF('2.Logbook'!AG360=\"\",\"\",'2.Logbook'!AG360)","v":""}]
[{"$f":"IF('2.Logbook'!A361=\"\",\"\",'2.Logbook'!A361)","v":""},{"$f":"IF('2.Logbook'!B361=\"\",\"\",'2.Logbook'!B361)","v":""},{"$f":"IF('2.Logbook'!C361=\"\",\"\",'2.Logbook'!C361)","v":""},{"$f":"IF('2.Logbook'!D361=\"\",\"\",'2.Logbook'!D361)","v":""},{"$f":"IF('2.Logbook'!E361=\"\",\"\",'2.Logbook'!E361)","v":""},{"$f":"IF('2.Logbook'!F361=\"\",\"\",'2.Logbook'!F361)","v":""},{"$f":"IF('2.Logbook'!G361=\"\",\"\",'2.Logbook'!G361)","v":""},{"$f":"IF('2.Logbook'!H361=\"\",\"\",'2.Logbook'!H361)","v":""},{"$f":"IF('2.Logbook'!I361=\"\",\"\",'2.Logbook'!I361)","v":""},{"$f":"IF('2.Logbook'!J361=\"\",\"\",'2.Logbook'!J361)","v":""},{"$f":"IF('2.Logbook'!K361=\"\",\"\",'2.Logbook'!K361)","v":""},{"$f":"IF('2.Logbook'!L361=\"\",\"\",'2.Logbook'!L361)","v":""},{"$f":"IF('2.Logbook'!M361=\"\",\"\",'2.Logbook'!M361)","v":""},{"$f":"IF('2.Logbook'!N361=\"\",\"\",'2.Logbook'!N361)","v":""},{"$f":"IF('2.Logbook'!O361=\"\",\"\",'2.Logbook'!O361)","v":""},{"$f":"IF('2.Logbook'!P361=\"\",\"\",'2.Logbook'!P361)","v":""},{"$f":"IF('2.Logbook'!Q361=\"\",\"\",'2.Logbook'!Q361)","v":""},{"$f":"IF('2.Logbook'!R361=\"\",\"\",'2.Logbook'!R361)","v":""},{"$f":"IF('2.Logbook'!S361=\"\",\"\",'2.Logbook'!S361)","v":""},{"$f":"IF('2.Logbook'!T361=\"\",\"\",'2.Logbook'!T361)","v":""},{"$f":"IF('2.Logbook'!U361=\"\",\"\",'2.Logbook'!U361)","v":""},{"$f":"IF('2.Logbook'!V361=\"\",\"\",'2.Logbook'!V361)","v":""},{"$f":"IF('2.Logbook'!W361=\"\",\"\",'2.Logbook'!W361)","v":""},{"$f":"IF('2.Logbook'!X361=\"\",\"\",'2.Logbook'!X361)","v":""},{"$f":"IF('2.Logbook'!Y361=\"\",\"\",'2.Logbook'!Y361)","v":""},{"$f":"IF('2.Logbook'!Z361=\"\",\"\",'2.Logbook'!Z361)","v":""},{"$f":"IF('2.Logbook'!AA361=\"\",\"\",'2.Logbook'!AA361)","v":""},{"$f":"IF('2.Logbook'!AB361=\"\",\"\",'2.Logbook'!AB361)","v":""},{"$f":"IF('2.Logbook'!AC361=\"\",\"\",'2.Logbook'!AC361)","v":""},{"$f":"IF('2.Logbook'!AD361=\"\",\"\",'2.Logbook'!AD361)","v":""},{"$f":"IF('2.Logbook'!AE361=\"\",\"\",'2.Logbook'!AE361)","v":""},{"$f":"IF('2.Logbook'!AF361=\"\",\"\",'2.Logbook'!AF361)","v":""},{"$f":"IF('2.Logbook'!AG361=\"\",\"\",'2.Logbook'!AG361)","v":""}]
[{"$f":"IF('2.Logbook'!A362=\"\",\"\",'2.Logbook'!A362)","v":""},{"$f":"IF('2.Logbook'!B362=\"\",\"\",'2.Logbook'!B362)","v":""},{"$f":"IF('2.Logbook'!C362=\"\",\"\",'2.Logbook'!C362)","v":""},{"$f":"IF('2.Logbook'!D362=\"\",\"\",'2.Logbook'!D362)","v":""},{"$f":"IF('2.Logbook'!E362=\"\",\"\",'2.Logbook'!E362)","v":""},{"$f":"IF('2.Logbook'!F362=\"\",\"\",'2.Logbook'!F362)","v":""},{"$f":"IF('2.Logbook'!G362=\"\",\"\",'2.Logbook'!G362)","v":""},{"$f":"IF('2.Logbook'!H362=\"\",\"\",'2.Logbook'!H362)","v":""},{"$f":"IF('2.Logbook'!I362=\"\",\"\",'2.Logbook'!I362)","v":""},{"$f":"IF('2.Logbook'!J362=\"\",\"\",'2.Logbook'!J362)","v":""},{"$f":"IF('2.Logbook'!K362=\"\",\"\",'2.Logbook'!K362)","v":""},{"$f":"IF('2.Logbook'!L362=\"\",\"\",'2.Logbook'!L362)","v":""},{"$f":"IF('2.Logbook'!M362=\"\",\"\",'2.Logbook'!M362)","v":""},{"$f":"IF('2.Logbook'!N362=\"\",\"\",'2.Logbook'!N362)","v":""},{"$f":"IF('2.Logbook'!O362=\"\",\"\",'2.Logbook'!O362)","v":""},{"$f":"IF('2.Logbook'!P362=\"\",\"\",'2.Logbook'!P362)","v":""},{"$f":"IF('2.Logbook'!Q362=\"\",\"\",'2.Logbook'!Q362)","v":""},{"$f":"IF('2.Logbook'!R362=\"\",\"\",'2.Logbook'!R362)","v":""},{"$f":"IF('2.Logbook'!S362=\"\",\"\",'2.Logbook'!S362)","v":""},{"$f":"IF('2.Logbook'!T362=\"\",\"\",'2.Logbook'!T362)","v":""},{"$f":"IF('2.Logbook'!U362=\"\",\"\",'2.Logbook'!U362)","v":""},{"$f":"IF('2.Logbook'!V362=\"\",\"\",'2.Logbook'!V362)","v":""},{"$f":"IF('2.Logbook'!W362=\"\",\"\",'2.Logbook'!W362)","v":""},{"$f":"IF('2.Logbook'!X362=\"\",\"\",'2.Logbook'!X362)","v":""},{"$f":"IF('2.Logbook'!Y362=\"\",\"\",'2.Logbook'!Y362)","v":""},{"$f":"IF('2.Logbook'!Z362=\"\",\"\",'2.Logbook'!Z362)","v":""},{"$f":"IF('2.Logbook'!AA362=\"\",\"\",'2.Logbook'!AA362)","v":""},{"$f":"IF('2.Logbook'!AB362=\"\",\"\",'2.Logbook'!AB362)","v":""},{"$f":"IF('2.Logbook'!AC362=\"\",\"\",'2.Logbook'!AC362)","v":""},{"$f":"IF('2.Logbook'!AD362=\"\",\"\",'2.Logbook'!AD362)","v":""},{"$f":"IF('2.Logbook'!AE362=\"\",\"\",'2.Logbook'!AE362)","v":""},{"$f":"IF('2.Logbook'!AF362=\"\",\"\",'2.Logbook'!AF362)","v":""},{"$f":"IF('2.Logbook'!AG362=\"\",\"\",'2.Logbook'!AG362)","v":""}]
[{"$f":"IF('2.Logbook'!A363=\"\",\"\",'2.Logbook'!A363)","v":""},{"$f":"IF('2.Logbook'!B363=\"\",\"\",'2.Logbook'!B363)","v":""},{"$f":"IF('2.Logbook'!C363=\"\",\"\",'2.Logbook'!C363)","v":""},{"$f":"IF('2.Logbook'!D363=\"\",\"\",'2.Logbook'!D363)","v":""},{"$f":"IF('2.Logbook'!E363=\"\",\"\",'2.Logbook'!E363)","v":""},{"$f":"IF('2.Logbook'!F363=\"\",\"\",'2.Logbook'!F363)","v":""},{"$f":"IF('2.Logbook'!G363=\"\",\"\",'2.Logbook'!G363)","v":""},{"$f":"IF('2.Logbook'!H363=\"\",\"\",'2.Logbook'!H363)","v":""},{"$f":"IF('2.Logbook'!I363=\"\",\"\",'2.Logbook'!I363)","v":""},{"$f":"IF('2.Logbook'!J363=\"\",\"\",'2.Logbook'!J363)","v":""},{"$f":"IF('2.Logbook'!K363=\"\",\"\",'2.Logbook'!K363)","v":""},{"$f":"IF('2.Logbook'!L363=\"\",\"\",'2.Logbook'!L363)","v":""},{"$f":"IF('2.Logbook'!M363=\"\",\"\",'2.Logbook'!M363)","v":""},{"$f":"IF('2.Logbook'!N363=\"\",\"\",'2.Logbook'!N363)","v":""},{"$f":"IF('2.Logbook'!O363=\"\",\"\",'2.Logbook'!O363)","v":""},{"$f":"IF('2.Logbook'!P363=\"\",\"\",'2.Logbook'!P363)","v":""},{"$f":"IF('2.Logbook'!Q363=\"\",\"\",'2.Logbook'!Q363)","v":""},{"$f":"IF('2.Logbook'!R363=\"\",\"\",'2.Logbook'!R363)","v":""},{"$f":"IF('2.Logbook'!S363=\"\",\"\",'2.Logbook'!S363)","v":""},{"$f":"IF('2.Logbook'!T363=\"\",\"\",'2.Logbook'!T363)","v":""},{"$f":"IF('2.Logbook'!U363=\"\",\"\",'2.Logbook'!U363)","v":""},{"$f":"IF('2.Logbook'!V363=\"\",\"\",'2.Logbook'!V363)","v":""},{"$f":"IF('2.Logbook'!W363=\"\",\"\",'2.Logbook'!W363)","v":""},{"$f":"IF('2.Logbook'!X363=\"\",\"\",'2.Logbook'!X363)","v":""},{"$f":"IF('2.Logbook'!Y363=\"\",\"\",'2.Logbook'!Y363)","v":""},{"$f":"IF('2.Logbook'!Z363=\"\",\"\",'2.Logbook'!Z363)","v":""},{"$f":"IF('2.Logbook'!AA363=\"\",\"\",'2.Logbook'!AA363)","v":""},{"$f":"IF('2.Logbook'!AB363=\"\",\"\",'2.Logbook'!AB363)","v":""},{"$f":"IF('2.Logbook'!AC363=\"\",\"\",'2.Logbook'!AC363)","v":""},{"$f":"IF('2.Logbook'!AD363=\"\",\"\",'2.Logbook'!AD363)","v":""},{"$f":"IF('2.Logbook'!AE363=\"\",\"\",'2.Logbook'!AE363)","v":""},{"$f":"IF('2.Logbook'!AF363=\"\",\"\",'2.Logbook'!AF363)","v":""},{"$f":"IF('2.Logbook'!AG363=\"\",\"\",'2.Logbook'!AG363)","v":""}]
[{"$f":"IF('2.Logbook'!A364=\"\",\"\",'2.Logbook'!A364)","v":""},{"$f":"IF('2.Logbook'!B364=\"\",\"\",'2.Logbook'!B364)","v":""},{"$f":"IF('2.Logbook'!C364=\"\",\"\",'2.Logbook'!C364)","v":""},{"$f":"IF('2.Logbook'!D364=\"\",\"\",'2.Logbook'!D364)","v":""},{"$f":"IF('2.Logbook'!E364=\"\",\"\",'2.Logbook'!E364)","v":""},{"$f":"IF('2.Logbook'!F364=\"\",\"\",'2.Logbook'!F364)","v":""},{"$f":"IF('2.Logbook'!G364=\"\",\"\",'2.Logbook'!G364)","v":""},{"$f":"IF('2.Logbook'!H364=\"\",\"\",'2.Logbook'!H364)","v":""},{"$f":"IF('2.Logbook'!I364=\"\",\"\",'2.Logbook'!I364)","v":""},{"$f":"IF('2.Logbook'!J364=\"\",\"\",'2.Logbook'!J364)","v":""},{"$f":"IF('2.Logbook'!K364=\"\",\"\",'2.Logbook'!K364)","v":""},{"$f":"IF('2.Logbook'!L364=\"\",\"\",'2.Logbook'!L364)","v":""},{"$f":"IF('2.Logbook'!M364=\"\",\"\",'2.Logbook'!M364)","v":""},{"$f":"IF('2.Logbook'!N364=\"\",\"\",'2.Logbook'!N364)","v":""},{"$f":"IF('2.Logbook'!O364=\"\",\"\",'2.Logbook'!O364)","v":""},{"$f":"IF('2.Logbook'!P364=\"\",\"\",'2.Logbook'!P364)","v":""},{"$f":"IF('2.Logbook'!Q364=\"\",\"\",'2.Logbook'!Q364)","v":""},{"$f":"IF('2.Logbook'!R364=\"\",\"\",'2.Logbook'!R364)","v":""},{"$f":"IF('2.Logbook'!S364=\"\",\"\",'2.Logbook'!S364)","v":""},{"$f":"IF('2.Logbook'!T364=\"\",\"\",'2.Logbook'!T364)","v":""},{"$f":"IF('2.Logbook'!U364=\"\",\"\",'2.Logbook'!U364)","v":""},{"$f":"IF('2.Logbook'!V364=\"\",\"\",'2.Logbook'!V364)","v":""},{"$f":"IF('2.Logbook'!W364=\"\",\"\",'2.Logbook'!W364)","v":""},{"$f":"IF('2.Logbook'!X364=\"\",\"\",'2.Logbook'!X364)","v":""},{"$f":"IF('2.Logbook'!Y364=\"\",\"\",'2.Logbook'!Y364)","v":""},{"$f":"IF('2.Logbook'!Z364=\"\",\"\",'2.Logbook'!Z364)","v":""},{"$f":"IF('2.Logbook'!AA364=\"\",\"\",'2.Logbook'!AA364)","v":""},{"$f":"IF('2.Logbook'!AB364=\"\",\"\",'2.Logbook'!AB364)","v":""},{"$f":"IF('2.Logbook'!AC364=\"\",\"\",'2.Logbook'!AC364)","v":""},{"$f":"IF('2.Logbook'!AD364=\"\",\"\",'2.Logbook'!AD364)","v":""},{"$f":"IF('2.Logbook'!AE364=\"\",\"\",'2.Logbook'!AE364)","v":""},{"$f":"IF('2.Logbook'!AF364=\"\",\"\",'2.Logbook'!AF364)","v":""},{"$f":"IF('2.Logbook'!AG364=\"\",\"\",'2.Logbook'!AG364)","v":""}]
[{"$f":"IF('2.Logbook'!A365=\"\",\"\",'2.Logbook'!A365)","v":""},{"$f":"IF('2.Logbook'!B365=\"\",\"\",'2.Logbook'!B365)","v":""},{"$f":"IF('2.Logbook'!C365=\"\",\"\",'2.Logbook'!C365)","v":""},{"$f":"IF('2.Logbook'!D365=\"\",\"\",'2.Logbook'!D365)","v":""},{"$f":"IF('2.Logbook'!E365=\"\",\"\",'2.Logbook'!E365)","v":""},{"$f":"IF('2.Logbook'!F365=\"\",\"\",'2.Logbook'!F365)","v":""},{"$f":"IF('2.Logbook'!G365=\"\",\"\",'2.Logbook'!G365)","v":""},{"$f":"IF('2.Logbook'!H365=\"\",\"\",'2.Logbook'!H365)","v":""},{"$f":"IF('2.Logbook'!I365=\"\",\"\",'2.Logbook'!I365)","v":""},{"$f":"IF('2.Logbook'!J365=\"\",\"\",'2.Logbook'!J365)","v":""},{"$f":"IF('2.Logbook'!K365=\"\",\"\",'2.Logbook'!K365)","v":""},{"$f":"IF('2.Logbook'!L365=\"\",\"\",'2.Logbook'!L365)","v":""},{"$f":"IF('2.Logbook'!M365=\"\",\"\",'2.Logbook'!M365)","v":""},{"$f":"IF('2.Logbook'!N365=\"\",\"\",'2.Logbook'!N365)","v":""},{"$f":"IF('2.Logbook'!O365=\"\",\"\",'2.Logbook'!O365)","v":""},{"$f":"IF('2.Logbook'!P365=\"\",\"\",'2.Logbook'!P365)","v":""},{"$f":"IF('2.Logbook'!Q365=\"\",\"\",'2.Logbook'!Q365)","v":""},{"$f":"IF('2.Logbook'!R365=\"\",\"\",'2.Logbook'!R365)","v":""},{"$f":"IF('2.Logbook'!S365=\"\",\"\",'2.Logbook'!S365)","v":""},{"$f":"IF('2.Logbook'!T365=\"\",\"\",'2.Logbook'!T365)","v":""},{"$f":"IF('2.Logbook'!U365=\"\",\"\",'2.Logbook'!U365)","v":""},{"$f":"IF('2.Logbook'!V365=\"\",\"\",'2.Logbook'!V365)","v":""},{"$f":"IF('2.Logbook'!W365=\"\",\"\",'2.Logbook'!W365)","v":""},{"$f":"IF('2.Logbook'!X365=\"\",\"\",'2.Logbook'!X365)","v":""},{"$f":"IF('2.Logbook'!Y365=\"\",\"\",'2.Logbook'!Y365)","v":""},{"$f":"IF('2.Logbook'!Z365=\"\",\"\",'2.Logbook'!Z365)","v":""},{"$f":"IF('2.Logbook'!AA365=\"\",\"\",'2.Logbook'!AA365)","v":""},{"$f":"IF('2.Logbook'!AB365=\"\",\"\",'2.Logbook'!AB365)","v":""},{"$f":"IF('2.Logbook'!AC365=\"\",\"\",'2.Logbook'!AC365)","v":""},{"$f":"IF('2.Logbook'!AD365=\"\",\"\",'2.Logbook'!AD365)","v":""},{"$f":"IF('2.Logbook'!AE365=\"\",\"\",'2.Logbook'!AE365)","v":""},{"$f":"IF('2.Logbook'!AF365=\"\",\"\",'2.Logbook'!AF365)","v":""},{"$f":"IF('2.Logbook'!AG365=\"\",\"\",'2.Logbook'!AG365)","v":""}]
[{"$f":"IF('2.Logbook'!A366=\"\",\"\",'2.Logbook'!A366)","v":""},{"$f":"IF('2.Logbook'!B366=\"\",\"\",'2.Logbook'!B366)","v":""},{"$f":"IF('2.Logbook'!C366=\"\",\"\",'2.Logbook'!C366)","v":""},{"$f":"IF('2.Logbook'!D366=\"\",\"\",'2.Logbook'!D366)","v":""},{"$f":"IF('2.Logbook'!E366=\"\",\"\",'2.Logbook'!E366)","v":""},{"$f":"IF('2.Logbook'!F366=\"\",\"\",'2.Logbook'!F366)","v":""},{"$f":"IF('2.Logbook'!G366=\"\",\"\",'2.Logbook'!G366)","v":""},{"$f":"IF('2.Logbook'!H366=\"\",\"\",'2.Logbook'!H366)","v":""},{"$f":"IF('2.Logbook'!I366=\"\",\"\",'2.Logbook'!I366)","v":""},{"$f":"IF('2.Logbook'!J366=\"\",\"\",'2.Logbook'!J366)","v":""},{"$f":"IF('2.Logbook'!K366=\"\",\"\",'2.Logbook'!K366)","v":""},{"$f":"IF('2.Logbook'!L366=\"\",\"\",'2.Logbook'!L366)","v":""},{"$f":"IF('2.Logbook'!M366=\"\",\"\",'2.Logbook'!M366)","v":""},{"$f":"IF('2.Logbook'!N366=\"\",\"\",'2.Logbook'!N366)","v":""},{"$f":"IF('2.Logbook'!O366=\"\",\"\",'2.Logbook'!O366)","v":""},{"$f":"IF('2.Logbook'!P366=\"\",\"\",'2.Logbook'!P366)","v":""},{"$f":"IF('2.Logbook'!Q366=\"\",\"\",'2.Logbook'!Q366)","v":""},{"$f":"IF('2.Logbook'!R366=\"\",\"\",'2.Logbook'!R366)","v":""},{"$f":"IF('2.Logbook'!S366=\"\",\"\",'2.Logbook'!S366)","v":""},{"$f":"IF('2.Logbook'!T366=\"\",\"\",'2.Logbook'!T366)","v":""},{"$f":"IF('2.Logbook'!U366=\"\",\"\",'2.Logbook'!U366)","v":""},{"$f":"IF('2.Logbook'!V366=\"\",\"\",'2.Logbook'!V366)","v":""},{"$f":"IF('2.Logbook'!W366=\"\",\"\",'2.Logbook'!W366)","v":""},{"$f":"IF('2.Logbook'!X366=\"\",\"\",'2.Logbook'!X366)","v":""},{"$f":"IF('2.Logbook'!Y366=\"\",\"\",'2.Logbook'!Y366)","v":""},{"$f":"IF('2.Logbook'!Z366=\"\",\"\",'2.Logbook'!Z366)","v":""},{"$f":"IF('2.Logbook'!AA366=\"\",\"\",'2.Logbook'!AA366)","v":""},{"$f":"IF('2.Logbook'!AB366=\"\",\"\",'2.Logbook'!AB366)","v":""},{"$f":"IF('2.Logbook'!AC366=\"\",\"\",'2.Logbook'!AC366)","v":""},{"$f":"IF('2.Logbook'!AD366=\"\",\"\",'2.Logbook'!AD366)","v":""},{"$f":"IF('2.Logbook'!AE366=\"\",\"\",'2.Logbook'!AE366)","v":""},{"$f":"IF('2.Logbook'!AF366=\"\",\"\",'2.Logbook'!AF366)","v":""},{"$f":"IF('2.Logbook'!AG366=\"\",\"\",'2.Logbook'!AG366)","v":""}]
[{"$f":"IF('2.Logbook'!A367=\"\",\"\",'2.Logbook'!A367)","v":""},{"$f":"IF('2.Logbook'!B367=\"\",\"\",'2.Logbook'!B367)","v":""},{"$f":"IF('2.Logbook'!C367=\"\",\"\",'2.Logbook'!C367)","v":""},{"$f":"IF('2.Logbook'!D367=\"\",\"\",'2.Logbook'!D367)","v":""},{"$f":"IF('2.Logbook'!E367=\"\",\"\",'2.Logbook'!E367)","v":""},{"$f":"IF('2.Logbook'!F367=\"\",\"\",'2.Logbook'!F367)","v":""},{"$f":"IF('2.Logbook'!G367=\"\",\"\",'2.Logbook'!G367)","v":""},{"$f":"IF('2.Logbook'!H367=\"\",\"\",'2.Logbook'!H367)","v":""},{"$f":"IF('2.Logbook'!I367=\"\",\"\",'2.Logbook'!I367)","v":""},{"$f":"IF('2.Logbook'!J367=\"\",\"\",'2.Logbook'!J367)","v":""},{"$f":"IF('2.Logbook'!K367=\"\",\"\",'2.Logbook'!K367)","v":""},{"$f":"IF('2.Logbook'!L367=\"\",\"\",'2.Logbook'!L367)","v":""},{"$f":"IF('2.Logbook'!M367=\"\",\"\",'2.Logbook'!M367)","v":""},{"$f":"IF('2.Logbook'!N367=\"\",\"\",'2.Logbook'!N367)","v":""},{"$f":"IF('2.Logbook'!O367=\"\",\"\",'2.Logbook'!O367)","v":""},{"$f":"IF('2.Logbook'!P367=\"\",\"\",'2.Logbook'!P367)","v":""},{"$f":"IF('2.Logbook'!Q367=\"\",\"\",'2.Logbook'!Q367)","v":""},{"$f":"IF('2.Logbook'!R367=\"\",\"\",'2.Logbook'!R367)","v":""},{"$f":"IF('2.Logbook'!S367=\"\",\"\",'2.Logbook'!S367)","v":""},{"$f":"IF('2.Logbook'!T367=\"\",\"\",'2.Logbook'!T367)","v":""},{"$f":"IF('2.Logbook'!U367=\"\",\"\",'2.Logbook'!U367)","v":""},{"$f":"IF('2.Logbook'!V367=\"\",\"\",'2.Logbook'!V367)","v":""},{"$f":"IF('2.Logbook'!W367=\"\",\"\",'2.Logbook'!W367)","v":""},{"$f":"IF('2.Logbook'!X367=\"\",\"\",'2.Logbook'!X367)","v":""},{"$f":"IF('2.Logbook'!Y367=\"\",\"\",'2.Logbook'!Y367)","v":""},{"$f":"IF('2.Logbook'!Z367=\"\",\"\",'2.Logbook'!Z367)","v":""},{"$f":"IF('2.Logbook'!AA367=\"\",\"\",'2.Logbook'!AA367)","v":""},{"$f":"IF('2.Logbook'!AB367=\"\",\"\",'2.Logbook'!AB367)","v":""},{"$f":"IF('2.Logbook'!AC367=\"\",\"\",'2.Logbook'!AC367)","v":""},{"$f":"IF('2.Logbook'!AD367=\"\",\"\",'2.Logbook'!AD367)","v":""},{"$f":"IF('2.Logbook'!AE367=\"\",\"\",'2.Logbook'!AE367)","v":""},{"$f":"IF('2.Logbook'!AF367=\"\",\"\",'2.Logbook'!AF367)","v":""},{"$f":"IF('2.Logbook'!AG367=\"\",\"\",'2.Logbook'!AG367)","v":""}]
[{"$f":"IF('2.Logbook'!A368=\"\",\"\",'2.Logbook'!A368)","v":""},{"$f":"IF('2.Logbook'!B368=\"\",\"\",'2.Logbook'!B368)","v":""},{"$f":"IF('2.Logbook'!C368=\"\",\"\",'2.Logbook'!C368)","v":""},{"$f":"IF('2.Logbook'!D368=\"\",\"\",'2.Logbook'!D368)","v":""},{"$f":"IF('2.Logbook'!E368=\"\",\"\",'2.Logbook'!E368)","v":""},{"$f":"IF('2.Logbook'!F368=\"\",\"\",'2.Logbook'!F368)","v":""},{"$f":"IF('2.Logbook'!G368=\"\",\"\",'2.Logbook'!G368)","v":""},{"$f":"IF('2.Logbook'!H368=\"\",\"\",'2.Logbook'!H368)","v":""},{"$f":"IF('2.Logbook'!I368=\"\",\"\",'2.Logbook'!I368)","v":""},{"$f":"IF('2.Logbook'!J368=\"\",\"\",'2.Logbook'!J368)","v":""},{"$f":"IF('2.Logbook'!K368=\"\",\"\",'2.Logbook'!K368)","v":""},{"$f":"IF('2.Logbook'!L368=\"\",\"\",'2.Logbook'!L368)","v":""},{"$f":"IF('2.Logbook'!M368=\"\",\"\",'2.Logbook'!M368)","v":""},{"$f":"IF('2.Logbook'!N368=\"\",\"\",'2.Logbook'!N368)","v":""},{"$f":"IF('2.Logbook'!O368=\"\",\"\",'2.Logbook'!O368)","v":""},{"$f":"IF('2.Logbook'!P368=\"\",\"\",'2.Logbook'!P368)","v":""},{"$f":"IF('2.Logbook'!Q368=\"\",\"\",'2.Logbook'!Q368)","v":""},{"$f":"IF('2.Logbook'!R368=\"\",\"\",'2.Logbook'!R368)","v":""},{"$f":"IF('2.Logbook'!S368=\"\",\"\",'2.Logbook'!S368)","v":""},{"$f":"IF('2.Logbook'!T368=\"\",\"\",'2.Logbook'!T368)","v":""},{"$f":"IF('2.Logbook'!U368=\"\",\"\",'2.Logbook'!U368)","v":""},{"$f":"IF('2.Logbook'!V368=\"\",\"\",'2.Logbook'!V368)","v":""},{"$f":"IF('2.Logbook'!W368=\"\",\"\",'2.Logbook'!W368)","v":""},{"$f":"IF('2.Logbook'!X368=\"\",\"\",'2.Logbook'!X368)","v":""},{"$f":"IF('2.Logbook'!Y368=\"\",\"\",'2.Logbook'!Y368)","v":""},{"$f":"IF('2.Logbook'!Z368=\"\",\"\",'2.Logbook'!Z368)","v":""},{"$f":"IF('2.Logbook'!AA368=\"\",\"\",'2.Logbook'!AA368)","v":""},{"$f":"IF('2.Logbook'!AB368=\"\",\"\",'2.Logbook'!AB368)","v":""},{"$f":"IF('2.Logbook'!AC368=\"\",\"\",'2.Logbook'!AC368)","v":""},{"$f":"IF('2.Logbook'!AD368=\"\",\"\",'2.Logbook'!AD368)","v":""},{"$f":"IF('2.Logbook'!AE368=\"\",\"\",'2.Logbook'!AE368)","v":""},{"$f":"IF('2.Logbook'!AF368=\"\",\"\",'2.Logbook'!AF368)","v":""},{"$f":"IF('2.Logbook'!AG368=\"\",\"\",'2.Logbook'!AG368)","v":""}]
[{"$f":"IF('2.Logbook'!A369=\"\",\"\",'2.Logbook'!A369)","v":""},{"$f":"IF('2.Logbook'!B369=\"\",\"\",'2.Logbook'!B369)","v":""},{"$f":"IF('2.Logbook'!C369=\"\",\"\",'2.Logbook'!C369)","v":""},{"$f":"IF('2.Logbook'!D369=\"\",\"\",'2.Logbook'!D369)","v":""},{"$f":"IF('2.Logbook'!E369=\"\",\"\",'2.Logbook'!E369)","v":""},{"$f":"IF('2.Logbook'!F369=\"\",\"\",'2.Logbook'!F369)","v":""},{"$f":"IF('2.Logbook'!G369=\"\",\"\",'2.Logbook'!G369)","v":""},{"$f":"IF('2.Logbook'!H369=\"\",\"\",'2.Logbook'!H369)","v":""},{"$f":"IF('2.Logbook'!I369=\"\",\"\",'2.Logbook'!I369)","v":""},{"$f":"IF('2.Logbook'!J369=\"\",\"\",'2.Logbook'!J369)","v":""},{"$f":"IF('2.Logbook'!K369=\"\",\"\",'2.Logbook'!K369)","v":""},{"$f":"IF('2.Logbook'!L369=\"\",\"\",'2.Logbook'!L369)","v":""},{"$f":"IF('2.Logbook'!M369=\"\",\"\",'2.Logbook'!M369)","v":""},{"$f":"IF('2.Logbook'!N369=\"\",\"\",'2.Logbook'!N369)","v":""},{"$f":"IF('2.Logbook'!O369=\"\",\"\",'2.Logbook'!O369)","v":""},{"$f":"IF('2.Logbook'!P369=\"\",\"\",'2.Logbook'!P369)","v":""},{"$f":"IF('2.Logbook'!Q369=\"\",\"\",'2.Logbook'!Q369)","v":""},{"$f":"IF('2.Logbook'!R369=\"\",\"\",'2.Logbook'!R369)","v":""},{"$f":"IF('2.Logbook'!S369=\"\",\"\",'2.Logbook'!S369)","v":""},{"$f":"IF('2.Logbook'!T369=\"\",\"\",'2.Logbook'!T369)","v":""},{"$f":"IF('2.Logbook'!U369=\"\",\"\",'2.Logbook'!U369)","v":""},{"$f":"IF('2.Logbook'!V369=\"\",\"\",'2.Logbook'!V369)","v":""},{"$f":"IF('2.Logbook'!W369=\"\",\"\",'2.Logbook'!W369)","v":""},{"$f":"IF('2.Logbook'!X369=\"\",\"\",'2.Logbook'!X369)","v":""},{"$f":"IF('2.Logbook'!Y369=\"\",\"\",'2.Logbook'!Y369)","v":""},{"$f":"IF('2.Logbook'!Z369=\"\",\"\",'2.Logbook'!Z369)","v":""},{"$f":"IF('2.Logbook'!AA369=\"\",\"\",'2.Logbook'!AA369)","v":""},{"$f":"IF('2.Logbook'!AB369=\"\",\"\",'2.Logbook'!AB369)","v":""},{"$f":"IF('2.Logbook'!AC369=\"\",\"\",'2.Logbook'!AC369)","v":""},{"$f":"IF('2.Logbook'!AD369=\"\",\"\",'2.Logbook'!AD369)","v":""},{"$f":"IF('2.Logbook'!AE369=\"\",\"\",'2.Logbook'!AE369)","v":""},{"$f":"IF('2.Logbook'!AF369=\"\",\"\",'2.Logbook'!AF369)","v":""},{"$f":"IF('2.Logbook'!AG369=\"\",\"\",'2.Logbook'!AG369)","v":""}]
[{"$f":"IF('2.Logbook'!A370=\"\",\"\",'2.Logbook'!A370)","v":""},{"$f":"IF('2.Logbook'!B370=\"\",\"\",'2.Logbook'!B370)","v":""},{"$f":"IF('2.Logbook'!C370=\"\",\"\",'2.Logbook'!C370)","v":""},{"$f":"IF('2.Logbook'!D370=\"\",\"\",'2.Logbook'!D370)","v":""},{"$f":"IF('2.Logbook'!E370=\"\",\"\",'2.Logbook'!E370)","v":""},{"$f":"IF('2.Logbook'!F370=\"\",\"\",'2.Logbook'!F370)","v":""},{"$f":"IF('2.Logbook'!G370=\"\",\"\",'2.Logbook'!G370)","v":""},{"$f":"IF('2.Logbook'!H370=\"\",\"\",'2.Logbook'!H370)","v":""},{"$f":"IF('2.Logbook'!I370=\"\",\"\",'2.Logbook'!I370)","v":""},{"$f":"IF('2.Logbook'!J370=\"\",\"\",'2.Logbook'!J370)","v":""},{"$f":"IF('2.Logbook'!K370=\"\",\"\",'2.Logbook'!K370)","v":""},{"$f":"IF('2.Logbook'!L370=\"\",\"\",'2.Logbook'!L370)","v":""},{"$f":"IF('2.Logbook'!M370=\"\",\"\",'2.Logbook'!M370)","v":""},{"$f":"IF('2.Logbook'!N370=\"\",\"\",'2.Logbook'!N370)","v":""},{"$f":"IF('2.Logbook'!O370=\"\",\"\",'2.Logbook'!O370)","v":""},{"$f":"IF('2.Logbook'!P370=\"\",\"\",'2.Logbook'!P370)","v":""},{"$f":"IF('2.Logbook'!Q370=\"\",\"\",'2.Logbook'!Q370)","v":""},{"$f":"IF('2.Logbook'!R370=\"\",\"\",'2.Logbook'!R370)","v":""},{"$f":"IF('2.Logbook'!S370=\"\",\"\",'2.Logbook'!S370)","v":""},{"$f":"IF('2.Logbook'!T370=\"\",\"\",'2.Logbook'!T370)","v":""},{"$f":"IF('2.Logbook'!U370=\"\",\"\",'2.Logbook'!U370)","v":""},{"$f":"IF('2.Logbook'!V370=\"\",\"\",'2.Logbook'!V370)","v":""},{"$f":"IF('2.Logbook'!W370=\"\",\"\",'2.Logbook'!W370)","v":""},{"$f":"IF('2.Logbook'!X370=\"\",\"\",'2.Logbook'!X370)","v":""},{"$f":"IF('2.Logbook'!Y370=\"\",\"\",'2.Logbook'!Y370)","v":""},{"$f":"IF('2.Logbook'!Z370=\"\",\"\",'2.Logbook'!Z370)","v":""},{"$f":"IF('2.Logbook'!AA370=\"\",\"\",'2.Logbook'!AA370)","v":""},{"$f":"IF('2.Logbook'!AB370=\"\",\"\",'2.Logbook'!AB370)","v":""},{"$f":"IF('2.Logbook'!AC370=\"\",\"\",'2.Logbook'!AC370)","v":""},{"$f":"IF('2.Logbook'!AD370=\"\",\"\",'2.Logbook'!AD370)","v":""},{"$f":"IF('2.Logbook'!AE370=\"\",\"\",'2.Logbook'!AE370)","v":""},{"$f":"IF('2.Logbook'!AF370=\"\",\"\",'2.Logbook'!AF370)","v":""},{"$f":"IF('2.Logbook'!AG370=\"\",\"\",'2.Logbook'!AG370)","v":""}]
[{"$f":"IF('2.Logbook'!A371=\"\",\"\",'2.Logbook'!A371)","v":""},{"$f":"IF('2.Logbook'!B371=\"\",\"\",'2.Logbook'!B371)","v":""},{"$f":"IF('2.Logbook'!C371=\"\",\"\",'2.Logbook'!C371)","v":""},{"$f":"IF('2.Logbook'!D371=\"\",\"\",'2.Logbook'!D371)","v":""},{"$f":"IF('2.Logbook'!E371=\"\",\"\",'2.Logbook'!E371)","v":""},{"$f":"IF('2.Logbook'!F371=\"\",\"\",'2.Logbook'!F371)","v":""},{"$f":"IF('2.Logbook'!G371=\"\",\"\",'2.Logbook'!G371)","v":""},{"$f":"IF('2.Logbook'!H371=\"\",\"\",'2.Logbook'!H371)","v":""},{"$f":"IF('2.Logbook'!I371=\"\",\"\",'2.Logbook'!I371)","v":""},{"$f":"IF('2.Logbook'!J371=\"\",\"\",'2.Logbook'!J371)","v":""},{"$f":"IF('2.Logbook'!K371=\"\",\"\",'2.Logbook'!K371)","v":""},{"$f":"IF('2.Logbook'!L371=\"\",\"\",'2.Logbook'!L371)","v":""},{"$f":"IF('2.Logbook'!M371=\"\",\"\",'2.Logbook'!M371)","v":""},{"$f":"IF('2.Logbook'!N371=\"\",\"\",'2.Logbook'!N371)","v":""},{"$f":"IF('2.Logbook'!O371=\"\",\"\",'2.Logbook'!O371)","v":""},{"$f":"IF('2.Logbook'!P371=\"\",\"\",'2.Logbook'!P371)","v":""},{"$f":"IF('2.Logbook'!Q371=\"\",\"\",'2.Logbook'!Q371)","v":""},{"$f":"IF('2.Logbook'!R371=\"\",\"\",'2.Logbook'!R371)","v":""},{"$f":"IF('2.Logbook'!S371=\"\",\"\",'2.Logbook'!S371)","v":""},{"$f":"IF('2.Logbook'!T371=\"\",\"\",'2.Logbook'!T371)","v":""},{"$f":"IF('2.Logbook'!U371=\"\",\"\",'2.Logbook'!U371)","v":""},{"$f":"IF('2.Logbook'!V371=\"\",\"\",'2.Logbook'!V371)","v":""},{"$f":"IF('2.Logbook'!W371=\"\",\"\",'2.Logbook'!W371)","v":""},{"$f":"IF('2.Logbook'!X371=\"\",\"\",'2.Logbook'!X371)","v":""},{"$f":"IF('2.Logbook'!Y371=\"\",\"\",'2.Logbook'!Y371)","v":""},{"$f":"IF('2.Logbook'!Z371=\"\",\"\",'2.Logbook'!Z371)","v":""},{"$f":"IF('2.Logbook'!AA371=\"\",\"\",'2.Logbook'!AA371)","v":""},{"$f":"IF('2.Logbook'!AB371=\"\",\"\",'2.Logbook'!AB371)","v":""},{"$f":"IF('2.Logbook'!AC371=\"\",\"\",'2.Logbook'!AC371)","v":""},{"$f":"IF('2.Logbook'!AD371=\"\",\"\",'2.Logbook'!AD371)","v":""},{"$f":"IF('2.Logbook'!AE371=\"\",\"\",'2.Logbook'!AE371)","v":""},{"$f":"IF('2.Logbook'!AF371=\"\",\"\",'2.Logbook'!AF371)","v":""},{"$f":"IF('2.Logbook'!AG371=\"\",\"\",'2.Logbook'!AG371)","v":""}]
[{"$f":"IF('2.Logbook'!A372=\"\",\"\",'2.Logbook'!A372)","v":""},{"$f":"IF('2.Logbook'!B372=\"\",\"\",'2.Logbook'!B372)","v":""},{"$f":"IF('2.Logbook'!C372=\"\",\"\",'2.Logbook'!C372)","v":""},{"$f":"IF('2.Logbook'!D372=\"\",\"\",'2.Logbook'!D372)","v":""},{"$f":"IF('2.Logbook'!E372=\"\",\"\",'2.Logbook'!E372)","v":""},{"$f":"IF('2.Logbook'!F372=\"\",\"\",'2.Logbook'!F372)","v":""},{"$f":"IF('2.Logbook'!G372=\"\",\"\",'2.Logbook'!G372)","v":""},{"$f":"IF('2.Logbook'!H372=\"\",\"\",'2.Logbook'!H372)","v":""},{"$f":"IF('2.Logbook'!I372=\"\",\"\",'2.Logbook'!I372)","v":""},{"$f":"IF('2.Logbook'!J372=\"\",\"\",'2.Logbook'!J372)","v":""},{"$f":"IF('2.Logbook'!K372=\"\",\"\",'2.Logbook'!K372)","v":""},{"$f":"IF('2.Logbook'!L372=\"\",\"\",'2.Logbook'!L372)","v":""},{"$f":"IF('2.Logbook'!M372=\"\",\"\",'2.Logbook'!M372)","v":""},{"$f":"IF('2.Logbook'!N372=\"\",\"\",'2.Logbook'!N372)","v":""},{"$f":"IF('2.Logbook'!O372=\"\",\"\",'2.Logbook'!O372)","v":""},{"$f":"IF('2.Logbook'!P372=\"\",\"\",'2.Logbook'!P372)","v":""},{"$f":"IF('2.Logbook'!Q372=\"\",\"\",'2.Logbook'!Q372)","v":""},{"$f":"IF('2.Logbook'!R372=\"\",\"\",'2.Logbook'!R372)","v":""},{"$f":"IF('2.Logbook'!S372=\"\",\"\",'2.Logbook'!S372)","v":""},{"$f":"IF('2.Logbook'!T372=\"\",\"\",'2.Logbook'!T372)","v":""},{"$f":"IF('2.Logbook'!U372=\"\",\"\",'2.Logbook'!U372)","v":""},{"$f":"IF('2.Logbook'!V372=\"\",\"\",'2.Logbook'!V372)","v":""},{"$f":"IF('2.Logbook'!W372=\"\",\"\",'2.Logbook'!W372)","v":""},{"$f":"IF('2.Logbook'!X372=\"\",\"\",'2.Logbook'!X372)","v":""},{"$f":"IF('2.Logbook'!Y372=\"\",\"\",'2.Logbook'!Y372)","v":""},{"$f":"IF('2.Logbook'!Z372=\"\",\"\",'2.Logbook'!Z372)","v":""},{"$f":"IF('2.Logbook'!AA372=\"\",\"\",'2.Logbook'!AA372)","v":""},{"$f":"IF('2.Logbook'!AB372=\"\",\"\",'2.Logbook'!AB372)","v":""},{"$f":"IF('2.Logbook'!AC372=\"\",\"\",'2.Logbook'!AC372)","v":""},{"$f":"IF('2.Logbook'!AD372=\"\",\"\",'2.Logbook'!AD372)","v":""},{"$f":"IF('2.Logbook'!AE372=\"\",\"\",'2.Logbook'!AE372)","v":""},{"$f":"IF('2.Logbook'!AF372=\"\",\"\",'2.Logbook'!AF372)","v":""},{"$f":"IF('2.Logbook'!AG372=\"\",\"\",'2.Logbook'!AG372)","v":""}]
[{"$f":"IF('2.Logbook'!A373=\"\",\"\",'2.Logbook'!A373)","v":""},{"$f":"IF('2.Logbook'!B373=\"\",\"\",'2.Logbook'!B373)","v":""},{"$f":"IF('2.Logbook'!C373=\"\",\"\",'2.Logbook'!C373)","v":""},{"$f":"IF('2.Logbook'!D373=\"\",\"\",'2.Logbook'!D373)","v":""},{"$f":"IF('2.Logbook'!E373=\"\",\"\",'2.Logbook'!E373)","v":""},{"$f":"IF('2.Logbook'!F373=\"\",\"\",'2.Logbook'!F373)","v":""},{"$f":"IF('2.Logbook'!G373=\"\",\"\",'2.Logbook'!G373)","v":""},{"$f":"IF('2.Logbook'!H373=\"\",\"\",'2.Logbook'!H373)","v":""},{"$f":"IF('2.Logbook'!I373=\"\",\"\",'2.Logbook'!I373)","v":""},{"$f":"IF('2.Logbook'!J373=\"\",\"\",'2.Logbook'!J373)","v":""},{"$f":"IF('2.Logbook'!K373=\"\",\"\",'2.Logbook'!K373)","v":""},{"$f":"IF('2.Logbook'!L373=\"\",\"\",'2.Logbook'!L373)","v":""},{"$f":"IF('2.Logbook'!M373=\"\",\"\",'2.Logbook'!M373)","v":""},{"$f":"IF('2.Logbook'!N373=\"\",\"\",'2.Logbook'!N373)","v":""},{"$f":"IF('2.Logbook'!O373=\"\",\"\",'2.Logbook'!O373)","v":""},{"$f":"IF('2.Logbook'!P373=\"\",\"\",'2.Logbook'!P373)","v":""},{"$f":"IF('2.Logbook'!Q373=\"\",\"\",'2.Logbook'!Q373)","v":""},{"$f":"IF('2.Logbook'!R373=\"\",\"\",'2.Logbook'!R373)","v":""},{"$f":"IF('2.Logbook'!S373=\"\",\"\",'2.Logbook'!S373)","v":""},{"$f":"IF('2.Logbook'!T373=\"\",\"\",'2.Logbook'!T373)","v":""},{"$f":"IF('2.Logbook'!U373=\"\",\"\",'2.Logbook'!U373)","v":""},{"$f":"IF('2.Logbook'!V373=\"\",\"\",'2.Logbook'!V373)","v":""},{"$f":"IF('2.Logbook'!W373=\"\",\"\",'2.Logbook'!W373)","v":""},{"$f":"IF('2.Logbook'!X373=\"\",\"\",'2.Logbook'!X373)","v":""},{"$f":"IF('2.Logbook'!Y373=\"\",\"\",'2.Logbook'!Y373)","v":""},{"$f":"IF('2.Logbook'!Z373=\"\",\"\",'2.Logbook'!Z373)","v":""},{"$f":"IF('2.Logbook'!AA373=\"\",\"\",'2.Logbook'!AA373)","v":""},{"$f":"IF('2.Logbook'!AB373=\"\",\"\",'2.Logbook'!AB373)","v":""},{"$f":"IF('2.Logbook'!AC373=\"\",\"\",'2.Logbook'!AC373)","v":""},{"$f":"IF('2.Logbook'!AD373=\"\",\"\",'2.Logbook'!AD373)","v":""},{"$f":"IF('2.Logbook'!AE373=\"\",\"\",'2.Logbook'!AE373)","v":""},{"$f":"IF('2.Logbook'!AF373=\"\",\"\",'2.Logbook'!AF373)","v":""},{"$f":"IF('2.Logbook'!AG373=\"\",\"\",'2.Logbook'!AG373)","v":""}]
[{"$f":"IF('2.Logbook'!A374=\"\",\"\",'2.Logbook'!A374)","v":""},{"$f":"IF('2.Logbook'!B374=\"\",\"\",'2.Logbook'!B374)","v":""},{"$f":"IF('2.Logbook'!C374=\"\",\"\",'2.Logbook'!C374)","v":""},{"$f":"IF('2.Logbook'!D374=\"\",\"\",'2.Logbook'!D374)","v":""},{"$f":"IF('2.Logbook'!E374=\"\",\"\",'2.Logbook'!E374)","v":""},{"$f":"IF('2.Logbook'!F374=\"\",\"\",'2.Logbook'!F374)","v":""},{"$f":"IF('2.Logbook'!G374=\"\",\"\",'2.Logbook'!G374)","v":""},{"$f":"IF('2.Logbook'!H374=\"\",\"\",'2.Logbook'!H374)","v":""},{"$f":"IF('2.Logbook'!I374=\"\",\"\",'2.Logbook'!I374)","v":""},{"$f":"IF('2.Logbook'!J374=\"\",\"\",'2.Logbook'!J374)","v":""},{"$f":"IF('2.Logbook'!K374=\"\",\"\",'2.Logbook'!K374)","v":""},{"$f":"IF('2.Logbook'!L374=\"\",\"\",'2.Logbook'!L374)","v":""},{"$f":"IF('2.Logbook'!M374=\"\",\"\",'2.Logbook'!M374)","v":""},{"$f":"IF('2.Logbook'!N374=\"\",\"\",'2.Logbook'!N374)","v":""},{"$f":"IF('2.Logbook'!O374=\"\",\"\",'2.Logbook'!O374)","v":""},{"$f":"IF('2.Logbook'!P374=\"\",\"\",'2.Logbook'!P374)","v":""},{"$f":"IF('2.Logbook'!Q374=\"\",\"\",'2.Logbook'!Q374)","v":""},{"$f":"IF('2.Logbook'!R374=\"\",\"\",'2.Logbook'!R374)","v":""},{"$f":"IF('2.Logbook'!S374=\"\",\"\",'2.Logbook'!S374)","v":""},{"$f":"IF('2.Logbook'!T374=\"\",\"\",'2.Logbook'!T374)","v":""},{"$f":"IF('2.Logbook'!U374=\"\",\"\",'2.Logbook'!U374)","v":""},{"$f":"IF('2.Logbook'!V374=\"\",\"\",'2.Logbook'!V374)","v":""},{"$f":"IF('2.Logbook'!W374=\"\",\"\",'2.Logbook'!W374)","v":""},{"$f":"IF('2.Logbook'!X374=\"\",\"\",'2.Logbook'!X374)","v":""},{"$f":"IF('2.Logbook'!Y374=\"\",\"\",'2.Logbook'!Y374)","v":""},{"$f":"IF('2.Logbook'!Z374=\"\",\"\",'2.Logbook'!Z374)","v":""},{"$f":"IF('2.Logbook'!AA374=\"\",\"\",'2.Logbook'!AA374)","v":""},{"$f":"IF('2.Logbook'!AB374=\"\",\"\",'2.Logbook'!AB374)","v":""},{"$f":"IF('2.Logbook'!AC374=\"\",\"\",'2.Logbook'!AC374)","v":""},{"$f":"IF('2.Logbook'!AD374=\"\",\"\",'2.Logbook'!AD374)","v":""},{"$f":"IF('2.Logbook'!AE374=\"\",\"\",'2.Logbook'!AE374)","v":""},{"$f":"IF('2.Logbook'!AF374=\"\",\"\",'2.Logbook'!AF374)","v":""},{"$f":"IF('2.Logbook'!AG374=\"\",\"\",'2.Logbook'!AG374)","v":""}]
[{"$f":"IF('2.Logbook'!A375=\"\",\"\",'2.Logbook'!A375)","v":""},{"$f":"IF('2.Logbook'!B375=\"\",\"\",'2.Logbook'!B375)","v":""},{"$f":"IF('2.Logbook'!C375=\"\",\"\",'2.Logbook'!C375)","v":""},{"$f":"IF('2.Logbook'!D375=\"\",\"\",'2.Logbook'!D375)","v":""},{"$f":"IF('2.Logbook'!E375=\"\",\"\",'2.Logbook'!E375)","v":""},{"$f":"IF('2.Logbook'!F375=\"\",\"\",'2.Logbook'!F375)","v":""},{"$f":"IF('2.Logbook'!G375=\"\",\"\",'2.Logbook'!G375)","v":""},{"$f":"IF('2.Logbook'!H375=\"\",\"\",'2.Logbook'!H375)","v":""},{"$f":"IF('2.Logbook'!I375=\"\",\"\",'2.Logbook'!I375)","v":""},{"$f":"IF('2.Logbook'!J375=\"\",\"\",'2.Logbook'!J375)","v":""},{"$f":"IF('2.Logbook'!K375=\"\",\"\",'2.Logbook'!K375)","v":""},{"$f":"IF('2.Logbook'!L375=\"\",\"\",'2.Logbook'!L375)","v":""},{"$f":"IF('2.Logbook'!M375=\"\",\"\",'2.Logbook'!M375)","v":""},{"$f":"IF('2.Logbook'!N375=\"\",\"\",'2.Logbook'!N375)","v":""},{"$f":"IF('2.Logbook'!O375=\"\",\"\",'2.Logbook'!O375)","v":""},{"$f":"IF('2.Logbook'!P375=\"\",\"\",'2.Logbook'!P375)","v":""},{"$f":"IF('2.Logbook'!Q375=\"\",\"\",'2.Logbook'!Q375)","v":""},{"$f":"IF('2.Logbook'!R375=\"\",\"\",'2.Logbook'!R375)","v":""},{"$f":"IF('2.Logbook'!S375=\"\",\"\",'2.Logbook'!S375)","v":""},{"$f":"IF('2.Logbook'!T375=\"\",\"\",'2.Logbook'!T375)","v":""},{"$f":"IF('2.Logbook'!U375=\"\",\"\",'2.Logbook'!U375)","v":""},{"$f":"IF('2.Logbook'!V375=\"\",\"\",'2.Logbook'!V375)","v":""},{"$f":"IF('2.Logbook'!W375=\"\",\"\",'2.Logbook'!W375)","v":""},{"$f":"IF('2.Logbook'!X375=\"\",\"\",'2.Logbook'!X375)","v":""},{"$f":"IF('2.Logbook'!Y375=\"\",\"\",'2.Logbook'!Y375)","v":""},{"$f":"IF('2.Logbook'!Z375=\"\",\"\",'2.Logbook'!Z375)","v":""},{"$f":"IF('2.Logbook'!AA375=\"\",\"\",'2.Logbook'!AA375)","v":""},{"$f":"IF('2.Logbook'!AB375=\"\",\"\",'2.Logbook'!AB375)","v":""},{"$f":"IF('2.Logbook'!AC375=\"\",\"\",'2.Logbook'!AC375)","v":""},{"$f":"IF('2.Logbook'!AD375=\"\",\"\",'2.Logbook'!AD375)","v":""},{"$f":"IF('2.Logbook'!AE375=\"\",\"\",'2.Logbook'!AE375)","v":""},{"$f":"IF('2.Logbook'!AF375=\"\",\"\",'2.Logbook'!AF375)","v":""},{"$f":"IF('2.Logbook'!AG375=\"\",\"\",'2.Logbook'!AG375)","v":""}]
[{"$f":"IF('2.Logbook'!A376=\"\",\"\",'2.Logbook'!A376)","v":""},{"$f":"IF('2.Logbook'!B376=\"\",\"\",'2.Logbook'!B376)","v":""},{"$f":"IF('2.Logbook'!C376=\"\",\"\",'2.Logbook'!C376)","v":""},{"$f":"IF('2.Logbook'!D376=\"\",\"\",'2.Logbook'!D376)","v":""},{"$f":"IF('2.Logbook'!E376=\"\",\"\",'2.Logbook'!E376)","v":""},{"$f":"IF('2.Logbook'!F376=\"\",\"\",'2.Logbook'!F376)","v":""},{"$f":"IF('2.Logbook'!G376=\"\",\"\",'2.Logbook'!G376)","v":""},{"$f":"IF('2.Logbook'!H376=\"\",\"\",'2.Logbook'!H376)","v":""},{"$f":"IF('2.Logbook'!I376=\"\",\"\",'2.Logbook'!I376)","v":""},{"$f":"IF('2.Logbook'!J376=\"\",\"\",'2.Logbook'!J376)","v":""},{"$f":"IF('2.Logbook'!K376=\"\",\"\",'2.Logbook'!K376)","v":""},{"$f":"IF('2.Logbook'!L376=\"\",\"\",'2.Logbook'!L376)","v":""},{"$f":"IF('2.Logbook'!M376=\"\",\"\",'2.Logbook'!M376)","v":""},{"$f":"IF('2.Logbook'!N376=\"\",\"\",'2.Logbook'!N376)","v":""},{"$f":"IF('2.Logbook'!O376=\"\",\"\",'2.Logbook'!O376)","v":""},{"$f":"IF('2.Logbook'!P376=\"\",\"\",'2.Logbook'!P376)","v":""},{"$f":"IF('2.Logbook'!Q376=\"\",\"\",'2.Logbook'!Q376)","v":""},{"$f":"IF('2.Logbook'!R376=\"\",\"\",'2.Logbook'!R376)","v":""},{"$f":"IF('2.Logbook'!S376=\"\",\"\",'2.Logbook'!S376)","v":""},{"$f":"IF('2.Logbook'!T376=\"\",\"\",'2.Logbook'!T376)","v":""},{"$f":"IF('2.Logbook'!U376=\"\",\"\",'2.Logbook'!U376)","v":""},{"$f":"IF('2.Logbook'!V376=\"\",\"\",'2.Logbook'!V376)","v":""},{"$f":"IF('2.Logbook'!W376=\"\",\"\",'2.Logbook'!W376)","v":""},{"$f":"IF('2.Logbook'!X376=\"\",\"\",'2.Logbook'!X376)","v":""},{"$f":"IF('2.Logbook'!Y376=\"\",\"\",'2.Logbook'!Y376)","v":""},{"$f":"IF('2.Logbook'!Z376=\"\",\"\",'2.Logbook'!Z376)","v":""},{"$f":"IF('2.Logbook'!AA376=\"\",\"\",'2.Logbook'!AA376)","v":""},{"$f":"IF('2.Logbook'!AB376=\"\",\"\",'2.Logbook'!AB376)","v":""},{"$f":"IF('2.Logbook'!AC376=\"\",\"\",'2.Logbook'!AC376)","v":""},{"$f":"IF('2.Logbook'!AD376=\"\",\"\",'2.Logbook'!AD376)","v":""},{"$f":"IF('2.Logbook'!AE376=\"\",\"\",'2.Logbook'!AE376)","v":""},{"$f":"IF('2.Logbook'!AF376=\"\",\"\",'2.Logbook'!AF376)","v":""},{"$f":"IF('2.Logbook'!AG376=\"\",\"\",'2.Logbook'!AG376)","v":""}]
[{"$f":"IF('2.Logbook'!A377=\"\",\"\",'2.Logbook'!A377)","v":""},{"$f":"IF('2.Logbook'!B377=\"\",\"\",'2.Logbook'!B377)","v":""},{"$f":"IF('2.Logbook'!C377=\"\",\"\",'2.Logbook'!C377)","v":""},{"$f":"IF('2.Logbook'!D377=\"\",\"\",'2.Logbook'!D377)","v":""},{"$f":"IF('2.Logbook'!E377=\"\",\"\",'2.Logbook'!E377)","v":""},{"$f":"IF('2.Logbook'!F377=\"\",\"\",'2.Logbook'!F377)","v":""},{"$f":"IF('2.Logbook'!G377=\"\",\"\",'2.Logbook'!G377)","v":""},{"$f":"IF('2.Logbook'!H377=\"\",\"\",'2.Logbook'!H377)","v":""},{"$f":"IF('2.Logbook'!I377=\"\",\"\",'2.Logbook'!I377)","v":""},{"$f":"IF('2.Logbook'!J377=\"\",\"\",'2.Logbook'!J377)","v":""},{"$f":"IF('2.Logbook'!K377=\"\",\"\",'2.Logbook'!K377)","v":""},{"$f":"IF('2.Logbook'!L377=\"\",\"\",'2.Logbook'!L377)","v":""},{"$f":"IF('2.Logbook'!M377=\"\",\"\",'2.Logbook'!M377)","v":""},{"$f":"IF('2.Logbook'!N377=\"\",\"\",'2.Logbook'!N377)","v":""},{"$f":"IF('2.Logbook'!O377=\"\",\"\",'2.Logbook'!O377)","v":""},{"$f":"IF('2.Logbook'!P377=\"\",\"\",'2.Logbook'!P377)","v":""},{"$f":"IF('2.Logbook'!Q377=\"\",\"\",'2.Logbook'!Q377)","v":""},{"$f":"IF('2.Logbook'!R377=\"\",\"\",'2.Logbook'!R377)","v":""},{"$f":"IF('2.Logbook'!S377=\"\",\"\",'2.Logbook'!S377)","v":""},{"$f":"IF('2.Logbook'!T377=\"\",\"\",'2.Logbook'!T377)","v":""},{"$f":"IF('2.Logbook'!U377=\"\",\"\",'2.Logbook'!U377)","v":""},{"$f":"IF('2.Logbook'!V377=\"\",\"\",'2.Logbook'!V377)","v":""},{"$f":"IF('2.Logbook'!W377=\"\",\"\",'2.Logbook'!W377)","v":""},{"$f":"IF('2.Logbook'!X377=\"\",\"\",'2.Logbook'!X377)","v":""},{"$f":"IF('2.Logbook'!Y377=\"\",\"\",'2.Logbook'!Y377)","v":""},{"$f":"IF('2.Logbook'!Z377=\"\",\"\",'2.Logbook'!Z377)","v":""},{"$f":"IF('2.Logbook'!AA377=\"\",\"\",'2.Logbook'!AA377)","v":""},{"$f":"IF('2.Logbook'!AB377=\"\",\"\",'2.Logbook'!AB377)","v":""},{"$f":"IF('2.Logbook'!AC377=\"\",\"\",'2.Logbook'!AC377)","v":""},{"$f":"IF('2.Logbook'!AD377=\"\",\"\",'2.Logbook'!AD377)","v":""},{"$f":"IF('2.Logbook'!AE377=\"\",\"\",'2.Logbook'!AE377)","v":""},{"$f":"IF('2.Logbook'!AF377=\"\",\"\",'2.Logbook'!AF377)","v":""},{"$f":"IF('2.Logbook'!AG377=\"\",\"\",'2.Logbook'!AG377)","v":""}]
[{"$f":"IF('2.Logbook'!A378=\"\",\"\",'2.Logbook'!A378)","v":""},{"$f":"IF('2.Logbook'!B378=\"\",\"\",'2.Logbook'!B378)","v":""},{"$f":"IF('2.Logbook'!C378=\"\",\"\",'2.Logbook'!C378)","v":""},{"$f":"IF('2.Logbook'!D378=\"\",\"\",'2.Logbook'!D378)","v":""},{"$f":"IF('2.Logbook'!E378=\"\",\"\",'2.Logbook'!E378)","v":""},{"$f":"IF('2.Logbook'!F378=\"\",\"\",'2.Logbook'!F378)","v":""},{"$f":"IF('2.Logbook'!G378=\"\",\"\",'2.Logbook'!G378)","v":""},{"$f":"IF('2.Logbook'!H378=\"\",\"\",'2.Logbook'!H378)","v":""},{"$f":"IF('2.Logbook'!I378=\"\",\"\",'2.Logbook'!I378)","v":""},{"$f":"IF('2.Logbook'!J378=\"\",\"\",'2.Logbook'!J378)","v":""},{"$f":"IF('2.Logbook'!K378=\"\",\"\",'2.Logbook'!K378)","v":""},{"$f":"IF('2.Logbook'!L378=\"\",\"\",'2.Logbook'!L378)","v":""},{"$f":"IF('2.Logbook'!M378=\"\",\"\",'2.Logbook'!M378)","v":""},{"$f":"IF('2.Logbook'!N378=\"\",\"\",'2.Logbook'!N378)","v":""},{"$f":"IF('2.Logbook'!O378=\"\",\"\",'2.Logbook'!O378)","v":""},{"$f":"IF('2.Logbook'!P378=\"\",\"\",'2.Logbook'!P378)","v":""},{"$f":"IF('2.Logbook'!Q378=\"\",\"\",'2.Logbook'!Q378)","v":""},{"$f":"IF('2.Logbook'!R378=\"\",\"\",'2.Logbook'!R378)","v":""},{"$f":"IF('2.Logbook'!S378=\"\",\"\",'2.Logbook'!S378)","v":""},{"$f":"IF('2.Logbook'!T378=\"\",\"\",'2.Logbook'!T378)","v":""},{"$f":"IF('2.Logbook'!U378=\"\",\"\",'2.Logbook'!U378)","v":""},{"$f":"IF('2.Logbook'!V378=\"\",\"\",'2.Logbook'!V378)","v":""},{"$f":"IF('2.Logbook'!W378=\"\",\"\",'2.Logbook'!W378)","v":""},{"$f":"IF('2.Logbook'!X378=\"\",\"\",'2.Logbook'!X378)","v":""},{"$f":"IF('2.Logbook'!Y378=\"\",\"\",'2.Logbook'!Y378)","v":""},{"$f":"IF('2.Logbook'!Z378=\"\",\"\",'2.Logbook'!Z378)","v":""},{"$f":"IF('2.Logbook'!AA378=\"\",\"\",'2.Logbook'!AA378)","v":""},{"$f":"IF('2.Logbook'!AB378=\"\",\"\",'2.Logbook'!AB378)","v":""},{"$f":"IF('2.Logbook'!AC378=\"\",\"\",'2.Logbook'!AC378)","v":""},{"$f":"IF('2.Logbook'!AD378=\"\",\"\",'2.Logbook'!AD378)","v":""},{"$f":"IF('2.Logbook'!AE378=\"\",\"\",'2.Logbook'!AE378)","v":""},{"$f":"IF('2.Logbook'!AF378=\"\",\"\",'2.Logbook'!AF378)","v":""},{"$f":"IF('2.Logbook'!AG378=\"\",\"\",'2.Logbook'!AG378)","v":""}]
[{"$f":"IF('2.Logbook'!A379=\"\",\"\",'2.Logbook'!A379)","v":""},{"$f":"IF('2.Logbook'!B379=\"\",\"\",'2.Logbook'!B379)","v":""},{"$f":"IF('2.Logbook'!C379=\"\",\"\",'2.Logbook'!C379)","v":""},{"$f":"IF('2.Logbook'!D379=\"\",\"\",'2.Logbook'!D379)","v":""},{"$f":"IF('2.Logbook'!E379=\"\",\"\",'2.Logbook'!E379)","v":""},{"$f":"IF('2.Logbook'!F379=\"\",\"\",'2.Logbook'!F379)","v":""},{"$f":"IF('2.Logbook'!G379=\"\",\"\",'2.Logbook'!G379)","v":""},{"$f":"IF('2.Logbook'!H379=\"\",\"\",'2.Logbook'!H379)","v":""},{"$f":"IF('2.Logbook'!I379=\"\",\"\",'2.Logbook'!I379)","v":""},{"$f":"IF('2.Logbook'!J379=\"\",\"\",'2.Logbook'!J379)","v":""},{"$f":"IF('2.Logbook'!K379=\"\",\"\",'2.Logbook'!K379)","v":""},{"$f":"IF('2.Logbook'!L379=\"\",\"\",'2.Logbook'!L379)","v":""},{"$f":"IF('2.Logbook'!M379=\"\",\"\",'2.Logbook'!M379)","v":""},{"$f":"IF('2.Logbook'!N379=\"\",\"\",'2.Logbook'!N379)","v":""},{"$f":"IF('2.Logbook'!O379=\"\",\"\",'2.Logbook'!O379)","v":""},{"$f":"IF('2.Logbook'!P379=\"\",\"\",'2.Logbook'!P379)","v":""},{"$f":"IF('2.Logbook'!Q379=\"\",\"\",'2.Logbook'!Q379)","v":""},{"$f":"IF('2.Logbook'!R379=\"\",\"\",'2.Logbook'!R379)","v":""},{"$f":"IF('2.Logbook'!S379=\"\",\"\",'2.Logbook'!S379)","v":""},{"$f":"IF('2.Logbook'!T379=\"\",\"\",'2.Logbook'!T379)","v":""},{"$f":"IF('2.Logbook'!U379=\"\",\"\",'2.Logbook'!U379)","v":""},{"$f":"IF('2.Logbook'!V379=\"\",\"\",'2.Logbook'!V379)","v":""},{"$f":"IF('2.Logbook'!W379=\"\",\"\",'2.Logbook'!W379)","v":""},{"$f":"IF('2.Logbook'!X379=\"\",\"\",'2.Logbook'!X379)","v":""},{"$f":"IF('2.Logbook'!Y379=\"\",\"\",'2.Logbook'!Y379)","v":""},{"$f":"IF('2.Logbook'!Z379=\"\",\"\",'2.Logbook'!Z379)","v":""},{"$f":"IF('2.Logbook'!AA379=\"\",\"\",'2.Logbook'!AA379)","v":""},{"$f":"IF('2.Logbook'!AB379=\"\",\"\",'2.Logbook'!AB379)","v":""},{"$f":"IF('2.Logbook'!AC379=\"\",\"\",'2.Logbook'!AC379)","v":""},{"$f":"IF('2.Logbook'!AD379=\"\",\"\",'2.Logbook'!AD379)","v":""},{"$f":"IF('2.Logbook'!AE379=\"\",\"\",'2.Logbook'!AE379)","v":""},{"$f":"IF('2.Logbook'!AF379=\"\",\"\",'2.Logbook'!AF379)","v":""},{"$f":"IF('2.Logbook'!AG379=\"\",\"\",'2.Logbook'!AG379)","v":""}]
[{"$f":"IF('2.Logbook'!A380=\"\",\"\",'2.Logbook'!A380)","v":""},{"$f":"IF('2.Logbook'!B380=\"\",\"\",'2.Logbook'!B380)","v":""},{"$f":"IF('2.Logbook'!C380=\"\",\"\",'2.Logbook'!C380)","v":""},{"$f":"IF('2.Logbook'!D380=\"\",\"\",'2.Logbook'!D380)","v":""},{"$f":"IF('2.Logbook'!E380=\"\",\"\",'2.Logbook'!E380)","v":""},{"$f":"IF('2.Logbook'!F380=\"\",\"\",'2.Logbook'!F380)","v":""},{"$f":"IF('2.Logbook'!G380=\"\",\"\",'2.Logbook'!G380)","v":""},{"$f":"IF('2.Logbook'!H380=\"\",\"\",'2.Logbook'!H380)","v":""},{"$f":"IF('2.Logbook'!I380=\"\",\"\",'2.Logbook'!I380)","v":""},{"$f":"IF('2.Logbook'!J380=\"\",\"\",'2.Logbook'!J380)","v":""},{"$f":"IF('2.Logbook'!K380=\"\",\"\",'2.Logbook'!K380)","v":""},{"$f":"IF('2.Logbook'!L380=\"\",\"\",'2.Logbook'!L380)","v":""},{"$f":"IF('2.Logbook'!M380=\"\",\"\",'2.Logbook'!M380)","v":""},{"$f":"IF('2.Logbook'!N380=\"\",\"\",'2.Logbook'!N380)","v":""},{"$f":"IF('2.Logbook'!O380=\"\",\"\",'2.Logbook'!O380)","v":""},{"$f":"IF('2.Logbook'!P380=\"\",\"\",'2.Logbook'!P380)","v":""},{"$f":"IF('2.Logbook'!Q380=\"\",\"\",'2.Logbook'!Q380)","v":""},{"$f":"IF('2.Logbook'!R380=\"\",\"\",'2.Logbook'!R380)","v":""},{"$f":"IF('2.Logbook'!S380=\"\",\"\",'2.Logbook'!S380)","v":""},{"$f":"IF('2.Logbook'!T380=\"\",\"\",'2.Logbook'!T380)","v":""},{"$f":"IF('2.Logbook'!U380=\"\",\"\",'2.Logbook'!U380)","v":""},{"$f":"IF('2.Logbook'!V380=\"\",\"\",'2.Logbook'!V380)","v":""},{"$f":"IF('2.Logbook'!W380=\"\",\"\",'2.Logbook'!W380)","v":""},{"$f":"IF('2.Logbook'!X380=\"\",\"\",'2.Logbook'!X380)","v":""},{"$f":"IF('2.Logbook'!Y380=\"\",\"\",'2.Logbook'!Y380)","v":""},{"$f":"IF('2.Logbook'!Z380=\"\",\"\",'2.Logbook'!Z380)","v":""},{"$f":"IF('2.Logbook'!AA380=\"\",\"\",'2.Logbook'!AA380)","v":""},{"$f":"IF('2.Logbook'!AB380=\"\",\"\",'2.Logbook'!AB380)","v":""},{"$f":"IF('2.Logbook'!AC380=\"\",\"\",'2.Logbook'!AC380)","v":""},{"$f":"IF('2.Logbook'!AD380=\"\",\"\",'2.Logbook'!AD380)","v":""},{"$f":"IF('2.Logbook'!AE380=\"\",\"\",'2.Logbook'!AE380)","v":""},{"$f":"IF('2.Logbook'!AF380=\"\",\"\",'2.Logbook'!AF380)","v":""},{"$f":"IF('2.Logbook'!AG380=\"\",\"\",'2.Logbook'!AG380)","v":""}]
[{"$f":"IF('2.Logbook'!A381=\"\",\"\",'2.Logbook'!A381)","v":""},{"$f":"IF('2.Logbook'!B381=\"\",\"\",'2.Logbook'!B381)","v":""},{"$f":"IF('2.Logbook'!C381=\"\",\"\",'2.Logbook'!C381)","v":""},{"$f":"IF('2.Logbook'!D381=\"\",\"\",'2.Logbook'!D381)","v":""},{"$f":"IF('2.Logbook'!E381=\"\",\"\",'2.Logbook'!E381)","v":""},{"$f":"IF('2.Logbook'!F381=\"\",\"\",'2.Logbook'!F381)","v":""},{"$f":"IF('2.Logbook'!G381=\"\",\"\",'2.Logbook'!G381)","v":""},{"$f":"IF('2.Logbook'!H381=\"\",\"\",'2.Logbook'!H381)","v":""},{"$f":"IF('2.Logbook'!I381=\"\",\"\",'2.Logbook'!I381)","v":""},{"$f":"IF('2.Logbook'!J381=\"\",\"\",'2.Logbook'!J381)","v":""},{"$f":"IF('2.Logbook'!K381=\"\",\"\",'2.Logbook'!K381)","v":""},{"$f":"IF('2.Logbook'!L381=\"\",\"\",'2.Logbook'!L381)","v":""},{"$f":"IF('2.Logbook'!M381=\"\",\"\",'2.Logbook'!M381)","v":""},{"$f":"IF('2.Logbook'!N381=\"\",\"\",'2.Logbook'!N381)","v":""},{"$f":"IF('2.Logbook'!O381=\"\",\"\",'2.Logbook'!O381)","v":""},{"$f":"IF('2.Logbook'!P381=\"\",\"\",'2.Logbook'!P381)","v":""},{"$f":"IF('2.Logbook'!Q381=\"\",\"\",'2.Logbook'!Q381)","v":""},{"$f":"IF('2.Logbook'!R381=\"\",\"\",'2.Logbook'!R381)","v":""},{"$f":"IF('2.Logbook'!S381=\"\",\"\",'2.Logbook'!S381)","v":""},{"$f":"IF('2.Logbook'!T381=\"\",\"\",'2.Logbook'!T381)","v":""},{"$f":"IF('2.Logbook'!U381=\"\",\"\",'2.Logbook'!U381)","v":""},{"$f":"IF('2.Logbook'!V381=\"\",\"\",'2.Logbook'!V381)","v":""},{"$f":"IF('2.Logbook'!W381=\"\",\"\",'2.Logbook'!W381)","v":""},{"$f":"IF('2.Logbook'!X381=\"\",\"\",'2.Logbook'!X381)","v":""},{"$f":"IF('2.Logbook'!Y381=\"\",\"\",'2.Logbook'!Y381)","v":""},{"$f":"IF('2.Logbook'!Z381=\"\",\"\",'2.Logbook'!Z381)","v":""},{"$f":"IF('2.Logbook'!AA381=\"\",\"\",'2.Logbook'!AA381)","v":""},{"$f":"IF('2.Logbook'!AB381=\"\",\"\",'2.Logbook'!AB381)","v":""},{"$f":"IF('2.Logbook'!AC381=\"\",\"\",'2.Logbook'!AC381)","v":""},{"$f":"IF('2.Logbook'!AD381=\"\",\"\",'2.Logbook'!AD381)","v":""},{"$f":"IF('2.Logbook'!AE381=\"\",\"\",'2.Logbook'!AE381)","v":""},{"$f":"IF('2.Logbook'!AF381=\"\",\"\",'2.Logbook'!AF381)","v":""},{"$f":"IF('2.Logbook'!AG381=\"\",\"\",'2.Logbook'!AG381)","v":""}]
[{"$f":"IF('2.Logbook'!A382=\"\",\"\",'2.Logbook'!A382)","v":""},{"$f":"IF('2.Logbook'!B382=\"\",\"\",'2.Logbook'!B382)","v":""},{"$f":"IF('2.Logbook'!C382=\"\",\"\",'2.Logbook'!C382)","v":""},{"$f":"IF('2.Logbook'!D382=\"\",\"\",'2.Logbook'!D382)","v":""},{"$f":"IF('2.Logbook'!E382=\"\",\"\",'2.Logbook'!E382)","v":""},{"$f":"IF('2.Logbook'!F382=\"\",\"\",'2.Logbook'!F382)","v":""},{"$f":"IF('2.Logbook'!G382=\"\",\"\",'2.Logbook'!G382)","v":""},{"$f":"IF('2.Logbook'!H382=\"\",\"\",'2.Logbook'!H382)","v":""},{"$f":"IF('2.Logbook'!I382=\"\",\"\",'2.Logbook'!I382)","v":""},{"$f":"IF('2.Logbook'!J382=\"\",\"\",'2.Logbook'!J382)","v":""},{"$f":"IF('2.Logbook'!K382=\"\",\"\",'2.Logbook'!K382)","v":""},{"$f":"IF('2.Logbook'!L382=\"\",\"\",'2.Logbook'!L382)","v":""},{"$f":"IF('2.Logbook'!M382=\"\",\"\",'2.Logbook'!M382)","v":""},{"$f":"IF('2.Logbook'!N382=\"\",\"\",'2.Logbook'!N382)","v":""},{"$f":"IF('2.Logbook'!O382=\"\",\"\",'2.Logbook'!O382)","v":""},{"$f":"IF('2.Logbook'!P382=\"\",\"\",'2.Logbook'!P382)","v":""},{"$f":"IF('2.Logbook'!Q382=\"\",\"\",'2.Logbook'!Q382)","v":""},{"$f":"IF('2.Logbook'!R382=\"\",\"\",'2.Logbook'!R382)","v":""},{"$f":"IF('2.Logbook'!S382=\"\",\"\",'2.Logbook'!S382)","v":""},{"$f":"IF('2.Logbook'!T382=\"\",\"\",'2.Logbook'!T382)","v":""},{"$f":"IF('2.Logbook'!U382=\"\",\"\",'2.Logbook'!U382)","v":""},{"$f":"IF('2.Logbook'!V382=\"\",\"\",'2.Logbook'!V382)","v":""},{"$f":"IF('2.Logbook'!W382=\"\",\"\",'2.Logbook'!W382)","v":""},{"$f":"IF('2.Logbook'!X382=\"\",\"\",'2.Logbook'!X382)","v":""},{"$f":"IF('2.Logbook'!Y382=\"\",\"\",'2.Logbook'!Y382)","v":""},{"$f":"IF('2.Logbook'!Z382=\"\",\"\",'2.Logbook'!Z382)","v":""},{"$f":"IF('2.Logbook'!AA382=\"\",\"\",'2.Logbook'!AA382)","v":""},{"$f":"IF('2.Logbook'!AB382=\"\",\"\",'2.Logbook'!AB382)","v":""},{"$f":"IF('2.Logbook'!AC382=\"\",\"\",'2.Logbook'!AC382)","v":""},{"$f":"IF('2.Logbook'!AD382=\"\",\"\",'2.Logbook'!AD382)","v":""},{"$f":"IF('2.Logbook'!AE382=\"\",\"\",'2.Logbook'!AE382)","v":""},{"$f":"IF('2.Logbook'!AF382=\"\",\"\",'2.Logbook'!AF382)","v":""},{"$f":"IF('2.Logbook'!AG382=\"\",\"\",'2.Logbook'!AG382)","v":""}]
[{"$f":"IF('2.Logbook'!A383=\"\",\"\",'2.Logbook'!A383)","v":""},{"$f":"IF('2.Logbook'!B383=\"\",\"\",'2.Logbook'!B383)","v":""},{"$f":"IF('2.Logbook'!C383=\"\",\"\",'2.Logbook'!C383)","v":""},{"$f":"IF('2.Logbook'!D383=\"\",\"\",'2.Logbook'!D383)","v":""},{"$f":"IF('2.Logbook'!E383=\"\",\"\",'2.Logbook'!E383)","v":""},{"$f":"IF('2.Logbook'!F383=\"\",\"\",'2.Logbook'!F383)","v":""},{"$f":"IF('2.Logbook'!G383=\"\",\"\",'2.Logbook'!G383)","v":""},{"$f":"IF('2.Logbook'!H383=\"\",\"\",'2.Logbook'!H383)","v":""},{"$f":"IF('2.Logbook'!I383=\"\",\"\",'2.Logbook'!I383)","v":""},{"$f":"IF('2.Logbook'!J383=\"\",\"\",'2.Logbook'!J383)","v":""},{"$f":"IF('2.Logbook'!K383=\"\",\"\",'2.Logbook'!K383)","v":""},{"$f":"IF('2.Logbook'!L383=\"\",\"\",'2.Logbook'!L383)","v":""},{"$f":"IF('2.Logbook'!M383=\"\",\"\",'2.Logbook'!M383)","v":""},{"$f":"IF('2.Logbook'!N383=\"\",\"\",'2.Logbook'!N383)","v":""},{"$f":"IF('2.Logbook'!O383=\"\",\"\",'2.Logbook'!O383)","v":""},{"$f":"IF('2.Logbook'!P383=\"\",\"\",'2.Logbook'!P383)","v":""},{"$f":"IF('2.Logbook'!Q383=\"\",\"\",'2.Logbook'!Q383)","v":""},{"$f":"IF('2.Logbook'!R383=\"\",\"\",'2.Logbook'!R383)","v":""},{"$f":"IF('2.Logbook'!S383=\"\",\"\",'2.Logbook'!S383)","v":""},{"$f":"IF('2.Logbook'!T383=\"\",\"\",'2.Logbook'!T383)","v":""},{"$f":"IF('2.Logbook'!U383=\"\",\"\",'2.Logbook'!U383)","v":""},{"$f":"IF('2.Logbook'!V383=\"\",\"\",'2.Logbook'!V383)","v":""},{"$f":"IF('2.Logbook'!W383=\"\",\"\",'2.Logbook'!W383)","v":""},{"$f":"IF('2.Logbook'!X383=\"\",\"\",'2.Logbook'!X383)","v":""},{"$f":"IF('2.Logbook'!Y383=\"\",\"\",'2.Logbook'!Y383)","v":""},{"$f":"IF('2.Logbook'!Z383=\"\",\"\",'2.Logbook'!Z383)","v":""},{"$f":"IF('2.Logbook'!AA383=\"\",\"\",'2.Logbook'!AA383)","v":""},{"$f":"IF('2.Logbook'!AB383=\"\",\"\",'2.Logbook'!AB383)","v":""},{"$f":"IF('2.Logbook'!AC383=\"\",\"\",'2.Logbook'!AC383)","v":""},{"$f":"IF('2.Logbook'!AD383=\"\",\"\",'2.Logbook'!AD383)","v":""},{"$f":"IF('2.Logbook'!AE383=\"\",\"\",'2.Logbook'!AE383)","v":""},{"$f":"IF('2.Logbook'!AF383=\"\",\"\",'2.Logbook'!AF383)","v":""},{"$f":"IF('2.Logbook'!AG383=\"\",\"\",'2.Logbook'!AG383)","v":""}]
[{"$f":"IF('2.Logbook'!A384=\"\",\"\",'2.Logbook'!A384)","v":""},{"$f":"IF('2.Logbook'!B384=\"\",\"\",'2.Logbook'!B384)","v":""},{"$f":"IF('2.Logbook'!C384=\"\",\"\",'2.Logbook'!C384)","v":""},{"$f":"IF('2.Logbook'!D384=\"\",\"\",'2.Logbook'!D384)","v":""},{"$f":"IF('2.Logbook'!E384=\"\",\"\",'2.Logbook'!E384)","v":""},{"$f":"IF('2.Logbook'!F384=\"\",\"\",'2.Logbook'!F384)","v":""},{"$f":"IF('2.Logbook'!G384=\"\",\"\",'2.Logbook'!G384)","v":""},{"$f":"IF('2.Logbook'!H384=\"\",\"\",'2.Logbook'!H384)","v":""},{"$f":"IF('2.Logbook'!I384=\"\",\"\",'2.Logbook'!I384)","v":""},{"$f":"IF('2.Logbook'!J384=\"\",\"\",'2.Logbook'!J384)","v":""},{"$f":"IF('2.Logbook'!K384=\"\",\"\",'2.Logbook'!K384)","v":""},{"$f":"IF('2.Logbook'!L384=\"\",\"\",'2.Logbook'!L384)","v":""},{"$f":"IF('2.Logbook'!M384=\"\",\"\",'2.Logbook'!M384)","v":""},{"$f":"IF('2.Logbook'!N384=\"\",\"\",'2.Logbook'!N384)","v":""},{"$f":"IF('2.Logbook'!O384=\"\",\"\",'2.Logbook'!O384)","v":""},{"$f":"IF('2.Logbook'!P384=\"\",\"\",'2.Logbook'!P384)","v":""},{"$f":"IF('2.Logbook'!Q384=\"\",\"\",'2.Logbook'!Q384)","v":""},{"$f":"IF('2.Logbook'!R384=\"\",\"\",'2.Logbook'!R384)","v":""},{"$f":"IF('2.Logbook'!S384=\"\",\"\",'2.Logbook'!S384)","v":""},{"$f":"IF('2.Logbook'!T384=\"\",\"\",'2.Logbook'!T384)","v":""},{"$f":"IF('2.Logbook'!U384=\"\",\"\",'2.Logbook'!U384)","v":""},{"$f":"IF('2.Logbook'!V384=\"\",\"\",'2.Logbook'!V384)","v":""},{"$f":"IF('2.Logbook'!W384=\"\",\"\",'2.Logbook'!W384)","v":""},{"$f":"IF('2.Logbook'!X384=\"\",\"\",'2.Logbook'!X384)","v":""},{"$f":"IF('2.Logbook'!Y384=\"\",\"\",'2.Logbook'!Y384)","v":""},{"$f":"IF('2.Logbook'!Z384=\"\",\"\",'2.Logbook'!Z384)","v":""},{"$f":"IF('2.Logbook'!AA384=\"\",\"\",'2.Logbook'!AA384)","v":""},{"$f":"IF('2.Logbook'!AB384=\"\",\"\",'2.Logbook'!AB384)","v":""},{"$f":"IF('2.Logbook'!AC384=\"\",\"\",'2.Logbook'!AC384)","v":""},{"$f":"IF('2.Logbook'!AD384=\"\",\"\",'2.Logbook'!AD384)","v":""},{"$f":"IF('2.Logbook'!AE384=\"\",\"\",'2.Logbook'!AE384)","v":""},{"$f":"IF('2.Logbook'!AF384=\"\",\"\",'2.Logbook'!AF384)","v":""},{"$f":"IF('2.Logbook'!AG384=\"\",\"\",'2.Logbook'!AG384)","v":""}]
[{"$f":"IF('2.Logbook'!A385=\"\",\"\",'2.Logbook'!A385)","v":""},{"$f":"IF('2.Logbook'!B385=\"\",\"\",'2.Logbook'!B385)","v":""},{"$f":"IF('2.Logbook'!C385=\"\",\"\",'2.Logbook'!C385)","v":""},{"$f":"IF('2.Logbook'!D385=\"\",\"\",'2.Logbook'!D385)","v":""},{"$f":"IF('2.Logbook'!E385=\"\",\"\",'2.Logbook'!E385)","v":""},{"$f":"IF('2.Logbook'!F385=\"\",\"\",'2.Logbook'!F385)","v":""},{"$f":"IF('2.Logbook'!G385=\"\",\"\",'2.Logbook'!G385)","v":""},{"$f":"IF('2.Logbook'!H385=\"\",\"\",'2.Logbook'!H385)","v":""},{"$f":"IF('2.Logbook'!I385=\"\",\"\",'2.Logbook'!I385)","v":""},{"$f":"IF('2.Logbook'!J385=\"\",\"\",'2.Logbook'!J385)","v":""},{"$f":"IF('2.Logbook'!K385=\"\",\"\",'2.Logbook'!K385)","v":""},{"$f":"IF('2.Logbook'!L385=\"\",\"\",'2.Logbook'!L385)","v":""},{"$f":"IF('2.Logbook'!M385=\"\",\"\",'2.Logbook'!M385)","v":""},{"$f":"IF('2.Logbook'!N385=\"\",\"\",'2.Logbook'!N385)","v":""},{"$f":"IF('2.Logbook'!O385=\"\",\"\",'2.Logbook'!O385)","v":""},{"$f":"IF('2.Logbook'!P385=\"\",\"\",'2.Logbook'!P385)","v":""},{"$f":"IF('2.Logbook'!Q385=\"\",\"\",'2.Logbook'!Q385)","v":""},{"$f":"IF('2.Logbook'!R385=\"\",\"\",'2.Logbook'!R385)","v":""},{"$f":"IF('2.Logbook'!S385=\"\",\"\",'2.Logbook'!S385)","v":""},{"$f":"IF('2.Logbook'!T385=\"\",\"\",'2.Logbook'!T385)","v":""},{"$f":"IF('2.Logbook'!U385=\"\",\"\",'2.Logbook'!U385)","v":""},{"$f":"IF('2.Logbook'!V385=\"\",\"\",'2.Logbook'!V385)","v":""},{"$f":"IF('2.Logbook'!W385=\"\",\"\",'2.Logbook'!W385)","v":""},{"$f":"IF('2.Logbook'!X385=\"\",\"\",'2.Logbook'!X385)","v":""},{"$f":"IF('2.Logbook'!Y385=\"\",\"\",'2.Logbook'!Y385)","v":""},{"$f":"IF('2.Logbook'!Z385=\"\",\"\",'2.Logbook'!Z385)","v":""},{"$f":"IF('2.Logbook'!AA385=\"\",\"\",'2.Logbook'!AA385)","v":""},{"$f":"IF('2.Logbook'!AB385=\"\",\"\",'2.Logbook'!AB385)","v":""},{"$f":"IF('2.Logbook'!AC385=\"\",\"\",'2.Logbook'!AC385)","v":""},{"$f":"IF('2.Logbook'!AD385=\"\",\"\",'2.Logbook'!AD385)","v":""},{"$f":"IF('2.Logbook'!AE385=\"\",\"\",'2.Logbook'!AE385)","v":""},{"$f":"IF('2.Logbook'!AF385=\"\",\"\",'2.Logbook'!AF385)","v":""},{"$f":"IF('2.Logbook'!AG385=\"\",\"\",'2.Logbook'!AG385)","v":""}]
[{"$f":"IF('2.Logbook'!A386=\"\",\"\",'2.Logbook'!A386)","v":""},{"$f":"IF('2.Logbook'!B386=\"\",\"\",'2.Logbook'!B386)","v":""},{"$f":"IF('2.Logbook'!C386=\"\",\"\",'2.Logbook'!C386)","v":""},{"$f":"IF('2.Logbook'!D386=\"\",\"\",'2.Logbook'!D386)","v":""},{"$f":"IF('2.Logbook'!E386=\"\",\"\",'2.Logbook'!E386)","v":""},{"$f":"IF('2.Logbook'!F386=\"\",\"\",'2.Logbook'!F386)","v":""},{"$f":"IF('2.Logbook'!G386=\"\",\"\",'2.Logbook'!G386)","v":""},{"$f":"IF('2.Logbook'!H386=\"\",\"\",'2.Logbook'!H386)","v":""},{"$f":"IF('2.Logbook'!I386=\"\",\"\",'2.Logbook'!I386)","v":""},{"$f":"IF('2.Logbook'!J386=\"\",\"\",'2.Logbook'!J386)","v":""},{"$f":"IF('2.Logbook'!K386=\"\",\"\",'2.Logbook'!K386)","v":""},{"$f":"IF('2.Logbook'!L386=\"\",\"\",'2.Logbook'!L386)","v":""},{"$f":"IF('2.Logbook'!M386=\"\",\"\",'2.Logbook'!M386)","v":""},{"$f":"IF('2.Logbook'!N386=\"\",\"\",'2.Logbook'!N386)","v":""},{"$f":"IF('2.Logbook'!O386=\"\",\"\",'2.Logbook'!O386)","v":""},{"$f":"IF('2.Logbook'!P386=\"\",\"\",'2.Logbook'!P386)","v":""},{"$f":"IF('2.Logbook'!Q386=\"\",\"\",'2.Logbook'!Q386)","v":""},{"$f":"IF('2.Logbook'!R386=\"\",\"\",'2.Logbook'!R386)","v":""},{"$f":"IF('2.Logbook'!S386=\"\",\"\",'2.Logbook'!S386)","v":""},{"$f":"IF('2.Logbook'!T386=\"\",\"\",'2.Logbook'!T386)","v":""},{"$f":"IF('2.Logbook'!U386=\"\",\"\",'2.Logbook'!U386)","v":""},{"$f":"IF('2.Logbook'!V386=\"\",\"\",'2.Logbook'!V386)","v":""},{"$f":"IF('2.Logbook'!W386=\"\",\"\",'2.Logbook'!W386)","v":""},{"$f":"IF('2.Logbook'!X386=\"\",\"\",'2.Logbook'!X386)","v":""},{"$f":"IF('2.Logbook'!Y386=\"\",\"\",'2.Logbook'!Y386)","v":""},{"$f":"IF('2.Logbook'!Z386=\"\",\"\",'2.Logbook'!Z386)","v":""},{"$f":"IF('2.Logbook'!AA386=\"\",\"\",'2.Logbook'!AA386)","v":""},{"$f":"IF('2.Logbook'!AB386=\"\",\"\",'2.Logbook'!AB386)","v":""},{"$f":"IF('2.Logbook'!AC386=\"\",\"\",'2.Logbook'!AC386)","v":""},{"$f":"IF('2.Logbook'!AD386=\"\",\"\",'2.Logbook'!AD386)","v":""},{"$f":"IF('2.Logbook'!AE386=\"\",\"\",'2.Logbook'!AE386)","v":""},{"$f":"IF('2.Logbook'!AF386=\"\",\"\",'2.Logbook'!AF386)","v":""},{"$f":"IF('2.Logbook'!AG386=\"\",\"\",'2.Logbook'!AG386)","v":""}]
[{"$f":"IF('2.Logbook'!A387=\"\",\"\",'2.Logbook'!A387)","v":""},{"$f":"IF('2.Logbook'!B387=\"\",\"\",'2.Logbook'!B387)","v":""},{"$f":"IF('2.Logbook'!C387=\"\",\"\",'2.Logbook'!C387)","v":""},{"$f":"IF('2.Logbook'!D387=\"\",\"\",'2.Logbook'!D387)","v":""},{"$f":"IF('2.Logbook'!E387=\"\",\"\",'2.Logbook'!E387)","v":""},{"$f":"IF('2.Logbook'!F387=\"\",\"\",'2.Logbook'!F387)","v":""},{"$f":"IF('2.Logbook'!G387=\"\",\"\",'2.Logbook'!G387)","v":""},{"$f":"IF('2.Logbook'!H387=\"\",\"\",'2.Logbook'!H387)","v":""},{"$f":"IF('2.Logbook'!I387=\"\",\"\",'2.Logbook'!I387)","v":""},{"$f":"IF('2.Logbook'!J387=\"\",\"\",'2.Logbook'!J387)","v":""},{"$f":"IF('2.Logbook'!K387=\"\",\"\",'2.Logbook'!K387)","v":""},{"$f":"IF('2.Logbook'!L387=\"\",\"\",'2.Logbook'!L387)","v":""},{"$f":"IF('2.Logbook'!M387=\"\",\"\",'2.Logbook'!M387)","v":""},{"$f":"IF('2.Logbook'!N387=\"\",\"\",'2.Logbook'!N387)","v":""},{"$f":"IF('2.Logbook'!O387=\"\",\"\",'2.Logbook'!O387)","v":""},{"$f":"IF('2.Logbook'!P387=\"\",\"\",'2.Logbook'!P387)","v":""},{"$f":"IF('2.Logbook'!Q387=\"\",\"\",'2.Logbook'!Q387)","v":""},{"$f":"IF('2.Logbook'!R387=\"\",\"\",'2.Logbook'!R387)","v":""},{"$f":"IF('2.Logbook'!S387=\"\",\"\",'2.Logbook'!S387)","v":""},{"$f":"IF('2.Logbook'!T387=\"\",\"\",'2.Logbook'!T387)","v":""},{"$f":"IF('2.Logbook'!U387=\"\",\"\",'2.Logbook'!U387)","v":""},{"$f":"IF('2.Logbook'!V387=\"\",\"\",'2.Logbook'!V387)","v":""},{"$f":"IF('2.Logbook'!W387=\"\",\"\",'2.Logbook'!W387)","v":""},{"$f":"IF('2.Logbook'!X387=\"\",\"\",'2.Logbook'!X387)","v":""},{"$f":"IF('2.Logbook'!Y387=\"\",\"\",'2.Logbook'!Y387)","v":""},{"$f":"IF('2.Logbook'!Z387=\"\",\"\",'2.Logbook'!Z387)","v":""},{"$f":"IF('2.Logbook'!AA387=\"\",\"\",'2.Logbook'!AA387)","v":""},{"$f":"IF('2.Logbook'!AB387=\"\",\"\",'2.Logbook'!AB387)","v":""},{"$f":"IF('2.Logbook'!AC387=\"\",\"\",'2.Logbook'!AC387)","v":""},{"$f":"IF('2.Logbook'!AD387=\"\",\"\",'2.Logbook'!AD387)","v":""},{"$f":"IF('2.Logbook'!AE387=\"\",\"\",'2.Logbook'!AE387)","v":""},{"$f":"IF('2.Logbook'!AF387=\"\",\"\",'2.Logbook'!AF387)","v":""},{"$f":"IF('2.Logbook'!AG387=\"\",\"\",'2.Logbook'!AG387)","v":""}]
[{"$f":"IF('2.Logbook'!A388=\"\",\"\",'2.Logbook'!A388)","v":""},{"$f":"IF('2.Logbook'!B388=\"\",\"\",'2.Logbook'!B388)","v":""},{"$f":"IF('2.Logbook'!C388=\"\",\"\",'2.Logbook'!C388)","v":""},{"$f":"IF('2.Logbook'!D388=\"\",\"\",'2.Logbook'!D388)","v":""},{"$f":"IF('2.Logbook'!E388=\"\",\"\",'2.Logbook'!E388)","v":""},{"$f":"IF('2.Logbook'!F388=\"\",\"\",'2.Logbook'!F388)","v":""},{"$f":"IF('2.Logbook'!G388=\"\",\"\",'2.Logbook'!G388)","v":""},{"$f":"IF('2.Logbook'!H388=\"\",\"\",'2.Logbook'!H388)","v":""},{"$f":"IF('2.Logbook'!I388=\"\",\"\",'2.Logbook'!I388)","v":""},{"$f":"IF('2.Logbook'!J388=\"\",\"\",'2.Logbook'!J388)","v":""},{"$f":"IF('2.Logbook'!K388=\"\",\"\",'2.Logbook'!K388)","v":""},{"$f":"IF('2.Logbook'!L388=\"\",\"\",'2.Logbook'!L388)","v":""},{"$f":"IF('2.Logbook'!M388=\"\",\"\",'2.Logbook'!M388)","v":""},{"$f":"IF('2.Logbook'!N388=\"\",\"\",'2.Logbook'!N388)","v":""},{"$f":"IF('2.Logbook'!O388=\"\",\"\",'2.Logbook'!O388)","v":""},{"$f":"IF('2.Logbook'!P388=\"\",\"\",'2.Logbook'!P388)","v":""},{"$f":"IF('2.Logbook'!Q388=\"\",\"\",'2.Logbook'!Q388)","v":""},{"$f":"IF('2.Logbook'!R388=\"\",\"\",'2.Logbook'!R388)","v":""},{"$f":"IF('2.Logbook'!S388=\"\",\"\",'2.Logbook'!S388)","v":""},{"$f":"IF('2.Logbook'!T388=\"\",\"\",'2.Logbook'!T388)","v":""},{"$f":"IF('2.Logbook'!U388=\"\",\"\",'2.Logbook'!U388)","v":""},{"$f":"IF('2.Logbook'!V388=\"\",\"\",'2.Logbook'!V388)","v":""},{"$f":"IF('2.Logbook'!W388=\"\",\"\",'2.Logbook'!W388)","v":""},{"$f":"IF('2.Logbook'!X388=\"\",\"\",'2.Logbook'!X388)","v":""},{"$f":"IF('2.Logbook'!Y388=\"\",\"\",'2.Logbook'!Y388)","v":""},{"$f":"IF('2.Logbook'!Z388=\"\",\"\",'2.Logbook'!Z388)","v":""},{"$f":"IF('2.Logbook'!AA388=\"\",\"\",'2.Logbook'!AA388)","v":""},{"$f":"IF('2.Logbook'!AB388=\"\",\"\",'2.Logbook'!AB388)","v":""},{"$f":"IF('2.Logbook'!AC388=\"\",\"\",'2.Logbook'!AC388)","v":""},{"$f":"IF('2.Logbook'!AD388=\"\",\"\",'2.Logbook'!AD388)","v":""},{"$f":"IF('2.Logbook'!AE388=\"\",\"\",'2.Logbook'!AE388)","v":""},{"$f":"IF('2.Logbook'!AF388=\"\",\"\",'2.Logbook'!AF388)","v":""},{"$f":"IF('2.Logbook'!AG388=\"\",\"\",'2.Logbook'!AG388)","v":""}]
[{"$f":"IF('2.Logbook'!A389=\"\",\"\",'2.Logbook'!A389)","v":""},{"$f":"IF('2.Logbook'!B389=\"\",\"\",'2.Logbook'!B389)","v":""},{"$f":"IF('2.Logbook'!C389=\"\",\"\",'2.Logbook'!C389)","v":""},{"$f":"IF('2.Logbook'!D389=\"\",\"\",'2.Logbook'!D389)","v":""},{"$f":"IF('2.Logbook'!E389=\"\",\"\",'2.Logbook'!E389)","v":""},{"$f":"IF('2.Logbook'!F389=\"\",\"\",'2.Logbook'!F389)","v":""},{"$f":"IF('2.Logbook'!G389=\"\",\"\",'2.Logbook'!G389)","v":""},{"$f":"IF('2.Logbook'!H389=\"\",\"\",'2.Logbook'!H389)","v":""},{"$f":"IF('2.Logbook'!I389=\"\",\"\",'2.Logbook'!I389)","v":""},{"$f":"IF('2.Logbook'!J389=\"\",\"\",'2.Logbook'!J389)","v":""},{"$f":"IF('2.Logbook'!K389=\"\",\"\",'2.Logbook'!K389)","v":""},{"$f":"IF('2.Logbook'!L389=\"\",\"\",'2.Logbook'!L389)","v":""},{"$f":"IF('2.Logbook'!M389=\"\",\"\",'2.Logbook'!M389)","v":""},{"$f":"IF('2.Logbook'!N389=\"\",\"\",'2.Logbook'!N389)","v":""},{"$f":"IF('2.Logbook'!O389=\"\",\"\",'2.Logbook'!O389)","v":""},{"$f":"IF('2.Logbook'!P389=\"\",\"\",'2.Logbook'!P389)","v":""},{"$f":"IF('2.Logbook'!Q389=\"\",\"\",'2.Logbook'!Q389)","v":""},{"$f":"IF('2.Logbook'!R389=\"\",\"\",'2.Logbook'!R389)","v":""},{"$f":"IF('2.Logbook'!S389=\"\",\"\",'2.Logbook'!S389)","v":""},{"$f":"IF('2.Logbook'!T389=\"\",\"\",'2.Logbook'!T389)","v":""},{"$f":"IF('2.Logbook'!U389=\"\",\"\",'2.Logbook'!U389)","v":""},{"$f":"IF('2.Logbook'!V389=\"\",\"\",'2.Logbook'!V389)","v":""},{"$f":"IF('2.Logbook'!W389=\"\",\"\",'2.Logbook'!W389)","v":""},{"$f":"IF('2.Logbook'!X389=\"\",\"\",'2.Logbook'!X389)","v":""},{"$f":"IF('2.Logbook'!Y389=\"\",\"\",'2.Logbook'!Y389)","v":""},{"$f":"IF('2.Logbook'!Z389=\"\",\"\",'2.Logbook'!Z389)","v":""},{"$f":"IF('2.Logbook'!AA389=\"\",\"\",'2.Logbook'!AA389)","v":""},{"$f":"IF('2.Logbook'!AB389=\"\",\"\",'2.Logbook'!AB389)","v":""},{"$f":"IF('2.Logbook'!AC389=\"\",\"\",'2.Logbook'!AC389)","v":""},{"$f":"IF('2.Logbook'!AD389=\"\",\"\",'2.Logbook'!AD389)","v":""},{"$f":"IF('2.Logbook'!AE389=\"\",\"\",'2.Logbook'!AE389)","v":""},{"$f":"IF('2.Logbook'!AF389=\"\",\"\",'2.Logbook'!AF389)","v":""},{"$f":"IF('2.Logbook'!AG389=\"\",\"\",'2.Logbook'!AG389)","v":""}]
[{"$f":"IF('2.Logbook'!A390=\"\",\"\",'2.Logbook'!A390)","v":""},{"$f":"IF('2.Logbook'!B390=\"\",\"\",'2.Logbook'!B390)","v":""},{"$f":"IF('2.Logbook'!C390=\"\",\"\",'2.Logbook'!C390)","v":""},{"$f":"IF('2.Logbook'!D390=\"\",\"\",'2.Logbook'!D390)","v":""},{"$f":"IF('2.Logbook'!E390=\"\",\"\",'2.Logbook'!E390)","v":""},{"$f":"IF('2.Logbook'!F390=\"\",\"\",'2.Logbook'!F390)","v":""},{"$f":"IF('2.Logbook'!G390=\"\",\"\",'2.Logbook'!G390)","v":""},{"$f":"IF('2.Logbook'!H390=\"\",\"\",'2.Logbook'!H390)","v":""},{"$f":"IF('2.Logbook'!I390=\"\",\"\",'2.Logbook'!I390)","v":""},{"$f":"IF('2.Logbook'!J390=\"\",\"\",'2.Logbook'!J390)","v":""},{"$f":"IF('2.Logbook'!K390=\"\",\"\",'2.Logbook'!K390)","v":""},{"$f":"IF('2.Logbook'!L390=\"\",\"\",'2.Logbook'!L390)","v":""},{"$f":"IF('2.Logbook'!M390=\"\",\"\",'2.Logbook'!M390)","v":""},{"$f":"IF('2.Logbook'!N390=\"\",\"\",'2.Logbook'!N390)","v":""},{"$f":"IF('2.Logbook'!O390=\"\",\"\",'2.Logbook'!O390)","v":""},{"$f":"IF('2.Logbook'!P390=\"\",\"\",'2.Logbook'!P390)","v":""},{"$f":"IF('2.Logbook'!Q390=\"\",\"\",'2.Logbook'!Q390)","v":""},{"$f":"IF('2.Logbook'!R390=\"\",\"\",'2.Logbook'!R390)","v":""},{"$f":"IF('2.Logbook'!S390=\"\",\"\",'2.Logbook'!S390)","v":""},{"$f":"IF('2.Logbook'!T390=\"\",\"\",'2.Logbook'!T390)","v":""},{"$f":"IF('2.Logbook'!U390=\"\",\"\",'2.Logbook'!U390)","v":""},{"$f":"IF('2.Logbook'!V390=\"\",\"\",'2.Logbook'!V390)","v":""},{"$f":"IF('2.Logbook'!W390=\"\",\"\",'2.Logbook'!W390)","v":""},{"$f":"IF('2.Logbook'!X390=\"\",\"\",'2.Logbook'!X390)","v":""},{"$f":"IF('2.Logbook'!Y390=\"\",\"\",'2.Logbook'!Y390)","v":""},{"$f":"IF('2.Logbook'!Z390=\"\",\"\",'2.Logbook'!Z390)","v":""},{"$f":"IF('2.Logbook'!AA390=\"\",\"\",'2.Logbook'!AA390)","v":""},{"$f":"IF('2.Logbook'!AB390=\"\",\"\",'2.Logbook'!AB390)","v":""},{"$f":"IF('2.Logbook'!AC390=\"\",\"\",'2.Logbook'!AC390)","v":""},{"$f":"IF('2.Logbook'!AD390=\"\",\"\",'2.Logbook'!AD390)","v":""},{"$f":"IF('2.Logbook'!AE390=\"\",\"\",'2.Logbook'!AE390)","v":""},{"$f":"IF('2.Logbook'!AF390=\"\",\"\",'2.Logbook'!AF390)","v":""},{"$f":"IF('2.Logbook'!AG390=\"\",\"\",'2.Logbook'!AG390)","v":""}]
[{"$f":"IF('2.Logbook'!A391=\"\",\"\",'2.Logbook'!A391)","v":""},{"$f":"IF('2.Logbook'!B391=\"\",\"\",'2.Logbook'!B391)","v":""},{"$f":"IF('2.Logbook'!C391=\"\",\"\",'2.Logbook'!C391)","v":""},{"$f":"IF('2.Logbook'!D391=\"\",\"\",'2.Logbook'!D391)","v":""},{"$f":"IF('2.Logbook'!E391=\"\",\"\",'2.Logbook'!E391)","v":""},{"$f":"IF('2.Logbook'!F391=\"\",\"\",'2.Logbook'!F391)","v":""},{"$f":"IF('2.Logbook'!G391=\"\",\"\",'2.Logbook'!G391)","v":""},{"$f":"IF('2.Logbook'!H391=\"\",\"\",'2.Logbook'!H391)","v":""},{"$f":"IF('2.Logbook'!I391=\"\",\"\",'2.Logbook'!I391)","v":""},{"$f":"IF('2.Logbook'!J391=\"\",\"\",'2.Logbook'!J391)","v":""},{"$f":"IF('2.Logbook'!K391=\"\",\"\",'2.Logbook'!K391)","v":""},{"$f":"IF('2.Logbook'!L391=\"\",\"\",'2.Logbook'!L391)","v":""},{"$f":"IF('2.Logbook'!M391=\"\",\"\",'2.Logbook'!M391)","v":""},{"$f":"IF('2.Logbook'!N391=\"\",\"\",'2.Logbook'!N391)","v":""},{"$f":"IF('2.Logbook'!O391=\"\",\"\",'2.Logbook'!O391)","v":""},{"$f":"IF('2.Logbook'!P391=\"\",\"\",'2.Logbook'!P391)","v":""},{"$f":"IF('2.Logbook'!Q391=\"\",\"\",'2.Logbook'!Q391)","v":""},{"$f":"IF('2.Logbook'!R391=\"\",\"\",'2.Logbook'!R391)","v":""},{"$f":"IF('2.Logbook'!S391=\"\",\"\",'2.Logbook'!S391)","v":""},{"$f":"IF('2.Logbook'!T391=\"\",\"\",'2.Logbook'!T391)","v":""},{"$f":"IF('2.Logbook'!U391=\"\",\"\",'2.Logbook'!U391)","v":""},{"$f":"IF('2.Logbook'!V391=\"\",\"\",'2.Logbook'!V391)","v":""},{"$f":"IF('2.Logbook'!W391=\"\",\"\",'2.Logbook'!W391)","v":""},{"$f":"IF('2.Logbook'!X391=\"\",\"\",'2.Logbook'!X391)","v":""},{"$f":"IF('2.Logbook'!Y391=\"\",\"\",'2.Logbook'!Y391)","v":""},{"$f":"IF('2.Logbook'!Z391=\"\",\"\",'2.Logbook'!Z391)","v":""},{"$f":"IF('2.Logbook'!AA391=\"\",\"\",'2.Logbook'!AA391)","v":""},{"$f":"IF('2.Logbook'!AB391=\"\",\"\",'2.Logbook'!AB391)","v":""},{"$f":"IF('2.Logbook'!AC391=\"\",\"\",'2.Logbook'!AC391)","v":""},{"$f":"IF('2.Logbook'!AD391=\"\",\"\",'2.Logbook'!AD391)","v":""},{"$f":"IF('2.Logbook'!AE391=\"\",\"\",'2.Logbook'!AE391)","v":""},{"$f":"IF('2.Logbook'!AF391=\"\",\"\",'2.Logbook'!AF391)","v":""},{"$f":"IF('2.Logbook'!AG391=\"\",\"\",'2.Logbook'!AG391)","v":""}]
[{"$f":"IF('2.Logbook'!A392=\"\",\"\",'2.Logbook'!A392)","v":""},{"$f":"IF('2.Logbook'!B392=\"\",\"\",'2.Logbook'!B392)","v":""},{"$f":"IF('2.Logbook'!C392=\"\",\"\",'2.Logbook'!C392)","v":""},{"$f":"IF('2.Logbook'!D392=\"\",\"\",'2.Logbook'!D392)","v":""},{"$f":"IF('2.Logbook'!E392=\"\",\"\",'2.Logbook'!E392)","v":""},{"$f":"IF('2.Logbook'!F392=\"\",\"\",'2.Logbook'!F392)","v":""},{"$f":"IF('2.Logbook'!G392=\"\",\"\",'2.Logbook'!G392)","v":""},{"$f":"IF('2.Logbook'!H392=\"\",\"\",'2.Logbook'!H392)","v":""},{"$f":"IF('2.Logbook'!I392=\"\",\"\",'2.Logbook'!I392)","v":""},{"$f":"IF('2.Logbook'!J392=\"\",\"\",'2.Logbook'!J392)","v":""},{"$f":"IF('2.Logbook'!K392=\"\",\"\",'2.Logbook'!K392)","v":""},{"$f":"IF('2.Logbook'!L392=\"\",\"\",'2.Logbook'!L392)","v":""},{"$f":"IF('2.Logbook'!M392=\"\",\"\",'2.Logbook'!M392)","v":""},{"$f":"IF('2.Logbook'!N392=\"\",\"\",'2.Logbook'!N392)","v":""},{"$f":"IF('2.Logbook'!O392=\"\",\"\",'2.Logbook'!O392)","v":""},{"$f":"IF('2.Logbook'!P392=\"\",\"\",'2.Logbook'!P392)","v":""},{"$f":"IF('2.Logbook'!Q392=\"\",\"\",'2.Logbook'!Q392)","v":""},{"$f":"IF('2.Logbook'!R392=\"\",\"\",'2.Logbook'!R392)","v":""},{"$f":"IF('2.Logbook'!S392=\"\",\"\",'2.Logbook'!S392)","v":""},{"$f":"IF('2.Logbook'!T392=\"\",\"\",'2.Logbook'!T392)","v":""},{"$f":"IF('2.Logbook'!U392=\"\",\"\",'2.Logbook'!U392)","v":""},{"$f":"IF('2.Logbook'!V392=\"\",\"\",'2.Logbook'!V392)","v":""},{"$f":"IF('2.Logbook'!W392=\"\",\"\",'2.Logbook'!W392)","v":""},{"$f":"IF('2.Logbook'!X392=\"\",\"\",'2.Logbook'!X392)","v":""},{"$f":"IF('2.Logbook'!Y392=\"\",\"\",'2.Logbook'!Y392)","v":""},{"$f":"IF('2.Logbook'!Z392=\"\",\"\",'2.Logbook'!Z392)","v":""},{"$f":"IF('2.Logbook'!AA392=\"\",\"\",'2.Logbook'!AA392)","v":""},{"$f":"IF('2.Logbook'!AB392=\"\",\"\",'2.Logbook'!AB392)","v":""},{"$f":"IF('2.Logbook'!AC392=\"\",\"\",'2.Logbook'!AC392)","v":""},{"$f":"IF('2.Logbook'!AD392=\"\",\"\",'2.Logbook'!AD392)","v":""},{"$f":"IF('2.Logbook'!AE392=\"\",\"\",'2.Logbook'!AE392)","v":""},{"$f":"IF('2.Logbook'!AF392=\"\",\"\",'2.Logbook'!AF392)","v":""},{"$f":"IF('2.Logbook'!AG392=\"\",\"\",'2.Logbook'!AG392)","v":""}]
[{"$f":"IF('2.Logbook'!A393=\"\",\"\",'2.Logbook'!A393)","v":""},{"$f":"IF('2.Logbook'!B393=\"\",\"\",'2.Logbook'!B393)","v":""},{"$f":"IF('2.Logbook'!C393=\"\",\"\",'2.Logbook'!C393)","v":""},{"$f":"IF('2.Logbook'!D393=\"\",\"\",'2.Logbook'!D393)","v":""},{"$f":"IF('2.Logbook'!E393=\"\",\"\",'2.Logbook'!E393)","v":""},{"$f":"IF('2.Logbook'!F393=\"\",\"\",'2.Logbook'!F393)","v":""},{"$f":"IF('2.Logbook'!G393=\"\",\"\",'2.Logbook'!G393)","v":""},{"$f":"IF('2.Logbook'!H393=\"\",\"\",'2.Logbook'!H393)","v":""},{"$f":"IF('2.Logbook'!I393=\"\",\"\",'2.Logbook'!I393)","v":""},{"$f":"IF('2.Logbook'!J393=\"\",\"\",'2.Logbook'!J393)","v":""},{"$f":"IF('2.Logbook'!K393=\"\",\"\",'2.Logbook'!K393)","v":""},{"$f":"IF('2.Logbook'!L393=\"\",\"\",'2.Logbook'!L393)","v":""},{"$f":"IF('2.Logbook'!M393=\"\",\"\",'2.Logbook'!M393)","v":""},{"$f":"IF('2.Logbook'!N393=\"\",\"\",'2.Logbook'!N393)","v":""},{"$f":"IF('2.Logbook'!O393=\"\",\"\",'2.Logbook'!O393)","v":""},{"$f":"IF('2.Logbook'!P393=\"\",\"\",'2.Logbook'!P393)","v":""},{"$f":"IF('2.Logbook'!Q393=\"\",\"\",'2.Logbook'!Q393)","v":""},{"$f":"IF('2.Logbook'!R393=\"\",\"\",'2.Logbook'!R393)","v":""},{"$f":"IF('2.Logbook'!S393=\"\",\"\",'2.Logbook'!S393)","v":""},{"$f":"IF('2.Logbook'!T393=\"\",\"\",'2.Logbook'!T393)","v":""},{"$f":"IF('2.Logbook'!U393=\"\",\"\",'2.Logbook'!U393)","v":""},{"$f":"IF('2.Logbook'!V393=\"\",\"\",'2.Logbook'!V393)","v":""},{"$f":"IF('2.Logbook'!W393=\"\",\"\",'2.Logbook'!W393)","v":""},{"$f":"IF('2.Logbook'!X393=\"\",\"\",'2.Logbook'!X393)","v":""},{"$f":"IF('2.Logbook'!Y393=\"\",\"\",'2.Logbook'!Y393)","v":""},{"$f":"IF('2.Logbook'!Z393=\"\",\"\",'2.Logbook'!Z393)","v":""},{"$f":"IF('2.Logbook'!AA393=\"\",\"\",'2.Logbook'!AA393)","v":""},{"$f":"IF('2.Logbook'!AB393=\"\",\"\",'2.Logbook'!AB393)","v":""},{"$f":"IF('2.Logbook'!AC393=\"\",\"\",'2.Logbook'!AC393)","v":""},{"$f":"IF('2.Logbook'!AD393=\"\",\"\",'2.Logbook'!AD393)","v":""},{"$f":"IF('2.Logbook'!AE393=\"\",\"\",'2.Logbook'!AE393)","v":""},{"$f":"IF('2.Logbook'!AF393=\"\",\"\",'2.Logbook'!AF393)","v":""},{"$f":"IF('2.Logbook'!AG393=\"\",\"\",'2.Logbook'!AG393)","v":""}]
[{"$f":"IF('2.Logbook'!A394=\"\",\"\",'2.Logbook'!A394)","v":""},{"$f":"IF('2.Logbook'!B394=\"\",\"\",'2.Logbook'!B394)","v":""},{"$f":"IF('2.Logbook'!C394=\"\",\"\",'2.Logbook'!C394)","v":""},{"$f":"IF('2.Logbook'!D394=\"\",\"\",'2.Logbook'!D394)","v":""},{"$f":"IF('2.Logbook'!E394=\"\",\"\",'2.Logbook'!E394)","v":""},{"$f":"IF('2.Logbook'!F394=\"\",\"\",'2.Logbook'!F394)","v":""},{"$f":"IF('2.Logbook'!G394=\"\",\"\",'2.Logbook'!G394)","v":""},{"$f":"IF('2.Logbook'!H394=\"\",\"\",'2.Logbook'!H394)","v":""},{"$f":"IF('2.Logbook'!I394=\"\",\"\",'2.Logbook'!I394)","v":""},{"$f":"IF('2.Logbook'!J394=\"\",\"\",'2.Logbook'!J394)","v":""},{"$f":"IF('2.Logbook'!K394=\"\",\"\",'2.Logbook'!K394)","v":""},{"$f":"IF('2.Logbook'!L394=\"\",\"\",'2.Logbook'!L394)","v":""},{"$f":"IF('2.Logbook'!M394=\"\",\"\",'2.Logbook'!M394)","v":""},{"$f":"IF('2.Logbook'!N394=\"\",\"\",'2.Logbook'!N394)","v":""},{"$f":"IF('2.Logbook'!O394=\"\",\"\",'2.Logbook'!O394)","v":""},{"$f":"IF('2.Logbook'!P394=\"\",\"\",'2.Logbook'!P394)","v":""},{"$f":"IF('2.Logbook'!Q394=\"\",\"\",'2.Logbook'!Q394)","v":""},{"$f":"IF('2.Logbook'!R394=\"\",\"\",'2.Logbook'!R394)","v":""},{"$f":"IF('2.Logbook'!S394=\"\",\"\",'2.Logbook'!S394)","v":""},{"$f":"IF('2.Logbook'!T394=\"\",\"\",'2.Logbook'!T394)","v":""},{"$f":"IF('2.Logbook'!U394=\"\",\"\",'2.Logbook'!U394)","v":""},{"$f":"IF('2.Logbook'!V394=\"\",\"\",'2.Logbook'!V394)","v":""},{"$f":"IF('2.Logbook'!W394=\"\",\"\",'2.Logbook'!W394)","v":""},{"$f":"IF('2.Logbook'!X394=\"\",\"\",'2.Logbook'!X394)","v":""},{"$f":"IF('2.Logbook'!Y394=\"\",\"\",'2.Logbook'!Y394)","v":""},{"$f":"IF('2.Logbook'!Z394=\"\",\"\",'2.Logbook'!Z394)","v":""},{"$f":"IF('2.Logbook'!AA394=\"\",\"\",'2.Logbook'!AA394)","v":""},{"$f":"IF('2.Logbook'!AB394=\"\",\"\",'2.Logbook'!AB394)","v":""},{"$f":"IF('2.Logbook'!AC394=\"\",\"\",'2.Logbook'!AC394)","v":""},{"$f":"IF('2.Logbook'!AD394=\"\",\"\",'2.Logbook'!AD394)","v":""},{"$f":"IF('2.Logbook'!AE394=\"\",\"\",'2.Logbook'!AE394)","v":""},{"$f":"IF('2.Logbook'!AF394=\"\",\"\",'2.Logbook'!AF394)","v":""},{"$f":"IF('2.Logbook'!AG394=\"\",\"\",'2.Logbook'!AG394)","v":""}]
[{"$f":"IF('2.Logbook'!A395=\"\",\"\",'2.Logbook'!A395)","v":""},{"$f":"IF('2.Logbook'!B395=\"\",\"\",'2.Logbook'!B395)","v":""},{"$f":"IF('2.Logbook'!C395=\"\",\"\",'2.Logbook'!C395)","v":""},{"$f":"IF('2.Logbook'!D395=\"\",\"\",'2.Logbook'!D395)","v":""},{"$f":"IF('2.Logbook'!E395=\"\",\"\",'2.Logbook'!E395)","v":""},{"$f":"IF('2.Logbook'!F395=\"\",\"\",'2.Logbook'!F395)","v":""},{"$f":"IF('2.Logbook'!G395=\"\",\"\",'2.Logbook'!G395)","v":""},{"$f":"IF('2.Logbook'!H395=\"\",\"\",'2.Logbook'!H395)","v":""},{"$f":"IF('2.Logbook'!I395=\"\",\"\",'2.Logbook'!I395)","v":""},{"$f":"IF('2.Logbook'!J395=\"\",\"\",'2.Logbook'!J395)","v":""},{"$f":"IF('2.Logbook'!K395=\"\",\"\",'2.Logbook'!K395)","v":""},{"$f":"IF('2.Logbook'!L395=\"\",\"\",'2.Logbook'!L395)","v":""},{"$f":"IF('2.Logbook'!M395=\"\",\"\",'2.Logbook'!M395)","v":""},{"$f":"IF('2.Logbook'!N395=\"\",\"\",'2.Logbook'!N395)","v":""},{"$f":"IF('2.Logbook'!O395=\"\",\"\",'2.Logbook'!O395)","v":""},{"$f":"IF('2.Logbook'!P395=\"\",\"\",'2.Logbook'!P395)","v":""},{"$f":"IF('2.Logbook'!Q395=\"\",\"\",'2.Logbook'!Q395)","v":""},{"$f":"IF('2.Logbook'!R395=\"\",\"\",'2.Logbook'!R395)","v":""},{"$f":"IF('2.Logbook'!S395=\"\",\"\",'2.Logbook'!S395)","v":""},{"$f":"IF('2.Logbook'!T395=\"\",\"\",'2.Logbook'!T395)","v":""},{"$f":"IF('2.Logbook'!U395=\"\",\"\",'2.Logbook'!U395)","v":""},{"$f":"IF('2.Logbook'!V395=\"\",\"\",'2.Logbook'!V395)","v":""},{"$f":"IF('2.Logbook'!W395=\"\",\"\",'2.Logbook'!W395)","v":""},{"$f":"IF('2.Logbook'!X395=\"\",\"\",'2.Logbook'!X395)","v":""},{"$f":"IF('2.Logbook'!Y395=\"\",\"\",'2.Logbook'!Y395)","v":""},{"$f":"IF('2.Logbook'!Z395=\"\",\"\",'2.Logbook'!Z395)","v":""},{"$f":"IF('2.Logbook'!AA395=\"\",\"\",'2.Logbook'!AA395)","v":""},{"$f":"IF('2.Logbook'!AB395=\"\",\"\",'2.Logbook'!AB395)","v":""},{"$f":"IF('2.Logbook'!AC395=\"\",\"\",'2.Logbook'!AC395)","v":""},{"$f":"IF('2.Logbook'!AD395=\"\",\"\",'2.Logbook'!AD395)","v":""},{"$f":"IF('2.Logbook'!AE395=\"\",\"\",'2.Logbook'!AE395)","v":""},{"$f":"IF('2.Logbook'!AF395=\"\",\"\",'2.Logbook'!AF395)","v":""},{"$f":"IF('2.Logbook'!AG395=\"\",\"\",'2.Logbook'!AG395)","v":""}]
[{"$f":"IF('2.Logbook'!A396=\"\",\"\",'2.Logbook'!A396)","v":""},{"$f":"IF('2.Logbook'!B396=\"\",\"\",'2.Logbook'!B396)","v":""},{"$f":"IF('2.Logbook'!C396=\"\",\"\",'2.Logbook'!C396)","v":""},{"$f":"IF('2.Logbook'!D396=\"\",\"\",'2.Logbook'!D396)","v":""},{"$f":"IF('2.Logbook'!E396=\"\",\"\",'2.Logbook'!E396)","v":""},{"$f":"IF('2.Logbook'!F396=\"\",\"\",'2.Logbook'!F396)","v":""},{"$f":"IF('2.Logbook'!G396=\"\",\"\",'2.Logbook'!G396)","v":""},{"$f":"IF('2.Logbook'!H396=\"\",\"\",'2.Logbook'!H396)","v":""},{"$f":"IF('2.Logbook'!I396=\"\",\"\",'2.Logbook'!I396)","v":""},{"$f":"IF('2.Logbook'!J396=\"\",\"\",'2.Logbook'!J396)","v":""},{"$f":"IF('2.Logbook'!K396=\"\",\"\",'2.Logbook'!K396)","v":""},{"$f":"IF('2.Logbook'!L396=\"\",\"\",'2.Logbook'!L396)","v":""},{"$f":"IF('2.Logbook'!M396=\"\",\"\",'2.Logbook'!M396)","v":""},{"$f":"IF('2.Logbook'!N396=\"\",\"\",'2.Logbook'!N396)","v":""},{"$f":"IF('2.Logbook'!O396=\"\",\"\",'2.Logbook'!O396)","v":""},{"$f":"IF('2.Logbook'!P396=\"\",\"\",'2.Logbook'!P396)","v":""},{"$f":"IF('2.Logbook'!Q396=\"\",\"\",'2.Logbook'!Q396)","v":""},{"$f":"IF('2.Logbook'!R396=\"\",\"\",'2.Logbook'!R396)","v":""},{"$f":"IF('2.Logbook'!S396=\"\",\"\",'2.Logbook'!S396)","v":""},{"$f":"IF('2.Logbook'!T396=\"\",\"\",'2.Logbook'!T396)","v":""},{"$f":"IF('2.Logbook'!U396=\"\",\"\",'2.Logbook'!U396)","v":""},{"$f":"IF('2.Logbook'!V396=\"\",\"\",'2.Logbook'!V396)","v":""},{"$f":"IF('2.Logbook'!W396=\"\",\"\",'2.Logbook'!W396)","v":""},{"$f":"IF('2.Logbook'!X396=\"\",\"\",'2.Logbook'!X396)","v":""},{"$f":"IF('2.Logbook'!Y396=\"\",\"\",'2.Logbook'!Y396)","v":""},{"$f":"IF('2.Logbook'!Z396=\"\",\"\",'2.Logbook'!Z396)","v":""},{"$f":"IF('2.Logbook'!AA396=\"\",\"\",'2.Logbook'!AA396)","v":""},{"$f":"IF('2.Logbook'!AB396=\"\",\"\",'2.Logbook'!AB396)","v":""},{"$f":"IF('2.Logbook'!AC396=\"\",\"\",'2.Logbook'!AC396)","v":""},{"$f":"IF('2.Logbook'!AD396=\"\",\"\",'2.Logbook'!AD396)","v":""},{"$f":"IF('2.Logbook'!AE396=\"\",\"\",'2.Logbook'!AE396)","v":""},{"$f":"IF('2.Logbook'!AF396=\"\",\"\",'2.Logbook'!AF396)","v":""},{"$f":"IF('2.Logbook'!AG396=\"\",\"\",'2.Logbook'!AG396)","v":""}]
[{"$f":"IF('2.Logbook'!A397=\"\",\"\",'2.Logbook'!A397)","v":""},{"$f":"IF('2.Logbook'!B397=\"\",\"\",'2.Logbook'!B397)","v":""},{"$f":"IF('2.Logbook'!C397=\"\",\"\",'2.Logbook'!C397)","v":""},{"$f":"IF('2.Logbook'!D397=\"\",\"\",'2.Logbook'!D397)","v":""},{"$f":"IF('2.Logbook'!E397=\"\",\"\",'2.Logbook'!E397)","v":""},{"$f":"IF('2.Logbook'!F397=\"\",\"\",'2.Logbook'!F397)","v":""},{"$f":"IF('2.Logbook'!G397=\"\",\"\",'2.Logbook'!G397)","v":""},{"$f":"IF('2.Logbook'!H397=\"\",\"\",'2.Logbook'!H397)","v":""},{"$f":"IF('2.Logbook'!I397=\"\",\"\",'2.Logbook'!I397)","v":""},{"$f":"IF('2.Logbook'!J397=\"\",\"\",'2.Logbook'!J397)","v":""},{"$f":"IF('2.Logbook'!K397=\"\",\"\",'2.Logbook'!K397)","v":""},{"$f":"IF('2.Logbook'!L397=\"\",\"\",'2.Logbook'!L397)","v":""},{"$f":"IF('2.Logbook'!M397=\"\",\"\",'2.Logbook'!M397)","v":""},{"$f":"IF('2.Logbook'!N397=\"\",\"\",'2.Logbook'!N397)","v":""},{"$f":"IF('2.Logbook'!O397=\"\",\"\",'2.Logbook'!O397)","v":""},{"$f":"IF('2.Logbook'!P397=\"\",\"\",'2.Logbook'!P397)","v":""},{"$f":"IF('2.Logbook'!Q397=\"\",\"\",'2.Logbook'!Q397)","v":""},{"$f":"IF('2.Logbook'!R397=\"\",\"\",'2.Logbook'!R397)","v":""},{"$f":"IF('2.Logbook'!S397=\"\",\"\",'2.Logbook'!S397)","v":""},{"$f":"IF('2.Logbook'!T397=\"\",\"\",'2.Logbook'!T397)","v":""},{"$f":"IF('2.Logbook'!U397=\"\",\"\",'2.Logbook'!U397)","v":""},{"$f":"IF('2.Logbook'!V397=\"\",\"\",'2.Logbook'!V397)","v":""},{"$f":"IF('2.Logbook'!W397=\"\",\"\",'2.Logbook'!W397)","v":""},{"$f":"IF('2.Logbook'!X397=\"\",\"\",'2.Logbook'!X397)","v":""},{"$f":"IF('2.Logbook'!Y397=\"\",\"\",'2.Logbook'!Y397)","v":""},{"$f":"IF('2.Logbook'!Z397=\"\",\"\",'2.Logbook'!Z397)","v":""},{"$f":"IF('2.Logbook'!AA397=\"\",\"\",'2.Logbook'!AA397)","v":""},{"$f":"IF('2.Logbook'!AB397=\"\",\"\",'2.Logbook'!AB397)","v":""},{"$f":"IF('2.Logbook'!AC397=\"\",\"\",'2.Logbook'!AC397)","v":""},{"$f":"IF('2.Logbook'!AD397=\"\",\"\",'2.Logbook'!AD397)","v":""},{"$f":"IF('2.Logbook'!AE397=\"\",\"\",'2.Logbook'!AE397)","v":""},{"$f":"IF('2.Logbook'!AF397=\"\",\"\",'2.Logbook'!AF397)","v":""},{"$f":"IF('2.Logbook'!AG397=\"\",\"\",'2.Logbook'!AG397)","v":""}]
[{"$f":"IF('2.Logbook'!A398=\"\",\"\",'2.Logbook'!A398)","v":""},{"$f":"IF('2.Logbook'!B398=\"\",\"\",'2.Logbook'!B398)","v":""},{"$f":"IF('2.Logbook'!C398=\"\",\"\",'2.Logbook'!C398)","v":""},{"$f":"IF('2.Logbook'!D398=\"\",\"\",'2.Logbook'!D398)","v":""},{"$f":"IF('2.Logbook'!E398=\"\",\"\",'2.Logbook'!E398)","v":""},{"$f":"IF('2.Logbook'!F398=\"\",\"\",'2.Logbook'!F398)","v":""},{"$f":"IF('2.Logbook'!G398=\"\",\"\",'2.Logbook'!G398)","v":""},{"$f":"IF('2.Logbook'!H398=\"\",\"\",'2.Logbook'!H398)","v":""},{"$f":"IF('2.Logbook'!I398=\"\",\"\",'2.Logbook'!I398)","v":""},{"$f":"IF('2.Logbook'!J398=\"\",\"\",'2.Logbook'!J398)","v":""},{"$f":"IF('2.Logbook'!K398=\"\",\"\",'2.Logbook'!K398)","v":""},{"$f":"IF('2.Logbook'!L398=\"\",\"\",'2.Logbook'!L398)","v":""},{"$f":"IF('2.Logbook'!M398=\"\",\"\",'2.Logbook'!M398)","v":""},{"$f":"IF('2.Logbook'!N398=\"\",\"\",'2.Logbook'!N398)","v":""},{"$f":"IF('2.Logbook'!O398=\"\",\"\",'2.Logbook'!O398)","v":""},{"$f":"IF('2.Logbook'!P398=\"\",\"\",'2.Logbook'!P398)","v":""},{"$f":"IF('2.Logbook'!Q398=\"\",\"\",'2.Logbook'!Q398)","v":""},{"$f":"IF('2.Logbook'!R398=\"\",\"\",'2.Logbook'!R398)","v":""},{"$f":"IF('2.Logbook'!S398=\"\",\"\",'2.Logbook'!S398)","v":""},{"$f":"IF('2.Logbook'!T398=\"\",\"\",'2.Logbook'!T398)","v":""},{"$f":"IF('2.Logbook'!U398=\"\",\"\",'2.Logbook'!U398)","v":""},{"$f":"IF('2.Logbook'!V398=\"\",\"\",'2.Logbook'!V398)","v":""},{"$f":"IF('2.Logbook'!W398=\"\",\"\",'2.Logbook'!W398)","v":""},{"$f":"IF('2.Logbook'!X398=\"\",\"\",'2.Logbook'!X398)","v":""},{"$f":"IF('2.Logbook'!Y398=\"\",\"\",'2.Logbook'!Y398)","v":""},{"$f":"IF('2.Logbook'!Z398=\"\",\"\",'2.Logbook'!Z398)","v":""},{"$f":"IF('2.Logbook'!AA398=\"\",\"\",'2.Logbook'!AA398)","v":""},{"$f":"IF('2.Logbook'!AB398=\"\",\"\",'2.Logbook'!AB398)","v":""},{"$f":"IF('2.Logbook'!AC398=\"\",\"\",'2.Logbook'!AC398)","v":""},{"$f":"IF('2.Logbook'!AD398=\"\",\"\",'2.Logbook'!AD398)","v":""},{"$f":"IF('2.Logbook'!AE398=\"\",\"\",'2.Logbook'!AE398)","v":""},{"$f":"IF('2.Logbook'!AF398=\"\",\"\",'2.Logbook'!AF398)","v":""},{"$f":"IF('2.Logbook'!AG398=\"\",\"\",'2.Logbook'!AG398)","v":""}]
[{"$f":"IF('2.Logbook'!A399=\"\",\"\",'2.Logbook'!A399)","v":""},{"$f":"IF('2.Logbook'!B399=\"\",\"\",'2.Logbook'!B399)","v":""},{"$f":"IF('2.Logbook'!C399=\"\",\"\",'2.Logbook'!C399)","v":""},{"$f":"IF('2.Logbook'!D399=\"\",\"\",'2.Logbook'!D399)","v":""},{"$f":"IF('2.Logbook'!E399=\"\",\"\",'2.Logbook'!E399)","v":""},{"$f":"IF('2.Logbook'!F399=\"\",\"\",'2.Logbook'!F399)","v":""},{"$f":"IF('2.Logbook'!G399=\"\",\"\",'2.Logbook'!G399)","v":""},{"$f":"IF('2.Logbook'!H399=\"\",\"\",'2.Logbook'!H399)","v":""},{"$f":"IF('2.Logbook'!I399=\"\",\"\",'2.Logbook'!I399)","v":""},{"$f":"IF('2.Logbook'!J399=\"\",\"\",'2.Logbook'!J399)","v":""},{"$f":"IF('2.Logbook'!K399=\"\",\"\",'2.Logbook'!K399)","v":""},{"$f":"IF('2.Logbook'!L399=\"\",\"\",'2.Logbook'!L399)","v":""},{"$f":"IF('2.Logbook'!M399=\"\",\"\",'2.Logbook'!M399)","v":""},{"$f":"IF('2.Logbook'!N399=\"\",\"\",'2.Logbook'!N399)","v":""},{"$f":"IF('2.Logbook'!O399=\"\",\"\",'2.Logbook'!O399)","v":""},{"$f":"IF('2.Logbook'!P399=\"\",\"\",'2.Logbook'!P399)","v":""},{"$f":"IF('2.Logbook'!Q399=\"\",\"\",'2.Logbook'!Q399)","v":""},{"$f":"IF('2.Logbook'!R399=\"\",\"\",'2.Logbook'!R399)","v":""},{"$f":"IF('2.Logbook'!S399=\"\",\"\",'2.Logbook'!S399)","v":""},{"$f":"IF('2.Logbook'!T399=\"\",\"\",'2.Logbook'!T399)","v":""},{"$f":"IF('2.Logbook'!U399=\"\",\"\",'2.Logbook'!U399)","v":""},{"$f":"IF('2.Logbook'!V399=\"\",\"\",'2.Logbook'!V399)","v":""},{"$f":"IF('2.Logbook'!W399=\"\",\"\",'2.Logbook'!W399)","v":""},{"$f":"IF('2.Logbook'!X399=\"\",\"\",'2.Logbook'!X399)","v":""},{"$f":"IF('2.Logbook'!Y399=\"\",\"\",'2.Logbook'!Y399)","v":""},{"$f":"IF('2.Logbook'!Z399=\"\",\"\",'2.Logbook'!Z399)","v":""},{"$f":"IF('2.Logbook'!AA399=\"\",\"\",'2.Logbook'!AA399)","v":""},{"$f":"IF('2.Logbook'!AB399=\"\",\"\",'2.Logbook'!AB399)","v":""},{"$f":"IF('2.Logbook'!AC399=\"\",\"\",'2.Logbook'!AC399)","v":""},{"$f":"IF('2.Logbook'!AD399=\"\",\"\",'2.Logbook'!AD399)","v":""},{"$f":"IF('2.Logbook'!AE399=\"\",\"\",'2.Logbook'!AE399)","v":""},{"$f":"IF('2.Logbook'!AF399=\"\",\"\",'2.Logbook'!AF399)","v":""},{"$f":"IF('2.Logbook'!AG399=\"\",\"\",'2.Logbook'!AG399)","v":""}]
[{"$f":"IF('2.Logbook'!A400=\"\",\"\",'2.Logbook'!A400)","v":""},{"$f":"IF('2.Logbook'!B400=\"\",\"\",'2.Logbook'!B400)","v":""},{"$f":"IF('2.Logbook'!C400=\"\",\"\",'2.Logbook'!C400)","v":""},{"$f":"IF('2.Logbook'!D400=\"\",\"\",'2.Logbook'!D400)","v":""},{"$f":"IF('2.Logbook'!E400=\"\",\"\",'2.Logbook'!E400)","v":""},{"$f":"IF('2.Logbook'!F400=\"\",\"\",'2.Logbook'!F400)","v":""},{"$f":"IF('2.Logbook'!G400=\"\",\"\",'2.Logbook'!G400)","v":""},{"$f":"IF('2.Logbook'!H400=\"\",\"\",'2.Logbook'!H400)","v":""},{"$f":"IF('2.Logbook'!I400=\"\",\"\",'2.Logbook'!I400)","v":""},{"$f":"IF('2.Logbook'!J400=\"\",\"\",'2.Logbook'!J400)","v":""},{"$f":"IF('2.Logbook'!K400=\"\",\"\",'2.Logbook'!K400)","v":""},{"$f":"IF('2.Logbook'!L400=\"\",\"\",'2.Logbook'!L400)","v":""},{"$f":"IF('2.Logbook'!M400=\"\",\"\",'2.Logbook'!M400)","v":""},{"$f":"IF('2.Logbook'!N400=\"\",\"\",'2.Logbook'!N400)","v":""},{"$f":"IF('2.Logbook'!O400=\"\",\"\",'2.Logbook'!O400)","v":""},{"$f":"IF('2.Logbook'!P400=\"\",\"\",'2.Logbook'!P400)","v":""},{"$f":"IF('2.Logbook'!Q400=\"\",\"\",'2.Logbook'!Q400)","v":""},{"$f":"IF('2.Logbook'!R400=\"\",\"\",'2.Logbook'!R400)","v":""},{"$f":"IF('2.Logbook'!S400=\"\",\"\",'2.Logbook'!S400)","v":""},{"$f":"IF('2.Logbook'!T400=\"\",\"\",'2.Logbook'!T400)","v":""},{"$f":"IF('2.Logbook'!U400=\"\",\"\",'2.Logbook'!U400)","v":""},{"$f":"IF('2.Logbook'!V400=\"\",\"\",'2.Logbook'!V400)","v":""},{"$f":"IF('2.Logbook'!W400=\"\",\"\",'2.Logbook'!W400)","v":""},{"$f":"IF('2.Logbook'!X400=\"\",\"\",'2.Logbook'!X400)","v":""},{"$f":"IF('2.Logbook'!Y400=\"\",\"\",'2.Logbook'!Y400)","v":""},{"$f":"IF('2.Logbook'!Z400=\"\",\"\",'2.Logbook'!Z400)","v":""},{"$f":"IF('2.Logbook'!AA400=\"\",\"\",'2.Logbook'!AA400)","v":""},{"$f":"IF('2.Logbook'!AB400=\"\",\"\",'2.Logbook'!AB400)","v":""},{"$f":"IF('2.Logbook'!AC400=\"\",\"\",'2.Logbook'!AC400)","v":""},{"$f":"IF('2.Logbook'!AD400=\"\",\"\",'2.Logbook'!AD400)","v":""},{"$f":"IF('2.Logbook'!AE400=\"\",\"\",'2.Logbook'!AE400)","v":""},{"$f":"IF('2.Logbook'!AF400=\"\",\"\",'2.Logbook'!AF400)","v":""},{"$f":"IF('2.Logbook'!AG400=\"\",\"\",'2.Logbook'!AG400)","v":""}]
[{"$f":"IF('2.Logbook'!A401=\"\",\"\",'2.Logbook'!A401)","v":""},{"$f":"IF('2.Logbook'!B401=\"\",\"\",'2.Logbook'!B401)","v":""},{"$f":"IF('2.Logbook'!C401=\"\",\"\",'2.Logbook'!C401)","v":""},{"$f":"IF('2.Logbook'!D401=\"\",\"\",'2.Logbook'!D401)","v":""},{"$f":"IF('2.Logbook'!E401=\"\",\"\",'2.Logbook'!E401)","v":""},{"$f":"IF('2.Logbook'!F401=\"\",\"\",'2.Logbook'!F401)","v":""},{"$f":"IF('2.Logbook'!G401=\"\",\"\",'2.Logbook'!G401)","v":""},{"$f":"IF('2.Logbook'!H401=\"\",\"\",'2.Logbook'!H401)","v":""},{"$f":"IF('2.Logbook'!I401=\"\",\"\",'2.Logbook'!I401)","v":""},{"$f":"IF('2.Logbook'!J401=\"\",\"\",'2.Logbook'!J401)","v":""},{"$f":"IF('2.Logbook'!K401=\"\",\"\",'2.Logbook'!K401)","v":""},{"$f":"IF('2.Logbook'!L401=\"\",\"\",'2.Logbook'!L401)","v":""},{"$f":"IF('2.Logbook'!M401=\"\",\"\",'2.Logbook'!M401)","v":""},{"$f":"IF('2.Logbook'!N401=\"\",\"\",'2.Logbook'!N401)","v":""},{"$f":"IF('2.Logbook'!O401=\"\",\"\",'2.Logbook'!O401)","v":""},{"$f":"IF('2.Logbook'!P401=\"\",\"\",'2.Logbook'!P401)","v":""},{"$f":"IF('2.Logbook'!Q401=\"\",\"\",'2.Logbook'!Q401)","v":""},{"$f":"IF('2.Logbook'!R401=\"\",\"\",'2.Logbook'!R401)","v":""},{"$f":"IF('2.Logbook'!S401=\"\",\"\",'2.Logbook'!S401)","v":""},{"$f":"IF('2.Logbook'!T401=\"\",\"\",'2.Logbook'!T401)","v":""},{"$f":"IF('2.Logbook'!U401=\"\",\"\",'2.Logbook'!U401)","v":""},{"$f":"IF('2.Logbook'!V401=\"\",\"\",'2.Logbook'!V401)","v":""},{"$f":"IF('2.Logbook'!W401=\"\",\"\",'2.Logbook'!W401)","v":""},{"$f":"IF('2.Logbook'!X401=\"\",\"\",'2.Logbook'!X401)","v":""},{"$f":"IF('2.Logbook'!Y401=\"\",\"\",'2.Logbook'!Y401)","v":""},{"$f":"IF('2.Logbook'!Z401=\"\",\"\",'2.Logbook'!Z401)","v":""},{"$f":"IF('2.Logbook'!AA401=\"\",\"\",'2.Logbook'!AA401)","v":""},{"$f":"IF('2.Logbook'!AB401=\"\",\"\",'2.Logbook'!AB401)","v":""},{"$f":"IF('2.Logbook'!AC401=\"\",\"\",'2.Logbook'!AC401)","v":""},{"$f":"IF('2.Logbook'!AD401=\"\",\"\",'2.Logbook'!AD401)","v":""},{"$f":"IF('2.Logbook'!AE401=\"\",\"\",'2.Logbook'!AE401)","v":""},{"$f":"IF('2.Logbook'!AF401=\"\",\"\",'2.Logbook'!AF401)","v":""},{"$f":"IF('2.Logbook'!AG401=\"\",\"\",'2.Logbook'!AG401)","v":""}]
[{"$f":"IF('2.Logbook'!A402=\"\",\"\",'2.Logbook'!A402)","v":""},{"$f":"IF('2.Logbook'!B402=\"\",\"\",'2.Logbook'!B402)","v":""},{"$f":"IF('2.Logbook'!C402=\"\",\"\",'2.Logbook'!C402)","v":""},{"$f":"IF('2.Logbook'!D402=\"\",\"\",'2.Logbook'!D402)","v":""},{"$f":"IF('2.Logbook'!E402=\"\",\"\",'2.Logbook'!E402)","v":""},{"$f":"IF('2.Logbook'!F402=\"\",\"\",'2.Logbook'!F402)","v":""},{"$f":"IF('2.Logbook'!G402=\"\",\"\",'2.Logbook'!G402)","v":""},{"$f":"IF('2.Logbook'!H402=\"\",\"\",'2.Logbook'!H402)","v":""},{"$f":"IF('2.Logbook'!I402=\"\",\"\",'2.Logbook'!I402)","v":""},{"$f":"IF('2.Logbook'!J402=\"\",\"\",'2.Logbook'!J402)","v":""},{"$f":"IF('2.Logbook'!K402=\"\",\"\",'2.Logbook'!K402)","v":""},{"$f":"IF('2.Logbook'!L402=\"\",\"\",'2.Logbook'!L402)","v":""},{"$f":"IF('2.Logbook'!M402=\"\",\"\",'2.Logbook'!M402)","v":""},{"$f":"IF('2.Logbook'!N402=\"\",\"\",'2.Logbook'!N402)","v":""},{"$f":"IF('2.Logbook'!O402=\"\",\"\",'2.Logbook'!O402)","v":""},{"$f":"IF('2.Logbook'!P402=\"\",\"\",'2.Logbook'!P402)","v":""},{"$f":"IF('2.Logbook'!Q402=\"\",\"\",'2.Logbook'!Q402)","v":""},{"$f":"IF('2.Logbook'!R402=\"\",\"\",'2.Logbook'!R402)","v":""},{"$f":"IF('2.Logbook'!S402=\"\",\"\",'2.Logbook'!S402)","v":""},{"$f":"IF('2.Logbook'!T402=\"\",\"\",'2.Logbook'!T402)","v":""},{"$f":"IF('2.Logbook'!U402=\"\",\"\",'2.Logbook'!U402)","v":""},{"$f":"IF('2.Logbook'!V402=\"\",\"\",'2.Logbook'!V402)","v":""},{"$f":"IF('2.Logbook'!W402=\"\",\"\",'2.Logbook'!W402)","v":""},{"$f":"IF('2.Logbook'!X402=\"\",\"\",'2.Logbook'!X402)","v":""},{"$f":"IF('2.Logbook'!Y402=\"\",\"\",'2.Logbook'!Y402)","v":""},{"$f":"IF('2.Logbook'!Z402=\"\",\"\",'2.Logbook'!Z402)","v":""},{"$f":"IF('2.Logbook'!AA402=\"\",\"\",'2.Logbook'!AA402)","v":""},{"$f":"IF('2.Logbook'!AB402=\"\",\"\",'2.Logbook'!AB402)","v":""},{"$f":"IF('2.Logbook'!AC402=\"\",\"\",'2.Logbook'!AC402)","v":""},{"$f":"IF('2.Logbook'!AD402=\"\",\"\",'2.Logbook'!AD402)","v":""},{"$f":"IF('2.Logbook'!AE402=\"\",\"\",'2.Logbook'!AE402)","v":""},{"$f":"IF('2.Logbook'!AF402=\"\",\"\",'2.Logbook'!AF402)","v":""},{"$f":"IF('2.Logbook'!AG402=\"\",\"\",'2.Logbook'!AG402)","v":""}]
[{"$f":"IF('2.Logbook'!A403=\"\",\"\",'2.Logbook'!A403)","v":""},{"$f":"IF('2.Logbook'!B403=\"\",\"\",'2.Logbook'!B403)","v":""},{"$f":"IF('2.Logbook'!C403=\"\",\"\",'2.Logbook'!C403)","v":""},{"$f":"IF('2.Logbook'!D403=\"\",\"\",'2.Logbook'!D403)","v":""},{"$f":"IF('2.Logbook'!E403=\"\",\"\",'2.Logbook'!E403)","v":""},{"$f":"IF('2.Logbook'!F403=\"\",\"\",'2.Logbook'!F403)","v":""},{"$f":"IF('2.Logbook'!G403=\"\",\"\",'2.Logbook'!G403)","v":""},{"$f":"IF('2.Logbook'!H403=\"\",\"\",'2.Logbook'!H403)","v":""},{"$f":"IF('2.Logbook'!I403=\"\",\"\",'2.Logbook'!I403)","v":""},{"$f":"IF('2.Logbook'!J403=\"\",\"\",'2.Logbook'!J403)","v":""},{"$f":"IF('2.Logbook'!K403=\"\",\"\",'2.Logbook'!K403)","v":""},{"$f":"IF('2.Logbook'!L403=\"\",\"\",'2.Logbook'!L403)","v":""},{"$f":"IF('2.Logbook'!M403=\"\",\"\",'2.Logbook'!M403)","v":""},{"$f":"IF('2.Logbook'!N403=\"\",\"\",'2.Logbook'!N403)","v":""},{"$f":"IF('2.Logbook'!O403=\"\",\"\",'2.Logbook'!O403)","v":""},{"$f":"IF('2.Logbook'!P403=\"\",\"\",'2.Logbook'!P403)","v":""},{"$f":"IF('2.Logbook'!Q403=\"\",\"\",'2.Logbook'!Q403)","v":""},{"$f":"IF('2.Logbook'!R403=\"\",\"\",'2.Logbook'!R403)","v":""},{"$f":"IF('2.Logbook'!S403=\"\",\"\",'2.Logbook'!S403)","v":""},{"$f":"IF('2.Logbook'!T403=\"\",\"\",'2.Logbook'!T403)","v":""},{"$f":"IF('2.Logbook'!U403=\"\",\"\",'2.Logbook'!U403)","v":""},{"$f":"IF('2.Logbook'!V403=\"\",\"\",'2.Logbook'!V403)","v":""},{"$f":"IF('2.Logbook'!W403=\"\",\"\",'2.Logbook'!W403)","v":""},{"$f":"IF('2.Logbook'!X403=\"\",\"\",'2.Logbook'!X403)","v":""},{"$f":"IF('2.Logbook'!Y403=\"\",\"\",'2.Logbook'!Y403)","v":""},{"$f":"IF('2.Logbook'!Z403=\"\",\"\",'2.Logbook'!Z403)","v":""},{"$f":"IF('2.Logbook'!AA403=\"\",\"\",'2.Logbook'!AA403)","v":""},{"$f":"IF('2.Logbook'!AB403=\"\",\"\",'2.Logbook'!AB403)","v":""},{"$f":"IF('2.Logbook'!AC403=\"\",\"\",'2.Logbook'!AC403)","v":""},{"$f":"IF('2.Logbook'!AD403=\"\",\"\",'2.Logbook'!AD403)","v":""},{"$f":"IF('2.Logbook'!AE403=\"\",\"\",'2.Logbook'!AE403)","v":""},{"$f":"IF('2.Logbook'!AF403=\"\",\"\",'2.Logbook'!AF403)","v":""},{"$f":"IF('2.Logbook'!AG403=\"\",\"\",'2.Logbook'!AG403)","v":""}]
[{"$f":"IF('2.Logbook'!A404=\"\",\"\",'2.Logbook'!A404)","v":""},{"$f":"IF('2.Logbook'!B404=\"\",\"\",'2.Logbook'!B404)","v":""},{"$f":"IF('2.Logbook'!C404=\"\",\"\",'2.Logbook'!C404)","v":""},{"$f":"IF('2.Logbook'!D404=\"\",\"\",'2.Logbook'!D404)","v":""},{"$f":"IF('2.Logbook'!E404=\"\",\"\",'2.Logbook'!E404)","v":""},{"$f":"IF('2.Logbook'!F404=\"\",\"\",'2.Logbook'!F404)","v":""},{"$f":"IF('2.Logbook'!G404=\"\",\"\",'2.Logbook'!G404)","v":""},{"$f":"IF('2.Logbook'!H404=\"\",\"\",'2.Logbook'!H404)","v":""},{"$f":"IF('2.Logbook'!I404=\"\",\"\",'2.Logbook'!I404)","v":""},{"$f":"IF('2.Logbook'!J404=\"\",\"\",'2.Logbook'!J404)","v":""},{"$f":"IF('2.Logbook'!K404=\"\",\"\",'2.Logbook'!K404)","v":""},{"$f":"IF('2.Logbook'!L404=\"\",\"\",'2.Logbook'!L404)","v":""},{"$f":"IF('2.Logbook'!M404=\"\",\"\",'2.Logbook'!M404)","v":""},{"$f":"IF('2.Logbook'!N404=\"\",\"\",'2.Logbook'!N404)","v":""},{"$f":"IF('2.Logbook'!O404=\"\",\"\",'2.Logbook'!O404)","v":""},{"$f":"IF('2.Logbook'!P404=\"\",\"\",'2.Logbook'!P404)","v":""},{"$f":"IF('2.Logbook'!Q404=\"\",\"\",'2.Logbook'!Q404)","v":""},{"$f":"IF('2.Logbook'!R404=\"\",\"\",'2.Logbook'!R404)","v":""},{"$f":"IF('2.Logbook'!S404=\"\",\"\",'2.Logbook'!S404)","v":""},{"$f":"IF('2.Logbook'!T404=\"\",\"\",'2.Logbook'!T404)","v":""},{"$f":"IF('2.Logbook'!U404=\"\",\"\",'2.Logbook'!U404)","v":""},{"$f":"IF('2.Logbook'!V404=\"\",\"\",'2.Logbook'!V404)","v":""},{"$f":"IF('2.Logbook'!W404=\"\",\"\",'2.Logbook'!W404)","v":""},{"$f":"IF('2.Logbook'!X404=\"\",\"\",'2.Logbook'!X404)","v":""},{"$f":"IF('2.Logbook'!Y404=\"\",\"\",'2.Logbook'!Y404)","v":""},{"$f":"IF('2.Logbook'!Z404=\"\",\"\",'2.Logbook'!Z404)","v":""},{"$f":"IF('2.Logbook'!AA404=\"\",\"\",'2.Logbook'!AA404)","v":""},{"$f":"IF('2.Logbook'!AB404=\"\",\"\",'2.Logbook'!AB404)","v":""},{"$f":"IF('2.Logbook'!AC404=\"\",\"\",'2.Logbook'!AC404)","v":""},{"$f":"IF('2.Logbook'!AD404=\"\",\"\",'2.Logbook'!AD404)","v":""},{"$f":"IF('2.Logbook'!AE404=\"\",\"\",'2.Logbook'!AE404)","v":""},{"$f":"IF('2.Logbook'!AF404=\"\",\"\",'2.Logbook'!AF404)","v":""},{"$f":"IF('2.Logbook'!AG404=\"\",\"\",'2.Logbook'!AG404)","v":""}]
[{"$f":"IF('2.Logbook'!A405=\"\",\"\",'2.Logbook'!A405)","v":""},{"$f":"IF('2.Logbook'!B405=\"\",\"\",'2.Logbook'!B405)","v":""},{"$f":"IF('2.Logbook'!C405=\"\",\"\",'2.Logbook'!C405)","v":""},{"$f":"IF('2.Logbook'!D405=\"\",\"\",'2.Logbook'!D405)","v":""},{"$f":"IF('2.Logbook'!E405=\"\",\"\",'2.Logbook'!E405)","v":""},{"$f":"IF('2.Logbook'!F405=\"\",\"\",'2.Logbook'!F405)","v":""},{"$f":"IF('2.Logbook'!G405=\"\",\"\",'2.Logbook'!G405)","v":""},{"$f":"IF('2.Logbook'!H405=\"\",\"\",'2.Logbook'!H405)","v":""},{"$f":"IF('2.Logbook'!I405=\"\",\"\",'2.Logbook'!I405)","v":""},{"$f":"IF('2.Logbook'!J405=\"\",\"\",'2.Logbook'!J405)","v":""},{"$f":"IF('2.Logbook'!K405=\"\",\"\",'2.Logbook'!K405)","v":""},{"$f":"IF('2.Logbook'!L405=\"\",\"\",'2.Logbook'!L405)","v":""},{"$f":"IF('2.Logbook'!M405=\"\",\"\",'2.Logbook'!M405)","v":""},{"$f":"IF('2.Logbook'!N405=\"\",\"\",'2.Logbook'!N405)","v":""},{"$f":"IF('2.Logbook'!O405=\"\",\"\",'2.Logbook'!O405)","v":""},{"$f":"IF('2.Logbook'!P405=\"\",\"\",'2.Logbook'!P405)","v":""},{"$f":"IF('2.Logbook'!Q405=\"\",\"\",'2.Logbook'!Q405)","v":""},{"$f":"IF('2.Logbook'!R405=\"\",\"\",'2.Logbook'!R405)","v":""},{"$f":"IF('2.Logbook'!S405=\"\",\"\",'2.Logbook'!S405)","v":""},{"$f":"IF('2.Logbook'!T405=\"\",\"\",'2.Logbook'!T405)","v":""},{"$f":"IF('2.Logbook'!U405=\"\",\"\",'2.Logbook'!U405)","v":""},{"$f":"IF('2.Logbook'!V405=\"\",\"\",'2.Logbook'!V405)","v":""},{"$f":"IF('2.Logbook'!W405=\"\",\"\",'2.Logbook'!W405)","v":""},{"$f":"IF('2.Logbook'!X405=\"\",\"\",'2.Logbook'!X405)","v":""},{"$f":"IF('2.Logbook'!Y405=\"\",\"\",'2.Logbook'!Y405)","v":""},{"$f":"IF('2.Logbook'!Z405=\"\",\"\",'2.Logbook'!Z405)","v":""},{"$f":"IF('2.Logbook'!AA405=\"\",\"\",'2.Logbook'!AA405)","v":""},{"$f":"IF('2.Logbook'!AB405=\"\",\"\",'2.Logbook'!AB405)","v":""},{"$f":"IF('2.Logbook'!AC405=\"\",\"\",'2.Logbook'!AC405)","v":""},{"$f":"IF('2.Logbook'!AD405=\"\",\"\",'2.Logbook'!AD405)","v":""},{"$f":"IF('2.Logbook'!AE405=\"\",\"\",'2.Logbook'!AE405)","v":""},{"$f":"IF('2.Logbook'!AF405=\"\",\"\",'2.Logbook'!AF405)","v":""},{"$f":"IF('2.Logbook'!AG405=\"\",\"\",'2.Logbook'!AG405)","v":""}]
[{"$f":"IF('2.Logbook'!A406=\"\",\"\",'2.Logbook'!A406)","v":""},{"$f":"IF('2.Logbook'!B406=\"\",\"\",'2.Logbook'!B406)","v":""},{"$f":"IF('2.Logbook'!C406=\"\",\"\",'2.Logbook'!C406)","v":""},{"$f":"IF('2.Logbook'!D406=\"\",\"\",'2.Logbook'!D406)","v":""},{"$f":"IF('2.Logbook'!E406=\"\",\"\",'2.Logbook'!E406)","v":""},{"$f":"IF('2.Logbook'!F406=\"\",\"\",'2.Logbook'!F406)","v":""},{"$f":"IF('2.Logbook'!G406=\"\",\"\",'2.Logbook'!G406)","v":""},{"$f":"IF('2.Logbook'!H406=\"\",\"\",'2.Logbook'!H406)","v":""},{"$f":"IF('2.Logbook'!I406=\"\",\"\",'2.Logbook'!I406)","v":""},{"$f":"IF('2.Logbook'!J406=\"\",\"\",'2.Logbook'!J406)","v":""},{"$f":"IF('2.Logbook'!K406=\"\",\"\",'2.Logbook'!K406)","v":""},{"$f":"IF('2.Logbook'!L406=\"\",\"\",'2.Logbook'!L406)","v":""},{"$f":"IF('2.Logbook'!M406=\"\",\"\",'2.Logbook'!M406)","v":""},{"$f":"IF('2.Logbook'!N406=\"\",\"\",'2.Logbook'!N406)","v":""},{"$f":"IF('2.Logbook'!O406=\"\",\"\",'2.Logbook'!O406)","v":""},{"$f":"IF('2.Logbook'!P406=\"\",\"\",'2.Logbook'!P406)","v":""},{"$f":"IF('2.Logbook'!Q406=\"\",\"\",'2.Logbook'!Q406)","v":""},{"$f":"IF('2.Logbook'!R406=\"\",\"\",'2.Logbook'!R406)","v":""},{"$f":"IF('2.Logbook'!S406=\"\",\"\",'2.Logbook'!S406)","v":""},{"$f":"IF('2.Logbook'!T406=\"\",\"\",'2.Logbook'!T406)","v":""},{"$f":"IF('2.Logbook'!U406=\"\",\"\",'2.Logbook'!U406)","v":""},{"$f":"IF('2.Logbook'!V406=\"\",\"\",'2.Logbook'!V406)","v":""},{"$f":"IF('2.Logbook'!W406=\"\",\"\",'2.Logbook'!W406)","v":""},{"$f":"IF('2.Logbook'!X406=\"\",\"\",'2.Logbook'!X406)","v":""},{"$f":"IF('2.Logbook'!Y406=\"\",\"\",'2.Logbook'!Y406)","v":""},{"$f":"IF('2.Logbook'!Z406=\"\",\"\",'2.Logbook'!Z406)","v":""},{"$f":"IF('2.Logbook'!AA406=\"\",\"\",'2.Logbook'!AA406)","v":""},{"$f":"IF('2.Logbook'!AB406=\"\",\"\",'2.Logbook'!AB406)","v":""},{"$f":"IF('2.Logbook'!AC406=\"\",\"\",'2.Logbook'!AC406)","v":""},{"$f":"IF('2.Logbook'!AD406=\"\",\"\",'2.Logbook'!AD406)","v":""},{"$f":"IF('2.Logbook'!AE406=\"\",\"\",'2.Logbook'!AE406)","v":""},{"$f":"IF('2.Logbook'!AF406=\"\",\"\",'2.Logbook'!AF406)","v":""},{"$f":"IF('2.Logbook'!AG406=\"\",\"\",'2.Logbook'!AG406)","v":""}]
[{"$f":"IF('2.Logbook'!A407=\"\",\"\",'2.Logbook'!A407)","v":""},{"$f":"IF('2.Logbook'!B407=\"\",\"\",'2.Logbook'!B407)","v":""},{"$f":"IF('2.Logbook'!C407=\"\",\"\",'2.Logbook'!C407)","v":""},{"$f":"IF('2.Logbook'!D407=\"\",\"\",'2.Logbook'!D407)","v":""},{"$f":"IF('2.Logbook'!E407=\"\",\"\",'2.Logbook'!E407)","v":""},{"$f":"IF('2.Logbook'!F407=\"\",\"\",'2.Logbook'!F407)","v":""},{"$f":"IF('2.Logbook'!G407=\"\",\"\",'2.Logbook'!G407)","v":""},{"$f":"IF('2.Logbook'!H407=\"\",\"\",'2.Logbook'!H407)","v":""},{"$f":"IF('2.Logbook'!I407=\"\",\"\",'2.Logbook'!I407)","v":""},{"$f":"IF('2.Logbook'!J407=\"\",\"\",'2.Logbook'!J407)","v":""},{"$f":"IF('2.Logbook'!K407=\"\",\"\",'2.Logbook'!K407)","v":""},{"$f":"IF('2.Logbook'!L407=\"\",\"\",'2.Logbook'!L407)","v":""},{"$f":"IF('2.Logbook'!M407=\"\",\"\",'2.Logbook'!M407)","v":""},{"$f":"IF('2.Logbook'!N407=\"\",\"\",'2.Logbook'!N407)","v":""},{"$f":"IF('2.Logbook'!O407=\"\",\"\",'2.Logbook'!O407)","v":""},{"$f":"IF('2.Logbook'!P407=\"\",\"\",'2.Logbook'!P407)","v":""},{"$f":"IF('2.Logbook'!Q407=\"\",\"\",'2.Logbook'!Q407)","v":""},{"$f":"IF('2.Logbook'!R407=\"\",\"\",'2.Logbook'!R407)","v":""},{"$f":"IF('2.Logbook'!S407=\"\",\"\",'2.Logbook'!S407)","v":""},{"$f":"IF('2.Logbook'!T407=\"\",\"\",'2.Logbook'!T407)","v":""},{"$f":"IF('2.Logbook'!U407=\"\",\"\",'2.Logbook'!U407)","v":""},{"$f":"IF('2.Logbook'!V407=\"\",\"\",'2.Logbook'!V407)","v":""},{"$f":"IF('2.Logbook'!W407=\"\",\"\",'2.Logbook'!W407)","v":""},{"$f":"IF('2.Logbook'!X407=\"\",\"\",'2.Logbook'!X407)","v":""},{"$f":"IF('2.Logbook'!Y407=\"\",\"\",'2.Logbook'!Y407)","v":""},{"$f":"IF('2.Logbook'!Z407=\"\",\"\",'2.Logbook'!Z407)","v":""},{"$f":"IF('2.Logbook'!AA407=\"\",\"\",'2.Logbook'!AA407)","v":""},{"$f":"IF('2.Logbook'!AB407=\"\",\"\",'2.Logbook'!AB407)","v":""},{"$f":"IF('2.Logbook'!AC407=\"\",\"\",'2.Logbook'!AC407)","v":""},{"$f":"IF('2.Logbook'!AD407=\"\",\"\",'2.Logbook'!AD407)","v":""},{"$f":"IF('2.Logbook'!AE407=\"\",\"\",'2.Logbook'!AE407)","v":""},{"$f":"IF('2.Logbook'!AF407=\"\",\"\",'2.Logbook'!AF407)","v":""},{"$f":"IF('2.Logbook'!AG407=\"\",\"\",'2.Logbook'!AG407)","v":""}]
[{"$f":"IF('2.Logbook'!A408=\"\",\"\",'2.Logbook'!A408)","v":""},{"$f":"IF('2.Logbook'!B408=\"\",\"\",'2.Logbook'!B408)","v":""},{"$f":"IF('2.Logbook'!C408=\"\",\"\",'2.Logbook'!C408)","v":""},{"$f":"IF('2.Logbook'!D408=\"\",\"\",'2.Logbook'!D408)","v":""},{"$f":"IF('2.Logbook'!E408=\"\",\"\",'2.Logbook'!E408)","v":""},{"$f":"IF('2.Logbook'!F408=\"\",\"\",'2.Logbook'!F408)","v":""},{"$f":"IF('2.Logbook'!G408=\"\",\"\",'2.Logbook'!G408)","v":""},{"$f":"IF('2.Logbook'!H408=\"\",\"\",'2.Logbook'!H408)","v":""},{"$f":"IF('2.Logbook'!I408=\"\",\"\",'2.Logbook'!I408)","v":""},{"$f":"IF('2.Logbook'!J408=\"\",\"\",'2.Logbook'!J408)","v":""},{"$f":"IF('2.Logbook'!K408=\"\",\"\",'2.Logbook'!K408)","v":""},{"$f":"IF('2.Logbook'!L408=\"\",\"\",'2.Logbook'!L408)","v":""},{"$f":"IF('2.Logbook'!M408=\"\",\"\",'2.Logbook'!M408)","v":""},{"$f":"IF('2.Logbook'!N408=\"\",\"\",'2.Logbook'!N408)","v":""},{"$f":"IF('2.Logbook'!O408=\"\",\"\",'2.Logbook'!O408)","v":""},{"$f":"IF('2.Logbook'!P408=\"\",\"\",'2.Logbook'!P408)","v":""},{"$f":"IF('2.Logbook'!Q408=\"\",\"\",'2.Logbook'!Q408)","v":""},{"$f":"IF('2.Logbook'!R408=\"\",\"\",'2.Logbook'!R408)","v":""},{"$f":"IF('2.Logbook'!S408=\"\",\"\",'2.Logbook'!S408)","v":""},{"$f":"IF('2.Logbook'!T408=\"\",\"\",'2.Logbook'!T408)","v":""},{"$f":"IF('2.Logbook'!U408=\"\",\"\",'2.Logbook'!U408)","v":""},{"$f":"IF('2.Logbook'!V408=\"\",\"\",'2.Logbook'!V408)","v":""},{"$f":"IF('2.Logbook'!W408=\"\",\"\",'2.Logbook'!W408)","v":""},{"$f":"IF('2.Logbook'!X408=\"\",\"\",'2.Logbook'!X408)","v":""},{"$f":"IF('2.Logbook'!Y408=\"\",\"\",'2.Logbook'!Y408)","v":""},{"$f":"IF('2.Logbook'!Z408=\"\",\"\",'2.Logbook'!Z408)","v":""},{"$f":"IF('2.Logbook'!AA408=\"\",\"\",'2.Logbook'!AA408)","v":""},{"$f":"IF('2.Logbook'!AB408=\"\",\"\",'2.Logbook'!AB408)","v":""},{"$f":"IF('2.Logbook'!AC408=\"\",\"\",'2.Logbook'!AC408)","v":""},{"$f":"IF('2.Logbook'!AD408=\"\",\"\",'2.Logbook'!AD408)","v":""},{"$f":"IF('2.Logbook'!AE408=\"\",\"\",'2.Logbook'!AE408)","v":""},{"$f":"IF('2.Logbook'!AF408=\"\",\"\",'2.Logbook'!AF408)","v":""},{"$f":"IF('2.Logbook'!AG408=\"\",\"\",'2.Logbook'!AG408)","v":""}]
[{"$f":"IF('2.Logbook'!A409=\"\",\"\",'2.Logbook'!A409)","v":""},{"$f":"IF('2.Logbook'!B409=\"\",\"\",'2.Logbook'!B409)","v":""},{"$f":"IF('2.Logbook'!C409=\"\",\"\",'2.Logbook'!C409)","v":""},{"$f":"IF('2.Logbook'!D409=\"\",\"\",'2.Logbook'!D409)","v":""},{"$f":"IF('2.Logbook'!E409=\"\",\"\",'2.Logbook'!E409)","v":""},{"$f":"IF('2.Logbook'!F409=\"\",\"\",'2.Logbook'!F409)","v":""},{"$f":"IF('2.Logbook'!G409=\"\",\"\",'2.Logbook'!G409)","v":""},{"$f":"IF('2.Logbook'!H409=\"\",\"\",'2.Logbook'!H409)","v":""},{"$f":"IF('2.Logbook'!I409=\"\",\"\",'2.Logbook'!I409)","v":""},{"$f":"IF('2.Logbook'!J409=\"\",\"\",'2.Logbook'!J409)","v":""},{"$f":"IF('2.Logbook'!K409=\"\",\"\",'2.Logbook'!K409)","v":""},{"$f":"IF('2.Logbook'!L409=\"\",\"\",'2.Logbook'!L409)","v":""},{"$f":"IF('2.Logbook'!M409=\"\",\"\",'2.Logbook'!M409)","v":""},{"$f":"IF('2.Logbook'!N409=\"\",\"\",'2.Logbook'!N409)","v":""},{"$f":"IF('2.Logbook'!O409=\"\",\"\",'2.Logbook'!O409)","v":""},{"$f":"IF('2.Logbook'!P409=\"\",\"\",'2.Logbook'!P409)","v":""},{"$f":"IF('2.Logbook'!Q409=\"\",\"\",'2.Logbook'!Q409)","v":""},{"$f":"IF('2.Logbook'!R409=\"\",\"\",'2.Logbook'!R409)","v":""},{"$f":"IF('2.Logbook'!S409=\"\",\"\",'2.Logbook'!S409)","v":""},{"$f":"IF('2.Logbook'!T409=\"\",\"\",'2.Logbook'!T409)","v":""},{"$f":"IF('2.Logbook'!U409=\"\",\"\",'2.Logbook'!U409)","v":""},{"$f":"IF('2.Logbook'!V409=\"\",\"\",'2.Logbook'!V409)","v":""},{"$f":"IF('2.Logbook'!W409=\"\",\"\",'2.Logbook'!W409)","v":""},{"$f":"IF('2.Logbook'!X409=\"\",\"\",'2.Logbook'!X409)","v":""},{"$f":"IF('2.Logbook'!Y409=\"\",\"\",'2.Logbook'!Y409)","v":""},{"$f":"IF('2.Logbook'!Z409=\"\",\"\",'2.Logbook'!Z409)","v":""},{"$f":"IF('2.Logbook'!AA409=\"\",\"\",'2.Logbook'!AA409)","v":""},{"$f":"IF('2.Logbook'!AB409=\"\",\"\",'2.Logbook'!AB409)","v":""},{"$f":"IF('2.Logbook'!AC409=\"\",\"\",'2.Logbook'!AC409)","v":""},{"$f":"IF('2.Logbook'!AD409=\"\",\"\",'2.Logbook'!AD409)","v":""},{"$f":"IF('2.Logbook'!AE409=\"\",\"\",'2.Logbook'!AE409)","v":""},{"$f":"IF('2.Logbook'!AF409=\"\",\"\",'2.Logbook'!AF409)","v":""},{"$f":"IF('2.Logbook'!AG409=\"\",\"\",'2.Logbook'!AG409)","v":""}]
[{"$f":"IF('2.Logbook'!A410=\"\",\"\",'2.Logbook'!A410)","v":""},{"$f":"IF('2.Logbook'!B410=\"\",\"\",'2.Logbook'!B410)","v":""},{"$f":"IF('2.Logbook'!C410=\"\",\"\",'2.Logbook'!C410)","v":""},{"$f":"IF('2.Logbook'!D410=\"\",\"\",'2.Logbook'!D410)","v":""},{"$f":"IF('2.Logbook'!E410=\"\",\"\",'2.Logbook'!E410)","v":""},{"$f":"IF('2.Logbook'!F410=\"\",\"\",'2.Logbook'!F410)","v":""},{"$f":"IF('2.Logbook'!G410=\"\",\"\",'2.Logbook'!G410)","v":""},{"$f":"IF('2.Logbook'!H410=\"\",\"\",'2.Logbook'!H410)","v":""},{"$f":"IF('2.Logbook'!I410=\"\",\"\",'2.Logbook'!I410)","v":""},{"$f":"IF('2.Logbook'!J410=\"\",\"\",'2.Logbook'!J410)","v":""},{"$f":"IF('2.Logbook'!K410=\"\",\"\",'2.Logbook'!K410)","v":""},{"$f":"IF('2.Logbook'!L410=\"\",\"\",'2.Logbook'!L410)","v":""},{"$f":"IF('2.Logbook'!M410=\"\",\"\",'2.Logbook'!M410)","v":""},{"$f":"IF('2.Logbook'!N410=\"\",\"\",'2.Logbook'!N410)","v":""},{"$f":"IF('2.Logbook'!O410=\"\",\"\",'2.Logbook'!O410)","v":""},{"$f":"IF('2.Logbook'!P410=\"\",\"\",'2.Logbook'!P410)","v":""},{"$f":"IF('2.Logbook'!Q410=\"\",\"\",'2.Logbook'!Q410)","v":""},{"$f":"IF('2.Logbook'!R410=\"\",\"\",'2.Logbook'!R410)","v":""},{"$f":"IF('2.Logbook'!S410=\"\",\"\",'2.Logbook'!S410)","v":""},{"$f":"IF('2.Logbook'!T410=\"\",\"\",'2.Logbook'!T410)","v":""},{"$f":"IF('2.Logbook'!U410=\"\",\"\",'2.Logbook'!U410)","v":""},{"$f":"IF('2.Logbook'!V410=\"\",\"\",'2.Logbook'!V410)","v":""},{"$f":"IF('2.Logbook'!W410=\"\",\"\",'2.Logbook'!W410)","v":""},{"$f":"IF('2.Logbook'!X410=\"\",\"\",'2.Logbook'!X410)","v":""},{"$f":"IF('2.Logbook'!Y410=\"\",\"\",'2.Logbook'!Y410)","v":""},{"$f":"IF('2.Logbook'!Z410=\"\",\"\",'2.Logbook'!Z410)","v":""},{"$f":"IF('2.Logbook'!AA410=\"\",\"\",'2.Logbook'!AA410)","v":""},{"$f":"IF('2.Logbook'!AB410=\"\",\"\",'2.Logbook'!AB410)","v":""},{"$f":"IF('2.Logbook'!AC410=\"\",\"\",'2.Logbook'!AC410)","v":""},{"$f":"IF('2.Logbook'!AD410=\"\",\"\",'2.Logbook'!AD410)","v":""},{"$f":"IF('2.Logbook'!AE410=\"\",\"\",'2.Logbook'!AE410)","v":""},{"$f":"IF('2.Logbook'!AF410=\"\",\"\",'2.Logbook'!AF410)","v":""},{"$f":"IF('2.Logbook'!AG410=\"\",\"\",'2.Logbook'!AG410)","v":""}]
[{"$f":"IF('2.Logbook'!A411=\"\",\"\",'2.Logbook'!A411)","v":""},{"$f":"IF('2.Logbook'!B411=\"\",\"\",'2.Logbook'!B411)","v":""},{"$f":"IF('2.Logbook'!C411=\"\",\"\",'2.Logbook'!C411)","v":""},{"$f":"IF('2.Logbook'!D411=\"\",\"\",'2.Logbook'!D411)","v":""},{"$f":"IF('2.Logbook'!E411=\"\",\"\",'2.Logbook'!E411)","v":""},{"$f":"IF('2.Logbook'!F411=\"\",\"\",'2.Logbook'!F411)","v":""},{"$f":"IF('2.Logbook'!G411=\"\",\"\",'2.Logbook'!G411)","v":""},{"$f":"IF('2.Logbook'!H411=\"\",\"\",'2.Logbook'!H411)","v":""},{"$f":"IF('2.Logbook'!I411=\"\",\"\",'2.Logbook'!I411)","v":""},{"$f":"IF('2.Logbook'!J411=\"\",\"\",'2.Logbook'!J411)","v":""},{"$f":"IF('2.Logbook'!K411=\"\",\"\",'2.Logbook'!K411)","v":""},{"$f":"IF('2.Logbook'!L411=\"\",\"\",'2.Logbook'!L411)","v":""},{"$f":"IF('2.Logbook'!M411=\"\",\"\",'2.Logbook'!M411)","v":""},{"$f":"IF('2.Logbook'!N411=\"\",\"\",'2.Logbook'!N411)","v":""},{"$f":"IF('2.Logbook'!O411=\"\",\"\",'2.Logbook'!O411)","v":""},{"$f":"IF('2.Logbook'!P411=\"\",\"\",'2.Logbook'!P411)","v":""},{"$f":"IF('2.Logbook'!Q411=\"\",\"\",'2.Logbook'!Q411)","v":""},{"$f":"IF('2.Logbook'!R411=\"\",\"\",'2.Logbook'!R411)","v":""},{"$f":"IF('2.Logbook'!S411=\"\",\"\",'2.Logbook'!S411)","v":""},{"$f":"IF('2.Logbook'!T411=\"\",\"\",'2.Logbook'!T411)","v":""},{"$f":"IF('2.Logbook'!U411=\"\",\"\",'2.Logbook'!U411)","v":""},{"$f":"IF('2.Logbook'!V411=\"\",\"\",'2.Logbook'!V411)","v":""},{"$f":"IF('2.Logbook'!W411=\"\",\"\",'2.Logbook'!W411)","v":""},{"$f":"IF('2.Logbook'!X411=\"\",\"\",'2.Logbook'!X411)","v":""},{"$f":"IF('2.Logbook'!Y411=\"\",\"\",'2.Logbook'!Y411)","v":""},{"$f":"IF('2.Logbook'!Z411=\"\",\"\",'2.Logbook'!Z411)","v":""},{"$f":"IF('2.Logbook'!AA411=\"\",\"\",'2.Logbook'!AA411)","v":""},{"$f":"IF('2.Logbook'!AB411=\"\",\"\",'2.Logbook'!AB411)","v":""},{"$f":"IF('2.Logbook'!AC411=\"\",\"\",'2.Logbook'!AC411)","v":""},{"$f":"IF('2.Logbook'!AD411=\"\",\"\",'2.Logbook'!AD411)","v":""},{"$f":"IF('2.Logbook'!AE411=\"\",\"\",'2.Logbook'!AE411)","v":""},{"$f":"IF('2.Logbook'!AF411=\"\",\"\",'2.Logbook'!AF411)","v":""},{"$f":"IF('2.Logbook'!AG411=\"\",\"\",'2.Logbook'!AG411)","v":""}]
[{"$f":"IF('2.Logbook'!A412=\"\",\"\",'2.Logbook'!A412)","v":""},{"$f":"IF('2.Logbook'!B412=\"\",\"\",'2.Logbook'!B412)","v":""},{"$f":"IF('2.Logbook'!C412=\"\",\"\",'2.Logbook'!C412)","v":""},{"$f":"IF('2.Logbook'!D412=\"\",\"\",'2.Logbook'!D412)","v":""},{"$f":"IF('2.Logbook'!E412=\"\",\"\",'2.Logbook'!E412)","v":""},{"$f":"IF('2.Logbook'!F412=\"\",\"\",'2.Logbook'!F412)","v":""},{"$f":"IF('2.Logbook'!G412=\"\",\"\",'2.Logbook'!G412)","v":""},{"$f":"IF('2.Logbook'!H412=\"\",\"\",'2.Logbook'!H412)","v":""},{"$f":"IF('2.Logbook'!I412=\"\",\"\",'2.Logbook'!I412)","v":""},{"$f":"IF('2.Logbook'!J412=\"\",\"\",'2.Logbook'!J412)","v":""},{"$f":"IF('2.Logbook'!K412=\"\",\"\",'2.Logbook'!K412)","v":""},{"$f":"IF('2.Logbook'!L412=\"\",\"\",'2.Logbook'!L412)","v":""},{"$f":"IF('2.Logbook'!M412=\"\",\"\",'2.Logbook'!M412)","v":""},{"$f":"IF('2.Logbook'!N412=\"\",\"\",'2.Logbook'!N412)","v":""},{"$f":"IF('2.Logbook'!O412=\"\",\"\",'2.Logbook'!O412)","v":""},{"$f":"IF('2.Logbook'!P412=\"\",\"\",'2.Logbook'!P412)","v":""},{"$f":"IF('2.Logbook'!Q412=\"\",\"\",'2.Logbook'!Q412)","v":""},{"$f":"IF('2.Logbook'!R412=\"\",\"\",'2.Logbook'!R412)","v":""},{"$f":"IF('2.Logbook'!S412=\"\",\"\",'2.Logbook'!S412)","v":""},{"$f":"IF('2.Logbook'!T412=\"\",\"\",'2.Logbook'!T412)","v":""},{"$f":"IF('2.Logbook'!U412=\"\",\"\",'2.Logbook'!U412)","v":""},{"$f":"IF('2.Logbook'!V412=\"\",\"\",'2.Logbook'!V412)","v":""},{"$f":"IF('2.Logbook'!W412=\"\",\"\",'2.Logbook'!W412)","v":""},{"$f":"IF('2.Logbook'!X412=\"\",\"\",'2.Logbook'!X412)","v":""},{"$f":"IF('2.Logbook'!Y412=\"\",\"\",'2.Logbook'!Y412)","v":""},{"$f":"IF('2.Logbook'!Z412=\"\",\"\",'2.Logbook'!Z412)","v":""},{"$f":"IF('2.Logbook'!AA412=\"\",\"\",'2.Logbook'!AA412)","v":""},{"$f":"IF('2.Logbook'!AB412=\"\",\"\",'2.Logbook'!AB412)","v":""},{"$f":"IF('2.Logbook'!AC412=\"\",\"\",'2.Logbook'!AC412)","v":""},{"$f":"IF('2.Logbook'!AD412=\"\",\"\",'2.Logbook'!AD412)","v":""},{"$f":"IF('2.Logbook'!AE412=\"\",\"\",'2.Logbook'!AE412)","v":""},{"$f":"IF('2.Logbook'!AF412=\"\",\"\",'2.Logbook'!AF412)","v":""},{"$f":"IF('2.Logbook'!AG412=\"\",\"\",'2.Logbook'!AG412)","v":""}]
[{"$f":"IF('2.Logbook'!A413=\"\",\"\",'2.Logbook'!A413)","v":""},{"$f":"IF('2.Logbook'!B413=\"\",\"\",'2.Logbook'!B413)","v":""},{"$f":"IF('2.Logbook'!C413=\"\",\"\",'2.Logbook'!C413)","v":""},{"$f":"IF('2.Logbook'!D413=\"\",\"\",'2.Logbook'!D413)","v":""},{"$f":"IF('2.Logbook'!E413=\"\",\"\",'2.Logbook'!E413)","v":""},{"$f":"IF('2.Logbook'!F413=\"\",\"\",'2.Logbook'!F413)","v":""},{"$f":"IF('2.Logbook'!G413=\"\",\"\",'2.Logbook'!G413)","v":""},{"$f":"IF('2.Logbook'!H413=\"\",\"\",'2.Logbook'!H413)","v":""},{"$f":"IF('2.Logbook'!I413=\"\",\"\",'2.Logbook'!I413)","v":""},{"$f":"IF('2.Logbook'!J413=\"\",\"\",'2.Logbook'!J413)","v":""},{"$f":"IF('2.Logbook'!K413=\"\",\"\",'2.Logbook'!K413)","v":""},{"$f":"IF('2.Logbook'!L413=\"\",\"\",'2.Logbook'!L413)","v":""},{"$f":"IF('2.Logbook'!M413=\"\",\"\",'2.Logbook'!M413)","v":""},{"$f":"IF('2.Logbook'!N413=\"\",\"\",'2.Logbook'!N413)","v":""},{"$f":"IF('2.Logbook'!O413=\"\",\"\",'2.Logbook'!O413)","v":""},{"$f":"IF('2.Logbook'!P413=\"\",\"\",'2.Logbook'!P413)","v":""},{"$f":"IF('2.Logbook'!Q413=\"\",\"\",'2.Logbook'!Q413)","v":""},{"$f":"IF('2.Logbook'!R413=\"\",\"\",'2.Logbook'!R413)","v":""},{"$f":"IF('2.Logbook'!S413=\"\",\"\",'2.Logbook'!S413)","v":""},{"$f":"IF('2.Logbook'!T413=\"\",\"\",'2.Logbook'!T413)","v":""},{"$f":"IF('2.Logbook'!U413=\"\",\"\",'2.Logbook'!U413)","v":""},{"$f":"IF('2.Logbook'!V413=\"\",\"\",'2.Logbook'!V413)","v":""},{"$f":"IF('2.Logbook'!W413=\"\",\"\",'2.Logbook'!W413)","v":""},{"$f":"IF('2.Logbook'!X413=\"\",\"\",'2.Logbook'!X413)","v":""},{"$f":"IF('2.Logbook'!Y413=\"\",\"\",'2.Logbook'!Y413)","v":""},{"$f":"IF('2.Logbook'!Z413=\"\",\"\",'2.Logbook'!Z413)","v":""},{"$f":"IF('2.Logbook'!AA413=\"\",\"\",'2.Logbook'!AA413)","v":""},{"$f":"IF('2.Logbook'!AB413=\"\",\"\",'2.Logbook'!AB413)","v":""},{"$f":"IF('2.Logbook'!AC413=\"\",\"\",'2.Logbook'!AC413)","v":""},{"$f":"IF('2.Logbook'!AD413=\"\",\"\",'2.Logbook'!AD413)","v":""},{"$f":"IF('2.Logbook'!AE413=\"\",\"\",'2.Logbook'!AE413)","v":""},{"$f":"IF('2.Logbook'!AF413=\"\",\"\",'2.Logbook'!AF413)","v":""},{"$f":"IF('2.Logbook'!AG413=\"\",\"\",'2.Logbook'!AG413)","v":""}]
[{"$f":"IF('2.Logbook'!A414=\"\",\"\",'2.Logbook'!A414)","v":""},{"$f":"IF('2.Logbook'!B414=\"\",\"\",'2.Logbook'!B414)","v":""},{"$f":"IF('2.Logbook'!C414=\"\",\"\",'2.Logbook'!C414)","v":""},{"$f":"IF('2.Logbook'!D414=\"\",\"\",'2.Logbook'!D414)","v":""},{"$f":"IF('2.Logbook'!E414=\"\",\"\",'2.Logbook'!E414)","v":""},{"$f":"IF('2.Logbook'!F414=\"\",\"\",'2.Logbook'!F414)","v":""},{"$f":"IF('2.Logbook'!G414=\"\",\"\",'2.Logbook'!G414)","v":""},{"$f":"IF('2.Logbook'!H414=\"\",\"\",'2.Logbook'!H414)","v":""},{"$f":"IF('2.Logbook'!I414=\"\",\"\",'2.Logbook'!I414)","v":""},{"$f":"IF('2.Logbook'!J414=\"\",\"\",'2.Logbook'!J414)","v":""},{"$f":"IF('2.Logbook'!K414=\"\",\"\",'2.Logbook'!K414)","v":""},{"$f":"IF('2.Logbook'!L414=\"\",\"\",'2.Logbook'!L414)","v":""},{"$f":"IF('2.Logbook'!M414=\"\",\"\",'2.Logbook'!M414)","v":""},{"$f":"IF('2.Logbook'!N414=\"\",\"\",'2.Logbook'!N414)","v":""},{"$f":"IF('2.Logbook'!O414=\"\",\"\",'2.Logbook'!O414)","v":""},{"$f":"IF('2.Logbook'!P414=\"\",\"\",'2.Logbook'!P414)","v":""},{"$f":"IF('2.Logbook'!Q414=\"\",\"\",'2.Logbook'!Q414)","v":""},{"$f":"IF('2.Logbook'!R414=\"\",\"\",'2.Logbook'!R414)","v":""},{"$f":"IF('2.Logbook'!S414=\"\",\"\",'2.Logbook'!S414)","v":""},{"$f":"IF('2.Logbook'!T414=\"\",\"\",'2.Logbook'!T414)","v":""},{"$f":"IF('2.Logbook'!U414=\"\",\"\",'2.Logbook'!U414)","v":""},{"$f":"IF('2.Logbook'!V414=\"\",\"\",'2.Logbook'!V414)","v":""},{"$f":"IF('2.Logbook'!W414=\"\",\"\",'2.Logbook'!W414)","v":""},{"$f":"IF('2.Logbook'!X414=\"\",\"\",'2.Logbook'!X414)","v":""},{"$f":"IF('2.Logbook'!Y414=\"\",\"\",'2.Logbook'!Y414)","v":""},{"$f":"IF('2.Logbook'!Z414=\"\",\"\",'2.Logbook'!Z414)","v":""},{"$f":"IF('2.Logbook'!AA414=\"\",\"\",'2.Logbook'!AA414)","v":""},{"$f":"IF('2.Logbook'!AB414=\"\",\"\",'2.Logbook'!AB414)","v":""},{"$f":"IF('2.Logbook'!AC414=\"\",\"\",'2.Logbook'!AC414)","v":""},{"$f":"IF('2.Logbook'!AD414=\"\",\"\",'2.Logbook'!AD414)","v":""},{"$f":"IF('2.Logbook'!AE414=\"\",\"\",'2.Logbook'!AE414)","v":""},{"$f":"IF('2.Logbook'!AF414=\"\",\"\",'2.Logbook'!AF414)","v":""},{"$f":"IF('2.Logbook'!AG414=\"\",\"\",'2.Logbook'!AG414)","v":""}]
[{"$f":"IF('2.Logbook'!A415=\"\",\"\",'2.Logbook'!A415)","v":""},{"$f":"IF('2.Logbook'!B415=\"\",\"\",'2.Logbook'!B415)","v":""},{"$f":"IF('2.Logbook'!C415=\"\",\"\",'2.Logbook'!C415)","v":""},{"$f":"IF('2.Logbook'!D415=\"\",\"\",'2.Logbook'!D415)","v":""},{"$f":"IF('2.Logbook'!E415=\"\",\"\",'2.Logbook'!E415)","v":""},{"$f":"IF('2.Logbook'!F415=\"\",\"\",'2.Logbook'!F415)","v":""},{"$f":"IF('2.Logbook'!G415=\"\",\"\",'2.Logbook'!G415)","v":""},{"$f":"IF('2.Logbook'!H415=\"\",\"\",'2.Logbook'!H415)","v":""},{"$f":"IF('2.Logbook'!I415=\"\",\"\",'2.Logbook'!I415)","v":""},{"$f":"IF('2.Logbook'!J415=\"\",\"\",'2.Logbook'!J415)","v":""},{"$f":"IF('2.Logbook'!K415=\"\",\"\",'2.Logbook'!K415)","v":""},{"$f":"IF('2.Logbook'!L415=\"\",\"\",'2.Logbook'!L415)","v":""},{"$f":"IF('2.Logbook'!M415=\"\",\"\",'2.Logbook'!M415)","v":""},{"$f":"IF('2.Logbook'!N415=\"\",\"\",'2.Logbook'!N415)","v":""},{"$f":"IF('2.Logbook'!O415=\"\",\"\",'2.Logbook'!O415)","v":""},{"$f":"IF('2.Logbook'!P415=\"\",\"\",'2.Logbook'!P415)","v":""},{"$f":"IF('2.Logbook'!Q415=\"\",\"\",'2.Logbook'!Q415)","v":""},{"$f":"IF('2.Logbook'!R415=\"\",\"\",'2.Logbook'!R415)","v":""},{"$f":"IF('2.Logbook'!S415=\"\",\"\",'2.Logbook'!S415)","v":""},{"$f":"IF('2.Logbook'!T415=\"\",\"\",'2.Logbook'!T415)","v":""},{"$f":"IF('2.Logbook'!U415=\"\",\"\",'2.Logbook'!U415)","v":""},{"$f":"IF('2.Logbook'!V415=\"\",\"\",'2.Logbook'!V415)","v":""},{"$f":"IF('2.Logbook'!W415=\"\",\"\",'2.Logbook'!W415)","v":""},{"$f":"IF('2.Logbook'!X415=\"\",\"\",'2.Logbook'!X415)","v":""},{"$f":"IF('2.Logbook'!Y415=\"\",\"\",'2.Logbook'!Y415)","v":""},{"$f":"IF('2.Logbook'!Z415=\"\",\"\",'2.Logbook'!Z415)","v":""},{"$f":"IF('2.Logbook'!AA415=\"\",\"\",'2.Logbook'!AA415)","v":""},{"$f":"IF('2.Logbook'!AB415=\"\",\"\",'2.Logbook'!AB415)","v":""},{"$f":"IF('2.Logbook'!AC415=\"\",\"\",'2.Logbook'!AC415)","v":""},{"$f":"IF('2.Logbook'!AD415=\"\",\"\",'2.Logbook'!AD415)","v":""},{"$f":"IF('2.Logbook'!AE415=\"\",\"\",'2.Logbook'!AE415)","v":""},{"$f":"IF('2.Logbook'!AF415=\"\",\"\",'2.Logbook'!AF415)","v":""},{"$f":"IF('2.Logbook'!AG415=\"\",\"\",'2.Logbook'!AG415)","v":""}]
[{"$f":"IF('2.Logbook'!A416=\"\",\"\",'2.Logbook'!A416)","v":""},{"$f":"IF('2.Logbook'!B416=\"\",\"\",'2.Logbook'!B416)","v":""},{"$f":"IF('2.Logbook'!C416=\"\",\"\",'2.Logbook'!C416)","v":""},{"$f":"IF('2.Logbook'!D416=\"\",\"\",'2.Logbook'!D416)","v":""},{"$f":"IF('2.Logbook'!E416=\"\",\"\",'2.Logbook'!E416)","v":""},{"$f":"IF('2.Logbook'!F416=\"\",\"\",'2.Logbook'!F416)","v":""},{"$f":"IF('2.Logbook'!G416=\"\",\"\",'2.Logbook'!G416)","v":""},{"$f":"IF('2.Logbook'!H416=\"\",\"\",'2.Logbook'!H416)","v":""},{"$f":"IF('2.Logbook'!I416=\"\",\"\",'2.Logbook'!I416)","v":""},{"$f":"IF('2.Logbook'!J416=\"\",\"\",'2.Logbook'!J416)","v":""},{"$f":"IF('2.Logbook'!K416=\"\",\"\",'2.Logbook'!K416)","v":""},{"$f":"IF('2.Logbook'!L416=\"\",\"\",'2.Logbook'!L416)","v":""},{"$f":"IF('2.Logbook'!M416=\"\",\"\",'2.Logbook'!M416)","v":""},{"$f":"IF('2.Logbook'!N416=\"\",\"\",'2.Logbook'!N416)","v":""},{"$f":"IF('2.Logbook'!O416=\"\",\"\",'2.Logbook'!O416)","v":""},{"$f":"IF('2.Logbook'!P416=\"\",\"\",'2.Logbook'!P416)","v":""},{"$f":"IF('2.Logbook'!Q416=\"\",\"\",'2.Logbook'!Q416)","v":""},{"$f":"IF('2.Logbook'!R416=\"\",\"\",'2.Logbook'!R416)","v":""},{"$f":"IF('2.Logbook'!S416=\"\",\"\",'2.Logbook'!S416)","v":""},{"$f":"IF('2.Logbook'!T416=\"\",\"\",'2.Logbook'!T416)","v":""},{"$f":"IF('2.Logbook'!U416=\"\",\"\",'2.Logbook'!U416)","v":""},{"$f":"IF('2.Logbook'!V416=\"\",\"\",'2.Logbook'!V416)","v":""},{"$f":"IF('2.Logbook'!W416=\"\",\"\",'2.Logbook'!W416)","v":""},{"$f":"IF('2.Logbook'!X416=\"\",\"\",'2.Logbook'!X416)","v":""},{"$f":"IF('2.Logbook'!Y416=\"\",\"\",'2.Logbook'!Y416)","v":""},{"$f":"IF('2.Logbook'!Z416=\"\",\"\",'2.Logbook'!Z416)","v":""},{"$f":"IF('2.Logbook'!AA416=\"\",\"\",'2.Logbook'!AA416)","v":""},{"$f":"IF('2.Logbook'!AB416=\"\",\"\",'2.Logbook'!AB416)","v":""},{"$f":"IF('2.Logbook'!AC416=\"\",\"\",'2.Logbook'!AC416)","v":""},{"$f":"IF('2.Logbook'!AD416=\"\",\"\",'2.Logbook'!AD416)","v":""},{"$f":"IF('2.Logbook'!AE416=\"\",\"\",'2.Logbook'!AE416)","v":""},{"$f":"IF('2.Logbook'!AF416=\"\",\"\",'2.Logbook'!AF416)","v":""},{"$f":"IF('2.Logbook'!AG416=\"\",\"\",'2.Logbook'!AG416)","v":""}]
[{"$f":"IF('2.Logbook'!A417=\"\",\"\",'2.Logbook'!A417)","v":""},{"$f":"IF('2.Logbook'!B417=\"\",\"\",'2.Logbook'!B417)","v":""},{"$f":"IF('2.Logbook'!C417=\"\",\"\",'2.Logbook'!C417)","v":""},{"$f":"IF('2.Logbook'!D417=\"\",\"\",'2.Logbook'!D417)","v":""},{"$f":"IF('2.Logbook'!E417=\"\",\"\",'2.Logbook'!E417)","v":""},{"$f":"IF('2.Logbook'!F417=\"\",\"\",'2.Logbook'!F417)","v":""},{"$f":"IF('2.Logbook'!G417=\"\",\"\",'2.Logbook'!G417)","v":""},{"$f":"IF('2.Logbook'!H417=\"\",\"\",'2.Logbook'!H417)","v":""},{"$f":"IF('2.Logbook'!I417=\"\",\"\",'2.Logbook'!I417)","v":""},{"$f":"IF('2.Logbook'!J417=\"\",\"\",'2.Logbook'!J417)","v":""},{"$f":"IF('2.Logbook'!K417=\"\",\"\",'2.Logbook'!K417)","v":""},{"$f":"IF('2.Logbook'!L417=\"\",\"\",'2.Logbook'!L417)","v":""},{"$f":"IF('2.Logbook'!M417=\"\",\"\",'2.Logbook'!M417)","v":""},{"$f":"IF('2.Logbook'!N417=\"\",\"\",'2.Logbook'!N417)","v":""},{"$f":"IF('2.Logbook'!O417=\"\",\"\",'2.Logbook'!O417)","v":""},{"$f":"IF('2.Logbook'!P417=\"\",\"\",'2.Logbook'!P417)","v":""},{"$f":"IF('2.Logbook'!Q417=\"\",\"\",'2.Logbook'!Q417)","v":""},{"$f":"IF('2.Logbook'!R417=\"\",\"\",'2.Logbook'!R417)","v":""},{"$f":"IF('2.Logbook'!S417=\"\",\"\",'2.Logbook'!S417)","v":""},{"$f":"IF('2.Logbook'!T417=\"\",\"\",'2.Logbook'!T417)","v":""},{"$f":"IF('2.Logbook'!U417=\"\",\"\",'2.Logbook'!U417)","v":""},{"$f":"IF('2.Logbook'!V417=\"\",\"\",'2.Logbook'!V417)","v":""},{"$f":"IF('2.Logbook'!W417=\"\",\"\",'2.Logbook'!W417)","v":""},{"$f":"IF('2.Logbook'!X417=\"\",\"\",'2.Logbook'!X417)","v":""},{"$f":"IF('2.Logbook'!Y417=\"\",\"\",'2.Logbook'!Y417)","v":""},{"$f":"IF('2.Logbook'!Z417=\"\",\"\",'2.Logbook'!Z417)","v":""},{"$f":"IF('2.Logbook'!AA417=\"\",\"\",'2.Logbook'!AA417)","v":""},{"$f":"IF('2.Logbook'!AB417=\"\",\"\",'2.Logbook'!AB417)","v":""},{"$f":"IF('2.Logbook'!AC417=\"\",\"\",'2.Logbook'!AC417)","v":""},{"$f":"IF('2.Logbook'!AD417=\"\",\"\",'2.Logbook'!AD417)","v":""},{"$f":"IF('2.Logbook'!AE417=\"\",\"\",'2.Logbook'!AE417)","v":""},{"$f":"IF('2.Logbook'!AF417=\"\",\"\",'2.Logbook'!AF417)","v":""},{"$f":"IF('2.Logbook'!AG417=\"\",\"\",'2.Logbook'!AG417)","v":""}]
[{"$f":"IF('2.Logbook'!A418=\"\",\"\",'2.Logbook'!A418)","v":""},{"$f":"IF('2.Logbook'!B418=\"\",\"\",'2.Logbook'!B418)","v":""},{"$f":"IF('2.Logbook'!C418=\"\",\"\",'2.Logbook'!C418)","v":""},{"$f":"IF('2.Logbook'!D418=\"\",\"\",'2.Logbook'!D418)","v":""},{"$f":"IF('2.Logbook'!E418=\"\",\"\",'2.Logbook'!E418)","v":""},{"$f":"IF('2.Logbook'!F418=\"\",\"\",'2.Logbook'!F418)","v":""},{"$f":"IF('2.Logbook'!G418=\"\",\"\",'2.Logbook'!G418)","v":""},{"$f":"IF('2.Logbook'!H418=\"\",\"\",'2.Logbook'!H418)","v":""},{"$f":"IF('2.Logbook'!I418=\"\",\"\",'2.Logbook'!I418)","v":""},{"$f":"IF('2.Logbook'!J418=\"\",\"\",'2.Logbook'!J418)","v":""},{"$f":"IF('2.Logbook'!K418=\"\",\"\",'2.Logbook'!K418)","v":""},{"$f":"IF('2.Logbook'!L418=\"\",\"\",'2.Logbook'!L418)","v":""},{"$f":"IF('2.Logbook'!M418=\"\",\"\",'2.Logbook'!M418)","v":""},{"$f":"IF('2.Logbook'!N418=\"\",\"\",'2.Logbook'!N418)","v":""},{"$f":"IF('2.Logbook'!O418=\"\",\"\",'2.Logbook'!O418)","v":""},{"$f":"IF('2.Logbook'!P418=\"\",\"\",'2.Logbook'!P418)","v":""},{"$f":"IF('2.Logbook'!Q418=\"\",\"\",'2.Logbook'!Q418)","v":""},{"$f":"IF('2.Logbook'!R418=\"\",\"\",'2.Logbook'!R418)","v":""},{"$f":"IF('2.Logbook'!S418=\"\",\"\",'2.Logbook'!S418)","v":""},{"$f":"IF('2.Logbook'!T418=\"\",\"\",'2.Logbook'!T418)","v":""},{"$f":"IF('2.Logbook'!U418=\"\",\"\",'2.Logbook'!U418)","v":""},{"$f":"IF('2.Logbook'!V418=\"\",\"\",'2.Logbook'!V418)","v":""},{"$f":"IF('2.Logbook'!W418=\"\",\"\",'2.Logbook'!W418)","v":""},{"$f":"IF('2.Logbook'!X418=\"\",\"\",'2.Logbook'!X418)","v":""},{"$f":"IF('2.Logbook'!Y418=\"\",\"\",'2.Logbook'!Y418)","v":""},{"$f":"IF('2.Logbook'!Z418=\"\",\"\",'2.Logbook'!Z418)","v":""},{"$f":"IF('2.Logbook'!AA418=\"\",\"\",'2.Logbook'!AA418)","v":""},{"$f":"IF('2.Logbook'!AB418=\"\",\"\",'2.Logbook'!AB418)","v":""},{"$f":"IF('2.Logbook'!AC418=\"\",\"\",'2.Logbook'!AC418)","v":""},{"$f":"IF('2.Logbook'!AD418=\"\",\"\",'2.Logbook'!AD418)","v":""},{"$f":"IF('2.Logbook'!AE418=\"\",\"\",'2.Logbook'!AE418)","v":""},{"$f":"IF('2.Logbook'!AF418=\"\",\"\",'2.Logbook'!AF418)","v":""},{"$f":"IF('2.Logbook'!AG418=\"\",\"\",'2.Logbook'!AG418)","v":""}]
[{"$f":"IF('2.Logbook'!A419=\"\",\"\",'2.Logbook'!A419)","v":""},{"$f":"IF('2.Logbook'!B419=\"\",\"\",'2.Logbook'!B419)","v":""},{"$f":"IF('2.Logbook'!C419=\"\",\"\",'2.Logbook'!C419)","v":""},{"$f":"IF('2.Logbook'!D419=\"\",\"\",'2.Logbook'!D419)","v":""},{"$f":"IF('2.Logbook'!E419=\"\",\"\",'2.Logbook'!E419)","v":""},{"$f":"IF('2.Logbook'!F419=\"\",\"\",'2.Logbook'!F419)","v":""},{"$f":"IF('2.Logbook'!G419=\"\",\"\",'2.Logbook'!G419)","v":""},{"$f":"IF('2.Logbook'!H419=\"\",\"\",'2.Logbook'!H419)","v":""},{"$f":"IF('2.Logbook'!I419=\"\",\"\",'2.Logbook'!I419)","v":""},{"$f":"IF('2.Logbook'!J419=\"\",\"\",'2.Logbook'!J419)","v":""},{"$f":"IF('2.Logbook'!K419=\"\",\"\",'2.Logbook'!K419)","v":""},{"$f":"IF('2.Logbook'!L419=\"\",\"\",'2.Logbook'!L419)","v":""},{"$f":"IF('2.Logbook'!M419=\"\",\"\",'2.Logbook'!M419)","v":""},{"$f":"IF('2.Logbook'!N419=\"\",\"\",'2.Logbook'!N419)","v":""},{"$f":"IF('2.Logbook'!O419=\"\",\"\",'2.Logbook'!O419)","v":""},{"$f":"IF('2.Logbook'!P419=\"\",\"\",'2.Logbook'!P419)","v":""},{"$f":"IF('2.Logbook'!Q419=\"\",\"\",'2.Logbook'!Q419)","v":""},{"$f":"IF('2.Logbook'!R419=\"\",\"\",'2.Logbook'!R419)","v":""},{"$f":"IF('2.Logbook'!S419=\"\",\"\",'2.Logbook'!S419)","v":""},{"$f":"IF('2.Logbook'!T419=\"\",\"\",'2.Logbook'!T419)","v":""},{"$f":"IF('2.Logbook'!U419=\"\",\"\",'2.Logbook'!U419)","v":""},{"$f":"IF('2.Logbook'!V419=\"\",\"\",'2.Logbook'!V419)","v":""},{"$f":"IF('2.Logbook'!W419=\"\",\"\",'2.Logbook'!W419)","v":""},{"$f":"IF('2.Logbook'!X419=\"\",\"\",'2.Logbook'!X419)","v":""},{"$f":"IF('2.Logbook'!Y419=\"\",\"\",'2.Logbook'!Y419)","v":""},{"$f":"IF('2.Logbook'!Z419=\"\",\"\",'2.Logbook'!Z419)","v":""},{"$f":"IF('2.Logbook'!AA419=\"\",\"\",'2.Logbook'!AA419)","v":""},{"$f":"IF('2.Logbook'!AB419=\"\",\"\",'2.Logbook'!AB419)","v":""},{"$f":"IF('2.Logbook'!AC419=\"\",\"\",'2.Logbook'!AC419)","v":""},{"$f":"IF('2.Logbook'!AD419=\"\",\"\",'2.Logbook'!AD419)","v":""},{"$f":"IF('2.Logbook'!AE419=\"\",\"\",'2.Logbook'!AE419)","v":""},{"$f":"IF('2.Logbook'!AF419=\"\",\"\",'2.Logbook'!AF419)","v":""},{"$f":"IF('2.Logbook'!AG419=\"\",\"\",'2.Logbook'!AG419)","v":""}]
[{"$f":"IF('2.Logbook'!A420=\"\",\"\",'2.Logbook'!A420)","v":""},{"$f":"IF('2.Logbook'!B420=\"\",\"\",'2.Logbook'!B420)","v":""},{"$f":"IF('2.Logbook'!C420=\"\",\"\",'2.Logbook'!C420)","v":""},{"$f":"IF('2.Logbook'!D420=\"\",\"\",'2.Logbook'!D420)","v":""},{"$f":"IF('2.Logbook'!E420=\"\",\"\",'2.Logbook'!E420)","v":""},{"$f":"IF('2.Logbook'!F420=\"\",\"\",'2.Logbook'!F420)","v":""},{"$f":"IF('2.Logbook'!G420=\"\",\"\",'2.Logbook'!G420)","v":""},{"$f":"IF('2.Logbook'!H420=\"\",\"\",'2.Logbook'!H420)","v":""},{"$f":"IF('2.Logbook'!I420=\"\",\"\",'2.Logbook'!I420)","v":""},{"$f":"IF('2.Logbook'!J420=\"\",\"\",'2.Logbook'!J420)","v":""},{"$f":"IF('2.Logbook'!K420=\"\",\"\",'2.Logbook'!K420)","v":""},{"$f":"IF('2.Logbook'!L420=\"\",\"\",'2.Logbook'!L420)","v":""},{"$f":"IF('2.Logbook'!M420=\"\",\"\",'2.Logbook'!M420)","v":""},{"$f":"IF('2.Logbook'!N420=\"\",\"\",'2.Logbook'!N420)","v":""},{"$f":"IF('2.Logbook'!O420=\"\",\"\",'2.Logbook'!O420)","v":""},{"$f":"IF('2.Logbook'!P420=\"\",\"\",'2.Logbook'!P420)","v":""},{"$f":"IF('2.Logbook'!Q420=\"\",\"\",'2.Logbook'!Q420)","v":""},{"$f":"IF('2.Logbook'!R420=\"\",\"\",'2.Logbook'!R420)","v":""},{"$f":"IF('2.Logbook'!S420=\"\",\"\",'2.Logbook'!S420)","v":""},{"$f":"IF('2.Logbook'!T420=\"\",\"\",'2.Logbook'!T420)","v":""},{"$f":"IF('2.Logbook'!U420=\"\",\"\",'2.Logbook'!U420)","v":""},{"$f":"IF('2.Logbook'!V420=\"\",\"\",'2.Logbook'!V420)","v":""},{"$f":"IF('2.Logbook'!W420=\"\",\"\",'2.Logbook'!W420)","v":""},{"$f":"IF('2.Logbook'!X420=\"\",\"\",'2.Logbook'!X420)","v":""},{"$f":"IF('2.Logbook'!Y420=\"\",\"\",'2.Logbook'!Y420)","v":""},{"$f":"IF('2.Logbook'!Z420=\"\",\"\",'2.Logbook'!Z420)","v":""},{"$f":"IF('2.Logbook'!AA420=\"\",\"\",'2.Logbook'!AA420)","v":""},{"$f":"IF('2.Logbook'!AB420=\"\",\"\",'2.Logbook'!AB420)","v":""},{"$f":"IF('2.Logbook'!AC420=\"\",\"\",'2.Logbook'!AC420)","v":""},{"$f":"IF('2.Logbook'!AD420=\"\",\"\",'2.Logbook'!AD420)","v":""},{"$f":"IF('2.Logbook'!AE420=\"\",\"\",'2.Logbook'!AE420)","v":""},{"$f":"IF('2.Logbook'!AF420=\"\",\"\",'2.Logbook'!AF420)","v":""},{"$f":"IF('2.Logbook'!AG420=\"\",\"\",'2.Logbook'!AG420)","v":""}]
[{"$f":"IF('2.Logbook'!A421=\"\",\"\",'2.Logbook'!A421)","v":""},{"$f":"IF('2.Logbook'!B421=\"\",\"\",'2.Logbook'!B421)","v":""},{"$f":"IF('2.Logbook'!C421=\"\",\"\",'2.Logbook'!C421)","v":""},{"$f":"IF('2.Logbook'!D421=\"\",\"\",'2.Logbook'!D421)","v":""},{"$f":"IF('2.Logbook'!E421=\"\",\"\",'2.Logbook'!E421)","v":""},{"$f":"IF('2.Logbook'!F421=\"\",\"\",'2.Logbook'!F421)","v":""},{"$f":"IF('2.Logbook'!G421=\"\",\"\",'2.Logbook'!G421)","v":""},{"$f":"IF('2.Logbook'!H421=\"\",\"\",'2.Logbook'!H421)","v":""},{"$f":"IF('2.Logbook'!I421=\"\",\"\",'2.Logbook'!I421)","v":""},{"$f":"IF('2.Logbook'!J421=\"\",\"\",'2.Logbook'!J421)","v":""},{"$f":"IF('2.Logbook'!K421=\"\",\"\",'2.Logbook'!K421)","v":""},{"$f":"IF('2.Logbook'!L421=\"\",\"\",'2.Logbook'!L421)","v":""},{"$f":"IF('2.Logbook'!M421=\"\",\"\",'2.Logbook'!M421)","v":""},{"$f":"IF('2.Logbook'!N421=\"\",\"\",'2.Logbook'!N421)","v":""},{"$f":"IF('2.Logbook'!O421=\"\",\"\",'2.Logbook'!O421)","v":""},{"$f":"IF('2.Logbook'!P421=\"\",\"\",'2.Logbook'!P421)","v":""},{"$f":"IF('2.Logbook'!Q421=\"\",\"\",'2.Logbook'!Q421)","v":""},{"$f":"IF('2.Logbook'!R421=\"\",\"\",'2.Logbook'!R421)","v":""},{"$f":"IF('2.Logbook'!S421=\"\",\"\",'2.Logbook'!S421)","v":""},{"$f":"IF('2.Logbook'!T421=\"\",\"\",'2.Logbook'!T421)","v":""},{"$f":"IF('2.Logbook'!U421=\"\",\"\",'2.Logbook'!U421)","v":""},{"$f":"IF('2.Logbook'!V421=\"\",\"\",'2.Logbook'!V421)","v":""},{"$f":"IF('2.Logbook'!W421=\"\",\"\",'2.Logbook'!W421)","v":""},{"$f":"IF('2.Logbook'!X421=\"\",\"\",'2.Logbook'!X421)","v":""},{"$f":"IF('2.Logbook'!Y421=\"\",\"\",'2.Logbook'!Y421)","v":""},{"$f":"IF('2.Logbook'!Z421=\"\",\"\",'2.Logbook'!Z421)","v":""},{"$f":"IF('2.Logbook'!AA421=\"\",\"\",'2.Logbook'!AA421)","v":""},{"$f":"IF('2.Logbook'!AB421=\"\",\"\",'2.Logbook'!AB421)","v":""},{"$f":"IF('2.Logbook'!AC421=\"\",\"\",'2.Logbook'!AC421)","v":""},{"$f":"IF('2.Logbook'!AD421=\"\",\"\",'2.Logbook'!AD421)","v":""},{"$f":"IF('2.Logbook'!AE421=\"\",\"\",'2.Logbook'!AE421)","v":""},{"$f":"IF('2.Logbook'!AF421=\"\",\"\",'2.Logbook'!AF421)","v":""},{"$f":"IF('2.Logbook'!AG421=\"\",\"\",'2.Logbook'!AG421)","v":""}]
[{"$f":"IF('2.Logbook'!A422=\"\",\"\",'2.Logbook'!A422)","v":""},{"$f":"IF('2.Logbook'!B422=\"\",\"\",'2.Logbook'!B422)","v":""},{"$f":"IF('2.Logbook'!C422=\"\",\"\",'2.Logbook'!C422)","v":""},{"$f":"IF('2.Logbook'!D422=\"\",\"\",'2.Logbook'!D422)","v":""},{"$f":"IF('2.Logbook'!E422=\"\",\"\",'2.Logbook'!E422)","v":""},{"$f":"IF('2.Logbook'!F422=\"\",\"\",'2.Logbook'!F422)","v":""},{"$f":"IF('2.Logbook'!G422=\"\",\"\",'2.Logbook'!G422)","v":""},{"$f":"IF('2.Logbook'!H422=\"\",\"\",'2.Logbook'!H422)","v":""},{"$f":"IF('2.Logbook'!I422=\"\",\"\",'2.Logbook'!I422)","v":""},{"$f":"IF('2.Logbook'!J422=\"\",\"\",'2.Logbook'!J422)","v":""},{"$f":"IF('2.Logbook'!K422=\"\",\"\",'2.Logbook'!K422)","v":""},{"$f":"IF('2.Logbook'!L422=\"\",\"\",'2.Logbook'!L422)","v":""},{"$f":"IF('2.Logbook'!M422=\"\",\"\",'2.Logbook'!M422)","v":""},{"$f":"IF('2.Logbook'!N422=\"\",\"\",'2.Logbook'!N422)","v":""},{"$f":"IF('2.Logbook'!O422=\"\",\"\",'2.Logbook'!O422)","v":""},{"$f":"IF('2.Logbook'!P422=\"\",\"\",'2.Logbook'!P422)","v":""},{"$f":"IF('2.Logbook'!Q422=\"\",\"\",'2.Logbook'!Q422)","v":""},{"$f":"IF('2.Logbook'!R422=\"\",\"\",'2.Logbook'!R422)","v":""},{"$f":"IF('2.Logbook'!S422=\"\",\"\",'2.Logbook'!S422)","v":""},{"$f":"IF('2.Logbook'!T422=\"\",\"\",'2.Logbook'!T422)","v":""},{"$f":"IF('2.Logbook'!U422=\"\",\"\",'2.Logbook'!U422)","v":""},{"$f":"IF('2.Logbook'!V422=\"\",\"\",'2.Logbook'!V422)","v":""},{"$f":"IF('2.Logbook'!W422=\"\",\"\",'2.Logbook'!W422)","v":""},{"$f":"IF('2.Logbook'!X422=\"\",\"\",'2.Logbook'!X422)","v":""},{"$f":"IF('2.Logbook'!Y422=\"\",\"\",'2.Logbook'!Y422)","v":""},{"$f":"IF('2.Logbook'!Z422=\"\",\"\",'2.Logbook'!Z422)","v":""},{"$f":"IF('2.Logbook'!AA422=\"\",\"\",'2.Logbook'!AA422)","v":""},{"$f":"IF('2.Logbook'!AB422=\"\",\"\",'2.Logbook'!AB422)","v":""},{"$f":"IF('2.Logbook'!AC422=\"\",\"\",'2.Logbook'!AC422)","v":""},{"$f":"IF('2.Logbook'!AD422=\"\",\"\",'2.Logbook'!AD422)","v":""},{"$f":"IF('2.Logbook'!AE422=\"\",\"\",'2.Logbook'!AE422)","v":""},{"$f":"IF('2.Logbook'!AF422=\"\",\"\",'2.Logbook'!AF422)","v":""},{"$f":"IF('2.Logbook'!AG422=\"\",\"\",'2.Logbook'!AG422)","v":""}]
[{"$f":"IF('2.Logbook'!A423=\"\",\"\",'2.Logbook'!A423)","v":""},{"$f":"IF('2.Logbook'!B423=\"\",\"\",'2.Logbook'!B423)","v":""},{"$f":"IF('2.Logbook'!C423=\"\",\"\",'2.Logbook'!C423)","v":""},{"$f":"IF('2.Logbook'!D423=\"\",\"\",'2.Logbook'!D423)","v":""},{"$f":"IF('2.Logbook'!E423=\"\",\"\",'2.Logbook'!E423)","v":""},{"$f":"IF('2.Logbook'!F423=\"\",\"\",'2.Logbook'!F423)","v":""},{"$f":"IF('2.Logbook'!G423=\"\",\"\",'2.Logbook'!G423)","v":""},{"$f":"IF('2.Logbook'!H423=\"\",\"\",'2.Logbook'!H423)","v":""},{"$f":"IF('2.Logbook'!I423=\"\",\"\",'2.Logbook'!I423)","v":""},{"$f":"IF('2.Logbook'!J423=\"\",\"\",'2.Logbook'!J423)","v":""},{"$f":"IF('2.Logbook'!K423=\"\",\"\",'2.Logbook'!K423)","v":""},{"$f":"IF('2.Logbook'!L423=\"\",\"\",'2.Logbook'!L423)","v":""},{"$f":"IF('2.Logbook'!M423=\"\",\"\",'2.Logbook'!M423)","v":""},{"$f":"IF('2.Logbook'!N423=\"\",\"\",'2.Logbook'!N423)","v":""},{"$f":"IF('2.Logbook'!O423=\"\",\"\",'2.Logbook'!O423)","v":""},{"$f":"IF('2.Logbook'!P423=\"\",\"\",'2.Logbook'!P423)","v":""},{"$f":"IF('2.Logbook'!Q423=\"\",\"\",'2.Logbook'!Q423)","v":""},{"$f":"IF('2.Logbook'!R423=\"\",\"\",'2.Logbook'!R423)","v":""},{"$f":"IF('2.Logbook'!S423=\"\",\"\",'2.Logbook'!S423)","v":""},{"$f":"IF('2.Logbook'!T423=\"\",\"\",'2.Logbook'!T423)","v":""},{"$f":"IF('2.Logbook'!U423=\"\",\"\",'2.Logbook'!U423)","v":""},{"$f":"IF('2.Logbook'!V423=\"\",\"\",'2.Logbook'!V423)","v":""},{"$f":"IF('2.Logbook'!W423=\"\",\"\",'2.Logbook'!W423)","v":""},{"$f":"IF('2.Logbook'!X423=\"\",\"\",'2.Logbook'!X423)","v":""},{"$f":"IF('2.Logbook'!Y423=\"\",\"\",'2.Logbook'!Y423)","v":""},{"$f":"IF('2.Logbook'!Z423=\"\",\"\",'2.Logbook'!Z423)","v":""},{"$f":"IF('2.Logbook'!AA423=\"\",\"\",'2.Logbook'!AA423)","v":""},{"$f":"IF('2.Logbook'!AB423=\"\",\"\",'2.Logbook'!AB423)","v":""},{"$f":"IF('2.Logbook'!AC423=\"\",\"\",'2.Logbook'!AC423)","v":""},{"$f":"IF('2.Logbook'!AD423=\"\",\"\",'2.Logbook'!AD423)","v":""},{"$f":"IF('2.Logbook'!AE423=\"\",\"\",'2.Logbook'!AE423)","v":""},{"$f":"IF('2.Logbook'!AF423=\"\",\"\",'2.Logbook'!AF423)","v":""},{"$f":"IF('2.Logbook'!AG423=\"\",\"\",'2.Logbook'!AG423)","v":""}]
[{"$f":"IF('2.Logbook'!A424=\"\",\"\",'2.Logbook'!A424)","v":""},{"$f":"IF('2.Logbook'!B424=\"\",\"\",'2.Logbook'!B424)","v":""},{"$f":"IF('2.Logbook'!C424=\"\",\"\",'2.Logbook'!C424)","v":""},{"$f":"IF('2.Logbook'!D424=\"\",\"\",'2.Logbook'!D424)","v":""},{"$f":"IF('2.Logbook'!E424=\"\",\"\",'2.Logbook'!E424)","v":""},{"$f":"IF('2.Logbook'!F424=\"\",\"\",'2.Logbook'!F424)","v":""},{"$f":"IF('2.Logbook'!G424=\"\",\"\",'2.Logbook'!G424)","v":""},{"$f":"IF('2.Logbook'!H424=\"\",\"\",'2.Logbook'!H424)","v":""},{"$f":"IF('2.Logbook'!I424=\"\",\"\",'2.Logbook'!I424)","v":""},{"$f":"IF('2.Logbook'!J424=\"\",\"\",'2.Logbook'!J424)","v":""},{"$f":"IF('2.Logbook'!K424=\"\",\"\",'2.Logbook'!K424)","v":""},{"$f":"IF('2.Logbook'!L424=\"\",\"\",'2.Logbook'!L424)","v":""},{"$f":"IF('2.Logbook'!M424=\"\",\"\",'2.Logbook'!M424)","v":""},{"$f":"IF('2.Logbook'!N424=\"\",\"\",'2.Logbook'!N424)","v":""},{"$f":"IF('2.Logbook'!O424=\"\",\"\",'2.Logbook'!O424)","v":""},{"$f":"IF('2.Logbook'!P424=\"\",\"\",'2.Logbook'!P424)","v":""},{"$f":"IF('2.Logbook'!Q424=\"\",\"\",'2.Logbook'!Q424)","v":""},{"$f":"IF('2.Logbook'!R424=\"\",\"\",'2.Logbook'!R424)","v":""},{"$f":"IF('2.Logbook'!S424=\"\",\"\",'2.Logbook'!S424)","v":""},{"$f":"IF('2.Logbook'!T424=\"\",\"\",'2.Logbook'!T424)","v":""},{"$f":"IF('2.Logbook'!U424=\"\",\"\",'2.Logbook'!U424)","v":""},{"$f":"IF('2.Logbook'!V424=\"\",\"\",'2.Logbook'!V424)","v":""},{"$f":"IF('2.Logbook'!W424=\"\",\"\",'2.Logbook'!W424)","v":""},{"$f":"IF('2.Logbook'!X424=\"\",\"\",'2.Logbook'!X424)","v":""},{"$f":"IF('2.Logbook'!Y424=\"\",\"\",'2.Logbook'!Y424)","v":""},{"$f":"IF('2.Logbook'!Z424=\"\",\"\",'2.Logbook'!Z424)","v":""},{"$f":"IF('2.Logbook'!AA424=\"\",\"\",'2.Logbook'!AA424)","v":""},{"$f":"IF('2.Logbook'!AB424=\"\",\"\",'2.Logbook'!AB424)","v":""},{"$f":"IF('2.Logbook'!AC424=\"\",\"\",'2.Logbook'!AC424)","v":""},{"$f":"IF('2.Logbook'!AD424=\"\",\"\",'2.Logbook'!AD424)","v":""},{"$f":"IF('2.Logbook'!AE424=\"\",\"\",'2.Logbook'!AE424)","v":""},{"$f":"IF('2.Logbook'!AF424=\"\",\"\",'2.Logbook'!AF424)","v":""},{"$f":"IF('2.Logbook'!AG424=\"\",\"\",'2.Logbook'!AG424)","v":""}]
[{"$f":"IF('2.Logbook'!A425=\"\",\"\",'2.Logbook'!A425)","v":""},{"$f":"IF('2.Logbook'!B425=\"\",\"\",'2.Logbook'!B425)","v":""},{"$f":"IF('2.Logbook'!C425=\"\",\"\",'2.Logbook'!C425)","v":""},{"$f":"IF('2.Logbook'!D425=\"\",\"\",'2.Logbook'!D425)","v":""},{"$f":"IF('2.Logbook'!E425=\"\",\"\",'2.Logbook'!E425)","v":""},{"$f":"IF('2.Logbook'!F425=\"\",\"\",'2.Logbook'!F425)","v":""},{"$f":"IF('2.Logbook'!G425=\"\",\"\",'2.Logbook'!G425)","v":""},{"$f":"IF('2.Logbook'!H425=\"\",\"\",'2.Logbook'!H425)","v":""},{"$f":"IF('2.Logbook'!I425=\"\",\"\",'2.Logbook'!I425)","v":""},{"$f":"IF('2.Logbook'!J425=\"\",\"\",'2.Logbook'!J425)","v":""},{"$f":"IF('2.Logbook'!K425=\"\",\"\",'2.Logbook'!K425)","v":""},{"$f":"IF('2.Logbook'!L425=\"\",\"\",'2.Logbook'!L425)","v":""},{"$f":"IF('2.Logbook'!M425=\"\",\"\",'2.Logbook'!M425)","v":""},{"$f":"IF('2.Logbook'!N425=\"\",\"\",'2.Logbook'!N425)","v":""},{"$f":"IF('2.Logbook'!O425=\"\",\"\",'2.Logbook'!O425)","v":""},{"$f":"IF('2.Logbook'!P425=\"\",\"\",'2.Logbook'!P425)","v":""},{"$f":"IF('2.Logbook'!Q425=\"\",\"\",'2.Logbook'!Q425)","v":""},{"$f":"IF('2.Logbook'!R425=\"\",\"\",'2.Logbook'!R425)","v":""},{"$f":"IF('2.Logbook'!S425=\"\",\"\",'2.Logbook'!S425)","v":""},{"$f":"IF('2.Logbook'!T425=\"\",\"\",'2.Logbook'!T425)","v":""},{"$f":"IF('2.Logbook'!U425=\"\",\"\",'2.Logbook'!U425)","v":""},{"$f":"IF('2.Logbook'!V425=\"\",\"\",'2.Logbook'!V425)","v":""},{"$f":"IF('2.Logbook'!W425=\"\",\"\",'2.Logbook'!W425)","v":""},{"$f":"IF('2.Logbook'!X425=\"\",\"\",'2.Logbook'!X425)","v":""},{"$f":"IF('2.Logbook'!Y425=\"\",\"\",'2.Logbook'!Y425)","v":""},{"$f":"IF('2.Logbook'!Z425=\"\",\"\",'2.Logbook'!Z425)","v":""},{"$f":"IF('2.Logbook'!AA425=\"\",\"\",'2.Logbook'!AA425)","v":""},{"$f":"IF('2.Logbook'!AB425=\"\",\"\",'2.Logbook'!AB425)","v":""},{"$f":"IF('2.Logbook'!AC425=\"\",\"\",'2.Logbook'!AC425)","v":""},{"$f":"IF('2.Logbook'!AD425=\"\",\"\",'2.Logbook'!AD425)","v":""},{"$f":"IF('2.Logbook'!AE425=\"\",\"\",'2.Logbook'!AE425)","v":""},{"$f":"IF('2.Logbook'!AF425=\"\",\"\",'2.Logbook'!AF425)","v":""},{"$f":"IF('2.Logbook'!AG425=\"\",\"\",'2.Logbook'!AG425)","v":""}]
[{"$f":"IF('2.Logbook'!A426=\"\",\"\",'2.Logbook'!A426)","v":""},{"$f":"IF('2.Logbook'!B426=\"\",\"\",'2.Logbook'!B426)","v":""},{"$f":"IF('2.Logbook'!C426=\"\",\"\",'2.Logbook'!C426)","v":""},{"$f":"IF('2.Logbook'!D426=\"\",\"\",'2.Logbook'!D426)","v":""},{"$f":"IF('2.Logbook'!E426=\"\",\"\",'2.Logbook'!E426)","v":""},{"$f":"IF('2.Logbook'!F426=\"\",\"\",'2.Logbook'!F426)","v":""},{"$f":"IF('2.Logbook'!G426=\"\",\"\",'2.Logbook'!G426)","v":""},{"$f":"IF('2.Logbook'!H426=\"\",\"\",'2.Logbook'!H426)","v":""},{"$f":"IF('2.Logbook'!I426=\"\",\"\",'2.Logbook'!I426)","v":""},{"$f":"IF('2.Logbook'!J426=\"\",\"\",'2.Logbook'!J426)","v":""},{"$f":"IF('2.Logbook'!K426=\"\",\"\",'2.Logbook'!K426)","v":""},{"$f":"IF('2.Logbook'!L426=\"\",\"\",'2.Logbook'!L426)","v":""},{"$f":"IF('2.Logbook'!M426=\"\",\"\",'2.Logbook'!M426)","v":""},{"$f":"IF('2.Logbook'!N426=\"\",\"\",'2.Logbook'!N426)","v":""},{"$f":"IF('2.Logbook'!O426=\"\",\"\",'2.Logbook'!O426)","v":""},{"$f":"IF('2.Logbook'!P426=\"\",\"\",'2.Logbook'!P426)","v":""},{"$f":"IF('2.Logbook'!Q426=\"\",\"\",'2.Logbook'!Q426)","v":""},{"$f":"IF('2.Logbook'!R426=\"\",\"\",'2.Logbook'!R426)","v":""},{"$f":"IF('2.Logbook'!S426=\"\",\"\",'2.Logbook'!S426)","v":""},{"$f":"IF('2.Logbook'!T426=\"\",\"\",'2.Logbook'!T426)","v":""},{"$f":"IF('2.Logbook'!U426=\"\",\"\",'2.Logbook'!U426)","v":""},{"$f":"IF('2.Logbook'!V426=\"\",\"\",'2.Logbook'!V426)","v":""},{"$f":"IF('2.Logbook'!W426=\"\",\"\",'2.Logbook'!W426)","v":""},{"$f":"IF('2.Logbook'!X426=\"\",\"\",'2.Logbook'!X426)","v":""},{"$f":"IF('2.Logbook'!Y426=\"\",\"\",'2.Logbook'!Y426)","v":""},{"$f":"IF('2.Logbook'!Z426=\"\",\"\",'2.Logbook'!Z426)","v":""},{"$f":"IF('2.Logbook'!AA426=\"\",\"\",'2.Logbook'!AA426)","v":""},{"$f":"IF('2.Logbook'!AB426=\"\",\"\",'2.Logbook'!AB426)","v":""},{"$f":"IF('2.Logbook'!AC426=\"\",\"\",'2.Logbook'!AC426)","v":""},{"$f":"IF('2.Logbook'!AD426=\"\",\"\",'2.Logbook'!AD426)","v":""},{"$f":"IF('2.Logbook'!AE426=\"\",\"\",'2.Logbook'!AE426)","v":""},{"$f":"IF('2.Logbook'!AF426=\"\",\"\",'2.Logbook'!AF426)","v":""},{"$f":"IF('2.Logbook'!AG426=\"\",\"\",'2.Logbook'!AG426)","v":""}]
[{"$f":"IF('2.Logbook'!A427=\"\",\"\",'2.Logbook'!A427)","v":""},{"$f":"IF('2.Logbook'!B427=\"\",\"\",'2.Logbook'!B427)","v":""},{"$f":"IF('2.Logbook'!C427=\"\",\"\",'2.Logbook'!C427)","v":""},{"$f":"IF('2.Logbook'!D427=\"\",\"\",'2.Logbook'!D427)","v":""},{"$f":"IF('2.Logbook'!E427=\"\",\"\",'2.Logbook'!E427)","v":""},{"$f":"IF('2.Logbook'!F427=\"\",\"\",'2.Logbook'!F427)","v":""},{"$f":"IF('2.Logbook'!G427=\"\",\"\",'2.Logbook'!G427)","v":""},{"$f":"IF('2.Logbook'!H427=\"\",\"\",'2.Logbook'!H427)","v":""},{"$f":"IF('2.Logbook'!I427=\"\",\"\",'2.Logbook'!I427)","v":""},{"$f":"IF('2.Logbook'!J427=\"\",\"\",'2.Logbook'!J427)","v":""},{"$f":"IF('2.Logbook'!K427=\"\",\"\",'2.Logbook'!K427)","v":""},{"$f":"IF('2.Logbook'!L427=\"\",\"\",'2.Logbook'!L427)","v":""},{"$f":"IF('2.Logbook'!M427=\"\",\"\",'2.Logbook'!M427)","v":""},{"$f":"IF('2.Logbook'!N427=\"\",\"\",'2.Logbook'!N427)","v":""},{"$f":"IF('2.Logbook'!O427=\"\",\"\",'2.Logbook'!O427)","v":""},{"$f":"IF('2.Logbook'!P427=\"\",\"\",'2.Logbook'!P427)","v":""},{"$f":"IF('2.Logbook'!Q427=\"\",\"\",'2.Logbook'!Q427)","v":""},{"$f":"IF('2.Logbook'!R427=\"\",\"\",'2.Logbook'!R427)","v":""},{"$f":"IF('2.Logbook'!S427=\"\",\"\",'2.Logbook'!S427)","v":""},{"$f":"IF('2.Logbook'!T427=\"\",\"\",'2.Logbook'!T427)","v":""},{"$f":"IF('2.Logbook'!U427=\"\",\"\",'2.Logbook'!U427)","v":""},{"$f":"IF('2.Logbook'!V427=\"\",\"\",'2.Logbook'!V427)","v":""},{"$f":"IF('2.Logbook'!W427=\"\",\"\",'2.Logbook'!W427)","v":""},{"$f":"IF('2.Logbook'!X427=\"\",\"\",'2.Logbook'!X427)","v":""},{"$f":"IF('2.Logbook'!Y427=\"\",\"\",'2.Logbook'!Y427)","v":""},{"$f":"IF('2.Logbook'!Z427=\"\",\"\",'2.Logbook'!Z427)","v":""},{"$f":"IF('2.Logbook'!AA427=\"\",\"\",'2.Logbook'!AA427)","v":""},{"$f":"IF('2.Logbook'!AB427=\"\",\"\",'2.Logbook'!AB427)","v":""},{"$f":"IF('2.Logbook'!AC427=\"\",\"\",'2.Logbook'!AC427)","v":""},{"$f":"IF('2.Logbook'!AD427=\"\",\"\",'2.Logbook'!AD427)","v":""},{"$f":"IF('2.Logbook'!AE427=\"\",\"\",'2.Logbook'!AE427)","v":""},{"$f":"IF('2.Logbook'!AF427=\"\",\"\",'2.Logbook'!AF427)","v":""},{"$f":"IF('2.Logbook'!AG427=\"\",\"\",'2.Logbook'!AG427)","v":""}]
[{"$f":"IF('2.Logbook'!A428=\"\",\"\",'2.Logbook'!A428)","v":""},{"$f":"IF('2.Logbook'!B428=\"\",\"\",'2.Logbook'!B428)","v":""},{"$f":"IF('2.Logbook'!C428=\"\",\"\",'2.Logbook'!C428)","v":""},{"$f":"IF('2.Logbook'!D428=\"\",\"\",'2.Logbook'!D428)","v":""},{"$f":"IF('2.Logbook'!E428=\"\",\"\",'2.Logbook'!E428)","v":""},{"$f":"IF('2.Logbook'!F428=\"\",\"\",'2.Logbook'!F428)","v":""},{"$f":"IF('2.Logbook'!G428=\"\",\"\",'2.Logbook'!G428)","v":""},{"$f":"IF('2.Logbook'!H428=\"\",\"\",'2.Logbook'!H428)","v":""},{"$f":"IF('2.Logbook'!I428=\"\",\"\",'2.Logbook'!I428)","v":""},{"$f":"IF('2.Logbook'!J428=\"\",\"\",'2.Logbook'!J428)","v":""},{"$f":"IF('2.Logbook'!K428=\"\",\"\",'2.Logbook'!K428)","v":""},{"$f":"IF('2.Logbook'!L428=\"\",\"\",'2.Logbook'!L428)","v":""},{"$f":"IF('2.Logbook'!M428=\"\",\"\",'2.Logbook'!M428)","v":""},{"$f":"IF('2.Logbook'!N428=\"\",\"\",'2.Logbook'!N428)","v":""},{"$f":"IF('2.Logbook'!O428=\"\",\"\",'2.Logbook'!O428)","v":""},{"$f":"IF('2.Logbook'!P428=\"\",\"\",'2.Logbook'!P428)","v":""},{"$f":"IF('2.Logbook'!Q428=\"\",\"\",'2.Logbook'!Q428)","v":""},{"$f":"IF('2.Logbook'!R428=\"\",\"\",'2.Logbook'!R428)","v":""},{"$f":"IF('2.Logbook'!S428=\"\",\"\",'2.Logbook'!S428)","v":""},{"$f":"IF('2.Logbook'!T428=\"\",\"\",'2.Logbook'!T428)","v":""},{"$f":"IF('2.Logbook'!U428=\"\",\"\",'2.Logbook'!U428)","v":""},{"$f":"IF('2.Logbook'!V428=\"\",\"\",'2.Logbook'!V428)","v":""},{"$f":"IF('2.Logbook'!W428=\"\",\"\",'2.Logbook'!W428)","v":""},{"$f":"IF('2.Logbook'!X428=\"\",\"\",'2.Logbook'!X428)","v":""},{"$f":"IF('2.Logbook'!Y428=\"\",\"\",'2.Logbook'!Y428)","v":""},{"$f":"IF('2.Logbook'!Z428=\"\",\"\",'2.Logbook'!Z428)","v":""},{"$f":"IF('2.Logbook'!AA428=\"\",\"\",'2.Logbook'!AA428)","v":""},{"$f":"IF('2.Logbook'!AB428=\"\",\"\",'2.Logbook'!AB428)","v":""},{"$f":"IF('2.Logbook'!AC428=\"\",\"\",'2.Logbook'!AC428)","v":""},{"$f":"IF('2.Logbook'!AD428=\"\",\"\",'2.Logbook'!AD428)","v":""},{"$f":"IF('2.Logbook'!AE428=\"\",\"\",'2.Logbook'!AE428)","v":""},{"$f":"IF('2.Logbook'!AF428=\"\",\"\",'2.Logbook'!AF428)","v":""},{"$f":"IF('2.Logbook'!AG428=\"\",\"\",'2.Logbook'!AG428)","v":""}]
[{"$f":"IF('2.Logbook'!A429=\"\",\"\",'2.Logbook'!A429)","v":""},{"$f":"IF('2.Logbook'!B429=\"\",\"\",'2.Logbook'!B429)","v":""},{"$f":"IF('2.Logbook'!C429=\"\",\"\",'2.Logbook'!C429)","v":""},{"$f":"IF('2.Logbook'!D429=\"\",\"\",'2.Logbook'!D429)","v":""},{"$f":"IF('2.Logbook'!E429=\"\",\"\",'2.Logbook'!E429)","v":""},{"$f":"IF('2.Logbook'!F429=\"\",\"\",'2.Logbook'!F429)","v":""},{"$f":"IF('2.Logbook'!G429=\"\",\"\",'2.Logbook'!G429)","v":""},{"$f":"IF('2.Logbook'!H429=\"\",\"\",'2.Logbook'!H429)","v":""},{"$f":"IF('2.Logbook'!I429=\"\",\"\",'2.Logbook'!I429)","v":""},{"$f":"IF('2.Logbook'!J429=\"\",\"\",'2.Logbook'!J429)","v":""},{"$f":"IF('2.Logbook'!K429=\"\",\"\",'2.Logbook'!K429)","v":""},{"$f":"IF('2.Logbook'!L429=\"\",\"\",'2.Logbook'!L429)","v":""},{"$f":"IF('2.Logbook'!M429=\"\",\"\",'2.Logbook'!M429)","v":""},{"$f":"IF('2.Logbook'!N429=\"\",\"\",'2.Logbook'!N429)","v":""},{"$f":"IF('2.Logbook'!O429=\"\",\"\",'2.Logbook'!O429)","v":""},{"$f":"IF('2.Logbook'!P429=\"\",\"\",'2.Logbook'!P429)","v":""},{"$f":"IF('2.Logbook'!Q429=\"\",\"\",'2.Logbook'!Q429)","v":""},{"$f":"IF('2.Logbook'!R429=\"\",\"\",'2.Logbook'!R429)","v":""},{"$f":"IF('2.Logbook'!S429=\"\",\"\",'2.Logbook'!S429)","v":""},{"$f":"IF('2.Logbook'!T429=\"\",\"\",'2.Logbook'!T429)","v":""},{"$f":"IF('2.Logbook'!U429=\"\",\"\",'2.Logbook'!U429)","v":""},{"$f":"IF('2.Logbook'!V429=\"\",\"\",'2.Logbook'!V429)","v":""},{"$f":"IF('2.Logbook'!W429=\"\",\"\",'2.Logbook'!W429)","v":""},{"$f":"IF('2.Logbook'!X429=\"\",\"\",'2.Logbook'!X429)","v":""},{"$f":"IF('2.Logbook'!Y429=\"\",\"\",'2.Logbook'!Y429)","v":""},{"$f":"IF('2.Logbook'!Z429=\"\",\"\",'2.Logbook'!Z429)","v":""},{"$f":"IF('2.Logbook'!AA429=\"\",\"\",'2.Logbook'!AA429)","v":""},{"$f":"IF('2.Logbook'!AB429=\"\",\"\",'2.Logbook'!AB429)","v":""},{"$f":"IF('2.Logbook'!AC429=\"\",\"\",'2.Logbook'!AC429)","v":""},{"$f":"IF('2.Logbook'!AD429=\"\",\"\",'2.Logbook'!AD429)","v":""},{"$f":"IF('2.Logbook'!AE429=\"\",\"\",'2.Logbook'!AE429)","v":""},{"$f":"IF('2.Logbook'!AF429=\"\",\"\",'2.Logbook'!AF429)","v":""},{"$f":"IF('2.Logbook'!AG429=\"\",\"\",'2.Logbook'!AG429)","v":""}]
[{"$f":"IF('2.Logbook'!A430=\"\",\"\",'2.Logbook'!A430)","v":""},{"$f":"IF('2.Logbook'!B430=\"\",\"\",'2.Logbook'!B430)","v":""},{"$f":"IF('2.Logbook'!C430=\"\",\"\",'2.Logbook'!C430)","v":""},{"$f":"IF('2.Logbook'!D430=\"\",\"\",'2.Logbook'!D430)","v":""},{"$f":"IF('2.Logbook'!E430=\"\",\"\",'2.Logbook'!E430)","v":""},{"$f":"IF('2.Logbook'!F430=\"\",\"\",'2.Logbook'!F430)","v":""},{"$f":"IF('2.Logbook'!G430=\"\",\"\",'2.Logbook'!G430)","v":""},{"$f":"IF('2.Logbook'!H430=\"\",\"\",'2.Logbook'!H430)","v":""},{"$f":"IF('2.Logbook'!I430=\"\",\"\",'2.Logbook'!I430)","v":""},{"$f":"IF('2.Logbook'!J430=\"\",\"\",'2.Logbook'!J430)","v":""},{"$f":"IF('2.Logbook'!K430=\"\",\"\",'2.Logbook'!K430)","v":""},{"$f":"IF('2.Logbook'!L430=\"\",\"\",'2.Logbook'!L430)","v":""},{"$f":"IF('2.Logbook'!M430=\"\",\"\",'2.Logbook'!M430)","v":""},{"$f":"IF('2.Logbook'!N430=\"\",\"\",'2.Logbook'!N430)","v":""},{"$f":"IF('2.Logbook'!O430=\"\",\"\",'2.Logbook'!O430)","v":""},{"$f":"IF('2.Logbook'!P430=\"\",\"\",'2.Logbook'!P430)","v":""},{"$f":"IF('2.Logbook'!Q430=\"\",\"\",'2.Logbook'!Q430)","v":""},{"$f":"IF('2.Logbook'!R430=\"\",\"\",'2.Logbook'!R430)","v":""},{"$f":"IF('2.Logbook'!S430=\"\",\"\",'2.Logbook'!S430)","v":""},{"$f":"IF('2.Logbook'!T430=\"\",\"\",'2.Logbook'!T430)","v":""},{"$f":"IF('2.Logbook'!U430=\"\",\"\",'2.Logbook'!U430)","v":""},{"$f":"IF('2.Logbook'!V430=\"\",\"\",'2.Logbook'!V430)","v":""},{"$f":"IF('2.Logbook'!W430=\"\",\"\",'2.Logbook'!W430)","v":""},{"$f":"IF('2.Logbook'!X430=\"\",\"\",'2.Logbook'!X430)","v":""},{"$f":"IF('2.Logbook'!Y430=\"\",\"\",'2.Logbook'!Y430)","v":""},{"$f":"IF('2.Logbook'!Z430=\"\",\"\",'2.Logbook'!Z430)","v":""},{"$f":"IF('2.Logbook'!AA430=\"\",\"\",'2.Logbook'!AA430)","v":""},{"$f":"IF('2.Logbook'!AB430=\"\",\"\",'2.Logbook'!AB430)","v":""},{"$f":"IF('2.Logbook'!AC430=\"\",\"\",'2.Logbook'!AC430)","v":""},{"$f":"IF('2.Logbook'!AD430=\"\",\"\",'2.Logbook'!AD430)","v":""},{"$f":"IF('2.Logbook'!AE430=\"\",\"\",'2.Logbook'!AE430)","v":""},{"$f":"IF('2.Logbook'!AF430=\"\",\"\",'2.Logbook'!AF430)","v":""},{"$f":"IF('2.Logbook'!AG430=\"\",\"\",'2.Logbook'!AG430)","v":""}]
[{"$f":"IF('2.Logbook'!A431=\"\",\"\",'2.Logbook'!A431)","v":""},{"$f":"IF('2.Logbook'!B431=\"\",\"\",'2.Logbook'!B431)","v":""},{"$f":"IF('2.Logbook'!C431=\"\",\"\",'2.Logbook'!C431)","v":""},{"$f":"IF('2.Logbook'!D431=\"\",\"\",'2.Logbook'!D431)","v":""},{"$f":"IF('2.Logbook'!E431=\"\",\"\",'2.Logbook'!E431)","v":""},{"$f":"IF('2.Logbook'!F431=\"\",\"\",'2.Logbook'!F431)","v":""},{"$f":"IF('2.Logbook'!G431=\"\",\"\",'2.Logbook'!G431)","v":""},{"$f":"IF('2.Logbook'!H431=\"\",\"\",'2.Logbook'!H431)","v":""},{"$f":"IF('2.Logbook'!I431=\"\",\"\",'2.Logbook'!I431)","v":""},{"$f":"IF('2.Logbook'!J431=\"\",\"\",'2.Logbook'!J431)","v":""},{"$f":"IF('2.Logbook'!K431=\"\",\"\",'2.Logbook'!K431)","v":""},{"$f":"IF('2.Logbook'!L431=\"\",\"\",'2.Logbook'!L431)","v":""},{"$f":"IF('2.Logbook'!M431=\"\",\"\",'2.Logbook'!M431)","v":""},{"$f":"IF('2.Logbook'!N431=\"\",\"\",'2.Logbook'!N431)","v":""},{"$f":"IF('2.Logbook'!O431=\"\",\"\",'2.Logbook'!O431)","v":""},{"$f":"IF('2.Logbook'!P431=\"\",\"\",'2.Logbook'!P431)","v":""},{"$f":"IF('2.Logbook'!Q431=\"\",\"\",'2.Logbook'!Q431)","v":""},{"$f":"IF('2.Logbook'!R431=\"\",\"\",'2.Logbook'!R431)","v":""},{"$f":"IF('2.Logbook'!S431=\"\",\"\",'2.Logbook'!S431)","v":""},{"$f":"IF('2.Logbook'!T431=\"\",\"\",'2.Logbook'!T431)","v":""},{"$f":"IF('2.Logbook'!U431=\"\",\"\",'2.Logbook'!U431)","v":""},{"$f":"IF('2.Logbook'!V431=\"\",\"\",'2.Logbook'!V431)","v":""},{"$f":"IF('2.Logbook'!W431=\"\",\"\",'2.Logbook'!W431)","v":""},{"$f":"IF('2.Logbook'!X431=\"\",\"\",'2.Logbook'!X431)","v":""},{"$f":"IF('2.Logbook'!Y431=\"\",\"\",'2.Logbook'!Y431)","v":""},{"$f":"IF('2.Logbook'!Z431=\"\",\"\",'2.Logbook'!Z431)","v":""},{"$f":"IF('2.Logbook'!AA431=\"\",\"\",'2.Logbook'!AA431)","v":""},{"$f":"IF('2.Logbook'!AB431=\"\",\"\",'2.Logbook'!AB431)","v":""},{"$f":"IF('2.Logbook'!AC431=\"\",\"\",'2.Logbook'!AC431)","v":""},{"$f":"IF('2.Logbook'!AD431=\"\",\"\",'2.Logbook'!AD431)","v":""},{"$f":"IF('2.Logbook'!AE431=\"\",\"\",'2.Logbook'!AE431)","v":""},{"$f":"IF('2.Logbook'!AF431=\"\",\"\",'2.Logbook'!AF431)","v":""},{"$f":"IF('2.Logbook'!AG431=\"\",\"\",'2.Logbook'!AG431)","v":""}]
[{"$f":"IF('2.Logbook'!A432=\"\",\"\",'2.Logbook'!A432)","v":""},{"$f":"IF('2.Logbook'!B432=\"\",\"\",'2.Logbook'!B432)","v":""},{"$f":"IF('2.Logbook'!C432=\"\",\"\",'2.Logbook'!C432)","v":""},{"$f":"IF('2.Logbook'!D432=\"\",\"\",'2.Logbook'!D432)","v":""},{"$f":"IF('2.Logbook'!E432=\"\",\"\",'2.Logbook'!E432)","v":""},{"$f":"IF('2.Logbook'!F432=\"\",\"\",'2.Logbook'!F432)","v":""},{"$f":"IF('2.Logbook'!G432=\"\",\"\",'2.Logbook'!G432)","v":""},{"$f":"IF('2.Logbook'!H432=\"\",\"\",'2.Logbook'!H432)","v":""},{"$f":"IF('2.Logbook'!I432=\"\",\"\",'2.Logbook'!I432)","v":""},{"$f":"IF('2.Logbook'!J432=\"\",\"\",'2.Logbook'!J432)","v":""},{"$f":"IF('2.Logbook'!K432=\"\",\"\",'2.Logbook'!K432)","v":""},{"$f":"IF('2.Logbook'!L432=\"\",\"\",'2.Logbook'!L432)","v":""},{"$f":"IF('2.Logbook'!M432=\"\",\"\",'2.Logbook'!M432)","v":""},{"$f":"IF('2.Logbook'!N432=\"\",\"\",'2.Logbook'!N432)","v":""},{"$f":"IF('2.Logbook'!O432=\"\",\"\",'2.Logbook'!O432)","v":""},{"$f":"IF('2.Logbook'!P432=\"\",\"\",'2.Logbook'!P432)","v":""},{"$f":"IF('2.Logbook'!Q432=\"\",\"\",'2.Logbook'!Q432)","v":""},{"$f":"IF('2.Logbook'!R432=\"\",\"\",'2.Logbook'!R432)","v":""},{"$f":"IF('2.Logbook'!S432=\"\",\"\",'2.Logbook'!S432)","v":""},{"$f":"IF('2.Logbook'!T432=\"\",\"\",'2.Logbook'!T432)","v":""},{"$f":"IF('2.Logbook'!U432=\"\",\"\",'2.Logbook'!U432)","v":""},{"$f":"IF('2.Logbook'!V432=\"\",\"\",'2.Logbook'!V432)","v":""},{"$f":"IF('2.Logbook'!W432=\"\",\"\",'2.Logbook'!W432)","v":""},{"$f":"IF('2.Logbook'!X432=\"\",\"\",'2.Logbook'!X432)","v":""},{"$f":"IF('2.Logbook'!Y432=\"\",\"\",'2.Logbook'!Y432)","v":""},{"$f":"IF('2.Logbook'!Z432=\"\",\"\",'2.Logbook'!Z432)","v":""},{"$f":"IF('2.Logbook'!AA432=\"\",\"\",'2.Logbook'!AA432)","v":""},{"$f":"IF('2.Logbook'!AB432=\"\",\"\",'2.Logbook'!AB432)","v":""},{"$f":"IF('2.Logbook'!AC432=\"\",\"\",'2.Logbook'!AC432)","v":""},{"$f":"IF('2.Logbook'!AD432=\"\",\"\",'2.Logbook'!AD432)","v":""},{"$f":"IF('2.Logbook'!AE432=\"\",\"\",'2.Logbook'!AE432)","v":""},{"$f":"IF('2.Logbook'!AF432=\"\",\"\",'2.Logbook'!AF432)","v":""},{"$f":"IF('2.Logbook'!AG432=\"\",\"\",'2.Logbook'!AG432)","v":""}]
[{"$f":"IF('2.Logbook'!A433=\"\",\"\",'2.Logbook'!A433)","v":""},{"$f":"IF('2.Logbook'!B433=\"\",\"\",'2.Logbook'!B433)","v":""},{"$f":"IF('2.Logbook'!C433=\"\",\"\",'2.Logbook'!C433)","v":""},{"$f":"IF('2.Logbook'!D433=\"\",\"\",'2.Logbook'!D433)","v":""},{"$f":"IF('2.Logbook'!E433=\"\",\"\",'2.Logbook'!E433)","v":""},{"$f":"IF('2.Logbook'!F433=\"\",\"\",'2.Logbook'!F433)","v":""},{"$f":"IF('2.Logbook'!G433=\"\",\"\",'2.Logbook'!G433)","v":""},{"$f":"IF('2.Logbook'!H433=\"\",\"\",'2.Logbook'!H433)","v":""},{"$f":"IF('2.Logbook'!I433=\"\",\"\",'2.Logbook'!I433)","v":""},{"$f":"IF('2.Logbook'!J433=\"\",\"\",'2.Logbook'!J433)","v":""},{"$f":"IF('2.Logbook'!K433=\"\",\"\",'2.Logbook'!K433)","v":""},{"$f":"IF('2.Logbook'!L433=\"\",\"\",'2.Logbook'!L433)","v":""},{"$f":"IF('2.Logbook'!M433=\"\",\"\",'2.Logbook'!M433)","v":""},{"$f":"IF('2.Logbook'!N433=\"\",\"\",'2.Logbook'!N433)","v":""},{"$f":"IF('2.Logbook'!O433=\"\",\"\",'2.Logbook'!O433)","v":""},{"$f":"IF('2.Logbook'!P433=\"\",\"\",'2.Logbook'!P433)","v":""},{"$f":"IF('2.Logbook'!Q433=\"\",\"\",'2.Logbook'!Q433)","v":""},{"$f":"IF('2.Logbook'!R433=\"\",\"\",'2.Logbook'!R433)","v":""},{"$f":"IF('2.Logbook'!S433=\"\",\"\",'2.Logbook'!S433)","v":""},{"$f":"IF('2.Logbook'!T433=\"\",\"\",'2.Logbook'!T433)","v":""},{"$f":"IF('2.Logbook'!U433=\"\",\"\",'2.Logbook'!U433)","v":""},{"$f":"IF('2.Logbook'!V433=\"\",\"\",'2.Logbook'!V433)","v":""},{"$f":"IF('2.Logbook'!W433=\"\",\"\",'2.Logbook'!W433)","v":""},{"$f":"IF('2.Logbook'!X433=\"\",\"\",'2.Logbook'!X433)","v":""},{"$f":"IF('2.Logbook'!Y433=\"\",\"\",'2.Logbook'!Y433)","v":""},{"$f":"IF('2.Logbook'!Z433=\"\",\"\",'2.Logbook'!Z433)","v":""},{"$f":"IF('2.Logbook'!AA433=\"\",\"\",'2.Logbook'!AA433)","v":""},{"$f":"IF('2.Logbook'!AB433=\"\",\"\",'2.Logbook'!AB433)","v":""},{"$f":"IF('2.Logbook'!AC433=\"\",\"\",'2.Logbook'!AC433)","v":""},{"$f":"IF('2.Logbook'!AD433=\"\",\"\",'2.Logbook'!AD433)","v":""},{"$f":"IF('2.Logbook'!AE433=\"\",\"\",'2.Logbook'!AE433)","v":""},{"$f":"IF('2.Logbook'!AF433=\"\",\"\",'2.Logbook'!AF433)","v":""},{"$f":"IF('2.Logbook'!AG433=\"\",\"\",'2.Logbook'!AG433)","v":""}]
[{"$f":"IF('2.Logbook'!A434=\"\",\"\",'2.Logbook'!A434)","v":""},{"$f":"IF('2.Logbook'!B434=\"\",\"\",'2.Logbook'!B434)","v":""},{"$f":"IF('2.Logbook'!C434=\"\",\"\",'2.Logbook'!C434)","v":""},{"$f":"IF('2.Logbook'!D434=\"\",\"\",'2.Logbook'!D434)","v":""},{"$f":"IF('2.Logbook'!E434=\"\",\"\",'2.Logbook'!E434)","v":""},{"$f":"IF('2.Logbook'!F434=\"\",\"\",'2.Logbook'!F434)","v":""},{"$f":"IF('2.Logbook'!G434=\"\",\"\",'2.Logbook'!G434)","v":""},{"$f":"IF('2.Logbook'!H434=\"\",\"\",'2.Logbook'!H434)","v":""},{"$f":"IF('2.Logbook'!I434=\"\",\"\",'2.Logbook'!I434)","v":""},{"$f":"IF('2.Logbook'!J434=\"\",\"\",'2.Logbook'!J434)","v":""},{"$f":"IF('2.Logbook'!K434=\"\",\"\",'2.Logbook'!K434)","v":""},{"$f":"IF('2.Logbook'!L434=\"\",\"\",'2.Logbook'!L434)","v":""},{"$f":"IF('2.Logbook'!M434=\"\",\"\",'2.Logbook'!M434)","v":""},{"$f":"IF('2.Logbook'!N434=\"\",\"\",'2.Logbook'!N434)","v":""},{"$f":"IF('2.Logbook'!O434=\"\",\"\",'2.Logbook'!O434)","v":""},{"$f":"IF('2.Logbook'!P434=\"\",\"\",'2.Logbook'!P434)","v":""},{"$f":"IF('2.Logbook'!Q434=\"\",\"\",'2.Logbook'!Q434)","v":""},{"$f":"IF('2.Logbook'!R434=\"\",\"\",'2.Logbook'!R434)","v":""},{"$f":"IF('2.Logbook'!S434=\"\",\"\",'2.Logbook'!S434)","v":""},{"$f":"IF('2.Logbook'!T434=\"\",\"\",'2.Logbook'!T434)","v":""},{"$f":"IF('2.Logbook'!U434=\"\",\"\",'2.Logbook'!U434)","v":""},{"$f":"IF('2.Logbook'!V434=\"\",\"\",'2.Logbook'!V434)","v":""},{"$f":"IF('2.Logbook'!W434=\"\",\"\",'2.Logbook'!W434)","v":""},{"$f":"IF('2.Logbook'!X434=\"\",\"\",'2.Logbook'!X434)","v":""},{"$f":"IF('2.Logbook'!Y434=\"\",\"\",'2.Logbook'!Y434)","v":""},{"$f":"IF('2.Logbook'!Z434=\"\",\"\",'2.Logbook'!Z434)","v":""},{"$f":"IF('2.Logbook'!AA434=\"\",\"\",'2.Logbook'!AA434)","v":""},{"$f":"IF('2.Logbook'!AB434=\"\",\"\",'2.Logbook'!AB434)","v":""},{"$f":"IF('2.Logbook'!AC434=\"\",\"\",'2.Logbook'!AC434)","v":""},{"$f":"IF('2.Logbook'!AD434=\"\",\"\",'2.Logbook'!AD434)","v":""},{"$f":"IF('2.Logbook'!AE434=\"\",\"\",'2.Logbook'!AE434)","v":""},{"$f":"IF('2.Logbook'!AF434=\"\",\"\",'2.Logbook'!AF434)","v":""},{"$f":"IF('2.Logbook'!AG434=\"\",\"\",'2.Logbook'!AG434)","v":""}]
[{"$f":"IF('2.Logbook'!A435=\"\",\"\",'2.Logbook'!A435)","v":""},{"$f":"IF('2.Logbook'!B435=\"\",\"\",'2.Logbook'!B435)","v":""},{"$f":"IF('2.Logbook'!C435=\"\",\"\",'2.Logbook'!C435)","v":""},{"$f":"IF('2.Logbook'!D435=\"\",\"\",'2.Logbook'!D435)","v":""},{"$f":"IF('2.Logbook'!E435=\"\",\"\",'2.Logbook'!E435)","v":""},{"$f":"IF('2.Logbook'!F435=\"\",\"\",'2.Logbook'!F435)","v":""},{"$f":"IF('2.Logbook'!G435=\"\",\"\",'2.Logbook'!G435)","v":""},{"$f":"IF('2.Logbook'!H435=\"\",\"\",'2.Logbook'!H435)","v":""},{"$f":"IF('2.Logbook'!I435=\"\",\"\",'2.Logbook'!I435)","v":""},{"$f":"IF('2.Logbook'!J435=\"\",\"\",'2.Logbook'!J435)","v":""},{"$f":"IF('2.Logbook'!K435=\"\",\"\",'2.Logbook'!K435)","v":""},{"$f":"IF('2.Logbook'!L435=\"\",\"\",'2.Logbook'!L435)","v":""},{"$f":"IF('2.Logbook'!M435=\"\",\"\",'2.Logbook'!M435)","v":""},{"$f":"IF('2.Logbook'!N435=\"\",\"\",'2.Logbook'!N435)","v":""},{"$f":"IF('2.Logbook'!O435=\"\",\"\",'2.Logbook'!O435)","v":""},{"$f":"IF('2.Logbook'!P435=\"\",\"\",'2.Logbook'!P435)","v":""},{"$f":"IF('2.Logbook'!Q435=\"\",\"\",'2.Logbook'!Q435)","v":""},{"$f":"IF('2.Logbook'!R435=\"\",\"\",'2.Logbook'!R435)","v":""},{"$f":"IF('2.Logbook'!S435=\"\",\"\",'2.Logbook'!S435)","v":""},{"$f":"IF('2.Logbook'!T435=\"\",\"\",'2.Logbook'!T435)","v":""},{"$f":"IF('2.Logbook'!U435=\"\",\"\",'2.Logbook'!U435)","v":""},{"$f":"IF('2.Logbook'!V435=\"\",\"\",'2.Logbook'!V435)","v":""},{"$f":"IF('2.Logbook'!W435=\"\",\"\",'2.Logbook'!W435)","v":""},{"$f":"IF('2.Logbook'!X435=\"\",\"\",'2.Logbook'!X435)","v":""},{"$f":"IF('2.Logbook'!Y435=\"\",\"\",'2.Logbook'!Y435)","v":""},{"$f":"IF('2.Logbook'!Z435=\"\",\"\",'2.Logbook'!Z435)","v":""},{"$f":"IF('2.Logbook'!AA435=\"\",\"\",'2.Logbook'!AA435)","v":""},{"$f":"IF('2.Logbook'!AB435=\"\",\"\",'2.Logbook'!AB435)","v":""},{"$f":"IF('2.Logbook'!AC435=\"\",\"\",'2.Logbook'!AC435)","v":""},{"$f":"IF('2.Logbook'!AD435=\"\",\"\",'2.Logbook'!AD435)","v":""},{"$f":"IF('2.Logbook'!AE435=\"\",\"\",'2.Logbook'!AE435)","v":""},{"$f":"IF('2.Logbook'!AF435=\"\",\"\",'2.Logbook'!AF435)","v":""},{"$f":"IF('2.Logbook'!AG435=\"\",\"\",'2.Logbook'!AG435)","v":""}]
[{"$f":"IF('2.Logbook'!A436=\"\",\"\",'2.Logbook'!A436)","v":""},{"$f":"IF('2.Logbook'!B436=\"\",\"\",'2.Logbook'!B436)","v":""},{"$f":"IF('2.Logbook'!C436=\"\",\"\",'2.Logbook'!C436)","v":""},{"$f":"IF('2.Logbook'!D436=\"\",\"\",'2.Logbook'!D436)","v":""},{"$f":"IF('2.Logbook'!E436=\"\",\"\",'2.Logbook'!E436)","v":""},{"$f":"IF('2.Logbook'!F436=\"\",\"\",'2.Logbook'!F436)","v":""},{"$f":"IF('2.Logbook'!G436=\"\",\"\",'2.Logbook'!G436)","v":""},{"$f":"IF('2.Logbook'!H436=\"\",\"\",'2.Logbook'!H436)","v":""},{"$f":"IF('2.Logbook'!I436=\"\",\"\",'2.Logbook'!I436)","v":""},{"$f":"IF('2.Logbook'!J436=\"\",\"\",'2.Logbook'!J436)","v":""},{"$f":"IF('2.Logbook'!K436=\"\",\"\",'2.Logbook'!K436)","v":""},{"$f":"IF('2.Logbook'!L436=\"\",\"\",'2.Logbook'!L436)","v":""},{"$f":"IF('2.Logbook'!M436=\"\",\"\",'2.Logbook'!M436)","v":""},{"$f":"IF('2.Logbook'!N436=\"\",\"\",'2.Logbook'!N436)","v":""},{"$f":"IF('2.Logbook'!O436=\"\",\"\",'2.Logbook'!O436)","v":""},{"$f":"IF('2.Logbook'!P436=\"\",\"\",'2.Logbook'!P436)","v":""},{"$f":"IF('2.Logbook'!Q436=\"\",\"\",'2.Logbook'!Q436)","v":""},{"$f":"IF('2.Logbook'!R436=\"\",\"\",'2.Logbook'!R436)","v":""},{"$f":"IF('2.Logbook'!S436=\"\",\"\",'2.Logbook'!S436)","v":""},{"$f":"IF('2.Logbook'!T436=\"\",\"\",'2.Logbook'!T436)","v":""},{"$f":"IF('2.Logbook'!U436=\"\",\"\",'2.Logbook'!U436)","v":""},{"$f":"IF('2.Logbook'!V436=\"\",\"\",'2.Logbook'!V436)","v":""},{"$f":"IF('2.Logbook'!W436=\"\",\"\",'2.Logbook'!W436)","v":""},{"$f":"IF('2.Logbook'!X436=\"\",\"\",'2.Logbook'!X436)","v":""},{"$f":"IF('2.Logbook'!Y436=\"\",\"\",'2.Logbook'!Y436)","v":""},{"$f":"IF('2.Logbook'!Z436=\"\",\"\",'2.Logbook'!Z436)","v":""},{"$f":"IF('2.Logbook'!AA436=\"\",\"\",'2.Logbook'!AA436)","v":""},{"$f":"IF('2.Logbook'!AB436=\"\",\"\",'2.Logbook'!AB436)","v":""},{"$f":"IF('2.Logbook'!AC436=\"\",\"\",'2.Logbook'!AC436)","v":""},{"$f":"IF('2.Logbook'!AD436=\"\",\"\",'2.Logbook'!AD436)","v":""},{"$f":"IF('2.Logbook'!AE436=\"\",\"\",'2.Logbook'!AE436)","v":""},{"$f":"IF('2.Logbook'!AF436=\"\",\"\",'2.Logbook'!AF436)","v":""},{"$f":"IF('2.Logbook'!AG436=\"\",\"\",'2.Logbook'!AG436)","v":""}]
[{"$f":"IF('2.Logbook'!A437=\"\",\"\",'2.Logbook'!A437)","v":""},{"$f":"IF('2.Logbook'!B437=\"\",\"\",'2.Logbook'!B437)","v":""},{"$f":"IF('2.Logbook'!C437=\"\",\"\",'2.Logbook'!C437)","v":""},{"$f":"IF('2.Logbook'!D437=\"\",\"\",'2.Logbook'!D437)","v":""},{"$f":"IF('2.Logbook'!E437=\"\",\"\",'2.Logbook'!E437)","v":""},{"$f":"IF('2.Logbook'!F437=\"\",\"\",'2.Logbook'!F437)","v":""},{"$f":"IF('2.Logbook'!G437=\"\",\"\",'2.Logbook'!G437)","v":""},{"$f":"IF('2.Logbook'!H437=\"\",\"\",'2.Logbook'!H437)","v":""},{"$f":"IF('2.Logbook'!I437=\"\",\"\",'2.Logbook'!I437)","v":""},{"$f":"IF('2.Logbook'!J437=\"\",\"\",'2.Logbook'!J437)","v":""},{"$f":"IF('2.Logbook'!K437=\"\",\"\",'2.Logbook'!K437)","v":""},{"$f":"IF('2.Logbook'!L437=\"\",\"\",'2.Logbook'!L437)","v":""},{"$f":"IF('2.Logbook'!M437=\"\",\"\",'2.Logbook'!M437)","v":""},{"$f":"IF('2.Logbook'!N437=\"\",\"\",'2.Logbook'!N437)","v":""},{"$f":"IF('2.Logbook'!O437=\"\",\"\",'2.Logbook'!O437)","v":""},{"$f":"IF('2.Logbook'!P437=\"\",\"\",'2.Logbook'!P437)","v":""},{"$f":"IF('2.Logbook'!Q437=\"\",\"\",'2.Logbook'!Q437)","v":""},{"$f":"IF('2.Logbook'!R437=\"\",\"\",'2.Logbook'!R437)","v":""},{"$f":"IF('2.Logbook'!S437=\"\",\"\",'2.Logbook'!S437)","v":""},{"$f":"IF('2.Logbook'!T437=\"\",\"\",'2.Logbook'!T437)","v":""},{"$f":"IF('2.Logbook'!U437=\"\",\"\",'2.Logbook'!U437)","v":""},{"$f":"IF('2.Logbook'!V437=\"\",\"\",'2.Logbook'!V437)","v":""},{"$f":"IF('2.Logbook'!W437=\"\",\"\",'2.Logbook'!W437)","v":""},{"$f":"IF('2.Logbook'!X437=\"\",\"\",'2.Logbook'!X437)","v":""},{"$f":"IF('2.Logbook'!Y437=\"\",\"\",'2.Logbook'!Y437)","v":""},{"$f":"IF('2.Logbook'!Z437=\"\",\"\",'2.Logbook'!Z437)","v":""},{"$f":"IF('2.Logbook'!AA437=\"\",\"\",'2.Logbook'!AA437)","v":""},{"$f":"IF('2.Logbook'!AB437=\"\",\"\",'2.Logbook'!AB437)","v":""},{"$f":"IF('2.Logbook'!AC437=\"\",\"\",'2.Logbook'!AC437)","v":""},{"$f":"IF('2.Logbook'!AD437=\"\",\"\",'2.Logbook'!AD437)","v":""},{"$f":"IF('2.Logbook'!AE437=\"\",\"\",'2.Logbook'!AE437)","v":""},{"$f":"IF('2.Logbook'!AF437=\"\",\"\",'2.Logbook'!AF437)","v":""},{"$f":"IF('2.Logbook'!AG437=\"\",\"\",'2.Logbook'!AG437)","v":""}]
[{"$f":"IF('2.Logbook'!A438=\"\",\"\",'2.Logbook'!A438)","v":""},{"$f":"IF('2.Logbook'!B438=\"\",\"\",'2.Logbook'!B438)","v":""},{"$f":"IF('2.Logbook'!C438=\"\",\"\",'2.Logbook'!C438)","v":""},{"$f":"IF('2.Logbook'!D438=\"\",\"\",'2.Logbook'!D438)","v":""},{"$f":"IF('2.Logbook'!E438=\"\",\"\",'2.Logbook'!E438)","v":""},{"$f":"IF('2.Logbook'!F438=\"\",\"\",'2.Logbook'!F438)","v":""},{"$f":"IF('2.Logbook'!G438=\"\",\"\",'2.Logbook'!G438)","v":""},{"$f":"IF('2.Logbook'!H438=\"\",\"\",'2.Logbook'!H438)","v":""},{"$f":"IF('2.Logbook'!I438=\"\",\"\",'2.Logbook'!I438)","v":""},{"$f":"IF('2.Logbook'!J438=\"\",\"\",'2.Logbook'!J438)","v":""},{"$f":"IF('2.Logbook'!K438=\"\",\"\",'2.Logbook'!K438)","v":""},{"$f":"IF('2.Logbook'!L438=\"\",\"\",'2.Logbook'!L438)","v":""},{"$f":"IF('2.Logbook'!M438=\"\",\"\",'2.Logbook'!M438)","v":""},{"$f":"IF('2.Logbook'!N438=\"\",\"\",'2.Logbook'!N438)","v":""},{"$f":"IF('2.Logbook'!O438=\"\",\"\",'2.Logbook'!O438)","v":""},{"$f":"IF('2.Logbook'!P438=\"\",\"\",'2.Logbook'!P438)","v":""},{"$f":"IF('2.Logbook'!Q438=\"\",\"\",'2.Logbook'!Q438)","v":""},{"$f":"IF('2.Logbook'!R438=\"\",\"\",'2.Logbook'!R438)","v":""},{"$f":"IF('2.Logbook'!S438=\"\",\"\",'2.Logbook'!S438)","v":""},{"$f":"IF('2.Logbook'!T438=\"\",\"\",'2.Logbook'!T438)","v":""},{"$f":"IF('2.Logbook'!U438=\"\",\"\",'2.Logbook'!U438)","v":""},{"$f":"IF('2.Logbook'!V438=\"\",\"\",'2.Logbook'!V438)","v":""},{"$f":"IF('2.Logbook'!W438=\"\",\"\",'2.Logbook'!W438)","v":""},{"$f":"IF('2.Logbook'!X438=\"\",\"\",'2.Logbook'!X438)","v":""},{"$f":"IF('2.Logbook'!Y438=\"\",\"\",'2.Logbook'!Y438)","v":""},{"$f":"IF('2.Logbook'!Z438=\"\",\"\",'2.Logbook'!Z438)","v":""},{"$f":"IF('2.Logbook'!AA438=\"\",\"\",'2.Logbook'!AA438)","v":""},{"$f":"IF('2.Logbook'!AB438=\"\",\"\",'2.Logbook'!AB438)","v":""},{"$f":"IF('2.Logbook'!AC438=\"\",\"\",'2.Logbook'!AC438)","v":""},{"$f":"IF('2.Logbook'!AD438=\"\",\"\",'2.Logbook'!AD438)","v":""},{"$f":"IF('2.Logbook'!AE438=\"\",\"\",'2.Logbook'!AE438)","v":""},{"$f":"IF('2.Logbook'!AF438=\"\",\"\",'2.Logbook'!AF438)","v":""},{"$f":"IF('2.Logbook'!AG438=\"\",\"\",'2.Logbook'!AG438)","v":""}]
[{"$f":"IF('2.Logbook'!A439=\"\",\"\",'2.Logbook'!A439)","v":""},{"$f":"IF('2.Logbook'!B439=\"\",\"\",'2.Logbook'!B439)","v":""},{"$f":"IF('2.Logbook'!C439=\"\",\"\",'2.Logbook'!C439)","v":""},{"$f":"IF('2.Logbook'!D439=\"\",\"\",'2.Logbook'!D439)","v":""},{"$f":"IF('2.Logbook'!E439=\"\",\"\",'2.Logbook'!E439)","v":""},{"$f":"IF('2.Logbook'!F439=\"\",\"\",'2.Logbook'!F439)","v":""},{"$f":"IF('2.Logbook'!G439=\"\",\"\",'2.Logbook'!G439)","v":""},{"$f":"IF('2.Logbook'!H439=\"\",\"\",'2.Logbook'!H439)","v":""},{"$f":"IF('2.Logbook'!I439=\"\",\"\",'2.Logbook'!I439)","v":""},{"$f":"IF('2.Logbook'!J439=\"\",\"\",'2.Logbook'!J439)","v":""},{"$f":"IF('2.Logbook'!K439=\"\",\"\",'2.Logbook'!K439)","v":""},{"$f":"IF('2.Logbook'!L439=\"\",\"\",'2.Logbook'!L439)","v":""},{"$f":"IF('2.Logbook'!M439=\"\",\"\",'2.Logbook'!M439)","v":""},{"$f":"IF('2.Logbook'!N439=\"\",\"\",'2.Logbook'!N439)","v":""},{"$f":"IF('2.Logbook'!O439=\"\",\"\",'2.Logbook'!O439)","v":""},{"$f":"IF('2.Logbook'!P439=\"\",\"\",'2.Logbook'!P439)","v":""},{"$f":"IF('2.Logbook'!Q439=\"\",\"\",'2.Logbook'!Q439)","v":""},{"$f":"IF('2.Logbook'!R439=\"\",\"\",'2.Logbook'!R439)","v":""},{"$f":"IF('2.Logbook'!S439=\"\",\"\",'2.Logbook'!S439)","v":""},{"$f":"IF('2.Logbook'!T439=\"\",\"\",'2.Logbook'!T439)","v":""},{"$f":"IF('2.Logbook'!U439=\"\",\"\",'2.Logbook'!U439)","v":""},{"$f":"IF('2.Logbook'!V439=\"\",\"\",'2.Logbook'!V439)","v":""},{"$f":"IF('2.Logbook'!W439=\"\",\"\",'2.Logbook'!W439)","v":""},{"$f":"IF('2.Logbook'!X439=\"\",\"\",'2.Logbook'!X439)","v":""},{"$f":"IF('2.Logbook'!Y439=\"\",\"\",'2.Logbook'!Y439)","v":""},{"$f":"IF('2.Logbook'!Z439=\"\",\"\",'2.Logbook'!Z439)","v":""},{"$f":"IF('2.Logbook'!AA439=\"\",\"\",'2.Logbook'!AA439)","v":""},{"$f":"IF('2.Logbook'!AB439=\"\",\"\",'2.Logbook'!AB439)","v":""},{"$f":"IF('2.Logbook'!AC439=\"\",\"\",'2.Logbook'!AC439)","v":""},{"$f":"IF('2.Logbook'!AD439=\"\",\"\",'2.Logbook'!AD439)","v":""},{"$f":"IF('2.Logbook'!AE439=\"\",\"\",'2.Logbook'!AE439)","v":""},{"$f":"IF('2.Logbook'!AF439=\"\",\"\",'2.Logbook'!AF439)","v":""},{"$f":"IF('2.Logbook'!AG439=\"\",\"\",'2.Logbook'!AG439)","v":""}]
[{"$f":"IF('2.Logbook'!A440=\"\",\"\",'2.Logbook'!A440)","v":""},{"$f":"IF('2.Logbook'!B440=\"\",\"\",'2.Logbook'!B440)","v":""},{"$f":"IF('2.Logbook'!C440=\"\",\"\",'2.Logbook'!C440)","v":""},{"$f":"IF('2.Logbook'!D440=\"\",\"\",'2.Logbook'!D440)","v":""},{"$f":"IF('2.Logbook'!E440=\"\",\"\",'2.Logbook'!E440)","v":""},{"$f":"IF('2.Logbook'!F440=\"\",\"\",'2.Logbook'!F440)","v":""},{"$f":"IF('2.Logbook'!G440=\"\",\"\",'2.Logbook'!G440)","v":""},{"$f":"IF('2.Logbook'!H440=\"\",\"\",'2.Logbook'!H440)","v":""},{"$f":"IF('2.Logbook'!I440=\"\",\"\",'2.Logbook'!I440)","v":""},{"$f":"IF('2.Logbook'!J440=\"\",\"\",'2.Logbook'!J440)","v":""},{"$f":"IF('2.Logbook'!K440=\"\",\"\",'2.Logbook'!K440)","v":""},{"$f":"IF('2.Logbook'!L440=\"\",\"\",'2.Logbook'!L440)","v":""},{"$f":"IF('2.Logbook'!M440=\"\",\"\",'2.Logbook'!M440)","v":""},{"$f":"IF('2.Logbook'!N440=\"\",\"\",'2.Logbook'!N440)","v":""},{"$f":"IF('2.Logbook'!O440=\"\",\"\",'2.Logbook'!O440)","v":""},{"$f":"IF('2.Logbook'!P440=\"\",\"\",'2.Logbook'!P440)","v":""},{"$f":"IF('2.Logbook'!Q440=\"\",\"\",'2.Logbook'!Q440)","v":""},{"$f":"IF('2.Logbook'!R440=\"\",\"\",'2.Logbook'!R440)","v":""},{"$f":"IF('2.Logbook'!S440=\"\",\"\",'2.Logbook'!S440)","v":""},{"$f":"IF('2.Logbook'!T440=\"\",\"\",'2.Logbook'!T440)","v":""},{"$f":"IF('2.Logbook'!U440=\"\",\"\",'2.Logbook'!U440)","v":""},{"$f":"IF('2.Logbook'!V440=\"\",\"\",'2.Logbook'!V440)","v":""},{"$f":"IF('2.Logbook'!W440=\"\",\"\",'2.Logbook'!W440)","v":""},{"$f":"IF('2.Logbook'!X440=\"\",\"\",'2.Logbook'!X440)","v":""},{"$f":"IF('2.Logbook'!Y440=\"\",\"\",'2.Logbook'!Y440)","v":""},{"$f":"IF('2.Logbook'!Z440=\"\",\"\",'2.Logbook'!Z440)","v":""},{"$f":"IF('2.Logbook'!AA440=\"\",\"\",'2.Logbook'!AA440)","v":""},{"$f":"IF('2.Logbook'!AB440=\"\",\"\",'2.Logbook'!AB440)","v":""},{"$f":"IF('2.Logbook'!AC440=\"\",\"\",'2.Logbook'!AC440)","v":""},{"$f":"IF('2.Logbook'!AD440=\"\",\"\",'2.Logbook'!AD440)","v":""},{"$f":"IF('2.Logbook'!AE440=\"\",\"\",'2.Logbook'!AE440)","v":""},{"$f":"IF('2.Logbook'!AF440=\"\",\"\",'2.Logbook'!AF440)","v":""},{"$f":"IF('2.Logbook'!AG440=\"\",\"\",'2.Logbook'!AG440)","v":""}]
[{"$f":"IF('2.Logbook'!A441=\"\",\"\",'2.Logbook'!A441)","v":""},{"$f":"IF('2.Logbook'!B441=\"\",\"\",'2.Logbook'!B441)","v":""},{"$f":"IF('2.Logbook'!C441=\"\",\"\",'2.Logbook'!C441)","v":""},{"$f":"IF('2.Logbook'!D441=\"\",\"\",'2.Logbook'!D441)","v":""},{"$f":"IF('2.Logbook'!E441=\"\",\"\",'2.Logbook'!E441)","v":""},{"$f":"IF('2.Logbook'!F441=\"\",\"\",'2.Logbook'!F441)","v":""},{"$f":"IF('2.Logbook'!G441=\"\",\"\",'2.Logbook'!G441)","v":""},{"$f":"IF('2.Logbook'!H441=\"\",\"\",'2.Logbook'!H441)","v":""},{"$f":"IF('2.Logbook'!I441=\"\",\"\",'2.Logbook'!I441)","v":""},{"$f":"IF('2.Logbook'!J441=\"\",\"\",'2.Logbook'!J441)","v":""},{"$f":"IF('2.Logbook'!K441=\"\",\"\",'2.Logbook'!K441)","v":""},{"$f":"IF('2.Logbook'!L441=\"\",\"\",'2.Logbook'!L441)","v":""},{"$f":"IF('2.Logbook'!M441=\"\",\"\",'2.Logbook'!M441)","v":""},{"$f":"IF('2.Logbook'!N441=\"\",\"\",'2.Logbook'!N441)","v":""},{"$f":"IF('2.Logbook'!O441=\"\",\"\",'2.Logbook'!O441)","v":""},{"$f":"IF('2.Logbook'!P441=\"\",\"\",'2.Logbook'!P441)","v":""},{"$f":"IF('2.Logbook'!Q441=\"\",\"\",'2.Logbook'!Q441)","v":""},{"$f":"IF('2.Logbook'!R441=\"\",\"\",'2.Logbook'!R441)","v":""},{"$f":"IF('2.Logbook'!S441=\"\",\"\",'2.Logbook'!S441)","v":""},{"$f":"IF('2.Logbook'!T441=\"\",\"\",'2.Logbook'!T441)","v":""},{"$f":"IF('2.Logbook'!U441=\"\",\"\",'2.Logbook'!U441)","v":""},{"$f":"IF('2.Logbook'!V441=\"\",\"\",'2.Logbook'!V441)","v":""},{"$f":"IF('2.Logbook'!W441=\"\",\"\",'2.Logbook'!W441)","v":""},{"$f":"IF('2.Logbook'!X441=\"\",\"\",'2.Logbook'!X441)","v":""},{"$f":"IF('2.Logbook'!Y441=\"\",\"\",'2.Logbook'!Y441)","v":""},{"$f":"IF('2.Logbook'!Z441=\"\",\"\",'2.Logbook'!Z441)","v":""},{"$f":"IF('2.Logbook'!AA441=\"\",\"\",'2.Logbook'!AA441)","v":""},{"$f":"IF('2.Logbook'!AB441=\"\",\"\",'2.Logbook'!AB441)","v":""},{"$f":"IF('2.Logbook'!AC441=\"\",\"\",'2.Logbook'!AC441)","v":""},{"$f":"IF('2.Logbook'!AD441=\"\",\"\",'2.Logbook'!AD441)","v":""},{"$f":"IF('2.Logbook'!AE441=\"\",\"\",'2.Logbook'!AE441)","v":""},{"$f":"IF('2.Logbook'!AF441=\"\",\"\",'2.Logbook'!AF441)","v":""},{"$f":"IF('2.Logbook'!AG441=\"\",\"\",'2.Logbook'!AG441)","v":""}]
[{"$f":"IF('2.Logbook'!A442=\"\",\"\",'2.Logbook'!A442)","v":""},{"$f":"IF('2.Logbook'!B442=\"\",\"\",'2.Logbook'!B442)","v":""},{"$f":"IF('2.Logbook'!C442=\"\",\"\",'2.Logbook'!C442)","v":""},{"$f":"IF('2.Logbook'!D442=\"\",\"\",'2.Logbook'!D442)","v":""},{"$f":"IF('2.Logbook'!E442=\"\",\"\",'2.Logbook'!E442)","v":""},{"$f":"IF('2.Logbook'!F442=\"\",\"\",'2.Logbook'!F442)","v":""},{"$f":"IF('2.Logbook'!G442=\"\",\"\",'2.Logbook'!G442)","v":""},{"$f":"IF('2.Logbook'!H442=\"\",\"\",'2.Logbook'!H442)","v":""},{"$f":"IF('2.Logbook'!I442=\"\",\"\",'2.Logbook'!I442)","v":""},{"$f":"IF('2.Logbook'!J442=\"\",\"\",'2.Logbook'!J442)","v":""},{"$f":"IF('2.Logbook'!K442=\"\",\"\",'2.Logbook'!K442)","v":""},{"$f":"IF('2.Logbook'!L442=\"\",\"\",'2.Logbook'!L442)","v":""},{"$f":"IF('2.Logbook'!M442=\"\",\"\",'2.Logbook'!M442)","v":""},{"$f":"IF('2.Logbook'!N442=\"\",\"\",'2.Logbook'!N442)","v":""},{"$f":"IF('2.Logbook'!O442=\"\",\"\",'2.Logbook'!O442)","v":""},{"$f":"IF('2.Logbook'!P442=\"\",\"\",'2.Logbook'!P442)","v":""},{"$f":"IF('2.Logbook'!Q442=\"\",\"\",'2.Logbook'!Q442)","v":""},{"$f":"IF('2.Logbook'!R442=\"\",\"\",'2.Logbook'!R442)","v":""},{"$f":"IF('2.Logbook'!S442=\"\",\"\",'2.Logbook'!S442)","v":""},{"$f":"IF('2.Logbook'!T442=\"\",\"\",'2.Logbook'!T442)","v":""},{"$f":"IF('2.Logbook'!U442=\"\",\"\",'2.Logbook'!U442)","v":""},{"$f":"IF('2.Logbook'!V442=\"\",\"\",'2.Logbook'!V442)","v":""},{"$f":"IF('2.Logbook'!W442=\"\",\"\",'2.Logbook'!W442)","v":""},{"$f":"IF('2.Logbook'!X442=\"\",\"\",'2.Logbook'!X442)","v":""},{"$f":"IF('2.Logbook'!Y442=\"\",\"\",'2.Logbook'!Y442)","v":""},{"$f":"IF('2.Logbook'!Z442=\"\",\"\",'2.Logbook'!Z442)","v":""},{"$f":"IF('2.Logbook'!AA442=\"\",\"\",'2.Logbook'!AA442)","v":""},{"$f":"IF('2.Logbook'!AB442=\"\",\"\",'2.Logbook'!AB442)","v":""},{"$f":"IF('2.Logbook'!AC442=\"\",\"\",'2.Logbook'!AC442)","v":""},{"$f":"IF('2.Logbook'!AD442=\"\",\"\",'2.Logbook'!AD442)","v":""},{"$f":"IF('2.Logbook'!AE442=\"\",\"\",'2.Logbook'!AE442)","v":""},{"$f":"IF('2.Logbook'!AF442=\"\",\"\",'2.Logbook'!AF442)","v":""},{"$f":"IF('2.Logbook'!AG442=\"\",\"\",'2.Logbook'!AG442)","v":""}]
[{"$f":"IF('2.Logbook'!A443=\"\",\"\",'2.Logbook'!A443)","v":""},{"$f":"IF('2.Logbook'!B443=\"\",\"\",'2.Logbook'!B443)","v":""},{"$f":"IF('2.Logbook'!C443=\"\",\"\",'2.Logbook'!C443)","v":""},{"$f":"IF('2.Logbook'!D443=\"\",\"\",'2.Logbook'!D443)","v":""},{"$f":"IF('2.Logbook'!E443=\"\",\"\",'2.Logbook'!E443)","v":""},{"$f":"IF('2.Logbook'!F443=\"\",\"\",'2.Logbook'!F443)","v":""},{"$f":"IF('2.Logbook'!G443=\"\",\"\",'2.Logbook'!G443)","v":""},{"$f":"IF('2.Logbook'!H443=\"\",\"\",'2.Logbook'!H443)","v":""},{"$f":"IF('2.Logbook'!I443=\"\",\"\",'2.Logbook'!I443)","v":""},{"$f":"IF('2.Logbook'!J443=\"\",\"\",'2.Logbook'!J443)","v":""},{"$f":"IF('2.Logbook'!K443=\"\",\"\",'2.Logbook'!K443)","v":""},{"$f":"IF('2.Logbook'!L443=\"\",\"\",'2.Logbook'!L443)","v":""},{"$f":"IF('2.Logbook'!M443=\"\",\"\",'2.Logbook'!M443)","v":""},{"$f":"IF('2.Logbook'!N443=\"\",\"\",'2.Logbook'!N443)","v":""},{"$f":"IF('2.Logbook'!O443=\"\",\"\",'2.Logbook'!O443)","v":""},{"$f":"IF('2.Logbook'!P443=\"\",\"\",'2.Logbook'!P443)","v":""},{"$f":"IF('2.Logbook'!Q443=\"\",\"\",'2.Logbook'!Q443)","v":""},{"$f":"IF('2.Logbook'!R443=\"\",\"\",'2.Logbook'!R443)","v":""},{"$f":"IF('2.Logbook'!S443=\"\",\"\",'2.Logbook'!S443)","v":""},{"$f":"IF('2.Logbook'!T443=\"\",\"\",'2.Logbook'!T443)","v":""},{"$f":"IF('2.Logbook'!U443=\"\",\"\",'2.Logbook'!U443)","v":""},{"$f":"IF('2.Logbook'!V443=\"\",\"\",'2.Logbook'!V443)","v":""},{"$f":"IF('2.Logbook'!W443=\"\",\"\",'2.Logbook'!W443)","v":""},{"$f":"IF('2.Logbook'!X443=\"\",\"\",'2.Logbook'!X443)","v":""},{"$f":"IF('2.Logbook'!Y443=\"\",\"\",'2.Logbook'!Y443)","v":""},{"$f":"IF('2.Logbook'!Z443=\"\",\"\",'2.Logbook'!Z443)","v":""},{"$f":"IF('2.Logbook'!AA443=\"\",\"\",'2.Logbook'!AA443)","v":""},{"$f":"IF('2.Logbook'!AB443=\"\",\"\",'2.Logbook'!AB443)","v":""},{"$f":"IF('2.Logbook'!AC443=\"\",\"\",'2.Logbook'!AC443)","v":""},{"$f":"IF('2.Logbook'!AD443=\"\",\"\",'2.Logbook'!AD443)","v":""},{"$f":"IF('2.Logbook'!AE443=\"\",\"\",'2.Logbook'!AE443)","v":""},{"$f":"IF('2.Logbook'!AF443=\"\",\"\",'2.Logbook'!AF443)","v":""},{"$f":"IF('2.Logbook'!AG443=\"\",\"\",'2.Logbook'!AG443)","v":""}]
[{"$f":"IF('2.Logbook'!A444=\"\",\"\",'2.Logbook'!A444)","v":""},{"$f":"IF('2.Logbook'!B444=\"\",\"\",'2.Logbook'!B444)","v":""},{"$f":"IF('2.Logbook'!C444=\"\",\"\",'2.Logbook'!C444)","v":""},{"$f":"IF('2.Logbook'!D444=\"\",\"\",'2.Logbook'!D444)","v":""},{"$f":"IF('2.Logbook'!E444=\"\",\"\",'2.Logbook'!E444)","v":""},{"$f":"IF('2.Logbook'!F444=\"\",\"\",'2.Logbook'!F444)","v":""},{"$f":"IF('2.Logbook'!G444=\"\",\"\",'2.Logbook'!G444)","v":""},{"$f":"IF('2.Logbook'!H444=\"\",\"\",'2.Logbook'!H444)","v":""},{"$f":"IF('2.Logbook'!I444=\"\",\"\",'2.Logbook'!I444)","v":""},{"$f":"IF('2.Logbook'!J444=\"\",\"\",'2.Logbook'!J444)","v":""},{"$f":"IF('2.Logbook'!K444=\"\",\"\",'2.Logbook'!K444)","v":""},{"$f":"IF('2.Logbook'!L444=\"\",\"\",'2.Logbook'!L444)","v":""},{"$f":"IF('2.Logbook'!M444=\"\",\"\",'2.Logbook'!M444)","v":""},{"$f":"IF('2.Logbook'!N444=\"\",\"\",'2.Logbook'!N444)","v":""},{"$f":"IF('2.Logbook'!O444=\"\",\"\",'2.Logbook'!O444)","v":""},{"$f":"IF('2.Logbook'!P444=\"\",\"\",'2.Logbook'!P444)","v":""},{"$f":"IF('2.Logbook'!Q444=\"\",\"\",'2.Logbook'!Q444)","v":""},{"$f":"IF('2.Logbook'!R444=\"\",\"\",'2.Logbook'!R444)","v":""},{"$f":"IF('2.Logbook'!S444=\"\",\"\",'2.Logbook'!S444)","v":""},{"$f":"IF('2.Logbook'!T444=\"\",\"\",'2.Logbook'!T444)","v":""},{"$f":"IF('2.Logbook'!U444=\"\",\"\",'2.Logbook'!U444)","v":""},{"$f":"IF('2.Logbook'!V444=\"\",\"\",'2.Logbook'!V444)","v":""},{"$f":"IF('2.Logbook'!W444=\"\",\"\",'2.Logbook'!W444)","v":""},{"$f":"IF('2.Logbook'!X444=\"\",\"\",'2.Logbook'!X444)","v":""},{"$f":"IF('2.Logbook'!Y444=\"\",\"\",'2.Logbook'!Y444)","v":""},{"$f":"IF('2.Logbook'!Z444=\"\",\"\",'2.Logbook'!Z444)","v":""},{"$f":"IF('2.Logbook'!AA444=\"\",\"\",'2.Logbook'!AA444)","v":""},{"$f":"IF('2.Logbook'!AB444=\"\",\"\",'2.Logbook'!AB444)","v":""},{"$f":"IF('2.Logbook'!AC444=\"\",\"\",'2.Logbook'!AC444)","v":""},{"$f":"IF('2.Logbook'!AD444=\"\",\"\",'2.Logbook'!AD444)","v":""},{"$f":"IF('2.Logbook'!AE444=\"\",\"\",'2.Logbook'!AE444)","v":""},{"$f":"IF('2.Logbook'!AF444=\"\",\"\",'2.Logbook'!AF444)","v":""},{"$f":"IF('2.Logbook'!AG444=\"\",\"\",'2.Logbook'!AG444)","v":""}]
[{"$f":"IF('2.Logbook'!A445=\"\",\"\",'2.Logbook'!A445)","v":""},{"$f":"IF('2.Logbook'!B445=\"\",\"\",'2.Logbook'!B445)","v":""},{"$f":"IF('2.Logbook'!C445=\"\",\"\",'2.Logbook'!C445)","v":""},{"$f":"IF('2.Logbook'!D445=\"\",\"\",'2.Logbook'!D445)","v":""},{"$f":"IF('2.Logbook'!E445=\"\",\"\",'2.Logbook'!E445)","v":""},{"$f":"IF('2.Logbook'!F445=\"\",\"\",'2.Logbook'!F445)","v":""},{"$f":"IF('2.Logbook'!G445=\"\",\"\",'2.Logbook'!G445)","v":""},{"$f":"IF('2.Logbook'!H445=\"\",\"\",'2.Logbook'!H445)","v":""},{"$f":"IF('2.Logbook'!I445=\"\",\"\",'2.Logbook'!I445)","v":""},{"$f":"IF('2.Logbook'!J445=\"\",\"\",'2.Logbook'!J445)","v":""},{"$f":"IF('2.Logbook'!K445=\"\",\"\",'2.Logbook'!K445)","v":""},{"$f":"IF('2.Logbook'!L445=\"\",\"\",'2.Logbook'!L445)","v":""},{"$f":"IF('2.Logbook'!M445=\"\",\"\",'2.Logbook'!M445)","v":""},{"$f":"IF('2.Logbook'!N445=\"\",\"\",'2.Logbook'!N445)","v":""},{"$f":"IF('2.Logbook'!O445=\"\",\"\",'2.Logbook'!O445)","v":""},{"$f":"IF('2.Logbook'!P445=\"\",\"\",'2.Logbook'!P445)","v":""},{"$f":"IF('2.Logbook'!Q445=\"\",\"\",'2.Logbook'!Q445)","v":""},{"$f":"IF('2.Logbook'!R445=\"\",\"\",'2.Logbook'!R445)","v":""},{"$f":"IF('2.Logbook'!S445=\"\",\"\",'2.Logbook'!S445)","v":""},{"$f":"IF('2.Logbook'!T445=\"\",\"\",'2.Logbook'!T445)","v":""},{"$f":"IF('2.Logbook'!U445=\"\",\"\",'2.Logbook'!U445)","v":""},{"$f":"IF('2.Logbook'!V445=\"\",\"\",'2.Logbook'!V445)","v":""},{"$f":"IF('2.Logbook'!W445=\"\",\"\",'2.Logbook'!W445)","v":""},{"$f":"IF('2.Logbook'!X445=\"\",\"\",'2.Logbook'!X445)","v":""},{"$f":"IF('2.Logbook'!Y445=\"\",\"\",'2.Logbook'!Y445)","v":""},{"$f":"IF('2.Logbook'!Z445=\"\",\"\",'2.Logbook'!Z445)","v":""},{"$f":"IF('2.Logbook'!AA445=\"\",\"\",'2.Logbook'!AA445)","v":""},{"$f":"IF('2.Logbook'!AB445=\"\",\"\",'2.Logbook'!AB445)","v":""},{"$f":"IF('2.Logbook'!AC445=\"\",\"\",'2.Logbook'!AC445)","v":""},{"$f":"IF('2.Logbook'!AD445=\"\",\"\",'2.Logbook'!AD445)","v":""},{"$f":"IF('2.Logbook'!AE445=\"\",\"\",'2.Logbook'!AE445)","v":""},{"$f":"IF('2.Logbook'!AF445=\"\",\"\",'2.Logbook'!AF445)","v":""},{"$f":"IF('2.Logbook'!AG445=\"\",\"\",'2.Logbook'!AG445)","v":""}]
[{"$f":"IF('2.Logbook'!A446=\"\",\"\",'2.Logbook'!A446)","v":""},{"$f":"IF('2.Logbook'!B446=\"\",\"\",'2.Logbook'!B446)","v":""},{"$f":"IF('2.Logbook'!C446=\"\",\"\",'2.Logbook'!C446)","v":""},{"$f":"IF('2.Logbook'!D446=\"\",\"\",'2.Logbook'!D446)","v":""},{"$f":"IF('2.Logbook'!E446=\"\",\"\",'2.Logbook'!E446)","v":""},{"$f":"IF('2.Logbook'!F446=\"\",\"\",'2.Logbook'!F446)","v":""},{"$f":"IF('2.Logbook'!G446=\"\",\"\",'2.Logbook'!G446)","v":""},{"$f":"IF('2.Logbook'!H446=\"\",\"\",'2.Logbook'!H446)","v":""},{"$f":"IF('2.Logbook'!I446=\"\",\"\",'2.Logbook'!I446)","v":""},{"$f":"IF('2.Logbook'!J446=\"\",\"\",'2.Logbook'!J446)","v":""},{"$f":"IF('2.Logbook'!K446=\"\",\"\",'2.Logbook'!K446)","v":""},{"$f":"IF('2.Logbook'!L446=\"\",\"\",'2.Logbook'!L446)","v":""},{"$f":"IF('2.Logbook'!M446=\"\",\"\",'2.Logbook'!M446)","v":""},{"$f":"IF('2.Logbook'!N446=\"\",\"\",'2.Logbook'!N446)","v":""},{"$f":"IF('2.Logbook'!O446=\"\",\"\",'2.Logbook'!O446)","v":""},{"$f":"IF('2.Logbook'!P446=\"\",\"\",'2.Logbook'!P446)","v":""},{"$f":"IF('2.Logbook'!Q446=\"\",\"\",'2.Logbook'!Q446)","v":""},{"$f":"IF('2.Logbook'!R446=\"\",\"\",'2.Logbook'!R446)","v":""},{"$f":"IF('2.Logbook'!S446=\"\",\"\",'2.Logbook'!S446)","v":""},{"$f":"IF('2.Logbook'!T446=\"\",\"\",'2.Logbook'!T446)","v":""},{"$f":"IF('2.Logbook'!U446=\"\",\"\",'2.Logbook'!U446)","v":""},{"$f":"IF('2.Logbook'!V446=\"\",\"\",'2.Logbook'!V446)","v":""},{"$f":"IF('2.Logbook'!W446=\"\",\"\",'2.Logbook'!W446)","v":""},{"$f":"IF('2.Logbook'!X446=\"\",\"\",'2.Logbook'!X446)","v":""},{"$f":"IF('2.Logbook'!Y446=\"\",\"\",'2.Logbook'!Y446)","v":""},{"$f":"IF('2.Logbook'!Z446=\"\",\"\",'2.Logbook'!Z446)","v":""},{"$f":"IF('2.Logbook'!AA446=\"\",\"\",'2.Logbook'!AA446)","v":""},{"$f":"IF('2.Logbook'!AB446=\"\",\"\",'2.Logbook'!AB446)","v":""},{"$f":"IF('2.Logbook'!AC446=\"\",\"\",'2.Logbook'!AC446)","v":""},{"$f":"IF('2.Logbook'!AD446=\"\",\"\",'2.Logbook'!AD446)","v":""},{"$f":"IF('2.Logbook'!AE446=\"\",\"\",'2.Logbook'!AE446)","v":""},{"$f":"IF('2.Logbook'!AF446=\"\",\"\",'2.Logbook'!AF446)","v":""},{"$f":"IF('2.Logbook'!AG446=\"\",\"\",'2.Logbook'!AG446)","v":""}]
[{"$f":"IF('2.Logbook'!A447=\"\",\"\",'2.Logbook'!A447)","v":""},{"$f":"IF('2.Logbook'!B447=\"\",\"\",'2.Logbook'!B447)","v":""},{"$f":"IF('2.Logbook'!C447=\"\",\"\",'2.Logbook'!C447)","v":""},{"$f":"IF('2.Logbook'!D447=\"\",\"\",'2.Logbook'!D447)","v":""},{"$f":"IF('2.Logbook'!E447=\"\",\"\",'2.Logbook'!E447)","v":""},{"$f":"IF('2.Logbook'!F447=\"\",\"\",'2.Logbook'!F447)","v":""},{"$f":"IF('2.Logbook'!G447=\"\",\"\",'2.Logbook'!G447)","v":""},{"$f":"IF('2.Logbook'!H447=\"\",\"\",'2.Logbook'!H447)","v":""},{"$f":"IF('2.Logbook'!I447=\"\",\"\",'2.Logbook'!I447)","v":""},{"$f":"IF('2.Logbook'!J447=\"\",\"\",'2.Logbook'!J447)","v":""},{"$f":"IF('2.Logbook'!K447=\"\",\"\",'2.Logbook'!K447)","v":""},{"$f":"IF('2.Logbook'!L447=\"\",\"\",'2.Logbook'!L447)","v":""},{"$f":"IF('2.Logbook'!M447=\"\",\"\",'2.Logbook'!M447)","v":""},{"$f":"IF('2.Logbook'!N447=\"\",\"\",'2.Logbook'!N447)","v":""},{"$f":"IF('2.Logbook'!O447=\"\",\"\",'2.Logbook'!O447)","v":""},{"$f":"IF('2.Logbook'!P447=\"\",\"\",'2.Logbook'!P447)","v":""},{"$f":"IF('2.Logbook'!Q447=\"\",\"\",'2.Logbook'!Q447)","v":""},{"$f":"IF('2.Logbook'!R447=\"\",\"\",'2.Logbook'!R447)","v":""},{"$f":"IF('2.Logbook'!S447=\"\",\"\",'2.Logbook'!S447)","v":""},{"$f":"IF('2.Logbook'!T447=\"\",\"\",'2.Logbook'!T447)","v":""},{"$f":"IF('2.Logbook'!U447=\"\",\"\",'2.Logbook'!U447)","v":""},{"$f":"IF('2.Logbook'!V447=\"\",\"\",'2.Logbook'!V447)","v":""},{"$f":"IF('2.Logbook'!W447=\"\",\"\",'2.Logbook'!W447)","v":""},{"$f":"IF('2.Logbook'!X447=\"\",\"\",'2.Logbook'!X447)","v":""},{"$f":"IF('2.Logbook'!Y447=\"\",\"\",'2.Logbook'!Y447)","v":""},{"$f":"IF('2.Logbook'!Z447=\"\",\"\",'2.Logbook'!Z447)","v":""},{"$f":"IF('2.Logbook'!AA447=\"\",\"\",'2.Logbook'!AA447)","v":""},{"$f":"IF('2.Logbook'!AB447=\"\",\"\",'2.Logbook'!AB447)","v":""},{"$f":"IF('2.Logbook'!AC447=\"\",\"\",'2.Logbook'!AC447)","v":""},{"$f":"IF('2.Logbook'!AD447=\"\",\"\",'2.Logbook'!AD447)","v":""},{"$f":"IF('2.Logbook'!AE447=\"\",\"\",'2.Logbook'!AE447)","v":""},{"$f":"IF('2.Logbook'!AF447=\"\",\"\",'2.Logbook'!AF447)","v":""},{"$f":"IF('2.Logbook'!AG447=\"\",\"\",'2.Logbook'!AG447)","v":""}]
[{"$f":"IF('2.Logbook'!A448=\"\",\"\",'2.Logbook'!A448)","v":""},{"$f":"IF('2.Logbook'!B448=\"\",\"\",'2.Logbook'!B448)","v":""},{"$f":"IF('2.Logbook'!C448=\"\",\"\",'2.Logbook'!C448)","v":""},{"$f":"IF('2.Logbook'!D448=\"\",\"\",'2.Logbook'!D448)","v":""},{"$f":"IF('2.Logbook'!E448=\"\",\"\",'2.Logbook'!E448)","v":""},{"$f":"IF('2.Logbook'!F448=\"\",\"\",'2.Logbook'!F448)","v":""},{"$f":"IF('2.Logbook'!G448=\"\",\"\",'2.Logbook'!G448)","v":""},{"$f":"IF('2.Logbook'!H448=\"\",\"\",'2.Logbook'!H448)","v":""},{"$f":"IF('2.Logbook'!I448=\"\",\"\",'2.Logbook'!I448)","v":""},{"$f":"IF('2.Logbook'!J448=\"\",\"\",'2.Logbook'!J448)","v":""},{"$f":"IF('2.Logbook'!K448=\"\",\"\",'2.Logbook'!K448)","v":""},{"$f":"IF('2.Logbook'!L448=\"\",\"\",'2.Logbook'!L448)","v":""},{"$f":"IF('2.Logbook'!M448=\"\",\"\",'2.Logbook'!M448)","v":""},{"$f":"IF('2.Logbook'!N448=\"\",\"\",'2.Logbook'!N448)","v":""},{"$f":"IF('2.Logbook'!O448=\"\",\"\",'2.Logbook'!O448)","v":""},{"$f":"IF('2.Logbook'!P448=\"\",\"\",'2.Logbook'!P448)","v":""},{"$f":"IF('2.Logbook'!Q448=\"\",\"\",'2.Logbook'!Q448)","v":""},{"$f":"IF('2.Logbook'!R448=\"\",\"\",'2.Logbook'!R448)","v":""},{"$f":"IF('2.Logbook'!S448=\"\",\"\",'2.Logbook'!S448)","v":""},{"$f":"IF('2.Logbook'!T448=\"\",\"\",'2.Logbook'!T448)","v":""},{"$f":"IF('2.Logbook'!U448=\"\",\"\",'2.Logbook'!U448)","v":""},{"$f":"IF('2.Logbook'!V448=\"\",\"\",'2.Logbook'!V448)","v":""},{"$f":"IF('2.Logbook'!W448=\"\",\"\",'2.Logbook'!W448)","v":""},{"$f":"IF('2.Logbook'!X448=\"\",\"\",'2.Logbook'!X448)","v":""},{"$f":"IF('2.Logbook'!Y448=\"\",\"\",'2.Logbook'!Y448)","v":""},{"$f":"IF('2.Logbook'!Z448=\"\",\"\",'2.Logbook'!Z448)","v":""},{"$f":"IF('2.Logbook'!AA448=\"\",\"\",'2.Logbook'!AA448)","v":""},{"$f":"IF('2.Logbook'!AB448=\"\",\"\",'2.Logbook'!AB448)","v":""},{"$f":"IF('2.Logbook'!AC448=\"\",\"\",'2.Logbook'!AC448)","v":""},{"$f":"IF('2.Logbook'!AD448=\"\",\"\",'2.Logbook'!AD448)","v":""},{"$f":"IF('2.Logbook'!AE448=\"\",\"\",'2.Logbook'!AE448)","v":""},{"$f":"IF('2.Logbook'!AF448=\"\",\"\",'2.Logbook'!AF448)","v":""},{"$f":"IF('2.Logbook'!AG448=\"\",\"\",'2.Logbook'!AG448)","v":""}]
[{"$f":"IF('2.Logbook'!A449=\"\",\"\",'2.Logbook'!A449)","v":""},{"$f":"IF('2.Logbook'!B449=\"\",\"\",'2.Logbook'!B449)","v":""},{"$f":"IF('2.Logbook'!C449=\"\",\"\",'2.Logbook'!C449)","v":""},{"$f":"IF('2.Logbook'!D449=\"\",\"\",'2.Logbook'!D449)","v":""},{"$f":"IF('2.Logbook'!E449=\"\",\"\",'2.Logbook'!E449)","v":""},{"$f":"IF('2.Logbook'!F449=\"\",\"\",'2.Logbook'!F449)","v":""},{"$f":"IF('2.Logbook'!G449=\"\",\"\",'2.Logbook'!G449)","v":""},{"$f":"IF('2.Logbook'!H449=\"\",\"\",'2.Logbook'!H449)","v":""},{"$f":"IF('2.Logbook'!I449=\"\",\"\",'2.Logbook'!I449)","v":""},{"$f":"IF('2.Logbook'!J449=\"\",\"\",'2.Logbook'!J449)","v":""},{"$f":"IF('2.Logbook'!K449=\"\",\"\",'2.Logbook'!K449)","v":""},{"$f":"IF('2.Logbook'!L449=\"\",\"\",'2.Logbook'!L449)","v":""},{"$f":"IF('2.Logbook'!M449=\"\",\"\",'2.Logbook'!M449)","v":""},{"$f":"IF('2.Logbook'!N449=\"\",\"\",'2.Logbook'!N449)","v":""},{"$f":"IF('2.Logbook'!O449=\"\",\"\",'2.Logbook'!O449)","v":""},{"$f":"IF('2.Logbook'!P449=\"\",\"\",'2.Logbook'!P449)","v":""},{"$f":"IF('2.Logbook'!Q449=\"\",\"\",'2.Logbook'!Q449)","v":""},{"$f":"IF('2.Logbook'!R449=\"\",\"\",'2.Logbook'!R449)","v":""},{"$f":"IF('2.Logbook'!S449=\"\",\"\",'2.Logbook'!S449)","v":""},{"$f":"IF('2.Logbook'!T449=\"\",\"\",'2.Logbook'!T449)","v":""},{"$f":"IF('2.Logbook'!U449=\"\",\"\",'2.Logbook'!U449)","v":""},{"$f":"IF('2.Logbook'!V449=\"\",\"\",'2.Logbook'!V449)","v":""},{"$f":"IF('2.Logbook'!W449=\"\",\"\",'2.Logbook'!W449)","v":""},{"$f":"IF('2.Logbook'!X449=\"\",\"\",'2.Logbook'!X449)","v":""},{"$f":"IF('2.Logbook'!Y449=\"\",\"\",'2.Logbook'!Y449)","v":""},{"$f":"IF('2.Logbook'!Z449=\"\",\"\",'2.Logbook'!Z449)","v":""},{"$f":"IF('2.Logbook'!AA449=\"\",\"\",'2.Logbook'!AA449)","v":""},{"$f":"IF('2.Logbook'!AB449=\"\",\"\",'2.Logbook'!AB449)","v":""},{"$f":"IF('2.Logbook'!AC449=\"\",\"\",'2.Logbook'!AC449)","v":""},{"$f":"IF('2.Logbook'!AD449=\"\",\"\",'2.Logbook'!AD449)","v":""},{"$f":"IF('2.Logbook'!AE449=\"\",\"\",'2.Logbook'!AE449)","v":""},{"$f":"IF('2.Logbook'!AF449=\"\",\"\",'2.Logbook'!AF449)","v":""},{"$f":"IF('2.Logbook'!AG449=\"\",\"\",'2.Logbook'!AG449)","v":""}]
[{"$f":"IF('2.Logbook'!A450=\"\",\"\",'2.Logbook'!A450)","v":""},{"$f":"IF('2.Logbook'!B450=\"\",\"\",'2.Logbook'!B450)","v":""},{"$f":"IF('2.Logbook'!C450=\"\",\"\",'2.Logbook'!C450)","v":""},{"$f":"IF('2.Logbook'!D450=\"\",\"\",'2.Logbook'!D450)","v":""},{"$f":"IF('2.Logbook'!E450=\"\",\"\",'2.Logbook'!E450)","v":""},{"$f":"IF('2.Logbook'!F450=\"\",\"\",'2.Logbook'!F450)","v":""},{"$f":"IF('2.Logbook'!G450=\"\",\"\",'2.Logbook'!G450)","v":""},{"$f":"IF('2.Logbook'!H450=\"\",\"\",'2.Logbook'!H450)","v":""},{"$f":"IF('2.Logbook'!I450=\"\",\"\",'2.Logbook'!I450)","v":""},{"$f":"IF('2.Logbook'!J450=\"\",\"\",'2.Logbook'!J450)","v":""},{"$f":"IF('2.Logbook'!K450=\"\",\"\",'2.Logbook'!K450)","v":""},{"$f":"IF('2.Logbook'!L450=\"\",\"\",'2.Logbook'!L450)","v":""},{"$f":"IF('2.Logbook'!M450=\"\",\"\",'2.Logbook'!M450)","v":""},{"$f":"IF('2.Logbook'!N450=\"\",\"\",'2.Logbook'!N450)","v":""},{"$f":"IF('2.Logbook'!O450=\"\",\"\",'2.Logbook'!O450)","v":""},{"$f":"IF('2.Logbook'!P450=\"\",\"\",'2.Logbook'!P450)","v":""},{"$f":"IF('2.Logbook'!Q450=\"\",\"\",'2.Logbook'!Q450)","v":""},{"$f":"IF('2.Logbook'!R450=\"\",\"\",'2.Logbook'!R450)","v":""},{"$f":"IF('2.Logbook'!S450=\"\",\"\",'2.Logbook'!S450)","v":""},{"$f":"IF('2.Logbook'!T450=\"\",\"\",'2.Logbook'!T450)","v":""},{"$f":"IF('2.Logbook'!U450=\"\",\"\",'2.Logbook'!U450)","v":""},{"$f":"IF('2.Logbook'!V450=\"\",\"\",'2.Logbook'!V450)","v":""},{"$f":"IF('2.Logbook'!W450=\"\",\"\",'2.Logbook'!W450)","v":""},{"$f":"IF('2.Logbook'!X450=\"\",\"\",'2.Logbook'!X450)","v":""},{"$f":"IF('2.Logbook'!Y450=\"\",\"\",'2.Logbook'!Y450)","v":""},{"$f":"IF('2.Logbook'!Z450=\"\",\"\",'2.Logbook'!Z450)","v":""},{"$f":"IF('2.Logbook'!AA450=\"\",\"\",'2.Logbook'!AA450)","v":""},{"$f":"IF('2.Logbook'!AB450=\"\",\"\",'2.Logbook'!AB450)","v":""},{"$f":"IF('2.Logbook'!AC450=\"\",\"\",'2.Logbook'!AC450)","v":""},{"$f":"IF('2.Logbook'!AD450=\"\",\"\",'2.Logbook'!AD450)","v":""},{"$f":"IF('2.Logbook'!AE450=\"\",\"\",'2.Logbook'!AE450)","v":""},{"$f":"IF('2.Logbook'!AF450=\"\",\"\",'2.Logbook'!AF450)","v":""},{"$f":"IF('2.Logbook'!AG450=\"\",\"\",'2.Logbook'!AG450)","v":""}]
[{"$f":"IF('2.Logbook'!A451=\"\",\"\",'2.Logbook'!A451)","v":""},{"$f":"IF('2.Logbook'!B451=\"\",\"\",'2.Logbook'!B451)","v":""},{"$f":"IF('2.Logbook'!C451=\"\",\"\",'2.Logbook'!C451)","v":""},{"$f":"IF('2.Logbook'!D451=\"\",\"\",'2.Logbook'!D451)","v":""},{"$f":"IF('2.Logbook'!E451=\"\",\"\",'2.Logbook'!E451)","v":""},{"$f":"IF('2.Logbook'!F451=\"\",\"\",'2.Logbook'!F451)","v":""},{"$f":"IF('2.Logbook'!G451=\"\",\"\",'2.Logbook'!G451)","v":""},{"$f":"IF('2.Logbook'!H451=\"\",\"\",'2.Logbook'!H451)","v":""},{"$f":"IF('2.Logbook'!I451=\"\",\"\",'2.Logbook'!I451)","v":""},{"$f":"IF('2.Logbook'!J451=\"\",\"\",'2.Logbook'!J451)","v":""},{"$f":"IF('2.Logbook'!K451=\"\",\"\",'2.Logbook'!K451)","v":""},{"$f":"IF('2.Logbook'!L451=\"\",\"\",'2.Logbook'!L451)","v":""},{"$f":"IF('2.Logbook'!M451=\"\",\"\",'2.Logbook'!M451)","v":""},{"$f":"IF('2.Logbook'!N451=\"\",\"\",'2.Logbook'!N451)","v":""},{"$f":"IF('2.Logbook'!O451=\"\",\"\",'2.Logbook'!O451)","v":""},{"$f":"IF('2.Logbook'!P451=\"\",\"\",'2.Logbook'!P451)","v":""},{"$f":"IF('2.Logbook'!Q451=\"\",\"\",'2.Logbook'!Q451)","v":""},{"$f":"IF('2.Logbook'!R451=\"\",\"\",'2.Logbook'!R451)","v":""},{"$f":"IF('2.Logbook'!S451=\"\",\"\",'2.Logbook'!S451)","v":""},{"$f":"IF('2.Logbook'!T451=\"\",\"\",'2.Logbook'!T451)","v":""},{"$f":"IF('2.Logbook'!U451=\"\",\"\",'2.Logbook'!U451)","v":""},{"$f":"IF('2.Logbook'!V451=\"\",\"\",'2.Logbook'!V451)","v":""},{"$f":"IF('2.Logbook'!W451=\"\",\"\",'2.Logbook'!W451)","v":""},{"$f":"IF('2.Logbook'!X451=\"\",\"\",'2.Logbook'!X451)","v":""},{"$f":"IF('2.Logbook'!Y451=\"\",\"\",'2.Logbook'!Y451)","v":""},{"$f":"IF('2.Logbook'!Z451=\"\",\"\",'2.Logbook'!Z451)","v":""},{"$f":"IF('2.Logbook'!AA451=\"\",\"\",'2.Logbook'!AA451)","v":""},{"$f":"IF('2.Logbook'!AB451=\"\",\"\",'2.Logbook'!AB451)","v":""},{"$f":"IF('2.Logbook'!AC451=\"\",\"\",'2.Logbook'!AC451)","v":""},{"$f":"IF('2.Logbook'!AD451=\"\",\"\",'2.Logbook'!AD451)","v":""},{"$f":"IF('2.Logbook'!AE451=\"\",\"\",'2.Logbook'!AE451)","v":""},{"$f":"IF('2.Logbook'!AF451=\"\",\"\",'2.Logbook'!AF451)","v":""},{"$f":"IF('2.Logbook'!AG451=\"\",\"\",'2.Logbook'!AG451)","v":""}]
[{"$f":"IF('2.Logbook'!A452=\"\",\"\",'2.Logbook'!A452)","v":""},{"$f":"IF('2.Logbook'!B452=\"\",\"\",'2.Logbook'!B452)","v":""},{"$f":"IF('2.Logbook'!C452=\"\",\"\",'2.Logbook'!C452)","v":""},{"$f":"IF('2.Logbook'!D452=\"\",\"\",'2.Logbook'!D452)","v":""},{"$f":"IF('2.Logbook'!E452=\"\",\"\",'2.Logbook'!E452)","v":""},{"$f":"IF('2.Logbook'!F452=\"\",\"\",'2.Logbook'!F452)","v":""},{"$f":"IF('2.Logbook'!G452=\"\",\"\",'2.Logbook'!G452)","v":""},{"$f":"IF('2.Logbook'!H452=\"\",\"\",'2.Logbook'!H452)","v":""},{"$f":"IF('2.Logbook'!I452=\"\",\"\",'2.Logbook'!I452)","v":""},{"$f":"IF('2.Logbook'!J452=\"\",\"\",'2.Logbook'!J452)","v":""},{"$f":"IF('2.Logbook'!K452=\"\",\"\",'2.Logbook'!K452)","v":""},{"$f":"IF('2.Logbook'!L452=\"\",\"\",'2.Logbook'!L452)","v":""},{"$f":"IF('2.Logbook'!M452=\"\",\"\",'2.Logbook'!M452)","v":""},{"$f":"IF('2.Logbook'!N452=\"\",\"\",'2.Logbook'!N452)","v":""},{"$f":"IF('2.Logbook'!O452=\"\",\"\",'2.Logbook'!O452)","v":""},{"$f":"IF('2.Logbook'!P452=\"\",\"\",'2.Logbook'!P452)","v":""},{"$f":"IF('2.Logbook'!Q452=\"\",\"\",'2.Logbook'!Q452)","v":""},{"$f":"IF('2.Logbook'!R452=\"\",\"\",'2.Logbook'!R452)","v":""},{"$f":"IF('2.Logbook'!S452=\"\",\"\",'2.Logbook'!S452)","v":""},{"$f":"IF('2.Logbook'!T452=\"\",\"\",'2.Logbook'!T452)","v":""},{"$f":"IF('2.Logbook'!U452=\"\",\"\",'2.Logbook'!U452)","v":""},{"$f":"IF('2.Logbook'!V452=\"\",\"\",'2.Logbook'!V452)","v":""},{"$f":"IF('2.Logbook'!W452=\"\",\"\",'2.Logbook'!W452)","v":""},{"$f":"IF('2.Logbook'!X452=\"\",\"\",'2.Logbook'!X452)","v":""},{"$f":"IF('2.Logbook'!Y452=\"\",\"\",'2.Logbook'!Y452)","v":""},{"$f":"IF('2.Logbook'!Z452=\"\",\"\",'2.Logbook'!Z452)","v":""},{"$f":"IF('2.Logbook'!AA452=\"\",\"\",'2.Logbook'!AA452)","v":""},{"$f":"IF('2.Logbook'!AB452=\"\",\"\",'2.Logbook'!AB452)","v":""},{"$f":"IF('2.Logbook'!AC452=\"\",\"\",'2.Logbook'!AC452)","v":""},{"$f":"IF('2.Logbook'!AD452=\"\",\"\",'2.Logbook'!AD452)","v":""},{"$f":"IF('2.Logbook'!AE452=\"\",\"\",'2.Logbook'!AE452)","v":""},{"$f":"IF('2.Logbook'!AF452=\"\",\"\",'2.Logbook'!AF452)","v":""},{"$f":"IF('2.Logbook'!AG452=\"\",\"\",'2.Logbook'!AG452)","v":""}]
[{"$f":"IF('2.Logbook'!A453=\"\",\"\",'2.Logbook'!A453)","v":""},{"$f":"IF('2.Logbook'!B453=\"\",\"\",'2.Logbook'!B453)","v":""},{"$f":"IF('2.Logbook'!C453=\"\",\"\",'2.Logbook'!C453)","v":""},{"$f":"IF('2.Logbook'!D453=\"\",\"\",'2.Logbook'!D453)","v":""},{"$f":"IF('2.Logbook'!E453=\"\",\"\",'2.Logbook'!E453)","v":""},{"$f":"IF('2.Logbook'!F453=\"\",\"\",'2.Logbook'!F453)","v":""},{"$f":"IF('2.Logbook'!G453=\"\",\"\",'2.Logbook'!G453)","v":""},{"$f":"IF('2.Logbook'!H453=\"\",\"\",'2.Logbook'!H453)","v":""},{"$f":"IF('2.Logbook'!I453=\"\",\"\",'2.Logbook'!I453)","v":""},{"$f":"IF('2.Logbook'!J453=\"\",\"\",'2.Logbook'!J453)","v":""},{"$f":"IF('2.Logbook'!K453=\"\",\"\",'2.Logbook'!K453)","v":""},{"$f":"IF('2.Logbook'!L453=\"\",\"\",'2.Logbook'!L453)","v":""},{"$f":"IF('2.Logbook'!M453=\"\",\"\",'2.Logbook'!M453)","v":""},{"$f":"IF('2.Logbook'!N453=\"\",\"\",'2.Logbook'!N453)","v":""},{"$f":"IF('2.Logbook'!O453=\"\",\"\",'2.Logbook'!O453)","v":""},{"$f":"IF('2.Logbook'!P453=\"\",\"\",'2.Logbook'!P453)","v":""},{"$f":"IF('2.Logbook'!Q453=\"\",\"\",'2.Logbook'!Q453)","v":""},{"$f":"IF('2.Logbook'!R453=\"\",\"\",'2.Logbook'!R453)","v":""},{"$f":"IF('2.Logbook'!S453=\"\",\"\",'2.Logbook'!S453)","v":""},{"$f":"IF('2.Logbook'!T453=\"\",\"\",'2.Logbook'!T453)","v":""},{"$f":"IF('2.Logbook'!U453=\"\",\"\",'2.Logbook'!U453)","v":""},{"$f":"IF('2.Logbook'!V453=\"\",\"\",'2.Logbook'!V453)","v":""},{"$f":"IF('2.Logbook'!W453=\"\",\"\",'2.Logbook'!W453)","v":""},{"$f":"IF('2.Logbook'!X453=\"\",\"\",'2.Logbook'!X453)","v":""},{"$f":"IF('2.Logbook'!Y453=\"\",\"\",'2.Logbook'!Y453)","v":""},{"$f":"IF('2.Logbook'!Z453=\"\",\"\",'2.Logbook'!Z453)","v":""},{"$f":"IF('2.Logbook'!AA453=\"\",\"\",'2.Logbook'!AA453)","v":""},{"$f":"IF('2.Logbook'!AB453=\"\",\"\",'2.Logbook'!AB453)","v":""},{"$f":"IF('2.Logbook'!AC453=\"\",\"\",'2.Logbook'!AC453)","v":""},{"$f":"IF('2.Logbook'!AD453=\"\",\"\",'2.Logbook'!AD453)","v":""},{"$f":"IF('2.Logbook'!AE453=\"\",\"\",'2.Logbook'!AE453)","v":""},{"$f":"IF('2.Logbook'!AF453=\"\",\"\",'2.Logbook'!AF453)","v":""},{"$f":"IF('2.Logbook'!AG453=\"\",\"\",'2.Logbook'!AG453)","v":""}]
[{"$f":"IF('2.Logbook'!A454=\"\",\"\",'2.Logbook'!A454)","v":""},{"$f":"IF('2.Logbook'!B454=\"\",\"\",'2.Logbook'!B454)","v":""},{"$f":"IF('2.Logbook'!C454=\"\",\"\",'2.Logbook'!C454)","v":""},{"$f":"IF('2.Logbook'!D454=\"\",\"\",'2.Logbook'!D454)","v":""},{"$f":"IF('2.Logbook'!E454=\"\",\"\",'2.Logbook'!E454)","v":""},{"$f":"IF('2.Logbook'!F454=\"\",\"\",'2.Logbook'!F454)","v":""},{"$f":"IF('2.Logbook'!G454=\"\",\"\",'2.Logbook'!G454)","v":""},{"$f":"IF('2.Logbook'!H454=\"\",\"\",'2.Logbook'!H454)","v":""},{"$f":"IF('2.Logbook'!I454=\"\",\"\",'2.Logbook'!I454)","v":""},{"$f":"IF('2.Logbook'!J454=\"\",\"\",'2.Logbook'!J454)","v":""},{"$f":"IF('2.Logbook'!K454=\"\",\"\",'2.Logbook'!K454)","v":""},{"$f":"IF('2.Logbook'!L454=\"\",\"\",'2.Logbook'!L454)","v":""},{"$f":"IF('2.Logbook'!M454=\"\",\"\",'2.Logbook'!M454)","v":""},{"$f":"IF('2.Logbook'!N454=\"\",\"\",'2.Logbook'!N454)","v":""},{"$f":"IF('2.Logbook'!O454=\"\",\"\",'2.Logbook'!O454)","v":""},{"$f":"IF('2.Logbook'!P454=\"\",\"\",'2.Logbook'!P454)","v":""},{"$f":"IF('2.Logbook'!Q454=\"\",\"\",'2.Logbook'!Q454)","v":""},{"$f":"IF('2.Logbook'!R454=\"\",\"\",'2.Logbook'!R454)","v":""},{"$f":"IF('2.Logbook'!S454=\"\",\"\",'2.Logbook'!S454)","v":""},{"$f":"IF('2.Logbook'!T454=\"\",\"\",'2.Logbook'!T454)","v":""},{"$f":"IF('2.Logbook'!U454=\"\",\"\",'2.Logbook'!U454)","v":""},{"$f":"IF('2.Logbook'!V454=\"\",\"\",'2.Logbook'!V454)","v":""},{"$f":"IF('2.Logbook'!W454=\"\",\"\",'2.Logbook'!W454)","v":""},{"$f":"IF('2.Logbook'!X454=\"\",\"\",'2.Logbook'!X454)","v":""},{"$f":"IF('2.Logbook'!Y454=\"\",\"\",'2.Logbook'!Y454)","v":""},{"$f":"IF('2.Logbook'!Z454=\"\",\"\",'2.Logbook'!Z454)","v":""},{"$f":"IF('2.Logbook'!AA454=\"\",\"\",'2.Logbook'!AA454)","v":""},{"$f":"IF('2.Logbook'!AB454=\"\",\"\",'2.Logbook'!AB454)","v":""},{"$f":"IF('2.Logbook'!AC454=\"\",\"\",'2.Logbook'!AC454)","v":""},{"$f":"IF('2.Logbook'!AD454=\"\",\"\",'2.Logbook'!AD454)","v":""},{"$f":"IF('2.Logbook'!AE454=\"\",\"\",'2.Logbook'!AE454)","v":""},{"$f":"IF('2.Logbook'!AF454=\"\",\"\",'2.Logbook'!AF454)","v":""},{"$f":"IF('2.Logbook'!AG454=\"\",\"\",'2.Logbook'!AG454)","v":""}]
[{"$f":"IF('2.Logbook'!A455=\"\",\"\",'2.Logbook'!A455)","v":""},{"$f":"IF('2.Logbook'!B455=\"\",\"\",'2.Logbook'!B455)","v":""},{"$f":"IF('2.Logbook'!C455=\"\",\"\",'2.Logbook'!C455)","v":""},{"$f":"IF('2.Logbook'!D455=\"\",\"\",'2.Logbook'!D455)","v":""},{"$f":"IF('2.Logbook'!E455=\"\",\"\",'2.Logbook'!E455)","v":""},{"$f":"IF('2.Logbook'!F455=\"\",\"\",'2.Logbook'!F455)","v":""},{"$f":"IF('2.Logbook'!G455=\"\",\"\",'2.Logbook'!G455)","v":""},{"$f":"IF('2.Logbook'!H455=\"\",\"\",'2.Logbook'!H455)","v":""},{"$f":"IF('2.Logbook'!I455=\"\",\"\",'2.Logbook'!I455)","v":""},{"$f":"IF('2.Logbook'!J455=\"\",\"\",'2.Logbook'!J455)","v":""},{"$f":"IF('2.Logbook'!K455=\"\",\"\",'2.Logbook'!K455)","v":""},{"$f":"IF('2.Logbook'!L455=\"\",\"\",'2.Logbook'!L455)","v":""},{"$f":"IF('2.Logbook'!M455=\"\",\"\",'2.Logbook'!M455)","v":""},{"$f":"IF('2.Logbook'!N455=\"\",\"\",'2.Logbook'!N455)","v":""},{"$f":"IF('2.Logbook'!O455=\"\",\"\",'2.Logbook'!O455)","v":""},{"$f":"IF('2.Logbook'!P455=\"\",\"\",'2.Logbook'!P455)","v":""},{"$f":"IF('2.Logbook'!Q455=\"\",\"\",'2.Logbook'!Q455)","v":""},{"$f":"IF('2.Logbook'!R455=\"\",\"\",'2.Logbook'!R455)","v":""},{"$f":"IF('2.Logbook'!S455=\"\",\"\",'2.Logbook'!S455)","v":""},{"$f":"IF('2.Logbook'!T455=\"\",\"\",'2.Logbook'!T455)","v":""},{"$f":"IF('2.Logbook'!U455=\"\",\"\",'2.Logbook'!U455)","v":""},{"$f":"IF('2.Logbook'!V455=\"\",\"\",'2.Logbook'!V455)","v":""},{"$f":"IF('2.Logbook'!W455=\"\",\"\",'2.Logbook'!W455)","v":""},{"$f":"IF('2.Logbook'!X455=\"\",\"\",'2.Logbook'!X455)","v":""},{"$f":"IF('2.Logbook'!Y455=\"\",\"\",'2.Logbook'!Y455)","v":""},{"$f":"IF('2.Logbook'!Z455=\"\",\"\",'2.Logbook'!Z455)","v":""},{"$f":"IF('2.Logbook'!AA455=\"\",\"\",'2.Logbook'!AA455)","v":""},{"$f":"IF('2.Logbook'!AB455=\"\",\"\",'2.Logbook'!AB455)","v":""},{"$f":"IF('2.Logbook'!AC455=\"\",\"\",'2.Logbook'!AC455)","v":""},{"$f":"IF('2.Logbook'!AD455=\"\",\"\",'2.Logbook'!AD455)","v":""},{"$f":"IF('2.Logbook'!AE455=\"\",\"\",'2.Logbook'!AE455)","v":""},{"$f":"IF('2.Logbook'!AF455=\"\",\"\",'2.Logbook'!AF455)","v":""},{"$f":"IF('2.Logbook'!AG455=\"\",\"\",'2.Logbook'!AG455)","v":""}]
[{"$f":"IF('2.Logbook'!A456=\"\",\"\",'2.Logbook'!A456)","v":""},{"$f":"IF('2.Logbook'!B456=\"\",\"\",'2.Logbook'!B456)","v":""},{"$f":"IF('2.Logbook'!C456=\"\",\"\",'2.Logbook'!C456)","v":""},{"$f":"IF('2.Logbook'!D456=\"\",\"\",'2.Logbook'!D456)","v":""},{"$f":"IF('2.Logbook'!E456=\"\",\"\",'2.Logbook'!E456)","v":""},{"$f":"IF('2.Logbook'!F456=\"\",\"\",'2.Logbook'!F456)","v":""},{"$f":"IF('2.Logbook'!G456=\"\",\"\",'2.Logbook'!G456)","v":""},{"$f":"IF('2.Logbook'!H456=\"\",\"\",'2.Logbook'!H456)","v":""},{"$f":"IF('2.Logbook'!I456=\"\",\"\",'2.Logbook'!I456)","v":""},{"$f":"IF('2.Logbook'!J456=\"\",\"\",'2.Logbook'!J456)","v":""},{"$f":"IF('2.Logbook'!K456=\"\",\"\",'2.Logbook'!K456)","v":""},{"$f":"IF('2.Logbook'!L456=\"\",\"\",'2.Logbook'!L456)","v":""},{"$f":"IF('2.Logbook'!M456=\"\",\"\",'2.Logbook'!M456)","v":""},{"$f":"IF('2.Logbook'!N456=\"\",\"\",'2.Logbook'!N456)","v":""},{"$f":"IF('2.Logbook'!O456=\"\",\"\",'2.Logbook'!O456)","v":""},{"$f":"IF('2.Logbook'!P456=\"\",\"\",'2.Logbook'!P456)","v":""},{"$f":"IF('2.Logbook'!Q456=\"\",\"\",'2.Logbook'!Q456)","v":""},{"$f":"IF('2.Logbook'!R456=\"\",\"\",'2.Logbook'!R456)","v":""},{"$f":"IF('2.Logbook'!S456=\"\",\"\",'2.Logbook'!S456)","v":""},{"$f":"IF('2.Logbook'!T456=\"\",\"\",'2.Logbook'!T456)","v":""},{"$f":"IF('2.Logbook'!U456=\"\",\"\",'2.Logbook'!U456)","v":""},{"$f":"IF('2.Logbook'!V456=\"\",\"\",'2.Logbook'!V456)","v":""},{"$f":"IF('2.Logbook'!W456=\"\",\"\",'2.Logbook'!W456)","v":""},{"$f":"IF('2.Logbook'!X456=\"\",\"\",'2.Logbook'!X456)","v":""},{"$f":"IF('2.Logbook'!Y456=\"\",\"\",'2.Logbook'!Y456)","v":""},{"$f":"IF('2.Logbook'!Z456=\"\",\"\",'2.Logbook'!Z456)","v":""},{"$f":"IF('2.Logbook'!AA456=\"\",\"\",'2.Logbook'!AA456)","v":""},{"$f":"IF('2.Logbook'!AB456=\"\",\"\",'2.Logbook'!AB456)","v":""},{"$f":"IF('2.Logbook'!AC456=\"\",\"\",'2.Logbook'!AC456)","v":""},{"$f":"IF('2.Logbook'!AD456=\"\",\"\",'2.Logbook'!AD456)","v":""},{"$f":"IF('2.Logbook'!AE456=\"\",\"\",'2.Logbook'!AE456)","v":""},{"$f":"IF('2.Logbook'!AF456=\"\",\"\",'2.Logbook'!AF456)","v":""},{"$f":"IF('2.Logbook'!AG456=\"\",\"\",'2.Logbook'!AG456)","v":""}]
[{"$f":"IF('2.Logbook'!A457=\"\",\"\",'2.Logbook'!A457)","v":""},{"$f":"IF('2.Logbook'!B457=\"\",\"\",'2.Logbook'!B457)","v":""},{"$f":"IF('2.Logbook'!C457=\"\",\"\",'2.Logbook'!C457)","v":""},{"$f":"IF('2.Logbook'!D457=\"\",\"\",'2.Logbook'!D457)","v":""},{"$f":"IF('2.Logbook'!E457=\"\",\"\",'2.Logbook'!E457)","v":""},{"$f":"IF('2.Logbook'!F457=\"\",\"\",'2.Logbook'!F457)","v":""},{"$f":"IF('2.Logbook'!G457=\"\",\"\",'2.Logbook'!G457)","v":""},{"$f":"IF('2.Logbook'!H457=\"\",\"\",'2.Logbook'!H457)","v":""},{"$f":"IF('2.Logbook'!I457=\"\",\"\",'2.Logbook'!I457)","v":""},{"$f":"IF('2.Logbook'!J457=\"\",\"\",'2.Logbook'!J457)","v":""},{"$f":"IF('2.Logbook'!K457=\"\",\"\",'2.Logbook'!K457)","v":""},{"$f":"IF('2.Logbook'!L457=\"\",\"\",'2.Logbook'!L457)","v":""},{"$f":"IF('2.Logbook'!M457=\"\",\"\",'2.Logbook'!M457)","v":""},{"$f":"IF('2.Logbook'!N457=\"\",\"\",'2.Logbook'!N457)","v":""},{"$f":"IF('2.Logbook'!O457=\"\",\"\",'2.Logbook'!O457)","v":""},{"$f":"IF('2.Logbook'!P457=\"\",\"\",'2.Logbook'!P457)","v":""},{"$f":"IF('2.Logbook'!Q457=\"\",\"\",'2.Logbook'!Q457)","v":""},{"$f":"IF('2.Logbook'!R457=\"\",\"\",'2.Logbook'!R457)","v":""},{"$f":"IF('2.Logbook'!S457=\"\",\"\",'2.Logbook'!S457)","v":""},{"$f":"IF('2.Logbook'!T457=\"\",\"\",'2.Logbook'!T457)","v":""},{"$f":"IF('2.Logbook'!U457=\"\",\"\",'2.Logbook'!U457)","v":""},{"$f":"IF('2.Logbook'!V457=\"\",\"\",'2.Logbook'!V457)","v":""},{"$f":"IF('2.Logbook'!W457=\"\",\"\",'2.Logbook'!W457)","v":""},{"$f":"IF('2.Logbook'!X457=\"\",\"\",'2.Logbook'!X457)","v":""},{"$f":"IF('2.Logbook'!Y457=\"\",\"\",'2.Logbook'!Y457)","v":""},{"$f":"IF('2.Logbook'!Z457=\"\",\"\",'2.Logbook'!Z457)","v":""},{"$f":"IF('2.Logbook'!AA457=\"\",\"\",'2.Logbook'!AA457)","v":""},{"$f":"IF('2.Logbook'!AB457=\"\",\"\",'2.Logbook'!AB457)","v":""},{"$f":"IF('2.Logbook'!AC457=\"\",\"\",'2.Logbook'!AC457)","v":""},{"$f":"IF('2.Logbook'!AD457=\"\",\"\",'2.Logbook'!AD457)","v":""},{"$f":"IF('2.Logbook'!AE457=\"\",\"\",'2.Logbook'!AE457)","v":""},{"$f":"IF('2.Logbook'!AF457=\"\",\"\",'2.Logbook'!AF457)","v":""},{"$f":"IF('2.Logbook'!AG457=\"\",\"\",'2.Logbook'!AG457)","v":""}]
[{"$f":"IF('2.Logbook'!A458=\"\",\"\",'2.Logbook'!A458)","v":""},{"$f":"IF('2.Logbook'!B458=\"\",\"\",'2.Logbook'!B458)","v":""},{"$f":"IF('2.Logbook'!C458=\"\",\"\",'2.Logbook'!C458)","v":""},{"$f":"IF('2.Logbook'!D458=\"\",\"\",'2.Logbook'!D458)","v":""},{"$f":"IF('2.Logbook'!E458=\"\",\"\",'2.Logbook'!E458)","v":""},{"$f":"IF('2.Logbook'!F458=\"\",\"\",'2.Logbook'!F458)","v":""},{"$f":"IF('2.Logbook'!G458=\"\",\"\",'2.Logbook'!G458)","v":""},{"$f":"IF('2.Logbook'!H458=\"\",\"\",'2.Logbook'!H458)","v":""},{"$f":"IF('2.Logbook'!I458=\"\",\"\",'2.Logbook'!I458)","v":""},{"$f":"IF('2.Logbook'!J458=\"\",\"\",'2.Logbook'!J458)","v":""},{"$f":"IF('2.Logbook'!K458=\"\",\"\",'2.Logbook'!K458)","v":""},{"$f":"IF('2.Logbook'!L458=\"\",\"\",'2.Logbook'!L458)","v":""},{"$f":"IF('2.Logbook'!M458=\"\",\"\",'2.Logbook'!M458)","v":""},{"$f":"IF('2.Logbook'!N458=\"\",\"\",'2.Logbook'!N458)","v":""},{"$f":"IF('2.Logbook'!O458=\"\",\"\",'2.Logbook'!O458)","v":""},{"$f":"IF('2.Logbook'!P458=\"\",\"\",'2.Logbook'!P458)","v":""},{"$f":"IF('2.Logbook'!Q458=\"\",\"\",'2.Logbook'!Q458)","v":""},{"$f":"IF('2.Logbook'!R458=\"\",\"\",'2.Logbook'!R458)","v":""},{"$f":"IF('2.Logbook'!S458=\"\",\"\",'2.Logbook'!S458)","v":""},{"$f":"IF('2.Logbook'!T458=\"\",\"\",'2.Logbook'!T458)","v":""},{"$f":"IF('2.Logbook'!U458=\"\",\"\",'2.Logbook'!U458)","v":""},{"$f":"IF('2.Logbook'!V458=\"\",\"\",'2.Logbook'!V458)","v":""},{"$f":"IF('2.Logbook'!W458=\"\",\"\",'2.Logbook'!W458)","v":""},{"$f":"IF('2.Logbook'!X458=\"\",\"\",'2.Logbook'!X458)","v":""},{"$f":"IF('2.Logbook'!Y458=\"\",\"\",'2.Logbook'!Y458)","v":""},{"$f":"IF('2.Logbook'!Z458=\"\",\"\",'2.Logbook'!Z458)","v":""},{"$f":"IF('2.Logbook'!AA458=\"\",\"\",'2.Logbook'!AA458)","v":""},{"$f":"IF('2.Logbook'!AB458=\"\",\"\",'2.Logbook'!AB458)","v":""},{"$f":"IF('2.Logbook'!AC458=\"\",\"\",'2.Logbook'!AC458)","v":""},{"$f":"IF('2.Logbook'!AD458=\"\",\"\",'2.Logbook'!AD458)","v":""},{"$f":"IF('2.Logbook'!AE458=\"\",\"\",'2.Logbook'!AE458)","v":""},{"$f":"IF('2.Logbook'!AF458=\"\",\"\",'2.Logbook'!AF458)","v":""},{"$f":"IF('2.Logbook'!AG458=\"\",\"\",'2.Logbook'!AG458)","v":""}]
[{"$f":"IF('2.Logbook'!A459=\"\",\"\",'2.Logbook'!A459)","v":""},{"$f":"IF('2.Logbook'!B459=\"\",\"\",'2.Logbook'!B459)","v":""},{"$f":"IF('2.Logbook'!C459=\"\",\"\",'2.Logbook'!C459)","v":""},{"$f":"IF('2.Logbook'!D459=\"\",\"\",'2.Logbook'!D459)","v":""},{"$f":"IF('2.Logbook'!E459=\"\",\"\",'2.Logbook'!E459)","v":""},{"$f":"IF('2.Logbook'!F459=\"\",\"\",'2.Logbook'!F459)","v":""},{"$f":"IF('2.Logbook'!G459=\"\",\"\",'2.Logbook'!G459)","v":""},{"$f":"IF('2.Logbook'!H459=\"\",\"\",'2.Logbook'!H459)","v":""},{"$f":"IF('2.Logbook'!I459=\"\",\"\",'2.Logbook'!I459)","v":""},{"$f":"IF('2.Logbook'!J459=\"\",\"\",'2.Logbook'!J459)","v":""},{"$f":"IF('2.Logbook'!K459=\"\",\"\",'2.Logbook'!K459)","v":""},{"$f":"IF('2.Logbook'!L459=\"\",\"\",'2.Logbook'!L459)","v":""},{"$f":"IF('2.Logbook'!M459=\"\",\"\",'2.Logbook'!M459)","v":""},{"$f":"IF('2.Logbook'!N459=\"\",\"\",'2.Logbook'!N459)","v":""},{"$f":"IF('2.Logbook'!O459=\"\",\"\",'2.Logbook'!O459)","v":""},{"$f":"IF('2.Logbook'!P459=\"\",\"\",'2.Logbook'!P459)","v":""},{"$f":"IF('2.Logbook'!Q459=\"\",\"\",'2.Logbook'!Q459)","v":""},{"$f":"IF('2.Logbook'!R459=\"\",\"\",'2.Logbook'!R459)","v":""},{"$f":"IF('2.Logbook'!S459=\"\",\"\",'2.Logbook'!S459)","v":""},{"$f":"IF('2.Logbook'!T459=\"\",\"\",'2.Logbook'!T459)","v":""},{"$f":"IF('2.Logbook'!U459=\"\",\"\",'2.Logbook'!U459)","v":""},{"$f":"IF('2.Logbook'!V459=\"\",\"\",'2.Logbook'!V459)","v":""},{"$f":"IF('2.Logbook'!W459=\"\",\"\",'2.Logbook'!W459)","v":""},{"$f":"IF('2.Logbook'!X459=\"\",\"\",'2.Logbook'!X459)","v":""},{"$f":"IF('2.Logbook'!Y459=\"\",\"\",'2.Logbook'!Y459)","v":""},{"$f":"IF('2.Logbook'!Z459=\"\",\"\",'2.Logbook'!Z459)","v":""},{"$f":"IF('2.Logbook'!AA459=\"\",\"\",'2.Logbook'!AA459)","v":""},{"$f":"IF('2.Logbook'!AB459=\"\",\"\",'2.Logbook'!AB459)","v":""},{"$f":"IF('2.Logbook'!AC459=\"\",\"\",'2.Logbook'!AC459)","v":""},{"$f":"IF('2.Logbook'!AD459=\"\",\"\",'2.Logbook'!AD459)","v":""},{"$f":"IF('2.Logbook'!AE459=\"\",\"\",'2.Logbook'!AE459)","v":""},{"$f":"IF('2.Logbook'!AF459=\"\",\"\",'2.Logbook'!AF459)","v":""},{"$f":"IF('2.Logbook'!AG459=\"\",\"\",'2.Logbook'!AG459)","v":""}]
[{"$f":"IF('2.Logbook'!A460=\"\",\"\",'2.Logbook'!A460)","v":""},{"$f":"IF('2.Logbook'!B460=\"\",\"\",'2.Logbook'!B460)","v":""},{"$f":"IF('2.Logbook'!C460=\"\",\"\",'2.Logbook'!C460)","v":""},{"$f":"IF('2.Logbook'!D460=\"\",\"\",'2.Logbook'!D460)","v":""},{"$f":"IF('2.Logbook'!E460=\"\",\"\",'2.Logbook'!E460)","v":""},{"$f":"IF('2.Logbook'!F460=\"\",\"\",'2.Logbook'!F460)","v":""},{"$f":"IF('2.Logbook'!G460=\"\",\"\",'2.Logbook'!G460)","v":""},{"$f":"IF('2.Logbook'!H460=\"\",\"\",'2.Logbook'!H460)","v":""},{"$f":"IF('2.Logbook'!I460=\"\",\"\",'2.Logbook'!I460)","v":""},{"$f":"IF('2.Logbook'!J460=\"\",\"\",'2.Logbook'!J460)","v":""},{"$f":"IF('2.Logbook'!K460=\"\",\"\",'2.Logbook'!K460)","v":""},{"$f":"IF('2.Logbook'!L460=\"\",\"\",'2.Logbook'!L460)","v":""},{"$f":"IF('2.Logbook'!M460=\"\",\"\",'2.Logbook'!M460)","v":""},{"$f":"IF('2.Logbook'!N460=\"\",\"\",'2.Logbook'!N460)","v":""},{"$f":"IF('2.Logbook'!O460=\"\",\"\",'2.Logbook'!O460)","v":""},{"$f":"IF('2.Logbook'!P460=\"\",\"\",'2.Logbook'!P460)","v":""},{"$f":"IF('2.Logbook'!Q460=\"\",\"\",'2.Logbook'!Q460)","v":""},{"$f":"IF('2.Logbook'!R460=\"\",\"\",'2.Logbook'!R460)","v":""},{"$f":"IF('2.Logbook'!S460=\"\",\"\",'2.Logbook'!S460)","v":""},{"$f":"IF('2.Logbook'!T460=\"\",\"\",'2.Logbook'!T460)","v":""},{"$f":"IF('2.Logbook'!U460=\"\",\"\",'2.Logbook'!U460)","v":""},{"$f":"IF('2.Logbook'!V460=\"\",\"\",'2.Logbook'!V460)","v":""},{"$f":"IF('2.Logbook'!W460=\"\",\"\",'2.Logbook'!W460)","v":""},{"$f":"IF('2.Logbook'!X460=\"\",\"\",'2.Logbook'!X460)","v":""},{"$f":"IF('2.Logbook'!Y460=\"\",\"\",'2.Logbook'!Y460)","v":""},{"$f":"IF('2.Logbook'!Z460=\"\",\"\",'2.Logbook'!Z460)","v":""},{"$f":"IF('2.Logbook'!AA460=\"\",\"\",'2.Logbook'!AA460)","v":""},{"$f":"IF('2.Logbook'!AB460=\"\",\"\",'2.Logbook'!AB460)","v":""},{"$f":"IF('2.Logbook'!AC460=\"\",\"\",'2.Logbook'!AC460)","v":""},{"$f":"IF('2.Logbook'!AD460=\"\",\"\",'2.Logbook'!AD460)","v":""},{"$f":"IF('2.Logbook'!AE460=\"\",\"\",'2.Logbook'!AE460)","v":""},{"$f":"IF('2.Logbook'!AF460=\"\",\"\",'2.Logbook'!AF460)","v":""},{"$f":"IF('2.Logbook'!AG460=\"\",\"\",'2.Logbook'!AG460)","v":""}]
[{"$f":"IF('2.Logbook'!A461=\"\",\"\",'2.Logbook'!A461)","v":""},{"$f":"IF('2.Logbook'!B461=\"\",\"\",'2.Logbook'!B461)","v":""},{"$f":"IF('2.Logbook'!C461=\"\",\"\",'2.Logbook'!C461)","v":""},{"$f":"IF('2.Logbook'!D461=\"\",\"\",'2.Logbook'!D461)","v":""},{"$f":"IF('2.Logbook'!E461=\"\",\"\",'2.Logbook'!E461)","v":""},{"$f":"IF('2.Logbook'!F461=\"\",\"\",'2.Logbook'!F461)","v":""},{"$f":"IF('2.Logbook'!G461=\"\",\"\",'2.Logbook'!G461)","v":""},{"$f":"IF('2.Logbook'!H461=\"\",\"\",'2.Logbook'!H461)","v":""},{"$f":"IF('2.Logbook'!I461=\"\",\"\",'2.Logbook'!I461)","v":""},{"$f":"IF('2.Logbook'!J461=\"\",\"\",'2.Logbook'!J461)","v":""},{"$f":"IF('2.Logbook'!K461=\"\",\"\",'2.Logbook'!K461)","v":""},{"$f":"IF('2.Logbook'!L461=\"\",\"\",'2.Logbook'!L461)","v":""},{"$f":"IF('2.Logbook'!M461=\"\",\"\",'2.Logbook'!M461)","v":""},{"$f":"IF('2.Logbook'!N461=\"\",\"\",'2.Logbook'!N461)","v":""},{"$f":"IF('2.Logbook'!O461=\"\",\"\",'2.Logbook'!O461)","v":""},{"$f":"IF('2.Logbook'!P461=\"\",\"\",'2.Logbook'!P461)","v":""},{"$f":"IF('2.Logbook'!Q461=\"\",\"\",'2.Logbook'!Q461)","v":""},{"$f":"IF('2.Logbook'!R461=\"\",\"\",'2.Logbook'!R461)","v":""},{"$f":"IF('2.Logbook'!S461=\"\",\"\",'2.Logbook'!S461)","v":""},{"$f":"IF('2.Logbook'!T461=\"\",\"\",'2.Logbook'!T461)","v":""},{"$f":"IF('2.Logbook'!U461=\"\",\"\",'2.Logbook'!U461)","v":""},{"$f":"IF('2.Logbook'!V461=\"\",\"\",'2.Logbook'!V461)","v":""},{"$f":"IF('2.Logbook'!W461=\"\",\"\",'2.Logbook'!W461)","v":""},{"$f":"IF('2.Logbook'!X461=\"\",\"\",'2.Logbook'!X461)","v":""},{"$f":"IF('2.Logbook'!Y461=\"\",\"\",'2.Logbook'!Y461)","v":""},{"$f":"IF('2.Logbook'!Z461=\"\",\"\",'2.Logbook'!Z461)","v":""},{"$f":"IF('2.Logbook'!AA461=\"\",\"\",'2.Logbook'!AA461)","v":""},{"$f":"IF('2.Logbook'!AB461=\"\",\"\",'2.Logbook'!AB461)","v":""},{"$f":"IF('2.Logbook'!AC461=\"\",\"\",'2.Logbook'!AC461)","v":""},{"$f":"IF('2.Logbook'!AD461=\"\",\"\",'2.Logbook'!AD461)","v":""},{"$f":"IF('2.Logbook'!AE461=\"\",\"\",'2.Logbook'!AE461)","v":""},{"$f":"IF('2.Logbook'!AF461=\"\",\"\",'2.Logbook'!AF461)","v":""},{"$f":"IF('2.Logbook'!AG461=\"\",\"\",'2.Logbook'!AG461)","v":""}]
[{"$f":"IF('2.Logbook'!A462=\"\",\"\",'2.Logbook'!A462)","v":""},{"$f":"IF('2.Logbook'!B462=\"\",\"\",'2.Logbook'!B462)","v":""},{"$f":"IF('2.Logbook'!C462=\"\",\"\",'2.Logbook'!C462)","v":""},{"$f":"IF('2.Logbook'!D462=\"\",\"\",'2.Logbook'!D462)","v":""},{"$f":"IF('2.Logbook'!E462=\"\",\"\",'2.Logbook'!E462)","v":""},{"$f":"IF('2.Logbook'!F462=\"\",\"\",'2.Logbook'!F462)","v":""},{"$f":"IF('2.Logbook'!G462=\"\",\"\",'2.Logbook'!G462)","v":""},{"$f":"IF('2.Logbook'!H462=\"\",\"\",'2.Logbook'!H462)","v":""},{"$f":"IF('2.Logbook'!I462=\"\",\"\",'2.Logbook'!I462)","v":""},{"$f":"IF('2.Logbook'!J462=\"\",\"\",'2.Logbook'!J462)","v":""},{"$f":"IF('2.Logbook'!K462=\"\",\"\",'2.Logbook'!K462)","v":""},{"$f":"IF('2.Logbook'!L462=\"\",\"\",'2.Logbook'!L462)","v":""},{"$f":"IF('2.Logbook'!M462=\"\",\"\",'2.Logbook'!M462)","v":""},{"$f":"IF('2.Logbook'!N462=\"\",\"\",'2.Logbook'!N462)","v":""},{"$f":"IF('2.Logbook'!O462=\"\",\"\",'2.Logbook'!O462)","v":""},{"$f":"IF('2.Logbook'!P462=\"\",\"\",'2.Logbook'!P462)","v":""},{"$f":"IF('2.Logbook'!Q462=\"\",\"\",'2.Logbook'!Q462)","v":""},{"$f":"IF('2.Logbook'!R462=\"\",\"\",'2.Logbook'!R462)","v":""},{"$f":"IF('2.Logbook'!S462=\"\",\"\",'2.Logbook'!S462)","v":""},{"$f":"IF('2.Logbook'!T462=\"\",\"\",'2.Logbook'!T462)","v":""},{"$f":"IF('2.Logbook'!U462=\"\",\"\",'2.Logbook'!U462)","v":""},{"$f":"IF('2.Logbook'!V462=\"\",\"\",'2.Logbook'!V462)","v":""},{"$f":"IF('2.Logbook'!W462=\"\",\"\",'2.Logbook'!W462)","v":""},{"$f":"IF('2.Logbook'!X462=\"\",\"\",'2.Logbook'!X462)","v":""},{"$f":"IF('2.Logbook'!Y462=\"\",\"\",'2.Logbook'!Y462)","v":""},{"$f":"IF('2.Logbook'!Z462=\"\",\"\",'2.Logbook'!Z462)","v":""},{"$f":"IF('2.Logbook'!AA462=\"\",\"\",'2.Logbook'!AA462)","v":""},{"$f":"IF('2.Logbook'!AB462=\"\",\"\",'2.Logbook'!AB462)","v":""},{"$f":"IF('2.Logbook'!AC462=\"\",\"\",'2.Logbook'!AC462)","v":""},{"$f":"IF('2.Logbook'!AD462=\"\",\"\",'2.Logbook'!AD462)","v":""},{"$f":"IF('2.Logbook'!AE462=\"\",\"\",'2.Logbook'!AE462)","v":""},{"$f":"IF('2.Logbook'!AF462=\"\",\"\",'2.Logbook'!AF462)","v":""},{"$f":"IF('2.Logbook'!AG462=\"\",\"\",'2.Logbook'!AG462)","v":""}]
[{"$f":"IF('2.Logbook'!A463=\"\",\"\",'2.Logbook'!A463)","v":""},{"$f":"IF('2.Logbook'!B463=\"\",\"\",'2.Logbook'!B463)","v":""},{"$f":"IF('2.Logbook'!C463=\"\",\"\",'2.Logbook'!C463)","v":""},{"$f":"IF('2.Logbook'!D463=\"\",\"\",'2.Logbook'!D463)","v":""},{"$f":"IF('2.Logbook'!E463=\"\",\"\",'2.Logbook'!E463)","v":""},{"$f":"IF('2.Logbook'!F463=\"\",\"\",'2.Logbook'!F463)","v":""},{"$f":"IF('2.Logbook'!G463=\"\",\"\",'2.Logbook'!G463)","v":""},{"$f":"IF('2.Logbook'!H463=\"\",\"\",'2.Logbook'!H463)","v":""},{"$f":"IF('2.Logbook'!I463=\"\",\"\",'2.Logbook'!I463)","v":""},{"$f":"IF('2.Logbook'!J463=\"\",\"\",'2.Logbook'!J463)","v":""},{"$f":"IF('2.Logbook'!K463=\"\",\"\",'2.Logbook'!K463)","v":""},{"$f":"IF('2.Logbook'!L463=\"\",\"\",'2.Logbook'!L463)","v":""},{"$f":"IF('2.Logbook'!M463=\"\",\"\",'2.Logbook'!M463)","v":""},{"$f":"IF('2.Logbook'!N463=\"\",\"\",'2.Logbook'!N463)","v":""},{"$f":"IF('2.Logbook'!O463=\"\",\"\",'2.Logbook'!O463)","v":""},{"$f":"IF('2.Logbook'!P463=\"\",\"\",'2.Logbook'!P463)","v":""},{"$f":"IF('2.Logbook'!Q463=\"\",\"\",'2.Logbook'!Q463)","v":""},{"$f":"IF('2.Logbook'!R463=\"\",\"\",'2.Logbook'!R463)","v":""},{"$f":"IF('2.Logbook'!S463=\"\",\"\",'2.Logbook'!S463)","v":""},{"$f":"IF('2.Logbook'!T463=\"\",\"\",'2.Logbook'!T463)","v":""},{"$f":"IF('2.Logbook'!U463=\"\",\"\",'2.Logbook'!U463)","v":""},{"$f":"IF('2.Logbook'!V463=\"\",\"\",'2.Logbook'!V463)","v":""},{"$f":"IF('2.Logbook'!W463=\"\",\"\",'2.Logbook'!W463)","v":""},{"$f":"IF('2.Logbook'!X463=\"\",\"\",'2.Logbook'!X463)","v":""},{"$f":"IF('2.Logbook'!Y463=\"\",\"\",'2.Logbook'!Y463)","v":""},{"$f":"IF('2.Logbook'!Z463=\"\",\"\",'2.Logbook'!Z463)","v":""},{"$f":"IF('2.Logbook'!AA463=\"\",\"\",'2.Logbook'!AA463)","v":""},{"$f":"IF('2.Logbook'!AB463=\"\",\"\",'2.Logbook'!AB463)","v":""},{"$f":"IF('2.Logbook'!AC463=\"\",\"\",'2.Logbook'!AC463)","v":""},{"$f":"IF('2.Logbook'!AD463=\"\",\"\",'2.Logbook'!AD463)","v":""},{"$f":"IF('2.Logbook'!AE463=\"\",\"\",'2.Logbook'!AE463)","v":""},{"$f":"IF('2.Logbook'!AF463=\"\",\"\",'2.Logbook'!AF463)","v":""},{"$f":"IF('2.Logbook'!AG463=\"\",\"\",'2.Logbook'!AG463)","v":""}]
[{"$f":"IF('2.Logbook'!A464=\"\",\"\",'2.Logbook'!A464)","v":""},{"$f":"IF('2.Logbook'!B464=\"\",\"\",'2.Logbook'!B464)","v":""},{"$f":"IF('2.Logbook'!C464=\"\",\"\",'2.Logbook'!C464)","v":""},{"$f":"IF('2.Logbook'!D464=\"\",\"\",'2.Logbook'!D464)","v":""},{"$f":"IF('2.Logbook'!E464=\"\",\"\",'2.Logbook'!E464)","v":""},{"$f":"IF('2.Logbook'!F464=\"\",\"\",'2.Logbook'!F464)","v":""},{"$f":"IF('2.Logbook'!G464=\"\",\"\",'2.Logbook'!G464)","v":""},{"$f":"IF('2.Logbook'!H464=\"\",\"\",'2.Logbook'!H464)","v":""},{"$f":"IF('2.Logbook'!I464=\"\",\"\",'2.Logbook'!I464)","v":""},{"$f":"IF('2.Logbook'!J464=\"\",\"\",'2.Logbook'!J464)","v":""},{"$f":"IF('2.Logbook'!K464=\"\",\"\",'2.Logbook'!K464)","v":""},{"$f":"IF('2.Logbook'!L464=\"\",\"\",'2.Logbook'!L464)","v":""},{"$f":"IF('2.Logbook'!M464=\"\",\"\",'2.Logbook'!M464)","v":""},{"$f":"IF('2.Logbook'!N464=\"\",\"\",'2.Logbook'!N464)","v":""},{"$f":"IF('2.Logbook'!O464=\"\",\"\",'2.Logbook'!O464)","v":""},{"$f":"IF('2.Logbook'!P464=\"\",\"\",'2.Logbook'!P464)","v":""},{"$f":"IF('2.Logbook'!Q464=\"\",\"\",'2.Logbook'!Q464)","v":""},{"$f":"IF('2.Logbook'!R464=\"\",\"\",'2.Logbook'!R464)","v":""},{"$f":"IF('2.Logbook'!S464=\"\",\"\",'2.Logbook'!S464)","v":""},{"$f":"IF('2.Logbook'!T464=\"\",\"\",'2.Logbook'!T464)","v":""},{"$f":"IF('2.Logbook'!U464=\"\",\"\",'2.Logbook'!U464)","v":""},{"$f":"IF('2.Logbook'!V464=\"\",\"\",'2.Logbook'!V464)","v":""},{"$f":"IF('2.Logbook'!W464=\"\",\"\",'2.Logbook'!W464)","v":""},{"$f":"IF('2.Logbook'!X464=\"\",\"\",'2.Logbook'!X464)","v":""},{"$f":"IF('2.Logbook'!Y464=\"\",\"\",'2.Logbook'!Y464)","v":""},{"$f":"IF('2.Logbook'!Z464=\"\",\"\",'2.Logbook'!Z464)","v":""},{"$f":"IF('2.Logbook'!AA464=\"\",\"\",'2.Logbook'!AA464)","v":""},{"$f":"IF('2.Logbook'!AB464=\"\",\"\",'2.Logbook'!AB464)","v":""},{"$f":"IF('2.Logbook'!AC464=\"\",\"\",'2.Logbook'!AC464)","v":""},{"$f":"IF('2.Logbook'!AD464=\"\",\"\",'2.Logbook'!AD464)","v":""},{"$f":"IF('2.Logbook'!AE464=\"\",\"\",'2.Logbook'!AE464)","v":""},{"$f":"IF('2.Logbook'!AF464=\"\",\"\",'2.Logbook'!AF464)","v":""},{"$f":"IF('2.Logbook'!AG464=\"\",\"\",'2.Logbook'!AG464)","v":""}]
[{"$f":"IF('2.Logbook'!A465=\"\",\"\",'2.Logbook'!A465)","v":""},{"$f":"IF('2.Logbook'!B465=\"\",\"\",'2.Logbook'!B465)","v":""},{"$f":"IF('2.Logbook'!C465=\"\",\"\",'2.Logbook'!C465)","v":""},{"$f":"IF('2.Logbook'!D465=\"\",\"\",'2.Logbook'!D465)","v":""},{"$f":"IF('2.Logbook'!E465=\"\",\"\",'2.Logbook'!E465)","v":""},{"$f":"IF('2.Logbook'!F465=\"\",\"\",'2.Logbook'!F465)","v":""},{"$f":"IF('2.Logbook'!G465=\"\",\"\",'2.Logbook'!G465)","v":""},{"$f":"IF('2.Logbook'!H465=\"\",\"\",'2.Logbook'!H465)","v":""},{"$f":"IF('2.Logbook'!I465=\"\",\"\",'2.Logbook'!I465)","v":""},{"$f":"IF('2.Logbook'!J465=\"\",\"\",'2.Logbook'!J465)","v":""},{"$f":"IF('2.Logbook'!K465=\"\",\"\",'2.Logbook'!K465)","v":""},{"$f":"IF('2.Logbook'!L465=\"\",\"\",'2.Logbook'!L465)","v":""},{"$f":"IF('2.Logbook'!M465=\"\",\"\",'2.Logbook'!M465)","v":""},{"$f":"IF('2.Logbook'!N465=\"\",\"\",'2.Logbook'!N465)","v":""},{"$f":"IF('2.Logbook'!O465=\"\",\"\",'2.Logbook'!O465)","v":""},{"$f":"IF('2.Logbook'!P465=\"\",\"\",'2.Logbook'!P465)","v":""},{"$f":"IF('2.Logbook'!Q465=\"\",\"\",'2.Logbook'!Q465)","v":""},{"$f":"IF('2.Logbook'!R465=\"\",\"\",'2.Logbook'!R465)","v":""},{"$f":"IF('2.Logbook'!S465=\"\",\"\",'2.Logbook'!S465)","v":""},{"$f":"IF('2.Logbook'!T465=\"\",\"\",'2.Logbook'!T465)","v":""},{"$f":"IF('2.Logbook'!U465=\"\",\"\",'2.Logbook'!U465)","v":""},{"$f":"IF('2.Logbook'!V465=\"\",\"\",'2.Logbook'!V465)","v":""},{"$f":"IF('2.Logbook'!W465=\"\",\"\",'2.Logbook'!W465)","v":""},{"$f":"IF('2.Logbook'!X465=\"\",\"\",'2.Logbook'!X465)","v":""},{"$f":"IF('2.Logbook'!Y465=\"\",\"\",'2.Logbook'!Y465)","v":""},{"$f":"IF('2.Logbook'!Z465=\"\",\"\",'2.Logbook'!Z465)","v":""},{"$f":"IF('2.Logbook'!AA465=\"\",\"\",'2.Logbook'!AA465)","v":""},{"$f":"IF('2.Logbook'!AB465=\"\",\"\",'2.Logbook'!AB465)","v":""},{"$f":"IF('2.Logbook'!AC465=\"\",\"\",'2.Logbook'!AC465)","v":""},{"$f":"IF('2.Logbook'!AD465=\"\",\"\",'2.Logbook'!AD465)","v":""},{"$f":"IF('2.Logbook'!AE465=\"\",\"\",'2.Logbook'!AE465)","v":""},{"$f":"IF('2.Logbook'!AF465=\"\",\"\",'2.Logbook'!AF465)","v":""},{"$f":"IF('2.Logbook'!AG465=\"\",\"\",'2.Logbook'!AG465)","v":""}]
[{"$f":"IF('2.Logbook'!A466=\"\",\"\",'2.Logbook'!A466)","v":""},{"$f":"IF('2.Logbook'!B466=\"\",\"\",'2.Logbook'!B466)","v":""},{"$f":"IF('2.Logbook'!C466=\"\",\"\",'2.Logbook'!C466)","v":""},{"$f":"IF('2.Logbook'!D466=\"\",\"\",'2.Logbook'!D466)","v":""},{"$f":"IF('2.Logbook'!E466=\"\",\"\",'2.Logbook'!E466)","v":""},{"$f":"IF('2.Logbook'!F466=\"\",\"\",'2.Logbook'!F466)","v":""},{"$f":"IF('2.Logbook'!G466=\"\",\"\",'2.Logbook'!G466)","v":""},{"$f":"IF('2.Logbook'!H466=\"\",\"\",'2.Logbook'!H466)","v":""},{"$f":"IF('2.Logbook'!I466=\"\",\"\",'2.Logbook'!I466)","v":""},{"$f":"IF('2.Logbook'!J466=\"\",\"\",'2.Logbook'!J466)","v":""},{"$f":"IF('2.Logbook'!K466=\"\",\"\",'2.Logbook'!K466)","v":""},{"$f":"IF('2.Logbook'!L466=\"\",\"\",'2.Logbook'!L466)","v":""},{"$f":"IF('2.Logbook'!M466=\"\",\"\",'2.Logbook'!M466)","v":""},{"$f":"IF('2.Logbook'!N466=\"\",\"\",'2.Logbook'!N466)","v":""},{"$f":"IF('2.Logbook'!O466=\"\",\"\",'2.Logbook'!O466)","v":""},{"$f":"IF('2.Logbook'!P466=\"\",\"\",'2.Logbook'!P466)","v":""},{"$f":"IF('2.Logbook'!Q466=\"\",\"\",'2.Logbook'!Q466)","v":""},{"$f":"IF('2.Logbook'!R466=\"\",\"\",'2.Logbook'!R466)","v":""},{"$f":"IF('2.Logbook'!S466=\"\",\"\",'2.Logbook'!S466)","v":""},{"$f":"IF('2.Logbook'!T466=\"\",\"\",'2.Logbook'!T466)","v":""},{"$f":"IF('2.Logbook'!U466=\"\",\"\",'2.Logbook'!U466)","v":""},{"$f":"IF('2.Logbook'!V466=\"\",\"\",'2.Logbook'!V466)","v":""},{"$f":"IF('2.Logbook'!W466=\"\",\"\",'2.Logbook'!W466)","v":""},{"$f":"IF('2.Logbook'!X466=\"\",\"\",'2.Logbook'!X466)","v":""},{"$f":"IF('2.Logbook'!Y466=\"\",\"\",'2.Logbook'!Y466)","v":""},{"$f":"IF('2.Logbook'!Z466=\"\",\"\",'2.Logbook'!Z466)","v":""},{"$f":"IF('2.Logbook'!AA466=\"\",\"\",'2.Logbook'!AA466)","v":""},{"$f":"IF('2.Logbook'!AB466=\"\",\"\",'2.Logbook'!AB466)","v":""},{"$f":"IF('2.Logbook'!AC466=\"\",\"\",'2.Logbook'!AC466)","v":""},{"$f":"IF('2.Logbook'!AD466=\"\",\"\",'2.Logbook'!AD466)","v":""},{"$f":"IF('2.Logbook'!AE466=\"\",\"\",'2.Logbook'!AE466)","v":""},{"$f":"IF('2.Logbook'!AF466=\"\",\"\",'2.Logbook'!AF466)","v":""},{"$f":"IF('2.Logbook'!AG466=\"\",\"\",'2.Logbook'!AG466)","v":""}]
[{"$f":"IF('2.Logbook'!A467=\"\",\"\",'2.Logbook'!A467)","v":""},{"$f":"IF('2.Logbook'!B467=\"\",\"\",'2.Logbook'!B467)","v":""},{"$f":"IF('2.Logbook'!C467=\"\",\"\",'2.Logbook'!C467)","v":""},{"$f":"IF('2.Logbook'!D467=\"\",\"\",'2.Logbook'!D467)","v":""},{"$f":"IF('2.Logbook'!E467=\"\",\"\",'2.Logbook'!E467)","v":""},{"$f":"IF('2.Logbook'!F467=\"\",\"\",'2.Logbook'!F467)","v":""},{"$f":"IF('2.Logbook'!G467=\"\",\"\",'2.Logbook'!G467)","v":""},{"$f":"IF('2.Logbook'!H467=\"\",\"\",'2.Logbook'!H467)","v":""},{"$f":"IF('2.Logbook'!I467=\"\",\"\",'2.Logbook'!I467)","v":""},{"$f":"IF('2.Logbook'!J467=\"\",\"\",'2.Logbook'!J467)","v":""},{"$f":"IF('2.Logbook'!K467=\"\",\"\",'2.Logbook'!K467)","v":""},{"$f":"IF('2.Logbook'!L467=\"\",\"\",'2.Logbook'!L467)","v":""},{"$f":"IF('2.Logbook'!M467=\"\",\"\",'2.Logbook'!M467)","v":""},{"$f":"IF('2.Logbook'!N467=\"\",\"\",'2.Logbook'!N467)","v":""},{"$f":"IF('2.Logbook'!O467=\"\",\"\",'2.Logbook'!O467)","v":""},{"$f":"IF('2.Logbook'!P467=\"\",\"\",'2.Logbook'!P467)","v":""},{"$f":"IF('2.Logbook'!Q467=\"\",\"\",'2.Logbook'!Q467)","v":""},{"$f":"IF('2.Logbook'!R467=\"\",\"\",'2.Logbook'!R467)","v":""},{"$f":"IF('2.Logbook'!S467=\"\",\"\",'2.Logbook'!S467)","v":""},{"$f":"IF('2.Logbook'!T467=\"\",\"\",'2.Logbook'!T467)","v":""},{"$f":"IF('2.Logbook'!U467=\"\",\"\",'2.Logbook'!U467)","v":""},{"$f":"IF('2.Logbook'!V467=\"\",\"\",'2.Logbook'!V467)","v":""},{"$f":"IF('2.Logbook'!W467=\"\",\"\",'2.Logbook'!W467)","v":""},{"$f":"IF('2.Logbook'!X467=\"\",\"\",'2.Logbook'!X467)","v":""},{"$f":"IF('2.Logbook'!Y467=\"\",\"\",'2.Logbook'!Y467)","v":""},{"$f":"IF('2.Logbook'!Z467=\"\",\"\",'2.Logbook'!Z467)","v":""},{"$f":"IF('2.Logbook'!AA467=\"\",\"\",'2.Logbook'!AA467)","v":""},{"$f":"IF('2.Logbook'!AB467=\"\",\"\",'2.Logbook'!AB467)","v":""},{"$f":"IF('2.Logbook'!AC467=\"\",\"\",'2.Logbook'!AC467)","v":""},{"$f":"IF('2.Logbook'!AD467=\"\",\"\",'2.Logbook'!AD467)","v":""},{"$f":"IF('2.Logbook'!AE467=\"\",\"\",'2.Logbook'!AE467)","v":""},{"$f":"IF('2.Logbook'!AF467=\"\",\"\",'2.Logbook'!AF467)","v":""},{"$f":"IF('2.Logbook'!AG467=\"\",\"\",'2.Logbook'!AG467)","v":""}]
[{"$f":"IF('2.Logbook'!A468=\"\",\"\",'2.Logbook'!A468)","v":""},{"$f":"IF('2.Logbook'!B468=\"\",\"\",'2.Logbook'!B468)","v":""},{"$f":"IF('2.Logbook'!C468=\"\",\"\",'2.Logbook'!C468)","v":""},{"$f":"IF('2.Logbook'!D468=\"\",\"\",'2.Logbook'!D468)","v":""},{"$f":"IF('2.Logbook'!E468=\"\",\"\",'2.Logbook'!E468)","v":""},{"$f":"IF('2.Logbook'!F468=\"\",\"\",'2.Logbook'!F468)","v":""},{"$f":"IF('2.Logbook'!G468=\"\",\"\",'2.Logbook'!G468)","v":""},{"$f":"IF('2.Logbook'!H468=\"\",\"\",'2.Logbook'!H468)","v":""},{"$f":"IF('2.Logbook'!I468=\"\",\"\",'2.Logbook'!I468)","v":""},{"$f":"IF('2.Logbook'!J468=\"\",\"\",'2.Logbook'!J468)","v":""},{"$f":"IF('2.Logbook'!K468=\"\",\"\",'2.Logbook'!K468)","v":""},{"$f":"IF('2.Logbook'!L468=\"\",\"\",'2.Logbook'!L468)","v":""},{"$f":"IF('2.Logbook'!M468=\"\",\"\",'2.Logbook'!M468)","v":""},{"$f":"IF('2.Logbook'!N468=\"\",\"\",'2.Logbook'!N468)","v":""},{"$f":"IF('2.Logbook'!O468=\"\",\"\",'2.Logbook'!O468)","v":""},{"$f":"IF('2.Logbook'!P468=\"\",\"\",'2.Logbook'!P468)","v":""},{"$f":"IF('2.Logbook'!Q468=\"\",\"\",'2.Logbook'!Q468)","v":""},{"$f":"IF('2.Logbook'!R468=\"\",\"\",'2.Logbook'!R468)","v":""},{"$f":"IF('2.Logbook'!S468=\"\",\"\",'2.Logbook'!S468)","v":""},{"$f":"IF('2.Logbook'!T468=\"\",\"\",'2.Logbook'!T468)","v":""},{"$f":"IF('2.Logbook'!U468=\"\",\"\",'2.Logbook'!U468)","v":""},{"$f":"IF('2.Logbook'!V468=\"\",\"\",'2.Logbook'!V468)","v":""},{"$f":"IF('2.Logbook'!W468=\"\",\"\",'2.Logbook'!W468)","v":""},{"$f":"IF('2.Logbook'!X468=\"\",\"\",'2.Logbook'!X468)","v":""},{"$f":"IF('2.Logbook'!Y468=\"\",\"\",'2.Logbook'!Y468)","v":""},{"$f":"IF('2.Logbook'!Z468=\"\",\"\",'2.Logbook'!Z468)","v":""},{"$f":"IF('2.Logbook'!AA468=\"\",\"\",'2.Logbook'!AA468)","v":""},{"$f":"IF('2.Logbook'!AB468=\"\",\"\",'2.Logbook'!AB468)","v":""},{"$f":"IF('2.Logbook'!AC468=\"\",\"\",'2.Logbook'!AC468)","v":""},{"$f":"IF('2.Logbook'!AD468=\"\",\"\",'2.Logbook'!AD468)","v":""},{"$f":"IF('2.Logbook'!AE468=\"\",\"\",'2.Logbook'!AE468)","v":""},{"$f":"IF('2.Logbook'!AF468=\"\",\"\",'2.Logbook'!AF468)","v":""},{"$f":"IF('2.Logbook'!AG468=\"\",\"\",'2.Logbook'!AG468)","v":""}]
[{"$f":"IF('2.Logbook'!A469=\"\",\"\",'2.Logbook'!A469)","v":""},{"$f":"IF('2.Logbook'!B469=\"\",\"\",'2.Logbook'!B469)","v":""},{"$f":"IF('2.Logbook'!C469=\"\",\"\",'2.Logbook'!C469)","v":""},{"$f":"IF('2.Logbook'!D469=\"\",\"\",'2.Logbook'!D469)","v":""},{"$f":"IF('2.Logbook'!E469=\"\",\"\",'2.Logbook'!E469)","v":""},{"$f":"IF('2.Logbook'!F469=\"\",\"\",'2.Logbook'!F469)","v":""},{"$f":"IF('2.Logbook'!G469=\"\",\"\",'2.Logbook'!G469)","v":""},{"$f":"IF('2.Logbook'!H469=\"\",\"\",'2.Logbook'!H469)","v":""},{"$f":"IF('2.Logbook'!I469=\"\",\"\",'2.Logbook'!I469)","v":""},{"$f":"IF('2.Logbook'!J469=\"\",\"\",'2.Logbook'!J469)","v":""},{"$f":"IF('2.Logbook'!K469=\"\",\"\",'2.Logbook'!K469)","v":""},{"$f":"IF('2.Logbook'!L469=\"\",\"\",'2.Logbook'!L469)","v":""},{"$f":"IF('2.Logbook'!M469=\"\",\"\",'2.Logbook'!M469)","v":""},{"$f":"IF('2.Logbook'!N469=\"\",\"\",'2.Logbook'!N469)","v":""},{"$f":"IF('2.Logbook'!O469=\"\",\"\",'2.Logbook'!O469)","v":""},{"$f":"IF('2.Logbook'!P469=\"\",\"\",'2.Logbook'!P469)","v":""},{"$f":"IF('2.Logbook'!Q469=\"\",\"\",'2.Logbook'!Q469)","v":""},{"$f":"IF('2.Logbook'!R469=\"\",\"\",'2.Logbook'!R469)","v":""},{"$f":"IF('2.Logbook'!S469=\"\",\"\",'2.Logbook'!S469)","v":""},{"$f":"IF('2.Logbook'!T469=\"\",\"\",'2.Logbook'!T469)","v":""},{"$f":"IF('2.Logbook'!U469=\"\",\"\",'2.Logbook'!U469)","v":""},{"$f":"IF('2.Logbook'!V469=\"\",\"\",'2.Logbook'!V469)","v":""},{"$f":"IF('2.Logbook'!W469=\"\",\"\",'2.Logbook'!W469)","v":""},{"$f":"IF('2.Logbook'!X469=\"\",\"\",'2.Logbook'!X469)","v":""},{"$f":"IF('2.Logbook'!Y469=\"\",\"\",'2.Logbook'!Y469)","v":""},{"$f":"IF('2.Logbook'!Z469=\"\",\"\",'2.Logbook'!Z469)","v":""},{"$f":"IF('2.Logbook'!AA469=\"\",\"\",'2.Logbook'!AA469)","v":""},{"$f":"IF('2.Logbook'!AB469=\"\",\"\",'2.Logbook'!AB469)","v":""},{"$f":"IF('2.Logbook'!AC469=\"\",\"\",'2.Logbook'!AC469)","v":""},{"$f":"IF('2.Logbook'!AD469=\"\",\"\",'2.Logbook'!AD469)","v":""},{"$f":"IF('2.Logbook'!AE469=\"\",\"\",'2.Logbook'!AE469)","v":""},{"$f":"IF('2.Logbook'!AF469=\"\",\"\",'2.Logbook'!AF469)","v":""},{"$f":"IF('2.Logbook'!AG469=\"\",\"\",'2.Logbook'!AG469)","v":""}]
[{"$f":"IF('2.Logbook'!A470=\"\",\"\",'2.Logbook'!A470)","v":""},{"$f":"IF('2.Logbook'!B470=\"\",\"\",'2.Logbook'!B470)","v":""},{"$f":"IF('2.Logbook'!C470=\"\",\"\",'2.Logbook'!C470)","v":""},{"$f":"IF('2.Logbook'!D470=\"\",\"\",'2.Logbook'!D470)","v":""},{"$f":"IF('2.Logbook'!E470=\"\",\"\",'2.Logbook'!E470)","v":""},{"$f":"IF('2.Logbook'!F470=\"\",\"\",'2.Logbook'!F470)","v":""},{"$f":"IF('2.Logbook'!G470=\"\",\"\",'2.Logbook'!G470)","v":""},{"$f":"IF('2.Logbook'!H470=\"\",\"\",'2.Logbook'!H470)","v":""},{"$f":"IF('2.Logbook'!I470=\"\",\"\",'2.Logbook'!I470)","v":""},{"$f":"IF('2.Logbook'!J470=\"\",\"\",'2.Logbook'!J470)","v":""},{"$f":"IF('2.Logbook'!K470=\"\",\"\",'2.Logbook'!K470)","v":""},{"$f":"IF('2.Logbook'!L470=\"\",\"\",'2.Logbook'!L470)","v":""},{"$f":"IF('2.Logbook'!M470=\"\",\"\",'2.Logbook'!M470)","v":""},{"$f":"IF('2.Logbook'!N470=\"\",\"\",'2.Logbook'!N470)","v":""},{"$f":"IF('2.Logbook'!O470=\"\",\"\",'2.Logbook'!O470)","v":""},{"$f":"IF('2.Logbook'!P470=\"\",\"\",'2.Logbook'!P470)","v":""},{"$f":"IF('2.Logbook'!Q470=\"\",\"\",'2.Logbook'!Q470)","v":""},{"$f":"IF('2.Logbook'!R470=\"\",\"\",'2.Logbook'!R470)","v":""},{"$f":"IF('2.Logbook'!S470=\"\",\"\",'2.Logbook'!S470)","v":""},{"$f":"IF('2.Logbook'!T470=\"\",\"\",'2.Logbook'!T470)","v":""},{"$f":"IF('2.Logbook'!U470=\"\",\"\",'2.Logbook'!U470)","v":""},{"$f":"IF('2.Logbook'!V470=\"\",\"\",'2.Logbook'!V470)","v":""},{"$f":"IF('2.Logbook'!W470=\"\",\"\",'2.Logbook'!W470)","v":""},{"$f":"IF('2.Logbook'!X470=\"\",\"\",'2.Logbook'!X470)","v":""},{"$f":"IF('2.Logbook'!Y470=\"\",\"\",'2.Logbook'!Y470)","v":""},{"$f":"IF('2.Logbook'!Z470=\"\",\"\",'2.Logbook'!Z470)","v":""},{"$f":"IF('2.Logbook'!AA470=\"\",\"\",'2.Logbook'!AA470)","v":""},{"$f":"IF('2.Logbook'!AB470=\"\",\"\",'2.Logbook'!AB470)","v":""},{"$f":"IF('2.Logbook'!AC470=\"\",\"\",'2.Logbook'!AC470)","v":""},{"$f":"IF('2.Logbook'!AD470=\"\",\"\",'2.Logbook'!AD470)","v":""},{"$f":"IF('2.Logbook'!AE470=\"\",\"\",'2.Logbook'!AE470)","v":""},{"$f":"IF('2.Logbook'!AF470=\"\",\"\",'2.Logbook'!AF470)","v":""},{"$f":"IF('2.Logbook'!AG470=\"\",\"\",'2.Logbook'!AG470)","v":""}]
[{"$f":"IF('2.Logbook'!A471=\"\",\"\",'2.Logbook'!A471)","v":""},{"$f":"IF('2.Logbook'!B471=\"\",\"\",'2.Logbook'!B471)","v":""},{"$f":"IF('2.Logbook'!C471=\"\",\"\",'2.Logbook'!C471)","v":""},{"$f":"IF('2.Logbook'!D471=\"\",\"\",'2.Logbook'!D471)","v":""},{"$f":"IF('2.Logbook'!E471=\"\",\"\",'2.Logbook'!E471)","v":""},{"$f":"IF('2.Logbook'!F471=\"\",\"\",'2.Logbook'!F471)","v":""},{"$f":"IF('2.Logbook'!G471=\"\",\"\",'2.Logbook'!G471)","v":""},{"$f":"IF('2.Logbook'!H471=\"\",\"\",'2.Logbook'!H471)","v":""},{"$f":"IF('2.Logbook'!I471=\"\",\"\",'2.Logbook'!I471)","v":""},{"$f":"IF('2.Logbook'!J471=\"\",\"\",'2.Logbook'!J471)","v":""},{"$f":"IF('2.Logbook'!K471=\"\",\"\",'2.Logbook'!K471)","v":""},{"$f":"IF('2.Logbook'!L471=\"\",\"\",'2.Logbook'!L471)","v":""},{"$f":"IF('2.Logbook'!M471=\"\",\"\",'2.Logbook'!M471)","v":""},{"$f":"IF('2.Logbook'!N471=\"\",\"\",'2.Logbook'!N471)","v":""},{"$f":"IF('2.Logbook'!O471=\"\",\"\",'2.Logbook'!O471)","v":""},{"$f":"IF('2.Logbook'!P471=\"\",\"\",'2.Logbook'!P471)","v":""},{"$f":"IF('2.Logbook'!Q471=\"\",\"\",'2.Logbook'!Q471)","v":""},{"$f":"IF('2.Logbook'!R471=\"\",\"\",'2.Logbook'!R471)","v":""},{"$f":"IF('2.Logbook'!S471=\"\",\"\",'2.Logbook'!S471)","v":""},{"$f":"IF('2.Logbook'!T471=\"\",\"\",'2.Logbook'!T471)","v":""},{"$f":"IF('2.Logbook'!U471=\"\",\"\",'2.Logbook'!U471)","v":""},{"$f":"IF('2.Logbook'!V471=\"\",\"\",'2.Logbook'!V471)","v":""},{"$f":"IF('2.Logbook'!W471=\"\",\"\",'2.Logbook'!W471)","v":""},{"$f":"IF('2.Logbook'!X471=\"\",\"\",'2.Logbook'!X471)","v":""},{"$f":"IF('2.Logbook'!Y471=\"\",\"\",'2.Logbook'!Y471)","v":""},{"$f":"IF('2.Logbook'!Z471=\"\",\"\",'2.Logbook'!Z471)","v":""},{"$f":"IF('2.Logbook'!AA471=\"\",\"\",'2.Logbook'!AA471)","v":""},{"$f":"IF('2.Logbook'!AB471=\"\",\"\",'2.Logbook'!AB471)","v":""},{"$f":"IF('2.Logbook'!AC471=\"\",\"\",'2.Logbook'!AC471)","v":""},{"$f":"IF('2.Logbook'!AD471=\"\",\"\",'2.Logbook'!AD471)","v":""},{"$f":"IF('2.Logbook'!AE471=\"\",\"\",'2.Logbook'!AE471)","v":""},{"$f":"IF('2.Logbook'!AF471=\"\",\"\",'2.Logbook'!AF471)","v":""},{"$f":"IF('2.Logbook'!AG471=\"\",\"\",'2.Logbook'!AG471)","v":""}]
[{"$f":"IF('2.Logbook'!A472=\"\",\"\",'2.Logbook'!A472)","v":""},{"$f":"IF('2.Logbook'!B472=\"\",\"\",'2.Logbook'!B472)","v":""},{"$f":"IF('2.Logbook'!C472=\"\",\"\",'2.Logbook'!C472)","v":""},{"$f":"IF('2.Logbook'!D472=\"\",\"\",'2.Logbook'!D472)","v":""},{"$f":"IF('2.Logbook'!E472=\"\",\"\",'2.Logbook'!E472)","v":""},{"$f":"IF('2.Logbook'!F472=\"\",\"\",'2.Logbook'!F472)","v":""},{"$f":"IF('2.Logbook'!G472=\"\",\"\",'2.Logbook'!G472)","v":""},{"$f":"IF('2.Logbook'!H472=\"\",\"\",'2.Logbook'!H472)","v":""},{"$f":"IF('2.Logbook'!I472=\"\",\"\",'2.Logbook'!I472)","v":""},{"$f":"IF('2.Logbook'!J472=\"\",\"\",'2.Logbook'!J472)","v":""},{"$f":"IF('2.Logbook'!K472=\"\",\"\",'2.Logbook'!K472)","v":""},{"$f":"IF('2.Logbook'!L472=\"\",\"\",'2.Logbook'!L472)","v":""},{"$f":"IF('2.Logbook'!M472=\"\",\"\",'2.Logbook'!M472)","v":""},{"$f":"IF('2.Logbook'!N472=\"\",\"\",'2.Logbook'!N472)","v":""},{"$f":"IF('2.Logbook'!O472=\"\",\"\",'2.Logbook'!O472)","v":""},{"$f":"IF('2.Logbook'!P472=\"\",\"\",'2.Logbook'!P472)","v":""},{"$f":"IF('2.Logbook'!Q472=\"\",\"\",'2.Logbook'!Q472)","v":""},{"$f":"IF('2.Logbook'!R472=\"\",\"\",'2.Logbook'!R472)","v":""},{"$f":"IF('2.Logbook'!S472=\"\",\"\",'2.Logbook'!S472)","v":""},{"$f":"IF('2.Logbook'!T472=\"\",\"\",'2.Logbook'!T472)","v":""},{"$f":"IF('2.Logbook'!U472=\"\",\"\",'2.Logbook'!U472)","v":""},{"$f":"IF('2.Logbook'!V472=\"\",\"\",'2.Logbook'!V472)","v":""},{"$f":"IF('2.Logbook'!W472=\"\",\"\",'2.Logbook'!W472)","v":""},{"$f":"IF('2.Logbook'!X472=\"\",\"\",'2.Logbook'!X472)","v":""},{"$f":"IF('2.Logbook'!Y472=\"\",\"\",'2.Logbook'!Y472)","v":""},{"$f":"IF('2.Logbook'!Z472=\"\",\"\",'2.Logbook'!Z472)","v":""},{"$f":"IF('2.Logbook'!AA472=\"\",\"\",'2.Logbook'!AA472)","v":""},{"$f":"IF('2.Logbook'!AB472=\"\",\"\",'2.Logbook'!AB472)","v":""},{"$f":"IF('2.Logbook'!AC472=\"\",\"\",'2.Logbook'!AC472)","v":""},{"$f":"IF('2.Logbook'!AD472=\"\",\"\",'2.Logbook'!AD472)","v":""},{"$f":"IF('2.Logbook'!AE472=\"\",\"\",'2.Logbook'!AE472)","v":""},{"$f":"IF('2.Logbook'!AF472=\"\",\"\",'2.Logbook'!AF472)","v":""},{"$f":"IF('2.Logbook'!AG472=\"\",\"\",'2.Logbook'!AG472)","v":""}]
[{"$f":"IF('2.Logbook'!A473=\"\",\"\",'2.Logbook'!A473)","v":""},{"$f":"IF('2.Logbook'!B473=\"\",\"\",'2.Logbook'!B473)","v":""},{"$f":"IF('2.Logbook'!C473=\"\",\"\",'2.Logbook'!C473)","v":""},{"$f":"IF('2.Logbook'!D473=\"\",\"\",'2.Logbook'!D473)","v":""},{"$f":"IF('2.Logbook'!E473=\"\",\"\",'2.Logbook'!E473)","v":""},{"$f":"IF('2.Logbook'!F473=\"\",\"\",'2.Logbook'!F473)","v":""},{"$f":"IF('2.Logbook'!G473=\"\",\"\",'2.Logbook'!G473)","v":""},{"$f":"IF('2.Logbook'!H473=\"\",\"\",'2.Logbook'!H473)","v":""},{"$f":"IF('2.Logbook'!I473=\"\",\"\",'2.Logbook'!I473)","v":""},{"$f":"IF('2.Logbook'!J473=\"\",\"\",'2.Logbook'!J473)","v":""},{"$f":"IF('2.Logbook'!K473=\"\",\"\",'2.Logbook'!K473)","v":""},{"$f":"IF('2.Logbook'!L473=\"\",\"\",'2.Logbook'!L473)","v":""},{"$f":"IF('2.Logbook'!M473=\"\",\"\",'2.Logbook'!M473)","v":""},{"$f":"IF('2.Logbook'!N473=\"\",\"\",'2.Logbook'!N473)","v":""},{"$f":"IF('2.Logbook'!O473=\"\",\"\",'2.Logbook'!O473)","v":""},{"$f":"IF('2.Logbook'!P473=\"\",\"\",'2.Logbook'!P473)","v":""},{"$f":"IF('2.Logbook'!Q473=\"\",\"\",'2.Logbook'!Q473)","v":""},{"$f":"IF('2.Logbook'!R473=\"\",\"\",'2.Logbook'!R473)","v":""},{"$f":"IF('2.Logbook'!S473=\"\",\"\",'2.Logbook'!S473)","v":""},{"$f":"IF('2.Logbook'!T473=\"\",\"\",'2.Logbook'!T473)","v":""},{"$f":"IF('2.Logbook'!U473=\"\",\"\",'2.Logbook'!U473)","v":""},{"$f":"IF('2.Logbook'!V473=\"\",\"\",'2.Logbook'!V473)","v":""},{"$f":"IF('2.Logbook'!W473=\"\",\"\",'2.Logbook'!W473)","v":""},{"$f":"IF('2.Logbook'!X473=\"\",\"\",'2.Logbook'!X473)","v":""},{"$f":"IF('2.Logbook'!Y473=\"\",\"\",'2.Logbook'!Y473)","v":""},{"$f":"IF('2.Logbook'!Z473=\"\",\"\",'2.Logbook'!Z473)","v":""},{"$f":"IF('2.Logbook'!AA473=\"\",\"\",'2.Logbook'!AA473)","v":""},{"$f":"IF('2.Logbook'!AB473=\"\",\"\",'2.Logbook'!AB473)","v":""},{"$f":"IF('2.Logbook'!AC473=\"\",\"\",'2.Logbook'!AC473)","v":""},{"$f":"IF('2.Logbook'!AD473=\"\",\"\",'2.Logbook'!AD473)","v":""},{"$f":"IF('2.Logbook'!AE473=\"\",\"\",'2.Logbook'!AE473)","v":""},{"$f":"IF('2.Logbook'!AF473=\"\",\"\",'2.Logbook'!AF473)","v":""},{"$f":"IF('2.Logbook'!AG473=\"\",\"\",'2.Logbook'!AG473)","v":""}]
[{"$f":"IF('2.Logbook'!A474=\"\",\"\",'2.Logbook'!A474)","v":""},{"$f":"IF('2.Logbook'!B474=\"\",\"\",'2.Logbook'!B474)","v":""},{"$f":"IF('2.Logbook'!C474=\"\",\"\",'2.Logbook'!C474)","v":""},{"$f":"IF('2.Logbook'!D474=\"\",\"\",'2.Logbook'!D474)","v":""},{"$f":"IF('2.Logbook'!E474=\"\",\"\",'2.Logbook'!E474)","v":""},{"$f":"IF('2.Logbook'!F474=\"\",\"\",'2.Logbook'!F474)","v":""},{"$f":"IF('2.Logbook'!G474=\"\",\"\",'2.Logbook'!G474)","v":""},{"$f":"IF('2.Logbook'!H474=\"\",\"\",'2.Logbook'!H474)","v":""},{"$f":"IF('2.Logbook'!I474=\"\",\"\",'2.Logbook'!I474)","v":""},{"$f":"IF('2.Logbook'!J474=\"\",\"\",'2.Logbook'!J474)","v":""},{"$f":"IF('2.Logbook'!K474=\"\",\"\",'2.Logbook'!K474)","v":""},{"$f":"IF('2.Logbook'!L474=\"\",\"\",'2.Logbook'!L474)","v":""},{"$f":"IF('2.Logbook'!M474=\"\",\"\",'2.Logbook'!M474)","v":""},{"$f":"IF('2.Logbook'!N474=\"\",\"\",'2.Logbook'!N474)","v":""},{"$f":"IF('2.Logbook'!O474=\"\",\"\",'2.Logbook'!O474)","v":""},{"$f":"IF('2.Logbook'!P474=\"\",\"\",'2.Logbook'!P474)","v":""},{"$f":"IF('2.Logbook'!Q474=\"\",\"\",'2.Logbook'!Q474)","v":""},{"$f":"IF('2.Logbook'!R474=\"\",\"\",'2.Logbook'!R474)","v":""},{"$f":"IF('2.Logbook'!S474=\"\",\"\",'2.Logbook'!S474)","v":""},{"$f":"IF('2.Logbook'!T474=\"\",\"\",'2.Logbook'!T474)","v":""},{"$f":"IF('2.Logbook'!U474=\"\",\"\",'2.Logbook'!U474)","v":""},{"$f":"IF('2.Logbook'!V474=\"\",\"\",'2.Logbook'!V474)","v":""},{"$f":"IF('2.Logbook'!W474=\"\",\"\",'2.Logbook'!W474)","v":""},{"$f":"IF('2.Logbook'!X474=\"\",\"\",'2.Logbook'!X474)","v":""},{"$f":"IF('2.Logbook'!Y474=\"\",\"\",'2.Logbook'!Y474)","v":""},{"$f":"IF('2.Logbook'!Z474=\"\",\"\",'2.Logbook'!Z474)","v":""},{"$f":"IF('2.Logbook'!AA474=\"\",\"\",'2.Logbook'!AA474)","v":""},{"$f":"IF('2.Logbook'!AB474=\"\",\"\",'2.Logbook'!AB474)","v":""},{"$f":"IF('2.Logbook'!AC474=\"\",\"\",'2.Logbook'!AC474)","v":""},{"$f":"IF('2.Logbook'!AD474=\"\",\"\",'2.Logbook'!AD474)","v":""},{"$f":"IF('2.Logbook'!AE474=\"\",\"\",'2.Logbook'!AE474)","v":""},{"$f":"IF('2.Logbook'!AF474=\"\",\"\",'2.Logbook'!AF474)","v":""},{"$f":"IF('2.Logbook'!AG474=\"\",\"\",'2.Logbook'!AG474)","v":""}]
[{"$f":"IF('2.Logbook'!A475=\"\",\"\",'2.Logbook'!A475)","v":""},{"$f":"IF('2.Logbook'!B475=\"\",\"\",'2.Logbook'!B475)","v":""},{"$f":"IF('2.Logbook'!C475=\"\",\"\",'2.Logbook'!C475)","v":""},{"$f":"IF('2.Logbook'!D475=\"\",\"\",'2.Logbook'!D475)","v":""},{"$f":"IF('2.Logbook'!E475=\"\",\"\",'2.Logbook'!E475)","v":""},{"$f":"IF('2.Logbook'!F475=\"\",\"\",'2.Logbook'!F475)","v":""},{"$f":"IF('2.Logbook'!G475=\"\",\"\",'2.Logbook'!G475)","v":""},{"$f":"IF('2.Logbook'!H475=\"\",\"\",'2.Logbook'!H475)","v":""},{"$f":"IF('2.Logbook'!I475=\"\",\"\",'2.Logbook'!I475)","v":""},{"$f":"IF('2.Logbook'!J475=\"\",\"\",'2.Logbook'!J475)","v":""},{"$f":"IF('2.Logbook'!K475=\"\",\"\",'2.Logbook'!K475)","v":""},{"$f":"IF('2.Logbook'!L475=\"\",\"\",'2.Logbook'!L475)","v":""},{"$f":"IF('2.Logbook'!M475=\"\",\"\",'2.Logbook'!M475)","v":""},{"$f":"IF('2.Logbook'!N475=\"\",\"\",'2.Logbook'!N475)","v":""},{"$f":"IF('2.Logbook'!O475=\"\",\"\",'2.Logbook'!O475)","v":""},{"$f":"IF('2.Logbook'!P475=\"\",\"\",'2.Logbook'!P475)","v":""},{"$f":"IF('2.Logbook'!Q475=\"\",\"\",'2.Logbook'!Q475)","v":""},{"$f":"IF('2.Logbook'!R475=\"\",\"\",'2.Logbook'!R475)","v":""},{"$f":"IF('2.Logbook'!S475=\"\",\"\",'2.Logbook'!S475)","v":""},{"$f":"IF('2.Logbook'!T475=\"\",\"\",'2.Logbook'!T475)","v":""},{"$f":"IF('2.Logbook'!U475=\"\",\"\",'2.Logbook'!U475)","v":""},{"$f":"IF('2.Logbook'!V475=\"\",\"\",'2.Logbook'!V475)","v":""},{"$f":"IF('2.Logbook'!W475=\"\",\"\",'2.Logbook'!W475)","v":""},{"$f":"IF('2.Logbook'!X475=\"\",\"\",'2.Logbook'!X475)","v":""},{"$f":"IF('2.Logbook'!Y475=\"\",\"\",'2.Logbook'!Y475)","v":""},{"$f":"IF('2.Logbook'!Z475=\"\",\"\",'2.Logbook'!Z475)","v":""},{"$f":"IF('2.Logbook'!AA475=\"\",\"\",'2.Logbook'!AA475)","v":""},{"$f":"IF('2.Logbook'!AB475=\"\",\"\",'2.Logbook'!AB475)","v":""},{"$f":"IF('2.Logbook'!AC475=\"\",\"\",'2.Logbook'!AC475)","v":""},{"$f":"IF('2.Logbook'!AD475=\"\",\"\",'2.Logbook'!AD475)","v":""},{"$f":"IF('2.Logbook'!AE475=\"\",\"\",'2.Logbook'!AE475)","v":""},{"$f":"IF('2.Logbook'!AF475=\"\",\"\",'2.Logbook'!AF475)","v":""},{"$f":"IF('2.Logbook'!AG475=\"\",\"\",'2.Logbook'!AG475)","v":""}]
[{"$f":"IF('2.Logbook'!A476=\"\",\"\",'2.Logbook'!A476)","v":""},{"$f":"IF('2.Logbook'!B476=\"\",\"\",'2.Logbook'!B476)","v":""},{"$f":"IF('2.Logbook'!C476=\"\",\"\",'2.Logbook'!C476)","v":""},{"$f":"IF('2.Logbook'!D476=\"\",\"\",'2.Logbook'!D476)","v":""},{"$f":"IF('2.Logbook'!E476=\"\",\"\",'2.Logbook'!E476)","v":""},{"$f":"IF('2.Logbook'!F476=\"\",\"\",'2.Logbook'!F476)","v":""},{"$f":"IF('2.Logbook'!G476=\"\",\"\",'2.Logbook'!G476)","v":""},{"$f":"IF('2.Logbook'!H476=\"\",\"\",'2.Logbook'!H476)","v":""},{"$f":"IF('2.Logbook'!I476=\"\",\"\",'2.Logbook'!I476)","v":""},{"$f":"IF('2.Logbook'!J476=\"\",\"\",'2.Logbook'!J476)","v":""},{"$f":"IF('2.Logbook'!K476=\"\",\"\",'2.Logbook'!K476)","v":""},{"$f":"IF('2.Logbook'!L476=\"\",\"\",'2.Logbook'!L476)","v":""},{"$f":"IF('2.Logbook'!M476=\"\",\"\",'2.Logbook'!M476)","v":""},{"$f":"IF('2.Logbook'!N476=\"\",\"\",'2.Logbook'!N476)","v":""},{"$f":"IF('2.Logbook'!O476=\"\",\"\",'2.Logbook'!O476)","v":""},{"$f":"IF('2.Logbook'!P476=\"\",\"\",'2.Logbook'!P476)","v":""},{"$f":"IF('2.Logbook'!Q476=\"\",\"\",'2.Logbook'!Q476)","v":""},{"$f":"IF('2.Logbook'!R476=\"\",\"\",'2.Logbook'!R476)","v":""},{"$f":"IF('2.Logbook'!S476=\"\",\"\",'2.Logbook'!S476)","v":""},{"$f":"IF('2.Logbook'!T476=\"\",\"\",'2.Logbook'!T476)","v":""},{"$f":"IF('2.Logbook'!U476=\"\",\"\",'2.Logbook'!U476)","v":""},{"$f":"IF('2.Logbook'!V476=\"\",\"\",'2.Logbook'!V476)","v":""},{"$f":"IF('2.Logbook'!W476=\"\",\"\",'2.Logbook'!W476)","v":""},{"$f":"IF('2.Logbook'!X476=\"\",\"\",'2.Logbook'!X476)","v":""},{"$f":"IF('2.Logbook'!Y476=\"\",\"\",'2.Logbook'!Y476)","v":""},{"$f":"IF('2.Logbook'!Z476=\"\",\"\",'2.Logbook'!Z476)","v":""},{"$f":"IF('2.Logbook'!AA476=\"\",\"\",'2.Logbook'!AA476)","v":""},{"$f":"IF('2.Logbook'!AB476=\"\",\"\",'2.Logbook'!AB476)","v":""},{"$f":"IF('2.Logbook'!AC476=\"\",\"\",'2.Logbook'!AC476)","v":""},{"$f":"IF('2.Logbook'!AD476=\"\",\"\",'2.Logbook'!AD476)","v":""},{"$f":"IF('2.Logbook'!AE476=\"\",\"\",'2.Logbook'!AE476)","v":""},{"$f":"IF('2.Logbook'!AF476=\"\",\"\",'2.Logbook'!AF476)","v":""},{"$f":"IF('2.Logbook'!AG476=\"\",\"\",'2.Logbook'!AG476)","v":""}]
[{"$f":"IF('2.Logbook'!A477=\"\",\"\",'2.Logbook'!A477)","v":""},{"$f":"IF('2.Logbook'!B477=\"\",\"\",'2.Logbook'!B477)","v":""},{"$f":"IF('2.Logbook'!C477=\"\",\"\",'2.Logbook'!C477)","v":""},{"$f":"IF('2.Logbook'!D477=\"\",\"\",'2.Logbook'!D477)","v":""},{"$f":"IF('2.Logbook'!E477=\"\",\"\",'2.Logbook'!E477)","v":""},{"$f":"IF('2.Logbook'!F477=\"\",\"\",'2.Logbook'!F477)","v":""},{"$f":"IF('2.Logbook'!G477=\"\",\"\",'2.Logbook'!G477)","v":""},{"$f":"IF('2.Logbook'!H477=\"\",\"\",'2.Logbook'!H477)","v":""},{"$f":"IF('2.Logbook'!I477=\"\",\"\",'2.Logbook'!I477)","v":""},{"$f":"IF('2.Logbook'!J477=\"\",\"\",'2.Logbook'!J477)","v":""},{"$f":"IF('2.Logbook'!K477=\"\",\"\",'2.Logbook'!K477)","v":""},{"$f":"IF('2.Logbook'!L477=\"\",\"\",'2.Logbook'!L477)","v":""},{"$f":"IF('2.Logbook'!M477=\"\",\"\",'2.Logbook'!M477)","v":""},{"$f":"IF('2.Logbook'!N477=\"\",\"\",'2.Logbook'!N477)","v":""},{"$f":"IF('2.Logbook'!O477=\"\",\"\",'2.Logbook'!O477)","v":""},{"$f":"IF('2.Logbook'!P477=\"\",\"\",'2.Logbook'!P477)","v":""},{"$f":"IF('2.Logbook'!Q477=\"\",\"\",'2.Logbook'!Q477)","v":""},{"$f":"IF('2.Logbook'!R477=\"\",\"\",'2.Logbook'!R477)","v":""},{"$f":"IF('2.Logbook'!S477=\"\",\"\",'2.Logbook'!S477)","v":""},{"$f":"IF('2.Logbook'!T477=\"\",\"\",'2.Logbook'!T477)","v":""},{"$f":"IF('2.Logbook'!U477=\"\",\"\",'2.Logbook'!U477)","v":""},{"$f":"IF('2.Logbook'!V477=\"\",\"\",'2.Logbook'!V477)","v":""},{"$f":"IF('2.Logbook'!W477=\"\",\"\",'2.Logbook'!W477)","v":""},{"$f":"IF('2.Logbook'!X477=\"\",\"\",'2.Logbook'!X477)","v":""},{"$f":"IF('2.Logbook'!Y477=\"\",\"\",'2.Logbook'!Y477)","v":""},{"$f":"IF('2.Logbook'!Z477=\"\",\"\",'2.Logbook'!Z477)","v":""},{"$f":"IF('2.Logbook'!AA477=\"\",\"\",'2.Logbook'!AA477)","v":""},{"$f":"IF('2.Logbook'!AB477=\"\",\"\",'2.Logbook'!AB477)","v":""},{"$f":"IF('2.Logbook'!AC477=\"\",\"\",'2.Logbook'!AC477)","v":""},{"$f":"IF('2.Logbook'!AD477=\"\",\"\",'2.Logbook'!AD477)","v":""},{"$f":"IF('2.Logbook'!AE477=\"\",\"\",'2.Logbook'!AE477)","v":""},{"$f":"IF('2.Logbook'!AF477=\"\",\"\",'2.Logbook'!AF477)","v":""},{"$f":"IF('2.Logbook'!AG477=\"\",\"\",'2.Logbook'!AG477)","v":""}]
[{"$f":"IF('2.Logbook'!A478=\"\",\"\",'2.Logbook'!A478)","v":""},{"$f":"IF('2.Logbook'!B478=\"\",\"\",'2.Logbook'!B478)","v":""},{"$f":"IF('2.Logbook'!C478=\"\",\"\",'2.Logbook'!C478)","v":""},{"$f":"IF('2.Logbook'!D478=\"\",\"\",'2.Logbook'!D478)","v":""},{"$f":"IF('2.Logbook'!E478=\"\",\"\",'2.Logbook'!E478)","v":""},{"$f":"IF('2.Logbook'!F478=\"\",\"\",'2.Logbook'!F478)","v":""},{"$f":"IF('2.Logbook'!G478=\"\",\"\",'2.Logbook'!G478)","v":""},{"$f":"IF('2.Logbook'!H478=\"\",\"\",'2.Logbook'!H478)","v":""},{"$f":"IF('2.Logbook'!I478=\"\",\"\",'2.Logbook'!I478)","v":""},{"$f":"IF('2.Logbook'!J478=\"\",\"\",'2.Logbook'!J478)","v":""},{"$f":"IF('2.Logbook'!K478=\"\",\"\",'2.Logbook'!K478)","v":""},{"$f":"IF('2.Logbook'!L478=\"\",\"\",'2.Logbook'!L478)","v":""},{"$f":"IF('2.Logbook'!M478=\"\",\"\",'2.Logbook'!M478)","v":""},{"$f":"IF('2.Logbook'!N478=\"\",\"\",'2.Logbook'!N478)","v":""},{"$f":"IF('2.Logbook'!O478=\"\",\"\",'2.Logbook'!O478)","v":""},{"$f":"IF('2.Logbook'!P478=\"\",\"\",'2.Logbook'!P478)","v":""},{"$f":"IF('2.Logbook'!Q478=\"\",\"\",'2.Logbook'!Q478)","v":""},{"$f":"IF('2.Logbook'!R478=\"\",\"\",'2.Logbook'!R478)","v":""},{"$f":"IF('2.Logbook'!S478=\"\",\"\",'2.Logbook'!S478)","v":""},{"$f":"IF('2.Logbook'!T478=\"\",\"\",'2.Logbook'!T478)","v":""},{"$f":"IF('2.Logbook'!U478=\"\",\"\",'2.Logbook'!U478)","v":""},{"$f":"IF('2.Logbook'!V478=\"\",\"\",'2.Logbook'!V478)","v":""},{"$f":"IF('2.Logbook'!W478=\"\",\"\",'2.Logbook'!W478)","v":""},{"$f":"IF('2.Logbook'!X478=\"\",\"\",'2.Logbook'!X478)","v":""},{"$f":"IF('2.Logbook'!Y478=\"\",\"\",'2.Logbook'!Y478)","v":""},{"$f":"IF('2.Logbook'!Z478=\"\",\"\",'2.Logbook'!Z478)","v":""},{"$f":"IF('2.Logbook'!AA478=\"\",\"\",'2.Logbook'!AA478)","v":""},{"$f":"IF('2.Logbook'!AB478=\"\",\"\",'2.Logbook'!AB478)","v":""},{"$f":"IF('2.Logbook'!AC478=\"\",\"\",'2.Logbook'!AC478)","v":""},{"$f":"IF('2.Logbook'!AD478=\"\",\"\",'2.Logbook'!AD478)","v":""},{"$f":"IF('2.Logbook'!AE478=\"\",\"\",'2.Logbook'!AE478)","v":""},{"$f":"IF('2.Logbook'!AF478=\"\",\"\",'2.Logbook'!AF478)","v":""},{"$f":"IF('2.Logbook'!AG478=\"\",\"\",'2.Logbook'!AG478)","v":""}]
[{"$f":"IF('2.Logbook'!A479=\"\",\"\",'2.Logbook'!A479)","v":""},{"$f":"IF('2.Logbook'!B479=\"\",\"\",'2.Logbook'!B479)","v":""},{"$f":"IF('2.Logbook'!C479=\"\",\"\",'2.Logbook'!C479)","v":""},{"$f":"IF('2.Logbook'!D479=\"\",\"\",'2.Logbook'!D479)","v":""},{"$f":"IF('2.Logbook'!E479=\"\",\"\",'2.Logbook'!E479)","v":""},{"$f":"IF('2.Logbook'!F479=\"\",\"\",'2.Logbook'!F479)","v":""},{"$f":"IF('2.Logbook'!G479=\"\",\"\",'2.Logbook'!G479)","v":""},{"$f":"IF('2.Logbook'!H479=\"\",\"\",'2.Logbook'!H479)","v":""},{"$f":"IF('2.Logbook'!I479=\"\",\"\",'2.Logbook'!I479)","v":""},{"$f":"IF('2.Logbook'!J479=\"\",\"\",'2.Logbook'!J479)","v":""},{"$f":"IF('2.Logbook'!K479=\"\",\"\",'2.Logbook'!K479)","v":""},{"$f":"IF('2.Logbook'!L479=\"\",\"\",'2.Logbook'!L479)","v":""},{"$f":"IF('2.Logbook'!M479=\"\",\"\",'2.Logbook'!M479)","v":""},{"$f":"IF('2.Logbook'!N479=\"\",\"\",'2.Logbook'!N479)","v":""},{"$f":"IF('2.Logbook'!O479=\"\",\"\",'2.Logbook'!O479)","v":""},{"$f":"IF('2.Logbook'!P479=\"\",\"\",'2.Logbook'!P479)","v":""},{"$f":"IF('2.Logbook'!Q479=\"\",\"\",'2.Logbook'!Q479)","v":""},{"$f":"IF('2.Logbook'!R479=\"\",\"\",'2.Logbook'!R479)","v":""},{"$f":"IF('2.Logbook'!S479=\"\",\"\",'2.Logbook'!S479)","v":""},{"$f":"IF('2.Logbook'!T479=\"\",\"\",'2.Logbook'!T479)","v":""},{"$f":"IF('2.Logbook'!U479=\"\",\"\",'2.Logbook'!U479)","v":""},{"$f":"IF('2.Logbook'!V479=\"\",\"\",'2.Logbook'!V479)","v":""},{"$f":"IF('2.Logbook'!W479=\"\",\"\",'2.Logbook'!W479)","v":""},{"$f":"IF('2.Logbook'!X479=\"\",\"\",'2.Logbook'!X479)","v":""},{"$f":"IF('2.Logbook'!Y479=\"\",\"\",'2.Logbook'!Y479)","v":""},{"$f":"IF('2.Logbook'!Z479=\"\",\"\",'2.Logbook'!Z479)","v":""},{"$f":"IF('2.Logbook'!AA479=\"\",\"\",'2.Logbook'!AA479)","v":""},{"$f":"IF('2.Logbook'!AB479=\"\",\"\",'2.Logbook'!AB479)","v":""},{"$f":"IF('2.Logbook'!AC479=\"\",\"\",'2.Logbook'!AC479)","v":""},{"$f":"IF('2.Logbook'!AD479=\"\",\"\",'2.Logbook'!AD479)","v":""},{"$f":"IF('2.Logbook'!AE479=\"\",\"\",'2.Logbook'!AE479)","v":""},{"$f":"IF('2.Logbook'!AF479=\"\",\"\",'2.Logbook'!AF479)","v":""},{"$f":"IF('2.Logbook'!AG479=\"\",\"\",'2.Logbook'!AG479)","v":""}]
[{"$f":"IF('2.Logbook'!A480=\"\",\"\",'2.Logbook'!A480)","v":""},{"$f":"IF('2.Logbook'!B480=\"\",\"\",'2.Logbook'!B480)","v":""},{"$f":"IF('2.Logbook'!C480=\"\",\"\",'2.Logbook'!C480)","v":""},{"$f":"IF('2.Logbook'!D480=\"\",\"\",'2.Logbook'!D480)","v":""},{"$f":"IF('2.Logbook'!E480=\"\",\"\",'2.Logbook'!E480)","v":""},{"$f":"IF('2.Logbook'!F480=\"\",\"\",'2.Logbook'!F480)","v":""},{"$f":"IF('2.Logbook'!G480=\"\",\"\",'2.Logbook'!G480)","v":""},{"$f":"IF('2.Logbook'!H480=\"\",\"\",'2.Logbook'!H480)","v":""},{"$f":"IF('2.Logbook'!I480=\"\",\"\",'2.Logbook'!I480)","v":""},{"$f":"IF('2.Logbook'!J480=\"\",\"\",'2.Logbook'!J480)","v":""},{"$f":"IF('2.Logbook'!K480=\"\",\"\",'2.Logbook'!K480)","v":""},{"$f":"IF('2.Logbook'!L480=\"\",\"\",'2.Logbook'!L480)","v":""},{"$f":"IF('2.Logbook'!M480=\"\",\"\",'2.Logbook'!M480)","v":""},{"$f":"IF('2.Logbook'!N480=\"\",\"\",'2.Logbook'!N480)","v":""},{"$f":"IF('2.Logbook'!O480=\"\",\"\",'2.Logbook'!O480)","v":""},{"$f":"IF('2.Logbook'!P480=\"\",\"\",'2.Logbook'!P480)","v":""},{"$f":"IF('2.Logbook'!Q480=\"\",\"\",'2.Logbook'!Q480)","v":""},{"$f":"IF('2.Logbook'!R480=\"\",\"\",'2.Logbook'!R480)","v":""},{"$f":"IF('2.Logbook'!S480=\"\",\"\",'2.Logbook'!S480)","v":""},{"$f":"IF('2.Logbook'!T480=\"\",\"\",'2.Logbook'!T480)","v":""},{"$f":"IF('2.Logbook'!U480=\"\",\"\",'2.Logbook'!U480)","v":""},{"$f":"IF('2.Logbook'!V480=\"\",\"\",'2.Logbook'!V480)","v":""},{"$f":"IF('2.Logbook'!W480=\"\",\"\",'2.Logbook'!W480)","v":""},{"$f":"IF('2.Logbook'!X480=\"\",\"\",'2.Logbook'!X480)","v":""},{"$f":"IF('2.Logbook'!Y480=\"\",\"\",'2.Logbook'!Y480)","v":""},{"$f":"IF('2.Logbook'!Z480=\"\",\"\",'2.Logbook'!Z480)","v":""},{"$f":"IF('2.Logbook'!AA480=\"\",\"\",'2.Logbook'!AA480)","v":""},{"$f":"IF('2.Logbook'!AB480=\"\",\"\",'2.Logbook'!AB480)","v":""},{"$f":"IF('2.Logbook'!AC480=\"\",\"\",'2.Logbook'!AC480)","v":""},{"$f":"IF('2.Logbook'!AD480=\"\",\"\",'2.Logbook'!AD480)","v":""},{"$f":"IF('2.Logbook'!AE480=\"\",\"\",'2.Logbook'!AE480)","v":""},{"$f":"IF('2.Logbook'!AF480=\"\",\"\",'2.Logbook'!AF480)","v":""},{"$f":"IF('2.Logbook'!AG480=\"\",\"\",'2.Logbook'!AG480)","v":""}]
[{"$f":"IF('2.Logbook'!A481=\"\",\"\",'2.Logbook'!A481)","v":""},{"$f":"IF('2.Logbook'!B481=\"\",\"\",'2.Logbook'!B481)","v":""},{"$f":"IF('2.Logbook'!C481=\"\",\"\",'2.Logbook'!C481)","v":""},{"$f":"IF('2.Logbook'!D481=\"\",\"\",'2.Logbook'!D481)","v":""},{"$f":"IF('2.Logbook'!E481=\"\",\"\",'2.Logbook'!E481)","v":""},{"$f":"IF('2.Logbook'!F481=\"\",\"\",'2.Logbook'!F481)","v":""},{"$f":"IF('2.Logbook'!G481=\"\",\"\",'2.Logbook'!G481)","v":""},{"$f":"IF('2.Logbook'!H481=\"\",\"\",'2.Logbook'!H481)","v":""},{"$f":"IF('2.Logbook'!I481=\"\",\"\",'2.Logbook'!I481)","v":""},{"$f":"IF('2.Logbook'!J481=\"\",\"\",'2.Logbook'!J481)","v":""},{"$f":"IF('2.Logbook'!K481=\"\",\"\",'2.Logbook'!K481)","v":""},{"$f":"IF('2.Logbook'!L481=\"\",\"\",'2.Logbook'!L481)","v":""},{"$f":"IF('2.Logbook'!M481=\"\",\"\",'2.Logbook'!M481)","v":""},{"$f":"IF('2.Logbook'!N481=\"\",\"\",'2.Logbook'!N481)","v":""},{"$f":"IF('2.Logbook'!O481=\"\",\"\",'2.Logbook'!O481)","v":""},{"$f":"IF('2.Logbook'!P481=\"\",\"\",'2.Logbook'!P481)","v":""},{"$f":"IF('2.Logbook'!Q481=\"\",\"\",'2.Logbook'!Q481)","v":""},{"$f":"IF('2.Logbook'!R481=\"\",\"\",'2.Logbook'!R481)","v":""},{"$f":"IF('2.Logbook'!S481=\"\",\"\",'2.Logbook'!S481)","v":""},{"$f":"IF('2.Logbook'!T481=\"\",\"\",'2.Logbook'!T481)","v":""},{"$f":"IF('2.Logbook'!U481=\"\",\"\",'2.Logbook'!U481)","v":""},{"$f":"IF('2.Logbook'!V481=\"\",\"\",'2.Logbook'!V481)","v":""},{"$f":"IF('2.Logbook'!W481=\"\",\"\",'2.Logbook'!W481)","v":""},{"$f":"IF('2.Logbook'!X481=\"\",\"\",'2.Logbook'!X481)","v":""},{"$f":"IF('2.Logbook'!Y481=\"\",\"\",'2.Logbook'!Y481)","v":""},{"$f":"IF('2.Logbook'!Z481=\"\",\"\",'2.Logbook'!Z481)","v":""},{"$f":"IF('2.Logbook'!AA481=\"\",\"\",'2.Logbook'!AA481)","v":""},{"$f":"IF('2.Logbook'!AB481=\"\",\"\",'2.Logbook'!AB481)","v":""},{"$f":"IF('2.Logbook'!AC481=\"\",\"\",'2.Logbook'!AC481)","v":""},{"$f":"IF('2.Logbook'!AD481=\"\",\"\",'2.Logbook'!AD481)","v":""},{"$f":"IF('2.Logbook'!AE481=\"\",\"\",'2.Logbook'!AE481)","v":""},{"$f":"IF('2.Logbook'!AF481=\"\",\"\",'2.Logbook'!AF481)","v":""},{"$f":"IF('2.Logbook'!AG481=\"\",\"\",'2.Logbook'!AG481)","v":""}]
[{"$f":"IF('2.Logbook'!A482=\"\",\"\",'2.Logbook'!A482)","v":""},{"$f":"IF('2.Logbook'!B482=\"\",\"\",'2.Logbook'!B482)","v":""},{"$f":"IF('2.Logbook'!C482=\"\",\"\",'2.Logbook'!C482)","v":""},{"$f":"IF('2.Logbook'!D482=\"\",\"\",'2.Logbook'!D482)","v":""},{"$f":"IF('2.Logbook'!E482=\"\",\"\",'2.Logbook'!E482)","v":""},{"$f":"IF('2.Logbook'!F482=\"\",\"\",'2.Logbook'!F482)","v":""},{"$f":"IF('2.Logbook'!G482=\"\",\"\",'2.Logbook'!G482)","v":""},{"$f":"IF('2.Logbook'!H482=\"\",\"\",'2.Logbook'!H482)","v":""},{"$f":"IF('2.Logbook'!I482=\"\",\"\",'2.Logbook'!I482)","v":""},{"$f":"IF('2.Logbook'!J482=\"\",\"\",'2.Logbook'!J482)","v":""},{"$f":"IF('2.Logbook'!K482=\"\",\"\",'2.Logbook'!K482)","v":""},{"$f":"IF('2.Logbook'!L482=\"\",\"\",'2.Logbook'!L482)","v":""},{"$f":"IF('2.Logbook'!M482=\"\",\"\",'2.Logbook'!M482)","v":""},{"$f":"IF('2.Logbook'!N482=\"\",\"\",'2.Logbook'!N482)","v":""},{"$f":"IF('2.Logbook'!O482=\"\",\"\",'2.Logbook'!O482)","v":""},{"$f":"IF('2.Logbook'!P482=\"\",\"\",'2.Logbook'!P482)","v":""},{"$f":"IF('2.Logbook'!Q482=\"\",\"\",'2.Logbook'!Q482)","v":""},{"$f":"IF('2.Logbook'!R482=\"\",\"\",'2.Logbook'!R482)","v":""},{"$f":"IF('2.Logbook'!S482=\"\",\"\",'2.Logbook'!S482)","v":""},{"$f":"IF('2.Logbook'!T482=\"\",\"\",'2.Logbook'!T482)","v":""},{"$f":"IF('2.Logbook'!U482=\"\",\"\",'2.Logbook'!U482)","v":""},{"$f":"IF('2.Logbook'!V482=\"\",\"\",'2.Logbook'!V482)","v":""},{"$f":"IF('2.Logbook'!W482=\"\",\"\",'2.Logbook'!W482)","v":""},{"$f":"IF('2.Logbook'!X482=\"\",\"\",'2.Logbook'!X482)","v":""},{"$f":"IF('2.Logbook'!Y482=\"\",\"\",'2.Logbook'!Y482)","v":""},{"$f":"IF('2.Logbook'!Z482=\"\",\"\",'2.Logbook'!Z482)","v":""},{"$f":"IF('2.Logbook'!AA482=\"\",\"\",'2.Logbook'!AA482)","v":""},{"$f":"IF('2.Logbook'!AB482=\"\",\"\",'2.Logbook'!AB482)","v":""},{"$f":"IF('2.Logbook'!AC482=\"\",\"\",'2.Logbook'!AC482)","v":""},{"$f":"IF('2.Logbook'!AD482=\"\",\"\",'2.Logbook'!AD482)","v":""},{"$f":"IF('2.Logbook'!AE482=\"\",\"\",'2.Logbook'!AE482)","v":""},{"$f":"IF('2.Logbook'!AF482=\"\",\"\",'2.Logbook'!AF482)","v":""},{"$f":"IF('2.Logbook'!AG482=\"\",\"\",'2.Logbook'!AG482)","v":""}]
[{"$f":"IF('2.Logbook'!A483=\"\",\"\",'2.Logbook'!A483)","v":""},{"$f":"IF('2.Logbook'!B483=\"\",\"\",'2.Logbook'!B483)","v":""},{"$f":"IF('2.Logbook'!C483=\"\",\"\",'2.Logbook'!C483)","v":""},{"$f":"IF('2.Logbook'!D483=\"\",\"\",'2.Logbook'!D483)","v":""},{"$f":"IF('2.Logbook'!E483=\"\",\"\",'2.Logbook'!E483)","v":""},{"$f":"IF('2.Logbook'!F483=\"\",\"\",'2.Logbook'!F483)","v":""},{"$f":"IF('2.Logbook'!G483=\"\",\"\",'2.Logbook'!G483)","v":""},{"$f":"IF('2.Logbook'!H483=\"\",\"\",'2.Logbook'!H483)","v":""},{"$f":"IF('2.Logbook'!I483=\"\",\"\",'2.Logbook'!I483)","v":""},{"$f":"IF('2.Logbook'!J483=\"\",\"\",'2.Logbook'!J483)","v":""},{"$f":"IF('2.Logbook'!K483=\"\",\"\",'2.Logbook'!K483)","v":""},{"$f":"IF('2.Logbook'!L483=\"\",\"\",'2.Logbook'!L483)","v":""},{"$f":"IF('2.Logbook'!M483=\"\",\"\",'2.Logbook'!M483)","v":""},{"$f":"IF('2.Logbook'!N483=\"\",\"\",'2.Logbook'!N483)","v":""},{"$f":"IF('2.Logbook'!O483=\"\",\"\",'2.Logbook'!O483)","v":""},{"$f":"IF('2.Logbook'!P483=\"\",\"\",'2.Logbook'!P483)","v":""},{"$f":"IF('2.Logbook'!Q483=\"\",\"\",'2.Logbook'!Q483)","v":""},{"$f":"IF('2.Logbook'!R483=\"\",\"\",'2.Logbook'!R483)","v":""},{"$f":"IF('2.Logbook'!S483=\"\",\"\",'2.Logbook'!S483)","v":""},{"$f":"IF('2.Logbook'!T483=\"\",\"\",'2.Logbook'!T483)","v":""},{"$f":"IF('2.Logbook'!U483=\"\",\"\",'2.Logbook'!U483)","v":""},{"$f":"IF('2.Logbook'!V483=\"\",\"\",'2.Logbook'!V483)","v":""},{"$f":"IF('2.Logbook'!W483=\"\",\"\",'2.Logbook'!W483)","v":""},{"$f":"IF('2.Logbook'!X483=\"\",\"\",'2.Logbook'!X483)","v":""},{"$f":"IF('2.Logbook'!Y483=\"\",\"\",'2.Logbook'!Y483)","v":""},{"$f":"IF('2.Logbook'!Z483=\"\",\"\",'2.Logbook'!Z483)","v":""},{"$f":"IF('2.Logbook'!AA483=\"\",\"\",'2.Logbook'!AA483)","v":""},{"$f":"IF('2.Logbook'!AB483=\"\",\"\",'2.Logbook'!AB483)","v":""},{"$f":"IF('2.Logbook'!AC483=\"\",\"\",'2.Logbook'!AC483)","v":""},{"$f":"IF('2.Logbook'!AD483=\"\",\"\",'2.Logbook'!AD483)","v":""},{"$f":"IF('2.Logbook'!AE483=\"\",\"\",'2.Logbook'!AE483)","v":""},{"$f":"IF('2.Logbook'!AF483=\"\",\"\",'2.Logbook'!AF483)","v":""},{"$f":"IF('2.Logbook'!AG483=\"\",\"\",'2.Logbook'!AG483)","v":""}]
[{"$f":"IF('2.Logbook'!A484=\"\",\"\",'2.Logbook'!A484)","v":""},{"$f":"IF('2.Logbook'!B484=\"\",\"\",'2.Logbook'!B484)","v":""},{"$f":"IF('2.Logbook'!C484=\"\",\"\",'2.Logbook'!C484)","v":""},{"$f":"IF('2.Logbook'!D484=\"\",\"\",'2.Logbook'!D484)","v":""},{"$f":"IF('2.Logbook'!E484=\"\",\"\",'2.Logbook'!E484)","v":""},{"$f":"IF('2.Logbook'!F484=\"\",\"\",'2.Logbook'!F484)","v":""},{"$f":"IF('2.Logbook'!G484=\"\",\"\",'2.Logbook'!G484)","v":""},{"$f":"IF('2.Logbook'!H484=\"\",\"\",'2.Logbook'!H484)","v":""},{"$f":"IF('2.Logbook'!I484=\"\",\"\",'2.Logbook'!I484)","v":""},{"$f":"IF('2.Logbook'!J484=\"\",\"\",'2.Logbook'!J484)","v":""},{"$f":"IF('2.Logbook'!K484=\"\",\"\",'2.Logbook'!K484)","v":""},{"$f":"IF('2.Logbook'!L484=\"\",\"\",'2.Logbook'!L484)","v":""},{"$f":"IF('2.Logbook'!M484=\"\",\"\",'2.Logbook'!M484)","v":""},{"$f":"IF('2.Logbook'!N484=\"\",\"\",'2.Logbook'!N484)","v":""},{"$f":"IF('2.Logbook'!O484=\"\",\"\",'2.Logbook'!O484)","v":""},{"$f":"IF('2.Logbook'!P484=\"\",\"\",'2.Logbook'!P484)","v":""},{"$f":"IF('2.Logbook'!Q484=\"\",\"\",'2.Logbook'!Q484)","v":""},{"$f":"IF('2.Logbook'!R484=\"\",\"\",'2.Logbook'!R484)","v":""},{"$f":"IF('2.Logbook'!S484=\"\",\"\",'2.Logbook'!S484)","v":""},{"$f":"IF('2.Logbook'!T484=\"\",\"\",'2.Logbook'!T484)","v":""},{"$f":"IF('2.Logbook'!U484=\"\",\"\",'2.Logbook'!U484)","v":""},{"$f":"IF('2.Logbook'!V484=\"\",\"\",'2.Logbook'!V484)","v":""},{"$f":"IF('2.Logbook'!W484=\"\",\"\",'2.Logbook'!W484)","v":""},{"$f":"IF('2.Logbook'!X484=\"\",\"\",'2.Logbook'!X484)","v":""},{"$f":"IF('2.Logbook'!Y484=\"\",\"\",'2.Logbook'!Y484)","v":""},{"$f":"IF('2.Logbook'!Z484=\"\",\"\",'2.Logbook'!Z484)","v":""},{"$f":"IF('2.Logbook'!AA484=\"\",\"\",'2.Logbook'!AA484)","v":""},{"$f":"IF('2.Logbook'!AB484=\"\",\"\",'2.Logbook'!AB484)","v":""},{"$f":"IF('2.Logbook'!AC484=\"\",\"\",'2.Logbook'!AC484)","v":""},{"$f":"IF('2.Logbook'!AD484=\"\",\"\",'2.Logbook'!AD484)","v":""},{"$f":"IF('2.Logbook'!AE484=\"\",\"\",'2.Logbook'!AE484)","v":""},{"$f":"IF('2.Logbook'!AF484=\"\",\"\",'2.Logbook'!AF484)","v":""},{"$f":"IF('2.Logbook'!AG484=\"\",\"\",'2.Logbook'!AG484)","v":""}]
[{"$f":"IF('2.Logbook'!A485=\"\",\"\",'2.Logbook'!A485)","v":""},{"$f":"IF('2.Logbook'!B485=\"\",\"\",'2.Logbook'!B485)","v":""},{"$f":"IF('2.Logbook'!C485=\"\",\"\",'2.Logbook'!C485)","v":""},{"$f":"IF('2.Logbook'!D485=\"\",\"\",'2.Logbook'!D485)","v":""},{"$f":"IF('2.Logbook'!E485=\"\",\"\",'2.Logbook'!E485)","v":""},{"$f":"IF('2.Logbook'!F485=\"\",\"\",'2.Logbook'!F485)","v":""},{"$f":"IF('2.Logbook'!G485=\"\",\"\",'2.Logbook'!G485)","v":""},{"$f":"IF('2.Logbook'!H485=\"\",\"\",'2.Logbook'!H485)","v":""},{"$f":"IF('2.Logbook'!I485=\"\",\"\",'2.Logbook'!I485)","v":""},{"$f":"IF('2.Logbook'!J485=\"\",\"\",'2.Logbook'!J485)","v":""},{"$f":"IF('2.Logbook'!K485=\"\",\"\",'2.Logbook'!K485)","v":""},{"$f":"IF('2.Logbook'!L485=\"\",\"\",'2.Logbook'!L485)","v":""},{"$f":"IF('2.Logbook'!M485=\"\",\"\",'2.Logbook'!M485)","v":""},{"$f":"IF('2.Logbook'!N485=\"\",\"\",'2.Logbook'!N485)","v":""},{"$f":"IF('2.Logbook'!O485=\"\",\"\",'2.Logbook'!O485)","v":""},{"$f":"IF('2.Logbook'!P485=\"\",\"\",'2.Logbook'!P485)","v":""},{"$f":"IF('2.Logbook'!Q485=\"\",\"\",'2.Logbook'!Q485)","v":""},{"$f":"IF('2.Logbook'!R485=\"\",\"\",'2.Logbook'!R485)","v":""},{"$f":"IF('2.Logbook'!S485=\"\",\"\",'2.Logbook'!S485)","v":""},{"$f":"IF('2.Logbook'!T485=\"\",\"\",'2.Logbook'!T485)","v":""},{"$f":"IF('2.Logbook'!U485=\"\",\"\",'2.Logbook'!U485)","v":""},{"$f":"IF('2.Logbook'!V485=\"\",\"\",'2.Logbook'!V485)","v":""},{"$f":"IF('2.Logbook'!W485=\"\",\"\",'2.Logbook'!W485)","v":""},{"$f":"IF('2.Logbook'!X485=\"\",\"\",'2.Logbook'!X485)","v":""},{"$f":"IF('2.Logbook'!Y485=\"\",\"\",'2.Logbook'!Y485)","v":""},{"$f":"IF('2.Logbook'!Z485=\"\",\"\",'2.Logbook'!Z485)","v":""},{"$f":"IF('2.Logbook'!AA485=\"\",\"\",'2.Logbook'!AA485)","v":""},{"$f":"IF('2.Logbook'!AB485=\"\",\"\",'2.Logbook'!AB485)","v":""},{"$f":"IF('2.Logbook'!AC485=\"\",\"\",'2.Logbook'!AC485)","v":""},{"$f":"IF('2.Logbook'!AD485=\"\",\"\",'2.Logbook'!AD485)","v":""},{"$f":"IF('2.Logbook'!AE485=\"\",\"\",'2.Logbook'!AE485)","v":""},{"$f":"IF('2.Logbook'!AF485=\"\",\"\",'2.Logbook'!AF485)","v":""},{"$f":"IF('2.Logbook'!AG485=\"\",\"\",'2.Logbook'!AG485)","v":""}]
[{"$f":"IF('2.Logbook'!A486=\"\",\"\",'2.Logbook'!A486)","v":""},{"$f":"IF('2.Logbook'!B486=\"\",\"\",'2.Logbook'!B486)","v":""},{"$f":"IF('2.Logbook'!C486=\"\",\"\",'2.Logbook'!C486)","v":""},{"$f":"IF('2.Logbook'!D486=\"\",\"\",'2.Logbook'!D486)","v":""},{"$f":"IF('2.Logbook'!E486=\"\",\"\",'2.Logbook'!E486)","v":""},{"$f":"IF('2.Logbook'!F486=\"\",\"\",'2.Logbook'!F486)","v":""},{"$f":"IF('2.Logbook'!G486=\"\",\"\",'2.Logbook'!G486)","v":""},{"$f":"IF('2.Logbook'!H486=\"\",\"\",'2.Logbook'!H486)","v":""},{"$f":"IF('2.Logbook'!I486=\"\",\"\",'2.Logbook'!I486)","v":""},{"$f":"IF('2.Logbook'!J486=\"\",\"\",'2.Logbook'!J486)","v":""},{"$f":"IF('2.Logbook'!K486=\"\",\"\",'2.Logbook'!K486)","v":""},{"$f":"IF('2.Logbook'!L486=\"\",\"\",'2.Logbook'!L486)","v":""},{"$f":"IF('2.Logbook'!M486=\"\",\"\",'2.Logbook'!M486)","v":""},{"$f":"IF('2.Logbook'!N486=\"\",\"\",'2.Logbook'!N486)","v":""},{"$f":"IF('2.Logbook'!O486=\"\",\"\",'2.Logbook'!O486)","v":""},{"$f":"IF('2.Logbook'!P486=\"\",\"\",'2.Logbook'!P486)","v":""},{"$f":"IF('2.Logbook'!Q486=\"\",\"\",'2.Logbook'!Q486)","v":""},{"$f":"IF('2.Logbook'!R486=\"\",\"\",'2.Logbook'!R486)","v":""},{"$f":"IF('2.Logbook'!S486=\"\",\"\",'2.Logbook'!S486)","v":""},{"$f":"IF('2.Logbook'!T486=\"\",\"\",'2.Logbook'!T486)","v":""},{"$f":"IF('2.Logbook'!U486=\"\",\"\",'2.Logbook'!U486)","v":""},{"$f":"IF('2.Logbook'!V486=\"\",\"\",'2.Logbook'!V486)","v":""},{"$f":"IF('2.Logbook'!W486=\"\",\"\",'2.Logbook'!W486)","v":""},{"$f":"IF('2.Logbook'!X486=\"\",\"\",'2.Logbook'!X486)","v":""},{"$f":"IF('2.Logbook'!Y486=\"\",\"\",'2.Logbook'!Y486)","v":""},{"$f":"IF('2.Logbook'!Z486=\"\",\"\",'2.Logbook'!Z486)","v":""},{"$f":"IF('2.Logbook'!AA486=\"\",\"\",'2.Logbook'!AA486)","v":""},{"$f":"IF('2.Logbook'!AB486=\"\",\"\",'2.Logbook'!AB486)","v":""},{"$f":"IF('2.Logbook'!AC486=\"\",\"\",'2.Logbook'!AC486)","v":""},{"$f":"IF('2.Logbook'!AD486=\"\",\"\",'2.Logbook'!AD486)","v":""},{"$f":"IF('2.Logbook'!AE486=\"\",\"\",'2.Logbook'!AE486)","v":""},{"$f":"IF('2.Logbook'!AF486=\"\",\"\",'2.Logbook'!AF486)","v":""},{"$f":"IF('2.Logbook'!AG486=\"\",\"\",'2.Logbook'!AG486)","v":""}]
[{"$f":"IF('2.Logbook'!A487=\"\",\"\",'2.Logbook'!A487)","v":""},{"$f":"IF('2.Logbook'!B487=\"\",\"\",'2.Logbook'!B487)","v":""},{"$f":"IF('2.Logbook'!C487=\"\",\"\",'2.Logbook'!C487)","v":""},{"$f":"IF('2.Logbook'!D487=\"\",\"\",'2.Logbook'!D487)","v":""},{"$f":"IF('2.Logbook'!E487=\"\",\"\",'2.Logbook'!E487)","v":""},{"$f":"IF('2.Logbook'!F487=\"\",\"\",'2.Logbook'!F487)","v":""},{"$f":"IF('2.Logbook'!G487=\"\",\"\",'2.Logbook'!G487)","v":""},{"$f":"IF('2.Logbook'!H487=\"\",\"\",'2.Logbook'!H487)","v":""},{"$f":"IF('2.Logbook'!I487=\"\",\"\",'2.Logbook'!I487)","v":""},{"$f":"IF('2.Logbook'!J487=\"\",\"\",'2.Logbook'!J487)","v":""},{"$f":"IF('2.Logbook'!K487=\"\",\"\",'2.Logbook'!K487)","v":""},{"$f":"IF('2.Logbook'!L487=\"\",\"\",'2.Logbook'!L487)","v":""},{"$f":"IF('2.Logbook'!M487=\"\",\"\",'2.Logbook'!M487)","v":""},{"$f":"IF('2.Logbook'!N487=\"\",\"\",'2.Logbook'!N487)","v":""},{"$f":"IF('2.Logbook'!O487=\"\",\"\",'2.Logbook'!O487)","v":""},{"$f":"IF('2.Logbook'!P487=\"\",\"\",'2.Logbook'!P487)","v":""},{"$f":"IF('2.Logbook'!Q487=\"\",\"\",'2.Logbook'!Q487)","v":""},{"$f":"IF('2.Logbook'!R487=\"\",\"\",'2.Logbook'!R487)","v":""},{"$f":"IF('2.Logbook'!S487=\"\",\"\",'2.Logbook'!S487)","v":""},{"$f":"IF('2.Logbook'!T487=\"\",\"\",'2.Logbook'!T487)","v":""},{"$f":"IF('2.Logbook'!U487=\"\",\"\",'2.Logbook'!U487)","v":""},{"$f":"IF('2.Logbook'!V487=\"\",\"\",'2.Logbook'!V487)","v":""},{"$f":"IF('2.Logbook'!W487=\"\",\"\",'2.Logbook'!W487)","v":""},{"$f":"IF('2.Logbook'!X487=\"\",\"\",'2.Logbook'!X487)","v":""},{"$f":"IF('2.Logbook'!Y487=\"\",\"\",'2.Logbook'!Y487)","v":""},{"$f":"IF('2.Logbook'!Z487=\"\",\"\",'2.Logbook'!Z487)","v":""},{"$f":"IF('2.Logbook'!AA487=\"\",\"\",'2.Logbook'!AA487)","v":""},{"$f":"IF('2.Logbook'!AB487=\"\",\"\",'2.Logbook'!AB487)","v":""},{"$f":"IF('2.Logbook'!AC487=\"\",\"\",'2.Logbook'!AC487)","v":""},{"$f":"IF('2.Logbook'!AD487=\"\",\"\",'2.Logbook'!AD487)","v":""},{"$f":"IF('2.Logbook'!AE487=\"\",\"\",'2.Logbook'!AE487)","v":""},{"$f":"IF('2.Logbook'!AF487=\"\",\"\",'2.Logbook'!AF487)","v":""},{"$f":"IF('2.Logbook'!AG487=\"\",\"\",'2.Logbook'!AG487)","v":""}]
[{"$f":"IF('2.Logbook'!A488=\"\",\"\",'2.Logbook'!A488)","v":""},{"$f":"IF('2.Logbook'!B488=\"\",\"\",'2.Logbook'!B488)","v":""},{"$f":"IF('2.Logbook'!C488=\"\",\"\",'2.Logbook'!C488)","v":""},{"$f":"IF('2.Logbook'!D488=\"\",\"\",'2.Logbook'!D488)","v":""},{"$f":"IF('2.Logbook'!E488=\"\",\"\",'2.Logbook'!E488)","v":""},{"$f":"IF('2.Logbook'!F488=\"\",\"\",'2.Logbook'!F488)","v":""},{"$f":"IF('2.Logbook'!G488=\"\",\"\",'2.Logbook'!G488)","v":""},{"$f":"IF('2.Logbook'!H488=\"\",\"\",'2.Logbook'!H488)","v":""},{"$f":"IF('2.Logbook'!I488=\"\",\"\",'2.Logbook'!I488)","v":""},{"$f":"IF('2.Logbook'!J488=\"\",\"\",'2.Logbook'!J488)","v":""},{"$f":"IF('2.Logbook'!K488=\"\",\"\",'2.Logbook'!K488)","v":""},{"$f":"IF('2.Logbook'!L488=\"\",\"\",'2.Logbook'!L488)","v":""},{"$f":"IF('2.Logbook'!M488=\"\",\"\",'2.Logbook'!M488)","v":""},{"$f":"IF('2.Logbook'!N488=\"\",\"\",'2.Logbook'!N488)","v":""},{"$f":"IF('2.Logbook'!O488=\"\",\"\",'2.Logbook'!O488)","v":""},{"$f":"IF('2.Logbook'!P488=\"\",\"\",'2.Logbook'!P488)","v":""},{"$f":"IF('2.Logbook'!Q488=\"\",\"\",'2.Logbook'!Q488)","v":""},{"$f":"IF('2.Logbook'!R488=\"\",\"\",'2.Logbook'!R488)","v":""},{"$f":"IF('2.Logbook'!S488=\"\",\"\",'2.Logbook'!S488)","v":""},{"$f":"IF('2.Logbook'!T488=\"\",\"\",'2.Logbook'!T488)","v":""},{"$f":"IF('2.Logbook'!U488=\"\",\"\",'2.Logbook'!U488)","v":""},{"$f":"IF('2.Logbook'!V488=\"\",\"\",'2.Logbook'!V488)","v":""},{"$f":"IF('2.Logbook'!W488=\"\",\"\",'2.Logbook'!W488)","v":""},{"$f":"IF('2.Logbook'!X488=\"\",\"\",'2.Logbook'!X488)","v":""},{"$f":"IF('2.Logbook'!Y488=\"\",\"\",'2.Logbook'!Y488)","v":""},{"$f":"IF('2.Logbook'!Z488=\"\",\"\",'2.Logbook'!Z488)","v":""},{"$f":"IF('2.Logbook'!AA488=\"\",\"\",'2.Logbook'!AA488)","v":""},{"$f":"IF('2.Logbook'!AB488=\"\",\"\",'2.Logbook'!AB488)","v":""},{"$f":"IF('2.Logbook'!AC488=\"\",\"\",'2.Logbook'!AC488)","v":""},{"$f":"IF('2.Logbook'!AD488=\"\",\"\",'2.Logbook'!AD488)","v":""},{"$f":"IF('2.Logbook'!AE488=\"\",\"\",'2.Logbook'!AE488)","v":""},{"$f":"IF('2.Logbook'!AF488=\"\",\"\",'2.Logbook'!AF488)","v":""},{"$f":"IF('2.Logbook'!AG488=\"\",\"\",'2.Logbook'!AG488)","v":""}]
[{"$f":"IF('2.Logbook'!A489=\"\",\"\",'2.Logbook'!A489)","v":""},{"$f":"IF('2.Logbook'!B489=\"\",\"\",'2.Logbook'!B489)","v":""},{"$f":"IF('2.Logbook'!C489=\"\",\"\",'2.Logbook'!C489)","v":""},{"$f":"IF('2.Logbook'!D489=\"\",\"\",'2.Logbook'!D489)","v":""},{"$f":"IF('2.Logbook'!E489=\"\",\"\",'2.Logbook'!E489)","v":""},{"$f":"IF('2.Logbook'!F489=\"\",\"\",'2.Logbook'!F489)","v":""},{"$f":"IF('2.Logbook'!G489=\"\",\"\",'2.Logbook'!G489)","v":""},{"$f":"IF('2.Logbook'!H489=\"\",\"\",'2.Logbook'!H489)","v":""},{"$f":"IF('2.Logbook'!I489=\"\",\"\",'2.Logbook'!I489)","v":""},{"$f":"IF('2.Logbook'!J489=\"\",\"\",'2.Logbook'!J489)","v":""},{"$f":"IF('2.Logbook'!K489=\"\",\"\",'2.Logbook'!K489)","v":""},{"$f":"IF('2.Logbook'!L489=\"\",\"\",'2.Logbook'!L489)","v":""},{"$f":"IF('2.Logbook'!M489=\"\",\"\",'2.Logbook'!M489)","v":""},{"$f":"IF('2.Logbook'!N489=\"\",\"\",'2.Logbook'!N489)","v":""},{"$f":"IF('2.Logbook'!O489=\"\",\"\",'2.Logbook'!O489)","v":""},{"$f":"IF('2.Logbook'!P489=\"\",\"\",'2.Logbook'!P489)","v":""},{"$f":"IF('2.Logbook'!Q489=\"\",\"\",'2.Logbook'!Q489)","v":""},{"$f":"IF('2.Logbook'!R489=\"\",\"\",'2.Logbook'!R489)","v":""},{"$f":"IF('2.Logbook'!S489=\"\",\"\",'2.Logbook'!S489)","v":""},{"$f":"IF('2.Logbook'!T489=\"\",\"\",'2.Logbook'!T489)","v":""},{"$f":"IF('2.Logbook'!U489=\"\",\"\",'2.Logbook'!U489)","v":""},{"$f":"IF('2.Logbook'!V489=\"\",\"\",'2.Logbook'!V489)","v":""},{"$f":"IF('2.Logbook'!W489=\"\",\"\",'2.Logbook'!W489)","v":""},{"$f":"IF('2.Logbook'!X489=\"\",\"\",'2.Logbook'!X489)","v":""},{"$f":"IF('2.Logbook'!Y489=\"\",\"\",'2.Logbook'!Y489)","v":""},{"$f":"IF('2.Logbook'!Z489=\"\",\"\",'2.Logbook'!Z489)","v":""},{"$f":"IF('2.Logbook'!AA489=\"\",\"\",'2.Logbook'!AA489)","v":""},{"$f":"IF('2.Logbook'!AB489=\"\",\"\",'2.Logbook'!AB489)","v":""},{"$f":"IF('2.Logbook'!AC489=\"\",\"\",'2.Logbook'!AC489)","v":""},{"$f":"IF('2.Logbook'!AD489=\"\",\"\",'2.Logbook'!AD489)","v":""},{"$f":"IF('2.Logbook'!AE489=\"\",\"\",'2.Logbook'!AE489)","v":""},{"$f":"IF('2.Logbook'!AF489=\"\",\"\",'2.Logbook'!AF489)","v":""},{"$f":"IF('2.Logbook'!AG489=\"\",\"\",'2.Logbook'!AG489)","v":""}]
[{"$f":"IF('2.Logbook'!A490=\"\",\"\",'2.Logbook'!A490)","v":""},{"$f":"IF('2.Logbook'!B490=\"\",\"\",'2.Logbook'!B490)","v":""},{"$f":"IF('2.Logbook'!C490=\"\",\"\",'2.Logbook'!C490)","v":""},{"$f":"IF('2.Logbook'!D490=\"\",\"\",'2.Logbook'!D490)","v":""},{"$f":"IF('2.Logbook'!E490=\"\",\"\",'2.Logbook'!E490)","v":""},{"$f":"IF('2.Logbook'!F490=\"\",\"\",'2.Logbook'!F490)","v":""},{"$f":"IF('2.Logbook'!G490=\"\",\"\",'2.Logbook'!G490)","v":""},{"$f":"IF('2.Logbook'!H490=\"\",\"\",'2.Logbook'!H490)","v":""},{"$f":"IF('2.Logbook'!I490=\"\",\"\",'2.Logbook'!I490)","v":""},{"$f":"IF('2.Logbook'!J490=\"\",\"\",'2.Logbook'!J490)","v":""},{"$f":"IF('2.Logbook'!K490=\"\",\"\",'2.Logbook'!K490)","v":""},{"$f":"IF('2.Logbook'!L490=\"\",\"\",'2.Logbook'!L490)","v":""},{"$f":"IF('2.Logbook'!M490=\"\",\"\",'2.Logbook'!M490)","v":""},{"$f":"IF('2.Logbook'!N490=\"\",\"\",'2.Logbook'!N490)","v":""},{"$f":"IF('2.Logbook'!O490=\"\",\"\",'2.Logbook'!O490)","v":""},{"$f":"IF('2.Logbook'!P490=\"\",\"\",'2.Logbook'!P490)","v":""},{"$f":"IF('2.Logbook'!Q490=\"\",\"\",'2.Logbook'!Q490)","v":""},{"$f":"IF('2.Logbook'!R490=\"\",\"\",'2.Logbook'!R490)","v":""},{"$f":"IF('2.Logbook'!S490=\"\",\"\",'2.Logbook'!S490)","v":""},{"$f":"IF('2.Logbook'!T490=\"\",\"\",'2.Logbook'!T490)","v":""},{"$f":"IF('2.Logbook'!U490=\"\",\"\",'2.Logbook'!U490)","v":""},{"$f":"IF('2.Logbook'!V490=\"\",\"\",'2.Logbook'!V490)","v":""},{"$f":"IF('2.Logbook'!W490=\"\",\"\",'2.Logbook'!W490)","v":""},{"$f":"IF('2.Logbook'!X490=\"\",\"\",'2.Logbook'!X490)","v":""},{"$f":"IF('2.Logbook'!Y490=\"\",\"\",'2.Logbook'!Y490)","v":""},{"$f":"IF('2.Logbook'!Z490=\"\",\"\",'2.Logbook'!Z490)","v":""},{"$f":"IF('2.Logbook'!AA490=\"\",\"\",'2.Logbook'!AA490)","v":""},{"$f":"IF('2.Logbook'!AB490=\"\",\"\",'2.Logbook'!AB490)","v":""},{"$f":"IF('2.Logbook'!AC490=\"\",\"\",'2.Logbook'!AC490)","v":""},{"$f":"IF('2.Logbook'!AD490=\"\",\"\",'2.Logbook'!AD490)","v":""},{"$f":"IF('2.Logbook'!AE490=\"\",\"\",'2.Logbook'!AE490)","v":""},{"$f":"IF('2.Logbook'!AF490=\"\",\"\",'2.Logbook'!AF490)","v":""},{"$f":"IF('2.Logbook'!AG490=\"\",\"\",'2.Logbook'!AG490)","v":""}]
[{"$f":"IF('2.Logbook'!A491=\"\",\"\",'2.Logbook'!A491)","v":""},{"$f":"IF('2.Logbook'!B491=\"\",\"\",'2.Logbook'!B491)","v":""},{"$f":"IF('2.Logbook'!C491=\"\",\"\",'2.Logbook'!C491)","v":""},{"$f":"IF('2.Logbook'!D491=\"\",\"\",'2.Logbook'!D491)","v":""},{"$f":"IF('2.Logbook'!E491=\"\",\"\",'2.Logbook'!E491)","v":""},{"$f":"IF('2.Logbook'!F491=\"\",\"\",'2.Logbook'!F491)","v":""},{"$f":"IF('2.Logbook'!G491=\"\",\"\",'2.Logbook'!G491)","v":""},{"$f":"IF('2.Logbook'!H491=\"\",\"\",'2.Logbook'!H491)","v":""},{"$f":"IF('2.Logbook'!I491=\"\",\"\",'2.Logbook'!I491)","v":""},{"$f":"IF('2.Logbook'!J491=\"\",\"\",'2.Logbook'!J491)","v":""},{"$f":"IF('2.Logbook'!K491=\"\",\"\",'2.Logbook'!K491)","v":""},{"$f":"IF('2.Logbook'!L491=\"\",\"\",'2.Logbook'!L491)","v":""},{"$f":"IF('2.Logbook'!M491=\"\",\"\",'2.Logbook'!M491)","v":""},{"$f":"IF('2.Logbook'!N491=\"\",\"\",'2.Logbook'!N491)","v":""},{"$f":"IF('2.Logbook'!O491=\"\",\"\",'2.Logbook'!O491)","v":""},{"$f":"IF('2.Logbook'!P491=\"\",\"\",'2.Logbook'!P491)","v":""},{"$f":"IF('2.Logbook'!Q491=\"\",\"\",'2.Logbook'!Q491)","v":""},{"$f":"IF('2.Logbook'!R491=\"\",\"\",'2.Logbook'!R491)","v":""},{"$f":"IF('2.Logbook'!S491=\"\",\"\",'2.Logbook'!S491)","v":""},{"$f":"IF('2.Logbook'!T491=\"\",\"\",'2.Logbook'!T491)","v":""},{"$f":"IF('2.Logbook'!U491=\"\",\"\",'2.Logbook'!U491)","v":""},{"$f":"IF('2.Logbook'!V491=\"\",\"\",'2.Logbook'!V491)","v":""},{"$f":"IF('2.Logbook'!W491=\"\",\"\",'2.Logbook'!W491)","v":""},{"$f":"IF('2.Logbook'!X491=\"\",\"\",'2.Logbook'!X491)","v":""},{"$f":"IF('2.Logbook'!Y491=\"\",\"\",'2.Logbook'!Y491)","v":""},{"$f":"IF('2.Logbook'!Z491=\"\",\"\",'2.Logbook'!Z491)","v":""},{"$f":"IF('2.Logbook'!AA491=\"\",\"\",'2.Logbook'!AA491)","v":""},{"$f":"IF('2.Logbook'!AB491=\"\",\"\",'2.Logbook'!AB491)","v":""},{"$f":"IF('2.Logbook'!AC491=\"\",\"\",'2.Logbook'!AC491)","v":""},{"$f":"IF('2.Logbook'!AD491=\"\",\"\",'2.Logbook'!AD491)","v":""},{"$f":"IF('2.Logbook'!AE491=\"\",\"\",'2.Logbook'!AE491)","v":""},{"$f":"IF('2.Logbook'!AF491=\"\",\"\",'2.Logbook'!AF491)","v":""},{"$f":"IF('2.Logbook'!AG491=\"\",\"\",'2.Logbook'!AG491)","v":""}]
[{"$f":"IF('2.Logbook'!A492=\"\",\"\",'2.Logbook'!A492)","v":""},{"$f":"IF('2.Logbook'!B492=\"\",\"\",'2.Logbook'!B492)","v":""},{"$f":"IF('2.Logbook'!C492=\"\",\"\",'2.Logbook'!C492)","v":""},{"$f":"IF('2.Logbook'!D492=\"\",\"\",'2.Logbook'!D492)","v":""},{"$f":"IF('2.Logbook'!E492=\"\",\"\",'2.Logbook'!E492)","v":""},{"$f":"IF('2.Logbook'!F492=\"\",\"\",'2.Logbook'!F492)","v":""},{"$f":"IF('2.Logbook'!G492=\"\",\"\",'2.Logbook'!G492)","v":""},{"$f":"IF('2.Logbook'!H492=\"\",\"\",'2.Logbook'!H492)","v":""},{"$f":"IF('2.Logbook'!I492=\"\",\"\",'2.Logbook'!I492)","v":""},{"$f":"IF('2.Logbook'!J492=\"\",\"\",'2.Logbook'!J492)","v":""},{"$f":"IF('2.Logbook'!K492=\"\",\"\",'2.Logbook'!K492)","v":""},{"$f":"IF('2.Logbook'!L492=\"\",\"\",'2.Logbook'!L492)","v":""},{"$f":"IF('2.Logbook'!M492=\"\",\"\",'2.Logbook'!M492)","v":""},{"$f":"IF('2.Logbook'!N492=\"\",\"\",'2.Logbook'!N492)","v":""},{"$f":"IF('2.Logbook'!O492=\"\",\"\",'2.Logbook'!O492)","v":""},{"$f":"IF('2.Logbook'!P492=\"\",\"\",'2.Logbook'!P492)","v":""},{"$f":"IF('2.Logbook'!Q492=\"\",\"\",'2.Logbook'!Q492)","v":""},{"$f":"IF('2.Logbook'!R492=\"\",\"\",'2.Logbook'!R492)","v":""},{"$f":"IF('2.Logbook'!S492=\"\",\"\",'2.Logbook'!S492)","v":""},{"$f":"IF('2.Logbook'!T492=\"\",\"\",'2.Logbook'!T492)","v":""},{"$f":"IF('2.Logbook'!U492=\"\",\"\",'2.Logbook'!U492)","v":""},{"$f":"IF('2.Logbook'!V492=\"\",\"\",'2.Logbook'!V492)","v":""},{"$f":"IF('2.Logbook'!W492=\"\",\"\",'2.Logbook'!W492)","v":""},{"$f":"IF('2.Logbook'!X492=\"\",\"\",'2.Logbook'!X492)","v":""},{"$f":"IF('2.Logbook'!Y492=\"\",\"\",'2.Logbook'!Y492)","v":""},{"$f":"IF('2.Logbook'!Z492=\"\",\"\",'2.Logbook'!Z492)","v":""},{"$f":"IF('2.Logbook'!AA492=\"\",\"\",'2.Logbook'!AA492)","v":""},{"$f":"IF('2.Logbook'!AB492=\"\",\"\",'2.Logbook'!AB492)","v":""},{"$f":"IF('2.Logbook'!AC492=\"\",\"\",'2.Logbook'!AC492)","v":""},{"$f":"IF('2.Logbook'!AD492=\"\",\"\",'2.Logbook'!AD492)","v":""},{"$f":"IF('2.Logbook'!AE492=\"\",\"\",'2.Logbook'!AE492)","v":""},{"$f":"IF('2.Logbook'!AF492=\"\",\"\",'2.Logbook'!AF492)","v":""},{"$f":"IF('2.Logbook'!AG492=\"\",\"\",'2.Logbook'!AG492)","v":""}]
[{"$f":"IF('2.Logbook'!A493=\"\",\"\",'2.Logbook'!A493)","v":""},{"$f":"IF('2.Logbook'!B493=\"\",\"\",'2.Logbook'!B493)","v":""},{"$f":"IF('2.Logbook'!C493=\"\",\"\",'2.Logbook'!C493)","v":""},{"$f":"IF('2.Logbook'!D493=\"\",\"\",'2.Logbook'!D493)","v":""},{"$f":"IF('2.Logbook'!E493=\"\",\"\",'2.Logbook'!E493)","v":""},{"$f":"IF('2.Logbook'!F493=\"\",\"\",'2.Logbook'!F493)","v":""},{"$f":"IF('2.Logbook'!G493=\"\",\"\",'2.Logbook'!G493)","v":""},{"$f":"IF('2.Logbook'!H493=\"\",\"\",'2.Logbook'!H493)","v":""},{"$f":"IF('2.Logbook'!I493=\"\",\"\",'2.Logbook'!I493)","v":""},{"$f":"IF('2.Logbook'!J493=\"\",\"\",'2.Logbook'!J493)","v":""},{"$f":"IF('2.Logbook'!K493=\"\",\"\",'2.Logbook'!K493)","v":""},{"$f":"IF('2.Logbook'!L493=\"\",\"\",'2.Logbook'!L493)","v":""},{"$f":"IF('2.Logbook'!M493=\"\",\"\",'2.Logbook'!M493)","v":""},{"$f":"IF('2.Logbook'!N493=\"\",\"\",'2.Logbook'!N493)","v":""},{"$f":"IF('2.Logbook'!O493=\"\",\"\",'2.Logbook'!O493)","v":""},{"$f":"IF('2.Logbook'!P493=\"\",\"\",'2.Logbook'!P493)","v":""},{"$f":"IF('2.Logbook'!Q493=\"\",\"\",'2.Logbook'!Q493)","v":""},{"$f":"IF('2.Logbook'!R493=\"\",\"\",'2.Logbook'!R493)","v":""},{"$f":"IF('2.Logbook'!S493=\"\",\"\",'2.Logbook'!S493)","v":""},{"$f":"IF('2.Logbook'!T493=\"\",\"\",'2.Logbook'!T493)","v":""},{"$f":"IF('2.Logbook'!U493=\"\",\"\",'2.Logbook'!U493)","v":""},{"$f":"IF('2.Logbook'!V493=\"\",\"\",'2.Logbook'!V493)","v":""},{"$f":"IF('2.Logbook'!W493=\"\",\"\",'2.Logbook'!W493)","v":""},{"$f":"IF('2.Logbook'!X493=\"\",\"\",'2.Logbook'!X493)","v":""},{"$f":"IF('2.Logbook'!Y493=\"\",\"\",'2.Logbook'!Y493)","v":""},{"$f":"IF('2.Logbook'!Z493=\"\",\"\",'2.Logbook'!Z493)","v":""},{"$f":"IF('2.Logbook'!AA493=\"\",\"\",'2.Logbook'!AA493)","v":""},{"$f":"IF('2.Logbook'!AB493=\"\",\"\",'2.Logbook'!AB493)","v":""},{"$f":"IF('2.Logbook'!AC493=\"\",\"\",'2.Logbook'!AC493)","v":""},{"$f":"IF('2.Logbook'!AD493=\"\",\"\",'2.Logbook'!AD493)","v":""},{"$f":"IF('2.Logbook'!AE493=\"\",\"\",'2.Logbook'!AE493)","v":""},{"$f":"IF('2.Logbook'!AF493=\"\",\"\",'2.Logbook'!AF493)","v":""},{"$f":"IF('2.Logbook'!AG493=\"\",\"\",'2.Logbook'!AG493)","v":""}]
[{"$f":"IF('2.Logbook'!A494=\"\",\"\",'2.Logbook'!A494)","v":""},{"$f":"IF('2.Logbook'!B494=\"\",\"\",'2.Logbook'!B494)","v":""},{"$f":"IF('2.Logbook'!C494=\"\",\"\",'2.Logbook'!C494)","v":""},{"$f":"IF('2.Logbook'!D494=\"\",\"\",'2.Logbook'!D494)","v":""},{"$f":"IF('2.Logbook'!E494=\"\",\"\",'2.Logbook'!E494)","v":""},{"$f":"IF('2.Logbook'!F494=\"\",\"\",'2.Logbook'!F494)","v":""},{"$f":"IF('2.Logbook'!G494=\"\",\"\",'2.Logbook'!G494)","v":""},{"$f":"IF('2.Logbook'!H494=\"\",\"\",'2.Logbook'!H494)","v":""},{"$f":"IF('2.Logbook'!I494=\"\",\"\",'2.Logbook'!I494)","v":""},{"$f":"IF('2.Logbook'!J494=\"\",\"\",'2.Logbook'!J494)","v":""},{"$f":"IF('2.Logbook'!K494=\"\",\"\",'2.Logbook'!K494)","v":""},{"$f":"IF('2.Logbook'!L494=\"\",\"\",'2.Logbook'!L494)","v":""},{"$f":"IF('2.Logbook'!M494=\"\",\"\",'2.Logbook'!M494)","v":""},{"$f":"IF('2.Logbook'!N494=\"\",\"\",'2.Logbook'!N494)","v":""},{"$f":"IF('2.Logbook'!O494=\"\",\"\",'2.Logbook'!O494)","v":""},{"$f":"IF('2.Logbook'!P494=\"\",\"\",'2.Logbook'!P494)","v":""},{"$f":"IF('2.Logbook'!Q494=\"\",\"\",'2.Logbook'!Q494)","v":""},{"$f":"IF('2.Logbook'!R494=\"\",\"\",'2.Logbook'!R494)","v":""},{"$f":"IF('2.Logbook'!S494=\"\",\"\",'2.Logbook'!S494)","v":""},{"$f":"IF('2.Logbook'!T494=\"\",\"\",'2.Logbook'!T494)","v":""},{"$f":"IF('2.Logbook'!U494=\"\",\"\",'2.Logbook'!U494)","v":""},{"$f":"IF('2.Logbook'!V494=\"\",\"\",'2.Logbook'!V494)","v":""},{"$f":"IF('2.Logbook'!W494=\"\",\"\",'2.Logbook'!W494)","v":""},{"$f":"IF('2.Logbook'!X494=\"\",\"\",'2.Logbook'!X494)","v":""},{"$f":"IF('2.Logbook'!Y494=\"\",\"\",'2.Logbook'!Y494)","v":""},{"$f":"IF('2.Logbook'!Z494=\"\",\"\",'2.Logbook'!Z494)","v":""},{"$f":"IF('2.Logbook'!AA494=\"\",\"\",'2.Logbook'!AA494)","v":""},{"$f":"IF('2.Logbook'!AB494=\"\",\"\",'2.Logbook'!AB494)","v":""},{"$f":"IF('2.Logbook'!AC494=\"\",\"\",'2.Logbook'!AC494)","v":""},{"$f":"IF('2.Logbook'!AD494=\"\",\"\",'2.Logbook'!AD494)","v":""},{"$f":"IF('2.Logbook'!AE494=\"\",\"\",'2.Logbook'!AE494)","v":""},{"$f":"IF('2.Logbook'!AF494=\"\",\"\",'2.Logbook'!AF494)","v":""},{"$f":"IF('2.Logbook'!AG494=\"\",\"\",'2.Logbook'!AG494)","v":""}]
[{"$f":"IF('2.Logbook'!A495=\"\",\"\",'2.Logbook'!A495)","v":""},{"$f":"IF('2.Logbook'!B495=\"\",\"\",'2.Logbook'!B495)","v":""},{"$f":"IF('2.Logbook'!C495=\"\",\"\",'2.Logbook'!C495)","v":""},{"$f":"IF('2.Logbook'!D495=\"\",\"\",'2.Logbook'!D495)","v":""},{"$f":"IF('2.Logbook'!E495=\"\",\"\",'2.Logbook'!E495)","v":""},{"$f":"IF('2.Logbook'!F495=\"\",\"\",'2.Logbook'!F495)","v":""},{"$f":"IF('2.Logbook'!G495=\"\",\"\",'2.Logbook'!G495)","v":""},{"$f":"IF('2.Logbook'!H495=\"\",\"\",'2.Logbook'!H495)","v":""},{"$f":"IF('2.Logbook'!I495=\"\",\"\",'2.Logbook'!I495)","v":""},{"$f":"IF('2.Logbook'!J495=\"\",\"\",'2.Logbook'!J495)","v":""},{"$f":"IF('2.Logbook'!K495=\"\",\"\",'2.Logbook'!K495)","v":""},{"$f":"IF('2.Logbook'!L495=\"\",\"\",'2.Logbook'!L495)","v":""},{"$f":"IF('2.Logbook'!M495=\"\",\"\",'2.Logbook'!M495)","v":""},{"$f":"IF('2.Logbook'!N495=\"\",\"\",'2.Logbook'!N495)","v":""},{"$f":"IF('2.Logbook'!O495=\"\",\"\",'2.Logbook'!O495)","v":""},{"$f":"IF('2.Logbook'!P495=\"\",\"\",'2.Logbook'!P495)","v":""},{"$f":"IF('2.Logbook'!Q495=\"\",\"\",'2.Logbook'!Q495)","v":""},{"$f":"IF('2.Logbook'!R495=\"\",\"\",'2.Logbook'!R495)","v":""},{"$f":"IF('2.Logbook'!S495=\"\",\"\",'2.Logbook'!S495)","v":""},{"$f":"IF('2.Logbook'!T495=\"\",\"\",'2.Logbook'!T495)","v":""},{"$f":"IF('2.Logbook'!U495=\"\",\"\",'2.Logbook'!U495)","v":""},{"$f":"IF('2.Logbook'!V495=\"\",\"\",'2.Logbook'!V495)","v":""},{"$f":"IF('2.Logbook'!W495=\"\",\"\",'2.Logbook'!W495)","v":""},{"$f":"IF('2.Logbook'!X495=\"\",\"\",'2.Logbook'!X495)","v":""},{"$f":"IF('2.Logbook'!Y495=\"\",\"\",'2.Logbook'!Y495)","v":""},{"$f":"IF('2.Logbook'!Z495=\"\",\"\",'2.Logbook'!Z495)","v":""},{"$f":"IF('2.Logbook'!AA495=\"\",\"\",'2.Logbook'!AA495)","v":""},{"$f":"IF('2.Logbook'!AB495=\"\",\"\",'2.Logbook'!AB495)","v":""},{"$f":"IF('2.Logbook'!AC495=\"\",\"\",'2.Logbook'!AC495)","v":""},{"$f":"IF('2.Logbook'!AD495=\"\",\"\",'2.Logbook'!AD495)","v":""},{"$f":"IF('2.Logbook'!AE495=\"\",\"\",'2.Logbook'!AE495)","v":""},{"$f":"IF('2.Logbook'!AF495=\"\",\"\",'2.Logbook'!AF495)","v":""},{"$f":"IF('2.Logbook'!AG495=\"\",\"\",'2.Logbook'!AG495)","v":""}]
[{"$f":"IF('2.Logbook'!A496=\"\",\"\",'2.Logbook'!A496)","v":""},{"$f":"IF('2.Logbook'!B496=\"\",\"\",'2.Logbook'!B496)","v":""},{"$f":"IF('2.Logbook'!C496=\"\",\"\",'2.Logbook'!C496)","v":""},{"$f":"IF('2.Logbook'!D496=\"\",\"\",'2.Logbook'!D496)","v":""},{"$f":"IF('2.Logbook'!E496=\"\",\"\",'2.Logbook'!E496)","v":""},{"$f":"IF('2.Logbook'!F496=\"\",\"\",'2.Logbook'!F496)","v":""},{"$f":"IF('2.Logbook'!G496=\"\",\"\",'2.Logbook'!G496)","v":""},{"$f":"IF('2.Logbook'!H496=\"\",\"\",'2.Logbook'!H496)","v":""},{"$f":"IF('2.Logbook'!I496=\"\",\"\",'2.Logbook'!I496)","v":""},{"$f":"IF('2.Logbook'!J496=\"\",\"\",'2.Logbook'!J496)","v":""},{"$f":"IF('2.Logbook'!K496=\"\",\"\",'2.Logbook'!K496)","v":""},{"$f":"IF('2.Logbook'!L496=\"\",\"\",'2.Logbook'!L496)","v":""},{"$f":"IF('2.Logbook'!M496=\"\",\"\",'2.Logbook'!M496)","v":""},{"$f":"IF('2.Logbook'!N496=\"\",\"\",'2.Logbook'!N496)","v":""},{"$f":"IF('2.Logbook'!O496=\"\",\"\",'2.Logbook'!O496)","v":""},{"$f":"IF('2.Logbook'!P496=\"\",\"\",'2.Logbook'!P496)","v":""},{"$f":"IF('2.Logbook'!Q496=\"\",\"\",'2.Logbook'!Q496)","v":""},{"$f":"IF('2.Logbook'!R496=\"\",\"\",'2.Logbook'!R496)","v":""},{"$f":"IF('2.Logbook'!S496=\"\",\"\",'2.Logbook'!S496)","v":""},{"$f":"IF('2.Logbook'!T496=\"\",\"\",'2.Logbook'!T496)","v":""},{"$f":"IF('2.Logbook'!U496=\"\",\"\",'2.Logbook'!U496)","v":""},{"$f":"IF('2.Logbook'!V496=\"\",\"\",'2.Logbook'!V496)","v":""},{"$f":"IF('2.Logbook'!W496=\"\",\"\",'2.Logbook'!W496)","v":""},{"$f":"IF('2.Logbook'!X496=\"\",\"\",'2.Logbook'!X496)","v":""},{"$f":"IF('2.Logbook'!Y496=\"\",\"\",'2.Logbook'!Y496)","v":""},{"$f":"IF('2.Logbook'!Z496=\"\",\"\",'2.Logbook'!Z496)","v":""},{"$f":"IF('2.Logbook'!AA496=\"\",\"\",'2.Logbook'!AA496)","v":""},{"$f":"IF('2.Logbook'!AB496=\"\",\"\",'2.Logbook'!AB496)","v":""},{"$f":"IF('2.Logbook'!AC496=\"\",\"\",'2.Logbook'!AC496)","v":""},{"$f":"IF('2.Logbook'!AD496=\"\",\"\",'2.Logbook'!AD496)","v":""},{"$f":"IF('2.Logbook'!AE496=\"\",\"\",'2.Logbook'!AE496)","v":""},{"$f":"IF('2.Logbook'!AF496=\"\",\"\",'2.Logbook'!AF496)","v":""},{"$f":"IF('2.Logbook'!AG496=\"\",\"\",'2.Logbook'!AG496)","v":""}]
[{"$f":"IF('2.Logbook'!A497=\"\",\"\",'2.Logbook'!A497)","v":""},{"$f":"IF('2.Logbook'!B497=\"\",\"\",'2.Logbook'!B497)","v":""},{"$f":"IF('2.Logbook'!C497=\"\",\"\",'2.Logbook'!C497)","v":""},{"$f":"IF('2.Logbook'!D497=\"\",\"\",'2.Logbook'!D497)","v":""},{"$f":"IF('2.Logbook'!E497=\"\",\"\",'2.Logbook'!E497)","v":""},{"$f":"IF('2.Logbook'!F497=\"\",\"\",'2.Logbook'!F497)","v":""},{"$f":"IF('2.Logbook'!G497=\"\",\"\",'2.Logbook'!G497)","v":""},{"$f":"IF('2.Logbook'!H497=\"\",\"\",'2.Logbook'!H497)","v":""},{"$f":"IF('2.Logbook'!I497=\"\",\"\",'2.Logbook'!I497)","v":""},{"$f":"IF('2.Logbook'!J497=\"\",\"\",'2.Logbook'!J497)","v":""},{"$f":"IF('2.Logbook'!K497=\"\",\"\",'2.Logbook'!K497)","v":""},{"$f":"IF('2.Logbook'!L497=\"\",\"\",'2.Logbook'!L497)","v":""},{"$f":"IF('2.Logbook'!M497=\"\",\"\",'2.Logbook'!M497)","v":""},{"$f":"IF('2.Logbook'!N497=\"\",\"\",'2.Logbook'!N497)","v":""},{"$f":"IF('2.Logbook'!O497=\"\",\"\",'2.Logbook'!O497)","v":""},{"$f":"IF('2.Logbook'!P497=\"\",\"\",'2.Logbook'!P497)","v":""},{"$f":"IF('2.Logbook'!Q497=\"\",\"\",'2.Logbook'!Q497)","v":""},{"$f":"IF('2.Logbook'!R497=\"\",\"\",'2.Logbook'!R497)","v":""},{"$f":"IF('2.Logbook'!S497=\"\",\"\",'2.Logbook'!S497)","v":""},{"$f":"IF('2.Logbook'!T497=\"\",\"\",'2.Logbook'!T497)","v":""},{"$f":"IF('2.Logbook'!U497=\"\",\"\",'2.Logbook'!U497)","v":""},{"$f":"IF('2.Logbook'!V497=\"\",\"\",'2.Logbook'!V497)","v":""},{"$f":"IF('2.Logbook'!W497=\"\",\"\",'2.Logbook'!W497)","v":""},{"$f":"IF('2.Logbook'!X497=\"\",\"\",'2.Logbook'!X497)","v":""},{"$f":"IF('2.Logbook'!Y497=\"\",\"\",'2.Logbook'!Y497)","v":""},{"$f":"IF('2.Logbook'!Z497=\"\",\"\",'2.Logbook'!Z497)","v":""},{"$f":"IF('2.Logbook'!AA497=\"\",\"\",'2.Logbook'!AA497)","v":""},{"$f":"IF('2.Logbook'!AB497=\"\",\"\",'2.Logbook'!AB497)","v":""},{"$f":"IF('2.Logbook'!AC497=\"\",\"\",'2.Logbook'!AC497)","v":""},{"$f":"IF('2.Logbook'!AD497=\"\",\"\",'2.Logbook'!AD497)","v":""},{"$f":"IF('2.Logbook'!AE497=\"\",\"\",'2.Logbook'!AE497)","v":""},{"$f":"IF('2.Logbook'!AF497=\"\",\"\",'2.Logbook'!AF497)","v":""},{"$f":"IF('2.Logbook'!AG497=\"\",\"\",'2.Logbook'!AG497)","v":""}]
[{"$f":"IF('2.Logbook'!A498=\"\",\"\",'2.Logbook'!A498)","v":""},{"$f":"IF('2.Logbook'!B498=\"\",\"\",'2.Logbook'!B498)","v":""},{"$f":"IF('2.Logbook'!C498=\"\",\"\",'2.Logbook'!C498)","v":""},{"$f":"IF('2.Logbook'!D498=\"\",\"\",'2.Logbook'!D498)","v":""},{"$f":"IF('2.Logbook'!E498=\"\",\"\",'2.Logbook'!E498)","v":""},{"$f":"IF('2.Logbook'!F498=\"\",\"\",'2.Logbook'!F498)","v":""},{"$f":"IF('2.Logbook'!G498=\"\",\"\",'2.Logbook'!G498)","v":""},{"$f":"IF('2.Logbook'!H498=\"\",\"\",'2.Logbook'!H498)","v":""},{"$f":"IF('2.Logbook'!I498=\"\",\"\",'2.Logbook'!I498)","v":""},{"$f":"IF('2.Logbook'!J498=\"\",\"\",'2.Logbook'!J498)","v":""},{"$f":"IF('2.Logbook'!K498=\"\",\"\",'2.Logbook'!K498)","v":""},{"$f":"IF('2.Logbook'!L498=\"\",\"\",'2.Logbook'!L498)","v":""},{"$f":"IF('2.Logbook'!M498=\"\",\"\",'2.Logbook'!M498)","v":""},{"$f":"IF('2.Logbook'!N498=\"\",\"\",'2.Logbook'!N498)","v":""},{"$f":"IF('2.Logbook'!O498=\"\",\"\",'2.Logbook'!O498)","v":""},{"$f":"IF('2.Logbook'!P498=\"\",\"\",'2.Logbook'!P498)","v":""},{"$f":"IF('2.Logbook'!Q498=\"\",\"\",'2.Logbook'!Q498)","v":""},{"$f":"IF('2.Logbook'!R498=\"\",\"\",'2.Logbook'!R498)","v":""},{"$f":"IF('2.Logbook'!S498=\"\",\"\",'2.Logbook'!S498)","v":""},{"$f":"IF('2.Logbook'!T498=\"\",\"\",'2.Logbook'!T498)","v":""},{"$f":"IF('2.Logbook'!U498=\"\",\"\",'2.Logbook'!U498)","v":""},{"$f":"IF('2.Logbook'!V498=\"\",\"\",'2.Logbook'!V498)","v":""},{"$f":"IF('2.Logbook'!W498=\"\",\"\",'2.Logbook'!W498)","v":""},{"$f":"IF('2.Logbook'!X498=\"\",\"\",'2.Logbook'!X498)","v":""},{"$f":"IF('2.Logbook'!Y498=\"\",\"\",'2.Logbook'!Y498)","v":""},{"$f":"IF('2.Logbook'!Z498=\"\",\"\",'2.Logbook'!Z498)","v":""},{"$f":"IF('2.Logbook'!AA498=\"\",\"\",'2.Logbook'!AA498)","v":""},{"$f":"IF('2.Logbook'!AB498=\"\",\"\",'2.Logbook'!AB498)","v":""},{"$f":"IF('2.Logbook'!AC498=\"\",\"\",'2.Logbook'!AC498)","v":""},{"$f":"IF('2.Logbook'!AD498=\"\",\"\",'2.Logbook'!AD498)","v":""},{"$f":"IF('2.Logbook'!AE498=\"\",\"\",'2.Logbook'!AE498)","v":""},{"$f":"IF('2.Logbook'!AF498=\"\",\"\",'2.Logbook'!AF498)","v":""},{"$f":"IF('2.Logbook'!AG498=\"\",\"\",'2.Logbook'!AG498)","v":""}]
[{"$f":"IF('2.Logbook'!A499=\"\",\"\",'2.Logbook'!A499)","v":""},{"$f":"IF('2.Logbook'!B499=\"\",\"\",'2.Logbook'!B499)","v":""},{"$f":"IF('2.Logbook'!C499=\"\",\"\",'2.Logbook'!C499)","v":""},{"$f":"IF('2.Logbook'!D499=\"\",\"\",'2.Logbook'!D499)","v":""},{"$f":"IF('2.Logbook'!E499=\"\",\"\",'2.Logbook'!E499)","v":""},{"$f":"IF('2.Logbook'!F499=\"\",\"\",'2.Logbook'!F499)","v":""},{"$f":"IF('2.Logbook'!G499=\"\",\"\",'2.Logbook'!G499)","v":""},{"$f":"IF('2.Logbook'!H499=\"\",\"\",'2.Logbook'!H499)","v":""},{"$f":"IF('2.Logbook'!I499=\"\",\"\",'2.Logbook'!I499)","v":""},{"$f":"IF('2.Logbook'!J499=\"\",\"\",'2.Logbook'!J499)","v":""},{"$f":"IF('2.Logbook'!K499=\"\",\"\",'2.Logbook'!K499)","v":""},{"$f":"IF('2.Logbook'!L499=\"\",\"\",'2.Logbook'!L499)","v":""},{"$f":"IF('2.Logbook'!M499=\"\",\"\",'2.Logbook'!M499)","v":""},{"$f":"IF('2.Logbook'!N499=\"\",\"\",'2.Logbook'!N499)","v":""},{"$f":"IF('2.Logbook'!O499=\"\",\"\",'2.Logbook'!O499)","v":""},{"$f":"IF('2.Logbook'!P499=\"\",\"\",'2.Logbook'!P499)","v":""},{"$f":"IF('2.Logbook'!Q499=\"\",\"\",'2.Logbook'!Q499)","v":""},{"$f":"IF('2.Logbook'!R499=\"\",\"\",'2.Logbook'!R499)","v":""},{"$f":"IF('2.Logbook'!S499=\"\",\"\",'2.Logbook'!S499)","v":""},{"$f":"IF('2.Logbook'!T499=\"\",\"\",'2.Logbook'!T499)","v":""},{"$f":"IF('2.Logbook'!U499=\"\",\"\",'2.Logbook'!U499)","v":""},{"$f":"IF('2.Logbook'!V499=\"\",\"\",'2.Logbook'!V499)","v":""},{"$f":"IF('2.Logbook'!W499=\"\",\"\",'2.Logbook'!W499)","v":""},{"$f":"IF('2.Logbook'!X499=\"\",\"\",'2.Logbook'!X499)","v":""},{"$f":"IF('2.Logbook'!Y499=\"\",\"\",'2.Logbook'!Y499)","v":""},{"$f":"IF('2.Logbook'!Z499=\"\",\"\",'2.Logbook'!Z499)","v":""},{"$f":"IF('2.Logbook'!AA499=\"\",\"\",'2.Logbook'!AA499)","v":""},{"$f":"IF('2.Logbook'!AB499=\"\",\"\",'2.Logbook'!AB499)","v":""},{"$f":"IF('2.Logbook'!AC499=\"\",\"\",'2.Logbook'!AC499)","v":""},{"$f":"IF('2.Logbook'!AD499=\"\",\"\",'2.Logbook'!AD499)","v":""},{"$f":"IF('2.Logbook'!AE499=\"\",\"\",'2.Logbook'!AE499)","v":""},{"$f":"IF('2.Logbook'!AF499=\"\",\"\",'2.Logbook'!AF499)","v":""},{"$f":"IF('2.Logbook'!AG499=\"\",\"\",'2.Logbook'!AG499)","v":""}]
[{"$f":"IF('2.Logbook'!A500=\"\",\"\",'2.Logbook'!A500)","v":""},{"$f":"IF('2.Logbook'!B500=\"\",\"\",'2.Logbook'!B500)","v":""},{"$f":"IF('2.Logbook'!C500=\"\",\"\",'2.Logbook'!C500)","v":""},{"$f":"IF('2.Logbook'!D500=\"\",\"\",'2.Logbook'!D500)","v":""},{"$f":"IF('2.Logbook'!E500=\"\",\"\",'2.Logbook'!E500)","v":""},{"$f":"IF('2.Logbook'!F500=\"\",\"\",'2.Logbook'!F500)","v":""},{"$f":"IF('2.Logbook'!G500=\"\",\"\",'2.Logbook'!G500)","v":""},{"$f":"IF('2.Logbook'!H500=\"\",\"\",'2.Logbook'!H500)","v":""},{"$f":"IF('2.Logbook'!I500=\"\",\"\",'2.Logbook'!I500)","v":""},{"$f":"IF('2.Logbook'!J500=\"\",\"\",'2.Logbook'!J500)","v":""},{"$f":"IF('2.Logbook'!K500=\"\",\"\",'2.Logbook'!K500)","v":""},{"$f":"IF('2.Logbook'!L500=\"\",\"\",'2.Logbook'!L500)","v":""},{"$f":"IF('2.Logbook'!M500=\"\",\"\",'2.Logbook'!M500)","v":""},{"$f":"IF('2.Logbook'!N500=\"\",\"\",'2.Logbook'!N500)","v":""},{"$f":"IF('2.Logbook'!O500=\"\",\"\",'2.Logbook'!O500)","v":""},{"$f":"IF('2.Logbook'!P500=\"\",\"\",'2.Logbook'!P500)","v":""},{"$f":"IF('2.Logbook'!Q500=\"\",\"\",'2.Logbook'!Q500)","v":""},{"$f":"IF('2.Logbook'!R500=\"\",\"\",'2.Logbook'!R500)","v":""},{"$f":"IF('2.Logbook'!S500=\"\",\"\",'2.Logbook'!S500)","v":""},{"$f":"IF('2.Logbook'!T500=\"\",\"\",'2.Logbook'!T500)","v":""},{"$f":"IF('2.Logbook'!U500=\"\",\"\",'2.Logbook'!U500)","v":""},{"$f":"IF('2.Logbook'!V500=\"\",\"\",'2.Logbook'!V500)","v":""},{"$f":"IF('2.Logbook'!W500=\"\",\"\",'2.Logbook'!W500)","v":""},{"$f":"IF('2.Logbook'!X500=\"\",\"\",'2.Logbook'!X500)","v":""},{"$f":"IF('2.Logbook'!Y500=\"\",\"\",'2.Logbook'!Y500)","v":""},{"$f":"IF('2.Logbook'!Z500=\"\",\"\",'2.Logbook'!Z500)","v":""},{"$f":"IF('2.Logbook'!AA500=\"\",\"\",'2.Logbook'!AA500)","v":""},{"$f":"IF('2.Logbook'!AB500=\"\",\"\",'2.Logbook'!AB500)","v":""},{"$f":"IF('2.Logbook'!AC500=\"\",\"\",'2.Logbook'!AC500)","v":""},{"$f":"IF('2.Logbook'!AD500=\"\",\"\",'2.Logbook'!AD500)","v":""},{"$f":"IF('2.Logbook'!AE500=\"\",\"\",'2.Logbook'!AE500)","v":""},{"$f":"IF('2.Logbook'!AF500=\"\",\"\",'2.Logbook'!AF500)","v":""},{"$f":"IF('2.Logbook'!AG500=\"\",\"\",'2.Logbook'!AG500)","v":""}]
[{"$f":"IF('2.Logbook'!A501=\"\",\"\",'2.Logbook'!A501)","v":""},{"$f":"IF('2.Logbook'!B501=\"\",\"\",'2.Logbook'!B501)","v":""},{"$f":"IF('2.Logbook'!C501=\"\",\"\",'2.Logbook'!C501)","v":""},{"$f":"IF('2.Logbook'!D501=\"\",\"\",'2.Logbook'!D501)","v":""},{"$f":"IF('2.Logbook'!E501=\"\",\"\",'2.Logbook'!E501)","v":""},{"$f":"IF('2.Logbook'!F501=\"\",\"\",'2.Logbook'!F501)","v":""},{"$f":"IF('2.Logbook'!G501=\"\",\"\",'2.Logbook'!G501)","v":""},{"$f":"IF('2.Logbook'!H501=\"\",\"\",'2.Logbook'!H501)","v":""},{"$f":"IF('2.Logbook'!I501=\"\",\"\",'2.Logbook'!I501)","v":""},{"$f":"IF('2.Logbook'!J501=\"\",\"\",'2.Logbook'!J501)","v":""},{"$f":"IF('2.Logbook'!K501=\"\",\"\",'2.Logbook'!K501)","v":""},{"$f":"IF('2.Logbook'!L501=\"\",\"\",'2.Logbook'!L501)","v":""},{"$f":"IF('2.Logbook'!M501=\"\",\"\",'2.Logbook'!M501)","v":""},{"$f":"IF('2.Logbook'!N501=\"\",\"\",'2.Logbook'!N501)","v":""},{"$f":"IF('2.Logbook'!O501=\"\",\"\",'2.Logbook'!O501)","v":""},{"$f":"IF('2.Logbook'!P501=\"\",\"\",'2.Logbook'!P501)","v":""},{"$f":"IF('2.Logbook'!Q501=\"\",\"\",'2.Logbook'!Q501)","v":""},{"$f":"IF('2.Logbook'!R501=\"\",\"\",'2.Logbook'!R501)","v":""},{"$f":"IF('2.Logbook'!S501=\"\",\"\",'2.Logbook'!S501)","v":""},{"$f":"IF('2.Logbook'!T501=\"\",\"\",'2.Logbook'!T501)","v":""},{"$f":"IF('2.Logbook'!U501=\"\",\"\",'2.Logbook'!U501)","v":""},{"$f":"IF('2.Logbook'!V501=\"\",\"\",'2.Logbook'!V501)","v":""},{"$f":"IF('2.Logbook'!W501=\"\",\"\",'2.Logbook'!W501)","v":""},{"$f":"IF('2.Logbook'!X501=\"\",\"\",'2.Logbook'!X501)","v":""},{"$f":"IF('2.Logbook'!Y501=\"\",\"\",'2.Logbook'!Y501)","v":""},{"$f":"IF('2.Logbook'!Z501=\"\",\"\",'2.Logbook'!Z501)","v":""},{"$f":"IF('2.Logbook'!AA501=\"\",\"\",'2.Logbook'!AA501)","v":""},{"$f":"IF('2.Logbook'!AB501=\"\",\"\",'2.Logbook'!AB501)","v":""},{"$f":"IF('2.Logbook'!AC501=\"\",\"\",'2.Logbook'!AC501)","v":""},{"$f":"IF('2.Logbook'!AD501=\"\",\"\",'2.Logbook'!AD501)","v":""},{"$f":"IF('2.Logbook'!AE501=\"\",\"\",'2.Logbook'!AE501)","v":""},{"$f":"IF('2.Logbook'!AF501=\"\",\"\",'2.Logbook'!AF501)","v":""},{"$f":"IF('2.Logbook'!AG501=\"\",\"\",'2.Logbook'!AG501)","v":""}]
[{"$f":"IF('2.Logbook'!A502=\"\",\"\",'2.Logbook'!A502)","v":""},{"$f":"IF('2.Logbook'!B502=\"\",\"\",'2.Logbook'!B502)","v":""},{"$f":"IF('2.Logbook'!C502=\"\",\"\",'2.Logbook'!C502)","v":""},{"$f":"IF('2.Logbook'!D502=\"\",\"\",'2.Logbook'!D502)","v":""},{"$f":"IF('2.Logbook'!E502=\"\",\"\",'2.Logbook'!E502)","v":""},{"$f":"IF('2.Logbook'!F502=\"\",\"\",'2.Logbook'!F502)","v":""},{"$f":"IF('2.Logbook'!G502=\"\",\"\",'2.Logbook'!G502)","v":""},{"$f":"IF('2.Logbook'!H502=\"\",\"\",'2.Logbook'!H502)","v":""},{"$f":"IF('2.Logbook'!I502=\"\",\"\",'2.Logbook'!I502)","v":""},{"$f":"IF('2.Logbook'!J502=\"\",\"\",'2.Logbook'!J502)","v":""},{"$f":"IF('2.Logbook'!K502=\"\",\"\",'2.Logbook'!K502)","v":""},{"$f":"IF('2.Logbook'!L502=\"\",\"\",'2.Logbook'!L502)","v":""},{"$f":"IF('2.Logbook'!M502=\"\",\"\",'2.Logbook'!M502)","v":""},{"$f":"IF('2.Logbook'!N502=\"\",\"\",'2.Logbook'!N502)","v":""},{"$f":"IF('2.Logbook'!O502=\"\",\"\",'2.Logbook'!O502)","v":""},{"$f":"IF('2.Logbook'!P502=\"\",\"\",'2.Logbook'!P502)","v":""},{"$f":"IF('2.Logbook'!Q502=\"\",\"\",'2.Logbook'!Q502)","v":""},{"$f":"IF('2.Logbook'!R502=\"\",\"\",'2.Logbook'!R502)","v":""},{"$f":"IF('2.Logbook'!S502=\"\",\"\",'2.Logbook'!S502)","v":""},{"$f":"IF('2.Logbook'!T502=\"\",\"\",'2.Logbook'!T502)","v":""},{"$f":"IF('2.Logbook'!U502=\"\",\"\",'2.Logbook'!U502)","v":""},{"$f":"IF('2.Logbook'!V502=\"\",\"\",'2.Logbook'!V502)","v":""},{"$f":"IF('2.Logbook'!W502=\"\",\"\",'2.Logbook'!W502)","v":""},{"$f":"IF('2.Logbook'!X502=\"\",\"\",'2.Logbook'!X502)","v":""},{"$f":"IF('2.Logbook'!Y502=\"\",\"\",'2.Logbook'!Y502)","v":""},{"$f":"IF('2.Logbook'!Z502=\"\",\"\",'2.Logbook'!Z502)","v":""},{"$f":"IF('2.Logbook'!AA502=\"\",\"\",'2.Logbook'!AA502)","v":""},{"$f":"IF('2.Logbook'!AB502=\"\",\"\",'2.Logbook'!AB502)","v":""},{"$f":"IF('2.Logbook'!AC502=\"\",\"\",'2.Logbook'!AC502)","v":""},{"$f":"IF('2.Logbook'!AD502=\"\",\"\",'2.Logbook'!AD502)","v":""},{"$f":"IF('2.Logbook'!AE502=\"\",\"\",'2.Logbook'!AE502)","v":""},{"$f":"IF('2.Logbook'!AF502=\"\",\"\",'2.Logbook'!AF502)","v":""},{"$f":"IF('2.Logbook'!AG502=\"\",\"\",'2.Logbook'!AG502)","v":""}]
[{"$f":"IF('2.Logbook'!A503=\"\",\"\",'2.Logbook'!A503)","v":""},{"$f":"IF('2.Logbook'!B503=\"\",\"\",'2.Logbook'!B503)","v":""},{"$f":"IF('2.Logbook'!C503=\"\",\"\",'2.Logbook'!C503)","v":""},{"$f":"IF('2.Logbook'!D503=\"\",\"\",'2.Logbook'!D503)","v":""},{"$f":"IF('2.Logbook'!E503=\"\",\"\",'2.Logbook'!E503)","v":""},{"$f":"IF('2.Logbook'!F503=\"\",\"\",'2.Logbook'!F503)","v":""},{"$f":"IF('2.Logbook'!G503=\"\",\"\",'2.Logbook'!G503)","v":""},{"$f":"IF('2.Logbook'!H503=\"\",\"\",'2.Logbook'!H503)","v":""},{"$f":"IF('2.Logbook'!I503=\"\",\"\",'2.Logbook'!I503)","v":""},{"$f":"IF('2.Logbook'!J503=\"\",\"\",'2.Logbook'!J503)","v":""},{"$f":"IF('2.Logbook'!K503=\"\",\"\",'2.Logbook'!K503)","v":""},{"$f":"IF('2.Logbook'!L503=\"\",\"\",'2.Logbook'!L503)","v":""},{"$f":"IF('2.Logbook'!M503=\"\",\"\",'2.Logbook'!M503)","v":""},{"$f":"IF('2.Logbook'!N503=\"\",\"\",'2.Logbook'!N503)","v":""},{"$f":"IF('2.Logbook'!O503=\"\",\"\",'2.Logbook'!O503)","v":""},{"$f":"IF('2.Logbook'!P503=\"\",\"\",'2.Logbook'!P503)","v":""},{"$f":"IF('2.Logbook'!Q503=\"\",\"\",'2.Logbook'!Q503)","v":""},{"$f":"IF('2.Logbook'!R503=\"\",\"\",'2.Logbook'!R503)","v":""},{"$f":"IF('2.Logbook'!S503=\"\",\"\",'2.Logbook'!S503)","v":""},{"$f":"IF('2.Logbook'!T503=\"\",\"\",'2.Logbook'!T503)","v":""},{"$f":"IF('2.Logbook'!U503=\"\",\"\",'2.Logbook'!U503)","v":""},{"$f":"IF('2.Logbook'!V503=\"\",\"\",'2.Logbook'!V503)","v":""},{"$f":"IF('2.Logbook'!W503=\"\",\"\",'2.Logbook'!W503)","v":""},{"$f":"IF('2.Logbook'!X503=\"\",\"\",'2.Logbook'!X503)","v":""},{"$f":"IF('2.Logbook'!Y503=\"\",\"\",'2.Logbook'!Y503)","v":""},{"$f":"IF('2.Logbook'!Z503=\"\",\"\",'2.Logbook'!Z503)","v":""},{"$f":"IF('2.Logbook'!AA503=\"\",\"\",'2.Logbook'!AA503)","v":""},{"$f":"IF('2.Logbook'!AB503=\"\",\"\",'2.Logbook'!AB503)","v":""},{"$f":"IF('2.Logbook'!AC503=\"\",\"\",'2.Logbook'!AC503)","v":""},{"$f":"IF('2.Logbook'!AD503=\"\",\"\",'2.Logbook'!AD503)","v":""},{"$f":"IF('2.Logbook'!AE503=\"\",\"\",'2.Logbook'!AE503)","v":""},{"$f":"IF('2.Logbook'!AF503=\"\",\"\",'2.Logbook'!AF503)","v":""},{"$f":"IF('2.Logbook'!AG503=\"\",\"\",'2.Logbook'!AG503)","v":""}]
[{"$f":"IF('2.Logbook'!A504=\"\",\"\",'2.Logbook'!A504)","v":""},{"$f":"IF('2.Logbook'!B504=\"\",\"\",'2.Logbook'!B504)","v":""},{"$f":"IF('2.Logbook'!C504=\"\",\"\",'2.Logbook'!C504)","v":""},{"$f":"IF('2.Logbook'!D504=\"\",\"\",'2.Logbook'!D504)","v":""},{"$f":"IF('2.Logbook'!E504=\"\",\"\",'2.Logbook'!E504)","v":""},{"$f":"IF('2.Logbook'!F504=\"\",\"\",'2.Logbook'!F504)","v":""},{"$f":"IF('2.Logbook'!G504=\"\",\"\",'2.Logbook'!G504)","v":""},{"$f":"IF('2.Logbook'!H504=\"\",\"\",'2.Logbook'!H504)","v":""},{"$f":"IF('2.Logbook'!I504=\"\",\"\",'2.Logbook'!I504)","v":""},{"$f":"IF('2.Logbook'!J504=\"\",\"\",'2.Logbook'!J504)","v":""},{"$f":"IF('2.Logbook'!K504=\"\",\"\",'2.Logbook'!K504)","v":""},{"$f":"IF('2.Logbook'!L504=\"\",\"\",'2.Logbook'!L504)","v":""},{"$f":"IF('2.Logbook'!M504=\"\",\"\",'2.Logbook'!M504)","v":""},{"$f":"IF('2.Logbook'!N504=\"\",\"\",'2.Logbook'!N504)","v":""},{"$f":"IF('2.Logbook'!O504=\"\",\"\",'2.Logbook'!O504)","v":""},{"$f":"IF('2.Logbook'!P504=\"\",\"\",'2.Logbook'!P504)","v":""},{"$f":"IF('2.Logbook'!Q504=\"\",\"\",'2.Logbook'!Q504)","v":""},{"$f":"IF('2.Logbook'!R504=\"\",\"\",'2.Logbook'!R504)","v":""},{"$f":"IF('2.Logbook'!S504=\"\",\"\",'2.Logbook'!S504)","v":""},{"$f":"IF('2.Logbook'!T504=\"\",\"\",'2.Logbook'!T504)","v":""},{"$f":"IF('2.Logbook'!U504=\"\",\"\",'2.Logbook'!U504)","v":""},{"$f":"IF('2.Logbook'!V504=\"\",\"\",'2.Logbook'!V504)","v":""},{"$f":"IF('2.Logbook'!W504=\"\",\"\",'2.Logbook'!W504)","v":""},{"$f":"IF('2.Logbook'!X504=\"\",\"\",'2.Logbook'!X504)","v":""},{"$f":"IF('2.Logbook'!Y504=\"\",\"\",'2.Logbook'!Y504)","v":""},{"$f":"IF('2.Logbook'!Z504=\"\",\"\",'2.Logbook'!Z504)","v":""},{"$f":"IF('2.Logbook'!AA504=\"\",\"\",'2.Logbook'!AA504)","v":""},{"$f":"IF('2.Logbook'!AB504=\"\",\"\",'2.Logbook'!AB504)","v":""},{"$f":"IF('2.Logbook'!AC504=\"\",\"\",'2.Logbook'!AC504)","v":""},{"$f":"IF('2.Logbook'!AD504=\"\",\"\",'2.Logbook'!AD504)","v":""},{"$f":"IF('2.Logbook'!AE504=\"\",\"\",'2.Logbook'!AE504)","v":""},{"$f":"IF('2.Logbook'!AF504=\"\",\"\",'2.Logbook'!AF504)","v":""},{"$f":"IF('2.Logbook'!AG504=\"\",\"\",'2.Logbook'!AG504)","v":""}]
[{"$f":"IF('2.Logbook'!A505=\"\",\"\",'2.Logbook'!A505)","v":""},{"$f":"IF('2.Logbook'!B505=\"\",\"\",'2.Logbook'!B505)","v":""},{"$f":"IF('2.Logbook'!C505=\"\",\"\",'2.Logbook'!C505)","v":""},{"$f":"IF('2.Logbook'!D505=\"\",\"\",'2.Logbook'!D505)","v":""},{"$f":"IF('2.Logbook'!E505=\"\",\"\",'2.Logbook'!E505)","v":""},{"$f":"IF('2.Logbook'!F505=\"\",\"\",'2.Logbook'!F505)","v":""},{"$f":"IF('2.Logbook'!G505=\"\",\"\",'2.Logbook'!G505)","v":""},{"$f":"IF('2.Logbook'!H505=\"\",\"\",'2.Logbook'!H505)","v":""},{"$f":"IF('2.Logbook'!I505=\"\",\"\",'2.Logbook'!I505)","v":""},{"$f":"IF('2.Logbook'!J505=\"\",\"\",'2.Logbook'!J505)","v":""},{"$f":"IF('2.Logbook'!K505=\"\",\"\",'2.Logbook'!K505)","v":""},{"$f":"IF('2.Logbook'!L505=\"\",\"\",'2.Logbook'!L505)","v":""},{"$f":"IF('2.Logbook'!M505=\"\",\"\",'2.Logbook'!M505)","v":""},{"$f":"IF('2.Logbook'!N505=\"\",\"\",'2.Logbook'!N505)","v":""},{"$f":"IF('2.Logbook'!O505=\"\",\"\",'2.Logbook'!O505)","v":""},{"$f":"IF('2.Logbook'!P505=\"\",\"\",'2.Logbook'!P505)","v":""},{"$f":"IF('2.Logbook'!Q505=\"\",\"\",'2.Logbook'!Q505)","v":""},{"$f":"IF('2.Logbook'!R505=\"\",\"\",'2.Logbook'!R505)","v":""},{"$f":"IF('2.Logbook'!S505=\"\",\"\",'2.Logbook'!S505)","v":""},{"$f":"IF('2.Logbook'!T505=\"\",\"\",'2.Logbook'!T505)","v":""},{"$f":"IF('2.Logbook'!U505=\"\",\"\",'2.Logbook'!U505)","v":""},{"$f":"IF('2.Logbook'!V505=\"\",\"\",'2.Logbook'!V505)","v":""},{"$f":"IF('2.Logbook'!W505=\"\",\"\",'2.Logbook'!W505)","v":""},{"$f":"IF('2.Logbook'!X505=\"\",\"\",'2.Logbook'!X505)","v":""},{"$f":"IF('2.Logbook'!Y505=\"\",\"\",'2.Logbook'!Y505)","v":""},{"$f":"IF('2.Logbook'!Z505=\"\",\"\",'2.Logbook'!Z505)","v":""},{"$f":"IF('2.Logbook'!AA505=\"\",\"\",'2.Logbook'!AA505)","v":""},{"$f":"IF('2.Logbook'!AB505=\"\",\"\",'2.Logbook'!AB505)","v":""},{"$f":"IF('2.Logbook'!AC505=\"\",\"\",'2.Logbook'!AC505)","v":""},{"$f":"IF('2.Logbook'!AD505=\"\",\"\",'2.Logbook'!AD505)","v":""},{"$f":"IF('2.Logbook'!AE505=\"\",\"\",'2.Logbook'!AE505)","v":""},{"$f":"IF('2.Logbook'!AF505=\"\",\"\",'2.Logbook'!AF505)","v":""},{"$f":"IF('2.Logbook'!AG505=\"\",\"\",'2.Logbook'!AG505)","v":""}]
[{"$f":"IF('2.Logbook'!A506=\"\",\"\",'2.Logbook'!A506)","v":""},{"$f":"IF('2.Logbook'!B506=\"\",\"\",'2.Logbook'!B506)","v":""},{"$f":"IF('2.Logbook'!C506=\"\",\"\",'2.Logbook'!C506)","v":""},{"$f":"IF('2.Logbook'!D506=\"\",\"\",'2.Logbook'!D506)","v":""},{"$f":"IF('2.Logbook'!E506=\"\",\"\",'2.Logbook'!E506)","v":""},{"$f":"IF('2.Logbook'!F506=\"\",\"\",'2.Logbook'!F506)","v":""},{"$f":"IF('2.Logbook'!G506=\"\",\"\",'2.Logbook'!G506)","v":""},{"$f":"IF('2.Logbook'!H506=\"\",\"\",'2.Logbook'!H506)","v":""},{"$f":"IF('2.Logbook'!I506=\"\",\"\",'2.Logbook'!I506)","v":""},{"$f":"IF('2.Logbook'!J506=\"\",\"\",'2.Logbook'!J506)","v":""},{"$f":"IF('2.Logbook'!K506=\"\",\"\",'2.Logbook'!K506)","v":""},{"$f":"IF('2.Logbook'!L506=\"\",\"\",'2.Logbook'!L506)","v":""},{"$f":"IF('2.Logbook'!M506=\"\",\"\",'2.Logbook'!M506)","v":""},{"$f":"IF('2.Logbook'!N506=\"\",\"\",'2.Logbook'!N506)","v":""},{"$f":"IF('2.Logbook'!O506=\"\",\"\",'2.Logbook'!O506)","v":""},{"$f":"IF('2.Logbook'!P506=\"\",\"\",'2.Logbook'!P506)","v":""},{"$f":"IF('2.Logbook'!Q506=\"\",\"\",'2.Logbook'!Q506)","v":""},{"$f":"IF('2.Logbook'!R506=\"\",\"\",'2.Logbook'!R506)","v":""},{"$f":"IF('2.Logbook'!S506=\"\",\"\",'2.Logbook'!S506)","v":""},{"$f":"IF('2.Logbook'!T506=\"\",\"\",'2.Logbook'!T506)","v":""},{"$f":"IF('2.Logbook'!U506=\"\",\"\",'2.Logbook'!U506)","v":""},{"$f":"IF('2.Logbook'!V506=\"\",\"\",'2.Logbook'!V506)","v":""},{"$f":"IF('2.Logbook'!W506=\"\",\"\",'2.Logbook'!W506)","v":""},{"$f":"IF('2.Logbook'!X506=\"\",\"\",'2.Logbook'!X506)","v":""},{"$f":"IF('2.Logbook'!Y506=\"\",\"\",'2.Logbook'!Y506)","v":""},{"$f":"IF('2.Logbook'!Z506=\"\",\"\",'2.Logbook'!Z506)","v":""},{"$f":"IF('2.Logbook'!AA506=\"\",\"\",'2.Logbook'!AA506)","v":""},{"$f":"IF('2.Logbook'!AB506=\"\",\"\",'2.Logbook'!AB506)","v":""},{"$f":"IF('2.Logbook'!AC506=\"\",\"\",'2.Logbook'!AC506)","v":""},{"$f":"IF('2.Logbook'!AD506=\"\",\"\",'2.Logbook'!AD506)","v":""},{"$f":"IF('2.Logbook'!AE506=\"\",\"\",'2.Logbook'!AE506)","v":""},{"$f":"IF('2.Logbook'!AF506=\"\",\"\",'2.Logbook'!AF506)","v":""},{"$f":"IF('2.Logbook'!AG506=\"\",\"\",'2.Logbook'!AG506)","v":""}]
[{"$f":"IF('2.Logbook'!A507=\"\",\"\",'2.Logbook'!A507)","v":""},{"$f":"IF('2.Logbook'!B507=\"\",\"\",'2.Logbook'!B507)","v":""},{"$f":"IF('2.Logbook'!C507=\"\",\"\",'2.Logbook'!C507)","v":""},{"$f":"IF('2.Logbook'!D507=\"\",\"\",'2.Logbook'!D507)","v":""},{"$f":"IF('2.Logbook'!E507=\"\",\"\",'2.Logbook'!E507)","v":""},{"$f":"IF('2.Logbook'!F507=\"\",\"\",'2.Logbook'!F507)","v":""},{"$f":"IF('2.Logbook'!G507=\"\",\"\",'2.Logbook'!G507)","v":""},{"$f":"IF('2.Logbook'!H507=\"\",\"\",'2.Logbook'!H507)","v":""},{"$f":"IF('2.Logbook'!I507=\"\",\"\",'2.Logbook'!I507)","v":""},{"$f":"IF('2.Logbook'!J507=\"\",\"\",'2.Logbook'!J507)","v":""},{"$f":"IF('2.Logbook'!K507=\"\",\"\",'2.Logbook'!K507)","v":""},{"$f":"IF('2.Logbook'!L507=\"\",\"\",'2.Logbook'!L507)","v":""},{"$f":"IF('2.Logbook'!M507=\"\",\"\",'2.Logbook'!M507)","v":""},{"$f":"IF('2.Logbook'!N507=\"\",\"\",'2.Logbook'!N507)","v":""},{"$f":"IF('2.Logbook'!O507=\"\",\"\",'2.Logbook'!O507)","v":""},{"$f":"IF('2.Logbook'!P507=\"\",\"\",'2.Logbook'!P507)","v":""},{"$f":"IF('2.Logbook'!Q507=\"\",\"\",'2.Logbook'!Q507)","v":""},{"$f":"IF('2.Logbook'!R507=\"\",\"\",'2.Logbook'!R507)","v":""},{"$f":"IF('2.Logbook'!S507=\"\",\"\",'2.Logbook'!S507)","v":""},{"$f":"IF('2.Logbook'!T507=\"\",\"\",'2.Logbook'!T507)","v":""},{"$f":"IF('2.Logbook'!U507=\"\",\"\",'2.Logbook'!U507)","v":""},{"$f":"IF('2.Logbook'!V507=\"\",\"\",'2.Logbook'!V507)","v":""},{"$f":"IF('2.Logbook'!W507=\"\",\"\",'2.Logbook'!W507)","v":""},{"$f":"IF('2.Logbook'!X507=\"\",\"\",'2.Logbook'!X507)","v":""},{"$f":"IF('2.Logbook'!Y507=\"\",\"\",'2.Logbook'!Y507)","v":""},{"$f":"IF('2.Logbook'!Z507=\"\",\"\",'2.Logbook'!Z507)","v":""},{"$f":"IF('2.Logbook'!AA507=\"\",\"\",'2.Logbook'!AA507)","v":""},{"$f":"IF('2.Logbook'!AB507=\"\",\"\",'2.Logbook'!AB507)","v":""},{"$f":"IF('2.Logbook'!AC507=\"\",\"\",'2.Logbook'!AC507)","v":""},{"$f":"IF('2.Logbook'!AD507=\"\",\"\",'2.Logbook'!AD507)","v":""},{"$f":"IF('2.Logbook'!AE507=\"\",\"\",'2.Logbook'!AE507)","v":""},{"$f":"IF('2.Logbook'!AF507=\"\",\"\",'2.Logbook'!AF507)","v":""},{"$f":"IF('2.Logbook'!AG507=\"\",\"\",'2.Logbook'!AG507)","v":""}]
[{"$f":"IF('2.Logbook'!A508=\"\",\"\",'2.Logbook'!A508)","v":""},{"$f":"IF('2.Logbook'!B508=\"\",\"\",'2.Logbook'!B508)","v":""},{"$f":"IF('2.Logbook'!C508=\"\",\"\",'2.Logbook'!C508)","v":""},{"$f":"IF('2.Logbook'!D508=\"\",\"\",'2.Logbook'!D508)","v":""},{"$f":"IF('2.Logbook'!E508=\"\",\"\",'2.Logbook'!E508)","v":""},{"$f":"IF('2.Logbook'!F508=\"\",\"\",'2.Logbook'!F508)","v":""},{"$f":"IF('2.Logbook'!G508=\"\",\"\",'2.Logbook'!G508)","v":""},{"$f":"IF('2.Logbook'!H508=\"\",\"\",'2.Logbook'!H508)","v":""},{"$f":"IF('2.Logbook'!I508=\"\",\"\",'2.Logbook'!I508)","v":""},{"$f":"IF('2.Logbook'!J508=\"\",\"\",'2.Logbook'!J508)","v":""},{"$f":"IF('2.Logbook'!K508=\"\",\"\",'2.Logbook'!K508)","v":""},{"$f":"IF('2.Logbook'!L508=\"\",\"\",'2.Logbook'!L508)","v":""},{"$f":"IF('2.Logbook'!M508=\"\",\"\",'2.Logbook'!M508)","v":""},{"$f":"IF('2.Logbook'!N508=\"\",\"\",'2.Logbook'!N508)","v":""},{"$f":"IF('2.Logbook'!O508=\"\",\"\",'2.Logbook'!O508)","v":""},{"$f":"IF('2.Logbook'!P508=\"\",\"\",'2.Logbook'!P508)","v":""},{"$f":"IF('2.Logbook'!Q508=\"\",\"\",'2.Logbook'!Q508)","v":""},{"$f":"IF('2.Logbook'!R508=\"\",\"\",'2.Logbook'!R508)","v":""},{"$f":"IF('2.Logbook'!S508=\"\",\"\",'2.Logbook'!S508)","v":""},{"$f":"IF('2.Logbook'!T508=\"\",\"\",'2.Logbook'!T508)","v":""},{"$f":"IF('2.Logbook'!U508=\"\",\"\",'2.Logbook'!U508)","v":""},{"$f":"IF('2.Logbook'!V508=\"\",\"\",'2.Logbook'!V508)","v":""},{"$f":"IF('2.Logbook'!W508=\"\",\"\",'2.Logbook'!W508)","v":""},{"$f":"IF('2.Logbook'!X508=\"\",\"\",'2.Logbook'!X508)","v":""},{"$f":"IF('2.Logbook'!Y508=\"\",\"\",'2.Logbook'!Y508)","v":""},{"$f":"IF('2.Logbook'!Z508=\"\",\"\",'2.Logbook'!Z508)","v":""},{"$f":"IF('2.Logbook'!AA508=\"\",\"\",'2.Logbook'!AA508)","v":""},{"$f":"IF('2.Logbook'!AB508=\"\",\"\",'2.Logbook'!AB508)","v":""},{"$f":"IF('2.Logbook'!AC508=\"\",\"\",'2.Logbook'!AC508)","v":""},{"$f":"IF('2.Logbook'!AD508=\"\",\"\",'2.Logbook'!AD508)","v":""},{"$f":"IF('2.Logbook'!AE508=\"\",\"\",'2.Logbook'!AE508)","v":""},{"$f":"IF('2.Logbook'!AF508=\"\",\"\",'2.Logbook'!AF508)","v":""},{"$f":"IF('2.Logbook'!AG508=\"\",\"\",'2.Logbook'!AG508)","v":""}]
[{"$f":"IF('2.Logbook'!A509=\"\",\"\",'2.Logbook'!A509)","v":""},{"$f":"IF('2.Logbook'!B509=\"\",\"\",'2.Logbook'!B509)","v":""},{"$f":"IF('2.Logbook'!C509=\"\",\"\",'2.Logbook'!C509)","v":""},{"$f":"IF('2.Logbook'!D509=\"\",\"\",'2.Logbook'!D509)","v":""},{"$f":"IF('2.Logbook'!E509=\"\",\"\",'2.Logbook'!E509)","v":""},{"$f":"IF('2.Logbook'!F509=\"\",\"\",'2.Logbook'!F509)","v":""},{"$f":"IF('2.Logbook'!G509=\"\",\"\",'2.Logbook'!G509)","v":""},{"$f":"IF('2.Logbook'!H509=\"\",\"\",'2.Logbook'!H509)","v":""},{"$f":"IF('2.Logbook'!I509=\"\",\"\",'2.Logbook'!I509)","v":""},{"$f":"IF('2.Logbook'!J509=\"\",\"\",'2.Logbook'!J509)","v":""},{"$f":"IF('2.Logbook'!K509=\"\",\"\",'2.Logbook'!K509)","v":""},{"$f":"IF('2.Logbook'!L509=\"\",\"\",'2.Logbook'!L509)","v":""},{"$f":"IF('2.Logbook'!M509=\"\",\"\",'2.Logbook'!M509)","v":""},{"$f":"IF('2.Logbook'!N509=\"\",\"\",'2.Logbook'!N509)","v":""},{"$f":"IF('2.Logbook'!O509=\"\",\"\",'2.Logbook'!O509)","v":""},{"$f":"IF('2.Logbook'!P509=\"\",\"\",'2.Logbook'!P509)","v":""},{"$f":"IF('2.Logbook'!Q509=\"\",\"\",'2.Logbook'!Q509)","v":""},{"$f":"IF('2.Logbook'!R509=\"\",\"\",'2.Logbook'!R509)","v":""},{"$f":"IF('2.Logbook'!S509=\"\",\"\",'2.Logbook'!S509)","v":""},{"$f":"IF('2.Logbook'!T509=\"\",\"\",'2.Logbook'!T509)","v":""},{"$f":"IF('2.Logbook'!U509=\"\",\"\",'2.Logbook'!U509)","v":""},{"$f":"IF('2.Logbook'!V509=\"\",\"\",'2.Logbook'!V509)","v":""},{"$f":"IF('2.Logbook'!W509=\"\",\"\",'2.Logbook'!W509)","v":""},{"$f":"IF('2.Logbook'!X509=\"\",\"\",'2.Logbook'!X509)","v":""},{"$f":"IF('2.Logbook'!Y509=\"\",\"\",'2.Logbook'!Y509)","v":""},{"$f":"IF('2.Logbook'!Z509=\"\",\"\",'2.Logbook'!Z509)","v":""},{"$f":"IF('2.Logbook'!AA509=\"\",\"\",'2.Logbook'!AA509)","v":""},{"$f":"IF('2.Logbook'!AB509=\"\",\"\",'2.Logbook'!AB509)","v":""},{"$f":"IF('2.Logbook'!AC509=\"\",\"\",'2.Logbook'!AC509)","v":""},{"$f":"IF('2.Logbook'!AD509=\"\",\"\",'2.Logbook'!AD509)","v":""},{"$f":"IF('2.Logbook'!AE509=\"\",\"\",'2.Logbook'!AE509)","v":""},{"$f":"IF('2.Logbook'!AF509=\"\",\"\",'2.Logbook'!AF509)","v":""},{"$f":"IF('2.Logbook'!AG509=\"\",\"\",'2.Logbook'!AG509)","v":""}]
[{"$f":"IF('2.Logbook'!A510=\"\",\"\",'2.Logbook'!A510)","v":""},{"$f":"IF('2.Logbook'!B510=\"\",\"\",'2.Logbook'!B510)","v":""},{"$f":"IF('2.Logbook'!C510=\"\",\"\",'2.Logbook'!C510)","v":""},{"$f":"IF('2.Logbook'!D510=\"\",\"\",'2.Logbook'!D510)","v":""},{"$f":"IF('2.Logbook'!E510=\"\",\"\",'2.Logbook'!E510)","v":""},{"$f":"IF('2.Logbook'!F510=\"\",\"\",'2.Logbook'!F510)","v":""},{"$f":"IF('2.Logbook'!G510=\"\",\"\",'2.Logbook'!G510)","v":""},{"$f":"IF('2.Logbook'!H510=\"\",\"\",'2.Logbook'!H510)","v":""},{"$f":"IF('2.Logbook'!I510=\"\",\"\",'2.Logbook'!I510)","v":""},{"$f":"IF('2.Logbook'!J510=\"\",\"\",'2.Logbook'!J510)","v":""},{"$f":"IF('2.Logbook'!K510=\"\",\"\",'2.Logbook'!K510)","v":""},{"$f":"IF('2.Logbook'!L510=\"\",\"\",'2.Logbook'!L510)","v":""},{"$f":"IF('2.Logbook'!M510=\"\",\"\",'2.Logbook'!M510)","v":""},{"$f":"IF('2.Logbook'!N510=\"\",\"\",'2.Logbook'!N510)","v":""},{"$f":"IF('2.Logbook'!O510=\"\",\"\",'2.Logbook'!O510)","v":""},{"$f":"IF('2.Logbook'!P510=\"\",\"\",'2.Logbook'!P510)","v":""},{"$f":"IF('2.Logbook'!Q510=\"\",\"\",'2.Logbook'!Q510)","v":""},{"$f":"IF('2.Logbook'!R510=\"\",\"\",'2.Logbook'!R510)","v":""},{"$f":"IF('2.Logbook'!S510=\"\",\"\",'2.Logbook'!S510)","v":""},{"$f":"IF('2.Logbook'!T510=\"\",\"\",'2.Logbook'!T510)","v":""},{"$f":"IF('2.Logbook'!U510=\"\",\"\",'2.Logbook'!U510)","v":""},{"$f":"IF('2.Logbook'!V510=\"\",\"\",'2.Logbook'!V510)","v":""},{"$f":"IF('2.Logbook'!W510=\"\",\"\",'2.Logbook'!W510)","v":""},{"$f":"IF('2.Logbook'!X510=\"\",\"\",'2.Logbook'!X510)","v":""},{"$f":"IF('2.Logbook'!Y510=\"\",\"\",'2.Logbook'!Y510)","v":""},{"$f":"IF('2.Logbook'!Z510=\"\",\"\",'2.Logbook'!Z510)","v":""},{"$f":"IF('2.Logbook'!AA510=\"\",\"\",'2.Logbook'!AA510)","v":""},{"$f":"IF('2.Logbook'!AB510=\"\",\"\",'2.Logbook'!AB510)","v":""},{"$f":"IF('2.Logbook'!AC510=\"\",\"\",'2.Logbook'!AC510)","v":""},{"$f":"IF('2.Logbook'!AD510=\"\",\"\",'2.Logbook'!AD510)","v":""},{"$f":"IF('2.Logbook'!AE510=\"\",\"\",'2.Logbook'!AE510)","v":""},{"$f":"IF('2.Logbook'!AF510=\"\",\"\",'2.Logbook'!AF510)","v":""},{"$f":"IF('2.Logbook'!AG510=\"\",\"\",'2.Logbook'!AG510)","v":""}]
[{"$f":"IF('2.Logbook'!A511=\"\",\"\",'2.Logbook'!A511)","v":""},{"$f":"IF('2.Logbook'!B511=\"\",\"\",'2.Logbook'!B511)","v":""},{"$f":"IF('2.Logbook'!C511=\"\",\"\",'2.Logbook'!C511)","v":""},{"$f":"IF('2.Logbook'!D511=\"\",\"\",'2.Logbook'!D511)","v":""},{"$f":"IF('2.Logbook'!E511=\"\",\"\",'2.Logbook'!E511)","v":""},{"$f":"IF('2.Logbook'!F511=\"\",\"\",'2.Logbook'!F511)","v":""},{"$f":"IF('2.Logbook'!G511=\"\",\"\",'2.Logbook'!G511)","v":""},{"$f":"IF('2.Logbook'!H511=\"\",\"\",'2.Logbook'!H511)","v":""},{"$f":"IF('2.Logbook'!I511=\"\",\"\",'2.Logbook'!I511)","v":""},{"$f":"IF('2.Logbook'!J511=\"\",\"\",'2.Logbook'!J511)","v":""},{"$f":"IF('2.Logbook'!K511=\"\",\"\",'2.Logbook'!K511)","v":""},{"$f":"IF('2.Logbook'!L511=\"\",\"\",'2.Logbook'!L511)","v":""},{"$f":"IF('2.Logbook'!M511=\"\",\"\",'2.Logbook'!M511)","v":""},{"$f":"IF('2.Logbook'!N511=\"\",\"\",'2.Logbook'!N511)","v":""},{"$f":"IF('2.Logbook'!O511=\"\",\"\",'2.Logbook'!O511)","v":""},{"$f":"IF('2.Logbook'!P511=\"\",\"\",'2.Logbook'!P511)","v":""},{"$f":"IF('2.Logbook'!Q511=\"\",\"\",'2.Logbook'!Q511)","v":""},{"$f":"IF('2.Logbook'!R511=\"\",\"\",'2.Logbook'!R511)","v":""},{"$f":"IF('2.Logbook'!S511=\"\",\"\",'2.Logbook'!S511)","v":""},{"$f":"IF('2.Logbook'!T511=\"\",\"\",'2.Logbook'!T511)","v":""},{"$f":"IF('2.Logbook'!U511=\"\",\"\",'2.Logbook'!U511)","v":""},{"$f":"IF('2.Logbook'!V511=\"\",\"\",'2.Logbook'!V511)","v":""},{"$f":"IF('2.Logbook'!W511=\"\",\"\",'2.Logbook'!W511)","v":""},{"$f":"IF('2.Logbook'!X511=\"\",\"\",'2.Logbook'!X511)","v":""},{"$f":"IF('2.Logbook'!Y511=\"\",\"\",'2.Logbook'!Y511)","v":""},{"$f":"IF('2.Logbook'!Z511=\"\",\"\",'2.Logbook'!Z511)","v":""},{"$f":"IF('2.Logbook'!AA511=\"\",\"\",'2.Logbook'!AA511)","v":""},{"$f":"IF('2.Logbook'!AB511=\"\",\"\",'2.Logbook'!AB511)","v":""},{"$f":"IF('2.Logbook'!AC511=\"\",\"\",'2.Logbook'!AC511)","v":""},{"$f":"IF('2.Logbook'!AD511=\"\",\"\",'2.Logbook'!AD511)","v":""},{"$f":"IF('2.Logbook'!AE511=\"\",\"\",'2.Logbook'!AE511)","v":""},{"$f":"IF('2.Logbook'!AF511=\"\",\"\",'2.Logbook'!AF511)","v":""},{"$f":"IF('2.Logbook'!AG511=\"\",\"\",'2.Logbook'!AG511)","v":""}]
[{"$f":"IF('2.Logbook'!A512=\"\",\"\",'2.Logbook'!A512)","v":""},{"$f":"IF('2.Logbook'!B512=\"\",\"\",'2.Logbook'!B512)","v":""},{"$f":"IF('2.Logbook'!C512=\"\",\"\",'2.Logbook'!C512)","v":""},{"$f":"IF('2.Logbook'!D512=\"\",\"\",'2.Logbook'!D512)","v":""},{"$f":"IF('2.Logbook'!E512=\"\",\"\",'2.Logbook'!E512)","v":""},{"$f":"IF('2.Logbook'!F512=\"\",\"\",'2.Logbook'!F512)","v":""},{"$f":"IF('2.Logbook'!G512=\"\",\"\",'2.Logbook'!G512)","v":""},{"$f":"IF('2.Logbook'!H512=\"\",\"\",'2.Logbook'!H512)","v":""},{"$f":"IF('2.Logbook'!I512=\"\",\"\",'2.Logbook'!I512)","v":""},{"$f":"IF('2.Logbook'!J512=\"\",\"\",'2.Logbook'!J512)","v":""},{"$f":"IF('2.Logbook'!K512=\"\",\"\",'2.Logbook'!K512)","v":""},{"$f":"IF('2.Logbook'!L512=\"\",\"\",'2.Logbook'!L512)","v":""},{"$f":"IF('2.Logbook'!M512=\"\",\"\",'2.Logbook'!M512)","v":""},{"$f":"IF('2.Logbook'!N512=\"\",\"\",'2.Logbook'!N512)","v":""},{"$f":"IF('2.Logbook'!O512=\"\",\"\",'2.Logbook'!O512)","v":""},{"$f":"IF('2.Logbook'!P512=\"\",\"\",'2.Logbook'!P512)","v":""},{"$f":"IF('2.Logbook'!Q512=\"\",\"\",'2.Logbook'!Q512)","v":""},{"$f":"IF('2.Logbook'!R512=\"\",\"\",'2.Logbook'!R512)","v":""},{"$f":"IF('2.Logbook'!S512=\"\",\"\",'2.Logbook'!S512)","v":""},{"$f":"IF('2.Logbook'!T512=\"\",\"\",'2.Logbook'!T512)","v":""},{"$f":"IF('2.Logbook'!U512=\"\",\"\",'2.Logbook'!U512)","v":""},{"$f":"IF('2.Logbook'!V512=\"\",\"\",'2.Logbook'!V512)","v":""},{"$f":"IF('2.Logbook'!W512=\"\",\"\",'2.Logbook'!W512)","v":""},{"$f":"IF('2.Logbook'!X512=\"\",\"\",'2.Logbook'!X512)","v":""},{"$f":"IF('2.Logbook'!Y512=\"\",\"\",'2.Logbook'!Y512)","v":""},{"$f":"IF('2.Logbook'!Z512=\"\",\"\",'2.Logbook'!Z512)","v":""},{"$f":"IF('2.Logbook'!AA512=\"\",\"\",'2.Logbook'!AA512)","v":""},{"$f":"IF('2.Logbook'!AB512=\"\",\"\",'2.Logbook'!AB512)","v":""},{"$f":"IF('2.Logbook'!AC512=\"\",\"\",'2.Logbook'!AC512)","v":""},{"$f":"IF('2.Logbook'!AD512=\"\",\"\",'2.Logbook'!AD512)","v":""},{"$f":"IF('2.Logbook'!AE512=\"\",\"\",'2.Logbook'!AE512)","v":""},{"$f":"IF('2.Logbook'!AF512=\"\",\"\",'2.Logbook'!AF512)","v":""},{"$f":"IF('2.Logbook'!AG512=\"\",\"\",'2.Logbook'!AG512)","v":""}]
[{"$f":"IF('2.Logbook'!A513=\"\",\"\",'2.Logbook'!A513)","v":""},{"$f":"IF('2.Logbook'!B513=\"\",\"\",'2.Logbook'!B513)","v":""},{"$f":"IF('2.Logbook'!C513=\"\",\"\",'2.Logbook'!C513)","v":""},{"$f":"IF('2.Logbook'!D513=\"\",\"\",'2.Logbook'!D513)","v":""},{"$f":"IF('2.Logbook'!E513=\"\",\"\",'2.Logbook'!E513)","v":""},{"$f":"IF('2.Logbook'!F513=\"\",\"\",'2.Logbook'!F513)","v":""},{"$f":"IF('2.Logbook'!G513=\"\",\"\",'2.Logbook'!G513)","v":""},{"$f":"IF('2.Logbook'!H513=\"\",\"\",'2.Logbook'!H513)","v":""},{"$f":"IF('2.Logbook'!I513=\"\",\"\",'2.Logbook'!I513)","v":""},{"$f":"IF('2.Logbook'!J513=\"\",\"\",'2.Logbook'!J513)","v":""},{"$f":"IF('2.Logbook'!K513=\"\",\"\",'2.Logbook'!K513)","v":""},{"$f":"IF('2.Logbook'!L513=\"\",\"\",'2.Logbook'!L513)","v":""},{"$f":"IF('2.Logbook'!M513=\"\",\"\",'2.Logbook'!M513)","v":""},{"$f":"IF('2.Logbook'!N513=\"\",\"\",'2.Logbook'!N513)","v":""},{"$f":"IF('2.Logbook'!O513=\"\",\"\",'2.Logbook'!O513)","v":""},{"$f":"IF('2.Logbook'!P513=\"\",\"\",'2.Logbook'!P513)","v":""},{"$f":"IF('2.Logbook'!Q513=\"\",\"\",'2.Logbook'!Q513)","v":""},{"$f":"IF('2.Logbook'!R513=\"\",\"\",'2.Logbook'!R513)","v":""},{"$f":"IF('2.Logbook'!S513=\"\",\"\",'2.Logbook'!S513)","v":""},{"$f":"IF('2.Logbook'!T513=\"\",\"\",'2.Logbook'!T513)","v":""},{"$f":"IF('2.Logbook'!U513=\"\",\"\",'2.Logbook'!U513)","v":""},{"$f":"IF('2.Logbook'!V513=\"\",\"\",'2.Logbook'!V513)","v":""},{"$f":"IF('2.Logbook'!W513=\"\",\"\",'2.Logbook'!W513)","v":""},{"$f":"IF('2.Logbook'!X513=\"\",\"\",'2.Logbook'!X513)","v":""},{"$f":"IF('2.Logbook'!Y513=\"\",\"\",'2.Logbook'!Y513)","v":""},{"$f":"IF('2.Logbook'!Z513=\"\",\"\",'2.Logbook'!Z513)","v":""},{"$f":"IF('2.Logbook'!AA513=\"\",\"\",'2.Logbook'!AA513)","v":""},{"$f":"IF('2.Logbook'!AB513=\"\",\"\",'2.Logbook'!AB513)","v":""},{"$f":"IF('2.Logbook'!AC513=\"\",\"\",'2.Logbook'!AC513)","v":""},{"$f":"IF('2.Logbook'!AD513=\"\",\"\",'2.Logbook'!AD513)","v":""},{"$f":"IF('2.Logbook'!AE513=\"\",\"\",'2.Logbook'!AE513)","v":""},{"$f":"IF('2.Logbook'!AF513=\"\",\"\",'2.Logbook'!AF513)","v":""},{"$f":"IF('2.Logbook'!AG513=\"\",\"\",'2.Logbook'!AG513)","v":""}]
[{"$f":"IF('2.Logbook'!A514=\"\",\"\",'2.Logbook'!A514)","v":""},{"$f":"IF('2.Logbook'!B514=\"\",\"\",'2.Logbook'!B514)","v":""},{"$f":"IF('2.Logbook'!C514=\"\",\"\",'2.Logbook'!C514)","v":""},{"$f":"IF('2.Logbook'!D514=\"\",\"\",'2.Logbook'!D514)","v":""},{"$f":"IF('2.Logbook'!E514=\"\",\"\",'2.Logbook'!E514)","v":""},{"$f":"IF('2.Logbook'!F514=\"\",\"\",'2.Logbook'!F514)","v":""},{"$f":"IF('2.Logbook'!G514=\"\",\"\",'2.Logbook'!G514)","v":""},{"$f":"IF('2.Logbook'!H514=\"\",\"\",'2.Logbook'!H514)","v":""},{"$f":"IF('2.Logbook'!I514=\"\",\"\",'2.Logbook'!I514)","v":""},{"$f":"IF('2.Logbook'!J514=\"\",\"\",'2.Logbook'!J514)","v":""},{"$f":"IF('2.Logbook'!K514=\"\",\"\",'2.Logbook'!K514)","v":""},{"$f":"IF('2.Logbook'!L514=\"\",\"\",'2.Logbook'!L514)","v":""},{"$f":"IF('2.Logbook'!M514=\"\",\"\",'2.Logbook'!M514)","v":""},{"$f":"IF('2.Logbook'!N514=\"\",\"\",'2.Logbook'!N514)","v":""},{"$f":"IF('2.Logbook'!O514=\"\",\"\",'2.Logbook'!O514)","v":""},{"$f":"IF('2.Logbook'!P514=\"\",\"\",'2.Logbook'!P514)","v":""},{"$f":"IF('2.Logbook'!Q514=\"\",\"\",'2.Logbook'!Q514)","v":""},{"$f":"IF('2.Logbook'!R514=\"\",\"\",'2.Logbook'!R514)","v":""},{"$f":"IF('2.Logbook'!S514=\"\",\"\",'2.Logbook'!S514)","v":""},{"$f":"IF('2.Logbook'!T514=\"\",\"\",'2.Logbook'!T514)","v":""},{"$f":"IF('2.Logbook'!U514=\"\",\"\",'2.Logbook'!U514)","v":""},{"$f":"IF('2.Logbook'!V514=\"\",\"\",'2.Logbook'!V514)","v":""},{"$f":"IF('2.Logbook'!W514=\"\",\"\",'2.Logbook'!W514)","v":""},{"$f":"IF('2.Logbook'!X514=\"\",\"\",'2.Logbook'!X514)","v":""},{"$f":"IF('2.Logbook'!Y514=\"\",\"\",'2.Logbook'!Y514)","v":""},{"$f":"IF('2.Logbook'!Z514=\"\",\"\",'2.Logbook'!Z514)","v":""},{"$f":"IF('2.Logbook'!AA514=\"\",\"\",'2.Logbook'!AA514)","v":""},{"$f":"IF('2.Logbook'!AB514=\"\",\"\",'2.Logbook'!AB514)","v":""},{"$f":"IF('2.Logbook'!AC514=\"\",\"\",'2.Logbook'!AC514)","v":""},{"$f":"IF('2.Logbook'!AD514=\"\",\"\",'2.Logbook'!AD514)","v":""},{"$f":"IF('2.Logbook'!AE514=\"\",\"\",'2.Logbook'!AE514)","v":""},{"$f":"IF('2.Logbook'!AF514=\"\",\"\",'2.Logbook'!AF514)","v":""},{"$f":"IF('2.Logbook'!AG514=\"\",\"\",'2.Logbook'!AG514)","v":""}]
[{"$f":"IF('2.Logbook'!A515=\"\",\"\",'2.Logbook'!A515)","v":""},{"$f":"IF('2.Logbook'!B515=\"\",\"\",'2.Logbook'!B515)","v":""},{"$f":"IF('2.Logbook'!C515=\"\",\"\",'2.Logbook'!C515)","v":""},{"$f":"IF('2.Logbook'!D515=\"\",\"\",'2.Logbook'!D515)","v":""},{"$f":"IF('2.Logbook'!E515=\"\",\"\",'2.Logbook'!E515)","v":""},{"$f":"IF('2.Logbook'!F515=\"\",\"\",'2.Logbook'!F515)","v":""},{"$f":"IF('2.Logbook'!G515=\"\",\"\",'2.Logbook'!G515)","v":""},{"$f":"IF('2.Logbook'!H515=\"\",\"\",'2.Logbook'!H515)","v":""},{"$f":"IF('2.Logbook'!I515=\"\",\"\",'2.Logbook'!I515)","v":""},{"$f":"IF('2.Logbook'!J515=\"\",\"\",'2.Logbook'!J515)","v":""},{"$f":"IF('2.Logbook'!K515=\"\",\"\",'2.Logbook'!K515)","v":""},{"$f":"IF('2.Logbook'!L515=\"\",\"\",'2.Logbook'!L515)","v":""},{"$f":"IF('2.Logbook'!M515=\"\",\"\",'2.Logbook'!M515)","v":""},{"$f":"IF('2.Logbook'!N515=\"\",\"\",'2.Logbook'!N515)","v":""},{"$f":"IF('2.Logbook'!O515=\"\",\"\",'2.Logbook'!O515)","v":""},{"$f":"IF('2.Logbook'!P515=\"\",\"\",'2.Logbook'!P515)","v":""},{"$f":"IF('2.Logbook'!Q515=\"\",\"\",'2.Logbook'!Q515)","v":""},{"$f":"IF('2.Logbook'!R515=\"\",\"\",'2.Logbook'!R515)","v":""},{"$f":"IF('2.Logbook'!S515=\"\",\"\",'2.Logbook'!S515)","v":""},{"$f":"IF('2.Logbook'!T515=\"\",\"\",'2.Logbook'!T515)","v":""},{"$f":"IF('2.Logbook'!U515=\"\",\"\",'2.Logbook'!U515)","v":""},{"$f":"IF('2.Logbook'!V515=\"\",\"\",'2.Logbook'!V515)","v":""},{"$f":"IF('2.Logbook'!W515=\"\",\"\",'2.Logbook'!W515)","v":""},{"$f":"IF('2.Logbook'!X515=\"\",\"\",'2.Logbook'!X515)","v":""},{"$f":"IF('2.Logbook'!Y515=\"\",\"\",'2.Logbook'!Y515)","v":""},{"$f":"IF('2.Logbook'!Z515=\"\",\"\",'2.Logbook'!Z515)","v":""},{"$f":"IF('2.Logbook'!AA515=\"\",\"\",'2.Logbook'!AA515)","v":""},{"$f":"IF('2.Logbook'!AB515=\"\",\"\",'2.Logbook'!AB515)","v":""},{"$f":"IF('2.Logbook'!AC515=\"\",\"\",'2.Logbook'!AC515)","v":""},{"$f":"IF('2.Logbook'!AD515=\"\",\"\",'2.Logbook'!AD515)","v":""},{"$f":"IF('2.Logbook'!AE515=\"\",\"\",'2.Logbook'!AE515)","v":""},{"$f":"IF('2.Logbook'!AF515=\"\",\"\",'2.Logbook'!AF515)","v":""},{"$f":"IF('2.Logbook'!AG515=\"\",\"\",'2.Logbook'!AG515)","v":""}]
[{"$f":"IF('2.Logbook'!A516=\"\",\"\",'2.Logbook'!A516)","v":""},{"$f":"IF('2.Logbook'!B516=\"\",\"\",'2.Logbook'!B516)","v":""},{"$f":"IF('2.Logbook'!C516=\"\",\"\",'2.Logbook'!C516)","v":""},{"$f":"IF('2.Logbook'!D516=\"\",\"\",'2.Logbook'!D516)","v":""},{"$f":"IF('2.Logbook'!E516=\"\",\"\",'2.Logbook'!E516)","v":""},{"$f":"IF('2.Logbook'!F516=\"\",\"\",'2.Logbook'!F516)","v":""},{"$f":"IF('2.Logbook'!G516=\"\",\"\",'2.Logbook'!G516)","v":""},{"$f":"IF('2.Logbook'!H516=\"\",\"\",'2.Logbook'!H516)","v":""},{"$f":"IF('2.Logbook'!I516=\"\",\"\",'2.Logbook'!I516)","v":""},{"$f":"IF('2.Logbook'!J516=\"\",\"\",'2.Logbook'!J516)","v":""},{"$f":"IF('2.Logbook'!K516=\"\",\"\",'2.Logbook'!K516)","v":""},{"$f":"IF('2.Logbook'!L516=\"\",\"\",'2.Logbook'!L516)","v":""},{"$f":"IF('2.Logbook'!M516=\"\",\"\",'2.Logbook'!M516)","v":""},{"$f":"IF('2.Logbook'!N516=\"\",\"\",'2.Logbook'!N516)","v":""},{"$f":"IF('2.Logbook'!O516=\"\",\"\",'2.Logbook'!O516)","v":""},{"$f":"IF('2.Logbook'!P516=\"\",\"\",'2.Logbook'!P516)","v":""},{"$f":"IF('2.Logbook'!Q516=\"\",\"\",'2.Logbook'!Q516)","v":""},{"$f":"IF('2.Logbook'!R516=\"\",\"\",'2.Logbook'!R516)","v":""},{"$f":"IF('2.Logbook'!S516=\"\",\"\",'2.Logbook'!S516)","v":""},{"$f":"IF('2.Logbook'!T516=\"\",\"\",'2.Logbook'!T516)","v":""},{"$f":"IF('2.Logbook'!U516=\"\",\"\",'2.Logbook'!U516)","v":""},{"$f":"IF('2.Logbook'!V516=\"\",\"\",'2.Logbook'!V516)","v":""},{"$f":"IF('2.Logbook'!W516=\"\",\"\",'2.Logbook'!W516)","v":""},{"$f":"IF('2.Logbook'!X516=\"\",\"\",'2.Logbook'!X516)","v":""},{"$f":"IF('2.Logbook'!Y516=\"\",\"\",'2.Logbook'!Y516)","v":""},{"$f":"IF('2.Logbook'!Z516=\"\",\"\",'2.Logbook'!Z516)","v":""},{"$f":"IF('2.Logbook'!AA516=\"\",\"\",'2.Logbook'!AA516)","v":""},{"$f":"IF('2.Logbook'!AB516=\"\",\"\",'2.Logbook'!AB516)","v":""},{"$f":"IF('2.Logbook'!AC516=\"\",\"\",'2.Logbook'!AC516)","v":""},{"$f":"IF('2.Logbook'!AD516=\"\",\"\",'2.Logbook'!AD516)","v":""},{"$f":"IF('2.Logbook'!AE516=\"\",\"\",'2.Logbook'!AE516)","v":""},{"$f":"IF('2.Logbook'!AF516=\"\",\"\",'2.Logbook'!AF516)","v":""},{"$f":"IF('2.Logbook'!AG516=\"\",\"\",'2.Logbook'!AG516)","v":""}]
[{"$f":"IF('2.Logbook'!A517=\"\",\"\",'2.Logbook'!A517)","v":""},{"$f":"IF('2.Logbook'!B517=\"\",\"\",'2.Logbook'!B517)","v":""},{"$f":"IF('2.Logbook'!C517=\"\",\"\",'2.Logbook'!C517)","v":""},{"$f":"IF('2.Logbook'!D517=\"\",\"\",'2.Logbook'!D517)","v":""},{"$f":"IF('2.Logbook'!E517=\"\",\"\",'2.Logbook'!E517)","v":""},{"$f":"IF('2.Logbook'!F517=\"\",\"\",'2.Logbook'!F517)","v":""},{"$f":"IF('2.Logbook'!G517=\"\",\"\",'2.Logbook'!G517)","v":""},{"$f":"IF('2.Logbook'!H517=\"\",\"\",'2.Logbook'!H517)","v":""},{"$f":"IF('2.Logbook'!I517=\"\",\"\",'2.Logbook'!I517)","v":""},{"$f":"IF('2.Logbook'!J517=\"\",\"\",'2.Logbook'!J517)","v":""},{"$f":"IF('2.Logbook'!K517=\"\",\"\",'2.Logbook'!K517)","v":""},{"$f":"IF('2.Logbook'!L517=\"\",\"\",'2.Logbook'!L517)","v":""},{"$f":"IF('2.Logbook'!M517=\"\",\"\",'2.Logbook'!M517)","v":""},{"$f":"IF('2.Logbook'!N517=\"\",\"\",'2.Logbook'!N517)","v":""},{"$f":"IF('2.Logbook'!O517=\"\",\"\",'2.Logbook'!O517)","v":""},{"$f":"IF('2.Logbook'!P517=\"\",\"\",'2.Logbook'!P517)","v":""},{"$f":"IF('2.Logbook'!Q517=\"\",\"\",'2.Logbook'!Q517)","v":""},{"$f":"IF('2.Logbook'!R517=\"\",\"\",'2.Logbook'!R517)","v":""},{"$f":"IF('2.Logbook'!S517=\"\",\"\",'2.Logbook'!S517)","v":""},{"$f":"IF('2.Logbook'!T517=\"\",\"\",'2.Logbook'!T517)","v":""},{"$f":"IF('2.Logbook'!U517=\"\",\"\",'2.Logbook'!U517)","v":""},{"$f":"IF('2.Logbook'!V517=\"\",\"\",'2.Logbook'!V517)","v":""},{"$f":"IF('2.Logbook'!W517=\"\",\"\",'2.Logbook'!W517)","v":""},{"$f":"IF('2.Logbook'!X517=\"\",\"\",'2.Logbook'!X517)","v":""},{"$f":"IF('2.Logbook'!Y517=\"\",\"\",'2.Logbook'!Y517)","v":""},{"$f":"IF('2.Logbook'!Z517=\"\",\"\",'2.Logbook'!Z517)","v":""},{"$f":"IF('2.Logbook'!AA517=\"\",\"\",'2.Logbook'!AA517)","v":""},{"$f":"IF('2.Logbook'!AB517=\"\",\"\",'2.Logbook'!AB517)","v":""},{"$f":"IF('2.Logbook'!AC517=\"\",\"\",'2.Logbook'!AC517)","v":""},{"$f":"IF('2.Logbook'!AD517=\"\",\"\",'2.Logbook'!AD517)","v":""},{"$f":"IF('2.Logbook'!AE517=\"\",\"\",'2.Logbook'!AE517)","v":""},{"$f":"IF('2.Logbook'!AF517=\"\",\"\",'2.Logbook'!AF517)","v":""},{"$f":"IF('2.Logbook'!AG517=\"\",\"\",'2.Logbook'!AG517)","v":""}]
[{"$f":"IF('2.Logbook'!A518=\"\",\"\",'2.Logbook'!A518)","v":""},{"$f":"IF('2.Logbook'!B518=\"\",\"\",'2.Logbook'!B518)","v":""},{"$f":"IF('2.Logbook'!C518=\"\",\"\",'2.Logbook'!C518)","v":""},{"$f":"IF('2.Logbook'!D518=\"\",\"\",'2.Logbook'!D518)","v":""},{"$f":"IF('2.Logbook'!E518=\"\",\"\",'2.Logbook'!E518)","v":""},{"$f":"IF('2.Logbook'!F518=\"\",\"\",'2.Logbook'!F518)","v":""},{"$f":"IF('2.Logbook'!G518=\"\",\"\",'2.Logbook'!G518)","v":""},{"$f":"IF('2.Logbook'!H518=\"\",\"\",'2.Logbook'!H518)","v":""},{"$f":"IF('2.Logbook'!I518=\"\",\"\",'2.Logbook'!I518)","v":""},{"$f":"IF('2.Logbook'!J518=\"\",\"\",'2.Logbook'!J518)","v":""},{"$f":"IF('2.Logbook'!K518=\"\",\"\",'2.Logbook'!K518)","v":""},{"$f":"IF('2.Logbook'!L518=\"\",\"\",'2.Logbook'!L518)","v":""},{"$f":"IF('2.Logbook'!M518=\"\",\"\",'2.Logbook'!M518)","v":""},{"$f":"IF('2.Logbook'!N518=\"\",\"\",'2.Logbook'!N518)","v":""},{"$f":"IF('2.Logbook'!O518=\"\",\"\",'2.Logbook'!O518)","v":""},{"$f":"IF('2.Logbook'!P518=\"\",\"\",'2.Logbook'!P518)","v":""},{"$f":"IF('2.Logbook'!Q518=\"\",\"\",'2.Logbook'!Q518)","v":""},{"$f":"IF('2.Logbook'!R518=\"\",\"\",'2.Logbook'!R518)","v":""},{"$f":"IF('2.Logbook'!S518=\"\",\"\",'2.Logbook'!S518)","v":""},{"$f":"IF('2.Logbook'!T518=\"\",\"\",'2.Logbook'!T518)","v":""},{"$f":"IF('2.Logbook'!U518=\"\",\"\",'2.Logbook'!U518)","v":""},{"$f":"IF('2.Logbook'!V518=\"\",\"\",'2.Logbook'!V518)","v":""},{"$f":"IF('2.Logbook'!W518=\"\",\"\",'2.Logbook'!W518)","v":""},{"$f":"IF('2.Logbook'!X518=\"\",\"\",'2.Logbook'!X518)","v":""},{"$f":"IF('2.Logbook'!Y518=\"\",\"\",'2.Logbook'!Y518)","v":""},{"$f":"IF('2.Logbook'!Z518=\"\",\"\",'2.Logbook'!Z518)","v":""},{"$f":"IF('2.Logbook'!AA518=\"\",\"\",'2.Logbook'!AA518)","v":""},{"$f":"IF('2.Logbook'!AB518=\"\",\"\",'2.Logbook'!AB518)","v":""},{"$f":"IF('2.Logbook'!AC518=\"\",\"\",'2.Logbook'!AC518)","v":""},{"$f":"IF('2.Logbook'!AD518=\"\",\"\",'2.Logbook'!AD518)","v":""},{"$f":"IF('2.Logbook'!AE518=\"\",\"\",'2.Logbook'!AE518)","v":""},{"$f":"IF('2.Logbook'!AF518=\"\",\"\",'2.Logbook'!AF518)","v":""},{"$f":"IF('2.Logbook'!AG518=\"\",\"\",'2.Logbook'!AG518)","v":""}]
[{"$f":"IF('2.Logbook'!A519=\"\",\"\",'2.Logbook'!A519)","v":""},{"$f":"IF('2.Logbook'!B519=\"\",\"\",'2.Logbook'!B519)","v":""},{"$f":"IF('2.Logbook'!C519=\"\",\"\",'2.Logbook'!C519)","v":""},{"$f":"IF('2.Logbook'!D519=\"\",\"\",'2.Logbook'!D519)","v":""},{"$f":"IF('2.Logbook'!E519=\"\",\"\",'2.Logbook'!E519)","v":""},{"$f":"IF('2.Logbook'!F519=\"\",\"\",'2.Logbook'!F519)","v":""},{"$f":"IF('2.Logbook'!G519=\"\",\"\",'2.Logbook'!G519)","v":""},{"$f":"IF('2.Logbook'!H519=\"\",\"\",'2.Logbook'!H519)","v":""},{"$f":"IF('2.Logbook'!I519=\"\",\"\",'2.Logbook'!I519)","v":""},{"$f":"IF('2.Logbook'!J519=\"\",\"\",'2.Logbook'!J519)","v":""},{"$f":"IF('2.Logbook'!K519=\"\",\"\",'2.Logbook'!K519)","v":""},{"$f":"IF('2.Logbook'!L519=\"\",\"\",'2.Logbook'!L519)","v":""},{"$f":"IF('2.Logbook'!M519=\"\",\"\",'2.Logbook'!M519)","v":""},{"$f":"IF('2.Logbook'!N519=\"\",\"\",'2.Logbook'!N519)","v":""},{"$f":"IF('2.Logbook'!O519=\"\",\"\",'2.Logbook'!O519)","v":""},{"$f":"IF('2.Logbook'!P519=\"\",\"\",'2.Logbook'!P519)","v":""},{"$f":"IF('2.Logbook'!Q519=\"\",\"\",'2.Logbook'!Q519)","v":""},{"$f":"IF('2.Logbook'!R519=\"\",\"\",'2.Logbook'!R519)","v":""},{"$f":"IF('2.Logbook'!S519=\"\",\"\",'2.Logbook'!S519)","v":""},{"$f":"IF('2.Logbook'!T519=\"\",\"\",'2.Logbook'!T519)","v":""},{"$f":"IF('2.Logbook'!U519=\"\",\"\",'2.Logbook'!U519)","v":""},{"$f":"IF('2.Logbook'!V519=\"\",\"\",'2.Logbook'!V519)","v":""},{"$f":"IF('2.Logbook'!W519=\"\",\"\",'2.Logbook'!W519)","v":""},{"$f":"IF('2.Logbook'!X519=\"\",\"\",'2.Logbook'!X519)","v":""},{"$f":"IF('2.Logbook'!Y519=\"\",\"\",'2.Logbook'!Y519)","v":""},{"$f":"IF('2.Logbook'!Z519=\"\",\"\",'2.Logbook'!Z519)","v":""},{"$f":"IF('2.Logbook'!AA519=\"\",\"\",'2.Logbook'!AA519)","v":""},{"$f":"IF('2.Logbook'!AB519=\"\",\"\",'2.Logbook'!AB519)","v":""},{"$f":"IF('2.Logbook'!AC519=\"\",\"\",'2.Logbook'!AC519)","v":""},{"$f":"IF('2.Logbook'!AD519=\"\",\"\",'2.Logbook'!AD519)","v":""},{"$f":"IF('2.Logbook'!AE519=\"\",\"\",'2.Logbook'!AE519)","v":""},{"$f":"IF('2.Logbook'!AF519=\"\",\"\",'2.Logbook'!AF519)","v":""},{"$f":"IF('2.Logbook'!AG519=\"\",\"\",'2.Logbook'!AG519)","v":""}]
[{"$f":"IF('2.Logbook'!A520=\"\",\"\",'2.Logbook'!A520)","v":""},{"$f":"IF('2.Logbook'!B520=\"\",\"\",'2.Logbook'!B520)","v":""},{"$f":"IF('2.Logbook'!C520=\"\",\"\",'2.Logbook'!C520)","v":""},{"$f":"IF('2.Logbook'!D520=\"\",\"\",'2.Logbook'!D520)","v":""},{"$f":"IF('2.Logbook'!E520=\"\",\"\",'2.Logbook'!E520)","v":""},{"$f":"IF('2.Logbook'!F520=\"\",\"\",'2.Logbook'!F520)","v":""},{"$f":"IF('2.Logbook'!G520=\"\",\"\",'2.Logbook'!G520)","v":""},{"$f":"IF('2.Logbook'!H520=\"\",\"\",'2.Logbook'!H520)","v":""},{"$f":"IF('2.Logbook'!I520=\"\",\"\",'2.Logbook'!I520)","v":""},{"$f":"IF('2.Logbook'!J520=\"\",\"\",'2.Logbook'!J520)","v":""},{"$f":"IF('2.Logbook'!K520=\"\",\"\",'2.Logbook'!K520)","v":""},{"$f":"IF('2.Logbook'!L520=\"\",\"\",'2.Logbook'!L520)","v":""},{"$f":"IF('2.Logbook'!M520=\"\",\"\",'2.Logbook'!M520)","v":""},{"$f":"IF('2.Logbook'!N520=\"\",\"\",'2.Logbook'!N520)","v":""},{"$f":"IF('2.Logbook'!O520=\"\",\"\",'2.Logbook'!O520)","v":""},{"$f":"IF('2.Logbook'!P520=\"\",\"\",'2.Logbook'!P520)","v":""},{"$f":"IF('2.Logbook'!Q520=\"\",\"\",'2.Logbook'!Q520)","v":""},{"$f":"IF('2.Logbook'!R520=\"\",\"\",'2.Logbook'!R520)","v":""},{"$f":"IF('2.Logbook'!S520=\"\",\"\",'2.Logbook'!S520)","v":""},{"$f":"IF('2.Logbook'!T520=\"\",\"\",'2.Logbook'!T520)","v":""},{"$f":"IF('2.Logbook'!U520=\"\",\"\",'2.Logbook'!U520)","v":""},{"$f":"IF('2.Logbook'!V520=\"\",\"\",'2.Logbook'!V520)","v":""},{"$f":"IF('2.Logbook'!W520=\"\",\"\",'2.Logbook'!W520)","v":""},{"$f":"IF('2.Logbook'!X520=\"\",\"\",'2.Logbook'!X520)","v":""},{"$f":"IF('2.Logbook'!Y520=\"\",\"\",'2.Logbook'!Y520)","v":""},{"$f":"IF('2.Logbook'!Z520=\"\",\"\",'2.Logbook'!Z520)","v":""},{"$f":"IF('2.Logbook'!AA520=\"\",\"\",'2.Logbook'!AA520)","v":""},{"$f":"IF('2.Logbook'!AB520=\"\",\"\",'2.Logbook'!AB520)","v":""},{"$f":"IF('2.Logbook'!AC520=\"\",\"\",'2.Logbook'!AC520)","v":""},{"$f":"IF('2.Logbook'!AD520=\"\",\"\",'2.Logbook'!AD520)","v":""},{"$f":"IF('2.Logbook'!AE520=\"\",\"\",'2.Logbook'!AE520)","v":""},{"$f":"IF('2.Logbook'!AF520=\"\",\"\",'2.Logbook'!AF520)","v":""},{"$f":"IF('2.Logbook'!AG520=\"\",\"\",'2.Logbook'!AG520)","v":""}]
[{"$f":"IF('2.Logbook'!A521=\"\",\"\",'2.Logbook'!A521)","v":""},{"$f":"IF('2.Logbook'!B521=\"\",\"\",'2.Logbook'!B521)","v":""},{"$f":"IF('2.Logbook'!C521=\"\",\"\",'2.Logbook'!C521)","v":""},{"$f":"IF('2.Logbook'!D521=\"\",\"\",'2.Logbook'!D521)","v":""},{"$f":"IF('2.Logbook'!E521=\"\",\"\",'2.Logbook'!E521)","v":""},{"$f":"IF('2.Logbook'!F521=\"\",\"\",'2.Logbook'!F521)","v":""},{"$f":"IF('2.Logbook'!G521=\"\",\"\",'2.Logbook'!G521)","v":""},{"$f":"IF('2.Logbook'!H521=\"\",\"\",'2.Logbook'!H521)","v":""},{"$f":"IF('2.Logbook'!I521=\"\",\"\",'2.Logbook'!I521)","v":""},{"$f":"IF('2.Logbook'!J521=\"\",\"\",'2.Logbook'!J521)","v":""},{"$f":"IF('2.Logbook'!K521=\"\",\"\",'2.Logbook'!K521)","v":""},{"$f":"IF('2.Logbook'!L521=\"\",\"\",'2.Logbook'!L521)","v":""},{"$f":"IF('2.Logbook'!M521=\"\",\"\",'2.Logbook'!M521)","v":""},{"$f":"IF('2.Logbook'!N521=\"\",\"\",'2.Logbook'!N521)","v":""},{"$f":"IF('2.Logbook'!O521=\"\",\"\",'2.Logbook'!O521)","v":""},{"$f":"IF('2.Logbook'!P521=\"\",\"\",'2.Logbook'!P521)","v":""},{"$f":"IF('2.Logbook'!Q521=\"\",\"\",'2.Logbook'!Q521)","v":""},{"$f":"IF('2.Logbook'!R521=\"\",\"\",'2.Logbook'!R521)","v":""},{"$f":"IF('2.Logbook'!S521=\"\",\"\",'2.Logbook'!S521)","v":""},{"$f":"IF('2.Logbook'!T521=\"\",\"\",'2.Logbook'!T521)","v":""},{"$f":"IF('2.Logbook'!U521=\"\",\"\",'2.Logbook'!U521)","v":""},{"$f":"IF('2.Logbook'!V521=\"\",\"\",'2.Logbook'!V521)","v":""},{"$f":"IF('2.Logbook'!W521=\"\",\"\",'2.Logbook'!W521)","v":""},{"$f":"IF('2.Logbook'!X521=\"\",\"\",'2.Logbook'!X521)","v":""},{"$f":"IF('2.Logbook'!Y521=\"\",\"\",'2.Logbook'!Y521)","v":""},{"$f":"IF('2.Logbook'!Z521=\"\",\"\",'2.Logbook'!Z521)","v":""},{"$f":"IF('2.Logbook'!AA521=\"\",\"\",'2.Logbook'!AA521)","v":""},{"$f":"IF('2.Logbook'!AB521=\"\",\"\",'2.Logbook'!AB521)","v":""},{"$f":"IF('2.Logbook'!AC521=\"\",\"\",'2.Logbook'!AC521)","v":""},{"$f":"IF('2.Logbook'!AD521=\"\",\"\",'2.Logbook'!AD521)","v":""},{"$f":"IF('2.Logbook'!AE521=\"\",\"\",'2.Logbook'!AE521)","v":""},{"$f":"IF('2.Logbook'!AF521=\"\",\"\",'2.Logbook'!AF521)","v":""},{"$f":"IF('2.Logbook'!AG521=\"\",\"\",'2.Logbook'!AG521)","v":""}]
[{"$f":"IF('2.Logbook'!A522=\"\",\"\",'2.Logbook'!A522)","v":""},{"$f":"IF('2.Logbook'!B522=\"\",\"\",'2.Logbook'!B522)","v":""},{"$f":"IF('2.Logbook'!C522=\"\",\"\",'2.Logbook'!C522)","v":""},{"$f":"IF('2.Logbook'!D522=\"\",\"\",'2.Logbook'!D522)","v":""},{"$f":"IF('2.Logbook'!E522=\"\",\"\",'2.Logbook'!E522)","v":""},{"$f":"IF('2.Logbook'!F522=\"\",\"\",'2.Logbook'!F522)","v":""},{"$f":"IF('2.Logbook'!G522=\"\",\"\",'2.Logbook'!G522)","v":""},{"$f":"IF('2.Logbook'!H522=\"\",\"\",'2.Logbook'!H522)","v":""},{"$f":"IF('2.Logbook'!I522=\"\",\"\",'2.Logbook'!I522)","v":""},{"$f":"IF('2.Logbook'!J522=\"\",\"\",'2.Logbook'!J522)","v":""},{"$f":"IF('2.Logbook'!K522=\"\",\"\",'2.Logbook'!K522)","v":""},{"$f":"IF('2.Logbook'!L522=\"\",\"\",'2.Logbook'!L522)","v":""},{"$f":"IF('2.Logbook'!M522=\"\",\"\",'2.Logbook'!M522)","v":""},{"$f":"IF('2.Logbook'!N522=\"\",\"\",'2.Logbook'!N522)","v":""},{"$f":"IF('2.Logbook'!O522=\"\",\"\",'2.Logbook'!O522)","v":""},{"$f":"IF('2.Logbook'!P522=\"\",\"\",'2.Logbook'!P522)","v":""},{"$f":"IF('2.Logbook'!Q522=\"\",\"\",'2.Logbook'!Q522)","v":""},{"$f":"IF('2.Logbook'!R522=\"\",\"\",'2.Logbook'!R522)","v":""},{"$f":"IF('2.Logbook'!S522=\"\",\"\",'2.Logbook'!S522)","v":""},{"$f":"IF('2.Logbook'!T522=\"\",\"\",'2.Logbook'!T522)","v":""},{"$f":"IF('2.Logbook'!U522=\"\",\"\",'2.Logbook'!U522)","v":""},{"$f":"IF('2.Logbook'!V522=\"\",\"\",'2.Logbook'!V522)","v":""},{"$f":"IF('2.Logbook'!W522=\"\",\"\",'2.Logbook'!W522)","v":""},{"$f":"IF('2.Logbook'!X522=\"\",\"\",'2.Logbook'!X522)","v":""},{"$f":"IF('2.Logbook'!Y522=\"\",\"\",'2.Logbook'!Y522)","v":""},{"$f":"IF('2.Logbook'!Z522=\"\",\"\",'2.Logbook'!Z522)","v":""},{"$f":"IF('2.Logbook'!AA522=\"\",\"\",'2.Logbook'!AA522)","v":""},{"$f":"IF('2.Logbook'!AB522=\"\",\"\",'2.Logbook'!AB522)","v":""},{"$f":"IF('2.Logbook'!AC522=\"\",\"\",'2.Logbook'!AC522)","v":""},{"$f":"IF('2.Logbook'!AD522=\"\",\"\",'2.Logbook'!AD522)","v":""},{"$f":"IF('2.Logbook'!AE522=\"\",\"\",'2.Logbook'!AE522)","v":""},{"$f":"IF('2.Logbook'!AF522=\"\",\"\",'2.Logbook'!AF522)","v":""},{"$f":"IF('2.Logbook'!AG522=\"\",\"\",'2.Logbook'!AG522)","v":""}]
[{"$f":"IF('2.Logbook'!A523=\"\",\"\",'2.Logbook'!A523)","v":""},{"$f":"IF('2.Logbook'!B523=\"\",\"\",'2.Logbook'!B523)","v":""},{"$f":"IF('2.Logbook'!C523=\"\",\"\",'2.Logbook'!C523)","v":""},{"$f":"IF('2.Logbook'!D523=\"\",\"\",'2.Logbook'!D523)","v":""},{"$f":"IF('2.Logbook'!E523=\"\",\"\",'2.Logbook'!E523)","v":""},{"$f":"IF('2.Logbook'!F523=\"\",\"\",'2.Logbook'!F523)","v":""},{"$f":"IF('2.Logbook'!G523=\"\",\"\",'2.Logbook'!G523)","v":""},{"$f":"IF('2.Logbook'!H523=\"\",\"\",'2.Logbook'!H523)","v":""},{"$f":"IF('2.Logbook'!I523=\"\",\"\",'2.Logbook'!I523)","v":""},{"$f":"IF('2.Logbook'!J523=\"\",\"\",'2.Logbook'!J523)","v":""},{"$f":"IF('2.Logbook'!K523=\"\",\"\",'2.Logbook'!K523)","v":""},{"$f":"IF('2.Logbook'!L523=\"\",\"\",'2.Logbook'!L523)","v":""},{"$f":"IF('2.Logbook'!M523=\"\",\"\",'2.Logbook'!M523)","v":""},{"$f":"IF('2.Logbook'!N523=\"\",\"\",'2.Logbook'!N523)","v":""},{"$f":"IF('2.Logbook'!O523=\"\",\"\",'2.Logbook'!O523)","v":""},{"$f":"IF('2.Logbook'!P523=\"\",\"\",'2.Logbook'!P523)","v":""},{"$f":"IF('2.Logbook'!Q523=\"\",\"\",'2.Logbook'!Q523)","v":""},{"$f":"IF('2.Logbook'!R523=\"\",\"\",'2.Logbook'!R523)","v":""},{"$f":"IF('2.Logbook'!S523=\"\",\"\",'2.Logbook'!S523)","v":""},{"$f":"IF('2.Logbook'!T523=\"\",\"\",'2.Logbook'!T523)","v":""},{"$f":"IF('2.Logbook'!U523=\"\",\"\",'2.Logbook'!U523)","v":""},{"$f":"IF('2.Logbook'!V523=\"\",\"\",'2.Logbook'!V523)","v":""},{"$f":"IF('2.Logbook'!W523=\"\",\"\",'2.Logbook'!W523)","v":""},{"$f":"IF('2.Logbook'!X523=\"\",\"\",'2.Logbook'!X523)","v":""},{"$f":"IF('2.Logbook'!Y523=\"\",\"\",'2.Logbook'!Y523)","v":""},{"$f":"IF('2.Logbook'!Z523=\"\",\"\",'2.Logbook'!Z523)","v":""},{"$f":"IF('2.Logbook'!AA523=\"\",\"\",'2.Logbook'!AA523)","v":""},{"$f":"IF('2.Logbook'!AB523=\"\",\"\",'2.Logbook'!AB523)","v":""},{"$f":"IF('2.Logbook'!AC523=\"\",\"\",'2.Logbook'!AC523)","v":""},{"$f":"IF('2.Logbook'!AD523=\"\",\"\",'2.Logbook'!AD523)","v":""},{"$f":"IF('2.Logbook'!AE523=\"\",\"\",'2.Logbook'!AE523)","v":""},{"$f":"IF('2.Logbook'!AF523=\"\",\"\",'2.Logbook'!AF523)","v":""},{"$f":"IF('2.Logbook'!AG523=\"\",\"\",'2.Logbook'!AG523)","v":""}]
[{"$f":"IF('2.Logbook'!A524=\"\",\"\",'2.Logbook'!A524)","v":""},{"$f":"IF('2.Logbook'!B524=\"\",\"\",'2.Logbook'!B524)","v":""},{"$f":"IF('2.Logbook'!C524=\"\",\"\",'2.Logbook'!C524)","v":""},{"$f":"IF('2.Logbook'!D524=\"\",\"\",'2.Logbook'!D524)","v":""},{"$f":"IF('2.Logbook'!E524=\"\",\"\",'2.Logbook'!E524)","v":""},{"$f":"IF('2.Logbook'!F524=\"\",\"\",'2.Logbook'!F524)","v":""},{"$f":"IF('2.Logbook'!G524=\"\",\"\",'2.Logbook'!G524)","v":""},{"$f":"IF('2.Logbook'!H524=\"\",\"\",'2.Logbook'!H524)","v":""},{"$f":"IF('2.Logbook'!I524=\"\",\"\",'2.Logbook'!I524)","v":""},{"$f":"IF('2.Logbook'!J524=\"\",\"\",'2.Logbook'!J524)","v":""},{"$f":"IF('2.Logbook'!K524=\"\",\"\",'2.Logbook'!K524)","v":""},{"$f":"IF('2.Logbook'!L524=\"\",\"\",'2.Logbook'!L524)","v":""},{"$f":"IF('2.Logbook'!M524=\"\",\"\",'2.Logbook'!M524)","v":""},{"$f":"IF('2.Logbook'!N524=\"\",\"\",'2.Logbook'!N524)","v":""},{"$f":"IF('2.Logbook'!O524=\"\",\"\",'2.Logbook'!O524)","v":""},{"$f":"IF('2.Logbook'!P524=\"\",\"\",'2.Logbook'!P524)","v":""},{"$f":"IF('2.Logbook'!Q524=\"\",\"\",'2.Logbook'!Q524)","v":""},{"$f":"IF('2.Logbook'!R524=\"\",\"\",'2.Logbook'!R524)","v":""},{"$f":"IF('2.Logbook'!S524=\"\",\"\",'2.Logbook'!S524)","v":""},{"$f":"IF('2.Logbook'!T524=\"\",\"\",'2.Logbook'!T524)","v":""},{"$f":"IF('2.Logbook'!U524=\"\",\"\",'2.Logbook'!U524)","v":""},{"$f":"IF('2.Logbook'!V524=\"\",\"\",'2.Logbook'!V524)","v":""},{"$f":"IF('2.Logbook'!W524=\"\",\"\",'2.Logbook'!W524)","v":""},{"$f":"IF('2.Logbook'!X524=\"\",\"\",'2.Logbook'!X524)","v":""},{"$f":"IF('2.Logbook'!Y524=\"\",\"\",'2.Logbook'!Y524)","v":""},{"$f":"IF('2.Logbook'!Z524=\"\",\"\",'2.Logbook'!Z524)","v":""},{"$f":"IF('2.Logbook'!AA524=\"\",\"\",'2.Logbook'!AA524)","v":""},{"$f":"IF('2.Logbook'!AB524=\"\",\"\",'2.Logbook'!AB524)","v":""},{"$f":"IF('2.Logbook'!AC524=\"\",\"\",'2.Logbook'!AC524)","v":""},{"$f":"IF('2.Logbook'!AD524=\"\",\"\",'2.Logbook'!AD524)","v":""},{"$f":"IF('2.Logbook'!AE524=\"\",\"\",'2.Logbook'!AE524)","v":""},{"$f":"IF('2.Logbook'!AF524=\"\",\"\",'2.Logbook'!AF524)","v":""},{"$f":"IF('2.Logbook'!AG524=\"\",\"\",'2.Logbook'!AG524)","v":""}]
[{"$f":"IF('2.Logbook'!A525=\"\",\"\",'2.Logbook'!A525)","v":""},{"$f":"IF('2.Logbook'!B525=\"\",\"\",'2.Logbook'!B525)","v":""},{"$f":"IF('2.Logbook'!C525=\"\",\"\",'2.Logbook'!C525)","v":""},{"$f":"IF('2.Logbook'!D525=\"\",\"\",'2.Logbook'!D525)","v":""},{"$f":"IF('2.Logbook'!E525=\"\",\"\",'2.Logbook'!E525)","v":""},{"$f":"IF('2.Logbook'!F525=\"\",\"\",'2.Logbook'!F525)","v":""},{"$f":"IF('2.Logbook'!G525=\"\",\"\",'2.Logbook'!G525)","v":""},{"$f":"IF('2.Logbook'!H525=\"\",\"\",'2.Logbook'!H525)","v":""},{"$f":"IF('2.Logbook'!I525=\"\",\"\",'2.Logbook'!I525)","v":""},{"$f":"IF('2.Logbook'!J525=\"\",\"\",'2.Logbook'!J525)","v":""},{"$f":"IF('2.Logbook'!K525=\"\",\"\",'2.Logbook'!K525)","v":""},{"$f":"IF('2.Logbook'!L525=\"\",\"\",'2.Logbook'!L525)","v":""},{"$f":"IF('2.Logbook'!M525=\"\",\"\",'2.Logbook'!M525)","v":""},{"$f":"IF('2.Logbook'!N525=\"\",\"\",'2.Logbook'!N525)","v":""},{"$f":"IF('2.Logbook'!O525=\"\",\"\",'2.Logbook'!O525)","v":""},{"$f":"IF('2.Logbook'!P525=\"\",\"\",'2.Logbook'!P525)","v":""},{"$f":"IF('2.Logbook'!Q525=\"\",\"\",'2.Logbook'!Q525)","v":""},{"$f":"IF('2.Logbook'!R525=\"\",\"\",'2.Logbook'!R525)","v":""},{"$f":"IF('2.Logbook'!S525=\"\",\"\",'2.Logbook'!S525)","v":""},{"$f":"IF('2.Logbook'!T525=\"\",\"\",'2.Logbook'!T525)","v":""},{"$f":"IF('2.Logbook'!U525=\"\",\"\",'2.Logbook'!U525)","v":""},{"$f":"IF('2.Logbook'!V525=\"\",\"\",'2.Logbook'!V525)","v":""},{"$f":"IF('2.Logbook'!W525=\"\",\"\",'2.Logbook'!W525)","v":""},{"$f":"IF('2.Logbook'!X525=\"\",\"\",'2.Logbook'!X525)","v":""},{"$f":"IF('2.Logbook'!Y525=\"\",\"\",'2.Logbook'!Y525)","v":""},{"$f":"IF('2.Logbook'!Z525=\"\",\"\",'2.Logbook'!Z525)","v":""},{"$f":"IF('2.Logbook'!AA525=\"\",\"\",'2.Logbook'!AA525)","v":""},{"$f":"IF('2.Logbook'!AB525=\"\",\"\",'2.Logbook'!AB525)","v":""},{"$f":"IF('2.Logbook'!AC525=\"\",\"\",'2.Logbook'!AC525)","v":""},{"$f":"IF('2.Logbook'!AD525=\"\",\"\",'2.Logbook'!AD525)","v":""},{"$f":"IF('2.Logbook'!AE525=\"\",\"\",'2.Logbook'!AE525)","v":""},{"$f":"IF('2.Logbook'!AF525=\"\",\"\",'2.Logbook'!AF525)","v":""},{"$f":"IF('2.Logbook'!AG525=\"\",\"\",'2.Logbook'!AG525)","v":""}]
[{"$f":"IF('2.Logbook'!A526=\"\",\"\",'2.Logbook'!A526)","v":""},{"$f":"IF('2.Logbook'!B526=\"\",\"\",'2.Logbook'!B526)","v":""},{"$f":"IF('2.Logbook'!C526=\"\",\"\",'2.Logbook'!C526)","v":""},{"$f":"IF('2.Logbook'!D526=\"\",\"\",'2.Logbook'!D526)","v":""},{"$f":"IF('2.Logbook'!E526=\"\",\"\",'2.Logbook'!E526)","v":""},{"$f":"IF('2.Logbook'!F526=\"\",\"\",'2.Logbook'!F526)","v":""},{"$f":"IF('2.Logbook'!G526=\"\",\"\",'2.Logbook'!G526)","v":""},{"$f":"IF('2.Logbook'!H526=\"\",\"\",'2.Logbook'!H526)","v":""},{"$f":"IF('2.Logbook'!I526=\"\",\"\",'2.Logbook'!I526)","v":""},{"$f":"IF('2.Logbook'!J526=\"\",\"\",'2.Logbook'!J526)","v":""},{"$f":"IF('2.Logbook'!K526=\"\",\"\",'2.Logbook'!K526)","v":""},{"$f":"IF('2.Logbook'!L526=\"\",\"\",'2.Logbook'!L526)","v":""},{"$f":"IF('2.Logbook'!M526=\"\",\"\",'2.Logbook'!M526)","v":""},{"$f":"IF('2.Logbook'!N526=\"\",\"\",'2.Logbook'!N526)","v":""},{"$f":"IF('2.Logbook'!O526=\"\",\"\",'2.Logbook'!O526)","v":""},{"$f":"IF('2.Logbook'!P526=\"\",\"\",'2.Logbook'!P526)","v":""},{"$f":"IF('2.Logbook'!Q526=\"\",\"\",'2.Logbook'!Q526)","v":""},{"$f":"IF('2.Logbook'!R526=\"\",\"\",'2.Logbook'!R526)","v":""},{"$f":"IF('2.Logbook'!S526=\"\",\"\",'2.Logbook'!S526)","v":""},{"$f":"IF('2.Logbook'!T526=\"\",\"\",'2.Logbook'!T526)","v":""},{"$f":"IF('2.Logbook'!U526=\"\",\"\",'2.Logbook'!U526)","v":""},{"$f":"IF('2.Logbook'!V526=\"\",\"\",'2.Logbook'!V526)","v":""},{"$f":"IF('2.Logbook'!W526=\"\",\"\",'2.Logbook'!W526)","v":""},{"$f":"IF('2.Logbook'!X526=\"\",\"\",'2.Logbook'!X526)","v":""},{"$f":"IF('2.Logbook'!Y526=\"\",\"\",'2.Logbook'!Y526)","v":""},{"$f":"IF('2.Logbook'!Z526=\"\",\"\",'2.Logbook'!Z526)","v":""},{"$f":"IF('2.Logbook'!AA526=\"\",\"\",'2.Logbook'!AA526)","v":""},{"$f":"IF('2.Logbook'!AB526=\"\",\"\",'2.Logbook'!AB526)","v":""},{"$f":"IF('2.Logbook'!AC526=\"\",\"\",'2.Logbook'!AC526)","v":""},{"$f":"IF('2.Logbook'!AD526=\"\",\"\",'2.Logbook'!AD526)","v":""},{"$f":"IF('2.Logbook'!AE526=\"\",\"\",'2.Logbook'!AE526)","v":""},{"$f":"IF('2.Logbook'!AF526=\"\",\"\",'2.Logbook'!AF526)","v":""},{"$f":"IF('2.Logbook'!AG526=\"\",\"\",'2.Logbook'!AG526)","v":""}]
[{"$f":"IF('2.Logbook'!A527=\"\",\"\",'2.Logbook'!A527)","v":""},{"$f":"IF('2.Logbook'!B527=\"\",\"\",'2.Logbook'!B527)","v":""},{"$f":"IF('2.Logbook'!C527=\"\",\"\",'2.Logbook'!C527)","v":""},{"$f":"IF('2.Logbook'!D527=\"\",\"\",'2.Logbook'!D527)","v":""},{"$f":"IF('2.Logbook'!E527=\"\",\"\",'2.Logbook'!E527)","v":""},{"$f":"IF('2.Logbook'!F527=\"\",\"\",'2.Logbook'!F527)","v":""},{"$f":"IF('2.Logbook'!G527=\"\",\"\",'2.Logbook'!G527)","v":""},{"$f":"IF('2.Logbook'!H527=\"\",\"\",'2.Logbook'!H527)","v":""},{"$f":"IF('2.Logbook'!I527=\"\",\"\",'2.Logbook'!I527)","v":""},{"$f":"IF('2.Logbook'!J527=\"\",\"\",'2.Logbook'!J527)","v":""},{"$f":"IF('2.Logbook'!K527=\"\",\"\",'2.Logbook'!K527)","v":""},{"$f":"IF('2.Logbook'!L527=\"\",\"\",'2.Logbook'!L527)","v":""},{"$f":"IF('2.Logbook'!M527=\"\",\"\",'2.Logbook'!M527)","v":""},{"$f":"IF('2.Logbook'!N527=\"\",\"\",'2.Logbook'!N527)","v":""},{"$f":"IF('2.Logbook'!O527=\"\",\"\",'2.Logbook'!O527)","v":""},{"$f":"IF('2.Logbook'!P527=\"\",\"\",'2.Logbook'!P527)","v":""},{"$f":"IF('2.Logbook'!Q527=\"\",\"\",'2.Logbook'!Q527)","v":""},{"$f":"IF('2.Logbook'!R527=\"\",\"\",'2.Logbook'!R527)","v":""},{"$f":"IF('2.Logbook'!S527=\"\",\"\",'2.Logbook'!S527)","v":""},{"$f":"IF('2.Logbook'!T527=\"\",\"\",'2.Logbook'!T527)","v":""},{"$f":"IF('2.Logbook'!U527=\"\",\"\",'2.Logbook'!U527)","v":""},{"$f":"IF('2.Logbook'!V527=\"\",\"\",'2.Logbook'!V527)","v":""},{"$f":"IF('2.Logbook'!W527=\"\",\"\",'2.Logbook'!W527)","v":""},{"$f":"IF('2.Logbook'!X527=\"\",\"\",'2.Logbook'!X527)","v":""},{"$f":"IF('2.Logbook'!Y527=\"\",\"\",'2.Logbook'!Y527)","v":""},{"$f":"IF('2.Logbook'!Z527=\"\",\"\",'2.Logbook'!Z527)","v":""},{"$f":"IF('2.Logbook'!AA527=\"\",\"\",'2.Logbook'!AA527)","v":""},{"$f":"IF('2.Logbook'!AB527=\"\",\"\",'2.Logbook'!AB527)","v":""},{"$f":"IF('2.Logbook'!AC527=\"\",\"\",'2.Logbook'!AC527)","v":""},{"$f":"IF('2.Logbook'!AD527=\"\",\"\",'2.Logbook'!AD527)","v":""},{"$f":"IF('2.Logbook'!AE527=\"\",\"\",'2.Logbook'!AE527)","v":""},{"$f":"IF('2.Logbook'!AF527=\"\",\"\",'2.Logbook'!AF527)","v":""},{"$f":"IF('2.Logbook'!AG527=\"\",\"\",'2.Logbook'!AG527)","v":""}]
[{"$f":"IF('2.Logbook'!A528=\"\",\"\",'2.Logbook'!A528)","v":""},{"$f":"IF('2.Logbook'!B528=\"\",\"\",'2.Logbook'!B528)","v":""},{"$f":"IF('2.Logbook'!C528=\"\",\"\",'2.Logbook'!C528)","v":""},{"$f":"IF('2.Logbook'!D528=\"\",\"\",'2.Logbook'!D528)","v":""},{"$f":"IF('2.Logbook'!E528=\"\",\"\",'2.Logbook'!E528)","v":""},{"$f":"IF('2.Logbook'!F528=\"\",\"\",'2.Logbook'!F528)","v":""},{"$f":"IF('2.Logbook'!G528=\"\",\"\",'2.Logbook'!G528)","v":""},{"$f":"IF('2.Logbook'!H528=\"\",\"\",'2.Logbook'!H528)","v":""},{"$f":"IF('2.Logbook'!I528=\"\",\"\",'2.Logbook'!I528)","v":""},{"$f":"IF('2.Logbook'!J528=\"\",\"\",'2.Logbook'!J528)","v":""},{"$f":"IF('2.Logbook'!K528=\"\",\"\",'2.Logbook'!K528)","v":""},{"$f":"IF('2.Logbook'!L528=\"\",\"\",'2.Logbook'!L528)","v":""},{"$f":"IF('2.Logbook'!M528=\"\",\"\",'2.Logbook'!M528)","v":""},{"$f":"IF('2.Logbook'!N528=\"\",\"\",'2.Logbook'!N528)","v":""},{"$f":"IF('2.Logbook'!O528=\"\",\"\",'2.Logbook'!O528)","v":""},{"$f":"IF('2.Logbook'!P528=\"\",\"\",'2.Logbook'!P528)","v":""},{"$f":"IF('2.Logbook'!Q528=\"\",\"\",'2.Logbook'!Q528)","v":""},{"$f":"IF('2.Logbook'!R528=\"\",\"\",'2.Logbook'!R528)","v":""},{"$f":"IF('2.Logbook'!S528=\"\",\"\",'2.Logbook'!S528)","v":""},{"$f":"IF('2.Logbook'!T528=\"\",\"\",'2.Logbook'!T528)","v":""},{"$f":"IF('2.Logbook'!U528=\"\",\"\",'2.Logbook'!U528)","v":""},{"$f":"IF('2.Logbook'!V528=\"\",\"\",'2.Logbook'!V528)","v":""},{"$f":"IF('2.Logbook'!W528=\"\",\"\",'2.Logbook'!W528)","v":""},{"$f":"IF('2.Logbook'!X528=\"\",\"\",'2.Logbook'!X528)","v":""},{"$f":"IF('2.Logbook'!Y528=\"\",\"\",'2.Logbook'!Y528)","v":""},{"$f":"IF('2.Logbook'!Z528=\"\",\"\",'2.Logbook'!Z528)","v":""},{"$f":"IF('2.Logbook'!AA528=\"\",\"\",'2.Logbook'!AA528)","v":""},{"$f":"IF('2.Logbook'!AB528=\"\",\"\",'2.Logbook'!AB528)","v":""},{"$f":"IF('2.Logbook'!AC528=\"\",\"\",'2.Logbook'!AC528)","v":""},{"$f":"IF('2.Logbook'!AD528=\"\",\"\",'2.Logbook'!AD528)","v":""},{"$f":"IF('2.Logbook'!AE528=\"\",\"\",'2.Logbook'!AE528)","v":""},{"$f":"IF('2.Logbook'!AF528=\"\",\"\",'2.Logbook'!AF528)","v":""},{"$f":"IF('2.Logbook'!AG528=\"\",\"\",'2.Logbook'!AG528)","v":""}]
[{"$f":"IF('2.Logbook'!A529=\"\",\"\",'2.Logbook'!A529)","v":""},{"$f":"IF('2.Logbook'!B529=\"\",\"\",'2.Logbook'!B529)","v":""},{"$f":"IF('2.Logbook'!C529=\"\",\"\",'2.Logbook'!C529)","v":""},{"$f":"IF('2.Logbook'!D529=\"\",\"\",'2.Logbook'!D529)","v":""},{"$f":"IF('2.Logbook'!E529=\"\",\"\",'2.Logbook'!E529)","v":""},{"$f":"IF('2.Logbook'!F529=\"\",\"\",'2.Logbook'!F529)","v":""},{"$f":"IF('2.Logbook'!G529=\"\",\"\",'2.Logbook'!G529)","v":""},{"$f":"IF('2.Logbook'!H529=\"\",\"\",'2.Logbook'!H529)","v":""},{"$f":"IF('2.Logbook'!I529=\"\",\"\",'2.Logbook'!I529)","v":""},{"$f":"IF('2.Logbook'!J529=\"\",\"\",'2.Logbook'!J529)","v":""},{"$f":"IF('2.Logbook'!K529=\"\",\"\",'2.Logbook'!K529)","v":""},{"$f":"IF('2.Logbook'!L529=\"\",\"\",'2.Logbook'!L529)","v":""},{"$f":"IF('2.Logbook'!M529=\"\",\"\",'2.Logbook'!M529)","v":""},{"$f":"IF('2.Logbook'!N529=\"\",\"\",'2.Logbook'!N529)","v":""},{"$f":"IF('2.Logbook'!O529=\"\",\"\",'2.Logbook'!O529)","v":""},{"$f":"IF('2.Logbook'!P529=\"\",\"\",'2.Logbook'!P529)","v":""},{"$f":"IF('2.Logbook'!Q529=\"\",\"\",'2.Logbook'!Q529)","v":""},{"$f":"IF('2.Logbook'!R529=\"\",\"\",'2.Logbook'!R529)","v":""},{"$f":"IF('2.Logbook'!S529=\"\",\"\",'2.Logbook'!S529)","v":""},{"$f":"IF('2.Logbook'!T529=\"\",\"\",'2.Logbook'!T529)","v":""},{"$f":"IF('2.Logbook'!U529=\"\",\"\",'2.Logbook'!U529)","v":""},{"$f":"IF('2.Logbook'!V529=\"\",\"\",'2.Logbook'!V529)","v":""},{"$f":"IF('2.Logbook'!W529=\"\",\"\",'2.Logbook'!W529)","v":""},{"$f":"IF('2.Logbook'!X529=\"\",\"\",'2.Logbook'!X529)","v":""},{"$f":"IF('2.Logbook'!Y529=\"\",\"\",'2.Logbook'!Y529)","v":""},{"$f":"IF('2.Logbook'!Z529=\"\",\"\",'2.Logbook'!Z529)","v":""},{"$f":"IF('2.Logbook'!AA529=\"\",\"\",'2.Logbook'!AA529)","v":""},{"$f":"IF('2.Logbook'!AB529=\"\",\"\",'2.Logbook'!AB529)","v":""},{"$f":"IF('2.Logbook'!AC529=\"\",\"\",'2.Logbook'!AC529)","v":""},{"$f":"IF('2.Logbook'!AD529=\"\",\"\",'2.Logbook'!AD529)","v":""},{"$f":"IF('2.Logbook'!AE529=\"\",\"\",'2.Logbook'!AE529)","v":""},{"$f":"IF('2.Logbook'!AF529=\"\",\"\",'2.Logbook'!AF529)","v":""},{"$f":"IF('2.Logbook'!AG529=\"\",\"\",'2.Logbook'!AG529)","v":""}]
[{"$f":"IF('2.Logbook'!A530=\"\",\"\",'2.Logbook'!A530)","v":""},{"$f":"IF('2.Logbook'!B530=\"\",\"\",'2.Logbook'!B530)","v":""},{"$f":"IF('2.Logbook'!C530=\"\",\"\",'2.Logbook'!C530)","v":""},{"$f":"IF('2.Logbook'!D530=\"\",\"\",'2.Logbook'!D530)","v":""},{"$f":"IF('2.Logbook'!E530=\"\",\"\",'2.Logbook'!E530)","v":""},{"$f":"IF('2.Logbook'!F530=\"\",\"\",'2.Logbook'!F530)","v":""},{"$f":"IF('2.Logbook'!G530=\"\",\"\",'2.Logbook'!G530)","v":""},{"$f":"IF('2.Logbook'!H530=\"\",\"\",'2.Logbook'!H530)","v":""},{"$f":"IF('2.Logbook'!I530=\"\",\"\",'2.Logbook'!I530)","v":""},{"$f":"IF('2.Logbook'!J530=\"\",\"\",'2.Logbook'!J530)","v":""},{"$f":"IF('2.Logbook'!K530=\"\",\"\",'2.Logbook'!K530)","v":""},{"$f":"IF('2.Logbook'!L530=\"\",\"\",'2.Logbook'!L530)","v":""},{"$f":"IF('2.Logbook'!M530=\"\",\"\",'2.Logbook'!M530)","v":""},{"$f":"IF('2.Logbook'!N530=\"\",\"\",'2.Logbook'!N530)","v":""},{"$f":"IF('2.Logbook'!O530=\"\",\"\",'2.Logbook'!O530)","v":""},{"$f":"IF('2.Logbook'!P530=\"\",\"\",'2.Logbook'!P530)","v":""},{"$f":"IF('2.Logbook'!Q530=\"\",\"\",'2.Logbook'!Q530)","v":""},{"$f":"IF('2.Logbook'!R530=\"\",\"\",'2.Logbook'!R530)","v":""},{"$f":"IF('2.Logbook'!S530=\"\",\"\",'2.Logbook'!S530)","v":""},{"$f":"IF('2.Logbook'!T530=\"\",\"\",'2.Logbook'!T530)","v":""},{"$f":"IF('2.Logbook'!U530=\"\",\"\",'2.Logbook'!U530)","v":""},{"$f":"IF('2.Logbook'!V530=\"\",\"\",'2.Logbook'!V530)","v":""},{"$f":"IF('2.Logbook'!W530=\"\",\"\",'2.Logbook'!W530)","v":""},{"$f":"IF('2.Logbook'!X530=\"\",\"\",'2.Logbook'!X530)","v":""},{"$f":"IF('2.Logbook'!Y530=\"\",\"\",'2.Logbook'!Y530)","v":""},{"$f":"IF('2.Logbook'!Z530=\"\",\"\",'2.Logbook'!Z530)","v":""},{"$f":"IF('2.Logbook'!AA530=\"\",\"\",'2.Logbook'!AA530)","v":""},{"$f":"IF('2.Logbook'!AB530=\"\",\"\",'2.Logbook'!AB530)","v":""},{"$f":"IF('2.Logbook'!AC530=\"\",\"\",'2.Logbook'!AC530)","v":""},{"$f":"IF('2.Logbook'!AD530=\"\",\"\",'2.Logbook'!AD530)","v":""},{"$f":"IF('2.Logbook'!AE530=\"\",\"\",'2.Logbook'!AE530)","v":""},{"$f":"IF('2.Logbook'!AF530=\"\",\"\",'2.Logbook'!AF530)","v":""},{"$f":"IF('2.Logbook'!AG530=\"\",\"\",'2.Logbook'!AG530)","v":""}]
[{"$f":"IF('2.Logbook'!A531=\"\",\"\",'2.Logbook'!A531)","v":""},{"$f":"IF('2.Logbook'!B531=\"\",\"\",'2.Logbook'!B531)","v":""},{"$f":"IF('2.Logbook'!C531=\"\",\"\",'2.Logbook'!C531)","v":""},{"$f":"IF('2.Logbook'!D531=\"\",\"\",'2.Logbook'!D531)","v":""},{"$f":"IF('2.Logbook'!E531=\"\",\"\",'2.Logbook'!E531)","v":""},{"$f":"IF('2.Logbook'!F531=\"\",\"\",'2.Logbook'!F531)","v":""},{"$f":"IF('2.Logbook'!G531=\"\",\"\",'2.Logbook'!G531)","v":""},{"$f":"IF('2.Logbook'!H531=\"\",\"\",'2.Logbook'!H531)","v":""},{"$f":"IF('2.Logbook'!I531=\"\",\"\",'2.Logbook'!I531)","v":""},{"$f":"IF('2.Logbook'!J531=\"\",\"\",'2.Logbook'!J531)","v":""},{"$f":"IF('2.Logbook'!K531=\"\",\"\",'2.Logbook'!K531)","v":""},{"$f":"IF('2.Logbook'!L531=\"\",\"\",'2.Logbook'!L531)","v":""},{"$f":"IF('2.Logbook'!M531=\"\",\"\",'2.Logbook'!M531)","v":""},{"$f":"IF('2.Logbook'!N531=\"\",\"\",'2.Logbook'!N531)","v":""},{"$f":"IF('2.Logbook'!O531=\"\",\"\",'2.Logbook'!O531)","v":""},{"$f":"IF('2.Logbook'!P531=\"\",\"\",'2.Logbook'!P531)","v":""},{"$f":"IF('2.Logbook'!Q531=\"\",\"\",'2.Logbook'!Q531)","v":""},{"$f":"IF('2.Logbook'!R531=\"\",\"\",'2.Logbook'!R531)","v":""},{"$f":"IF('2.Logbook'!S531=\"\",\"\",'2.Logbook'!S531)","v":""},{"$f":"IF('2.Logbook'!T531=\"\",\"\",'2.Logbook'!T531)","v":""},{"$f":"IF('2.Logbook'!U531=\"\",\"\",'2.Logbook'!U531)","v":""},{"$f":"IF('2.Logbook'!V531=\"\",\"\",'2.Logbook'!V531)","v":""},{"$f":"IF('2.Logbook'!W531=\"\",\"\",'2.Logbook'!W531)","v":""},{"$f":"IF('2.Logbook'!X531=\"\",\"\",'2.Logbook'!X531)","v":""},{"$f":"IF('2.Logbook'!Y531=\"\",\"\",'2.Logbook'!Y531)","v":""},{"$f":"IF('2.Logbook'!Z531=\"\",\"\",'2.Logbook'!Z531)","v":""},{"$f":"IF('2.Logbook'!AA531=\"\",\"\",'2.Logbook'!AA531)","v":""},{"$f":"IF('2.Logbook'!AB531=\"\",\"\",'2.Logbook'!AB531)","v":""},{"$f":"IF('2.Logbook'!AC531=\"\",\"\",'2.Logbook'!AC531)","v":""},{"$f":"IF('2.Logbook'!AD531=\"\",\"\",'2.Logbook'!AD531)","v":""},{"$f":"IF('2.Logbook'!AE531=\"\",\"\",'2.Logbook'!AE531)","v":""},{"$f":"IF('2.Logbook'!AF531=\"\",\"\",'2.Logbook'!AF531)","v":""},{"$f":"IF('2.Logbook'!AG531=\"\",\"\",'2.Logbook'!AG531)","v":""}]
[{"$f":"IF('2.Logbook'!A532=\"\",\"\",'2.Logbook'!A532)","v":""},{"$f":"IF('2.Logbook'!B532=\"\",\"\",'2.Logbook'!B532)","v":""},{"$f":"IF('2.Logbook'!C532=\"\",\"\",'2.Logbook'!C532)","v":""},{"$f":"IF('2.Logbook'!D532=\"\",\"\",'2.Logbook'!D532)","v":""},{"$f":"IF('2.Logbook'!E532=\"\",\"\",'2.Logbook'!E532)","v":""},{"$f":"IF('2.Logbook'!F532=\"\",\"\",'2.Logbook'!F532)","v":""},{"$f":"IF('2.Logbook'!G532=\"\",\"\",'2.Logbook'!G532)","v":""},{"$f":"IF('2.Logbook'!H532=\"\",\"\",'2.Logbook'!H532)","v":""},{"$f":"IF('2.Logbook'!I532=\"\",\"\",'2.Logbook'!I532)","v":""},{"$f":"IF('2.Logbook'!J532=\"\",\"\",'2.Logbook'!J532)","v":""},{"$f":"IF('2.Logbook'!K532=\"\",\"\",'2.Logbook'!K532)","v":""},{"$f":"IF('2.Logbook'!L532=\"\",\"\",'2.Logbook'!L532)","v":""},{"$f":"IF('2.Logbook'!M532=\"\",\"\",'2.Logbook'!M532)","v":""},{"$f":"IF('2.Logbook'!N532=\"\",\"\",'2.Logbook'!N532)","v":""},{"$f":"IF('2.Logbook'!O532=\"\",\"\",'2.Logbook'!O532)","v":""},{"$f":"IF('2.Logbook'!P532=\"\",\"\",'2.Logbook'!P532)","v":""},{"$f":"IF('2.Logbook'!Q532=\"\",\"\",'2.Logbook'!Q532)","v":""},{"$f":"IF('2.Logbook'!R532=\"\",\"\",'2.Logbook'!R532)","v":""},{"$f":"IF('2.Logbook'!S532=\"\",\"\",'2.Logbook'!S532)","v":""},{"$f":"IF('2.Logbook'!T532=\"\",\"\",'2.Logbook'!T532)","v":""},{"$f":"IF('2.Logbook'!U532=\"\",\"\",'2.Logbook'!U532)","v":""},{"$f":"IF('2.Logbook'!V532=\"\",\"\",'2.Logbook'!V532)","v":""},{"$f":"IF('2.Logbook'!W532=\"\",\"\",'2.Logbook'!W532)","v":""},{"$f":"IF('2.Logbook'!X532=\"\",\"\",'2.Logbook'!X532)","v":""},{"$f":"IF('2.Logbook'!Y532=\"\",\"\",'2.Logbook'!Y532)","v":""},{"$f":"IF('2.Logbook'!Z532=\"\",\"\",'2.Logbook'!Z532)","v":""},{"$f":"IF('2.Logbook'!AA532=\"\",\"\",'2.Logbook'!AA532)","v":""},{"$f":"IF('2.Logbook'!AB532=\"\",\"\",'2.Logbook'!AB532)","v":""},{"$f":"IF('2.Logbook'!AC532=\"\",\"\",'2.Logbook'!AC532)","v":""},{"$f":"IF('2.Logbook'!AD532=\"\",\"\",'2.Logbook'!AD532)","v":""},{"$f":"IF('2.Logbook'!AE532=\"\",\"\",'2.Logbook'!AE532)","v":""},{"$f":"IF('2.Logbook'!AF532=\"\",\"\",'2.Logbook'!AF532)","v":""},{"$f":"IF('2.Logbook'!AG532=\"\",\"\",'2.Logbook'!AG532)","v":""}]
[{"$f":"IF('2.Logbook'!A533=\"\",\"\",'2.Logbook'!A533)","v":""},{"$f":"IF('2.Logbook'!B533=\"\",\"\",'2.Logbook'!B533)","v":""},{"$f":"IF('2.Logbook'!C533=\"\",\"\",'2.Logbook'!C533)","v":""},{"$f":"IF('2.Logbook'!D533=\"\",\"\",'2.Logbook'!D533)","v":""},{"$f":"IF('2.Logbook'!E533=\"\",\"\",'2.Logbook'!E533)","v":""},{"$f":"IF('2.Logbook'!F533=\"\",\"\",'2.Logbook'!F533)","v":""},{"$f":"IF('2.Logbook'!G533=\"\",\"\",'2.Logbook'!G533)","v":""},{"$f":"IF('2.Logbook'!H533=\"\",\"\",'2.Logbook'!H533)","v":""},{"$f":"IF('2.Logbook'!I533=\"\",\"\",'2.Logbook'!I533)","v":""},{"$f":"IF('2.Logbook'!J533=\"\",\"\",'2.Logbook'!J533)","v":""},{"$f":"IF('2.Logbook'!K533=\"\",\"\",'2.Logbook'!K533)","v":""},{"$f":"IF('2.Logbook'!L533=\"\",\"\",'2.Logbook'!L533)","v":""},{"$f":"IF('2.Logbook'!M533=\"\",\"\",'2.Logbook'!M533)","v":""},{"$f":"IF('2.Logbook'!N533=\"\",\"\",'2.Logbook'!N533)","v":""},{"$f":"IF('2.Logbook'!O533=\"\",\"\",'2.Logbook'!O533)","v":""},{"$f":"IF('2.Logbook'!P533=\"\",\"\",'2.Logbook'!P533)","v":""},{"$f":"IF('2.Logbook'!Q533=\"\",\"\",'2.Logbook'!Q533)","v":""},{"$f":"IF('2.Logbook'!R533=\"\",\"\",'2.Logbook'!R533)","v":""},{"$f":"IF('2.Logbook'!S533=\"\",\"\",'2.Logbook'!S533)","v":""},{"$f":"IF('2.Logbook'!T533=\"\",\"\",'2.Logbook'!T533)","v":""},{"$f":"IF('2.Logbook'!U533=\"\",\"\",'2.Logbook'!U533)","v":""},{"$f":"IF('2.Logbook'!V533=\"\",\"\",'2.Logbook'!V533)","v":""},{"$f":"IF('2.Logbook'!W533=\"\",\"\",'2.Logbook'!W533)","v":""},{"$f":"IF('2.Logbook'!X533=\"\",\"\",'2.Logbook'!X533)","v":""},{"$f":"IF('2.Logbook'!Y533=\"\",\"\",'2.Logbook'!Y533)","v":""},{"$f":"IF('2.Logbook'!Z533=\"\",\"\",'2.Logbook'!Z533)","v":""},{"$f":"IF('2.Logbook'!AA533=\"\",\"\",'2.Logbook'!AA533)","v":""},{"$f":"IF('2.Logbook'!AB533=\"\",\"\",'2.Logbook'!AB533)","v":""},{"$f":"IF('2.Logbook'!AC533=\"\",\"\",'2.Logbook'!AC533)","v":""},{"$f":"IF('2.Logbook'!AD533=\"\",\"\",'2.Logbook'!AD533)","v":""},{"$f":"IF('2.Logbook'!AE533=\"\",\"\",'2.Logbook'!AE533)","v":""},{"$f":"IF('2.Logbook'!AF533=\"\",\"\",'2.Logbook'!AF533)","v":""},{"$f":"IF('2.Logbook'!AG533=\"\",\"\",'2.Logbook'!AG533)","v":""}]
[{"$f":"IF('2.Logbook'!A534=\"\",\"\",'2.Logbook'!A534)","v":""},{"$f":"IF('2.Logbook'!B534=\"\",\"\",'2.Logbook'!B534)","v":""},{"$f":"IF('2.Logbook'!C534=\"\",\"\",'2.Logbook'!C534)","v":""},{"$f":"IF('2.Logbook'!D534=\"\",\"\",'2.Logbook'!D534)","v":""},{"$f":"IF('2.Logbook'!E534=\"\",\"\",'2.Logbook'!E534)","v":""},{"$f":"IF('2.Logbook'!F534=\"\",\"\",'2.Logbook'!F534)","v":""},{"$f":"IF('2.Logbook'!G534=\"\",\"\",'2.Logbook'!G534)","v":""},{"$f":"IF('2.Logbook'!H534=\"\",\"\",'2.Logbook'!H534)","v":""},{"$f":"IF('2.Logbook'!I534=\"\",\"\",'2.Logbook'!I534)","v":""},{"$f":"IF('2.Logbook'!J534=\"\",\"\",'2.Logbook'!J534)","v":""},{"$f":"IF('2.Logbook'!K534=\"\",\"\",'2.Logbook'!K534)","v":""},{"$f":"IF('2.Logbook'!L534=\"\",\"\",'2.Logbook'!L534)","v":""},{"$f":"IF('2.Logbook'!M534=\"\",\"\",'2.Logbook'!M534)","v":""},{"$f":"IF('2.Logbook'!N534=\"\",\"\",'2.Logbook'!N534)","v":""},{"$f":"IF('2.Logbook'!O534=\"\",\"\",'2.Logbook'!O534)","v":""},{"$f":"IF('2.Logbook'!P534=\"\",\"\",'2.Logbook'!P534)","v":""},{"$f":"IF('2.Logbook'!Q534=\"\",\"\",'2.Logbook'!Q534)","v":""},{"$f":"IF('2.Logbook'!R534=\"\",\"\",'2.Logbook'!R534)","v":""},{"$f":"IF('2.Logbook'!S534=\"\",\"\",'2.Logbook'!S534)","v":""},{"$f":"IF('2.Logbook'!T534=\"\",\"\",'2.Logbook'!T534)","v":""},{"$f":"IF('2.Logbook'!U534=\"\",\"\",'2.Logbook'!U534)","v":""},{"$f":"IF('2.Logbook'!V534=\"\",\"\",'2.Logbook'!V534)","v":""},{"$f":"IF('2.Logbook'!W534=\"\",\"\",'2.Logbook'!W534)","v":""},{"$f":"IF('2.Logbook'!X534=\"\",\"\",'2.Logbook'!X534)","v":""},{"$f":"IF('2.Logbook'!Y534=\"\",\"\",'2.Logbook'!Y534)","v":""},{"$f":"IF('2.Logbook'!Z534=\"\",\"\",'2.Logbook'!Z534)","v":""},{"$f":"IF('2.Logbook'!AA534=\"\",\"\",'2.Logbook'!AA534)","v":""},{"$f":"IF('2.Logbook'!AB534=\"\",\"\",'2.Logbook'!AB534)","v":""},{"$f":"IF('2.Logbook'!AC534=\"\",\"\",'2.Logbook'!AC534)","v":""},{"$f":"IF('2.Logbook'!AD534=\"\",\"\",'2.Logbook'!AD534)","v":""},{"$f":"IF('2.Logbook'!AE534=\"\",\"\",'2.Logbook'!AE534)","v":""},{"$f":"IF('2.Logbook'!AF534=\"\",\"\",'2.Logbook'!AF534)","v":""},{"$f":"IF('2.Logbook'!AG534=\"\",\"\",'2.Logbook'!AG534)","v":""}]

{"sheet":"7.Export Objets flottants IRD","index":6,"n_rows":524,"n_cols":20,"rows_kept":524,"cut":false,"hidden":false,"merged":[[4,14,5,18],[4,19,5,19],[6,14,7,18],[6,19,7,19],[8,0,13,0],[8,1,13,1],[8,2,19,2],[8,3,19,3],[8,4,19,4],[8,5,19,5],[2,0,7,0],[2,1,7,1],[2,2,3,8],[2,9,3,13],[2,14,3,18],[2,19,3,19],[4,2,5,8],[4,9,5,13],[12,9,15,9],[12,10,15,10],[12,11,15,11],[16,9,19,9],[6,2,7,8],[6,9,7,13],[8,12,9,13],[8,14,11,14],[8,15,9,16],[8,17,9,18],[8,19,19,19],[10,12,11,13],[10,15,11,16],[10,17,11,18],[12,12,13,13],[12,14,15,14],[12,15,13,16],[12,17,13,18],[14,0,19,0],[14,1,19,1],[14,12,19,12],[14,13,19,13],[14,15,15,15],[14,16,15,16],[14,17,15,17],[14,18,15,18],[8,6,19,6],[8,7,19,7],[8,8,19,8],[8,9,11,9],[8,10,11,10],[8,11,11,11],[16,10,19,10],[16,11,19,11],[16,14,19,14],[16,15,17,15],[16,16,17,16],[16,18,17,18],[18,15,19,15],[18,16,19,16],[18,17,19,17],[18,18,19,18],[16,17,17,17]]}
[]
[]
["DATE","HEURE","ASSOCIATION",null,null,null,null,null,null,"OBJET FLOTTANT",null,null,null,null,"BOUEE INSTRUMENTEE",null,null,null,null,"COMMENTAIRES"]
[]
[null,null,"ASSOCIACION",null,null,null,null,null,null,"OBJETO",null,null,null,null,"BOYA",null,null,null,null,"COMMENTARIOS"]
[]
[null,null,"ASSOCIATION",null,null,null,null,null,null,"FLOATING OBJECT",null,null,null,null,"INSTRUMENTED BUOY",null,null,null,null,"COMMENTS"]
[]
["FECHA","HORA","Banc Libre / Banco Libre /\n Free School","Objet flottant / Objeto / FOB","Balise / Balisa / Beacon","Baliseur / Barco de appoyo\n Support vessel","Requin baleine / \nTiburon ballena \nWhale shark","Baleine / Ballena / Whale","Oiseaux / Aves / Birds","ACTIVITE \nSUR L'OBJET","TYPE D'OBJET","TYPE DE DCP\n DERIVANT","RISQUE DE MAILLAGE",null,"ACTIVITE \nSUR LA BOUEE","BOUEE DÉJÀ PRESENTE",null,"BOUEE DEPLOYEE",null,"Problèmes divers\nDétails sur les prises accessoires\nTaille du banc\nAutres associations\nAutres remarques"]
[]
[null,null,null,null,null,null,null,null,null,null,null,null,"RIESGO DE ENMALLAMIENTO",null,null,"BOYA ANTIGUA",null,"BOYA NUEVA"]
[]
[null,null,null,null,null,null,null,null,null,"ACTIVIDAD SOBRE EL OBJETO","TIPO DE OBJETO","TIPO DE DCP","ENTANGLING RISK",null,"ACTIVIDAD SOBRE LA BOYA","BUOY ALREADY \nON THE FOB",null,"DEPLOYED BUOY"]
[]
["DATE","TIME",null,null,null,null,null,null,null,null,null,null,"En surface \nParte surperficial\nSurface","Sous la surface\nParte sumergida\nUnderwater",null,"TYPE","NUMERO","TYPE","NUMERO"]
[]
[null,null,null,null,null,null,null,null,null,"FOB ACTIVITY","FOB TYPE","DFAD TYPE",null,null,"BUOY \nACTIVITY","TIPO","NUMERO","TIPO","NUMERO"]
[]
[null,null,null,null,null,null,null,null,null,null,null,null,null,null,null,"TYPE","ID","TYPE","ID"]
[]
[]
[]
[{"$f":"IF('2.Logbook'!$A33=\"\",\"\",'2.Logbook'!$A33)","v":"2020-05-23"},{"$f":"IF('2.Logbook'!$B33=\"\",\"\",'2.Logbook'!$B33)","v":"11:00:00"},{"$f":"IF('2.Logbook'!AH33=\"\",\"\",'2.Logbook'!AH33)","v":""},{"$f":"IF('2.Logbook'!AI33=\"\",\"\",'2.Logbook'!AI33)","v":""},{"$f":"IF('2.Logbook'!AJ33=\"\",\"\",'2.Logbook'!AJ33)","v":""},{"$f":"IF('2.Logbook'!AK33=\"\",\"\",'2.Logbook'!AK33)","v":""},{"$f":"IF('2.Logbook'!AL33=\"\",\"\",'2.Logbook'!AL33)","v":""},{"$f":"IF('2.Logbook'!AM33=\"\",\"\",'2.Logbook'!AM33)","v":""},{"$f":"IF('2.Logbook'!AN33=\"\",\"\",'2.Logbook'!AN33)","v":""},{"$f":"IF('2.Logbook'!AO33=\"\",\"\",'2.Logbook'!AO33)","v":""},{"$f":"IF('2.Logbook'!AP33=\"\",\"\",'2.Logbook'!AP33)","v":""},{"$f":"IF('2.Logbook'!AQ33=\"\",\"\",'2.Logbook'!AQ33)","v":""},{"$f":"IF('2.Logbook'!AR33=\"\",\"\",'2.Logbook'!AR33)","v":""},{"$f":"IF('2.Logbook'!AS33=\"\",\"\",'2.Logbook'!AS33)","v":""},{"$f":"IF('2.Logbook'!AT33=\"\",\"\",'2.Logbook'!AT33)","v":""},{"$f":"IF('2.Logbook'!AU33=\"\",\"\",'2.Logbook'!AU33)","v":"RAS"},{"$f":"IF('2.Logbook'!AV33=\"\",\"\",'2.Logbook'!AV33)","v":""},{"$f":"IF('2.Logbook'!AW33=\"\",\"\",'2.Logbook'!AW33)","v":""},{"$f":"IF('2.Logbook'!AX33=\"\",\"\",'2.Logbook'!AX33)","v":""},{"$f":"IF('2.Logbook'!AY33=\"\",\"\",'2.Logbook'!AY33)","v":""}]
[{"$f":"IF('2.Logbook'!$A34=\"\",\"\",'2.Logbook'!$A34)","v":"2020-05-23"},{"$f":"IF('2.Logbook'!$B34=\"\",\"\",'2.Logbook'!$B34)","v":"13:21:00"},{"$f":"IF('2.Logbook'!AH34=\"\",\"\",'2.Logbook'!AH34)","v":""},{"$f":"IF('2.Logbook'!AI34=\"\",\"\",'2.Logbook'!AI34)","v":""},{"$f":"IF('2.Logbook'!AJ34=\"\",\"\",'2.Logbook'!AJ34)","v":""},{"$f":"IF('2.Logbook'!AK34=\"\",\"\",'2.Logbook'!AK34)","v":"Visite sans pêche"},{"$f":"IF('2.Logbook'!AL34=\"\",\"\",'2.Logbook'!AL34)","v":"DCP dérivant"},{"$f":"IF('2.Logbook'!AM34=\"\",\"\",'2.Logbook'!AM34)","v":"DCP espagnol émergé métal"},{"$f":"IF('2.Logbook'!AN34=\"\",\"\",'2.Logbook'!AN34)","v":"< 6, 5 cm"},{"$f":"IF('2.Logbook'!AO34=\"\",\"\",'2.Logbook'!AO34)","v":"Non observable"},{"$f":"IF('2.Logbook'!AP34=\"\",\"\",'2.Logbook'!AP34)","v":"Transfert"},{"$f":"IF('2.Logbook'!AQ34=\"\",\"\",'2.Logbook'!AQ34)","v":"M3i"},{"$f":"IF('2.Logbook'!AR34=\"\",\"\",'2.Logbook'!AR34)","v":95142},{"$f":"IF('2.Logbook'!AS34=\"\",\"\",'2.Logbook'!AS34)","v":"M3i+"},{"$f":"IF('2.Logbook'!AT34=\"\",\"\",'2.Logbook'!AT34)","v":554126},{"$f":"IF('2.Logbook'!AU34=\"\",\"\",'2.Logbook'!AU34)","v":""},{"$f":"IF('2.Logbook'!AV34=\"\",\"\",'2.Logbook'!AV34)","v":""},{"$f":"IF('2.Logbook'!AW34=\"\",\"\",'2.Logbook'!AW34)","v":""},{"$f":"IF('2.Logbook'!AX34=\"\",\"\",'2.Logbook'!AX34)","v":""},{"$f":"IF('2.Logbook'!AY34=\"\",\"\",'2.Logbook'!AY34)","v":""}]
[{"$f":"IF('2.Logbook'!$A35=\"\",\"\",'2.Logbook'!$A35)","v":"2020-05-23"},{"$f":"IF('2.Logbook'!$B35=\"\",\"\",'2.Logbook'!$B35)","v":"16:20:00"},{"$f":"IF('2.Logbook'!AH35=\"\",\"\",'2.Logbook'!AH35)","v":""},{"$f":"IF('2.Logbook'!AI35=\"\",\"\",'2.Logbook'!AI35)","v":""},{"$f":"IF('2.Logbook'!AJ35=\"\",\"\",'2.Logbook'!AJ35)","v":""},{"$f":"IF('2.Logbook'!AK35=\"\",\"\",'2.Logbook'!AK35)","v":""},{"$f":"IF('2.Logbook'!AL35=\"\",\"\",'2.Logbook'!AL35)","v":""},{"$f":"IF('2.Logbook'!AM35=\"\",\"\",'2.Logbook'!AM35)","v":""},{"$f":"IF('2.Logbook'!AN35=\"\",\"\",'2.Logbook'!AN35)","v":""},{"$f":"IF('2.Logbook'!AO35=\"\",\"\",'2.Logbook'!AO35)","v":""},{"$f":"IF('2.Logbook'!AP35=\"\",\"\",'2.Logbook'!AP35)","v":""},{"$f":"IF('2.Logbook'!AQ35=\"\",\"\",'2.Logbook'!AQ35)","v":""},{"$f":"IF('2.Logbook'!AR35=\"\",\"\",'2.Logbook'!AR35)","v":""},{"$f":"IF('2.Logbook'!AS35=\"\",\"\",'2.Logbook'!AS35)","v":""},{"$f":"IF('2.Logbook'!AT35=\"\",\"\",'2.Logbook'!AT35)","v":""},{"$f":"IF('2.Logbook'!AU35=\"\",\"\",'2.Logbook'!AU35)","v":"RAS"},{"$f":"IF('2.Logbook'!AV35=\"\",\"\",'2.Logbook'!AV35)","v":""},{"$f":"IF('2.Logbook'!AW35=\"\",\"\",'2.Logbook'!AW35)","v":""},{"$f":"IF('2.Logbook'!AX35=\"\",\"\",'2.Logbook'!AX35)","v":""},{"$f":"IF('2.Logbook'!AY35=\"\",\"\",'2.Logbook'!AY35)","v":""}]
[{"$f":"IF('2.Logbook'!$A36=\"\",\"\",'2.Logbook'!$A36)","v":"2020-05-23"},{"$f":"IF('2.Logbook'!$B36=\"\",\"\",'2.Logbook'!$B36)","v":"20:00:00"},{"$f":"IF('2.Logbook'!AH36=\"\",\"\",'2.Logbook'!AH36)","v":""},{"$f":"IF('2.Logbook'!AI36=\"\",\"\",'2.Logbook'!AI36)","v":""},{"$f":"IF('2.Logbook'!AJ36=\"\",\"\",'2.Logbook'!AJ36)","v":""},{"$f":"IF('2.Logbook'!AK36=\"\",\"\",'2.Logbook'!AK36)","v":""},{"$f":"IF('2.Logbook'!AL36=\"\",\"\",'2.Logbook'!AL36)","v":""},{"$f":"IF('2.Logbook'!AM36=\"\",\"\",'2.Logbook'!AM36)","v":""},{"$f":"IF('2.Logbook'!AN36=\"\",\"\",'2.Logbook'!AN36)","v":""},{"$f":"IF('2.Logbook'!AO36=\"\",\"\",'2.Logbook'!AO36)","v":""},{"$f":"IF('2.Logbook'!AP36=\"\",\"\",'2.Logbook'!AP36)","v":""},{"$f":"IF('2.Logbook'!AQ36=\"\",\"\",'2.Logbook'!AQ36)","v":""},{"$f":"IF('2.Logbook'!AR36=\"\",\"\",'2.Logbook'!AR36)","v":""},{"$f":"IF('2.Logbook'!AS36=\"\",\"\",'2.Logbook'!AS36)","v":""},{"$f":"IF('2.Logbook'!AT36=\"\",\"\",'2.Logbook'!AT36)","v":""},{"$f":"IF('2.Logbook'!AU36=\"\",\"\",'2.Logbook'!AU36)","v":"RAS"},{"$f":"IF('2.Logbook'!AV36=\"\",\"\",'2.Logbook'!AV36)","v":""},{"$f":"IF('2.Logbook'!AW36=\"\",\"\",'2.Logbook'!AW36)","v":""},{"$f":"IF('2.Logbook'!AX36=\"\",\"\",'2.Logbook'!AX36)","v":""},{"$f":"IF('2.Logbook'!AY36=\"\",\"\",'2.Logbook'!AY36)","v":""}]
[{"$f":"IF('2.Logbook'!$A37=\"\",\"\",'2.Logbook'!$A37)","v":"2020-05-24"},{"$f":"IF('2.Logbook'!$B37=\"\",\"\",'2.Logbook'!$B37)","v":"10:00:00"},{"$f":"IF('2.Logbook'!AH37=\"\",\"\",'2.Logbook'!AH37)","v":""},{"$f":"IF('2.Logbook'!AI37=\"\",\"\",'2.Logbook'!AI37)","v":""},{"$f":"IF('2.Logbook'!AJ37=\"\",\"\",'2.Logbook'!AJ37)","v":""},{"$f":"IF('2.Logbook'!AK37=\"\",\"\",'2.Logbook'!AK37)","v":""},{"$f":"IF('2.Logbook'!AL37=\"\",\"\",'2.Logbook'!AL37)","v":""},{"$f":"IF('2.Logbook'!AM37=\"\",\"\",'2.Logbook'!AM37)","v":""},{"$f":"IF('2.Logbook'!AN37=\"\",\"\",'2.Logbook'!AN37)","v":""},{"$f":"IF('2.Logbook'!AO37=\"\",\"\",'2.Logbook'!AO37)","v":""},{"$f":"IF('2.Logbook'!AP37=\"\",\"\",'2.Logbook'!AP37)","v":""},{"$f":"IF('2.Logbook'!AQ37=\"\",\"\",'2.Logbook'!AQ37)","v":""},{"$f":"IF('2.Logbook'!AR37=\"\",\"\",'2.Logbook'!AR37)","v":""},{"$f":"IF('2.Logbook'!AS37=\"\",\"\",'2.Logbook'!AS37)","v":""},{"$f":"IF('2.Logbook'!AT37=\"\",\"\",'2.Logbook'!AT37)","v":""},{"$f":"IF('2.Logbook'!AU37=\"\",\"\",'2.Logbook'!AU37)","v":"RAS"},{"$f":"IF('2.Logbook'!AV37=\"\",\"\",'2.Logbook'!AV37)","v":""},{"$f":"IF('2.Logbook'!AW37=\"\",\"\",'2.Logbook'!AW37)","v":""},{"$f":"IF('2.Logbook'!AX37=\"\",\"\",'2.Logbook'!AX37)","v":""},{"$f":"IF('2.Logbook'!AY37=\"\",\"\",'2.Logbook'!AY37)","v":""}]
[{"$f":"IF('2.Logbook'!$A38=\"\",\"\",'2.Logbook'!$A38)","v":"2020-05-24"},{"$f":"IF('2.Logbook'!$B38=\"\",\"\",'2.Logbook'!$B38)","v":"18;00"},{"$f":"IF('2.Logbook'!AH38=\"\",\"\",'2.Logbook'!AH38)","v":""},{"$f":"IF('2.Logbook'!AI38=\"\",\"\",'2.Logbook'!AI38)","v":""},{"$f":"IF('2.Logbook'!AJ38=\"\",\"\",'2.Logbook'!AJ38)","v":""},{"$f":"IF('2.Logbook'!AK38=\"\",\"\",'2.Logbook'!AK38)","v":"Visite sans pêche"},{"$f":"IF('2.Logbook'!AL38=\"\",\"\",'2.Logbook'!AL38)","v":"DCP dérivant"},{"$f":"IF('2.Logbook'!AM38=\"\",\"\",'2.Logbook'!AM38)","v":"DCP espagnol émergé métal"},{"$f":"IF('2.Logbook'!AN38=\"\",\"\",'2.Logbook'!AN38)","v":"< 6, 5 cm"},{"$f":"IF('2.Logbook'!AO38=\"\",\"\",'2.Logbook'!AO38)","v":"Non observable"},{"$f":"IF('2.Logbook'!AP38=\"\",\"\",'2.Logbook'!AP38)","v":"Visite"},{"$f":"IF('2.Logbook'!AQ38=\"\",\"\",'2.Logbook'!AQ38)","v":"M3i+"},{"$f":"IF('2.Logbook'!AR38=\"\",\"\",'2.Logbook'!AR38)","v":568710},{"$f":"IF('2.Logbook'!AS38=\"\",\"\",'2.Logbook'!AS38)","v":""},{"$f":"IF('2.Logbook'!AT38=\"\",\"\",'2.Logbook'!AT38)","v":""},{"$f":"IF('2.Logbook'!AU38=\"\",\"\",'2.Logbook'!AU38)","v":""},{"$f":"IF('2.Logbook'!AV38=\"\",\"\",'2.Logbook'!AV38)","v":""},{"$f":"IF('2.Logbook'!AW38=\"\",\"\",'2.Logbook'!AW38)","v":""},{"$f":"IF('2.Logbook'!AX38=\"\",\"\",'2.Logbook'!AX38)","v":""},{"$f":"IF('2.Logbook'!AY38=\"\",\"\",'2.Logbook'!AY38)","v":""}]
[{"$f":"IF('2.Logbook'!$A39=\"\",\"\",'2.Logbook'!$A39)","v":"2020-05-25"},{"$f":"IF('2.Logbook'!$B39=\"\",\"\",'2.Logbook'!$B39)","v":"12:00:00"},{"$f":"IF('2.Logbook'!AH39=\"\",\"\",'2.Logbook'!AH39)","v":""},{"$f":"IF('2.Logbook'!AI39=\"\",\"\",'2.Logbook'!AI39)","v":""},{"$f":"IF('2.Logbook'!AJ39=\"\",\"\",'2.Logbook'!AJ39)","v":""},{"$f":"IF('2.Logbook'!AK39=\"\",\"\",'2.Logbook'!AK39)","v":""},{"$f":"IF('2.Logbook'!AL39=\"\",\"\",'2.Logbook'!AL39)","v":""},{"$f":"IF('2.Logbook'!AM39=\"\",\"\",'2.Logbook'!AM39)","v":""},{"$f":"IF('2.Logbook'!AN39=\"\",\"\",'2.Logbook'!AN39)","v":""},{"$f":"IF('2.Logbook'!AO39=\"\",\"\",'2.Logbook'!AO39)","v":""},{"$f":"IF('2.Logbook'!AP39=\"\",\"\",'2.Logbook'!AP39)","v":""},{"$f":"IF('2.Logbook'!AQ39=\"\",\"\",'2.Logbook'!AQ39)","v":""},{"$f":"IF('2.Logbook'!AR39=\"\",\"\",'2.Logbook'!AR39)","v":""},{"$f":"IF('2.Logbook'!AS39=\"\",\"\",'2.Logbook'!AS39)","v":""},{"$f":"IF('2.Logbook'!AT39=\"\",\"\",'2.Logbook'!AT39)","v":""},{"$f":"IF('2.Logbook'!AU39=\"\",\"\",'2.Logbook'!AU39)","v":"RAS"},{"$f":"IF('2.Logbook'!AV39=\"\",\"\",'2.Logbook'!AV39)","v":""},{"$f":"IF('2.Logbook'!AW39=\"\",\"\",'2.Logbook'!AW39)","v":""},{"$f":"IF('2.Logbook'!AX39=\"\",\"\",'2.Logbook'!AX39)","v":""},{"$f":"IF('2.Logbook'!AY39=\"\",\"\",'2.Logbook'!AY39)","v":""}]
[{"$f":"IF('2.Logbook'!$A40=\"\",\"\",'2.Logbook'!$A40)","v":"2020-05-26"},{"$f":"IF('2.Logbook'!$B40=\"\",\"\",'2.Logbook'!$B40)","v":"04:30:00"},{"$f":"IF('2.Logbook'!AH40=\"\",\"\",'2.Logbook'!AH40)","v":""},{"$f":"IF('2.Logbook'!AI40=\"\",\"\",'2.Logbook'!AI40)","v":""},{"$f":"IF('2.Logbook'!AJ40=\"\",\"\",'2.Logbook'!AJ40)","v":""},{"$f":"IF('2.Logbook'!AK40=\"\",\"\",'2.Logbook'!AK40)","v":""},{"$f":"IF('2.Logbook'!AL40=\"\",\"\",'2.Logbook'!AL40)","v":""},{"$f":"IF('2.Logbook'!AM40=\"\",\"\",'2.Logbook'!AM40)","v":""},{"$f":"IF('2.Logbook'!AN40=\"\",\"\",'2.Logbook'!AN40)","v":""},{"$f":"IF('2.Logbook'!AO40=\"\",\"\",'2.Logbook'!AO40)","v":""},{"$f":"IF('2.Logbook'!AP40=\"\",\"\",'2.Logbook'!AP40)","v":""},{"$f":"IF('2.Logbook'!AQ40=\"\",\"\",'2.Logbook'!AQ40)","v":""},{"$f":"IF('2.Logbook'!AR40=\"\",\"\",'2.Logbook'!AR40)","v":""},{"$f":"IF('2.Logbook'!AS40=\"\",\"\",'2.Logbook'!AS40)","v":""},{"$f":"IF('2.Logbook'!AT40=\"\",\"\",'2.Logbook'!AT40)","v":""},{"$f":"IF('2.Logbook'!AU40=\"\",\"\",'2.Logbook'!AU40)","v":"ROUTE DAKAR  evasan"},{"$f":"IF('2.Logbook'!AV40=\"\",\"\",'2.Logbook'!AV40)","v":""},{"$f":"IF('2.Logbook'!AW40=\"\",\"\",'2.Logbook'!AW40)","v":""},{"$f":"IF('2.Logbook'!AX40=\"\",\"\",'2.Logbook'!AX40)","v":""},{"$f":"IF('2.Logbook'!AY40=\"\",\"\",'2.Logbook'!AY40)","v":""}]
[{"$f":"IF('2.Logbook'!$A41=\"\",\"\",'2.Logbook'!$A41)","v":"2020-05-27"},{"$f":"IF('2.Logbook'!$B41=\"\",\"\",'2.Logbook'!$B41)","v":"11:40:00"},{"$f":"IF('2.Logbook'!AH41=\"\",\"\",'2.Logbook'!AH41)","v":""},{"$f":"IF('2.Logbook'!AI41=\"\",\"\",'2.Logbook'!AI41)","v":""},{"$f":"IF('2.Logbook'!AJ41=\"\",\"\",'2.Logbook'!AJ41)","v":""},{"$f":"IF('2.Logbook'!AK41=\"\",\"\",'2.Logbook'!AK41)","v":""},{"$f":"IF('2.Logbook'!AL41=\"\",\"\",'2.Logbook'!AL41)","v":""},{"$f":"IF('2.Logbook'!AM41=\"\",\"\",'2.Logbook'!AM41)","v":""},{"$f":"IF('2.Logbook'!AN41=\"\",\"\",'2.Logbook'!AN41)","v":""},{"$f":"IF('2.Logbook'!AO41=\"\",\"\",'2.Logbook'!AO41)","v":""},{"$f":"IF('2.Logbook'!AP41=\"\",\"\",'2.Logbook'!AP41)","v":""},{"$f":"IF('2.Logbook'!AQ41=\"\",\"\",'2.Logbook'!AQ41)","v":""},{"$f":"IF('2.Logbook'!AR41=\"\",\"\",'2.Logbook'!AR41)","v":""},{"$f":"IF('2.Logbook'!AS41=\"\",\"\",'2.Logbook'!AS41)","v":""},{"$f":"IF('2.Logbook'!AT41=\"\",\"\",'2.Logbook'!AT41)","v":""},{"$f":"IF('2.Logbook'!AU41=\"\",\"\",'2.Logbook'!AU41)","v":"rentrée à DAKAR "},{"$f":"IF('2.Logbook'!AV41=\"\",\"\",'2.Logbook'!AV41)","v":""},{"$f":"IF('2.Logbook'!AW41=\"\",\"\",'2.Logbook'!AW41)","v":""},{"$f":"IF('2.Logbook'!AX41=\"\",\"\",'2.Logbook'!AX41)","v":""},{"$f":"IF('2.Logbook'!AY41=\"\",\"\",'2.Logbook'!AY41)","v":""}]
[{"$f":"IF('2.Logbook'!$A42=\"\",\"\",'2.Logbook'!$A42)","v":"2020-05-27"},{"$f":"IF('2.Logbook'!$B42=\"\",\"\",'2.Logbook'!$B42)","v":"14:30:00"},{"$f":"IF('2.Logbook'!AH42=\"\",\"\",'2.Logbook'!AH42)","v":""},{"$f":"IF('2.Logbook'!AI42=\"\",\"\",'2.Logbook'!AI42)","v":""},{"$f":"IF('2.Logbook'!AJ42=\"\",\"\",'2.Logbook'!AJ42)","v":""},{"$f":"IF('2.Logbook'!AK42=\"\",\"\",'2.Logbook'!AK42)","v":""},{"$f":"IF('2.Logbook'!AL42=\"\",\"\",'2.Logbook'!AL42)","v":""},{"$f":"IF('2.Logbook'!AM42=\"\",\"\",'2.Logbook'!AM42)","v":""},{"$f":"IF('2.Logbook'!AN42=\"\",\"\",'2.Logbook'!AN42)","v":""},{"$f":"IF('2.Logbook'!AO42=\"\",\"\",'2.Logbook'!AO42)","v":""},{"$f":"IF('2.Logbook'!AP42=\"\",\"\",'2.Logbook'!AP42)","v":""},{"$f":"IF('2.Logbook'!AQ42=\"\",\"\",'2.Logbook'!AQ42)","v":""},{"$f":"IF('2.Logbook'!AR42=\"\",\"\",'2.Logbook'!AR42)","v":""},{"$f":"IF('2.Logbook'!AS42=\"\",\"\",'2.Logbook'!AS42)","v":""},{"$f":"IF('2.Logbook'!AT42=\"\",\"\",'2.Logbook'!AT42)","v":""},{"$f":"IF('2.Logbook'!AU42=\"\",\"\",'2.Logbook'!AU42)","v":"sortie DAKAR"},{"$f":"IF('2.Logbook'!AV42=\"\",\"\",'2.Logbook'!AV42)","v":""},{"$f":"IF('2.Logbook'!AW42=\"\",\"\",'2.Logbook'!AW42)","v":""},{"$f":"IF('2.Logbook'!AX42=\"\",\"\",'2.Logbook'!AX42)","v":""},{"$f":"IF('2.Logbook'!AY42=\"\",\"\",'2.Logbook'!AY42)","v":""}]
[{"$f":"IF('2.Logbook'!$A43=\"\",\"\",'2.Logbook'!$A43)","v":"2020-05-27"},{"$f":"IF('2.Logbook'!$B43=\"\",\"\",'2.Logbook'!$B43)","v":"19:12:00"},{"$f":"IF('2.Logbook'!AH43=\"\",\"\",'2.Logbook'!AH43)","v":""},{"$f":"IF('2.Logbook'!AI43=\"\",\"\",'2.Logbook'!AI43)","v":""},{"$f":"IF('2.Logbook'!AJ43=\"\",\"\",'2.Logbook'!AJ43)","v":""},{"$f":"IF('2.Logbook'!AK43=\"\",\"\",'2.Logbook'!AK43)","v":""},{"$f":"IF('2.Logbook'!AL43=\"\",\"\",'2.Logbook'!AL43)","v":""},{"$f":"IF('2.Logbook'!AM43=\"\",\"\",'2.Logbook'!AM43)","v":""},{"$f":"IF('2.Logbook'!AN43=\"\",\"\",'2.Logbook'!AN43)","v":""},{"$f":"IF('2.Logbook'!AO43=\"\",\"\",'2.Logbook'!AO43)","v":""},{"$f":"IF('2.Logbook'!AP43=\"\",\"\",'2.Logbook'!AP43)","v":""},{"$f":"IF('2.Logbook'!AQ43=\"\",\"\",'2.Logbook'!AQ43)","v":""},{"$f":"IF('2.Logbook'!AR43=\"\",\"\",'2.Logbook'!AR43)","v":""},{"$f":"IF('2.Logbook'!AS43=\"\",\"\",'2.Logbook'!AS43)","v":""},{"$f":"IF('2.Logbook'!AT43=\"\",\"\",'2.Logbook'!AT43)","v":""},{"$f":"IF('2.Logbook'!AU43=\"\",\"\",'2.Logbook'!AU43)","v":"RAS"},{"$f":"IF('2.Logbook'!AV43=\"\",\"\",'2.Logbook'!AV43)","v":""},{"$f":"IF('2.Logbook'!AW43=\"\",\"\",'2.Logbook'!AW43)","v":""},{"$f":"IF('2.Logbook'!AX43=\"\",\"\",'2.Logbook'!AX43)","v":""},{"$f":"IF('2.Logbook'!AY43=\"\",\"\",'2.Logbook'!AY43)","v":""}]
[{"$f":"IF('2.Logbook'!$A44=\"\",\"\",'2.Logbook'!$A44)","v":"2020-05-27"},{"$f":"IF('2.Logbook'!$B44=\"\",\"\",'2.Logbook'!$B44)","v":"21:00:00"},{"$f":"IF('2.Logbook'!AH44=\"\",\"\",'2.Logbook'!AH44)","v":""},{"$f":"IF('2.Logbook'!AI44=\"\",\"\",'2.Logbook'!AI44)","v":""},{"$f":"IF('2.Logbook'!AJ44=\"\",\"\",'2.Logbook'!AJ44)","v":""},{"$f":"IF('2.Logbook'!AK44=\"\",\"\",'2.Logbook'!AK44)","v":""},{"$f":"IF('2.Logbook'!AL44=\"\",\"\",'2.Logbook'!AL44)","v":""},{"$f":"IF('2.Logbook'!AM44=\"\",\"\",'2.Logbook'!AM44)","v":""},{"$f":"IF('2.Logbook'!AN44=\"\",\"\",'2.Logbook'!AN44)","v":""},{"$f":"IF('2.Logbook'!AO44=\"\",\"\",'2.Logbook'!AO44)","v":""},{"$f":"IF('2.Logbook'!AP44=\"\",\"\",'2.Logbook'!AP44)","v":""},{"$f":"IF('2.Logbook'!AQ44=\"\",\"\",'2.Logbook'!AQ44)","v":""},{"$f":"IF('2.Logbook'!AR44=\"\",\"\",'2.Logbook'!AR44)","v":""},{"$f":"IF('2.Logbook'!AS44=\"\",\"\",'2.Logbook'!AS44)","v":""},{"$f":"IF('2.Logbook'!AT44=\"\",\"\",'2.Logbook'!AT44)","v":""},{"$f":"IF('2.Logbook'!AU44=\"\",\"\",'2.Logbook'!AU44)","v":"RAS"},{"$f":"IF('2.Logbook'!AV44=\"\",\"\",'2.Logbook'!AV44)","v":""},{"$f":"IF('2.Logbook'!AW44=\"\",\"\",'2.Logbook'!AW44)","v":""},{"$f":"IF('2.Logbook'!AX44=\"\",\"\",'2.Logbook'!AX44)","v":""},{"$f":"IF('2.Logbook'!AY44=\"\",\"\",'2.Logbook'!AY44)","v":""}]
[{"$f":"IF('2.Logbook'!$A45=\"\",\"\",'2.Logbook'!$A45)","v":"2020-05-28"},{"$f":"IF('2.Logbook'!$B45=\"\",\"\",'2.Logbook'!$B45)","v":"00:05:00"},{"$f":"IF('2.Logbook'!AH45=\"\",\"\",'2.Logbook'!AH45)","v":""},{"$f":"IF('2.Logbook'!AI45=\"\",\"\",'2.Logbook'!AI45)","v":""},{"$f":"IF('2.Logbook'!AJ45=\"\",\"\",'2.Logbook'!AJ45)","v":""},{"$f":"IF('2.Logbook'!AK45=\"\",\"\",'2.Logbook'!AK45)","v":""},{"$f":"IF('2.Logbook'!AL45=\"\",\"\",'2.Logbook'!AL45)","v":""},{"$f":"IF('2.Logbook'!AM45=\"\",\"\",'2.Logbook'!AM45)","v":""},{"$f":"IF('2.Logbook'!AN45=\"\",\"\",'2.Logbook'!AN45)","v":""},{"$f":"IF('2.Logbook'!AO45=\"\",\"\",'2.Logbook'!AO45)","v":""},{"$f":"IF('2.Logbook'!AP45=\"\",\"\",'2.Logbook'!AP45)","v":""},{"$f":"IF('2.Logbook'!AQ45=\"\",\"\",'2.Logbook'!AQ45)","v":""},{"$f":"IF('2.Logbook'!AR45=\"\",\"\",'2.Logbook'!AR45)","v":""},{"$f":"IF('2.Logbook'!AS45=\"\",\"\",'2.Logbook'!AS45)","v":""},{"$f":"IF('2.Logbook'!AT45=\"\",\"\",'2.Logbook'!AT45)","v":""},{"$f":"IF('2.Logbook'!AU45=\"\",\"\",'2.Logbook'!AU45)","v":"RAS"},{"$f":"IF('2.Logbook'!AV45=\"\",\"\",'2.Logbook'!AV45)","v":""},{"$f":"IF('2.Logbook'!AW45=\"\",\"\",'2.Logbook'!AW45)","v":""},{"$f":"IF('2.Logbook'!AX45=\"\",\"\",'2.Logbook'!AX45)","v":""},{"$f":"IF('2.Logbook'!AY45=\"\",\"\",'2.Logbook'!AY45)","v":""}]
[{"$f":"IF('2.Logbook'!$A46=\"\",\"\",'2.Logbook'!$A46)","v":"2020-05-28"},{"$f":"IF('2.Logbook'!$B46=\"\",\"\",'2.Logbook'!$B46)","v":"02:45:00"},{"$f":"IF('2.Logbook'!AH46=\"\",\"\",'2.Logbook'!AH46)","v":""},{"$f":"IF('2.Logbook'!AI46=\"\",\"\",'2.Logbook'!AI46)","v":""},{"$f":"IF('2.Logbook'!AJ46=\"\",\"\",'2.Logbook'!AJ46)","v":""},{"$f":"IF('2.Logbook'!AK46=\"\",\"\",'2.Logbook'!AK46)","v":""},{"$f":"IF('2.Logbook'!AL46=\"\",\"\",'2.Logbook'!AL46)","v":""},{"$f":"IF('2.Logbook'!AM46=\"\",\"\",'2.Logbook'!AM46)","v":""},{"$f":"IF('2.Logbook'!AN46=\"\",\"\",'2.Logbook'!AN46)","v":""},{"$f":"IF('2.Logbook'!AO46=\"\",\"\",'2.Logbook'!AO46)","v":""},{"$f":"IF('2.Logbook'!AP46=\"\",\"\",'2.Logbook'!AP46)","v":""},{"$f":"IF('2.Logbook'!AQ46=\"\",\"\",'2.Logbook'!AQ46)","v":""},{"$f":"IF('2.Logbook'!AR46=\"\",\"\",'2.Logbook'!AR46)","v":""},{"$f":"IF('2.Logbook'!AS46=\"\",\"\",'2.Logbook'!AS46)","v":""},{"$f":"IF('2.Logbook'!AT46=\"\",\"\",'2.Logbook'!AT46)","v":""},{"$f":"IF('2.Logbook'!AU46=\"\",\"\",'2.Logbook'!AU46)","v":"RAS"},{"$f":"IF('2.Logbook'!AV46=\"\",\"\",'2.Logbook'!AV46)","v":""},{"$f":"IF('2.Logbook'!AW46=\"\",\"\",'2.Logbook'!AW46)","v":""},{"$f":"IF('2.Logbook'!AX46=\"\",\"\",'2.Logbook'!AX46)","v":""},{"$f":"IF('2.Logbook'!AY46=\"\",\"\",'2.Logbook'!AY46)","v":""}]
[{"$f":"IF('2.Logbook'!$A47=\"\",\"\",'2.Logbook'!$A47)","v":"2020-05-28"},{"$f":"IF('2.Logbook'!$B47=\"\",\"\",'2.Logbook'!$B47)","v":"12:30:00"},{"$f":"IF('2.Logbook'!AH47=\"\",\"\",'2.Logbook'!AH47)","v":0},{"$f":"IF('2.Logbook'!AI47=\"\",\"\",'2.Logbook'!AI47)","v":0},{"$f":"IF('2.Logbook'!AJ47=\"\",\"\",'2.Logbook'!AJ47)","v":0},{"$f":"IF('2.Logbook'!AK47=\"\",\"\",'2.Logbook'!AK47)","v":"Visite avec pêche"},{"$f":"IF('2.Logbook'!AL47=\"\",\"\",'2.Logbook'!AL47)","v":"DCP dérivant"},{"$f":"IF('2.Logbook'!AM47=\"\",\"\",'2.Logbook'!AM47)","v":"DCP espagnol émergé métal"},{"$f":"IF('2.Logbook'!AN47=\"\",\"\",'2.Logbook'!AN47)","v":"Non observable"},{"$f":"IF('2.Logbook'!AO47=\"\",\"\",'2.Logbook'!AO47)","v":"< 6, 5 cm"},{"$f":"IF('2.Logbook'!AP47=\"\",\"\",'2.Logbook'!AP47)","v":""},{"$f":"IF('2.Logbook'!AQ47=\"\",\"\",'2.Logbook'!AQ47)","v":"Pas de bouée"},{"$f":"IF('2.Logbook'!AR47=\"\",\"\",'2.Logbook'!AR47)","v":""},{"$f":"IF('2.Logbook'!AS47=\"\",\"\",'2.Logbook'!AS47)","v":"Pas de bouée"},{"$f":"IF('2.Logbook'!AT47=\"\",\"\",'2.Logbook'!AT47)","v":""},{"$f":"IF('2.Logbook'!AU47=\"\",\"\",'2.Logbook'!AU47)","v":""},{"$f":"IF('2.Logbook'!AV47=\"\",\"\",'2.Logbook'!AV47)","v":""},{"$f":"IF('2.Logbook'!AW47=\"\",\"\",'2.Logbook'!AW47)","v":""},{"$f":"IF('2.Logbook'!AX47=\"\",\"\",'2.Logbook'!AX47)","v":""},{"$f":"IF('2.Logbook'!AY47=\"\",\"\",'2.Logbook'!AY47)","v":""}]
[{"$f":"IF('2.Logbook'!$A48=\"\",\"\",'2.Logbook'!$A48)","v":"2020-05-29"},{"$f":"IF('2.Logbook'!$B48=\"\",\"\",'2.Logbook'!$B48)","v":"12:00:00"},{"$f":"IF('2.Logbook'!AH48=\"\",\"\",'2.Logbook'!AH48)","v":""},{"$f":"IF('2.Logbook'!AI48=\"\",\"\",'2.Logbook'!AI48)","v":""},{"$f":"IF('2.Logbook'!AJ48=\"\",\"\",'2.Logbook'!AJ48)","v":""},{"$f":"IF('2.Logbook'!AK48=\"\",\"\",'2.Logbook'!AK48)","v":""},{"$f":"IF('2.Logbook'!AL48=\"\",\"\",'2.Logbook'!AL48)","v":""},{"$f":"IF('2.Logbook'!AM48=\"\",\"\",'2.Logbook'!AM48)","v":""},{"$f":"IF('2.Logbook'!AN48=\"\",\"\",'2.Logbook'!AN48)","v":""},{"$f":"IF('2.Logbook'!AO48=\"\",\"\",'2.Logbook'!AO48)","v":""},{"$f":"IF('2.Logbook'!AP48=\"\",\"\",'2.Logbook'!AP48)","v":""},{"$f":"IF('2.Logbook'!AQ48=\"\",\"\",'2.Logbook'!AQ48)","v":""},{"$f":"IF('2.Logbook'!AR48=\"\",\"\",'2.Logbook'!AR48)","v":""},{"$f":"IF('2.Logbook'!AS48=\"\",\"\",'2.Logbook'!AS48)","v":""},{"$f":"IF('2.Logbook'!AT48=\"\",\"\",'2.Logbook'!AT48)","v":""},{"$f":"IF('2.Logbook'!AU48=\"\",\"\",'2.Logbook'!AU48)","v":"RAS"},{"$f":"IF('2.Logbook'!AV48=\"\",\"\",'2.Logbook'!AV48)","v":""},{"$f":"IF('2.Logbook'!AW48=\"\",\"\",'2.Logbook'!AW48)","v":""},{"$f":"IF('2.Logbook'!AX48=\"\",\"\",'2.Logbook'!AX48)","v":""},{"$f":"IF('2.Logbook'!AY48=\"\",\"\",'2.Logbook'!AY48)","v":""}]
[{"$f":"IF('2.Logbook'!$A49=\"\",\"\",'2.Logbook'!$A49)","v":"2020-05-29"},{"$f":"IF('2.Logbook'!$B49=\"\",\"\",'2.Logbook'!$B49)","v":"19:11:00"},{"$f":"IF('2.Logbook'!AH49=\"\",\"\",'2.Logbook'!AH49)","v":""},{"$f":"IF('2.Logbook'!AI49=\"\",\"\",'2.Logbook'!AI49)","v":""},{"$f":"IF('2.Logbook'!AJ49=\"\",\"\",'2.Logbook'!AJ49)","v":""},{"$f":"IF('2.Logbook'!AK49=\"\",\"\",'2.Logbook'!AK49)","v":"Visite sans pêche"},{"$f":"IF('2.Logbook'!AL49=\"\",\"\",'2.Logbook'!AL49)","v":"DCP dérivant"},{"$f":"IF('2.Logbook'!AM49=\"\",\"\",'2.Logbook'!AM49)","v":"DCP espagnol émergé métal"},{"$f":"IF('2.Logbook'!AN49=\"\",\"\",'2.Logbook'!AN49)","v":"< 6, 5 cm"},{"$f":"IF('2.Logbook'!AO49=\"\",\"\",'2.Logbook'!AO49)","v":"Non observable"},{"$f":"IF('2.Logbook'!AP49=\"\",\"\",'2.Logbook'!AP49)","v":"Transfert"},{"$f":"IF('2.Logbook'!AQ49=\"\",\"\",'2.Logbook'!AQ49)","v":"Pas de bouée"},{"$f":"IF('2.Logbook'!AR49=\"\",\"\",'2.Logbook'!AR49)","v":""},{"$f":"IF('2.Logbook'!AS49=\"\",\"\",'2.Logbook'!AS49)","v":"M3i+"},{"$f":"IF('2.Logbook'!AT49=\"\",\"\",'2.Logbook'!AT49)","v":568708},{"$f":"IF('2.Logbook'!AU49=\"\",\"\",'2.Logbook'!AU49)","v":""},{"$f":"IF('2.Logbook'!AV49=\"\",\"\",'2.Logbook'!AV49)","v":""},{"$f":"IF('2.Logbook'!AW49=\"\",\"\",'2.Logbook'!AW49)","v":""},{"$f":"IF('2.Logbook'!AX49=\"\",\"\",'2.Logbook'!AX49)","v":""},{"$f":"IF('2.Logbook'!AY49=\"\",\"\",'2.Logbook'!AY49)","v":""}]
[{"$f":"IF('2.Logbook'!$A50=\"\",\"\",'2.Logbook'!$A50)","v":"2020-05-30"},{"$f":"IF('2.Logbook'!$B50=\"\",\"\",'2.Logbook'!$B50)","v":"06:30:00"},{"$f":"IF('2.Logbook'!AH50=\"\",\"\",'2.Logbook'!AH50)","v":""},{"$f":"IF('2.Logbook'!AI50=\"\",\"\",'2.Logbook'!AI50)","v":""},{"$f":"IF('2.Logbook'!AJ50=\"\",\"\",'2.Logbook'!AJ50)","v":""},{"$f":"IF('2.Logbook'!AK50=\"\",\"\",'2.Logbook'!AK50)","v":"Fin d'utilisation"},{"$f":"IF('2.Logbook'!AL50=\"\",\"\",'2.Logbook'!AL50)","v":"DCP dérivant"},{"$f":"IF('2.Logbook'!AM50=\"\",\"\",'2.Logbook'!AM50)","v":"DCP espagnol émergé métal"},{"$f":"IF('2.Logbook'!AN50=\"\",\"\",'2.Logbook'!AN50)","v":"< 6, 5 cm"},{"$f":"IF('2.Logbook'!AO50=\"\",\"\",'2.Logbook'!AO50)","v":"Non observable"},{"$f":"IF('2.Logbook'!AP50=\"\",\"\",'2.Logbook'!AP50)","v":"Fin d'utilisation"},{"$f":"IF('2.Logbook'!AQ50=\"\",\"\",'2.Logbook'!AQ50)","v":"M3i+"},{"$f":"IF('2.Logbook'!AR50=\"\",\"\",'2.Logbook'!AR50)","v":568708},{"$f":"IF('2.Logbook'!AS50=\"\",\"\",'2.Logbook'!AS50)","v":"Pas de bouée"},{"$f":"IF('2.Logbook'!AT50=\"\",\"\",'2.Logbook'!AT50)","v":""},{"$f":"IF('2.Logbook'!AU50=\"\",\"\",'2.Logbook'!AU50)","v":""},{"$f":"IF('2.Logbook'!AV50=\"\",\"\",'2.Logbook'!AV50)","v":""},{"$f":"IF('2.Logbook'!AW50=\"\",\"\",'2.Logbook'!AW50)","v":""},{"$f":"IF('2.Logbook'!AX50=\"\",\"\",'2.Logbook'!AX50)","v":""},{"$f":"IF('2.Logbook'!AY50=\"\",\"\",'2.Logbook'!AY50)","v":""}]
[{"$f":"IF('2.Logbook'!$A51=\"\",\"\",'2.Logbook'!$A51)","v":"2020-05-31"},{"$f":"IF('2.Logbook'!$B51=\"\",\"\",'2.Logbook'!$B51)","v":"11:25:00"},{"$f":"IF('2.Logbook'!AH51=\"\",\"\",'2.Logbook'!AH51)","v":""},{"$f":"IF('2.Logbook'!AI51=\"\",\"\",'2.Logbook'!AI51)","v":""},{"$f":"IF('2.Logbook'!AJ51=\"\",\"\",'2.Logbook'!AJ51)","v":""},{"$f":"IF('2.Logbook'!AK51=\"\",\"\",'2.Logbook'!AK51)","v":"Visite sans pêche"},{"$f":"IF('2.Logbook'!AL51=\"\",\"\",'2.Logbook'!AL51)","v":"DCP dérivant"},{"$f":"IF('2.Logbook'!AM51=\"\",\"\",'2.Logbook'!AM51)","v":"DCP espagnol émergé métal"},{"$f":"IF('2.Logbook'!AN51=\"\",\"\",'2.Logbook'!AN51)","v":"< 6, 5 cm"},{"$f":"IF('2.Logbook'!AO51=\"\",\"\",'2.Logbook'!AO51)","v":"Non observable"},{"$f":"IF('2.Logbook'!AP51=\"\",\"\",'2.Logbook'!AP51)","v":"Transfert"},{"$f":"IF('2.Logbook'!AQ51=\"\",\"\",'2.Logbook'!AQ51)","v":"Pas de bouée"},{"$f":"IF('2.Logbook'!AR51=\"\",\"\",'2.Logbook'!AR51)","v":""},{"$f":"IF('2.Logbook'!AS51=\"\",\"\",'2.Logbook'!AS51)","v":"M3i+"},{"$f":"IF('2.Logbook'!AT51=\"\",\"\",'2.Logbook'!AT51)","v":554375},{"$f":"IF('2.Logbook'!AU51=\"\",\"\",'2.Logbook'!AU51)","v":""},{"$f":"IF('2.Logbook'!AV51=\"\",\"\",'2.Logbook'!AV51)","v":""},{"$f":"IF('2.Logbook'!AW51=\"\",\"\",'2.Logbook'!AW51)","v":""},{"$f":"IF('2.Logbook'!AX51=\"\",\"\",'2.Logbook'!AX51)","v":""},{"$f":"IF('2.Logbook'!AY51=\"\",\"\",'2.Logbook'!AY51)","v":""}]
[{"$f":"IF('2.Logbook'!$A52=\"\",\"\",'2.Logbook'!$A52)","v":"2020-06-01"},{"$f":"IF('2.Logbook'!$B52=\"\",\"\",'2.Logbook'!$B52)","v":"16:00:00"},{"$f":"IF('2.Logbook'!AH52=\"\",\"\",'2.Logbook'!AH52)","v":""},{"$f":"IF('2.Logbook'!AI52=\"\",\"\",'2.Logbook'!AI52)","v":""},{"$f":"IF('2.Logbook'!AJ52=\"\",\"\",'2.Logbook'!AJ52)","v":""},{"$f":"IF('2.Logbook'!AK52=\"\",\"\",'2.Logbook'!AK52)","v":"Visite sans pêche"},{"$f":"IF('2.Logbook'!AL52=\"\",\"\",'2.Logbook'!AL52)","v":"DCP dérivant"},{"$f":"IF('2.Logbook'!AM52=\"\",\"\",'2.Logbook'!AM52)","v":"DCP espagnol émergé métal"},{"$f":"IF('2.Logbook'!AN52=\"\",\"\",'2.Logbook'!AN52)","v":"Pas de mailles"},{"$f":"IF('2.Logbook'!AO52=\"\",\"\",'2.Logbook'!AO52)","v":"Non observable"},{"$f":"IF('2.Logbook'!AP52=\"\",\"\",'2.Logbook'!AP52)","v":"Visite"},{"$f":"IF('2.Logbook'!AQ52=\"\",\"\",'2.Logbook'!AQ52)","v":"M3i+"},{"$f":"IF('2.Logbook'!AR52=\"\",\"\",'2.Logbook'!AR52)","v":585248},{"$f":"IF('2.Logbook'!AS52=\"\",\"\",'2.Logbook'!AS52)","v":""},{"$f":"IF('2.Logbook'!AT52=\"\",\"\",'2.Logbook'!AT52)","v":""},{"$f":"IF('2.Logbook'!AU52=\"\",\"\",'2.Logbook'!AU52)","v":""},{"$f":"IF('2.Logbook'!AV52=\"\",\"\",'2.Logbook'!AV52)","v":""},{"$f":"IF('2.Logbook'!AW52=\"\",\"\",'2.Logbook'!AW52)","v":""},{"$f":"IF('2.Logbook'!AX52=\"\",\"\",'2.Logbook'!AX52)","v":""},{"$f":"IF('2.Logbook'!AY52=\"\",\"\",'2.Logbook'!AY52)","v":""}]
[{"$f":"IF('2.Logbook'!$A53=\"\",\"\",'2.Logbook'!$A53)","v":"2020-06-02"},{"$f":"IF('2.Logbook'!$B53=\"\",\"\",'2.Logbook'!$B53)","v":"00:20:00"},{"$f":"IF('2.Logbook'!AH53=\"\",\"\",'2.Logbook'!AH53)","v":""},{"$f":"IF('2.Logbook'!AI53=\"\",\"\",'2.Logbook'!AI53)","v":""},{"$f":"IF('2.Logbook'!AJ53=\"\",\"\",'2.Logbook'!AJ53)","v":""},{"$f":"IF('2.Logbook'!AK53=\"\",\"\",'2.Logbook'!AK53)","v":""},{"$f":"IF('2.Logbook'!AL53=\"\",\"\",'2.Logbook'!AL53)","v":""},{"$f":"IF('2.Logbook'!AM53=\"\",\"\",'2.Logbook'!AM53)","v":""},{"$f":"IF('2.Logbook'!AN53=\"\",\"\",'2.Logbook'!AN53)","v":""},{"$f":"IF('2.Logbook'!AO53=\"\",\"\",'2.Logbook'!AO53)","v":""},{"$f":"IF('2.Logbook'!AP53=\"\",\"\",'2.Logbook'!AP53)","v":""},{"$f":"IF('2.Logbook'!AQ53=\"\",\"\",'2.Logbook'!AQ53)","v":""},{"$f":"IF('2.Logbook'!AR53=\"\",\"\",'2.Logbook'!AR53)","v":""},{"$f":"IF('2.Logbook'!AS53=\"\",\"\",'2.Logbook'!AS53)","v":""},{"$f":"IF('2.Logbook'!AT53=\"\",\"\",'2.Logbook'!AT53)","v":""},{"$f":"IF('2.Logbook'!AU53=\"\",\"\",'2.Logbook'!AU53)","v":"RAS"},{"$f":"IF('2.Logbook'!AV53=\"\",\"\",'2.Logbook'!AV53)","v":""},{"$f":"IF('2.Logbook'!AW53=\"\",\"\",'2.Logbook'!AW53)","v":""},{"$f":"IF('2.Logbook'!AX53=\"\",\"\",'2.Logbook'!AX53)","v":""},{"$f":"IF('2.Logbook'!AY53=\"\",\"\",'2.Logbook'!AY53)","v":""}]
[{"$f":"IF('2.Logbook'!$A54=\"\",\"\",'2.Logbook'!$A54)","v":"2020-06-02"},{"$f":"IF('2.Logbook'!$B54=\"\",\"\",'2.Logbook'!$B54)","v":"11:25:00"},{"$f":"IF('2.Logbook'!AH54=\"\",\"\",'2.Logbook'!AH54)","v":""},{"$f":"IF('2.Logbook'!AI54=\"\",\"\",'2.Logbook'!AI54)","v":""},{"$f":"IF('2.Logbook'!AJ54=\"\",\"\",'2.Logbook'!AJ54)","v":""},{"$f":"IF('2.Logbook'!AK54=\"\",\"\",'2.Logbook'!AK54)","v":""},{"$f":"IF('2.Logbook'!AL54=\"\",\"\",'2.Logbook'!AL54)","v":"DCP dérivant"},{"$f":"IF('2.Logbook'!AM54=\"\",\"\",'2.Logbook'!AM54)","v":"DCP français émergé bambou"},{"$f":"IF('2.Logbook'!AN54=\"\",\"\",'2.Logbook'!AN54)","v":"Pas de mailles"},{"$f":"IF('2.Logbook'!AO54=\"\",\"\",'2.Logbook'!AO54)","v":""},{"$f":"IF('2.Logbook'!AP54=\"\",\"\",'2.Logbook'!AP54)","v":"Transfert"},{"$f":"IF('2.Logbook'!AQ54=\"\",\"\",'2.Logbook'!AQ54)","v":"Pas de bouée"},{"$f":"IF('2.Logbook'!AR54=\"\",\"\",'2.Logbook'!AR54)","v":""},{"$f":"IF('2.Logbook'!AS54=\"\",\"\",'2.Logbook'!AS54)","v":"M3i+"},{"$f":"IF('2.Logbook'!AT54=\"\",\"\",'2.Logbook'!AT54)","v":568708},{"$f":"IF('2.Logbook'!AU54=\"\",\"\",'2.Logbook'!AU54)","v":""},{"$f":"IF('2.Logbook'!AV54=\"\",\"\",'2.Logbook'!AV54)","v":""},{"$f":"IF('2.Logbook'!AW54=\"\",\"\",'2.Logbook'!AW54)","v":""},{"$f":"IF('2.Logbook'!AX54=\"\",\"\",'2.Logbook'!AX54)","v":""},{"$f":"IF('2.Logbook'!AY54=\"\",\"\",'2.Logbook'!AY54)","v":""}]
[{"$f":"IF('2.Logbook'!$A55=\"\",\"\",'2.Logbook'!$A55)","v":"2020-06-03"},{"$f":"IF('2.Logbook'!$B55=\"\",\"\",'2.Logbook'!$B55)","v":"16:53:00"},{"$f":"IF('2.Logbook'!AH55=\"\",\"\",'2.Logbook'!AH55)","v":""},{"$f":"IF('2.Logbook'!AI55=\"\",\"\",'2.Logbook'!AI55)","v":""},{"$f":"IF('2.Logbook'!AJ55=\"\",\"\",'2.Logbook'!AJ55)","v":""},{"$f":"IF('2.Logbook'!AK55=\"\",\"\",'2.Logbook'!AK55)","v":""},{"$f":"IF('2.Logbook'!AL55=\"\",\"\",'2.Logbook'!AL55)","v":""},{"$f":"IF('2.Logbook'!AM55=\"\",\"\",'2.Logbook'!AM55)","v":""},{"$f":"IF('2.Logbook'!AN55=\"\",\"\",'2.Logbook'!AN55)","v":""},{"$f":"IF('2.Logbook'!AO55=\"\",\"\",'2.Logbook'!AO55)","v":""},{"$f":"IF('2.Logbook'!AP55=\"\",\"\",'2.Logbook'!AP55)","v":""},{"$f":"IF('2.Logbook'!AQ55=\"\",\"\",'2.Logbook'!AQ55)","v":""},{"$f":"IF('2.Logbook'!AR55=\"\",\"\",'2.Logbook'!AR55)","v":""},{"$f":"IF('2.Logbook'!AS55=\"\",\"\",'2.Logbook'!AS55)","v":""},{"$f":"IF('2.Logbook'!AT55=\"\",\"\",'2.Logbook'!AT55)","v":""},{"$f":"IF('2.Logbook'!AU55=\"\",\"\",'2.Logbook'!AU55)","v":"MATTE YF"},{"$f":"IF('2.Logbook'!AV55=\"\",\"\",'2.Logbook'!AV55)","v":""},{"$f":"IF('2.Logbook'!AW55=\"\",\"\",'2.Logbook'!AW55)","v":""},{"$f":"IF('2.Logbook'!AX55=\"\",\"\",'2.Logbook'!AX55)","v":""},{"$f":"IF('2.Logbook'!AY55=\"\",\"\",'2.Logbook'!AY55)","v":""}]
[{"$f":"IF('2.Logbook'!$A56=\"\",\"\",'2.Logbook'!$A56)","v":"2020-06-04"},{"$f":"IF('2.Logbook'!$B56=\"\",\"\",'2.Logbook'!$B56)","v":"09:39:00"},{"$f":"IF('2.Logbook'!AH56=\"\",\"\",'2.Logbook'!AH56)","v":""},{"$f":"IF('2.Logbook'!AI56=\"\",\"\",'2.Logbook'!AI56)","v":""},{"$f":"IF('2.Logbook'!AJ56=\"\",\"\",'2.Logbook'!AJ56)","v":""},{"$f":"IF('2.Logbook'!AK56=\"\",\"\",'2.Logbook'!AK56)","v":""},{"$f":"IF('2.Logbook'!AL56=\"\",\"\",'2.Logbook'!AL56)","v":""},{"$f":"IF('2.Logbook'!AM56=\"\",\"\",'2.Logbook'!AM56)","v":""},{"$f":"IF('2.Logbook'!AN56=\"\",\"\",'2.Logbook'!AN56)","v":""},{"$f":"IF('2.Logbook'!AO56=\"\",\"\",'2.Logbook'!AO56)","v":""},{"$f":"IF('2.Logbook'!AP56=\"\",\"\",'2.Logbook'!AP56)","v":""},{"$f":"IF('2.Logbook'!AQ56=\"\",\"\",'2.Logbook'!AQ56)","v":""},{"$f":"IF('2.Logbook'!AR56=\"\",\"\",'2.Logbook'!AR56)","v":""},{"$f":"IF('2.Logbook'!AS56=\"\",\"\",'2.Logbook'!AS56)","v":""},{"$f":"IF('2.Logbook'!AT56=\"\",\"\",'2.Logbook'!AT56)","v":""},{"$f":"IF('2.Logbook'!AU56=\"\",\"\",'2.Logbook'!AU56)","v":"MATTE YF"},{"$f":"IF('2.Logbook'!AV56=\"\",\"\",'2.Logbook'!AV56)","v":""},{"$f":"IF('2.Logbook'!AW56=\"\",\"\",'2.Logbook'!AW56)","v":""},{"$f":"IF('2.Logbook'!AX56=\"\",\"\",'2.Logbook'!AX56)","v":""},{"$f":"IF('2.Logbook'!AY56=\"\",\"\",'2.Logbook'!AY56)","v":""}]
[{"$f":"IF('2.Logbook'!$A57=\"\",\"\",'2.Logbook'!$A57)","v":"2020-06-05"},{"$f":"IF('2.Logbook'!$B57=\"\",\"\",'2.Logbook'!$B57)","v":"07:25:00"},{"$f":"IF('2.Logbook'!AH57=\"\",\"\",'2.Logbook'!AH57)","v":""},{"$f":"IF('2.Logbook'!AI57=\"\",\"\",'2.Logbook'!AI57)","v":""},{"$f":"IF('2.Logbook'!AJ57=\"\",\"\",'2.Logbook'!AJ57)","v":""},{"$f":"IF('2.Logbook'!AK57=\"\",\"\",'2.Logbook'!AK57)","v":""},{"$f":"IF('2.Logbook'!AL57=\"\",\"\",'2.Logbook'!AL57)","v":""},{"$f":"IF('2.Logbook'!AM57=\"\",\"\",'2.Logbook'!AM57)","v":""},{"$f":"IF('2.Logbook'!AN57=\"\",\"\",'2.Logbook'!AN57)","v":""},{"$f":"IF('2.Logbook'!AO57=\"\",\"\",'2.Logbook'!AO57)","v":""},{"$f":"IF('2.Logbook'!AP57=\"\",\"\",'2.Logbook'!AP57)","v":""},{"$f":"IF('2.Logbook'!AQ57=\"\",\"\",'2.Logbook'!AQ57)","v":""},{"$f":"IF('2.Logbook'!AR57=\"\",\"\",'2.Logbook'!AR57)","v":""},{"$f":"IF('2.Logbook'!AS57=\"\",\"\",'2.Logbook'!AS57)","v":""},{"$f":"IF('2.Logbook'!AT57=\"\",\"\",'2.Logbook'!AT57)","v":""},{"$f":"IF('2.Logbook'!AU57=\"\",\"\",'2.Logbook'!AU57)","v":"MATTE YF"},{"$f":"IF('2.Logbook'!AV57=\"\",\"\",'2.Logbook'!AV57)","v":""},{"$f":"IF('2.Logbook'!AW57=\"\",\"\",'2.Logbook'!AW57)","v":""},{"$f":"IF('2.Logbook'!AX57=\"\",\"\",'2.Logbook'!AX57)","v":""},{"$f":"IF('2.Logbook'!AY57=\"\",\"\",'2.Logbook'!AY57)","v":""}]
[{"$f":"IF('2.Logbook'!$A58=\"\",\"\",'2.Logbook'!$A58)","v":"2020-06-06"},{"$f":"IF('2.Logbook'!$B58=\"\",\"\",'2.Logbook'!$B58)","v":"12:00:00"},{"$f":"IF('2.Logbook'!AH58=\"\",\"\",'2.Logbook'!AH58)","v":""},{"$f":"IF('2.Logbook'!AI58=\"\",\"\",'2.Logbook'!AI58)","v":""},{"$f":"IF('2.Logbook'!AJ58=\"\",\"\",'2.Logbook'!AJ58)","v":""},{"$f":"IF('2.Logbook'!AK58=\"\",\"\",'2.Logbook'!AK58)","v":""},{"$f":"IF('2.Logbook'!AL58=\"\",\"\",'2.Logbook'!AL58)","v":""},{"$f":"IF('2.Logbook'!AM58=\"\",\"\",'2.Logbook'!AM58)","v":""},{"$f":"IF('2.Logbook'!AN58=\"\",\"\",'2.Logbook'!AN58)","v":""},{"$f":"IF('2.Logbook'!AO58=\"\",\"\",'2.Logbook'!AO58)","v":""},{"$f":"IF('2.Logbook'!AP58=\"\",\"\",'2.Logbook'!AP58)","v":""},{"$f":"IF('2.Logbook'!AQ58=\"\",\"\",'2.Logbook'!AQ58)","v":""},{"$f":"IF('2.Logbook'!AR58=\"\",\"\",'2.Logbook'!AR58)","v":""},{"$f":"IF('2.Logbook'!AS58=\"\",\"\",'2.Logbook'!AS58)","v":""},{"$f":"IF('2.Logbook'!AT58=\"\",\"\",'2.Logbook'!AT58)","v":""},{"$f":"IF('2.Logbook'!AU58=\"\",\"\",'2.Logbook'!AU58)","v":"RAS"},{"$f":"IF('2.Logbook'!AV58=\"\",\"\",'2.Logbook'!AV58)","v":""},{"$f":"IF('2.Logbook'!AW58=\"\",\"\",'2.Logbook'!AW58)","v":""},{"$f":"IF('2.Logbook'!AX58=\"\",\"\",'2.Logbook'!AX58)","v":""},{"$f":"IF('2.Logbook'!AY58=\"\",\"\",'2.Logbook'!AY58)","v":""}]
[{"$f":"IF('2.Logbook'!$A59=\"\",\"\",'2.Logbook'!$A59)","v":"2020-06-07"},{"$f":"IF('2.Logbook'!$B59=\"\",\"\",'2.Logbook'!$B59)","v":"08:20:00"},{"$f":"IF('2.Logbook'!AH59=\"\",\"\",'2.Logbook'!AH59)","v":""},{"$f":"IF('2.Logbook'!AI59=\"\",\"\",'2.Logbook'!AI59)","v":""},{"$f":"IF('2.Logbook'!AJ59=\"\",\"\",'2.Logbook'!AJ59)","v":""},{"$f":"IF('2.Logbook'!AK59=\"\",\"\",'2.Logbook'!AK59)","v":""},{"$f":"IF('2.Logbook'!AL59=\"\",\"\",'2.Logbook'!AL59)","v":"DCP dérivant"},{"$f":"IF('2.Logbook'!AM59=\"\",\"\",'2.Logbook'!AM59)","v":"DCP coréen"},{"$f":"IF('2.Logbook'!AN59=\"\",\"\",'2.Logbook'!AN59)","v":"Pas de mailles"},{"$f":"IF('2.Logbook'!AO59=\"\",\"\",'2.Logbook'!AO59)","v":""},{"$f":"IF('2.Logbook'!AP59=\"\",\"\",'2.Logbook'!AP59)","v":"Transfert"},{"$f":"IF('2.Logbook'!AQ59=\"\",\"\",'2.Logbook'!AQ59)","v":"ISD+"},{"$f":"IF('2.Logbook'!AR59=\"\",\"\",'2.Logbook'!AR59)","v":1216},{"$f":"IF('2.Logbook'!AS59=\"\",\"\",'2.Logbook'!AS59)","v":"M3i+"},{"$f":"IF('2.Logbook'!AT59=\"\",\"\",'2.Logbook'!AT59)","v":585771},{"$f":"IF('2.Logbook'!AU59=\"\",\"\",'2.Logbook'!AU59)","v":""},{"$f":"IF('2.Logbook'!AV59=\"\",\"\",'2.Logbook'!AV59)","v":""},{"$f":"IF('2.Logbook'!AW59=\"\",\"\",'2.Logbook'!AW59)","v":""},{"$f":"IF('2.Logbook'!AX59=\"\",\"\",'2.Logbook'!AX59)","v":""},{"$f":"IF('2.Logbook'!AY59=\"\",\"\",'2.Logbook'!AY59)","v":""}]
[{"$f":"IF('2.Logbook'!$A60=\"\",\"\",'2.Logbook'!$A60)","v":"2020-06-08"},{"$f":"IF('2.Logbook'!$B60=\"\",\"\",'2.Logbook'!$B60)","v":"07:30:00"},{"$f":"IF('2.Logbook'!AH60=\"\",\"\",'2.Logbook'!AH60)","v":""},{"$f":"IF('2.Logbook'!AI60=\"\",\"\",'2.Logbook'!AI60)","v":""},{"$f":"IF('2.Logbook'!AJ60=\"\",\"\",'2.Logbook'!AJ60)","v":""},{"$f":"IF('2.Logbook'!AK60=\"\",\"\",'2.Logbook'!AK60)","v":""},{"$f":"IF('2.Logbook'!AL60=\"\",\"\",'2.Logbook'!AL60)","v":"DCP dérivant"},{"$f":"IF('2.Logbook'!AM60=\"\",\"\",'2.Logbook'!AM60)","v":"DCP espagnol émergé métal"},{"$f":"IF('2.Logbook'!AN60=\"\",\"\",'2.Logbook'!AN60)","v":"< 6, 5 cm"},{"$f":"IF('2.Logbook'!AO60=\"\",\"\",'2.Logbook'!AO60)","v":""},{"$f":"IF('2.Logbook'!AP60=\"\",\"\",'2.Logbook'!AP60)","v":"Transfert"},{"$f":"IF('2.Logbook'!AQ60=\"\",\"\",'2.Logbook'!AQ60)","v":"SLX+"},{"$f":"IF('2.Logbook'!AR60=\"\",\"\",'2.Logbook'!AR60)","v":308224},{"$f":"IF('2.Logbook'!AS60=\"\",\"\",'2.Logbook'!AS60)","v":"M3i+"},{"$f":"IF('2.Logbook'!AT60=\"\",\"\",'2.Logbook'!AT60)","v":585489},{"$f":"IF('2.Logbook'!AU60=\"\",\"\",'2.Logbook'!AU60)","v":""},{"$f":"IF('2.Logbook'!AV60=\"\",\"\",'2.Logbook'!AV60)","v":""},{"$f":"IF('2.Logbook'!AW60=\"\",\"\",'2.Logbook'!AW60)","v":""},{"$f":"IF('2.Logbook'!AX60=\"\",\"\",'2.Logbook'!AX60)","v":""},{"$f":"IF('2.Logbook'!AY60=\"\",\"\",'2.Logbook'!AY60)","v":""}]
[{"$f":"IF('2.Logbook'!$A61=\"\",\"\",'2.Logbook'!$A61)","v":"2020-06-09"},{"$f":"IF('2.Logbook'!$B61=\"\",\"\",'2.Logbook'!$B61)","v":"12:00:00"},{"$f":"IF('2.Logbook'!AH61=\"\",\"\",'2.Logbook'!AH61)","v":""},{"$f":"IF('2.Logbook'!AI61=\"\",\"\",'2.Logbook'!AI61)","v":""},{"$f":"IF('2.Logbook'!AJ61=\"\",\"\",'2.Logbook'!AJ61)","v":""},{"$f":"IF('2.Logbook'!AK61=\"\",\"\",'2.Logbook'!AK61)","v":""},{"$f":"IF('2.Logbook'!AL61=\"\",\"\",'2.Logbook'!AL61)","v":""},{"$f":"IF('2.Logbook'!AM61=\"\",\"\",'2.Logbook'!AM61)","v":""},{"$f":"IF('2.Logbook'!AN61=\"\",\"\",'2.Logbook'!AN61)","v":""},{"$f":"IF('2.Logbook'!AO61=\"\",\"\",'2.Logbook'!AO61)","v":""},{"$f":"IF('2.Logbook'!AP61=\"\",\"\",'2.Logbook'!AP61)","v":""},{"$f":"IF('2.Logbook'!AQ61=\"\",\"\",'2.Logbook'!AQ61)","v":""},{"$f":"IF('2.Logbook'!AR61=\"\",\"\",'2.Logbook'!AR61)","v":""},{"$f":"IF('2.Logbook'!AS61=\"\",\"\",'2.Logbook'!AS61)","v":""},{"$f":"IF('2.Logbook'!AT61=\"\",\"\",'2.Logbook'!AT61)","v":""},{"$f":"IF('2.Logbook'!AU61=\"\",\"\",'2.Logbook'!AU61)","v":"RAS"},{"$f":"IF('2.Logbook'!AV61=\"\",\"\",'2.Logbook'!AV61)","v":""},{"$f":"IF('2.Logbook'!AW61=\"\",\"\",'2.Logbook'!AW61)","v":""},{"$f":"IF('2.Logbook'!AX61=\"\",\"\",'2.Logbook'!AX61)","v":""},{"$f":"IF('2.Logbook'!AY61=\"\",\"\",'2.Logbook'!AY61)","v":""}]
[{"$f":"IF('2.Logbook'!$A62=\"\",\"\",'2.Logbook'!$A62)","v":"2020-06-10"},{"$f":"IF('2.Logbook'!$B62=\"\",\"\",'2.Logbook'!$B62)","v":"12:00:00"},{"$f":"IF('2.Logbook'!AH62=\"\",\"\",'2.Logbook'!AH62)","v":""},{"$f":"IF('2.Logbook'!AI62=\"\",\"\",'2.Logbook'!AI62)","v":""},{"$f":"IF('2.Logbook'!AJ62=\"\",\"\",'2.Logbook'!AJ62)","v":""},{"$f":"IF('2.Logbook'!AK62=\"\",\"\",'2.Logbook'!AK62)","v":""},{"$f":"IF('2.Logbook'!AL62=\"\",\"\",'2.Logbook'!AL62)","v":""},{"$f":"IF('2.Logbook'!AM62=\"\",\"\",'2.Logbook'!AM62)","v":""},{"$f":"IF('2.Logbook'!AN62=\"\",\"\",'2.Logbook'!AN62)","v":""},{"$f":"IF('2.Logbook'!AO62=\"\",\"\",'2.Logbook'!AO62)","v":""},{"$f":"IF('2.Logbook'!AP62=\"\",\"\",'2.Logbook'!AP62)","v":""},{"$f":"IF('2.Logbook'!AQ62=\"\",\"\",'2.Logbook'!AQ62)","v":""},{"$f":"IF('2.Logbook'!AR62=\"\",\"\",'2.Logbook'!AR62)","v":""},{"$f":"IF('2.Logbook'!AS62=\"\",\"\",'2.Logbook'!AS62)","v":""},{"$f":"IF('2.Logbook'!AT62=\"\",\"\",'2.Logbook'!AT62)","v":""},{"$f":"IF('2.Logbook'!AU62=\"\",\"\",'2.Logbook'!AU62)","v":"RAS"},{"$f":"IF('2.Logbook'!AV62=\"\",\"\",'2.Logbook'!AV62)","v":""},{"$f":"IF('2.Logbook'!AW62=\"\",\"\",'2.Logbook'!AW62)","v":""},{"$f":"IF('2.Logbook'!AX62=\"\",\"\",'2.Logbook'!AX62)","v":""},{"$f":"IF('2.Logbook'!AY62=\"\",\"\",'2.Logbook'!AY62)","v":""}]
[{"$f":"IF('2.Logbook'!$A63=\"\",\"\",'2.Logbook'!$A63)","v":"2020-06-11"},{"$f":"IF('2.Logbook'!$B63=\"\",\"\",'2.Logbook'!$B63)","v":"03:30:00"},{"$f":"IF('2.Logbook'!AH63=\"\",\"\",'2.Logbook'!AH63)","v":""},{"$f":"IF('2.Logbook'!AI63=\"\",\"\",'2.Logbook'!AI63)","v":""},{"$f":"IF('2.Logbook'!AJ63=\"\",\"\",'2.Logbook'!AJ63)","v":""},{"$f":"IF('2.Logbook'!AK63=\"\",\"\",'2.Logbook'!AK63)","v":""},{"$f":"IF('2.Logbook'!AL63=\"\",\"\",'2.Logbook'!AL63)","v":""},{"$f":"IF('2.Logbook'!AM63=\"\",\"\",'2.Logbook'!AM63)","v":""},{"$f":"IF('2.Logbook'!AN63=\"\",\"\",'2.Logbook'!AN63)","v":""},{"$f":"IF('2.Logbook'!AO63=\"\",\"\",'2.Logbook'!AO63)","v":""},{"$f":"IF('2.Logbook'!AP63=\"\",\"\",'2.Logbook'!AP63)","v":""},{"$f":"IF('2.Logbook'!AQ63=\"\",\"\",'2.Logbook'!AQ63)","v":""},{"$f":"IF('2.Logbook'!AR63=\"\",\"\",'2.Logbook'!AR63)","v":""},{"$f":"IF('2.Logbook'!AS63=\"\",\"\",'2.Logbook'!AS63)","v":""},{"$f":"IF('2.Logbook'!AT63=\"\",\"\",'2.Logbook'!AT63)","v":""},{"$f":"IF('2.Logbook'!AU63=\"\",\"\",'2.Logbook'!AU63)","v":"RAS"},{"$f":"IF('2.Logbook'!AV63=\"\",\"\",'2.Logbook'!AV63)","v":""},{"$f":"IF('2.Logbook'!AW63=\"\",\"\",'2.Logbook'!AW63)","v":""},{"$f":"IF('2.Logbook'!AX63=\"\",\"\",'2.Logbook'!AX63)","v":""},{"$f":"IF('2.Logbook'!AY63=\"\",\"\",'2.Logbook'!AY63)","v":""}]
[{"$f":"IF('2.Logbook'!$A64=\"\",\"\",'2.Logbook'!$A64)","v":"2020-06-11"},{"$f":"IF('2.Logbook'!$B64=\"\",\"\",'2.Logbook'!$B64)","v":"07:48:00"},{"$f":"IF('2.Logbook'!AH64=\"\",\"\",'2.Logbook'!AH64)","v":""},{"$f":"IF('2.Logbook'!AI64=\"\",\"\",'2.Logbook'!AI64)","v":""},{"$f":"IF('2.Logbook'!AJ64=\"\",\"\",'2.Logbook'!AJ64)","v":""},{"$f":"IF('2.Logbook'!AK64=\"\",\"\",'2.Logbook'!AK64)","v":""},{"$f":"IF('2.Logbook'!AL64=\"\",\"\",'2.Logbook'!AL64)","v":""},{"$f":"IF('2.Logbook'!AM64=\"\",\"\",'2.Logbook'!AM64)","v":""},{"$f":"IF('2.Logbook'!AN64=\"\",\"\",'2.Logbook'!AN64)","v":""},{"$f":"IF('2.Logbook'!AO64=\"\",\"\",'2.Logbook'!AO64)","v":""},{"$f":"IF('2.Logbook'!AP64=\"\",\"\",'2.Logbook'!AP64)","v":""},{"$f":"IF('2.Logbook'!AQ64=\"\",\"\",'2.Logbook'!AQ64)","v":""},{"$f":"IF('2.Logbook'!AR64=\"\",\"\",'2.Logbook'!AR64)","v":""},{"$f":"IF('2.Logbook'!AS64=\"\",\"\",'2.Logbook'!AS64)","v":""},{"$f":"IF('2.Logbook'!AT64=\"\",\"\",'2.Logbook'!AT64)","v":""},{"$f":"IF('2.Logbook'!AU64=\"\",\"\",'2.Logbook'!AU64)","v":"rentrée  ABIDJAN"},{"$f":"IF('2.Logbook'!AV64=\"\",\"\",'2.Logbook'!AV64)","v":""},{"$f":"IF('2.Logbook'!AW64=\"\",\"\",'2.Logbook'!AW64)","v":""},{"$f":"IF('2.Logbook'!AX64=\"\",\"\",'2.Logbook'!AX64)","v":""},{"$f":"IF('2.Logbook'!AY64=\"\",\"\",'2.Logbook'!AY64)","v":""}]
[{"$f":"IF('2.Logbook'!$A65=\"\",\"\",'2.Logbook'!$A65)","v":"2020-06-11"},{"$f":"IF('2.Logbook'!$B65=\"\",\"\",'2.Logbook'!$B65)","v":"14:43:00"},{"$f":"IF('2.Logbook'!AH65=\"\",\"\",'2.Logbook'!AH65)","v":""},{"$f":"IF('2.Logbook'!AI65=\"\",\"\",'2.Logbook'!AI65)","v":""},{"$f":"IF('2.Logbook'!AJ65=\"\",\"\",'2.Logbook'!AJ65)","v":""},{"$f":"IF('2.Logbook'!AK65=\"\",\"\",'2.Logbook'!AK65)","v":""},{"$f":"IF('2.Logbook'!AL65=\"\",\"\",'2.Logbook'!AL65)","v":""},{"$f":"IF('2.Logbook'!AM65=\"\",\"\",'2.Logbook'!AM65)","v":""},{"$f":"IF('2.Logbook'!AN65=\"\",\"\",'2.Logbook'!AN65)","v":""},{"$f":"IF('2.Logbook'!AO65=\"\",\"\",'2.Logbook'!AO65)","v":""},{"$f":"IF('2.Logbook'!AP65=\"\",\"\",'2.Logbook'!AP65)","v":""},{"$f":"IF('2.Logbook'!AQ65=\"\",\"\",'2.Logbook'!AQ65)","v":""},{"$f":"IF('2.Logbook'!AR65=\"\",\"\",'2.Logbook'!AR65)","v":""},{"$f":"IF('2.Logbook'!AS65=\"\",\"\",'2.Logbook'!AS65)","v":""},{"$f":"IF('2.Logbook'!AT65=\"\",\"\",'2.Logbook'!AT65)","v":""},{"$f":"IF('2.Logbook'!AU65=\"\",\"\",'2.Logbook'!AU65)","v":"sortie ABIDJAN"},{"$f":"IF('2.Logbook'!AV65=\"\",\"\",'2.Logbook'!AV65)","v":""},{"$f":"IF('2.Logbook'!AW65=\"\",\"\",'2.Logbook'!AW65)","v":""},{"$f":"IF('2.Logbook'!AX65=\"\",\"\",'2.Logbook'!AX65)","v":""},{"$f":"IF('2.Logbook'!AY65=\"\",\"\",'2.Logbook'!AY65)","v":""}]
[{"$f":"IF('2.Logbook'!$A66=\"\",\"\",'2.Logbook'!$A66)","v":"2020-06-12"},{"$f":"IF('2.Logbook'!$B66=\"\",\"\",'2.Logbook'!$B66)","v":"12;00"},{"$f":"IF('2.Logbook'!AH66=\"\",\"\",'2.Logbook'!AH66)","v":""},{"$f":"IF('2.Logbook'!AI66=\"\",\"\",'2.Logbook'!AI66)","v":""},{"$f":"IF('2.Logbook'!AJ66=\"\",\"\",'2.Logbook'!AJ66)","v":""},{"$f":"IF('2.Logbook'!AK66=\"\",\"\",'2.Logbook'!AK66)","v":""},{"$f":"IF('2.Logbook'!AL66=\"\",\"\",'2.Logbook'!AL66)","v":""},{"$f":"IF('2.Logbook'!AM66=\"\",\"\",'2.Logbook'!AM66)","v":""},{"$f":"IF('2.Logbook'!AN66=\"\",\"\",'2.Logbook'!AN66)","v":""},{"$f":"IF('2.Logbook'!AO66=\"\",\"\",'2.Logbook'!AO66)","v":""},{"$f":"IF('2.Logbook'!AP66=\"\",\"\",'2.Logbook'!AP66)","v":""},{"$f":"IF('2.Logbook'!AQ66=\"\",\"\",'2.Logbook'!AQ66)","v":""},{"$f":"IF('2.Logbook'!AR66=\"\",\"\",'2.Logbook'!AR66)","v":""},{"$f":"IF('2.Logbook'!AS66=\"\",\"\",'2.Logbook'!AS66)","v":""},{"$f":"IF('2.Logbook'!AT66=\"\",\"\",'2.Logbook'!AT66)","v":""},{"$f":"IF('2.Logbook'!AU66=\"\",\"\",'2.Logbook'!AU66)","v":"RAS"},{"$f":"IF('2.Logbook'!AV66=\"\",\"\",'2.Logbook'!AV66)","v":""},{"$f":"IF('2.Logbook'!AW66=\"\",\"\",'2.Logbook'!AW66)","v":""},{"$f":"IF('2.Logbook'!AX66=\"\",\"\",'2.Logbook'!AX66)","v":""},{"$f":"IF('2.Logbook'!AY66=\"\",\"\",'2.Logbook'!AY66)","v":""}]
[{"$f":"IF('2.Logbook'!$A67=\"\",\"\",'2.Logbook'!$A67)","v":"1°3/06/2020"},{"$f":"IF('2.Logbook'!$B67=\"\",\"\",'2.Logbook'!$B67)","v":"07:20:00"},{"$f":"IF('2.Logbook'!AH67=\"\",\"\",'2.Logbook'!AH67)","v":""},{"$f":"IF('2.Logbook'!AI67=\"\",\"\",'2.Logbook'!AI67)","v":""},{"$f":"IF('2.Logbook'!AJ67=\"\",\"\",'2.Logbook'!AJ67)","v":""},{"$f":"IF('2.Logbook'!AK67=\"\",\"\",'2.Logbook'!AK67)","v":"Visite avec pêche"},{"$f":"IF('2.Logbook'!AL67=\"\",\"\",'2.Logbook'!AL67)","v":"DCP dérivant"},{"$f":"IF('2.Logbook'!AM67=\"\",\"\",'2.Logbook'!AM67)","v":"DCP coréen"},{"$f":"IF('2.Logbook'!AN67=\"\",\"\",'2.Logbook'!AN67)","v":"Pas de mailles"},{"$f":"IF('2.Logbook'!AO67=\"\",\"\",'2.Logbook'!AO67)","v":""},{"$f":"IF('2.Logbook'!AP67=\"\",\"\",'2.Logbook'!AP67)","v":"Transfert"},{"$f":"IF('2.Logbook'!AQ67=\"\",\"\",'2.Logbook'!AQ67)","v":"ISD+"},{"$f":"IF('2.Logbook'!AR67=\"\",\"\",'2.Logbook'!AR67)","v":5487},{"$f":"IF('2.Logbook'!AS67=\"\",\"\",'2.Logbook'!AS67)","v":"M3i+"},{"$f":"IF('2.Logbook'!AT67=\"\",\"\",'2.Logbook'!AT67)","v":585731},{"$f":"IF('2.Logbook'!AU67=\"\",\"\",'2.Logbook'!AU67)","v":""},{"$f":"IF('2.Logbook'!AV67=\"\",\"\",'2.Logbook'!AV67)","v":""},{"$f":"IF('2.Logbook'!AW67=\"\",\"\",'2.Logbook'!AW67)","v":""},{"$f":"IF('2.Logbook'!AX67=\"\",\"\",'2.Logbook'!AX67)","v":""},{"$f":"IF('2.Logbook'!AY67=\"\",\"\",'2.Logbook'!AY67)","v":""}]
[{"$f":"IF('2.Logbook'!$A68=\"\",\"\",'2.Logbook'!$A68)","v":"2020-06-14"},{"$f":"IF('2.Logbook'!$B68=\"\",\"\",'2.Logbook'!$B68)","v":"10:35:00"},{"$f":"IF('2.Logbook'!AH68=\"\",\"\",'2.Logbook'!AH68)","v":""},{"$f":"IF('2.Logbook'!AI68=\"\",\"\",'2.Logbook'!AI68)","v":""},{"$f":"IF('2.Logbook'!AJ68=\"\",\"\",'2.Logbook'!AJ68)","v":""},{"$f":"IF('2.Logbook'!AK68=\"\",\"\",'2.Logbook'!AK68)","v":"Visite avec pêche"},{"$f":"IF('2.Logbook'!AL68=\"\",\"\",'2.Logbook'!AL68)","v":"DCP dérivant"},{"$f":"IF('2.Logbook'!AM68=\"\",\"\",'2.Logbook'!AM68)","v":"DCP espagnol émergé métal"},{"$f":"IF('2.Logbook'!AN68=\"\",\"\",'2.Logbook'!AN68)","v":"< 6, 5 cm"},{"$f":"IF('2.Logbook'!AO68=\"\",\"\",'2.Logbook'!AO68)","v":""},{"$f":"IF('2.Logbook'!AP68=\"\",\"\",'2.Logbook'!AP68)","v":"Transfert"},{"$f":"IF('2.Logbook'!AQ68=\"\",\"\",'2.Logbook'!AQ68)","v":"Pas de bouée"},{"$f":"IF('2.Logbook'!AR68=\"\",\"\",'2.Logbook'!AR68)","v":""},{"$f":"IF('2.Logbook'!AS68=\"\",\"\",'2.Logbook'!AS68)","v":"M3i+"},{"$f":"IF('2.Logbook'!AT68=\"\",\"\",'2.Logbook'!AT68)","v":585835},{"$f":"IF('2.Logbook'!AU68=\"\",\"\",'2.Logbook'!AU68)","v":""},{"$f":"IF('2.Logbook'!AV68=\"\",\"\",'2.Logbook'!AV68)","v":""},{"$f":"IF('2.Logbook'!AW68=\"\",\"\",'2.Logbook'!AW68)","v":""},{"$f":"IF('2.Logbook'!AX68=\"\",\"\",'2.Logbook'!AX68)","v":""},{"$f":"IF('2.Logbook'!AY68=\"\",\"\",'2.Logbook'!AY68)","v":""}]
[{"$f":"IF('2.Logbook'!$A69=\"\",\"\",'2.Logbook'!$A69)","v":""},{"$f":"IF('2.Logbook'!$B69=\"\",\"\",'2.Logbook'!$B69)","v":""},{"$f":"IF('2.Logbook'!AH69=\"\",\"\",'2.Logbook'!AH69)","v":""},{"$f":"IF('2.Logbook'!AI69=\"\",\"\",'2.Logbook'!AI69)","v":""},{"$f":"IF('2.Logbook'!AJ69=\"\",\"\",'2.Logbook'!AJ69)","v":""},{"$f":"IF('2.Logbook'!AK69=\"\",\"\",'2.Logbook'!AK69)","v":""},{"$f":"IF('2.Logbook'!AL69=\"\",\"\",'2.Logbook'!AL69)","v":""},{"$f":"IF('2.Logbook'!AM69=\"\",\"\",'2.Logbook'!AM69)","v":""},{"$f":"IF('2.Logbook'!AN69=\"\",\"\",'2.Logbook'!AN69)","v":""},{"$f":"IF('2.Logbook'!AO69=\"\",\"\",'2.Logbook'!AO69)","v":""},{"$f":"IF('2.Logbook'!AP69=\"\",\"\",'2.Logbook'!AP69)","v":""},{"$f":"IF('2.Logbook'!AQ69=\"\",\"\",'2.Logbook'!AQ69)","v":""},{"$f":"IF('2.Logbook'!AR69=\"\",\"\",'2.Logbook'!AR69)","v":""},{"$f":"IF('2.Logbook'!AS69=\"\",\"\",'2.Logbook'!AS69)","v":""},{"$f":"IF('2.Logbook'!AT69=\"\",\"\",'2.Logbook'!AT69)","v":""},{"$f":"IF('2.Logbook'!AU69=\"\",\"\",'2.Logbook'!AU69)","v":""},{"$f":"IF('2.Logbook'!AV69=\"\",\"\",'2.Logbook'!AV69)","v":""},{"$f":"IF('2.Logbook'!AW69=\"\",\"\",'2.Logbook'!AW69)","v":""},{"$f":"IF('2.Logbook'!AX69=\"\",\"\",'2.Logbook'!AX69)","v":""},{"$f":"IF('2.Logbook'!AY69=\"\",\"\",'2.Logbook'!AY69)","v":""}]
[{"$f":"IF('2.Logbook'!$A70=\"\",\"\",'2.Logbook'!$A70)","v":"2020-06-14"},{"$f":"IF('2.Logbook'!$B70=\"\",\"\",'2.Logbook'!$B70)","v":"17;30"},{"$f":"IF('2.Logbook'!AH70=\"\",\"\",'2.Logbook'!AH70)","v":""},{"$f":"IF('2.Logbook'!AI70=\"\",\"\",'2.Logbook'!AI70)","v":""},{"$f":"IF('2.Logbook'!AJ70=\"\",\"\",'2.Logbook'!AJ70)","v":""},{"$f":"IF('2.Logbook'!AK70=\"\",\"\",'2.Logbook'!AK70)","v":"Mise à l'eau"},{"$f":"IF('2.Logbook'!AL70=\"\",\"\",'2.Logbook'!AL70)","v":"DCP dérivant"},{"$f":"IF('2.Logbook'!AM70=\"\",\"\",'2.Logbook'!AM70)","v":"DCP français émergé bambou"},{"$f":"IF('2.Logbook'!AN70=\"\",\"\",'2.Logbook'!AN70)","v":"< 6, 5 cm"},{"$f":"IF('2.Logbook'!AO70=\"\",\"\",'2.Logbook'!AO70)","v":"< 6, 5 cm"},{"$f":"IF('2.Logbook'!AP70=\"\",\"\",'2.Logbook'!AP70)","v":"Mise à l'eau"},{"$f":"IF('2.Logbook'!AQ70=\"\",\"\",'2.Logbook'!AQ70)","v":""},{"$f":"IF('2.Logbook'!AR70=\"\",\"\",'2.Logbook'!AR70)","v":""},{"$f":"IF('2.Logbook'!AS70=\"\",\"\",'2.Logbook'!AS70)","v":"M3i+"},{"$f":"IF('2.Logbook'!AT70=\"\",\"\",'2.Logbook'!AT70)","v":585835},{"$f":"IF('2.Logbook'!AU70=\"\",\"\",'2.Logbook'!AU70)","v":""},{"$f":"IF('2.Logbook'!AV70=\"\",\"\",'2.Logbook'!AV70)","v":""},{"$f":"IF('2.Logbook'!AW70=\"\",\"\",'2.Logbook'!AW70)","v":""},{"$f":"IF('2.Logbook'!AX70=\"\",\"\",'2.Logbook'!AX70)","v":""},{"$f":"IF('2.Logbook'!AY70=\"\",\"\",'2.Logbook'!AY70)","v":""}]
[{"$f":"IF('2.Logbook'!$A71=\"\",\"\",'2.Logbook'!$A71)","v":"2020-06-15"},{"$f":"IF('2.Logbook'!$B71=\"\",\"\",'2.Logbook'!$B71)","v":"05:30:00"},{"$f":"IF('2.Logbook'!AH71=\"\",\"\",'2.Logbook'!AH71)","v":""},{"$f":"IF('2.Logbook'!AI71=\"\",\"\",'2.Logbook'!AI71)","v":""},{"$f":"IF('2.Logbook'!AJ71=\"\",\"\",'2.Logbook'!AJ71)","v":""},{"$f":"IF('2.Logbook'!AK71=\"\",\"\",'2.Logbook'!AK71)","v":"Mise à l'eau"},{"$f":"IF('2.Logbook'!AL71=\"\",\"\",'2.Logbook'!AL71)","v":"DCP dérivant"},{"$f":"IF('2.Logbook'!AM71=\"\",\"\",'2.Logbook'!AM71)","v":"DCP français émergé bambou"},{"$f":"IF('2.Logbook'!AN71=\"\",\"\",'2.Logbook'!AN71)","v":"< 6, 5 cm"},{"$f":"IF('2.Logbook'!AO71=\"\",\"\",'2.Logbook'!AO71)","v":"< 6, 5 cm"},{"$f":"IF('2.Logbook'!AP71=\"\",\"\",'2.Logbook'!AP71)","v":"Mise à l'eau"},{"$f":"IF('2.Logbook'!AQ71=\"\",\"\",'2.Logbook'!AQ71)","v":""},{"$f":"IF('2.Logbook'!AR71=\"\",\"\",'2.Logbook'!AR71)","v":""},{"$f":"IF('2.Logbook'!AS71=\"\",\"\",'2.Logbook'!AS71)","v":"M3i+"},{"$f":"IF('2.Logbook'!AT71=\"\",\"\",'2.Logbook'!AT71)","v":585738},{"$f":"IF('2.Logbook'!AU71=\"\",\"\",'2.Logbook'!AU71)","v":""},{"$f":"IF('2.Logbook'!AV71=\"\",\"\",'2.Logbook'!AV71)","v":""},{"$f":"IF('2.Logbook'!AW71=\"\",\"\",'2.Logbook'!AW71)","v":""},{"$f":"IF('2.Logbook'!AX71=\"\",\"\",'2.Logbook'!AX71)","v":""},{"$f":"IF('2.Logbook'!AY71=\"\",\"\",'2.Logbook'!AY71)","v":""}]
[{"$f":"IF('2.Logbook'!$A72=\"\",\"\",'2.Logbook'!$A72)","v":"2020-06-15"},{"$f":"IF('2.Logbook'!$B72=\"\",\"\",'2.Logbook'!$B72)","v":"16.32"},{"$f":"IF('2.Logbook'!AH72=\"\",\"\",'2.Logbook'!AH72)","v":""},{"$f":"IF('2.Logbook'!AI72=\"\",\"\",'2.Logbook'!AI72)","v":""},{"$f":"IF('2.Logbook'!AJ72=\"\",\"\",'2.Logbook'!AJ72)","v":""},{"$f":"IF('2.Logbook'!AK72=\"\",\"\",'2.Logbook'!AK72)","v":"Mise à l'eau"},{"$f":"IF('2.Logbook'!AL72=\"\",\"\",'2.Logbook'!AL72)","v":"DCP dérivant"},{"$f":"IF('2.Logbook'!AM72=\"\",\"\",'2.Logbook'!AM72)","v":"DCP français émergé bambou"},{"$f":"IF('2.Logbook'!AN72=\"\",\"\",'2.Logbook'!AN72)","v":"< 6, 5 cm"},{"$f":"IF('2.Logbook'!AO72=\"\",\"\",'2.Logbook'!AO72)","v":"< 6, 5 cm"},{"$f":"IF('2.Logbook'!AP72=\"\",\"\",'2.Logbook'!AP72)","v":"Mise à l'eau"},{"$f":"IF('2.Logbook'!AQ72=\"\",\"\",'2.Logbook'!AQ72)","v":""},{"$f":"IF('2.Logbook'!AR72=\"\",\"\",'2.Logbook'!AR72)","v":""},{"$f":"IF('2.Logbook'!AS72=\"\",\"\",'2.Logbook'!AS72)","v":"M3i+"},{"$f":"IF('2.Logbook'!AT72=\"\",\"\",'2.Logbook'!AT72)","v":585701},{"$f":"IF('2.Logbook'!AU72=\"\",\"\",'2.Logbook'!AU72)","v":""},{"$f":"IF('2.Logbook'!AV72=\"\",\"\",'2.Logbook'!AV72)","v":""},{"$f":"IF('2.Logbook'!AW72=\"\",\"\",'2.Logbook'!AW72)","v":""},{"$f":"IF('2.Logbook'!AX72=\"\",\"\",'2.Logbook'!AX72)","v":""},{"$f":"IF('2.Logbook'!AY72=\"\",\"\",'2.Logbook'!AY72)","v":""}]
[{"$f":"IF('2.Logbook'!$A73=\"\",\"\",'2.Logbook'!$A73)","v":"2020-06-16"},{"$f":"IF('2.Logbook'!$B73=\"\",\"\",'2.Logbook'!$B73)","v":"09:00:00"},{"$f":"IF('2.Logbook'!AH73=\"\",\"\",'2.Logbook'!AH73)","v":""},{"$f":"IF('2.Logbook'!AI73=\"\",\"\",'2.Logbook'!AI73)","v":""},{"$f":"IF('2.Logbook'!AJ73=\"\",\"\",'2.Logbook'!AJ73)","v":""},{"$f":"IF('2.Logbook'!AK73=\"\",\"\",'2.Logbook'!AK73)","v":"Mise à l'eau"},{"$f":"IF('2.Logbook'!AL73=\"\",\"\",'2.Logbook'!AL73)","v":"DCP dérivant"},{"$f":"IF('2.Logbook'!AM73=\"\",\"\",'2.Logbook'!AM73)","v":"DCP français émergé bambou"},{"$f":"IF('2.Logbook'!AN73=\"\",\"\",'2.Logbook'!AN73)","v":"< 6, 5 cm"},{"$f":"IF('2.Logbook'!AO73=\"\",\"\",'2.Logbook'!AO73)","v":"< 6, 5 cm"},{"$f":"IF('2.Logbook'!AP73=\"\",\"\",'2.Logbook'!AP73)","v":"Mise à l'eau"},{"$f":"IF('2.Logbook'!AQ73=\"\",\"\",'2.Logbook'!AQ73)","v":""},{"$f":"IF('2.Logbook'!AR73=\"\",\"\",'2.Logbook'!AR73)","v":""},{"$f":"IF('2.Logbook'!AS73=\"\",\"\",'2.Logbook'!AS73)","v":"M3i+"},{"$f":"IF('2.Logbook'!AT73=\"\",\"\",'2.Logbook'!AT73)","v":585741},{"$f":"IF('2.Logbook'!AU73=\"\",\"\",'2.Logbook'!AU73)","v":""},{"$f":"IF('2.Logbook'!AV73=\"\",\"\",'2.Logbook'!AV73)","v":""},{"$f":"IF('2.Logbook'!AW73=\"\",\"\",'2.Logbook'!AW73)","v":""},{"$f":"IF('2.Logbook'!AX73=\"\",\"\",'2.Logbook'!AX73)","v":""},{"$f":"IF('2.Logbook'!AY73=\"\",\"\",'2.Logbook'!AY73)","v":""}]
[{"$f":"IF('2.Logbook'!$A74=\"\",\"\",'2.Logbook'!$A74)","v":"2020-06-17"},{"$f":"IF('2.Logbook'!$B74=\"\",\"\",'2.Logbook'!$B74)","v":"05:30:00"},{"$f":"IF('2.Logbook'!AH74=\"\",\"\",'2.Logbook'!AH74)","v":""},{"$f":"IF('2.Logbook'!AI74=\"\",\"\",'2.Logbook'!AI74)","v":""},{"$f":"IF('2.Logbook'!AJ74=\"\",\"\",'2.Logbook'!AJ74)","v":""},{"$f":"IF('2.Logbook'!AK74=\"\",\"\",'2.Logbook'!AK74)","v":"Visite sans pêche"},{"$f":"IF('2.Logbook'!AL74=\"\",\"\",'2.Logbook'!AL74)","v":"DCP dérivant"},{"$f":"IF('2.Logbook'!AM74=\"\",\"\",'2.Logbook'!AM74)","v":"DCP français émergé bambou"},{"$f":"IF('2.Logbook'!AN74=\"\",\"\",'2.Logbook'!AN74)","v":"Pas de mailles"},{"$f":"IF('2.Logbook'!AO74=\"\",\"\",'2.Logbook'!AO74)","v":"Non observable"},{"$f":"IF('2.Logbook'!AP74=\"\",\"\",'2.Logbook'!AP74)","v":"Visite"},{"$f":"IF('2.Logbook'!AQ74=\"\",\"\",'2.Logbook'!AQ74)","v":""},{"$f":"IF('2.Logbook'!AR74=\"\",\"\",'2.Logbook'!AR74)","v":""},{"$f":"IF('2.Logbook'!AS74=\"\",\"\",'2.Logbook'!AS74)","v":"M3i+"},{"$f":"IF('2.Logbook'!AT74=\"\",\"\",'2.Logbook'!AT74)","v":568013},{"$f":"IF('2.Logbook'!AU74=\"\",\"\",'2.Logbook'!AU74)","v":""},{"$f":"IF('2.Logbook'!AV74=\"\",\"\",'2.Logbook'!AV74)","v":""},{"$f":"IF('2.Logbook'!AW74=\"\",\"\",'2.Logbook'!AW74)","v":""},{"$f":"IF('2.Logbook'!AX74=\"\",\"\",'2.Logbook'!AX74)","v":""},{"$f":"IF('2.Logbook'!AY74=\"\",\"\",'2.Logbook'!AY74)","v":""}]
[{"$f":"IF('2.Logbook'!$A75=\"\",\"\",'2.Logbook'!$A75)","v":"2020-06-18"},{"$f":"IF('2.Logbook'!$B75=\"\",\"\",'2.Logbook'!$B75)","v":"12:00:00"},{"$f":"IF('2.Logbook'!AH75=\"\",\"\",'2.Logbook'!AH75)","v":""},{"$f":"IF('2.Logbook'!AI75=\"\",\"\",'2.Logbook'!AI75)","v":""},{"$f":"IF('2.Logbook'!AJ75=\"\",\"\",'2.Logbook'!AJ75)","v":""},{"$f":"IF('2.Logbook'!AK75=\"\",\"\",'2.Logbook'!AK75)","v":""},{"$f":"IF('2.Logbook'!AL75=\"\",\"\",'2.Logbook'!AL75)","v":""},{"$f":"IF('2.Logbook'!AM75=\"\",\"\",'2.Logbook'!AM75)","v":""},{"$f":"IF('2.Logbook'!AN75=\"\",\"\",'2.Logbook'!AN75)","v":""},{"$f":"IF('2.Logbook'!AO75=\"\",\"\",'2.Logbook'!AO75)","v":""},{"$f":"IF('2.Logbook'!AP75=\"\",\"\",'2.Logbook'!AP75)","v":""},{"$f":"IF('2.Logbook'!AQ75=\"\",\"\",'2.Logbook'!AQ75)","v":""},{"$f":"IF('2.Logbook'!AR75=\"\",\"\",'2.Logbook'!AR75)","v":""},{"$f":"IF('2.Logbook'!AS75=\"\",\"\",'2.Logbook'!AS75)","v":""},{"$f":"IF('2.Logbook'!AT75=\"\",\"\",'2.Logbook'!AT75)","v":""},{"$f":"IF('2.Logbook'!AU75=\"\",\"\",'2.Logbook'!AU75)","v":"RAS"},{"$f":"IF('2.Logbook'!AV75=\"\",\"\",'2.Logbook'!AV75)","v":""},{"$f":"IF('2.Logbook'!AW75=\"\",\"\",'2.Logbook'!AW75)","v":""},{"$f":"IF('2.Logbook'!AX75=\"\",\"\",'2.Logbook'!AX75)","v":""},{"$f":"IF('2.Logbook'!AY75=\"\",\"\",'2.Logbook'!AY75)","v":""}]
[{"$f":"IF('2.Logbook'!$A76=\"\",\"\",'2.Logbook'!$A76)","v":"2020-06-19"},{"$f":"IF('2.Logbook'!$B76=\"\",\"\",'2.Logbook'!$B76)","v":"12:00:00"},{"$f":"IF('2.Logbook'!AH76=\"\",\"\",'2.Logbook'!AH76)","v":""},{"$f":"IF('2.Logbook'!AI76=\"\",\"\",'2.Logbook'!AI76)","v":""},{"$f":"IF('2.Logbook'!AJ76=\"\",\"\",'2.Logbook'!AJ76)","v":""},{"$f":"IF('2.Logbook'!AK76=\"\",\"\",'2.Logbook'!AK76)","v":""},{"$f":"IF('2.Logbook'!AL76=\"\",\"\",'2.Logbook'!AL76)","v":""},{"$f":"IF('2.Logbook'!AM76=\"\",\"\",'2.Logbook'!AM76)","v":""},{"$f":"IF('2.Logbook'!AN76=\"\",\"\",'2.Logbook'!AN76)","v":""},{"$f":"IF('2.Logbook'!AO76=\"\",\"\",'2.Logbook'!AO76)","v":""},{"$f":"IF('2.Logbook'!AP76=\"\",\"\",'2.Logbook'!AP76)","v":""},{"$f":"IF('2.Logbook'!AQ76=\"\",\"\",'2.Logbook'!AQ76)","v":""},{"$f":"IF('2.Logbook'!AR76=\"\",\"\",'2.Logbook'!AR76)","v":""},{"$f":"IF('2.Logbook'!AS76=\"\",\"\",'2.Logbook'!AS76)","v":""},{"$f":"IF('2.Logbook'!AT76=\"\",\"\",'2.Logbook'!AT76)","v":""},{"$f":"IF('2.Logbook'!AU76=\"\",\"\",'2.Logbook'!AU76)","v":"RAS"},{"$f":"IF('2.Logbook'!AV76=\"\",\"\",'2.Logbook'!AV76)","v":""},{"$f":"IF('2.Logbook'!AW76=\"\",\"\",'2.Logbook'!AW76)","v":""},{"$f":"IF('2.Logbook'!AX76=\"\",\"\",'2.Logbook'!AX76)","v":""},{"$f":"IF('2.Logbook'!AY76=\"\",\"\",'2.Logbook'!AY76)","v":""}]
[{"$f":"IF('2.Logbook'!$A77=\"\",\"\",'2.Logbook'!$A77)","v":"2020-06-20"},{"$f":"IF('2.Logbook'!$B77=\"\",\"\",'2.Logbook'!$B77)","v":"17:00:00"},{"$f":"IF('2.Logbook'!AH77=\"\",\"\",'2.Logbook'!AH77)","v":""},{"$f":"IF('2.Logbook'!AI77=\"\",\"\",'2.Logbook'!AI77)","v":""},{"$f":"IF('2.Logbook'!AJ77=\"\",\"\",'2.Logbook'!AJ77)","v":""},{"$f":"IF('2.Logbook'!AK77=\"\",\"\",'2.Logbook'!AK77)","v":"Visite sans pêche"},{"$f":"IF('2.Logbook'!AL77=\"\",\"\",'2.Logbook'!AL77)","v":"DCP dérivant"},{"$f":"IF('2.Logbook'!AM77=\"\",\"\",'2.Logbook'!AM77)","v":"DCP espagnol émergé métal"},{"$f":"IF('2.Logbook'!AN77=\"\",\"\",'2.Logbook'!AN77)","v":"< 6, 5 cm"},{"$f":"IF('2.Logbook'!AO77=\"\",\"\",'2.Logbook'!AO77)","v":"Non observable"},{"$f":"IF('2.Logbook'!AP77=\"\",\"\",'2.Logbook'!AP77)","v":"Transfert"},{"$f":"IF('2.Logbook'!AQ77=\"\",\"\",'2.Logbook'!AQ77)","v":"M3i+"},{"$f":"IF('2.Logbook'!AR77=\"\",\"\",'2.Logbook'!AR77)","v":593875},{"$f":"IF('2.Logbook'!AS77=\"\",\"\",'2.Logbook'!AS77)","v":"M3i+"},{"$f":"IF('2.Logbook'!AT77=\"\",\"\",'2.Logbook'!AT77)","v":585551},{"$f":"IF('2.Logbook'!AU77=\"\",\"\",'2.Logbook'!AU77)","v":""},{"$f":"IF('2.Logbook'!AV77=\"\",\"\",'2.Logbook'!AV77)","v":""},{"$f":"IF('2.Logbook'!AW77=\"\",\"\",'2.Logbook'!AW77)","v":""},{"$f":"IF('2.Logbook'!AX77=\"\",\"\",'2.Logbook'!AX77)","v":""},{"$f":"IF('2.Logbook'!AY77=\"\",\"\",'2.Logbook'!AY77)","v":""}]
[{"$f":"IF('2.Logbook'!$A78=\"\",\"\",'2.Logbook'!$A78)","v":"2020-06-21"},{"$f":"IF('2.Logbook'!$B78=\"\",\"\",'2.Logbook'!$B78)","v":"10:00:00"},{"$f":"IF('2.Logbook'!AH78=\"\",\"\",'2.Logbook'!AH78)","v":""},{"$f":"IF('2.Logbook'!AI78=\"\",\"\",'2.Logbook'!AI78)","v":""},{"$f":"IF('2.Logbook'!AJ78=\"\",\"\",'2.Logbook'!AJ78)","v":""},{"$f":"IF('2.Logbook'!AK78=\"\",\"\",'2.Logbook'!AK78)","v":"Visite sans pêche"},{"$f":"IF('2.Logbook'!AL78=\"\",\"\",'2.Logbook'!AL78)","v":"DCP dérivant"},{"$f":"IF('2.Logbook'!AM78=\"\",\"\",'2.Logbook'!AM78)","v":"DCP espagnol émergé métal"},{"$f":"IF('2.Logbook'!AN78=\"\",\"\",'2.Logbook'!AN78)","v":"< 6, 5 cm"},{"$f":"IF('2.Logbook'!AO78=\"\",\"\",'2.Logbook'!AO78)","v":"Non observable"},{"$f":"IF('2.Logbook'!AP78=\"\",\"\",'2.Logbook'!AP78)","v":"Transfert"},{"$f":"IF('2.Logbook'!AQ78=\"\",\"\",'2.Logbook'!AQ78)","v":"M3i+"},{"$f":"IF('2.Logbook'!AR78=\"\",\"\",'2.Logbook'!AR78)","v":540335},{"$f":"IF('2.Logbook'!AS78=\"\",\"\",'2.Logbook'!AS78)","v":"M3i+"},{"$f":"IF('2.Logbook'!AT78=\"\",\"\",'2.Logbook'!AT78)","v":585677},{"$f":"IF('2.Logbook'!AU78=\"\",\"\",'2.Logbook'!AU78)","v":""},{"$f":"IF('2.Logbook'!AV78=\"\",\"\",'2.Logbook'!AV78)","v":""},{"$f":"IF('2.Logbook'!AW78=\"\",\"\",'2.Logbook'!AW78)","v":""},{"$f":"IF('2.Logbook'!AX78=\"\",\"\",'2.Logbook'!AX78)","v":""},{"$f":"IF('2.Logbook'!AY78=\"\",\"\",'2.Logbook'!AY78)","v":""}]
[{"$f":"IF('2.Logbook'!$A79=\"\",\"\",'2.Logbook'!$A79)","v":"2020-06-22"},{"$f":"IF('2.Logbook'!$B79=\"\",\"\",'2.Logbook'!$B79)","v":"06:40:00"},{"$f":"IF('2.Logbook'!AH79=\"\",\"\",'2.Logbook'!AH79)","v":""},{"$f":"IF('2.Logbook'!AI79=\"\",\"\",'2.Logbook'!AI79)","v":""},{"$f":"IF('2.Logbook'!AJ79=\"\",\"\",'2.Logbook'!AJ79)","v":""},{"$f":"IF('2.Logbook'!AK79=\"\",\"\",'2.Logbook'!AK79)","v":"Visite avec pêche"},{"$f":"IF('2.Logbook'!AL79=\"\",\"\",'2.Logbook'!AL79)","v":"DCP dérivant"},{"$f":"IF('2.Logbook'!AM79=\"\",\"\",'2.Logbook'!AM79)","v":"DCP français émergé métal"},{"$f":"IF('2.Logbook'!AN79=\"\",\"\",'2.Logbook'!AN79)","v":"< 6, 5 cm"},{"$f":"IF('2.Logbook'!AO79=\"\",\"\",'2.Logbook'!AO79)","v":""},{"$f":"IF('2.Logbook'!AP79=\"\",\"\",'2.Logbook'!AP79)","v":""},{"$f":"IF('2.Logbook'!AQ79=\"\",\"\",'2.Logbook'!AQ79)","v":"M3i+"},{"$f":"IF('2.Logbook'!AR79=\"\",\"\",'2.Logbook'!AR79)","v":585677},{"$f":"IF('2.Logbook'!AS79=\"\",\"\",'2.Logbook'!AS79)","v":""},{"$f":"IF('2.Logbook'!AT79=\"\",\"\",'2.Logbook'!AT79)","v":""},{"$f":"IF('2.Logbook'!AU79=\"\",\"\",'2.Logbook'!AU79)","v":""},{"$f":"IF('2.Logbook'!AV79=\"\",\"\",'2.Logbook'!AV79)","v":""},{"$f":"IF('2.Logbook'!AW79=\"\",\"\",'2.Logbook'!AW79)","v":""},{"$f":"IF('2.Logbook'!AX79=\"\",\"\",'2.Logbook'!AX79)","v":""},{"$f":"IF('2.Logbook'!AY79=\"\",\"\",'2.Logbook'!AY79)","v":""}]
[{"$f":"IF('2.Logbook'!$A80=\"\",\"\",'2.Logbook'!$A80)","v":"2020-06-22"},{"$f":"IF('2.Logbook'!$B80=\"\",\"\",'2.Logbook'!$B80)","v":"06:40:00"},{"$f":"IF('2.Logbook'!AH80=\"\",\"\",'2.Logbook'!AH80)","v":""},{"$f":"IF('2.Logbook'!AI80=\"\",\"\",'2.Logbook'!AI80)","v":""},{"$f":"IF('2.Logbook'!AJ80=\"\",\"\",'2.Logbook'!AJ80)","v":""},{"$f":"IF('2.Logbook'!AK80=\"\",\"\",'2.Logbook'!AK80)","v":""},{"$f":"IF('2.Logbook'!AL80=\"\",\"\",'2.Logbook'!AL80)","v":""},{"$f":"IF('2.Logbook'!AM80=\"\",\"\",'2.Logbook'!AM80)","v":""},{"$f":"IF('2.Logbook'!AN80=\"\",\"\",'2.Logbook'!AN80)","v":""},{"$f":"IF('2.Logbook'!AO80=\"\",\"\",'2.Logbook'!AO80)","v":""},{"$f":"IF('2.Logbook'!AP80=\"\",\"\",'2.Logbook'!AP80)","v":""},{"$f":"IF('2.Logbook'!AQ80=\"\",\"\",'2.Logbook'!AQ80)","v":""},{"$f":"IF('2.Logbook'!AR80=\"\",\"\",'2.Logbook'!AR80)","v":""},{"$f":"IF('2.Logbook'!AS80=\"\",\"\",'2.Logbook'!AS80)","v":""},{"$f":"IF('2.Logbook'!AT80=\"\",\"\",'2.Logbook'!AT80)","v":""},{"$f":"IF('2.Logbook'!AU80=\"\",\"\",'2.Logbook'!AU80)","v":""},{"$f":"IF('2.Logbook'!AV80=\"\",\"\",'2.Logbook'!AV80)","v":""},{"$f":"IF('2.Logbook'!AW80=\"\",\"\",'2.Logbook'!AW80)","v":""},{"$f":"IF('2.Logbook'!AX80=\"\",\"\",'2.Logbook'!AX80)","v":""},{"$f":"IF('2.Logbook'!AY80=\"\",\"\",'2.Logbook'!AY80)","v":""}]
[{"$f":"IF('2.Logbook'!$A81=\"\",\"\",'2.Logbook'!$A81)","v":"2020-06-22"},{"$f":"IF('2.Logbook'!$B81=\"\",\"\",'2.Logbook'!$B81)","v":"12:30:00"},{"$f":"IF('2.Logbook'!AH81=\"\",\"\",'2.Logbook'!AH81)","v":""},{"$f":"IF('2.Logbook'!AI81=\"\",\"\",'2.Logbook'!AI81)","v":""},{"$f":"IF('2.Logbook'!AJ81=\"\",\"\",'2.Logbook'!AJ81)","v":""},{"$f":"IF('2.Logbook'!AK81=\"\",\"\",'2.Logbook'!AK81)","v":"Visite sans pêche"},{"$f":"IF('2.Logbook'!AL81=\"\",\"\",'2.Logbook'!AL81)","v":"DCP dérivant"},{"$f":"IF('2.Logbook'!AM81=\"\",\"\",'2.Logbook'!AM81)","v":"DCP espagnol émergé plastique"},{"$f":"IF('2.Logbook'!AN81=\"\",\"\",'2.Logbook'!AN81)","v":"Pas de mailles"},{"$f":"IF('2.Logbook'!AO81=\"\",\"\",'2.Logbook'!AO81)","v":"Non observable"},{"$f":"IF('2.Logbook'!AP81=\"\",\"\",'2.Logbook'!AP81)","v":"Transfert"},{"$f":"IF('2.Logbook'!AQ81=\"\",\"\",'2.Logbook'!AQ81)","v":"Pas de bouée"},{"$f":"IF('2.Logbook'!AR81=\"\",\"\",'2.Logbook'!AR81)","v":""},{"$f":"IF('2.Logbook'!AS81=\"\",\"\",'2.Logbook'!AS81)","v":"M3i+"},{"$f":"IF('2.Logbook'!AT81=\"\",\"\",'2.Logbook'!AT81)","v":585773},{"$f":"IF('2.Logbook'!AU81=\"\",\"\",'2.Logbook'!AU81)","v":""},{"$f":"IF('2.Logbook'!AV81=\"\",\"\",'2.Logbook'!AV81)","v":""},{"$f":"IF('2.Logbook'!AW81=\"\",\"\",'2.Logbook'!AW81)","v":""},{"$f":"IF('2.Logbook'!AX81=\"\",\"\",'2.Logbook'!AX81)","v":""},{"$f":"IF('2.Logbook'!AY81=\"\",\"\",'2.Logbook'!AY81)","v":""}]
[{"$f":"IF('2.Logbook'!$A82=\"\",\"\",'2.Logbook'!$A82)","v":"2020-06-22"},{"$f":"IF('2.Logbook'!$B82=\"\",\"\",'2.Logbook'!$B82)","v":"14:12:00"},{"$f":"IF('2.Logbook'!AH82=\"\",\"\",'2.Logbook'!AH82)","v":""},{"$f":"IF('2.Logbook'!AI82=\"\",\"\",'2.Logbook'!AI82)","v":""},{"$f":"IF('2.Logbook'!AJ82=\"\",\"\",'2.Logbook'!AJ82)","v":""},{"$f":"IF('2.Logbook'!AK82=\"\",\"\",'2.Logbook'!AK82)","v":"Visite sans pêche"},{"$f":"IF('2.Logbook'!AL82=\"\",\"\",'2.Logbook'!AL82)","v":"DCP dérivant"},{"$f":"IF('2.Logbook'!AM82=\"\",\"\",'2.Logbook'!AM82)","v":"DCP coréen"},{"$f":"IF('2.Logbook'!AN82=\"\",\"\",'2.Logbook'!AN82)","v":"Pas de mailles"},{"$f":"IF('2.Logbook'!AO82=\"\",\"\",'2.Logbook'!AO82)","v":"Non observable"},{"$f":"IF('2.Logbook'!AP82=\"\",\"\",'2.Logbook'!AP82)","v":"Transfert"},{"$f":"IF('2.Logbook'!AQ82=\"\",\"\",'2.Logbook'!AQ82)","v":"ISD+"},{"$f":"IF('2.Logbook'!AR82=\"\",\"\",'2.Logbook'!AR82)","v":2406},{"$f":"IF('2.Logbook'!AS82=\"\",\"\",'2.Logbook'!AS82)","v":"M3i+"},{"$f":"IF('2.Logbook'!AT82=\"\",\"\",'2.Logbook'!AT82)","v":585704},{"$f":"IF('2.Logbook'!AU82=\"\",\"\",'2.Logbook'!AU82)","v":""},{"$f":"IF('2.Logbook'!AV82=\"\",\"\",'2.Logbook'!AV82)","v":""},{"$f":"IF('2.Logbook'!AW82=\"\",\"\",'2.Logbook'!AW82)","v":""},{"$f":"IF('2.Logbook'!AX82=\"\",\"\",'2.Logbook'!AX82)","v":""},{"$f":"IF('2.Logbook'!AY82=\"\",\"\",'2.Logbook'!AY82)","v":""}]
[{"$f":"IF('2.Logbook'!$A83=\"\",\"\",'2.Logbook'!$A83)","v":"2020-06-23"},{"$f":"IF('2.Logbook'!$B83=\"\",\"\",'2.Logbook'!$B83)","v":"07:35:00"},{"$f":"IF('2.Logbook'!AH83=\"\",\"\",'2.Logbook'!AH83)","v":""},{"$f":"IF('2.Logbook'!AI83=\"\",\"\",'2.Logbook'!AI83)","v":""},{"$f":"IF('2.Logbook'!AJ83=\"\",\"\",'2.Logbook'!AJ83)","v":""},{"$f":"IF('2.Logbook'!AK83=\"\",\"\",'2.Logbook'!AK83)","v":"Visite avec pêche"},{"$f":"IF('2.Logbook'!AL83=\"\",\"\",'2.Logbook'!AL83)","v":"DCP dérivant"},{"$f":"IF('2.Logbook'!AM83=\"\",\"\",'2.Logbook'!AM83)","v":"DCP coréen"},{"$f":"IF('2.Logbook'!AN83=\"\",\"\",'2.Logbook'!AN83)","v":"Pas de mailles"},{"$f":"IF('2.Logbook'!AO83=\"\",\"\",'2.Logbook'!AO83)","v":"Non observable"},{"$f":"IF('2.Logbook'!AP83=\"\",\"\",'2.Logbook'!AP83)","v":"Transfert"},{"$f":"IF('2.Logbook'!AQ83=\"\",\"\",'2.Logbook'!AQ83)","v":"ISD+"},{"$f":"IF('2.Logbook'!AR83=\"\",\"\",'2.Logbook'!AR83)","v":2312},{"$f":"IF('2.Logbook'!AS83=\"\",\"\",'2.Logbook'!AS83)","v":"M3i+"},{"$f":"IF('2.Logbook'!AT83=\"\",\"\",'2.Logbook'!AT83)","v":585501},{"$f":"IF('2.Logbook'!AU83=\"\",\"\",'2.Logbook'!AU83)","v":""},{"$f":"IF('2.Logbook'!AV83=\"\",\"\",'2.Logbook'!AV83)","v":""},{"$f":"IF('2.Logbook'!AW83=\"\",\"\",'2.Logbook'!AW83)","v":""},{"$f":"IF('2.Logbook'!AX83=\"\",\"\",'2.Logbook'!AX83)","v":""},{"$f":"IF('2.Logbook'!AY83=\"\",\"\",'2.Logbook'!AY83)","v":""}]
[{"$f":"IF('2.Logbook'!$A84=\"\",\"\",'2.Logbook'!$A84)","v":"2020-06-23"},{"$f":"IF('2.Logbook'!$B84=\"\",\"\",'2.Logbook'!$B84)","v":"07:35:00"},{"$f":"IF('2.Logbook'!AH84=\"\",\"\",'2.Logbook'!AH84)","v":""},{"$f":"IF('2.Logbook'!AI84=\"\",\"\",'2.Logbook'!AI84)","v":""},{"$f":"IF('2.Logbook'!AJ84=\"\",\"\",'2.Logbook'!AJ84)","v":""},{"$f":"IF('2.Logbook'!AK84=\"\",\"\",'2.Logbook'!AK84)","v":""},{"$f":"IF('2.Logbook'!AL84=\"\",\"\",'2.Logbook'!AL84)","v":""},{"$f":"IF('2.Logbook'!AM84=\"\",\"\",'2.Logbook'!AM84)","v":""},{"$f":"IF('2.Logbook'!AN84=\"\",\"\",'2.Logbook'!AN84)","v":""},{"$f":"IF('2.Logbook'!AO84=\"\",\"\",'2.Logbook'!AO84)","v":""},{"$f":"IF('2.Logbook'!AP84=\"\",\"\",'2.Logbook'!AP84)","v":""},{"$f":"IF('2.Logbook'!AQ84=\"\",\"\",'2.Logbook'!AQ84)","v":""},{"$f":"IF('2.Logbook'!AR84=\"\",\"\",'2.Logbook'!AR84)","v":""},{"$f":"IF('2.Logbook'!AS84=\"\",\"\",'2.Logbook'!AS84)","v":""},{"$f":"IF('2.Logbook'!AT84=\"\",\"\",'2.Logbook'!AT84)","v":""},{"$f":"IF('2.Logbook'!AU84=\"\",\"\",'2.Logbook'!AU84)","v":""},{"$f":"IF('2.Logbook'!AV84=\"\",\"\",'2.Logbook'!AV84)","v":""},{"$f":"IF('2.Logbook'!AW84=\"\",\"\",'2.Logbook'!AW84)","v":""},{"$f":"IF('2.Logbook'!AX84=\"\",\"\",'2.Logbook'!AX84)","v":""},{"$f":"IF('2.Logbook'!AY84=\"\",\"\",'2.Logbook'!AY84)","v":""}]
[{"$f":"IF('2.Logbook'!$A85=\"\",\"\",'2.Logbook'!$A85)","v":"2020-06-24"},{"$f":"IF('2.Logbook'!$B85=\"\",\"\",'2.Logbook'!$B85)","v":"07:30:00"},{"$f":"IF('2.Logbook'!AH85=\"\",\"\",'2.Logbook'!AH85)","v":""},{"$f":"IF('2.Logbook'!AI85=\"\",\"\",'2.Logbook'!AI85)","v":""},{"$f":"IF('2.Logbook'!AJ85=\"\",\"\",'2.Logbook'!AJ85)","v":""},{"$f":"IF('2.Logbook'!AK85=\"\",\"\",'2.Logbook'!AK85)","v":"Visite sans pêche"},{"$f":"IF('2.Logbook'!AL85=\"\",\"\",'2.Logbook'!AL85)","v":"DCP dérivant"},{"$f":"IF('2.Logbook'!AM85=\"\",\"\",'2.Logbook'!AM85)","v":"DCP espagnol émergé plastique"},{"$f":"IF('2.Logbook'!AN85=\"\",\"\",'2.Logbook'!AN85)","v":"Pas de mailles"},{"$f":"IF('2.Logbook'!AO85=\"\",\"\",'2.Logbook'!AO85)","v":"Non observable"},{"$f":"IF('2.Logbook'!AP85=\"\",\"\",'2.Logbook'!AP85)","v":"Transfert"},{"$f":"IF('2.Logbook'!AQ85=\"\",\"\",'2.Logbook'!AQ85)","v":"M3i+"},{"$f":"IF('2.Logbook'!AR85=\"\",\"\",'2.Logbook'!AR85)","v":540556},{"$f":"IF('2.Logbook'!AS85=\"\",\"\",'2.Logbook'!AS85)","v":"M3i+"},{"$f":"IF('2.Logbook'!AT85=\"\",\"\",'2.Logbook'!AT85)","v":585732},{"$f":"IF('2.Logbook'!AU85=\"\",\"\",'2.Logbook'!AU85)","v":""},{"$f":"IF('2.Logbook'!AV85=\"\",\"\",'2.Logbook'!AV85)","v":""},{"$f":"IF('2.Logbook'!AW85=\"\",\"\",'2.Logbook'!AW85)","v":""},{"$f":"IF('2.Logbook'!AX85=\"\",\"\",'2.Logbook'!AX85)","v":""},{"$f":"IF('2.Logbook'!AY85=\"\",\"\",'2.Logbook'!AY85)","v":""}]
[{"$f":"IF('2.Logbook'!$A86=\"\",\"\",'2.Logbook'!$A86)","v":"2020-06-25"},{"$f":"IF('2.Logbook'!$B86=\"\",\"\",'2.Logbook'!$B86)","v":"07:22:00"},{"$f":"IF('2.Logbook'!AH86=\"\",\"\",'2.Logbook'!AH86)","v":""},{"$f":"IF('2.Logbook'!AI86=\"\",\"\",'2.Logbook'!AI86)","v":""},{"$f":"IF('2.Logbook'!AJ86=\"\",\"\",'2.Logbook'!AJ86)","v":""},{"$f":"IF('2.Logbook'!AK86=\"\",\"\",'2.Logbook'!AK86)","v":""},{"$f":"IF('2.Logbook'!AL86=\"\",\"\",'2.Logbook'!AL86)","v":""},{"$f":"IF('2.Logbook'!AM86=\"\",\"\",'2.Logbook'!AM86)","v":""},{"$f":"IF('2.Logbook'!AN86=\"\",\"\",'2.Logbook'!AN86)","v":""},{"$f":"IF('2.Logbook'!AO86=\"\",\"\",'2.Logbook'!AO86)","v":""},{"$f":"IF('2.Logbook'!AP86=\"\",\"\",'2.Logbook'!AP86)","v":""},{"$f":"IF('2.Logbook'!AQ86=\"\",\"\",'2.Logbook'!AQ86)","v":""},{"$f":"IF('2.Logbook'!AR86=\"\",\"\",'2.Logbook'!AR86)","v":""},{"$f":"IF('2.Logbook'!AS86=\"\",\"\",'2.Logbook'!AS86)","v":""},{"$f":"IF('2.Logbook'!AT86=\"\",\"\",'2.Logbook'!AT86)","v":""},{"$f":"IF('2.Logbook'!AU86=\"\",\"\",'2.Logbook'!AU86)","v":"Matte YF"},{"$f":"IF('2.Logbook'!AV86=\"\",\"\",'2.Logbook'!AV86)","v":""},{"$f":"IF('2.Logbook'!AW86=\"\",\"\",'2.Logbook'!AW86)","v":""},{"$f":"IF('2.Logbook'!AX86=\"\",\"\",'2.Logbook'!AX86)","v":""},{"$f":"IF('2.Logbook'!AY86=\"\",\"\",'2.Logbook'!AY86)","v":""}]
[{"$f":"IF('2.Logbook'!$A87=\"\",\"\",'2.Logbook'!$A87)","v":"2020-06-25"},{"$f":"IF('2.Logbook'!$B87=\"\",\"\",'2.Logbook'!$B87)","v":"10;14"},{"$f":"IF('2.Logbook'!AH87=\"\",\"\",'2.Logbook'!AH87)","v":""},{"$f":"IF('2.Logbook'!AI87=\"\",\"\",'2.Logbook'!AI87)","v":""},{"$f":"IF('2.Logbook'!AJ87=\"\",\"\",'2.Logbook'!AJ87)","v":""},{"$f":"IF('2.Logbook'!AK87=\"\",\"\",'2.Logbook'!AK87)","v":"Visite avec pêche"},{"$f":"IF('2.Logbook'!AL87=\"\",\"\",'2.Logbook'!AL87)","v":"DCP dérivant"},{"$f":"IF('2.Logbook'!AM87=\"\",\"\",'2.Logbook'!AM87)","v":"DCP coréen"},{"$f":"IF('2.Logbook'!AN87=\"\",\"\",'2.Logbook'!AN87)","v":"Pas de mailles"},{"$f":"IF('2.Logbook'!AO87=\"\",\"\",'2.Logbook'!AO87)","v":"< 6, 5 cm"},{"$f":"IF('2.Logbook'!AP87=\"\",\"\",'2.Logbook'!AP87)","v":"Transfert"},{"$f":"IF('2.Logbook'!AQ87=\"\",\"\",'2.Logbook'!AQ87)","v":"Pas de bouée"},{"$f":"IF('2.Logbook'!AR87=\"\",\"\",'2.Logbook'!AR87)","v":""},{"$f":"IF('2.Logbook'!AS87=\"\",\"\",'2.Logbook'!AS87)","v":"M3i+"},{"$f":"IF('2.Logbook'!AT87=\"\",\"\",'2.Logbook'!AT87)","v":585571},{"$f":"IF('2.Logbook'!AU87=\"\",\"\",'2.Logbook'!AU87)","v":""},{"$f":"IF('2.Logbook'!AV87=\"\",\"\",'2.Logbook'!AV87)","v":""},{"$f":"IF('2.Logbook'!AW87=\"\",\"\",'2.Logbook'!AW87)","v":""},{"$f":"IF('2.Logbook'!AX87=\"\",\"\",'2.Logbook'!AX87)","v":""},{"$f":"IF('2.Logbook'!AY87=\"\",\"\",'2.Logbook'!AY87)","v":""}]
[{"$f":"IF('2.Logbook'!$A88=\"\",\"\",'2.Logbook'!$A88)","v":"2020-06-25"},{"$f":"IF('2.Logbook'!$B88=\"\",\"\",'2.Logbook'!$B88)","v":"10;14"},{"$f":"IF('2.Logbook'!AH88=\"\",\"\",'2.Logbook'!AH88)","v":""},{"$f":"IF('2.Logbook'!AI88=\"\",\"\",'2.Logbook'!AI88)","v":""},{"$f":"IF('2.Logbook'!AJ88=\"\",\"\",'2.Logbook'!AJ88)","v":""},{"$f":"IF('2.Logbook'!AK88=\"\",\"\",'2.Logbook'!AK88)","v":""},{"$f":"IF('2.Logbook'!AL88=\"\",\"\",'2.Logbook'!AL88)","v":""},{"$f":"IF('2.Logbook'!AM88=\"\",\"\",'2.Logbook'!AM88)","v":""},{"$f":"IF('2.Logbook'!AN88=\"\",\"\",'2.Logbook'!AN88)","v":""},{"$f":"IF('2.Logbook'!AO88=\"\",\"\",'2.Logbook'!AO88)","v":""},{"$f":"IF('2.Logbook'!AP88=\"\",\"\",'2.Logbook'!AP88)","v":""},{"$f":"IF('2.Logbook'!AQ88=\"\",\"\",'2.Logbook'!AQ88)","v":""},{"$f":"IF('2.Logbook'!AR88=\"\",\"\",'2.Logbook'!AR88)","v":""},{"$f":"IF('2.Logbook'!AS88=\"\",\"\",'2.Logbook'!AS88)","v":""},{"$f":"IF('2.Logbook'!AT88=\"\",\"\",'2.Logbook'!AT88)","v":""},{"$f":"IF('2.Logbook'!AU88=\"\",\"\",'2.Logbook'!AU88)","v":""},{"$f":"IF('2.Logbook'!AV88=\"\",\"\",'2.Logbook'!AV88)","v":""},{"$f":"IF('2.Logbook'!AW88=\"\",\"\",'2.Logbook'!AW88)","v":""},{"$f":"IF('2.Logbook'!AX88=\"\",\"\",'2.Logbook'!AX88)","v":""},{"$f":"IF('2.Logbook'!AY88=\"\",\"\",'2.Logbook'!AY88)","v":""}]
[{"$f":"IF('2.Logbook'!$A89=\"\",\"\",'2.Logbook'!$A89)","v":"2020-06-26"},{"$f":"IF('2.Logbook'!$B89=\"\",\"\",'2.Logbook'!$B89)","v":"07:50:00"},{"$f":"IF('2.Logbook'!AH89=\"\",\"\",'2.Logbook'!AH89)","v":""},{"$f":"IF('2.Logbook'!AI89=\"\",\"\",'2.Logbook'!AI89)","v":""},{"$f":"IF('2.Logbook'!AJ89=\"\",\"\",'2.Logbook'!AJ89)","v":""},{"$f":"IF('2.Logbook'!AK89=\"\",\"\",'2.Logbook'!AK89)","v":""},{"$f":"IF('2.Logbook'!AL89=\"\",\"\",'2.Logbook'!AL89)","v":""},{"$f":"IF('2.Logbook'!AM89=\"\",\"\",'2.Logbook'!AM89)","v":""},{"$f":"IF('2.Logbook'!AN89=\"\",\"\",'2.Logbook'!AN89)","v":""},{"$f":"IF('2.Logbook'!AO89=\"\",\"\",'2.Logbook'!AO89)","v":""},{"$f":"IF('2.Logbook'!AP89=\"\",\"\",'2.Logbook'!AP89)","v":""},{"$f":"IF('2.Logbook'!AQ89=\"\",\"\",'2.Logbook'!AQ89)","v":""},{"$f":"IF('2.Logbook'!AR89=\"\",\"\",'2.Logbook'!AR89)","v":""},{"$f":"IF('2.Logbook'!AS89=\"\",\"\",'2.Logbook'!AS89)","v":""},{"$f":"IF('2.Logbook'!AT89=\"\",\"\",'2.Logbook'!AT89)","v":""},{"$f":"IF('2.Logbook'!AU89=\"\",\"\",'2.Logbook'!AU89)","v":"MATTE YF"},{"$f":"IF('2.Logbook'!AV89=\"\",\"\",'2.Logbook'!AV89)","v":""},{"$f":"IF('2.Logbook'!AW89=\"\",\"\",'2.Logbook'!AW89)","v":""},{"$f":"IF('2.Logbook'!AX89=\"\",\"\",'2.Logbook'!AX89)","v":""},{"$f":"IF('2.Logbook'!AY89=\"\",\"\",'2.Logbook'!AY89)","v":""}]
[{"$f":"IF('2.Logbook'!$A90=\"\",\"\",'2.Logbook'!$A90)","v":"2020-06-26"},{"$f":"IF('2.Logbook'!$B90=\"\",\"\",'2.Logbook'!$B90)","v":"11;40"},{"$f":"IF('2.Logbook'!AH90=\"\",\"\",'2.Logbook'!AH90)","v":""},{"$f":"IF('2.Logbook'!AI90=\"\",\"\",'2.Logbook'!AI90)","v":1},{"$f":"IF('2.Logbook'!AJ90=\"\",\"\",'2.Logbook'!AJ90)","v":1},{"$f":"IF('2.Logbook'!AK90=\"\",\"\",'2.Logbook'!AK90)","v":""},{"$f":"IF('2.Logbook'!AL90=\"\",\"\",'2.Logbook'!AL90)","v":""},{"$f":"IF('2.Logbook'!AM90=\"\",\"\",'2.Logbook'!AM90)","v":""},{"$f":"IF('2.Logbook'!AN90=\"\",\"\",'2.Logbook'!AN90)","v":""},{"$f":"IF('2.Logbook'!AO90=\"\",\"\",'2.Logbook'!AO90)","v":""},{"$f":"IF('2.Logbook'!AP90=\"\",\"\",'2.Logbook'!AP90)","v":""},{"$f":"IF('2.Logbook'!AQ90=\"\",\"\",'2.Logbook'!AQ90)","v":""},{"$f":"IF('2.Logbook'!AR90=\"\",\"\",'2.Logbook'!AR90)","v":""},{"$f":"IF('2.Logbook'!AS90=\"\",\"\",'2.Logbook'!AS90)","v":""},{"$f":"IF('2.Logbook'!AT90=\"\",\"\",'2.Logbook'!AT90)","v":""},{"$f":"IF('2.Logbook'!AU90=\"\",\"\",'2.Logbook'!AU90)","v":"MATTE YF"},{"$f":"IF('2.Logbook'!AV90=\"\",\"\",'2.Logbook'!AV90)","v":""},{"$f":"IF('2.Logbook'!AW90=\"\",\"\",'2.Logbook'!AW90)","v":""},{"$f":"IF('2.Logbook'!AX90=\"\",\"\",'2.Logbook'!AX90)","v":""},{"$f":"IF('2.Logbook'!AY90=\"\",\"\",'2.Logbook'!AY90)","v":""}]
[{"$f":"IF('2.Logbook'!$A91=\"\",\"\",'2.Logbook'!$A91)","v":"2020-06-27"},{"$f":"IF('2.Logbook'!$B91=\"\",\"\",'2.Logbook'!$B91)","v":"08:25:00"},{"$f":"IF('2.Logbook'!AH91=\"\",\"\",'2.Logbook'!AH91)","v":""},{"$f":"IF('2.Logbook'!AI91=\"\",\"\",'2.Logbook'!AI91)","v":""},{"$f":"IF('2.Logbook'!AJ91=\"\",\"\",'2.Logbook'!AJ91)","v":1},{"$f":"IF('2.Logbook'!AK91=\"\",\"\",'2.Logbook'!AK91)","v":""},{"$f":"IF('2.Logbook'!AL91=\"\",\"\",'2.Logbook'!AL91)","v":""},{"$f":"IF('2.Logbook'!AM91=\"\",\"\",'2.Logbook'!AM91)","v":""},{"$f":"IF('2.Logbook'!AN91=\"\",\"\",'2.Logbook'!AN91)","v":""},{"$f":"IF('2.Logbook'!AO91=\"\",\"\",'2.Logbook'!AO91)","v":""},{"$f":"IF('2.Logbook'!AP91=\"\",\"\",'2.Logbook'!AP91)","v":""},{"$f":"IF('2.Logbook'!AQ91=\"\",\"\",'2.Logbook'!AQ91)","v":""},{"$f":"IF('2.Logbook'!AR91=\"\",\"\",'2.Logbook'!AR91)","v":""},{"$f":"IF('2.Logbook'!AS91=\"\",\"\",'2.Logbook'!AS91)","v":""},{"$f":"IF('2.Logbook'!AT91=\"\",\"\",'2.Logbook'!AT91)","v":""},{"$f":"IF('2.Logbook'!AU91=\"\",\"\",'2.Logbook'!AU91)","v":"MATTE YF"},{"$f":"IF('2.Logbook'!AV91=\"\",\"\",'2.Logbook'!AV91)","v":""},{"$f":"IF('2.Logbook'!AW91=\"\",\"\",'2.Logbook'!AW91)","v":""},{"$f":"IF('2.Logbook'!AX91=\"\",\"\",'2.Logbook'!AX91)","v":""},{"$f":"IF('2.Logbook'!AY91=\"\",\"\",'2.Logbook'!AY91)","v":""}]
[{"$f":"IF('2.Logbook'!$A92=\"\",\"\",'2.Logbook'!$A92)","v":"2020-06-27"},{"$f":"IF('2.Logbook'!$B92=\"\",\"\",'2.Logbook'!$B92)","v":"12:00:00"},{"$f":"IF('2.Logbook'!AH92=\"\",\"\",'2.Logbook'!AH92)","v":""},{"$f":"IF('2.Logbook'!AI92=\"\",\"\",'2.Logbook'!AI92)","v":""},{"$f":"IF('2.Logbook'!AJ92=\"\",\"\",'2.Logbook'!AJ92)","v":1},{"$f":"IF('2.Logbook'!AK92=\"\",\"\",'2.Logbook'!AK92)","v":""},{"$f":"IF('2.Logbook'!AL92=\"\",\"\",'2.Logbook'!AL92)","v":""},{"$f":"IF('2.Logbook'!AM92=\"\",\"\",'2.Logbook'!AM92)","v":""},{"$f":"IF('2.Logbook'!AN92=\"\",\"\",'2.Logbook'!AN92)","v":""},{"$f":"IF('2.Logbook'!AO92=\"\",\"\",'2.Logbook'!AO92)","v":""},{"$f":"IF('2.Logbook'!AP92=\"\",\"\",'2.Logbook'!AP92)","v":""},{"$f":"IF('2.Logbook'!AQ92=\"\",\"\",'2.Logbook'!AQ92)","v":""},{"$f":"IF('2.Logbook'!AR92=\"\",\"\",'2.Logbook'!AR92)","v":""},{"$f":"IF('2.Logbook'!AS92=\"\",\"\",'2.Logbook'!AS92)","v":""},{"$f":"IF('2.Logbook'!AT92=\"\",\"\",'2.Logbook'!AT92)","v":""},{"$f":"IF('2.Logbook'!AU92=\"\",\"\",'2.Logbook'!AU92)","v":""},{"$f":"IF('2.Logbook'!AV92=\"\",\"\",'2.Logbook'!AV92)","v":""},{"$f":"IF('2.Logbook'!AW92=\"\",\"\",'2.Logbook'!AW92)","v":""},{"$f":"IF('2.Logbook'!AX92=\"\",\"\",'2.Logbook'!AX92)","v":""},{"$f":"IF('2.Logbook'!AY92=\"\",\"\",'2.Logbook'!AY92)","v":""}]
[{"$f":"IF('2.Logbook'!$A93=\"\",\"\",'2.Logbook'!$A93)","v":"2020-06-27"},{"$f":"IF('2.Logbook'!$B93=\"\",\"\",'2.Logbook'!$B93)","v":"14:50:00"},{"$f":"IF('2.Logbook'!AH93=\"\",\"\",'2.Logbook'!AH93)","v":""},{"$f":"IF('2.Logbook'!AI93=\"\",\"\",'2.Logbook'!AI93)","v":""},{"$f":"IF('2.Logbook'!AJ93=\"\",\"\",'2.Logbook'!AJ93)","v":1},{"$f":"IF('2.Logbook'!AK93=\"\",\"\",'2.Logbook'!AK93)","v":""},{"$f":"IF('2.Logbook'!AL93=\"\",\"\",'2.Logbook'!AL93)","v":""},{"$f":"IF('2.Logbook'!AM93=\"\",\"\",'2.Logbook'!AM93)","v":""},{"$f":"IF('2.Logbook'!AN93=\"\",\"\",'2.Logbook'!AN93)","v":""},{"$f":"IF('2.Logbook'!AO93=\"\",\"\",'2.Logbook'!AO93)","v":""},{"$f":"IF('2.Logbook'!AP93=\"\",\"\",'2.Logbook'!AP93)","v":""},{"$f":"IF('2.Logbook'!AQ93=\"\",\"\",'2.Logbook'!AQ93)","v":""},{"$f":"IF('2.Logbook'!AR93=\"\",\"\",'2.Logbook'!AR93)","v":""},{"$f":"IF('2.Logbook'!AS93=\"\",\"\",'2.Logbook'!AS93)","v":""},{"$f":"IF('2.Logbook'!AT93=\"\",\"\",'2.Logbook'!AT93)","v":""},{"$f":"IF('2.Logbook'!AU93=\"\",\"\",'2.Logbook'!AU93)","v":""},{"$f":"IF('2.Logbook'!AV93=\"\",\"\",'2.Logbook'!AV93)","v":""},{"$f":"IF('2.Logbook'!AW93=\"\",\"\",'2.Logbook'!AW93)","v":""},{"$f":"IF('2.Logbook'!AX93=\"\",\"\",'2.Logbook'!AX93)","v":""},{"$f":"IF('2.Logbook'!AY93=\"\",\"\",'2.Logbook'!AY93)","v":""}]
[{"$f":"IF('2.Logbook'!$A94=\"\",\"\",'2.Logbook'!$A94)","v":"2020-06-27"},{"$f":"IF('2.Logbook'!$B94=\"\",\"\",'2.Logbook'!$B94)","v":"17:13:00"},{"$f":"IF('2.Logbook'!AH94=\"\",\"\",'2.Logbook'!AH94)","v":""},{"$f":"IF('2.Logbook'!AI94=\"\",\"\",'2.Logbook'!AI94)","v":""},{"$f":"IF('2.Logbook'!AJ94=\"\",\"\",'2.Logbook'!AJ94)","v":""},{"$f":"IF('2.Logbook'!AK94=\"\",\"\",'2.Logbook'!AK94)","v":""},{"$f":"IF('2.Logbook'!AL94=\"\",\"\",'2.Logbook'!AL94)","v":""},{"$f":"IF('2.Logbook'!AM94=\"\",\"\",'2.Logbook'!AM94)","v":""},{"$f":"IF('2.Logbook'!AN94=\"\",\"\",'2.Logbook'!AN94)","v":""},{"$f":"IF('2.Logbook'!AO94=\"\",\"\",'2.Logbook'!AO94)","v":""},{"$f":"IF('2.Logbook'!AP94=\"\",\"\",'2.Logbook'!AP94)","v":""},{"$f":"IF('2.Logbook'!AQ94=\"\",\"\",'2.Logbook'!AQ94)","v":""},{"$f":"IF('2.Logbook'!AR94=\"\",\"\",'2.Logbook'!AR94)","v":""},{"$f":"IF('2.Logbook'!AS94=\"\",\"\",'2.Logbook'!AS94)","v":""},{"$f":"IF('2.Logbook'!AT94=\"\",\"\",'2.Logbook'!AT94)","v":""},{"$f":"IF('2.Logbook'!AU94=\"\",\"\",'2.Logbook'!AU94)","v":""},{"$f":"IF('2.Logbook'!AV94=\"\",\"\",'2.Logbook'!AV94)","v":""},{"$f":"IF('2.Logbook'!AW94=\"\",\"\",'2.Logbook'!AW94)","v":""},{"$f":"IF('2.Logbook'!AX94=\"\",\"\",'2.Logbook'!AX94)","v":""},{"$f":"IF('2.Logbook'!AY94=\"\",\"\",'2.Logbook'!AY94)","v":""}]
[{"$f":"IF('2.Logbook'!$A95=\"\",\"\",'2.Logbook'!$A95)","v":"2020-06-28"},{"$f":"IF('2.Logbook'!$B95=\"\",\"\",'2.Logbook'!$B95)","v":"07:45:00"},{"$f":"IF('2.Logbook'!AH95=\"\",\"\",'2.Logbook'!AH95)","v":""},{"$f":"IF('2.Logbook'!AI95=\"\",\"\",'2.Logbook'!AI95)","v":""},{"$f":"IF('2.Logbook'!AJ95=\"\",\"\",'2.Logbook'!AJ95)","v":""},{"$f":"IF('2.Logbook'!AK95=\"\",\"\",'2.Logbook'!AK95)","v":"Visite sans pêche"},{"$f":"IF('2.Logbook'!AL95=\"\",\"\",'2.Logbook'!AL95)","v":"DCP dérivant"},{"$f":"IF('2.Logbook'!AM95=\"\",\"\",'2.Logbook'!AM95)","v":"DCP espagnol émergé métal"},{"$f":"IF('2.Logbook'!AN95=\"\",\"\",'2.Logbook'!AN95)","v":"< 6, 5 cm"},{"$f":"IF('2.Logbook'!AO95=\"\",\"\",'2.Logbook'!AO95)","v":"Non observable"},{"$f":"IF('2.Logbook'!AP95=\"\",\"\",'2.Logbook'!AP95)","v":"Transfert"},{"$f":"IF('2.Logbook'!AQ95=\"\",\"\",'2.Logbook'!AQ95)","v":"M3i+"},{"$f":"IF('2.Logbook'!AR95=\"\",\"\",'2.Logbook'!AR95)","v":593387},{"$f":"IF('2.Logbook'!AS95=\"\",\"\",'2.Logbook'!AS95)","v":"M3i+"},{"$f":"IF('2.Logbook'!AT95=\"\",\"\",'2.Logbook'!AT95)","v":585571},{"$f":"IF('2.Logbook'!AU95=\"\",\"\",'2.Logbook'!AU95)","v":""},{"$f":"IF('2.Logbook'!AV95=\"\",\"\",'2.Logbook'!AV95)","v":""},{"$f":"IF('2.Logbook'!AW95=\"\",\"\",'2.Logbook'!AW95)","v":""},{"$f":"IF('2.Logbook'!AX95=\"\",\"\",'2.Logbook'!AX95)","v":""},{"$f":"IF('2.Logbook'!AY95=\"\",\"\",'2.Logbook'!AY95)","v":""}]
[{"$f":"IF('2.Logbook'!$A96=\"\",\"\",'2.Logbook'!$A96)","v":"2020-06-28"},{"$f":"IF('2.Logbook'!$B96=\"\",\"\",'2.Logbook'!$B96)","v":"08:40:00"},{"$f":"IF('2.Logbook'!AH96=\"\",\"\",'2.Logbook'!AH96)","v":""},{"$f":"IF('2.Logbook'!AI96=\"\",\"\",'2.Logbook'!AI96)","v":""},{"$f":"IF('2.Logbook'!AJ96=\"\",\"\",'2.Logbook'!AJ96)","v":""},{"$f":"IF('2.Logbook'!AK96=\"\",\"\",'2.Logbook'!AK96)","v":"Mise à l'eau"},{"$f":"IF('2.Logbook'!AL96=\"\",\"\",'2.Logbook'!AL96)","v":"DCP dérivant"},{"$f":"IF('2.Logbook'!AM96=\"\",\"\",'2.Logbook'!AM96)","v":"DCP français émergé bambou"},{"$f":"IF('2.Logbook'!AN96=\"\",\"\",'2.Logbook'!AN96)","v":"< 6, 5 cm"},{"$f":"IF('2.Logbook'!AO96=\"\",\"\",'2.Logbook'!AO96)","v":"< 6, 5 cm"},{"$f":"IF('2.Logbook'!AP96=\"\",\"\",'2.Logbook'!AP96)","v":"Mise à l'eau"},{"$f":"IF('2.Logbook'!AQ96=\"\",\"\",'2.Logbook'!AQ96)","v":""},{"$f":"IF('2.Logbook'!AR96=\"\",\"\",'2.Logbook'!AR96)","v":""},{"$f":"IF('2.Logbook'!AS96=\"\",\"\",'2.Logbook'!AS96)","v":"M3i+"},{"$f":"IF('2.Logbook'!AT96=\"\",\"\",'2.Logbook'!AT96)","v":585736},{"$f":"IF('2.Logbook'!AU96=\"\",\"\",'2.Logbook'!AU96)","v":""},{"$f":"IF('2.Logbook'!AV96=\"\",\"\",'2.Logbook'!AV96)","v":""},{"$f":"IF('2.Logbook'!AW96=\"\",\"\",'2.Logbook'!AW96)","v":""},{"$f":"IF('2.Logbook'!AX96=\"\",\"\",'2.Logbook'!AX96)","v":""},{"$f":"IF('2.Logbook'!AY96=\"\",\"\",'2.Logbook'!AY96)","v":""}]
[{"$f":"IF('2.Logbook'!$A97=\"\",\"\",'2.Logbook'!$A97)","v":"2020-06-29"},{"$f":"IF('2.Logbook'!$B97=\"\",\"\",'2.Logbook'!$B97)","v":"9;40"},{"$f":"IF('2.Logbook'!AH97=\"\",\"\",'2.Logbook'!AH97)","v":""},{"$f":"IF('2.Logbook'!AI97=\"\",\"\",'2.Logbook'!AI97)","v":""},{"$f":"IF('2.Logbook'!AJ97=\"\",\"\",'2.Logbook'!AJ97)","v":""},{"$f":"IF('2.Logbook'!AK97=\"\",\"\",'2.Logbook'!AK97)","v":""},{"$f":"IF('2.Logbook'!AL97=\"\",\"\",'2.Logbook'!AL97)","v":""},{"$f":"IF('2.Logbook'!AM97=\"\",\"\",'2.Logbook'!AM97)","v":""},{"$f":"IF('2.Logbook'!AN97=\"\",\"\",'2.Logbook'!AN97)","v":""},{"$f":"IF('2.Logbook'!AO97=\"\",\"\",'2.Logbook'!AO97)","v":""},{"$f":"IF('2.Logbook'!AP97=\"\",\"\",'2.Logbook'!AP97)","v":""},{"$f":"IF('2.Logbook'!AQ97=\"\",\"\",'2.Logbook'!AQ97)","v":""},{"$f":"IF('2.Logbook'!AR97=\"\",\"\",'2.Logbook'!AR97)","v":""},{"$f":"IF('2.Logbook'!AS97=\"\",\"\",'2.Logbook'!AS97)","v":""},{"$f":"IF('2.Logbook'!AT97=\"\",\"\",'2.Logbook'!AT97)","v":""},{"$f":"IF('2.Logbook'!AU97=\"\",\"\",'2.Logbook'!AU97)","v":"MATTE YF"},{"$f":"IF('2.Logbook'!AV97=\"\",\"\",'2.Logbook'!AV97)","v":""},{"$f":"IF('2.Logbook'!AW97=\"\",\"\",'2.Logbook'!AW97)","v":""},{"$f":"IF('2.Logbook'!AX97=\"\",\"\",'2.Logbook'!AX97)","v":""},{"$f":"IF('2.Logbook'!AY97=\"\",\"\",'2.Logbook'!AY97)","v":""}]
[{"$f":"IF('2.Logbook'!$A98=\"\",\"\",'2.Logbook'!$A98)","v":"2020-06-29"},{"$f":"IF('2.Logbook'!$B98=\"\",\"\",'2.Logbook'!$B98)","v":"13:15:00"},{"$f":"IF('2.Logbook'!AH98=\"\",\"\",'2.Logbook'!AH98)","v":""},{"$f":"IF('2.Logbook'!AI98=\"\",\"\",'2.Logbook'!AI98)","v":""},{"$f":"IF('2.Logbook'!AJ98=\"\",\"\",'2.Logbook'!AJ98)","v":""},{"$f":"IF('2.Logbook'!AK98=\"\",\"\",'2.Logbook'!AK98)","v":""},{"$f":"IF('2.Logbook'!AL98=\"\",\"\",'2.Logbook'!AL98)","v":""},{"$f":"IF('2.Logbook'!AM98=\"\",\"\",'2.Logbook'!AM98)","v":""},{"$f":"IF('2.Logbook'!AN98=\"\",\"\",'2.Logbook'!AN98)","v":""},{"$f":"IF('2.Logbook'!AO98=\"\",\"\",'2.Logbook'!AO98)","v":""},{"$f":"IF('2.Logbook'!AP98=\"\",\"\",'2.Logbook'!AP98)","v":""},{"$f":"IF('2.Logbook'!AQ98=\"\",\"\",'2.Logbook'!AQ98)","v":""},{"$f":"IF('2.Logbook'!AR98=\"\",\"\",'2.Logbook'!AR98)","v":""},{"$f":"IF('2.Logbook'!AS98=\"\",\"\",'2.Logbook'!AS98)","v":""},{"$f":"IF('2.Logbook'!AT98=\"\",\"\",'2.Logbook'!AT98)","v":""},{"$f":"IF('2.Logbook'!AU98=\"\",\"\",'2.Logbook'!AU98)","v":"MATTE YF"},{"$f":"IF('2.Logbook'!AV98=\"\",\"\",'2.Logbook'!AV98)","v":""},{"$f":"IF('2.Logbook'!AW98=\"\",\"\",'2.Logbook'!AW98)","v":""},{"$f":"IF('2.Logbook'!AX98=\"\",\"\",'2.Logbook'!AX98)","v":""},{"$f":"IF('2.Logbook'!AY98=\"\",\"\",'2.Logbook'!AY98)","v":""}]
[{"$f":"IF('2.Logbook'!$A99=\"\",\"\",'2.Logbook'!$A99)","v":"2020-06-30"},{"$f":"IF('2.Logbook'!$B99=\"\",\"\",'2.Logbook'!$B99)","v":"07:40:00"},{"$f":"IF('2.Logbook'!AH99=\"\",\"\",'2.Logbook'!AH99)","v":""},{"$f":"IF('2.Logbook'!AI99=\"\",\"\",'2.Logbook'!AI99)","v":""},{"$f":"IF('2.Logbook'!AJ99=\"\",\"\",'2.Logbook'!AJ99)","v":""},{"$f":"IF('2.Logbook'!AK99=\"\",\"\",'2.Logbook'!AK99)","v":""},{"$f":"IF('2.Logbook'!AL99=\"\",\"\",'2.Logbook'!AL99)","v":""},{"$f":"IF('2.Logbook'!AM99=\"\",\"\",'2.Logbook'!AM99)","v":""},{"$f":"IF('2.Logbook'!AN99=\"\",\"\",'2.Logbook'!AN99)","v":""},{"$f":"IF('2.Logbook'!AO99=\"\",\"\",'2.Logbook'!AO99)","v":""},{"$f":"IF('2.Logbook'!AP99=\"\",\"\",'2.Logbook'!AP99)","v":""},{"$f":"IF('2.Logbook'!AQ99=\"\",\"\",'2.Logbook'!AQ99)","v":""},{"$f":"IF('2.Logbook'!AR99=\"\",\"\",'2.Logbook'!AR99)","v":""},{"$f":"IF('2.Logbook'!AS99=\"\",\"\",'2.Logbook'!AS99)","v":""},{"$f":"IF('2.Logbook'!AT99=\"\",\"\",'2.Logbook'!AT99)","v":""},{"$f":"IF('2.Logbook'!AU99=\"\",\"\",'2.Logbook'!AU99)","v":"MATTE YF"},{"$f":"IF('2.Logbook'!AV99=\"\",\"\",'2.Logbook'!AV99)","v":""},{"$f":"IF('2.Logbook'!AW99=\"\",\"\",'2.Logbook'!AW99)","v":""},{"$f":"IF('2.Logbook'!AX99=\"\",\"\",'2.Logbook'!AX99)","v":""},{"$f":"IF('2.Logbook'!AY99=\"\",\"\",'2.Logbook'!AY99)","v":""}]
[{"$f":"IF('2.Logbook'!$A100=\"\",\"\",'2.Logbook'!$A100)","v":"2020-06-30"},{"$f":"IF('2.Logbook'!$B100=\"\",\"\",'2.Logbook'!$B100)","v":"10;30"},{"$f":"IF('2.Logbook'!AH100=\"\",\"\",'2.Logbook'!AH100)","v":""},{"$f":"IF('2.Logbook'!AI100=\"\",\"\",'2.Logbook'!AI100)","v":""},{"$f":"IF('2.Logbook'!AJ100=\"\",\"\",'2.Logbook'!AJ100)","v":""},{"$f":"IF('2.Logbook'!AK100=\"\",\"\",'2.Logbook'!AK100)","v":""},{"$f":"IF('2.Logbook'!AL100=\"\",\"\",'2.Logbook'!AL100)","v":""},{"$f":"IF('2.Logbook'!AM100=\"\",\"\",'2.Logbook'!AM100)","v":""},{"$f":"IF('2.Logbook'!AN100=\"\",\"\",'2.Logbook'!AN100)","v":""},{"$f":"IF('2.Logbook'!AO100=\"\",\"\",'2.Logbook'!AO100)","v":""},{"$f":"IF('2.Logbook'!AP100=\"\",\"\",'2.Logbook'!AP100)","v":""},{"$f":"IF('2.Logbook'!AQ100=\"\",\"\",'2.Logbook'!AQ100)","v":""},{"$f":"IF('2.Logbook'!AR100=\"\",\"\",'2.Logbook'!AR100)","v":""},{"$f":"IF('2.Logbook'!AS100=\"\",\"\",'2.Logbook'!AS100)","v":""},{"$f":"IF('2.Logbook'!AT100=\"\",\"\",'2.Logbook'!AT100)","v":""},{"$f":"IF('2.Logbook'!AU100=\"\",\"\",'2.Logbook'!AU100)","v":"MATTE YF"},{"$f":"IF('2.Logbook'!AV100=\"\",\"\",'2.Logbook'!AV100)","v":""},{"$f":"IF('2.Logbook'!AW100=\"\",\"\",'2.Logbook'!AW100)","v":""},{"$f":"IF('2.Logbook'!AX100=\"\",\"\",'2.Logbook'!AX100)","v":""},{"$f":"IF('2.Logbook'!AY100=\"\",\"\",'2.Logbook'!AY100)","v":""}]
[{"$f":"IF('2.Logbook'!$A101=\"\",\"\",'2.Logbook'!$A101)","v":"2020-07-01"},{"$f":"IF('2.Logbook'!$B101=\"\",\"\",'2.Logbook'!$B101)","v":"13:25:00"},{"$f":"IF('2.Logbook'!AH101=\"\",\"\",'2.Logbook'!AH101)","v":""},{"$f":"IF('2.Logbook'!AI101=\"\",\"\",'2.Logbook'!AI101)","v":""},{"$f":"IF('2.Logbook'!AJ101=\"\",\"\",'2.Logbook'!AJ101)","v":""},{"$f":"IF('2.Logbook'!AK101=\"\",\"\",'2.Logbook'!AK101)","v":"Visite avec pêche"},{"$f":"IF('2.Logbook'!AL101=\"\",\"\",'2.Logbook'!AL101)","v":"DCP dérivant"},{"$f":"IF('2.Logbook'!AM101=\"\",\"\",'2.Logbook'!AM101)","v":"DCP espagnol émergé métal"},{"$f":"IF('2.Logbook'!AN101=\"\",\"\",'2.Logbook'!AN101)","v":""},{"$f":"IF('2.Logbook'!AO101=\"\",\"\",'2.Logbook'!AO101)","v":"> 6,5 cm"},{"$f":"IF('2.Logbook'!AP101=\"\",\"\",'2.Logbook'!AP101)","v":"Visite"},{"$f":"IF('2.Logbook'!AQ101=\"\",\"\",'2.Logbook'!AQ101)","v":"M3i+"},{"$f":"IF('2.Logbook'!AR101=\"\",\"\",'2.Logbook'!AR101)","v":585571},{"$f":"IF('2.Logbook'!AS101=\"\",\"\",'2.Logbook'!AS101)","v":""},{"$f":"IF('2.Logbook'!AT101=\"\",\"\",'2.Logbook'!AT101)","v":""},{"$f":"IF('2.Logbook'!AU101=\"\",\"\",'2.Logbook'!AU101)","v":""},{"$f":"IF('2.Logbook'!AV101=\"\",\"\",'2.Logbook'!AV101)","v":""},{"$f":"IF('2.Logbook'!AW101=\"\",\"\",'2.Logbook'!AW101)","v":""},{"$f":"IF('2.Logbook'!AX101=\"\",\"\",'2.Logbook'!AX101)","v":""},{"$f":"IF('2.Logbook'!AY101=\"\",\"\",'2.Logbook'!AY101)","v":""}]
[{"$f":"IF('2.Logbook'!$A102=\"\",\"\",'2.Logbook'!$A102)","v":"2020-07-01"},{"$f":"IF('2.Logbook'!$B102=\"\",\"\",'2.Logbook'!$B102)","v":"13:25:00"},{"$f":"IF('2.Logbook'!AH102=\"\",\"\",'2.Logbook'!AH102)","v":""},{"$f":"IF('2.Logbook'!AI102=\"\",\"\",'2.Logbook'!AI102)","v":""},{"$f":"IF('2.Logbook'!AJ102=\"\",\"\",'2.Logbook'!AJ102)","v":""},{"$f":"IF('2.Logbook'!AK102=\"\",\"\",'2.Logbook'!AK102)","v":""},{"$f":"IF('2.Logbook'!AL102=\"\",\"\",'2.Logbook'!AL102)","v":""},{"$f":"IF('2.Logbook'!AM102=\"\",\"\",'2.Logbook'!AM102)","v":""},{"$f":"IF('2.Logbook'!AN102=\"\",\"\",'2.Logbook'!AN102)","v":""},{"$f":"IF('2.Logbook'!AO102=\"\",\"\",'2.Logbook'!AO102)","v":""},{"$f":"IF('2.Logbook'!AP102=\"\",\"\",'2.Logbook'!AP102)","v":""},{"$f":"IF('2.Logbook'!AQ102=\"\",\"\",'2.Logbook'!AQ102)","v":""},{"$f":"IF('2.Logbook'!AR102=\"\",\"\",'2.Logbook'!AR102)","v":""},{"$f":"IF('2.Logbook'!AS102=\"\",\"\",'2.Logbook'!AS102)","v":""},{"$f":"IF('2.Logbook'!AT102=\"\",\"\",'2.Logbook'!AT102)","v":""},{"$f":"IF('2.Logbook'!AU102=\"\",\"\",'2.Logbook'!AU102)","v":""},{"$f":"IF('2.Logbook'!AV102=\"\",\"\",'2.Logbook'!AV102)","v":""},{"$f":"IF('2.Logbook'!AW102=\"\",\"\",'2.Logbook'!AW102)","v":""},{"$f":"IF('2.Logbook'!AX102=\"\",\"\",'2.Logbook'!AX102)","v":""},{"$f":"IF('2.Logbook'!AY102=\"\",\"\",'2.Logbook'!AY102)","v":""}]
[{"$f":"IF('2.Logbook'!$A103=\"\",\"\",'2.Logbook'!$A103)","v":"2020-07-02"},{"$f":"IF('2.Logbook'!$B103=\"\",\"\",'2.Logbook'!$B103)","v":"07:40:00"},{"$f":"IF('2.Logbook'!AH103=\"\",\"\",'2.Logbook'!AH103)","v":""},{"$f":"IF('2.Logbook'!AI103=\"\",\"\",'2.Logbook'!AI103)","v":""},{"$f":"IF('2.Logbook'!AJ103=\"\",\"\",'2.Logbook'!AJ103)","v":""},{"$f":"IF('2.Logbook'!AK103=\"\",\"\",'2.Logbook'!AK103)","v":"Visite avec pêche"},{"$f":"IF('2.Logbook'!AL103=\"\",\"\",'2.Logbook'!AL103)","v":"DCP dérivant"},{"$f":"IF('2.Logbook'!AM103=\"\",\"\",'2.Logbook'!AM103)","v":"DCP français émergé bambou"},{"$f":"IF('2.Logbook'!AN103=\"\",\"\",'2.Logbook'!AN103)","v":"< 6, 5 cm"},{"$f":"IF('2.Logbook'!AO103=\"\",\"\",'2.Logbook'!AO103)","v":"< 6, 5 cm"},{"$f":"IF('2.Logbook'!AP103=\"\",\"\",'2.Logbook'!AP103)","v":""},{"$f":"IF('2.Logbook'!AQ103=\"\",\"\",'2.Logbook'!AQ103)","v":"M3i+"},{"$f":"IF('2.Logbook'!AR103=\"\",\"\",'2.Logbook'!AR103)","v":585736},{"$f":"IF('2.Logbook'!AS103=\"\",\"\",'2.Logbook'!AS103)","v":""},{"$f":"IF('2.Logbook'!AT103=\"\",\"\",'2.Logbook'!AT103)","v":""},{"$f":"IF('2.Logbook'!AU103=\"\",\"\",'2.Logbook'!AU103)","v":""},{"$f":"IF('2.Logbook'!AV103=\"\",\"\",'2.Logbook'!AV103)","v":""},{"$f":"IF('2.Logbook'!AW103=\"\",\"\",'2.Logbook'!AW103)","v":""},{"$f":"IF('2.Logbook'!AX103=\"\",\"\",'2.Logbook'!AX103)","v":""},{"$f":"IF('2.Logbook'!AY103=\"\",\"\",'2.Logbook'!AY103)","v":""}]
[{"$f":"IF('2.Logbook'!$A104=\"\",\"\",'2.Logbook'!$A104)","v":"2020-07-02"},{"$f":"IF('2.Logbook'!$B104=\"\",\"\",'2.Logbook'!$B104)","v":"13:30:00"},{"$f":"IF('2.Logbook'!AH104=\"\",\"\",'2.Logbook'!AH104)","v":""},{"$f":"IF('2.Logbook'!AI104=\"\",\"\",'2.Logbook'!AI104)","v":""},{"$f":"IF('2.Logbook'!AJ104=\"\",\"\",'2.Logbook'!AJ104)","v":""},{"$f":"IF('2.Logbook'!AK104=\"\",\"\",'2.Logbook'!AK104)","v":"Visite sans pêche"},{"$f":"IF('2.Logbook'!AL104=\"\",\"\",'2.Logbook'!AL104)","v":"DCP dérivant"},{"$f":"IF('2.Logbook'!AM104=\"\",\"\",'2.Logbook'!AM104)","v":"DCP espagnol émergé métal"},{"$f":"IF('2.Logbook'!AN104=\"\",\"\",'2.Logbook'!AN104)","v":"< 6, 5 cm"},{"$f":"IF('2.Logbook'!AO104=\"\",\"\",'2.Logbook'!AO104)","v":"Non observable"},{"$f":"IF('2.Logbook'!AP104=\"\",\"\",'2.Logbook'!AP104)","v":""},{"$f":"IF('2.Logbook'!AQ104=\"\",\"\",'2.Logbook'!AQ104)","v":"ISD+"},{"$f":"IF('2.Logbook'!AR104=\"\",\"\",'2.Logbook'!AR104)","v":321183},{"$f":"IF('2.Logbook'!AS104=\"\",\"\",'2.Logbook'!AS104)","v":"M3i+"},{"$f":"IF('2.Logbook'!AT104=\"\",\"\",'2.Logbook'!AT104)","v":585766},{"$f":"IF('2.Logbook'!AU104=\"\",\"\",'2.Logbook'!AU104)","v":""},{"$f":"IF('2.Logbook'!AV104=\"\",\"\",'2.Logbook'!AV104)","v":""},{"$f":"IF('2.Logbook'!AW104=\"\",\"\",'2.Logbook'!AW104)","v":""},{"$f":"IF('2.Logbook'!AX104=\"\",\"\",'2.Logbook'!AX104)","v":""},{"$f":"IF('2.Logbook'!AY104=\"\",\"\",'2.Logbook'!AY104)","v":""}]
[{"$f":"IF('2.Logbook'!$A105=\"\",\"\",'2.Logbook'!$A105)","v":"2020-07-03"},{"$f":"IF('2.Logbook'!$B105=\"\",\"\",'2.Logbook'!$B105)","v":"06:30:00"},{"$f":"IF('2.Logbook'!AH105=\"\",\"\",'2.Logbook'!AH105)","v":""},{"$f":"IF('2.Logbook'!AI105=\"\",\"\",'2.Logbook'!AI105)","v":""},{"$f":"IF('2.Logbook'!AJ105=\"\",\"\",'2.Logbook'!AJ105)","v":""},{"$f":"IF('2.Logbook'!AK105=\"\",\"\",'2.Logbook'!AK105)","v":"Visite avec pêche"},{"$f":"IF('2.Logbook'!AL105=\"\",\"\",'2.Logbook'!AL105)","v":"DCP dérivant"},{"$f":"IF('2.Logbook'!AM105=\"\",\"\",'2.Logbook'!AM105)","v":"DCP espagnol émergé métal"},{"$f":"IF('2.Logbook'!AN105=\"\",\"\",'2.Logbook'!AN105)","v":"< 6, 5 cm"},{"$f":"IF('2.Logbook'!AO105=\"\",\"\",'2.Logbook'!AO105)","v":""},{"$f":"IF('2.Logbook'!AP105=\"\",\"\",'2.Logbook'!AP105)","v":""},{"$f":"IF('2.Logbook'!AQ105=\"\",\"\",'2.Logbook'!AQ105)","v":"M3i+"},{"$f":"IF('2.Logbook'!AR105=\"\",\"\",'2.Logbook'!AR105)","v":585766},{"$f":"IF('2.Logbook'!AS105=\"\",\"\",'2.Logbook'!AS105)","v":""},{"$f":"IF('2.Logbook'!AT105=\"\",\"\",'2.Logbook'!AT105)","v":""},{"$f":"IF('2.Logbook'!AU105=\"\",\"\",'2.Logbook'!AU105)","v":""},{"$f":"IF('2.Logbook'!AV105=\"\",\"\",'2.Logbook'!AV105)","v":""},{"$f":"IF('2.Logbook'!AW105=\"\",\"\",'2.Logbook'!AW105)","v":""},{"$f":"IF('2.Logbook'!AX105=\"\",\"\",'2.Logbook'!AX105)","v":""},{"$f":"IF('2.Logbook'!AY105=\"\",\"\",'2.Logbook'!AY105)","v":""}]
[{"$f":"IF('2.Logbook'!$A106=\"\",\"\",'2.Logbook'!$A106)","v":"2020-07-03"},{"$f":"IF('2.Logbook'!$B106=\"\",\"\",'2.Logbook'!$B106)","v":"06:30:00"},{"$f":"IF('2.Logbook'!AH106=\"\",\"\",'2.Logbook'!AH106)","v":""},{"$f":"IF('2.Logbook'!AI106=\"\",\"\",'2.Logbook'!AI106)","v":""},{"$f":"IF('2.Logbook'!AJ106=\"\",\"\",'2.Logbook'!AJ106)","v":""},{"$f":"IF('2.Logbook'!AK106=\"\",\"\",'2.Logbook'!AK106)","v":""},{"$f":"IF('2.Logbook'!AL106=\"\",\"\",'2.Logbook'!AL106)","v":""},{"$f":"IF('2.Logbook'!AM106=\"\",\"\",'2.Logbook'!AM106)","v":""},{"$f":"IF('2.Logbook'!AN106=\"\",\"\",'2.Logbook'!AN106)","v":""},{"$f":"IF('2.Logbook'!AO106=\"\",\"\",'2.Logbook'!AO106)","v":""},{"$f":"IF('2.Logbook'!AP106=\"\",\"\",'2.Logbook'!AP106)","v":""},{"$f":"IF('2.Logbook'!AQ106=\"\",\"\",'2.Logbook'!AQ106)","v":""},{"$f":"IF('2.Logbook'!AR106=\"\",\"\",'2.Logbook'!AR106)","v":""},{"$f":"IF('2.Logbook'!AS106=\"\",\"\",'2.Logbook'!AS106)","v":""},{"$f":"IF('2.Logbook'!AT106=\"\",\"\",'2.Logbook'!AT106)","v":""},{"$f":"IF('2.Logbook'!AU106=\"\",\"\",'2.Logbook'!AU106)","v":""},{"$f":"IF('2.Logbook'!AV106=\"\",\"\",'2.Logbook'!AV106)","v":""},{"$f":"IF('2.Logbook'!AW106=\"\",\"\",'2.Logbook'!AW106)","v":""},{"$f":"IF('2.Logbook'!AX106=\"\",\"\",'2.Logbook'!AX106)","v":""},{"$f":"IF('2.Logbook'!AY106=\"\",\"\",'2.Logbook'!AY106)","v":""}]
[{"$f":"IF('2.Logbook'!$A107=\"\",\"\",'2.Logbook'!$A107)","v":"2020-07-03"},{"$f":"IF('2.Logbook'!$B107=\"\",\"\",'2.Logbook'!$B107)","v":"13:20:00"},{"$f":"IF('2.Logbook'!AH107=\"\",\"\",'2.Logbook'!AH107)","v":""},{"$f":"IF('2.Logbook'!AI107=\"\",\"\",'2.Logbook'!AI107)","v":""},{"$f":"IF('2.Logbook'!AJ107=\"\",\"\",'2.Logbook'!AJ107)","v":""},{"$f":"IF('2.Logbook'!AK107=\"\",\"\",'2.Logbook'!AK107)","v":"Visite avec pêche"},{"$f":"IF('2.Logbook'!AL107=\"\",\"\",'2.Logbook'!AL107)","v":"DCP dérivant"},{"$f":"IF('2.Logbook'!AM107=\"\",\"\",'2.Logbook'!AM107)","v":"DCP espagnol émergé métal"},{"$f":"IF('2.Logbook'!AN107=\"\",\"\",'2.Logbook'!AN107)","v":"< 6, 5 cm"},{"$f":"IF('2.Logbook'!AO107=\"\",\"\",'2.Logbook'!AO107)","v":""},{"$f":"IF('2.Logbook'!AP107=\"\",\"\",'2.Logbook'!AP107)","v":""},{"$f":"IF('2.Logbook'!AQ107=\"\",\"\",'2.Logbook'!AQ107)","v":"M3i+"},{"$f":"IF('2.Logbook'!AR107=\"\",\"\",'2.Logbook'!AR107)","v":557571},{"$f":"IF('2.Logbook'!AS107=\"\",\"\",'2.Logbook'!AS107)","v":""},{"$f":"IF('2.Logbook'!AT107=\"\",\"\",'2.Logbook'!AT107)","v":""},{"$f":"IF('2.Logbook'!AU107=\"\",\"\",'2.Logbook'!AU107)","v":""},{"$f":"IF('2.Logbook'!AV107=\"\",\"\",'2.Logbook'!AV107)","v":""},{"$f":"IF('2.Logbook'!AW107=\"\",\"\",'2.Logbook'!AW107)","v":""},{"$f":"IF('2.Logbook'!AX107=\"\",\"\",'2.Logbook'!AX107)","v":""},{"$f":"IF('2.Logbook'!AY107=\"\",\"\",'2.Logbook'!AY107)","v":""}]
[{"$f":"IF('2.Logbook'!$A108=\"\",\"\",'2.Logbook'!$A108)","v":"2020-07-03"},{"$f":"IF('2.Logbook'!$B108=\"\",\"\",'2.Logbook'!$B108)","v":"13:20:00"},{"$f":"IF('2.Logbook'!AH108=\"\",\"\",'2.Logbook'!AH108)","v":""},{"$f":"IF('2.Logbook'!AI108=\"\",\"\",'2.Logbook'!AI108)","v":""},{"$f":"IF('2.Logbook'!AJ108=\"\",\"\",'2.Logbook'!AJ108)","v":""},{"$f":"IF('2.Logbook'!AK108=\"\",\"\",'2.Logbook'!AK108)","v":""},{"$f":"IF('2.Logbook'!AL108=\"\",\"\",'2.Logbook'!AL108)","v":""},{"$f":"IF('2.Logbook'!AM108=\"\",\"\",'2.Logbook'!AM108)","v":""},{"$f":"IF('2.Logbook'!AN108=\"\",\"\",'2.Logbook'!AN108)","v":""},{"$f":"IF('2.Logbook'!AO108=\"\",\"\",'2.Logbook'!AO108)","v":""},{"$f":"IF('2.Logbook'!AP108=\"\",\"\",'2.Logbook'!AP108)","v":""},{"$f":"IF('2.Logbook'!AQ108=\"\",\"\",'2.Logbook'!AQ108)","v":""},{"$f":"IF('2.Logbook'!AR108=\"\",\"\",'2.Logbook'!AR108)","v":""},{"$f":"IF('2.Logbook'!AS108=\"\",\"\",'2.Logbook'!AS108)","v":""},{"$f":"IF('2.Logbook'!AT108=\"\",\"\",'2.Logbook'!AT108)","v":""},{"$f":"IF('2.Logbook'!AU108=\"\",\"\",'2.Logbook'!AU108)","v":""},{"$f":"IF('2.Logbook'!AV108=\"\",\"\",'2.Logbook'!AV108)","v":""},{"$f":"IF('2.Logbook'!AW108=\"\",\"\",'2.Logbook'!AW108)","v":""},{"$f":"IF('2.Logbook'!AX108=\"\",\"\",'2.Logbook'!AX108)","v":""},{"$f":"IF('2.Logbook'!AY108=\"\",\"\",'2.Logbook'!AY108)","v":""}]
[{"$f":"IF('2.Logbook'!$A109=\"\",\"\",'2.Logbook'!$A109)","v":"2020-07-04"},{"$f":"IF('2.Logbook'!$B109=\"\",\"\",'2.Logbook'!$B109)","v":"07:45:00"},{"$f":"IF('2.Logbook'!AH109=\"\",\"\",'2.Logbook'!AH109)","v":""},{"$f":"IF('2.Logbook'!AI109=\"\",\"\",'2.Logbook'!AI109)","v":""},{"$f":"IF('2.Logbook'!AJ109=\"\",\"\",'2.Logbook'!AJ109)","v":""},{"$f":"IF('2.Logbook'!AK109=\"\",\"\",'2.Logbook'!AK109)","v":""},{"$f":"IF('2.Logbook'!AL109=\"\",\"\",'2.Logbook'!AL109)","v":""},{"$f":"IF('2.Logbook'!AM109=\"\",\"\",'2.Logbook'!AM109)","v":""},{"$f":"IF('2.Logbook'!AN109=\"\",\"\",'2.Logbook'!AN109)","v":""},{"$f":"IF('2.Logbook'!AO109=\"\",\"\",'2.Logbook'!AO109)","v":""},{"$f":"IF('2.Logbook'!AP109=\"\",\"\",'2.Logbook'!AP109)","v":""},{"$f":"IF('2.Logbook'!AQ109=\"\",\"\",'2.Logbook'!AQ109)","v":""},{"$f":"IF('2.Logbook'!AR109=\"\",\"\",'2.Logbook'!AR109)","v":""},{"$f":"IF('2.Logbook'!AS109=\"\",\"\",'2.Logbook'!AS109)","v":""},{"$f":"IF('2.Logbook'!AT109=\"\",\"\",'2.Logbook'!AT109)","v":""},{"$f":"IF('2.Logbook'!AU109=\"\",\"\",'2.Logbook'!AU109)","v":""},{"$f":"IF('2.Logbook'!AV109=\"\",\"\",'2.Logbook'!AV109)","v":""},{"$f":"IF('2.Logbook'!AW109=\"\",\"\",'2.Logbook'!AW109)","v":""},{"$f":"IF('2.Logbook'!AX109=\"\",\"\",'2.Logbook'!AX109)","v":""},{"$f":"IF('2.Logbook'!AY109=\"\",\"\",'2.Logbook'!AY109)","v":""}]
[{"$f":"IF('2.Logbook'!$A110=\"\",\"\",'2.Logbook'!$A110)","v":"2020-07-05"},{"$f":"IF('2.Logbook'!$B110=\"\",\"\",'2.Logbook'!$B110)","v":"16.35"},{"$f":"IF('2.Logbook'!AH110=\"\",\"\",'2.Logbook'!AH110)","v":""},{"$f":"IF('2.Logbook'!AI110=\"\",\"\",'2.Logbook'!AI110)","v":""},{"$f":"IF('2.Logbook'!AJ110=\"\",\"\",'2.Logbook'!AJ110)","v":""},{"$f":"IF('2.Logbook'!AK110=\"\",\"\",'2.Logbook'!AK110)","v":"Visite sans pêche"},{"$f":"IF('2.Logbook'!AL110=\"\",\"\",'2.Logbook'!AL110)","v":"DCP dérivant"},{"$f":"IF('2.Logbook'!AM110=\"\",\"\",'2.Logbook'!AM110)","v":"DCP coréen"},{"$f":"IF('2.Logbook'!AN110=\"\",\"\",'2.Logbook'!AN110)","v":"< 6, 5 cm"},{"$f":"IF('2.Logbook'!AO110=\"\",\"\",'2.Logbook'!AO110)","v":"Non observable"},{"$f":"IF('2.Logbook'!AP110=\"\",\"\",'2.Logbook'!AP110)","v":"Transfert"},{"$f":"IF('2.Logbook'!AQ110=\"\",\"\",'2.Logbook'!AQ110)","v":"ISD+"},{"$f":"IF('2.Logbook'!AR110=\"\",\"\",'2.Logbook'!AR110)","v":2031},{"$f":"IF('2.Logbook'!AS110=\"\",\"\",'2.Logbook'!AS110)","v":"M3i+"},{"$f":"IF('2.Logbook'!AT110=\"\",\"\",'2.Logbook'!AT110)","v":585683},{"$f":"IF('2.Logbook'!AU110=\"\",\"\",'2.Logbook'!AU110)","v":""},{"$f":"IF('2.Logbook'!AV110=\"\",\"\",'2.Logbook'!AV110)","v":""},{"$f":"IF('2.Logbook'!AW110=\"\",\"\",'2.Logbook'!AW110)","v":""},{"$f":"IF('2.Logbook'!AX110=\"\",\"\",'2.Logbook'!AX110)","v":""},{"$f":"IF('2.Logbook'!AY110=\"\",\"\",'2.Logbook'!AY110)","v":""}]
[{"$f":"IF('2.Logbook'!$A111=\"\",\"\",'2.Logbook'!$A111)","v":"2020-07-06"},{"$f":"IF('2.Logbook'!$B111=\"\",\"\",'2.Logbook'!$B111)","v":"07:30:00"},{"$f":"IF('2.Logbook'!AH111=\"\",\"\",'2.Logbook'!AH111)","v":""},{"$f":"IF('2.Logbook'!AI111=\"\",\"\",'2.Logbook'!AI111)","v":""},{"$f":"IF('2.Logbook'!AJ111=\"\",\"\",'2.Logbook'!AJ111)","v":""},{"$f":"IF('2.Logbook'!AK111=\"\",\"\",'2.Logbook'!AK111)","v":"Visite sans pêche"},{"$f":"IF('2.Logbook'!AL111=\"\",\"\",'2.Logbook'!AL111)","v":"DCP dérivant"},{"$f":"IF('2.Logbook'!AM111=\"\",\"\",'2.Logbook'!AM111)","v":"DCP espagnol émergé métal"},{"$f":"IF('2.Logbook'!AN111=\"\",\"\",'2.Logbook'!AN111)","v":"Pas de mailles"},{"$f":"IF('2.Logbook'!AO111=\"\",\"\",'2.Logbook'!AO111)","v":"Non observable"},{"$f":"IF('2.Logbook'!AP111=\"\",\"\",'2.Logbook'!AP111)","v":"Transfert"},{"$f":"IF('2.Logbook'!AQ111=\"\",\"\",'2.Logbook'!AQ111)","v":"ISD+"},{"$f":"IF('2.Logbook'!AR111=\"\",\"\",'2.Logbook'!AR111)","v":1935},{"$f":"IF('2.Logbook'!AS111=\"\",\"\",'2.Logbook'!AS111)","v":"M3i+"},{"$f":"IF('2.Logbook'!AT111=\"\",\"\",'2.Logbook'!AT111)","v":585557},{"$f":"IF('2.Logbook'!AU111=\"\",\"\",'2.Logbook'!AU111)","v":""},{"$f":"IF('2.Logbook'!AV111=\"\",\"\",'2.Logbook'!AV111)","v":""},{"$f":"IF('2.Logbook'!AW111=\"\",\"\",'2.Logbook'!AW111)","v":""},{"$f":"IF('2.Logbook'!AX111=\"\",\"\",'2.Logbook'!AX111)","v":""},{"$f":"IF('2.Logbook'!AY111=\"\",\"\",'2.Logbook'!AY111)","v":""}]
[{"$f":"IF('2.Logbook'!$A112=\"\",\"\",'2.Logbook'!$A112)","v":"2020-07-06"},{"$f":"IF('2.Logbook'!$B112=\"\",\"\",'2.Logbook'!$B112)","v":"14:20:00"},{"$f":"IF('2.Logbook'!AH112=\"\",\"\",'2.Logbook'!AH112)","v":""},{"$f":"IF('2.Logbook'!AI112=\"\",\"\",'2.Logbook'!AI112)","v":""},{"$f":"IF('2.Logbook'!AJ112=\"\",\"\",'2.Logbook'!AJ112)","v":""},{"$f":"IF('2.Logbook'!AK112=\"\",\"\",'2.Logbook'!AK112)","v":""},{"$f":"IF('2.Logbook'!AL112=\"\",\"\",'2.Logbook'!AL112)","v":""},{"$f":"IF('2.Logbook'!AM112=\"\",\"\",'2.Logbook'!AM112)","v":""},{"$f":"IF('2.Logbook'!AN112=\"\",\"\",'2.Logbook'!AN112)","v":""},{"$f":"IF('2.Logbook'!AO112=\"\",\"\",'2.Logbook'!AO112)","v":""},{"$f":"IF('2.Logbook'!AP112=\"\",\"\",'2.Logbook'!AP112)","v":""},{"$f":"IF('2.Logbook'!AQ112=\"\",\"\",'2.Logbook'!AQ112)","v":""},{"$f":"IF('2.Logbook'!AR112=\"\",\"\",'2.Logbook'!AR112)","v":""},{"$f":"IF('2.Logbook'!AS112=\"\",\"\",'2.Logbook'!AS112)","v":""},{"$f":"IF('2.Logbook'!AT112=\"\",\"\",'2.Logbook'!AT112)","v":""},{"$f":"IF('2.Logbook'!AU112=\"\",\"\",'2.Logbook'!AU112)","v":""},{"$f":"IF('2.Logbook'!AV112=\"\",\"\",'2.Logbook'!AV112)","v":""},{"$f":"IF('2.Logbook'!AW112=\"\",\"\",'2.Logbook'!AW112)","v":""},{"$f":"IF('2.Logbook'!AX112=\"\",\"\",'2.Logbook'!AX112)","v":""},{"$f":"IF('2.Logbook'!AY112=\"\",\"\",'2.Logbook'!AY112)","v":""}]
[{"$f":"IF('2.Logbook'!$A113=\"\",\"\",'2.Logbook'!$A113)","v":"2020-07-07"},{"$f":"IF('2.Logbook'!$B113=\"\",\"\",'2.Logbook'!$B113)","v":"12:00:00"},{"$f":"IF('2.Logbook'!AH113=\"\",\"\",'2.Logbook'!AH113)","v":""},{"$f":"IF('2.Logbook'!AI113=\"\",\"\",'2.Logbook'!AI113)","v":""},{"$f":"IF('2.Logbook'!AJ113=\"\",\"\",'2.Logbook'!AJ113)","v":""},{"$f":"IF('2.Logbook'!AK113=\"\",\"\",'2.Logbook'!AK113)","v":""},{"$f":"IF('2.Logbook'!AL113=\"\",\"\",'2.Logbook'!AL113)","v":""},{"$f":"IF('2.Logbook'!AM113=\"\",\"\",'2.Logbook'!AM113)","v":""},{"$f":"IF('2.Logbook'!AN113=\"\",\"\",'2.Logbook'!AN113)","v":""},{"$f":"IF('2.Logbook'!AO113=\"\",\"\",'2.Logbook'!AO113)","v":""},{"$f":"IF('2.Logbook'!AP113=\"\",\"\",'2.Logbook'!AP113)","v":""},{"$f":"IF('2.Logbook'!AQ113=\"\",\"\",'2.Logbook'!AQ113)","v":""},{"$f":"IF('2.Logbook'!AR113=\"\",\"\",'2.Logbook'!AR113)","v":""},{"$f":"IF('2.Logbook'!AS113=\"\",\"\",'2.Logbook'!AS113)","v":""},{"$f":"IF('2.Logbook'!AT113=\"\",\"\",'2.Logbook'!AT113)","v":""},{"$f":"IF('2.Logbook'!AU113=\"\",\"\",'2.Logbook'!AU113)","v":"RAS"},{"$f":"IF('2.Logbook'!AV113=\"\",\"\",'2.Logbook'!AV113)","v":""},{"$f":"IF('2.Logbook'!AW113=\"\",\"\",'2.Logbook'!AW113)","v":""},{"$f":"IF('2.Logbook'!AX113=\"\",\"\",'2.Logbook'!AX113)","v":""},{"$f":"IF('2.Logbook'!AY113=\"\",\"\",'2.Logbook'!AY113)","v":""}]
[{"$f":"IF('2.Logbook'!$A114=\"\",\"\",'2.Logbook'!$A114)","v":"2020-07-07"},{"$f":"IF('2.Logbook'!$B114=\"\",\"\",'2.Logbook'!$B114)","v":"15:00:00"},{"$f":"IF('2.Logbook'!AH114=\"\",\"\",'2.Logbook'!AH114)","v":""},{"$f":"IF('2.Logbook'!AI114=\"\",\"\",'2.Logbook'!AI114)","v":""},{"$f":"IF('2.Logbook'!AJ114=\"\",\"\",'2.Logbook'!AJ114)","v":""},{"$f":"IF('2.Logbook'!AK114=\"\",\"\",'2.Logbook'!AK114)","v":""},{"$f":"IF('2.Logbook'!AL114=\"\",\"\",'2.Logbook'!AL114)","v":""},{"$f":"IF('2.Logbook'!AM114=\"\",\"\",'2.Logbook'!AM114)","v":""},{"$f":"IF('2.Logbook'!AN114=\"\",\"\",'2.Logbook'!AN114)","v":""},{"$f":"IF('2.Logbook'!AO114=\"\",\"\",'2.Logbook'!AO114)","v":""},{"$f":"IF('2.Logbook'!AP114=\"\",\"\",'2.Logbook'!AP114)","v":""},{"$f":"IF('2.Logbook'!AQ114=\"\",\"\",'2.Logbook'!AQ114)","v":""},{"$f":"IF('2.Logbook'!AR114=\"\",\"\",'2.Logbook'!AR114)","v":""},{"$f":"IF('2.Logbook'!AS114=\"\",\"\",'2.Logbook'!AS114)","v":""},{"$f":"IF('2.Logbook'!AT114=\"\",\"\",'2.Logbook'!AT114)","v":""},{"$f":"IF('2.Logbook'!AU114=\"\",\"\",'2.Logbook'!AU114)","v":"RENTREE ABIDJAN"},{"$f":"IF('2.Logbook'!AV114=\"\",\"\",'2.Logbook'!AV114)","v":""},{"$f":"IF('2.Logbook'!AW114=\"\",\"\",'2.Logbook'!AW114)","v":""},{"$f":"IF('2.Logbook'!AX114=\"\",\"\",'2.Logbook'!AX114)","v":""},{"$f":"IF('2.Logbook'!AY114=\"\",\"\",'2.Logbook'!AY114)","v":""}]
[{"$f":"IF('2.Logbook'!$A115=\"\",\"\",'2.Logbook'!$A115)","v":""},{"$f":"IF('2.Logbook'!$B115=\"\",\"\",'2.Logbook'!$B115)","v":""},{"$f":"IF('2.Logbook'!AH115=\"\",\"\",'2.Logbook'!AH115)","v":""},{"$f":"IF('2.Logbook'!AI115=\"\",\"\",'2.Logbook'!AI115)","v":""},{"$f":"IF('2.Logbook'!AJ115=\"\",\"\",'2.Logbook'!AJ115)","v":""},{"$f":"IF('2.Logbook'!AK115=\"\",\"\",'2.Logbook'!AK115)","v":""},{"$f":"IF('2.Logbook'!AL115=\"\",\"\",'2.Logbook'!AL115)","v":""},{"$f":"IF('2.Logbook'!AM115=\"\",\"\",'2.Logbook'!AM115)","v":""},{"$f":"IF('2.Logbook'!AN115=\"\",\"\",'2.Logbook'!AN115)","v":""},{"$f":"IF('2.Logbook'!AO115=\"\",\"\",'2.Logbook'!AO115)","v":""},{"$f":"IF('2.Logbook'!AP115=\"\",\"\",'2.Logbook'!AP115)","v":""},{"$f":"IF('2.Logbook'!AQ115=\"\",\"\",'2.Logbook'!AQ115)","v":""},{"$f":"IF('2.Logbook'!AR115=\"\",\"\",'2.Logbook'!AR115)","v":""},{"$f":"IF('2.Logbook'!AS115=\"\",\"\",'2.Logbook'!AS115)","v":""},{"$f":"IF('2.Logbook'!AT115=\"\",\"\",'2.Logbook'!AT115)","v":""},{"$f":"IF('2.Logbook'!AU115=\"\",\"\",'2.Logbook'!AU115)","v":""},{"$f":"IF('2.Logbook'!AV115=\"\",\"\",'2.Logbook'!AV115)","v":""},{"$f":"IF('2.Logbook'!AW115=\"\",\"\",'2.Logbook'!AW115)","v":""},{"$f":"IF('2.Logbook'!AX115=\"\",\"\",'2.Logbook'!AX115)","v":""},{"$f":"IF('2.Logbook'!AY115=\"\",\"\",'2.Logbook'!AY115)","v":""}]
[{"$f":"IF('2.Logbook'!$A116=\"\",\"\",'2.Logbook'!$A116)","v":""},{"$f":"IF('2.Logbook'!$B116=\"\",\"\",'2.Logbook'!$B116)","v":""},{"$f":"IF('2.Logbook'!AH116=\"\",\"\",'2.Logbook'!AH116)","v":""},{"$f":"IF('2.Logbook'!AI116=\"\",\"\",'2.Logbook'!AI116)","v":""},{"$f":"IF('2.Logbook'!AJ116=\"\",\"\",'2.Logbook'!AJ116)","v":""},{"$f":"IF('2.Logbook'!AK116=\"\",\"\",'2.Logbook'!AK116)","v":""},{"$f":"IF('2.Logbook'!AL116=\"\",\"\",'2.Logbook'!AL116)","v":""},{"$f":"IF('2.Logbook'!AM116=\"\",\"\",'2.Logbook'!AM116)","v":""},{"$f":"IF('2.Logbook'!AN116=\"\",\"\",'2.Logbook'!AN116)","v":""},{"$f":"IF('2.Logbook'!AO116=\"\",\"\",'2.Logbook'!AO116)","v":""},{"$f":"IF('2.Logbook'!AP116=\"\",\"\",'2.Logbook'!AP116)","v":""},{"$f":"IF('2.Logbook'!AQ116=\"\",\"\",'2.Logbook'!AQ116)","v":""},{"$f":"IF('2.Logbook'!AR116=\"\",\"\",'2.Logbook'!AR116)","v":""},{"$f":"IF('2.Logbook'!AS116=\"\",\"\",'2.Logbook'!AS116)","v":""},{"$f":"IF('2.Logbook'!AT116=\"\",\"\",'2.Logbook'!AT116)","v":""},{"$f":"IF('2.Logbook'!AU116=\"\",\"\",'2.Logbook'!AU116)","v":""},{"$f":"IF('2.Logbook'!AV116=\"\",\"\",'2.Logbook'!AV116)","v":""},{"$f":"IF('2.Logbook'!AW116=\"\",\"\",'2.Logbook'!AW116)","v":""},{"$f":"IF('2.Logbook'!AX116=\"\",\"\",'2.Logbook'!AX116)","v":""},{"$f":"IF('2.Logbook'!AY116=\"\",\"\",'2.Logbook'!AY116)","v":""}]
[{"$f":"IF('2.Logbook'!$A117=\"\",\"\",'2.Logbook'!$A117)","v":""},{"$f":"IF('2.Logbook'!$B117=\"\",\"\",'2.Logbook'!$B117)","v":""},{"$f":"IF('2.Logbook'!AH117=\"\",\"\",'2.Logbook'!AH117)","v":""},{"$f":"IF('2.Logbook'!AI117=\"\",\"\",'2.Logbook'!AI117)","v":""},{"$f":"IF('2.Logbook'!AJ117=\"\",\"\",'2.Logbook'!AJ117)","v":""},{"$f":"IF('2.Logbook'!AK117=\"\",\"\",'2.Logbook'!AK117)","v":""},{"$f":"IF('2.Logbook'!AL117=\"\",\"\",'2.Logbook'!AL117)","v":""},{"$f":"IF('2.Logbook'!AM117=\"\",\"\",'2.Logbook'!AM117)","v":""},{"$f":"IF('2.Logbook'!AN117=\"\",\"\",'2.Logbook'!AN117)","v":""},{"$f":"IF('2.Logbook'!AO117=\"\",\"\",'2.Logbook'!AO117)","v":""},{"$f":"IF('2.Logbook'!AP117=\"\",\"\",'2.Logbook'!AP117)","v":""},{"$f":"IF('2.Logbook'!AQ117=\"\",\"\",'2.Logbook'!AQ117)","v":""},{"$f":"IF('2.Logbook'!AR117=\"\",\"\",'2.Logbook'!AR117)","v":""},{"$f":"IF('2.Logbook'!AS117=\"\",\"\",'2.Logbook'!AS117)","v":""},{"$f":"IF('2.Logbook'!AT117=\"\",\"\",'2.Logbook'!AT117)","v":""},{"$f":"IF('2.Logbook'!AU117=\"\",\"\",'2.Logbook'!AU117)","v":""},{"$f":"IF('2.Logbook'!AV117=\"\",\"\",'2.Logbook'!AV117)","v":""},{"$f":"IF('2.Logbook'!AW117=\"\",\"\",'2.Logbook'!AW117)","v":""},{"$f":"IF('2.Logbook'!AX117=\"\",\"\",'2.Logbook'!AX117)","v":""},{"$f":"IF('2.Logbook'!AY117=\"\",\"\",'2.Logbook'!AY117)","v":""}]
[{"$f":"IF('2.Logbook'!$A118=\"\",\"\",'2.Logbook'!$A118)","v":""},{"$f":"IF('2.Logbook'!$B118=\"\",\"\",'2.Logbook'!$B118)","v":""},{"$f":"IF('2.Logbook'!AH118=\"\",\"\",'2.Logbook'!AH118)","v":""},{"$f":"IF('2.Logbook'!AI118=\"\",\"\",'2.Logbook'!AI118)","v":""},{"$f":"IF('2.Logbook'!AJ118=\"\",\"\",'2.Logbook'!AJ118)","v":""},{"$f":"IF('2.Logbook'!AK118=\"\",\"\",'2.Logbook'!AK118)","v":""},{"$f":"IF('2.Logbook'!AL118=\"\",\"\",'2.Logbook'!AL118)","v":""},{"$f":"IF('2.Logbook'!AM118=\"\",\"\",'2.Logbook'!AM118)","v":""},{"$f":"IF('2.Logbook'!AN118=\"\",\"\",'2.Logbook'!AN118)","v":""},{"$f":"IF('2.Logbook'!AO118=\"\",\"\",'2.Logbook'!AO118)","v":""},{"$f":"IF('2.Logbook'!AP118=\"\",\"\",'2.Logbook'!AP118)","v":""},{"$f":"IF('2.Logbook'!AQ118=\"\",\"\",'2.Logbook'!AQ118)","v":""},{"$f":"IF('2.Logbook'!AR118=\"\",\"\",'2.Logbook'!AR118)","v":""},{"$f":"IF('2.Logbook'!AS118=\"\",\"\",'2.Logbook'!AS118)","v":""},{"$f":"IF('2.Logbook'!AT118=\"\",\"\",'2.Logbook'!AT118)","v":""},{"$f":"IF('2.Logbook'!AU118=\"\",\"\",'2.Logbook'!AU118)","v":""},{"$f":"IF('2.Logbook'!AV118=\"\",\"\",'2.Logbook'!AV118)","v":""},{"$f":"IF('2.Logbook'!AW118=\"\",\"\",'2.Logbook'!AW118)","v":""},{"$f":"IF('2.Logbook'!AX118=\"\",\"\",'2.Logbook'!AX118)","v":""},{"$f":"IF('2.Logbook'!AY118=\"\",\"\",'2.Logbook'!AY118)","v":""}]
[{"$f":"IF('2.Logbook'!$A119=\"\",\"\",'2.Logbook'!$A119)","v":""},{"$f":"IF('2.Logbook'!$B119=\"\",\"\",'2.Logbook'!$B119)","v":""},{"$f":"IF('2.Logbook'!AH119=\"\",\"\",'2.Logbook'!AH119)","v":""},{"$f":"IF('2.Logbook'!AI119=\"\",\"\",'2.Logbook'!AI119)","v":""},{"$f":"IF('2.Logbook'!AJ119=\"\",\"\",'2.Logbook'!AJ119)","v":""},{"$f":"IF('2.Logbook'!AK119=\"\",\"\",'2.Logbook'!AK119)","v":""},{"$f":"IF('2.Logbook'!AL119=\"\",\"\",'2.Logbook'!AL119)","v":""},{"$f":"IF('2.Logbook'!AM119=\"\",\"\",'2.Logbook'!AM119)","v":""},{"$f":"IF('2.Logbook'!AN119=\"\",\"\",'2.Logbook'!AN119)","v":""},{"$f":"IF('2.Logbook'!AO119=\"\",\"\",'2.Logbook'!AO119)","v":""},{"$f":"IF('2.Logbook'!AP119=\"\",\"\",'2.Logbook'!AP119)","v":""},{"$f":"IF('2.Logbook'!AQ119=\"\",\"\",'2.Logbook'!AQ119)","v":""},{"$f":"IF('2.Logbook'!AR119=\"\",\"\",'2.Logbook'!AR119)","v":""},{"$f":"IF('2.Logbook'!AS119=\"\",\"\",'2.Logbook'!AS119)","v":""},{"$f":"IF('2.Logbook'!AT119=\"\",\"\",'2.Logbook'!AT119)","v":""},{"$f":"IF('2.Logbook'!AU119=\"\",\"\",'2.Logbook'!AU119)","v":""},{"$f":"IF('2.Logbook'!AV119=\"\",\"\",'2.Logbook'!AV119)","v":""},{"$f":"IF('2.Logbook'!AW119=\"\",\"\",'2.Logbook'!AW119)","v":""},{"$f":"IF('2.Logbook'!AX119=\"\",\"\",'2.Logbook'!AX119)","v":""},{"$f":"IF('2.Logbook'!AY119=\"\",\"\",'2.Logbook'!AY119)","v":""}]
[{"$f":"IF('2.Logbook'!$A120=\"\",\"\",'2.Logbook'!$A120)","v":""},{"$f":"IF('2.Logbook'!$B120=\"\",\"\",'2.Logbook'!$B120)","v":""},{"$f":"IF('2.Logbook'!AH120=\"\",\"\",'2.Logbook'!AH120)","v":""},{"$f":"IF('2.Logbook'!AI120=\"\",\"\",'2.Logbook'!AI120)","v":""},{"$f":"IF('2.Logbook'!AJ120=\"\",\"\",'2.Logbook'!AJ120)","v":""},{"$f":"IF('2.Logbook'!AK120=\"\",\"\",'2.Logbook'!AK120)","v":""},{"$f":"IF('2.Logbook'!AL120=\"\",\"\",'2.Logbook'!AL120)","v":""},{"$f":"IF('2.Logbook'!AM120=\"\",\"\",'2.Logbook'!AM120)","v":""},{"$f":"IF('2.Logbook'!AN120=\"\",\"\",'2.Logbook'!AN120)","v":""},{"$f":"IF('2.Logbook'!AO120=\"\",\"\",'2.Logbook'!AO120)","v":""},{"$f":"IF('2.Logbook'!AP120=\"\",\"\",'2.Logbook'!AP120)","v":""},{"$f":"IF('2.Logbook'!AQ120=\"\",\"\",'2.Logbook'!AQ120)","v":""},{"$f":"IF('2.Logbook'!AR120=\"\",\"\",'2.Logbook'!AR120)","v":""},{"$f":"IF('2.Logbook'!AS120=\"\",\"\",'2.Logbook'!AS120)","v":""},{"$f":"IF('2.Logbook'!AT120=\"\",\"\",'2.Logbook'!AT120)","v":""},{"$f":"IF('2.Logbook'!AU120=\"\",\"\",'2.Logbook'!AU120)","v":""},{"$f":"IF('2.Logbook'!AV120=\"\",\"\",'2.Logbook'!AV120)","v":""},{"$f":"IF('2.Logbook'!AW120=\"\",\"\",'2.Logbook'!AW120)","v":""},{"$f":"IF('2.Logbook'!AX120=\"\",\"\",'2.Logbook'!AX120)","v":""},{"$f":"IF('2.Logbook'!AY120=\"\",\"\",'2.Logbook'!AY120)","v":""}]
[{"$f":"IF('2.Logbook'!$A121=\"\",\"\",'2.Logbook'!$A121)","v":""},{"$f":"IF('2.Logbook'!$B121=\"\",\"\",'2.Logbook'!$B121)","v":""},{"$f":"IF('2.Logbook'!AH121=\"\",\"\",'2.Logbook'!AH121)","v":""},{"$f":"IF('2.Logbook'!AI121=\"\",\"\",'2.Logbook'!AI121)","v":""},{"$f":"IF('2.Logbook'!AJ121=\"\",\"\",'2.Logbook'!AJ121)","v":""},{"$f":"IF('2.Logbook'!AK121=\"\",\"\",'2.Logbook'!AK121)","v":""},{"$f":"IF('2.Logbook'!AL121=\"\",\"\",'2.Logbook'!AL121)","v":""},{"$f":"IF('2.Logbook'!AM121=\"\",\"\",'2.Logbook'!AM121)","v":""},{"$f":"IF('2.Logbook'!AN121=\"\",\"\",'2.Logbook'!AN121)","v":""},{"$f":"IF('2.Logbook'!AO121=\"\",\"\",'2.Logbook'!AO121)","v":""},{"$f":"IF('2.Logbook'!AP121=\"\",\"\",'2.Logbook'!AP121)","v":""},{"$f":"IF('2.Logbook'!AQ121=\"\",\"\",'2.Logbook'!AQ121)","v":""},{"$f":"IF('2.Logbook'!AR121=\"\",\"\",'2.Logbook'!AR121)","v":""},{"$f":"IF('2.Logbook'!AS121=\"\",\"\",'2.Logbook'!AS121)","v":""},{"$f":"IF('2.Logbook'!AT121=\"\",\"\",'2.Logbook'!AT121)","v":""},{"$f":"IF('2.Logbook'!AU121=\"\",\"\",'2.Logbook'!AU121)","v":""},{"$f":"IF('2.Logbook'!AV121=\"\",\"\",'2.Logbook'!AV121)","v":""},{"$f":"IF('2.Logbook'!AW121=\"\",\"\",'2.Logbook'!AW121)","v":""},{"$f":"IF('2.Logbook'!AX121=\"\",\"\",'2.Logbook'!AX121)","v":""},{"$f":"IF('2.Logbook'!AY121=\"\",\"\",'2.Logbook'!AY121)","v":""}]
[{"$f":"IF('2.Logbook'!$A122=\"\",\"\",'2.Logbook'!$A122)","v":""},{"$f":"IF('2.Logbook'!$B122=\"\",\"\",'2.Logbook'!$B122)","v":""},{"$f":"IF('2.Logbook'!AH122=\"\",\"\",'2.Logbook'!AH122)","v":""},{"$f":"IF('2.Logbook'!AI122=\"\",\"\",'2.Logbook'!AI122)","v":""},{"$f":"IF('2.Logbook'!AJ122=\"\",\"\",'2.Logbook'!AJ122)","v":""},{"$f":"IF('2.Logbook'!AK122=\"\",\"\",'2.Logbook'!AK122)","v":""},{"$f":"IF('2.Logbook'!AL122=\"\",\"\",'2.Logbook'!AL122)","v":""},{"$f":"IF('2.Logbook'!AM122=\"\",\"\",'2.Logbook'!AM122)","v":""},{"$f":"IF('2.Logbook'!AN122=\"\",\"\",'2.Logbook'!AN122)","v":""},{"$f":"IF('2.Logbook'!AO122=\"\",\"\",'2.Logbook'!AO122)","v":""},{"$f":"IF('2.Logbook'!AP122=\"\",\"\",'2.Logbook'!AP122)","v":""},{"$f":"IF('2.Logbook'!AQ122=\"\",\"\",'2.Logbook'!AQ122)","v":""},{"$f":"IF('2.Logbook'!AR122=\"\",\"\",'2.Logbook'!AR122)","v":""},{"$f":"IF('2.Logbook'!AS122=\"\",\"\",'2.Logbook'!AS122)","v":""},{"$f":"IF('2.Logbook'!AT122=\"\",\"\",'2.Logbook'!AT122)","v":""},{"$f":"IF('2.Logbook'!AU122=\"\",\"\",'2.Logbook'!AU122)","v":""},{"$f":"IF('2.Logbook'!AV122=\"\",\"\",'2.Logbook'!AV122)","v":""},{"$f":"IF('2.Logbook'!AW122=\"\",\"\",'2.Logbook'!AW122)","v":""},{"$f":"IF('2.Logbook'!AX122=\"\",\"\",'2.Logbook'!AX122)","v":""},{"$f":"IF('2.Logbook'!AY122=\"\",\"\",'2.Logbook'!AY122)","v":""}]
[{"$f":"IF('2.Logbook'!$A123=\"\",\"\",'2.Logbook'!$A123)","v":""},{"$f":"IF('2.Logbook'!$B123=\"\",\"\",'2.Logbook'!$B123)","v":""},{"$f":"IF('2.Logbook'!AH123=\"\",\"\",'2.Logbook'!AH123)","v":""},{"$f":"IF('2.Logbook'!AI123=\"\",\"\",'2.Logbook'!AI123)","v":""},{"$f":"IF('2.Logbook'!AJ123=\"\",\"\",'2.Logbook'!AJ123)","v":""},{"$f":"IF('2.Logbook'!AK123=\"\",\"\",'2.Logbook'!AK123)","v":""},{"$f":"IF('2.Logbook'!AL123=\"\",\"\",'2.Logbook'!AL123)","v":""},{"$f":"IF('2.Logbook'!AM123=\"\",\"\",'2.Logbook'!AM123)","v":""},{"$f":"IF('2.Logbook'!AN123=\"\",\"\",'2.Logbook'!AN123)","v":""},{"$f":"IF('2.Logbook'!AO123=\"\",\"\",'2.Logbook'!AO123)","v":""},{"$f":"IF('2.Logbook'!AP123=\"\",\"\",'2.Logbook'!AP123)","v":""},{"$f":"IF('2.Logbook'!AQ123=\"\",\"\",'2.Logbook'!AQ123)","v":""},{"$f":"IF('2.Logbook'!AR123=\"\",\"\",'2.Logbook'!AR123)","v":""},{"$f":"IF('2.Logbook'!AS123=\"\",\"\",'2.Logbook'!AS123)","v":""},{"$f":"IF('2.Logbook'!AT123=\"\",\"\",'2.Logbook'!AT123)","v":""},{"$f":"IF('2.Logbook'!AU123=\"\",\"\",'2.Logbook'!AU123)","v":""},{"$f":"IF('2.Logbook'!AV123=\"\",\"\",'2.Logbook'!AV123)","v":""},{"$f":"IF('2.Logbook'!AW123=\"\",\"\",'2.Logbook'!AW123)","v":""},{"$f":"IF('2.Logbook'!AX123=\"\",\"\",'2.Logbook'!AX123)","v":""},{"$f":"IF('2.Logbook'!AY123=\"\",\"\",'2.Logbook'!AY123)","v":""}]
[{"$f":"IF('2.Logbook'!$A124=\"\",\"\",'2.Logbook'!$A124)","v":""},{"$f":"IF('2.Logbook'!$B124=\"\",\"\",'2.Logbook'!$B124)","v":""},{"$f":"IF('2.Logbook'!AH124=\"\",\"\",'2.Logbook'!AH124)","v":""},{"$f":"IF('2.Logbook'!AI124=\"\",\"\",'2.Logbook'!AI124)","v":""},{"$f":"IF('2.Logbook'!AJ124=\"\",\"\",'2.Logbook'!AJ124)","v":""},{"$f":"IF('2.Logbook'!AK124=\"\",\"\",'2.Logbook'!AK124)","v":""},{"$f":"IF('2.Logbook'!AL124=\"\",\"\",'2.Logbook'!AL124)","v":""},{"$f":"IF('2.Logbook'!AM124=\"\",\"\",'2.Logbook'!AM124)","v":""},{"$f":"IF('2.Logbook'!AN124=\"\",\"\",'2.Logbook'!AN124)","v":""},{"$f":"IF('2.Logbook'!AO124=\"\",\"\",'2.Logbook'!AO124)","v":""},{"$f":"IF('2.Logbook'!AP124=\"\",\"\",'2.Logbook'!AP124)","v":""},{"$f":"IF('2.Logbook'!AQ124=\"\",\"\",'2.Logbook'!AQ124)","v":""},{"$f":"IF('2.Logbook'!AR124=\"\",\"\",'2.Logbook'!AR124)","v":""},{"$f":"IF('2.Logbook'!AS124=\"\",\"\",'2.Logbook'!AS124)","v":""},{"$f":"IF('2.Logbook'!AT124=\"\",\"\",'2.Logbook'!AT124)","v":""},{"$f":"IF('2.Logbook'!AU124=\"\",\"\",'2.Logbook'!AU124)","v":""},{"$f":"IF('2.Logbook'!AV124=\"\",\"\",'2.Logbook'!AV124)","v":""},{"$f":"IF('2.Logbook'!AW124=\"\",\"\",'2.Logbook'!AW124)","v":""},{"$f":"IF('2.Logbook'!AX124=\"\",\"\",'2.Logbook'!AX124)","v":""},{"$f":"IF('2.Logbook'!AY124=\"\",\"\",'2.Logbook'!AY124)","v":""}]
[{"$f":"IF('2.Logbook'!$A125=\"\",\"\",'2.Logbook'!$A125)","v":""},{"$f":"IF('2.Logbook'!$B125=\"\",\"\",'2.Logbook'!$B125)","v":""},{"$f":"IF('2.Logbook'!AH125=\"\",\"\",'2.Logbook'!AH125)","v":""},{"$f":"IF('2.Logbook'!AI125=\"\",\"\",'2.Logbook'!AI125)","v":""},{"$f":"IF('2.Logbook'!AJ125=\"\",\"\",'2.Logbook'!AJ125)","v":""},{"$f":"IF('2.Logbook'!AK125=\"\",\"\",'2.Logbook'!AK125)","v":""},{"$f":"IF('2.Logbook'!AL125=\"\",\"\",'2.Logbook'!AL125)","v":""},{"$f":"IF('2.Logbook'!AM125=\"\",\"\",'2.Logbook'!AM125)","v":""},{"$f":"IF('2.Logbook'!AN125=\"\",\"\",'2.Logbook'!AN125)","v":""},{"$f":"IF('2.Logbook'!AO125=\"\",\"\",'2.Logbook'!AO125)","v":""},{"$f":"IF('2.Logbook'!AP125=\"\",\"\",'2.Logbook'!AP125)","v":""},{"$f":"IF('2.Logbook'!AQ125=\"\",\"\",'2.Logbook'!AQ125)","v":""},{"$f":"IF('2.Logbook'!AR125=\"\",\"\",'2.Logbook'!AR125)","v":""},{"$f":"IF('2.Logbook'!AS125=\"\",\"\",'2.Logbook'!AS125)","v":""},{"$f":"IF('2.Logbook'!AT125=\"\",\"\",'2.Logbook'!AT125)","v":""},{"$f":"IF('2.Logbook'!AU125=\"\",\"\",'2.Logbook'!AU125)","v":""},{"$f":"IF('2.Logbook'!AV125=\"\",\"\",'2.Logbook'!AV125)","v":""},{"$f":"IF('2.Logbook'!AW125=\"\",\"\",'2.Logbook'!AW125)","v":""},{"$f":"IF('2.Logbook'!AX125=\"\",\"\",'2.Logbook'!AX125)","v":""},{"$f":"IF('2.Logbook'!AY125=\"\",\"\",'2.Logbook'!AY125)","v":""}]
[{"$f":"IF('2.Logbook'!$A126=\"\",\"\",'2.Logbook'!$A126)","v":""},{"$f":"IF('2.Logbook'!$B126=\"\",\"\",'2.Logbook'!$B126)","v":""},{"$f":"IF('2.Logbook'!AH126=\"\",\"\",'2.Logbook'!AH126)","v":""},{"$f":"IF('2.Logbook'!AI126=\"\",\"\",'2.Logbook'!AI126)","v":""},{"$f":"IF('2.Logbook'!AJ126=\"\",\"\",'2.Logbook'!AJ126)","v":""},{"$f":"IF('2.Logbook'!AK126=\"\",\"\",'2.Logbook'!AK126)","v":""},{"$f":"IF('2.Logbook'!AL126=\"\",\"\",'2.Logbook'!AL126)","v":""},{"$f":"IF('2.Logbook'!AM126=\"\",\"\",'2.Logbook'!AM126)","v":""},{"$f":"IF('2.Logbook'!AN126=\"\",\"\",'2.Logbook'!AN126)","v":""},{"$f":"IF('2.Logbook'!AO126=\"\",\"\",'2.Logbook'!AO126)","v":""},{"$f":"IF('2.Logbook'!AP126=\"\",\"\",'2.Logbook'!AP126)","v":""},{"$f":"IF('2.Logbook'!AQ126=\"\",\"\",'2.Logbook'!AQ126)","v":""},{"$f":"IF('2.Logbook'!AR126=\"\",\"\",'2.Logbook'!AR126)","v":""},{"$f":"IF('2.Logbook'!AS126=\"\",\"\",'2.Logbook'!AS126)","v":""},{"$f":"IF('2.Logbook'!AT126=\"\",\"\",'2.Logbook'!AT126)","v":""},{"$f":"IF('2.Logbook'!AU126=\"\",\"\",'2.Logbook'!AU126)","v":""},{"$f":"IF('2.Logbook'!AV126=\"\",\"\",'2.Logbook'!AV126)","v":""},{"$f":"IF('2.Logbook'!AW126=\"\",\"\",'2.Logbook'!AW126)","v":""},{"$f":"IF('2.Logbook'!AX126=\"\",\"\",'2.Logbook'!AX126)","v":""},{"$f":"IF('2.Logbook'!AY126=\"\",\"\",'2.Logbook'!AY126)","v":""}]
[{"$f":"IF('2.Logbook'!$A127=\"\",\"\",'2.Logbook'!$A127)","v":""},{"$f":"IF('2.Logbook'!$B127=\"\",\"\",'2.Logbook'!$B127)","v":""},{"$f":"IF('2.Logbook'!AH127=\"\",\"\",'2.Logbook'!AH127)","v":""},{"$f":"IF('2.Logbook'!AI127=\"\",\"\",'2.Logbook'!AI127)","v":""},{"$f":"IF('2.Logbook'!AJ127=\"\",\"\",'2.Logbook'!AJ127)","v":""},{"$f":"IF('2.Logbook'!AK127=\"\",\"\",'2.Logbook'!AK127)","v":""},{"$f":"IF('2.Logbook'!AL127=\"\",\"\",'2.Logbook'!AL127)","v":""},{"$f":"IF('2.Logbook'!AM127=\"\",\"\",'2.Logbook'!AM127)","v":""},{"$f":"IF('2.Logbook'!AN127=\"\",\"\",'2.Logbook'!AN127)","v":""},{"$f":"IF('2.Logbook'!AO127=\"\",\"\",'2.Logbook'!AO127)","v":""},{"$f":"IF('2.Logbook'!AP127=\"\",\"\",'2.Logbook'!AP127)","v":""},{"$f":"IF('2.Logbook'!AQ127=\"\",\"\",'2.Logbook'!AQ127)","v":""},{"$f":"IF('2.Logbook'!AR127=\"\",\"\",'2.Logbook'!AR127)","v":""},{"$f":"IF('2.Logbook'!AS127=\"\",\"\",'2.Logbook'!AS127)","v":""},{"$f":"IF('2.Logbook'!AT127=\"\",\"\",'2.Logbook'!AT127)","v":""},{"$f":"IF('2.Logbook'!AU127=\"\",\"\",'2.Logbook'!AU127)","v":""},{"$f":"IF('2.Logbook'!AV127=\"\",\"\",'2.Logbook'!AV127)","v":""},{"$f":"IF('2.Logbook'!AW127=\"\",\"\",'2.Logbook'!AW127)","v":""},{"$f":"IF('2.Logbook'!AX127=\"\",\"\",'2.Logbook'!AX127)","v":""},{"$f":"IF('2.Logbook'!AY127=\"\",\"\",'2.Logbook'!AY127)","v":""}]
[{"$f":"IF('2.Logbook'!$A128=\"\",\"\",'2.Logbook'!$A128)","v":""},{"$f":"IF('2.Logbook'!$B128=\"\",\"\",'2.Logbook'!$B128)","v":""},{"$f":"IF('2.Logbook'!AH128=\"\",\"\",'2.Logbook'!AH128)","v":""},{"$f":"IF('2.Logbook'!AI128=\"\",\"\",'2.Logbook'!AI128)","v":""},{"$f":"IF('2.Logbook'!AJ128=\"\",\"\",'2.Logbook'!AJ128)","v":""},{"$f":"IF('2.Logbook'!AK128=\"\",\"\",'2.Logbook'!AK128)","v":""},{"$f":"IF('2.Logbook'!AL128=\"\",\"\",'2.Logbook'!AL128)","v":""},{"$f":"IF('2.Logbook'!AM128=\"\",\"\",'2.Logbook'!AM128)","v":""},{"$f":"IF('2.Logbook'!AN128=\"\",\"\",'2.Logbook'!AN128)","v":""},{"$f":"IF('2.Logbook'!AO128=\"\",\"\",'2.Logbook'!AO128)","v":""},{"$f":"IF('2.Logbook'!AP128=\"\",\"\",'2.Logbook'!AP128)","v":""},{"$f":"IF('2.Logbook'!AQ128=\"\",\"\",'2.Logbook'!AQ128)","v":""},{"$f":"IF('2.Logbook'!AR128=\"\",\"\",'2.Logbook'!AR128)","v":""},{"$f":"IF('2.Logbook'!AS128=\"\",\"\",'2.Logbook'!AS128)","v":""},{"$f":"IF('2.Logbook'!AT128=\"\",\"\",'2.Logbook'!AT128)","v":""},{"$f":"IF('2.Logbook'!AU128=\"\",\"\",'2.Logbook'!AU128)","v":""},{"$f":"IF('2.Logbook'!AV128=\"\",\"\",'2.Logbook'!AV128)","v":""},{"$f":"IF('2.Logbook'!AW128=\"\",\"\",'2.Logbook'!AW128)","v":""},{"$f":"IF('2.Logbook'!AX128=\"\",\"\",'2.Logbook'!AX128)","v":""},{"$f":"IF('2.Logbook'!AY128=\"\",\"\",'2.Logbook'!AY128)","v":""}]
[{"$f":"IF('2.Logbook'!$A129=\"\",\"\",'2.Logbook'!$A129)","v":""},{"$f":"IF('2.Logbook'!$B129=\"\",\"\",'2.Logbook'!$B129)","v":""},{"$f":"IF('2.Logbook'!AH129=\"\",\"\",'2.Logbook'!AH129)","v":""},{"$f":"IF('2.Logbook'!AI129=\"\",\"\",'2.Logbook'!AI129)","v":""},{"$f":"IF('2.Logbook'!AJ129=\"\",\"\",'2.Logbook'!AJ129)","v":""},{"$f":"IF('2.Logbook'!AK129=\"\",\"\",'2.Logbook'!AK129)","v":""},{"$f":"IF('2.Logbook'!AL129=\"\",\"\",'2.Logbook'!AL129)","v":""},{"$f":"IF('2.Logbook'!AM129=\"\",\"\",'2.Logbook'!AM129)","v":""},{"$f":"IF('2.Logbook'!AN129=\"\",\"\",'2.Logbook'!AN129)","v":""},{"$f":"IF('2.Logbook'!AO129=\"\",\"\",'2.Logbook'!AO129)","v":""},{"$f":"IF('2.Logbook'!AP129=\"\",\"\",'2.Logbook'!AP129)","v":""},{"$f":"IF('2.Logbook'!AQ129=\"\",\"\",'2.Logbook'!AQ129)","v":""},{"$f":"IF('2.Logbook'!AR129=\"\",\"\",'2.Logbook'!AR129)","v":""},{"$f":"IF('2.Logbook'!AS129=\"\",\"\",'2.Logbook'!AS129)","v":""},{"$f":"IF('2.Logbook'!AT129=\"\",\"\",'2.Logbook'!AT129)","v":""},{"$f":"IF('2.Logbook'!AU129=\"\",\"\",'2.Logbook'!AU129)","v":""},{"$f":"IF('2.Logbook'!AV129=\"\",\"\",'2.Logbook'!AV129)","v":""},{"$f":"IF('2.Logbook'!AW129=\"\",\"\",'2.Logbook'!AW129)","v":""},{"$f":"IF('2.Logbook'!AX129=\"\",\"\",'2.Logbook'!AX129)","v":""},{"$f":"IF('2.Logbook'!AY129=\"\",\"\",'2.Logbook'!AY129)","v":""}]
[{"$f":"IF('2.Logbook'!$A130=\"\",\"\",'2.Logbook'!$A130)","v":""},{"$f":"IF('2.Logbook'!$B130=\"\",\"\",'2.Logbook'!$B130)","v":""},{"$f":"IF('2.Logbook'!AH130=\"\",\"\",'2.Logbook'!AH130)","v":""},{"$f":"IF('2.Logbook'!AI130=\"\",\"\",'2.Logbook'!AI130)","v":""},{"$f":"IF('2.Logbook'!AJ130=\"\",\"\",'2.Logbook'!AJ130)","v":""},{"$f":"IF('2.Logbook'!AK130=\"\",\"\",'2.Logbook'!AK130)","v":""},{"$f":"IF('2.Logbook'!AL130=\"\",\"\",'2.Logbook'!AL130)","v":""},{"$f":"IF('2.Logbook'!AM130=\"\",\"\",'2.Logbook'!AM130)","v":""},{"$f":"IF('2.Logbook'!AN130=\"\",\"\",'2.Logbook'!AN130)","v":""},{"$f":"IF('2.Logbook'!AO130=\"\",\"\",'2.Logbook'!AO130)","v":""},{"$f":"IF('2.Logbook'!AP130=\"\",\"\",'2.Logbook'!AP130)","v":""},{"$f":"IF('2.Logbook'!AQ130=\"\",\"\",'2.Logbook'!AQ130)","v":""},{"$f":"IF('2.Logbook'!AR130=\"\",\"\",'2.Logbook'!AR130)","v":""},{"$f":"IF('2.Logbook'!AS130=\"\",\"\",'2.Logbook'!AS130)","v":""},{"$f":"IF('2.Logbook'!AT130=\"\",\"\",'2.Logbook'!AT130)","v":""},{"$f":"IF('2.Logbook'!AU130=\"\",\"\",'2.Logbook'!AU130)","v":""},{"$f":"IF('2.Logbook'!AV130=\"\",\"\",'2.Logbook'!AV130)","v":""},{"$f":"IF('2.Logbook'!AW130=\"\",\"\",'2.Logbook'!AW130)","v":""},{"$f":"IF('2.Logbook'!AX130=\"\",\"\",'2.Logbook'!AX130)","v":""},{"$f":"IF('2.Logbook'!AY130=\"\",\"\",'2.Logbook'!AY130)","v":""}]
[{"$f":"IF('2.Logbook'!$A131=\"\",\"\",'2.Logbook'!$A131)","v":""},{"$f":"IF('2.Logbook'!$B131=\"\",\"\",'2.Logbook'!$B131)","v":""},{"$f":"IF('2.Logbook'!AH131=\"\",\"\",'2.Logbook'!AH131)","v":""},{"$f":"IF('2.Logbook'!AI131=\"\",\"\",'2.Logbook'!AI131)","v":""},{"$f":"IF('2.Logbook'!AJ131=\"\",\"\",'2.Logbook'!AJ131)","v":""},{"$f":"IF('2.Logbook'!AK131=\"\",\"\",'2.Logbook'!AK131)","v":""},{"$f":"IF('2.Logbook'!AL131=\"\",\"\",'2.Logbook'!AL131)","v":""},{"$f":"IF('2.Logbook'!AM131=\"\",\"\",'2.Logbook'!AM131)","v":""},{"$f":"IF('2.Logbook'!AN131=\"\",\"\",'2.Logbook'!AN131)","v":""},{"$f":"IF('2.Logbook'!AO131=\"\",\"\",'2.Logbook'!AO131)","v":""},{"$f":"IF('2.Logbook'!AP131=\"\",\"\",'2.Logbook'!AP131)","v":""},{"$f":"IF('2.Logbook'!AQ131=\"\",\"\",'2.Logbook'!AQ131)","v":""},{"$f":"IF('2.Logbook'!AR131=\"\",\"\",'2.Logbook'!AR131)","v":""},{"$f":"IF('2.Logbook'!AS131=\"\",\"\",'2.Logbook'!AS131)","v":""},{"$f":"IF('2.Logbook'!AT131=\"\",\"\",'2.Logbook'!AT131)","v":""},{"$f":"IF('2.Logbook'!AU131=\"\",\"\",'2.Logbook'!AU131)","v":""},{"$f":"IF('2.Logbook'!AV131=\"\",\"\",'2.Logbook'!AV131)","v":""},{"$f":"IF('2.Logbook'!AW131=\"\",\"\",'2.Logbook'!AW131)","v":""},{"$f":"IF('2.Logbook'!AX131=\"\",\"\",'2.Logbook'!AX131)","v":""},{"$f":"IF('2.Logbook'!AY131=\"\",\"\",'2.Logbook'!AY131)","v":""}]
[{"$f":"IF('2.Logbook'!$A132=\"\",\"\",'2.Logbook'!$A132)","v":""},{"$f":"IF('2.Logbook'!$B132=\"\",\"\",'2.Logbook'!$B132)","v":""},{"$f":"IF('2.Logbook'!AH132=\"\",\"\",'2.Logbook'!AH132)","v":""},{"$f":"IF('2.Logbook'!AI132=\"\",\"\",'2.Logbook'!AI132)","v":""},{"$f":"IF('2.Logbook'!AJ132=\"\",\"\",'2.Logbook'!AJ132)","v":""},{"$f":"IF('2.Logbook'!AK132=\"\",\"\",'2.Logbook'!AK132)","v":""},{"$f":"IF('2.Logbook'!AL132=\"\",\"\",'2.Logbook'!AL132)","v":""},{"$f":"IF('2.Logbook'!AM132=\"\",\"\",'2.Logbook'!AM132)","v":""},{"$f":"IF('2.Logbook'!AN132=\"\",\"\",'2.Logbook'!AN132)","v":""},{"$f":"IF('2.Logbook'!AO132=\"\",\"\",'2.Logbook'!AO132)","v":""},{"$f":"IF('2.Logbook'!AP132=\"\",\"\",'2.Logbook'!AP132)","v":""},{"$f":"IF('2.Logbook'!AQ132=\"\",\"\",'2.Logbook'!AQ132)","v":""},{"$f":"IF('2.Logbook'!AR132=\"\",\"\",'2.Logbook'!AR132)","v":""},{"$f":"IF('2.Logbook'!AS132=\"\",\"\",'2.Logbook'!AS132)","v":""},{"$f":"IF('2.Logbook'!AT132=\"\",\"\",'2.Logbook'!AT132)","v":""},{"$f":"IF('2.Logbook'!AU132=\"\",\"\",'2.Logbook'!AU132)","v":""},{"$f":"IF('2.Logbook'!AV132=\"\",\"\",'2.Logbook'!AV132)","v":""},{"$f":"IF('2.Logbook'!AW132=\"\",\"\",'2.Logbook'!AW132)","v":""},{"$f":"IF('2.Logbook'!AX132=\"\",\"\",'2.Logbook'!AX132)","v":""},{"$f":"IF('2.Logbook'!AY132=\"\",\"\",'2.Logbook'!AY132)","v":""}]
[{"$f":"IF('2.Logbook'!$A133=\"\",\"\",'2.Logbook'!$A133)","v":""},{"$f":"IF('2.Logbook'!$B133=\"\",\"\",'2.Logbook'!$B133)","v":""},{"$f":"IF('2.Logbook'!AH133=\"\",\"\",'2.Logbook'!AH133)","v":""},{"$f":"IF('2.Logbook'!AI133=\"\",\"\",'2.Logbook'!AI133)","v":""},{"$f":"IF('2.Logbook'!AJ133=\"\",\"\",'2.Logbook'!AJ133)","v":""},{"$f":"IF('2.Logbook'!AK133=\"\",\"\",'2.Logbook'!AK133)","v":""},{"$f":"IF('2.Logbook'!AL133=\"\",\"\",'2.Logbook'!AL133)","v":""},{"$f":"IF('2.Logbook'!AM133=\"\",\"\",'2.Logbook'!AM133)","v":""},{"$f":"IF('2.Logbook'!AN133=\"\",\"\",'2.Logbook'!AN133)","v":""},{"$f":"IF('2.Logbook'!AO133=\"\",\"\",'2.Logbook'!AO133)","v":""},{"$f":"IF('2.Logbook'!AP133=\"\",\"\",'2.Logbook'!AP133)","v":""},{"$f":"IF('2.Logbook'!AQ133=\"\",\"\",'2.Logbook'!AQ133)","v":""},{"$f":"IF('2.Logbook'!AR133=\"\",\"\",'2.Logbook'!AR133)","v":""},{"$f":"IF('2.Logbook'!AS133=\"\",\"\",'2.Logbook'!AS133)","v":""},{"$f":"IF('2.Logbook'!AT133=\"\",\"\",'2.Logbook'!AT133)","v":""},{"$f":"IF('2.Logbook'!AU133=\"\",\"\",'2.Logbook'!AU133)","v":""},{"$f":"IF('2.Logbook'!AV133=\"\",\"\",'2.Logbook'!AV133)","v":""},{"$f":"IF('2.Logbook'!AW133=\"\",\"\",'2.Logbook'!AW133)","v":""},{"$f":"IF('2.Logbook'!AX133=\"\",\"\",'2.Logbook'!AX133)","v":""},{"$f":"IF('2.Logbook'!AY133=\"\",\"\",'2.Logbook'!AY133)","v":""}]
[{"$f":"IF('2.Logbook'!$A134=\"\",\"\",'2.Logbook'!$A134)","v":""},{"$f":"IF('2.Logbook'!$B134=\"\",\"\",'2.Logbook'!$B134)","v":""},{"$f":"IF('2.Logbook'!AH134=\"\",\"\",'2.Logbook'!AH134)","v":""},{"$f":"IF('2.Logbook'!AI134=\"\",\"\",'2.Logbook'!AI134)","v":""},{"$f":"IF('2.Logbook'!AJ134=\"\",\"\",'2.Logbook'!AJ134)","v":""},{"$f":"IF('2.Logbook'!AK134=\"\",\"\",'2.Logbook'!AK134)","v":""},{"$f":"IF('2.Logbook'!AL134=\"\",\"\",'2.Logbook'!AL134)","v":""},{"$f":"IF('2.Logbook'!AM134=\"\",\"\",'2.Logbook'!AM134)","v":""},{"$f":"IF('2.Logbook'!AN134=\"\",\"\",'2.Logbook'!AN134)","v":""},{"$f":"IF('2.Logbook'!AO134=\"\",\"\",'2.Logbook'!AO134)","v":""},{"$f":"IF('2.Logbook'!AP134=\"\",\"\",'2.Logbook'!AP134)","v":""},{"$f":"IF('2.Logbook'!AQ134=\"\",\"\",'2.Logbook'!AQ134)","v":""},{"$f":"IF('2.Logbook'!AR134=\"\",\"\",'2.Logbook'!AR134)","v":""},{"$f":"IF('2.Logbook'!AS134=\"\",\"\",'2.Logbook'!AS134)","v":""},{"$f":"IF('2.Logbook'!AT134=\"\",\"\",'2.Logbook'!AT134)","v":""},{"$f":"IF('2.Logbook'!AU134=\"\",\"\",'2.Logbook'!AU134)","v":""},{"$f":"IF('2.Logbook'!AV134=\"\",\"\",'2.Logbook'!AV134)","v":""},{"$f":"IF('2.Logbook'!AW134=\"\",\"\",'2.Logbook'!AW134)","v":""},{"$f":"IF('2.Logbook'!AX134=\"\",\"\",'2.Logbook'!AX134)","v":""},{"$f":"IF('2.Logbook'!AY134=\"\",\"\",'2.Logbook'!AY134)","v":""}]
[{"$f":"IF('2.Logbook'!$A135=\"\",\"\",'2.Logbook'!$A135)","v":""},{"$f":"IF('2.Logbook'!$B135=\"\",\"\",'2.Logbook'!$B135)","v":""},{"$f":"IF('2.Logbook'!AH135=\"\",\"\",'2.Logbook'!AH135)","v":""},{"$f":"IF('2.Logbook'!AI135=\"\",\"\",'2.Logbook'!AI135)","v":""},{"$f":"IF('2.Logbook'!AJ135=\"\",\"\",'2.Logbook'!AJ135)","v":""},{"$f":"IF('2.Logbook'!AK135=\"\",\"\",'2.Logbook'!AK135)","v":""},{"$f":"IF('2.Logbook'!AL135=\"\",\"\",'2.Logbook'!AL135)","v":""},{"$f":"IF('2.Logbook'!AM135=\"\",\"\",'2.Logbook'!AM135)","v":""},{"$f":"IF('2.Logbook'!AN135=\"\",\"\",'2.Logbook'!AN135)","v":""},{"$f":"IF('2.Logbook'!AO135=\"\",\"\",'2.Logbook'!AO135)","v":""},{"$f":"IF('2.Logbook'!AP135=\"\",\"\",'2.Logbook'!AP135)","v":""},{"$f":"IF('2.Logbook'!AQ135=\"\",\"\",'2.Logbook'!AQ135)","v":""},{"$f":"IF('2.Logbook'!AR135=\"\",\"\",'2.Logbook'!AR135)","v":""},{"$f":"IF('2.Logbook'!AS135=\"\",\"\",'2.Logbook'!AS135)","v":""},{"$f":"IF('2.Logbook'!AT135=\"\",\"\",'2.Logbook'!AT135)","v":""},{"$f":"IF('2.Logbook'!AU135=\"\",\"\",'2.Logbook'!AU135)","v":""},{"$f":"IF('2.Logbook'!AV135=\"\",\"\",'2.Logbook'!AV135)","v":""},{"$f":"IF('2.Logbook'!AW135=\"\",\"\",'2.Logbook'!AW135)","v":""},{"$f":"IF('2.Logbook'!AX135=\"\",\"\",'2.Logbook'!AX135)","v":""},{"$f":"IF('2.Logbook'!AY135=\"\",\"\",'2.Logbook'!AY135)","v":""}]
[{"$f":"IF('2.Logbook'!$A136=\"\",\"\",'2.Logbook'!$A136)","v":""},{"$f":"IF('2.Logbook'!$B136=\"\",\"\",'2.Logbook'!$B136)","v":""},{"$f":"IF('2.Logbook'!AH136=\"\",\"\",'2.Logbook'!AH136)","v":""},{"$f":"IF('2.Logbook'!AI136=\"\",\"\",'2.Logbook'!AI136)","v":""},{"$f":"IF('2.Logbook'!AJ136=\"\",\"\",'2.Logbook'!AJ136)","v":""},{"$f":"IF('2.Logbook'!AK136=\"\",\"\",'2.Logbook'!AK136)","v":""},{"$f":"IF('2.Logbook'!AL136=\"\",\"\",'2.Logbook'!AL136)","v":""},{"$f":"IF('2.Logbook'!AM136=\"\",\"\",'2.Logbook'!AM136)","v":""},{"$f":"IF('2.Logbook'!AN136=\"\",\"\",'2.Logbook'!AN136)","v":""},{"$f":"IF('2.Logbook'!AO136=\"\",\"\",'2.Logbook'!AO136)","v":""},{"$f":"IF('2.Logbook'!AP136=\"\",\"\",'2.Logbook'!AP136)","v":""},{"$f":"IF('2.Logbook'!AQ136=\"\",\"\",'2.Logbook'!AQ136)","v":""},{"$f":"IF('2.Logbook'!AR136=\"\",\"\",'2.Logbook'!AR136)","v":""},{"$f":"IF('2.Logbook'!AS136=\"\",\"\",'2.Logbook'!AS136)","v":""},{"$f":"IF('2.Logbook'!AT136=\"\",\"\",'2.Logbook'!AT136)","v":""},{"$f":"IF('2.Logbook'!AU136=\"\",\"\",'2.Logbook'!AU136)","v":""},{"$f":"IF('2.Logbook'!AV136=\"\",\"\",'2.Logbook'!AV136)","v":""},{"$f":"IF('2.Logbook'!AW136=\"\",\"\",'2.Logbook'!AW136)","v":""},{"$f":"IF('2.Logbook'!AX136=\"\",\"\",'2.Logbook'!AX136)","v":""},{"$f":"IF('2.Logbook'!AY136=\"\",\"\",'2.Logbook'!AY136)","v":""}]
[{"$f":"IF('2.Logbook'!$A137=\"\",\"\",'2.Logbook'!$A137)","v":""},{"$f":"IF('2.Logbook'!$B137=\"\",\"\",'2.Logbook'!$B137)","v":""},{"$f":"IF('2.Logbook'!AH137=\"\",\"\",'2.Logbook'!AH137)","v":""},{"$f":"IF('2.Logbook'!AI137=\"\",\"\",'2.Logbook'!AI137)","v":""},{"$f":"IF('2.Logbook'!AJ137=\"\",\"\",'2.Logbook'!AJ137)","v":""},{"$f":"IF('2.Logbook'!AK137=\"\",\"\",'2.Logbook'!AK137)","v":""},{"$f":"IF('2.Logbook'!AL137=\"\",\"\",'2.Logbook'!AL137)","v":""},{"$f":"IF('2.Logbook'!AM137=\"\",\"\",'2.Logbook'!AM137)","v":""},{"$f":"IF('2.Logbook'!AN137=\"\",\"\",'2.Logbook'!AN137)","v":""},{"$f":"IF('2.Logbook'!AO137=\"\",\"\",'2.Logbook'!AO137)","v":""},{"$f":"IF('2.Logbook'!AP137=\"\",\"\",'2.Logbook'!AP137)","v":""},{"$f":"IF('2.Logbook'!AQ137=\"\",\"\",'2.Logbook'!AQ137)","v":""},{"$f":"IF('2.Logbook'!AR137=\"\",\"\",'2.Logbook'!AR137)","v":""},{"$f":"IF('2.Logbook'!AS137=\"\",\"\",'2.Logbook'!AS137)","v":""},{"$f":"IF('2.Logbook'!AT137=\"\",\"\",'2.Logbook'!AT137)","v":""},{"$f":"IF('2.Logbook'!AU137=\"\",\"\",'2.Logbook'!AU137)","v":""},{"$f":"IF('2.Logbook'!AV137=\"\",\"\",'2.Logbook'!AV137)","v":""},{"$f":"IF('2.Logbook'!AW137=\"\",\"\",'2.Logbook'!AW137)","v":""},{"$f":"IF('2.Logbook'!AX137=\"\",\"\",'2.Logbook'!AX137)","v":""},{"$f":"IF('2.Logbook'!AY137=\"\",\"\",'2.Logbook'!AY137)","v":""}]
[{"$f":"IF('2.Logbook'!$A138=\"\",\"\",'2.Logbook'!$A138)","v":""},{"$f":"IF('2.Logbook'!$B138=\"\",\"\",'2.Logbook'!$B138)","v":""},{"$f":"IF('2.Logbook'!AH138=\"\",\"\",'2.Logbook'!AH138)","v":""},{"$f":"IF('2.Logbook'!AI138=\"\",\"\",'2.Logbook'!AI138)","v":""},{"$f":"IF('2.Logbook'!AJ138=\"\",\"\",'2.Logbook'!AJ138)","v":""},{"$f":"IF('2.Logbook'!AK138=\"\",\"\",'2.Logbook'!AK138)","v":""},{"$f":"IF('2.Logbook'!AL138=\"\",\"\",'2.Logbook'!AL138)","v":""},{"$f":"IF('2.Logbook'!AM138=\"\",\"\",'2.Logbook'!AM138)","v":""},{"$f":"IF('2.Logbook'!AN138=\"\",\"\",'2.Logbook'!AN138)","v":""},{"$f":"IF('2.Logbook'!AO138=\"\",\"\",'2.Logbook'!AO138)","v":""},{"$f":"IF('2.Logbook'!AP138=\"\",\"\",'2.Logbook'!AP138)","v":""},{"$f":"IF('2.Logbook'!AQ138=\"\",\"\",'2.Logbook'!AQ138)","v":""},{"$f":"IF('2.Logbook'!AR138=\"\",\"\",'2.Logbook'!AR138)","v":""},{"$f":"IF('2.Logbook'!AS138=\"\",\"\",'2.Logbook'!AS138)","v":""},{"$f":"IF('2.Logbook'!AT138=\"\",\"\",'2.Logbook'!AT138)","v":""},{"$f":"IF('2.Logbook'!AU138=\"\",\"\",'2.Logbook'!AU138)","v":""},{"$f":"IF('2.Logbook'!AV138=\"\",\"\",'2.Logbook'!AV138)","v":""},{"$f":"IF('2.Logbook'!AW138=\"\",\"\",'2.Logbook'!AW138)","v":""},{"$f":"IF('2.Logbook'!AX138=\"\",\"\",'2.Logbook'!AX138)","v":""},{"$f":"IF('2.Logbook'!AY138=\"\",\"\",'2.Logbook'!AY138)","v":""}]
[{"$f":"IF('2.Logbook'!$A139=\"\",\"\",'2.Logbook'!$A139)","v":""},{"$f":"IF('2.Logbook'!$B139=\"\",\"\",'2.Logbook'!$B139)","v":""},{"$f":"IF('2.Logbook'!AH139=\"\",\"\",'2.Logbook'!AH139)","v":""},{"$f":"IF('2.Logbook'!AI139=\"\",\"\",'2.Logbook'!AI139)","v":""},{"$f":"IF('2.Logbook'!AJ139=\"\",\"\",'2.Logbook'!AJ139)","v":""},{"$f":"IF('2.Logbook'!AK139=\"\",\"\",'2.Logbook'!AK139)","v":""},{"$f":"IF('2.Logbook'!AL139=\"\",\"\",'2.Logbook'!AL139)","v":""},{"$f":"IF('2.Logbook'!AM139=\"\",\"\",'2.Logbook'!AM139)","v":""},{"$f":"IF('2.Logbook'!AN139=\"\",\"\",'2.Logbook'!AN139)","v":""},{"$f":"IF('2.Logbook'!AO139=\"\",\"\",'2.Logbook'!AO139)","v":""},{"$f":"IF('2.Logbook'!AP139=\"\",\"\",'2.Logbook'!AP139)","v":""},{"$f":"IF('2.Logbook'!AQ139=\"\",\"\",'2.Logbook'!AQ139)","v":""},{"$f":"IF('2.Logbook'!AR139=\"\",\"\",'2.Logbook'!AR139)","v":""},{"$f":"IF('2.Logbook'!AS139=\"\",\"\",'2.Logbook'!AS139)","v":""},{"$f":"IF('2.Logbook'!AT139=\"\",\"\",'2.Logbook'!AT139)","v":""},{"$f":"IF('2.Logbook'!AU139=\"\",\"\",'2.Logbook'!AU139)","v":""},{"$f":"IF('2.Logbook'!AV139=\"\",\"\",'2.Logbook'!AV139)","v":""},{"$f":"IF('2.Logbook'!AW139=\"\",\"\",'2.Logbook'!AW139)","v":""},{"$f":"IF('2.Logbook'!AX139=\"\",\"\",'2.Logbook'!AX139)","v":""},{"$f":"IF('2.Logbook'!AY139=\"\",\"\",'2.Logbook'!AY139)","v":""}]
[{"$f":"IF('2.Logbook'!$A140=\"\",\"\",'2.Logbook'!$A140)","v":""},{"$f":"IF('2.Logbook'!$B140=\"\",\"\",'2.Logbook'!$B140)","v":""},{"$f":"IF('2.Logbook'!AH140=\"\",\"\",'2.Logbook'!AH140)","v":""},{"$f":"IF('2.Logbook'!AI140=\"\",\"\",'2.Logbook'!AI140)","v":""},{"$f":"IF('2.Logbook'!AJ140=\"\",\"\",'2.Logbook'!AJ140)","v":""},{"$f":"IF('2.Logbook'!AK140=\"\",\"\",'2.Logbook'!AK140)","v":""},{"$f":"IF('2.Logbook'!AL140=\"\",\"\",'2.Logbook'!AL140)","v":""},{"$f":"IF('2.Logbook'!AM140=\"\",\"\",'2.Logbook'!AM140)","v":""},{"$f":"IF('2.Logbook'!AN140=\"\",\"\",'2.Logbook'!AN140)","v":""},{"$f":"IF('2.Logbook'!AO140=\"\",\"\",'2.Logbook'!AO140)","v":""},{"$f":"IF('2.Logbook'!AP140=\"\",\"\",'2.Logbook'!AP140)","v":""},{"$f":"IF('2.Logbook'!AQ140=\"\",\"\",'2.Logbook'!AQ140)","v":""},{"$f":"IF('2.Logbook'!AR140=\"\",\"\",'2.Logbook'!AR140)","v":""},{"$f":"IF('2.Logbook'!AS140=\"\",\"\",'2.Logbook'!AS140)","v":""},{"$f":"IF('2.Logbook'!AT140=\"\",\"\",'2.Logbook'!AT140)","v":""},{"$f":"IF('2.Logbook'!AU140=\"\",\"\",'2.Logbook'!AU140)","v":""},{"$f":"IF('2.Logbook'!AV140=\"\",\"\",'2.Logbook'!AV140)","v":""},{"$f":"IF('2.Logbook'!AW140=\"\",\"\",'2.Logbook'!AW140)","v":""},{"$f":"IF('2.Logbook'!AX140=\"\",\"\",'2.Logbook'!AX140)","v":""},{"$f":"IF('2.Logbook'!AY140=\"\",\"\",'2.Logbook'!AY140)","v":""}]
[{"$f":"IF('2.Logbook'!$A141=\"\",\"\",'2.Logbook'!$A141)","v":""},{"$f":"IF('2.Logbook'!$B141=\"\",\"\",'2.Logbook'!$B141)","v":""},{"$f":"IF('2.Logbook'!AH141=\"\",\"\",'2.Logbook'!AH141)","v":""},{"$f":"IF('2.Logbook'!AI141=\"\",\"\",'2.Logbook'!AI141)","v":""},{"$f":"IF('2.Logbook'!AJ141=\"\",\"\",'2.Logbook'!AJ141)","v":""},{"$f":"IF('2.Logbook'!AK141=\"\",\"\",'2.Logbook'!AK141)","v":""},{"$f":"IF('2.Logbook'!AL141=\"\",\"\",'2.Logbook'!AL141)","v":""},{"$f":"IF('2.Logbook'!AM141=\"\",\"\",'2.Logbook'!AM141)","v":""},{"$f":"IF('2.Logbook'!AN141=\"\",\"\",'2.Logbook'!AN141)","v":""},{"$f":"IF('2.Logbook'!AO141=\"\",\"\",'2.Logbook'!AO141)","v":""},{"$f":"IF('2.Logbook'!AP141=\"\",\"\",'2.Logbook'!AP141)","v":""},{"$f":"IF('2.Logbook'!AQ141=\"\",\"\",'2.Logbook'!AQ141)","v":""},{"$f":"IF('2.Logbook'!AR141=\"\",\"\",'2.Logbook'!AR141)","v":""},{"$f":"IF('2.Logbook'!AS141=\"\",\"\",'2.Logbook'!AS141)","v":""},{"$f":"IF('2.Logbook'!AT141=\"\",\"\",'2.Logbook'!AT141)","v":""},{"$f":"IF('2.Logbook'!AU141=\"\",\"\",'2.Logbook'!AU141)","v":""},{"$f":"IF('2.Logbook'!AV141=\"\",\"\",'2.Logbook'!AV141)","v":""},{"$f":"IF('2.Logbook'!AW141=\"\",\"\",'2.Logbook'!AW141)","v":""},{"$f":"IF('2.Logbook'!AX141=\"\",\"\",'2.Logbook'!AX141)","v":""},{"$f":"IF('2.Logbook'!AY141=\"\",\"\",'2.Logbook'!AY141)","v":""}]
[{"$f":"IF('2.Logbook'!$A142=\"\",\"\",'2.Logbook'!$A142)","v":""},{"$f":"IF('2.Logbook'!$B142=\"\",\"\",'2.Logbook'!$B142)","v":""},{"$f":"IF('2.Logbook'!AH142=\"\",\"\",'2.Logbook'!AH142)","v":""},{"$f":"IF('2.Logbook'!AI142=\"\",\"\",'2.Logbook'!AI142)","v":""},{"$f":"IF('2.Logbook'!AJ142=\"\",\"\",'2.Logbook'!AJ142)","v":""},{"$f":"IF('2.Logbook'!AK142=\"\",\"\",'2.Logbook'!AK142)","v":""},{"$f":"IF('2.Logbook'!AL142=\"\",\"\",'2.Logbook'!AL142)","v":""},{"$f":"IF('2.Logbook'!AM142=\"\",\"\",'2.Logbook'!AM142)","v":""},{"$f":"IF('2.Logbook'!AN142=\"\",\"\",'2.Logbook'!AN142)","v":""},{"$f":"IF('2.Logbook'!AO142=\"\",\"\",'2.Logbook'!AO142)","v":""},{"$f":"IF('2.Logbook'!AP142=\"\",\"\",'2.Logbook'!AP142)","v":""},{"$f":"IF('2.Logbook'!AQ142=\"\",\"\",'2.Logbook'!AQ142)","v":""},{"$f":"IF('2.Logbook'!AR142=\"\",\"\",'2.Logbook'!AR142)","v":""},{"$f":"IF('2.Logbook'!AS142=\"\",\"\",'2.Logbook'!AS142)","v":""},{"$f":"IF('2.Logbook'!AT142=\"\",\"\",'2.Logbook'!AT142)","v":""},{"$f":"IF('2.Logbook'!AU142=\"\",\"\",'2.Logbook'!AU142)","v":""},{"$f":"IF('2.Logbook'!AV142=\"\",\"\",'2.Logbook'!AV142)","v":""},{"$f":"IF('2.Logbook'!AW142=\"\",\"\",'2.Logbook'!AW142)","v":""},{"$f":"IF('2.Logbook'!AX142=\"\",\"\",'2.Logbook'!AX142)","v":""},{"$f":"IF('2.Logbook'!AY142=\"\",\"\",'2.Logbook'!AY142)","v":""}]
[{"$f":"IF('2.Logbook'!$A143=\"\",\"\",'2.Logbook'!$A143)","v":""},{"$f":"IF('2.Logbook'!$B143=\"\",\"\",'2.Logbook'!$B143)","v":""},{"$f":"IF('2.Logbook'!AH143=\"\",\"\",'2.Logbook'!AH143)","v":""},{"$f":"IF('2.Logbook'!AI143=\"\",\"\",'2.Logbook'!AI143)","v":""},{"$f":"IF('2.Logbook'!AJ143=\"\",\"\",'2.Logbook'!AJ143)","v":""},{"$f":"IF('2.Logbook'!AK143=\"\",\"\",'2.Logbook'!AK143)","v":""},{"$f":"IF('2.Logbook'!AL143=\"\",\"\",'2.Logbook'!AL143)","v":""},{"$f":"IF('2.Logbook'!AM143=\"\",\"\",'2.Logbook'!AM143)","v":""},{"$f":"IF('2.Logbook'!AN143=\"\",\"\",'2.Logbook'!AN143)","v":""},{"$f":"IF('2.Logbook'!AO143=\"\",\"\",'2.Logbook'!AO143)","v":""},{"$f":"IF('2.Logbook'!AP143=\"\",\"\",'2.Logbook'!AP143)","v":""},{"$f":"IF('2.Logbook'!AQ143=\"\",\"\",'2.Logbook'!AQ143)","v":""},{"$f":"IF('2.Logbook'!AR143=\"\",\"\",'2.Logbook'!AR143)","v":""},{"$f":"IF('2.Logbook'!AS143=\"\",\"\",'2.Logbook'!AS143)","v":""},{"$f":"IF('2.Logbook'!AT143=\"\",\"\",'2.Logbook'!AT143)","v":""},{"$f":"IF('2.Logbook'!AU143=\"\",\"\",'2.Logbook'!AU143)","v":""},{"$f":"IF('2.Logbook'!AV143=\"\",\"\",'2.Logbook'!AV143)","v":""},{"$f":"IF('2.Logbook'!AW143=\"\",\"\",'2.Logbook'!AW143)","v":""},{"$f":"IF('2.Logbook'!AX143=\"\",\"\",'2.Logbook'!AX143)","v":""},{"$f":"IF('2.Logbook'!AY143=\"\",\"\",'2.Logbook'!AY143)","v":""}]
[{"$f":"IF('2.Logbook'!$A144=\"\",\"\",'2.Logbook'!$A144)","v":""},{"$f":"IF('2.Logbook'!$B144=\"\",\"\",'2.Logbook'!$B144)","v":""},{"$f":"IF('2.Logbook'!AH144=\"\",\"\",'2.Logbook'!AH144)","v":""},{"$f":"IF('2.Logbook'!AI144=\"\",\"\",'2.Logbook'!AI144)","v":""},{"$f":"IF('2.Logbook'!AJ144=\"\",\"\",'2.Logbook'!AJ144)","v":""},{"$f":"IF('2.Logbook'!AK144=\"\",\"\",'2.Logbook'!AK144)","v":""},{"$f":"IF('2.Logbook'!AL144=\"\",\"\",'2.Logbook'!AL144)","v":""},{"$f":"IF('2.Logbook'!AM144=\"\",\"\",'2.Logbook'!AM144)","v":""},{"$f":"IF('2.Logbook'!AN144=\"\",\"\",'2.Logbook'!AN144)","v":""},{"$f":"IF('2.Logbook'!AO144=\"\",\"\",'2.Logbook'!AO144)","v":""},{"$f":"IF('2.Logbook'!AP144=\"\",\"\",'2.Logbook'!AP144)","v":""},{"$f":"IF('2.Logbook'!AQ144=\"\",\"\",'2.Logbook'!AQ144)","v":""},{"$f":"IF('2.Logbook'!AR144=\"\",\"\",'2.Logbook'!AR144)","v":""},{"$f":"IF('2.Logbook'!AS144=\"\",\"\",'2.Logbook'!AS144)","v":""},{"$f":"IF('2.Logbook'!AT144=\"\",\"\",'2.Logbook'!AT144)","v":""},{"$f":"IF('2.Logbook'!AU144=\"\",\"\",'2.Logbook'!AU144)","v":""},{"$f":"IF('2.Logbook'!AV144=\"\",\"\",'2.Logbook'!AV144)","v":""},{"$f":"IF('2.Logbook'!AW144=\"\",\"\",'2.Logbook'!AW144)","v":""},{"$f":"IF('2.Logbook'!AX144=\"\",\"\",'2.Logbook'!AX144)","v":""},{"$f":"IF('2.Logbook'!AY144=\"\",\"\",'2.Logbook'!AY144)","v":""}]
[{"$f":"IF('2.Logbook'!$A145=\"\",\"\",'2.Logbook'!$A145)","v":""},{"$f":"IF('2.Logbook'!$B145=\"\",\"\",'2.Logbook'!$B145)","v":""},{"$f":"IF('2.Logbook'!AH145=\"\",\"\",'2.Logbook'!AH145)","v":""},{"$f":"IF('2.Logbook'!AI145=\"\",\"\",'2.Logbook'!AI145)","v":""},{"$f":"IF('2.Logbook'!AJ145=\"\",\"\",'2.Logbook'!AJ145)","v":""},{"$f":"IF('2.Logbook'!AK145=\"\",\"\",'2.Logbook'!AK145)","v":""},{"$f":"IF('2.Logbook'!AL145=\"\",\"\",'2.Logbook'!AL145)","v":""},{"$f":"IF('2.Logbook'!AM145=\"\",\"\",'2.Logbook'!AM145)","v":""},{"$f":"IF('2.Logbook'!AN145=\"\",\"\",'2.Logbook'!AN145)","v":""},{"$f":"IF('2.Logbook'!AO145=\"\",\"\",'2.Logbook'!AO145)","v":""},{"$f":"IF('2.Logbook'!AP145=\"\",\"\",'2.Logbook'!AP145)","v":""},{"$f":"IF('2.Logbook'!AQ145=\"\",\"\",'2.Logbook'!AQ145)","v":""},{"$f":"IF('2.Logbook'!AR145=\"\",\"\",'2.Logbook'!AR145)","v":""},{"$f":"IF('2.Logbook'!AS145=\"\",\"\",'2.Logbook'!AS145)","v":""},{"$f":"IF('2.Logbook'!AT145=\"\",\"\",'2.Logbook'!AT145)","v":""},{"$f":"IF('2.Logbook'!AU145=\"\",\"\",'2.Logbook'!AU145)","v":""},{"$f":"IF('2.Logbook'!AV145=\"\",\"\",'2.Logbook'!AV145)","v":""},{"$f":"IF('2.Logbook'!AW145=\"\",\"\",'2.Logbook'!AW145)","v":""},{"$f":"IF('2.Logbook'!AX145=\"\",\"\",'2.Logbook'!AX145)","v":""},{"$f":"IF('2.Logbook'!AY145=\"\",\"\",'2.Logbook'!AY145)","v":""}]
[{"$f":"IF('2.Logbook'!$A146=\"\",\"\",'2.Logbook'!$A146)","v":""},{"$f":"IF('2.Logbook'!$B146=\"\",\"\",'2.Logbook'!$B146)","v":""},{"$f":"IF('2.Logbook'!AH146=\"\",\"\",'2.Logbook'!AH146)","v":""},{"$f":"IF('2.Logbook'!AI146=\"\",\"\",'2.Logbook'!AI146)","v":""},{"$f":"IF('2.Logbook'!AJ146=\"\",\"\",'2.Logbook'!AJ146)","v":""},{"$f":"IF('2.Logbook'!AK146=\"\",\"\",'2.Logbook'!AK146)","v":""},{"$f":"IF('2.Logbook'!AL146=\"\",\"\",'2.Logbook'!AL146)","v":""},{"$f":"IF('2.Logbook'!AM146=\"\",\"\",'2.Logbook'!AM146)","v":""},{"$f":"IF('2.Logbook'!AN146=\"\",\"\",'2.Logbook'!AN146)","v":""},{"$f":"IF('2.Logbook'!AO146=\"\",\"\",'2.Logbook'!AO146)","v":""},{"$f":"IF('2.Logbook'!AP146=\"\",\"\",'2.Logbook'!AP146)","v":""},{"$f":"IF('2.Logbook'!AQ146=\"\",\"\",'2.Logbook'!AQ146)","v":""},{"$f":"IF('2.Logbook'!AR146=\"\",\"\",'2.Logbook'!AR146)","v":""},{"$f":"IF('2.Logbook'!AS146=\"\",\"\",'2.Logbook'!AS146)","v":""},{"$f":"IF('2.Logbook'!AT146=\"\",\"\",'2.Logbook'!AT146)","v":""},{"$f":"IF('2.Logbook'!AU146=\"\",\"\",'2.Logbook'!AU146)","v":""},{"$f":"IF('2.Logbook'!AV146=\"\",\"\",'2.Logbook'!AV146)","v":""},{"$f":"IF('2.Logbook'!AW146=\"\",\"\",'2.Logbook'!AW146)","v":""},{"$f":"IF('2.Logbook'!AX146=\"\",\"\",'2.Logbook'!AX146)","v":""},{"$f":"IF('2.Logbook'!AY146=\"\",\"\",'2.Logbook'!AY146)","v":""}]
[{"$f":"IF('2.Logbook'!$A147=\"\",\"\",'2.Logbook'!$A147)","v":""},{"$f":"IF('2.Logbook'!$B147=\"\",\"\",'2.Logbook'!$B147)","v":""},{"$f":"IF('2.Logbook'!AH147=\"\",\"\",'2.Logbook'!AH147)","v":""},{"$f":"IF('2.Logbook'!AI147=\"\",\"\",'2.Logbook'!AI147)","v":""},{"$f":"IF('2.Logbook'!AJ147=\"\",\"\",'2.Logbook'!AJ147)","v":""},{"$f":"IF('2.Logbook'!AK147=\"\",\"\",'2.Logbook'!AK147)","v":""},{"$f":"IF('2.Logbook'!AL147=\"\",\"\",'2.Logbook'!AL147)","v":""},{"$f":"IF('2.Logbook'!AM147=\"\",\"\",'2.Logbook'!AM147)","v":""},{"$f":"IF('2.Logbook'!AN147=\"\",\"\",'2.Logbook'!AN147)","v":""},{"$f":"IF('2.Logbook'!AO147=\"\",\"\",'2.Logbook'!AO147)","v":""},{"$f":"IF('2.Logbook'!AP147=\"\",\"\",'2.Logbook'!AP147)","v":""},{"$f":"IF('2.Logbook'!AQ147=\"\",\"\",'2.Logbook'!AQ147)","v":""},{"$f":"IF('2.Logbook'!AR147=\"\",\"\",'2.Logbook'!AR147)","v":""},{"$f":"IF('2.Logbook'!AS147=\"\",\"\",'2.Logbook'!AS147)","v":""},{"$f":"IF('2.Logbook'!AT147=\"\",\"\",'2.Logbook'!AT147)","v":""},{"$f":"IF('2.Logbook'!AU147=\"\",\"\",'2.Logbook'!AU147)","v":""},{"$f":"IF('2.Logbook'!AV147=\"\",\"\",'2.Logbook'!AV147)","v":""},{"$f":"IF('2.Logbook'!AW147=\"\",\"\",'2.Logbook'!AW147)","v":""},{"$f":"IF('2.Logbook'!AX147=\"\",\"\",'2.Logbook'!AX147)","v":""},{"$f":"IF('2.Logbook'!AY147=\"\",\"\",'2.Logbook'!AY147)","v":""}]
[{"$f":"IF('2.Logbook'!$A148=\"\",\"\",'2.Logbook'!$A148)","v":""},{"$f":"IF('2.Logbook'!$B148=\"\",\"\",'2.Logbook'!$B148)","v":""},{"$f":"IF('2.Logbook'!AH148=\"\",\"\",'2.Logbook'!AH148)","v":""},{"$f":"IF('2.Logbook'!AI148=\"\",\"\",'2.Logbook'!AI148)","v":""},{"$f":"IF('2.Logbook'!AJ148=\"\",\"\",'2.Logbook'!AJ148)","v":""},{"$f":"IF('2.Logbook'!AK148=\"\",\"\",'2.Logbook'!AK148)","v":""},{"$f":"IF('2.Logbook'!AL148=\"\",\"\",'2.Logbook'!AL148)","v":""},{"$f":"IF('2.Logbook'!AM148=\"\",\"\",'2.Logbook'!AM148)","v":""},{"$f":"IF('2.Logbook'!AN148=\"\",\"\",'2.Logbook'!AN148)","v":""},{"$f":"IF('2.Logbook'!AO148=\"\",\"\",'2.Logbook'!AO148)","v":""},{"$f":"IF('2.Logbook'!AP148=\"\",\"\",'2.Logbook'!AP148)","v":""},{"$f":"IF('2.Logbook'!AQ148=\"\",\"\",'2.Logbook'!AQ148)","v":""},{"$f":"IF('2.Logbook'!AR148=\"\",\"\",'2.Logbook'!AR148)","v":""},{"$f":"IF('2.Logbook'!AS148=\"\",\"\",'2.Logbook'!AS148)","v":""},{"$f":"IF('2.Logbook'!AT148=\"\",\"\",'2.Logbook'!AT148)","v":""},{"$f":"IF('2.Logbook'!AU148=\"\",\"\",'2.Logbook'!AU148)","v":""},{"$f":"IF('2.Logbook'!AV148=\"\",\"\",'2.Logbook'!AV148)","v":""},{"$f":"IF('2.Logbook'!AW148=\"\",\"\",'2.Logbook'!AW148)","v":""},{"$f":"IF('2.Logbook'!AX148=\"\",\"\",'2.Logbook'!AX148)","v":""},{"$f":"IF('2.Logbook'!AY148=\"\",\"\",'2.Logbook'!AY148)","v":""}]
[{"$f":"IF('2.Logbook'!$A149=\"\",\"\",'2.Logbook'!$A149)","v":""},{"$f":"IF('2.Logbook'!$B149=\"\",\"\",'2.Logbook'!$B149)","v":""},{"$f":"IF('2.Logbook'!AH149=\"\",\"\",'2.Logbook'!AH149)","v":""},{"$f":"IF('2.Logbook'!AI149=\"\",\"\",'2.Logbook'!AI149)","v":""},{"$f":"IF('2.Logbook'!AJ149=\"\",\"\",'2.Logbook'!AJ149)","v":""},{"$f":"IF('2.Logbook'!AK149=\"\",\"\",'2.Logbook'!AK149)","v":""},{"$f":"IF('2.Logbook'!AL149=\"\",\"\",'2.Logbook'!AL149)","v":""},{"$f":"IF('2.Logbook'!AM149=\"\",\"\",'2.Logbook'!AM149)","v":""},{"$f":"IF('2.Logbook'!AN149=\"\",\"\",'2.Logbook'!AN149)","v":""},{"$f":"IF('2.Logbook'!AO149=\"\",\"\",'2.Logbook'!AO149)","v":""},{"$f":"IF('2.Logbook'!AP149=\"\",\"\",'2.Logbook'!AP149)","v":""},{"$f":"IF('2.Logbook'!AQ149=\"\",\"\",'2.Logbook'!AQ149)","v":""},{"$f":"IF('2.Logbook'!AR149=\"\",\"\",'2.Logbook'!AR149)","v":""},{"$f":"IF('2.Logbook'!AS149=\"\",\"\",'2.Logbook'!AS149)","v":""},{"$f":"IF('2.Logbook'!AT149=\"\",\"\",'2.Logbook'!AT149)","v":""},{"$f":"IF('2.Logbook'!AU149=\"\",\"\",'2.Logbook'!AU149)","v":""},{"$f":"IF('2.Logbook'!AV149=\"\",\"\",'2.Logbook'!AV149)","v":""},{"$f":"IF('2.Logbook'!AW149=\"\",\"\",'2.Logbook'!AW149)","v":""},{"$f":"IF('2.Logbook'!AX149=\"\",\"\",'2.Logbook'!AX149)","v":""},{"$f":"IF('2.Logbook'!AY149=\"\",\"\",'2.Logbook'!AY149)","v":""}]
[{"$f":"IF('2.Logbook'!$A150=\"\",\"\",'2.Logbook'!$A150)","v":""},{"$f":"IF('2.Logbook'!$B150=\"\",\"\",'2.Logbook'!$B150)","v":""},{"$f":"IF('2.Logbook'!AH150=\"\",\"\",'2.Logbook'!AH150)","v":""},{"$f":"IF('2.Logbook'!AI150=\"\",\"\",'2.Logbook'!AI150)","v":""},{"$f":"IF('2.Logbook'!AJ150=\"\",\"\",'2.Logbook'!AJ150)","v":""},{"$f":"IF('2.Logbook'!AK150=\"\",\"\",'2.Logbook'!AK150)","v":""},{"$f":"IF('2.Logbook'!AL150=\"\",\"\",'2.Logbook'!AL150)","v":""},{"$f":"IF('2.Logbook'!AM150=\"\",\"\",'2.Logbook'!AM150)","v":""},{"$f":"IF('2.Logbook'!AN150=\"\",\"\",'2.Logbook'!AN150)","v":""},{"$f":"IF('2.Logbook'!AO150=\"\",\"\",'2.Logbook'!AO150)","v":""},{"$f":"IF('2.Logbook'!AP150=\"\",\"\",'2.Logbook'!AP150)","v":""},{"$f":"IF('2.Logbook'!AQ150=\"\",\"\",'2.Logbook'!AQ150)","v":""},{"$f":"IF('2.Logbook'!AR150=\"\",\"\",'2.Logbook'!AR150)","v":""},{"$f":"IF('2.Logbook'!AS150=\"\",\"\",'2.Logbook'!AS150)","v":""},{"$f":"IF('2.Logbook'!AT150=\"\",\"\",'2.Logbook'!AT150)","v":""},{"$f":"IF('2.Logbook'!AU150=\"\",\"\",'2.Logbook'!AU150)","v":""},{"$f":"IF('2.Logbook'!AV150=\"\",\"\",'2.Logbook'!AV150)","v":""},{"$f":"IF('2.Logbook'!AW150=\"\",\"\",'2.Logbook'!AW150)","v":""},{"$f":"IF('2.Logbook'!AX150=\"\",\"\",'2.Logbook'!AX150)","v":""},{"$f":"IF('2.Logbook'!AY150=\"\",\"\",'2.Logbook'!AY150)","v":""}]
[{"$f":"IF('2.Logbook'!$A151=\"\",\"\",'2.Logbook'!$A151)","v":""},{"$f":"IF('2.Logbook'!$B151=\"\",\"\",'2.Logbook'!$B151)","v":""},{"$f":"IF('2.Logbook'!AH151=\"\",\"\",'2.Logbook'!AH151)","v":""},{"$f":"IF('2.Logbook'!AI151=\"\",\"\",'2.Logbook'!AI151)","v":""},{"$f":"IF('2.Logbook'!AJ151=\"\",\"\",'2.Logbook'!AJ151)","v":""},{"$f":"IF('2.Logbook'!AK151=\"\",\"\",'2.Logbook'!AK151)","v":""},{"$f":"IF('2.Logbook'!AL151=\"\",\"\",'2.Logbook'!AL151)","v":""},{"$f":"IF('2.Logbook'!AM151=\"\",\"\",'2.Logbook'!AM151)","v":""},{"$f":"IF('2.Logbook'!AN151=\"\",\"\",'2.Logbook'!AN151)","v":""},{"$f":"IF('2.Logbook'!AO151=\"\",\"\",'2.Logbook'!AO151)","v":""},{"$f":"IF('2.Logbook'!AP151=\"\",\"\",'2.Logbook'!AP151)","v":""},{"$f":"IF('2.Logbook'!AQ151=\"\",\"\",'2.Logbook'!AQ151)","v":""},{"$f":"IF('2.Logbook'!AR151=\"\",\"\",'2.Logbook'!AR151)","v":""},{"$f":"IF('2.Logbook'!AS151=\"\",\"\",'2.Logbook'!AS151)","v":""},{"$f":"IF('2.Logbook'!AT151=\"\",\"\",'2.Logbook'!AT151)","v":""},{"$f":"IF('2.Logbook'!AU151=\"\",\"\",'2.Logbook'!AU151)","v":""},{"$f":"IF('2.Logbook'!AV151=\"\",\"\",'2.Logbook'!AV151)","v":""},{"$f":"IF('2.Logbook'!AW151=\"\",\"\",'2.Logbook'!AW151)","v":""},{"$f":"IF('2.Logbook'!AX151=\"\",\"\",'2.Logbook'!AX151)","v":""},{"$f":"IF('2.Logbook'!AY151=\"\",\"\",'2.Logbook'!AY151)","v":""}]
[{"$f":"IF('2.Logbook'!$A152=\"\",\"\",'2.Logbook'!$A152)","v":""},{"$f":"IF('2.Logbook'!$B152=\"\",\"\",'2.Logbook'!$B152)","v":""},{"$f":"IF('2.Logbook'!AH152=\"\",\"\",'2.Logbook'!AH152)","v":""},{"$f":"IF('2.Logbook'!AI152=\"\",\"\",'2.Logbook'!AI152)","v":""},{"$f":"IF('2.Logbook'!AJ152=\"\",\"\",'2.Logbook'!AJ152)","v":""},{"$f":"IF('2.Logbook'!AK152=\"\",\"\",'2.Logbook'!AK152)","v":""},{"$f":"IF('2.Logbook'!AL152=\"\",\"\",'2.Logbook'!AL152)","v":""},{"$f":"IF('2.Logbook'!AM152=\"\",\"\",'2.Logbook'!AM152)","v":""},{"$f":"IF('2.Logbook'!AN152=\"\",\"\",'2.Logbook'!AN152)","v":""},{"$f":"IF('2.Logbook'!AO152=\"\",\"\",'2.Logbook'!AO152)","v":""},{"$f":"IF('2.Logbook'!AP152=\"\",\"\",'2.Logbook'!AP152)","v":""},{"$f":"IF('2.Logbook'!AQ152=\"\",\"\",'2.Logbook'!AQ152)","v":""},{"$f":"IF('2.Logbook'!AR152=\"\",\"\",'2.Logbook'!AR152)","v":""},{"$f":"IF('2.Logbook'!AS152=\"\",\"\",'2.Logbook'!AS152)","v":""},{"$f":"IF('2.Logbook'!AT152=\"\",\"\",'2.Logbook'!AT152)","v":""},{"$f":"IF('2.Logbook'!AU152=\"\",\"\",'2.Logbook'!AU152)","v":""},{"$f":"IF('2.Logbook'!AV152=\"\",\"\",'2.Logbook'!AV152)","v":""},{"$f":"IF('2.Logbook'!AW152=\"\",\"\",'2.Logbook'!AW152)","v":""},{"$f":"IF('2.Logbook'!AX152=\"\",\"\",'2.Logbook'!AX152)","v":""},{"$f":"IF('2.Logbook'!AY152=\"\",\"\",'2.Logbook'!AY152)","v":""}]
[{"$f":"IF('2.Logbook'!$A153=\"\",\"\",'2.Logbook'!$A153)","v":""},{"$f":"IF('2.Logbook'!$B153=\"\",\"\",'2.Logbook'!$B153)","v":""},{"$f":"IF('2.Logbook'!AH153=\"\",\"\",'2.Logbook'!AH153)","v":""},{"$f":"IF('2.Logbook'!AI153=\"\",\"\",'2.Logbook'!AI153)","v":""},{"$f":"IF('2.Logbook'!AJ153=\"\",\"\",'2.Logbook'!AJ153)","v":""},{"$f":"IF('2.Logbook'!AK153=\"\",\"\",'2.Logbook'!AK153)","v":""},{"$f":"IF('2.Logbook'!AL153=\"\",\"\",'2.Logbook'!AL153)","v":""},{"$f":"IF('2.Logbook'!AM153=\"\",\"\",'2.Logbook'!AM153)","v":""},{"$f":"IF('2.Logbook'!AN153=\"\",\"\",'2.Logbook'!AN153)","v":""},{"$f":"IF('2.Logbook'!AO153=\"\",\"\",'2.Logbook'!AO153)","v":""},{"$f":"IF('2.Logbook'!AP153=\"\",\"\",'2.Logbook'!AP153)","v":""},{"$f":"IF('2.Logbook'!AQ153=\"\",\"\",'2.Logbook'!AQ153)","v":""},{"$f":"IF('2.Logbook'!AR153=\"\",\"\",'2.Logbook'!AR153)","v":""},{"$f":"IF('2.Logbook'!AS153=\"\",\"\",'2.Logbook'!AS153)","v":""},{"$f":"IF('2.Logbook'!AT153=\"\",\"\",'2.Logbook'!AT153)","v":""},{"$f":"IF('2.Logbook'!AU153=\"\",\"\",'2.Logbook'!AU153)","v":""},{"$f":"IF('2.Logbook'!AV153=\"\",\"\",'2.Logbook'!AV153)","v":""},{"$f":"IF('2.Logbook'!AW153=\"\",\"\",'2.Logbook'!AW153)","v":""},{"$f":"IF('2.Logbook'!AX153=\"\",\"\",'2.Logbook'!AX153)","v":""},{"$f":"IF('2.Logbook'!AY153=\"\",\"\",'2.Logbook'!AY153)","v":""}]
[{"$f":"IF('2.Logbook'!$A154=\"\",\"\",'2.Logbook'!$A154)","v":""},{"$f":"IF('2.Logbook'!$B154=\"\",\"\",'2.Logbook'!$B154)","v":""},{"$f":"IF('2.Logbook'!AH154=\"\",\"\",'2.Logbook'!AH154)","v":""},{"$f":"IF('2.Logbook'!AI154=\"\",\"\",'2.Logbook'!AI154)","v":""},{"$f":"IF('2.Logbook'!AJ154=\"\",\"\",'2.Logbook'!AJ154)","v":""},{"$f":"IF('2.Logbook'!AK154=\"\",\"\",'2.Logbook'!AK154)","v":""},{"$f":"IF('2.Logbook'!AL154=\"\",\"\",'2.Logbook'!AL154)","v":""},{"$f":"IF('2.Logbook'!AM154=\"\",\"\",'2.Logbook'!AM154)","v":""},{"$f":"IF('2.Logbook'!AN154=\"\",\"\",'2.Logbook'!AN154)","v":""},{"$f":"IF('2.Logbook'!AO154=\"\",\"\",'2.Logbook'!AO154)","v":""},{"$f":"IF('2.Logbook'!AP154=\"\",\"\",'2.Logbook'!AP154)","v":""},{"$f":"IF('2.Logbook'!AQ154=\"\",\"\",'2.Logbook'!AQ154)","v":""},{"$f":"IF('2.Logbook'!AR154=\"\",\"\",'2.Logbook'!AR154)","v":""},{"$f":"IF('2.Logbook'!AS154=\"\",\"\",'2.Logbook'!AS154)","v":""},{"$f":"IF('2.Logbook'!AT154=\"\",\"\",'2.Logbook'!AT154)","v":""},{"$f":"IF('2.Logbook'!AU154=\"\",\"\",'2.Logbook'!AU154)","v":""},{"$f":"IF('2.Logbook'!AV154=\"\",\"\",'2.Logbook'!AV154)","v":""},{"$f":"IF('2.Logbook'!AW154=\"\",\"\",'2.Logbook'!AW154)","v":""},{"$f":"IF('2.Logbook'!AX154=\"\",\"\",'2.Logbook'!AX154)","v":""},{"$f":"IF('2.Logbook'!AY154=\"\",\"\",'2.Logbook'!AY154)","v":""}]
[{"$f":"IF('2.Logbook'!$A155=\"\",\"\",'2.Logbook'!$A155)","v":""},{"$f":"IF('2.Logbook'!$B155=\"\",\"\",'2.Logbook'!$B155)","v":""},{"$f":"IF('2.Logbook'!AH155=\"\",\"\",'2.Logbook'!AH155)","v":""},{"$f":"IF('2.Logbook'!AI155=\"\",\"\",'2.Logbook'!AI155)","v":""},{"$f":"IF('2.Logbook'!AJ155=\"\",\"\",'2.Logbook'!AJ155)","v":""},{"$f":"IF('2.Logbook'!AK155=\"\",\"\",'2.Logbook'!AK155)","v":""},{"$f":"IF('2.Logbook'!AL155=\"\",\"\",'2.Logbook'!AL155)","v":""},{"$f":"IF('2.Logbook'!AM155=\"\",\"\",'2.Logbook'!AM155)","v":""},{"$f":"IF('2.Logbook'!AN155=\"\",\"\",'2.Logbook'!AN155)","v":""},{"$f":"IF('2.Logbook'!AO155=\"\",\"\",'2.Logbook'!AO155)","v":""},{"$f":"IF('2.Logbook'!AP155=\"\",\"\",'2.Logbook'!AP155)","v":""},{"$f":"IF('2.Logbook'!AQ155=\"\",\"\",'2.Logbook'!AQ155)","v":""},{"$f":"IF('2.Logbook'!AR155=\"\",\"\",'2.Logbook'!AR155)","v":""},{"$f":"IF('2.Logbook'!AS155=\"\",\"\",'2.Logbook'!AS155)","v":""},{"$f":"IF('2.Logbook'!AT155=\"\",\"\",'2.Logbook'!AT155)","v":""},{"$f":"IF('2.Logbook'!AU155=\"\",\"\",'2.Logbook'!AU155)","v":""},{"$f":"IF('2.Logbook'!AV155=\"\",\"\",'2.Logbook'!AV155)","v":""},{"$f":"IF('2.Logbook'!AW155=\"\",\"\",'2.Logbook'!AW155)","v":""},{"$f":"IF('2.Logbook'!AX155=\"\",\"\",'2.Logbook'!AX155)","v":""},{"$f":"IF('2.Logbook'!AY155=\"\",\"\",'2.Logbook'!AY155)","v":""}]
[{"$f":"IF('2.Logbook'!$A156=\"\",\"\",'2.Logbook'!$A156)","v":""},{"$f":"IF('2.Logbook'!$B156=\"\",\"\",'2.Logbook'!$B156)","v":""},{"$f":"IF('2.Logbook'!AH156=\"\",\"\",'2.Logbook'!AH156)","v":""},{"$f":"IF('2.Logbook'!AI156=\"\",\"\",'2.Logbook'!AI156)","v":""},{"$f":"IF('2.Logbook'!AJ156=\"\",\"\",'2.Logbook'!AJ156)","v":""},{"$f":"IF('2.Logbook'!AK156=\"\",\"\",'2.Logbook'!AK156)","v":""},{"$f":"IF('2.Logbook'!AL156=\"\",\"\",'2.Logbook'!AL156)","v":""},{"$f":"IF('2.Logbook'!AM156=\"\",\"\",'2.Logbook'!AM156)","v":""},{"$f":"IF('2.Logbook'!AN156=\"\",\"\",'2.Logbook'!AN156)","v":""},{"$f":"IF('2.Logbook'!AO156=\"\",\"\",'2.Logbook'!AO156)","v":""},{"$f":"IF('2.Logbook'!AP156=\"\",\"\",'2.Logbook'!AP156)","v":""},{"$f":"IF('2.Logbook'!AQ156=\"\",\"\",'2.Logbook'!AQ156)","v":""},{"$f":"IF('2.Logbook'!AR156=\"\",\"\",'2.Logbook'!AR156)","v":""},{"$f":"IF('2.Logbook'!AS156=\"\",\"\",'2.Logbook'!AS156)","v":""},{"$f":"IF('2.Logbook'!AT156=\"\",\"\",'2.Logbook'!AT156)","v":""},{"$f":"IF('2.Logbook'!AU156=\"\",\"\",'2.Logbook'!AU156)","v":""},{"$f":"IF('2.Logbook'!AV156=\"\",\"\",'2.Logbook'!AV156)","v":""},{"$f":"IF('2.Logbook'!AW156=\"\",\"\",'2.Logbook'!AW156)","v":""},{"$f":"IF('2.Logbook'!AX156=\"\",\"\",'2.Logbook'!AX156)","v":""},{"$f":"IF('2.Logbook'!AY156=\"\",\"\",'2.Logbook'!AY156)","v":""}]
[{"$f":"IF('2.Logbook'!$A157=\"\",\"\",'2.Logbook'!$A157)","v":""},{"$f":"IF('2.Logbook'!$B157=\"\",\"\",'2.Logbook'!$B157)","v":""},{"$f":"IF('2.Logbook'!AH157=\"\",\"\",'2.Logbook'!AH157)","v":""},{"$f":"IF('2.Logbook'!AI157=\"\",\"\",'2.Logbook'!AI157)","v":""},{"$f":"IF('2.Logbook'!AJ157=\"\",\"\",'2.Logbook'!AJ157)","v":""},{"$f":"IF('2.Logbook'!AK157=\"\",\"\",'2.Logbook'!AK157)","v":""},{"$f":"IF('2.Logbook'!AL157=\"\",\"\",'2.Logbook'!AL157)","v":""},{"$f":"IF('2.Logbook'!AM157=\"\",\"\",'2.Logbook'!AM157)","v":""},{"$f":"IF('2.Logbook'!AN157=\"\",\"\",'2.Logbook'!AN157)","v":""},{"$f":"IF('2.Logbook'!AO157=\"\",\"\",'2.Logbook'!AO157)","v":""},{"$f":"IF('2.Logbook'!AP157=\"\",\"\",'2.Logbook'!AP157)","v":""},{"$f":"IF('2.Logbook'!AQ157=\"\",\"\",'2.Logbook'!AQ157)","v":""},{"$f":"IF('2.Logbook'!AR157=\"\",\"\",'2.Logbook'!AR157)","v":""},{"$f":"IF('2.Logbook'!AS157=\"\",\"\",'2.Logbook'!AS157)","v":""},{"$f":"IF('2.Logbook'!AT157=\"\",\"\",'2.Logbook'!AT157)","v":""},{"$f":"IF('2.Logbook'!AU157=\"\",\"\",'2.Logbook'!AU157)","v":""},{"$f":"IF('2.Logbook'!AV157=\"\",\"\",'2.Logbook'!AV157)","v":""},{"$f":"IF('2.Logbook'!AW157=\"\",\"\",'2.Logbook'!AW157)","v":""},{"$f":"IF('2.Logbook'!AX157=\"\",\"\",'2.Logbook'!AX157)","v":""},{"$f":"IF('2.Logbook'!AY157=\"\",\"\",'2.Logbook'!AY157)","v":""}]
[{"$f":"IF('2.Logbook'!$A158=\"\",\"\",'2.Logbook'!$A158)","v":""},{"$f":"IF('2.Logbook'!$B158=\"\",\"\",'2.Logbook'!$B158)","v":""},{"$f":"IF('2.Logbook'!AH158=\"\",\"\",'2.Logbook'!AH158)","v":""},{"$f":"IF('2.Logbook'!AI158=\"\",\"\",'2.Logbook'!AI158)","v":""},{"$f":"IF('2.Logbook'!AJ158=\"\",\"\",'2.Logbook'!AJ158)","v":""},{"$f":"IF('2.Logbook'!AK158=\"\",\"\",'2.Logbook'!AK158)","v":""},{"$f":"IF('2.Logbook'!AL158=\"\",\"\",'2.Logbook'!AL158)","v":""},{"$f":"IF('2.Logbook'!AM158=\"\",\"\",'2.Logbook'!AM158)","v":""},{"$f":"IF('2.Logbook'!AN158=\"\",\"\",'2.Logbook'!AN158)","v":""},{"$f":"IF('2.Logbook'!AO158=\"\",\"\",'2.Logbook'!AO158)","v":""},{"$f":"IF('2.Logbook'!AP158=\"\",\"\",'2.Logbook'!AP158)","v":""},{"$f":"IF('2.Logbook'!AQ158=\"\",\"\",'2.Logbook'!AQ158)","v":""},{"$f":"IF('2.Logbook'!AR158=\"\",\"\",'2.Logbook'!AR158)","v":""},{"$f":"IF('2.Logbook'!AS158=\"\",\"\",'2.Logbook'!AS158)","v":""},{"$f":"IF('2.Logbook'!AT158=\"\",\"\",'2.Logbook'!AT158)","v":""},{"$f":"IF('2.Logbook'!AU158=\"\",\"\",'2.Logbook'!AU158)","v":""},{"$f":"IF('2.Logbook'!AV158=\"\",\"\",'2.Logbook'!AV158)","v":""},{"$f":"IF('2.Logbook'!AW158=\"\",\"\",'2.Logbook'!AW158)","v":""},{"$f":"IF('2.Logbook'!AX158=\"\",\"\",'2.Logbook'!AX158)","v":""},{"$f":"IF('2.Logbook'!AY158=\"\",\"\",'2.Logbook'!AY158)","v":""}]
[{"$f":"IF('2.Logbook'!$A159=\"\",\"\",'2.Logbook'!$A159)","v":""},{"$f":"IF('2.Logbook'!$B159=\"\",\"\",'2.Logbook'!$B159)","v":""},{"$f":"IF('2.Logbook'!AH159=\"\",\"\",'2.Logbook'!AH159)","v":""},{"$f":"IF('2.Logbook'!AI159=\"\",\"\",'2.Logbook'!AI159)","v":""},{"$f":"IF('2.Logbook'!AJ159=\"\",\"\",'2.Logbook'!AJ159)","v":""},{"$f":"IF('2.Logbook'!AK159=\"\",\"\",'2.Logbook'!AK159)","v":""},{"$f":"IF('2.Logbook'!AL159=\"\",\"\",'2.Logbook'!AL159)","v":""},{"$f":"IF('2.Logbook'!AM159=\"\",\"\",'2.Logbook'!AM159)","v":""},{"$f":"IF('2.Logbook'!AN159=\"\",\"\",'2.Logbook'!AN159)","v":""},{"$f":"IF('2.Logbook'!AO159=\"\",\"\",'2.Logbook'!AO159)","v":""},{"$f":"IF('2.Logbook'!AP159=\"\",\"\",'2.Logbook'!AP159)","v":""},{"$f":"IF('2.Logbook'!AQ159=\"\",\"\",'2.Logbook'!AQ159)","v":""},{"$f":"IF('2.Logbook'!AR159=\"\",\"\",'2.Logbook'!AR159)","v":""},{"$f":"IF('2.Logbook'!AS159=\"\",\"\",'2.Logbook'!AS159)","v":""},{"$f":"IF('2.Logbook'!AT159=\"\",\"\",'2.Logbook'!AT159)","v":""},{"$f":"IF('2.Logbook'!AU159=\"\",\"\",'2.Logbook'!AU159)","v":""},{"$f":"IF('2.Logbook'!AV159=\"\",\"\",'2.Logbook'!AV159)","v":""},{"$f":"IF('2.Logbook'!AW159=\"\",\"\",'2.Logbook'!AW159)","v":""},{"$f":"IF('2.Logbook'!AX159=\"\",\"\",'2.Logbook'!AX159)","v":""},{"$f":"IF('2.Logbook'!AY159=\"\",\"\",'2.Logbook'!AY159)","v":""}]
[{"$f":"IF('2.Logbook'!$A160=\"\",\"\",'2.Logbook'!$A160)","v":""},{"$f":"IF('2.Logbook'!$B160=\"\",\"\",'2.Logbook'!$B160)","v":""},{"$f":"IF('2.Logbook'!AH160=\"\",\"\",'2.Logbook'!AH160)","v":""},{"$f":"IF('2.Logbook'!AI160=\"\",\"\",'2.Logbook'!AI160)","v":""},{"$f":"IF('2.Logbook'!AJ160=\"\",\"\",'2.Logbook'!AJ160)","v":""},{"$f":"IF('2.Logbook'!AK160=\"\",\"\",'2.Logbook'!AK160)","v":""},{"$f":"IF('2.Logbook'!AL160=\"\",\"\",'2.Logbook'!AL160)","v":""},{"$f":"IF('2.Logbook'!AM160=\"\",\"\",'2.Logbook'!AM160)","v":""},{"$f":"IF('2.Logbook'!AN160=\"\",\"\",'2.Logbook'!AN160)","v":""},{"$f":"IF('2.Logbook'!AO160=\"\",\"\",'2.Logbook'!AO160)","v":""},{"$f":"IF('2.Logbook'!AP160=\"\",\"\",'2.Logbook'!AP160)","v":""},{"$f":"IF('2.Logbook'!AQ160=\"\",\"\",'2.Logbook'!AQ160)","v":""},{"$f":"IF('2.Logbook'!AR160=\"\",\"\",'2.Logbook'!AR160)","v":""},{"$f":"IF('2.Logbook'!AS160=\"\",\"\",'2.Logbook'!AS160)","v":""},{"$f":"IF('2.Logbook'!AT160=\"\",\"\",'2.Logbook'!AT160)","v":""},{"$f":"IF('2.Logbook'!AU160=\"\",\"\",'2.Logbook'!AU160)","v":""},{"$f":"IF('2.Logbook'!AV160=\"\",\"\",'2.Logbook'!AV160)","v":""},{"$f":"IF('2.Logbook'!AW160=\"\",\"\",'2.Logbook'!AW160)","v":""},{"$f":"IF('2.Logbook'!AX160=\"\",\"\",'2.Logbook'!AX160)","v":""},{"$f":"IF('2.Logbook'!AY160=\"\",\"\",'2.Logbook'!AY160)","v":""}]
[{"$f":"IF('2.Logbook'!$A161=\"\",\"\",'2.Logbook'!$A161)","v":""},{"$f":"IF('2.Logbook'!$B161=\"\",\"\",'2.Logbook'!$B161)","v":""},{"$f":"IF('2.Logbook'!AH161=\"\",\"\",'2.Logbook'!AH161)","v":""},{"$f":"IF('2.Logbook'!AI161=\"\",\"\",'2.Logbook'!AI161)","v":""},{"$f":"IF('2.Logbook'!AJ161=\"\",\"\",'2.Logbook'!AJ161)","v":""},{"$f":"IF('2.Logbook'!AK161=\"\",\"\",'2.Logbook'!AK161)","v":""},{"$f":"IF('2.Logbook'!AL161=\"\",\"\",'2.Logbook'!AL161)","v":""},{"$f":"IF('2.Logbook'!AM161=\"\",\"\",'2.Logbook'!AM161)","v":""},{"$f":"IF('2.Logbook'!AN161=\"\",\"\",'2.Logbook'!AN161)","v":""},{"$f":"IF('2.Logbook'!AO161=\"\",\"\",'2.Logbook'!AO161)","v":""},{"$f":"IF('2.Logbook'!AP161=\"\",\"\",'2.Logbook'!AP161)","v":""},{"$f":"IF('2.Logbook'!AQ161=\"\",\"\",'2.Logbook'!AQ161)","v":""},{"$f":"IF('2.Logbook'!AR161=\"\",\"\",'2.Logbook'!AR161)","v":""},{"$f":"IF('2.Logbook'!AS161=\"\",\"\",'2.Logbook'!AS161)","v":""},{"$f":"IF('2.Logbook'!AT161=\"\",\"\",'2.Logbook'!AT161)","v":""},{"$f":"IF('2.Logbook'!AU161=\"\",\"\",'2.Logbook'!AU161)","v":""},{"$f":"IF('2.Logbook'!AV161=\"\",\"\",'2.Logbook'!AV161)","v":""},{"$f":"IF('2.Logbook'!AW161=\"\",\"\",'2.Logbook'!AW161)","v":""},{"$f":"IF('2.Logbook'!AX161=\"\",\"\",'2.Logbook'!AX161)","v":""},{"$f":"IF('2.Logbook'!AY161=\"\",\"\",'2.Logbook'!AY161)","v":""}]
[{"$f":"IF('2.Logbook'!$A162=\"\",\"\",'2.Logbook'!$A162)","v":""},{"$f":"IF('2.Logbook'!$B162=\"\",\"\",'2.Logbook'!$B162)","v":""},{"$f":"IF('2.Logbook'!AH162=\"\",\"\",'2.Logbook'!AH162)","v":""},{"$f":"IF('2.Logbook'!AI162=\"\",\"\",'2.Logbook'!AI162)","v":""},{"$f":"IF('2.Logbook'!AJ162=\"\",\"\",'2.Logbook'!AJ162)","v":""},{"$f":"IF('2.Logbook'!AK162=\"\",\"\",'2.Logbook'!AK162)","v":""},{"$f":"IF('2.Logbook'!AL162=\"\",\"\",'2.Logbook'!AL162)","v":""},{"$f":"IF('2.Logbook'!AM162=\"\",\"\",'2.Logbook'!AM162)","v":""},{"$f":"IF('2.Logbook'!AN162=\"\",\"\",'2.Logbook'!AN162)","v":""},{"$f":"IF('2.Logbook'!AO162=\"\",\"\",'2.Logbook'!AO162)","v":""},{"$f":"IF('2.Logbook'!AP162=\"\",\"\",'2.Logbook'!AP162)","v":""},{"$f":"IF('2.Logbook'!AQ162=\"\",\"\",'2.Logbook'!AQ162)","v":""},{"$f":"IF('2.Logbook'!AR162=\"\",\"\",'2.Logbook'!AR162)","v":""},{"$f":"IF('2.Logbook'!AS162=\"\",\"\",'2.Logbook'!AS162)","v":""},{"$f":"IF('2.Logbook'!AT162=\"\",\"\",'2.Logbook'!AT162)","v":""},{"$f":"IF('2.Logbook'!AU162=\"\",\"\",'2.Logbook'!AU162)","v":""},{"$f":"IF('2.Logbook'!AV162=\"\",\"\",'2.Logbook'!AV162)","v":""},{"$f":"IF('2.Logbook'!AW162=\"\",\"\",'2.Logbook'!AW162)","v":""},{"$f":"IF('2.Logbook'!AX162=\"\",\"\",'2.Logbook'!AX162)","v":""},{"$f":"IF('2.Logbook'!AY162=\"\",\"\",'2.Logbook'!AY162)","v":""}]
[{"$f":"IF('2.Logbook'!$A163=\"\",\"\",'2.Logbook'!$A163)","v":""},{"$f":"IF('2.Logbook'!$B163=\"\",\"\",'2.Logbook'!$B163)","v":""},{"$f":"IF('2.Logbook'!AH163=\"\",\"\",'2.Logbook'!AH163)","v":""},{"$f":"IF('2.Logbook'!AI163=\"\",\"\",'2.Logbook'!AI163)","v":""},{"$f":"IF('2.Logbook'!AJ163=\"\",\"\",'2.Logbook'!AJ163)","v":""},{"$f":"IF('2.Logbook'!AK163=\"\",\"\",'2.Logbook'!AK163)","v":""},{"$f":"IF('2.Logbook'!AL163=\"\",\"\",'2.Logbook'!AL163)","v":""},{"$f":"IF('2.Logbook'!AM163=\"\",\"\",'2.Logbook'!AM163)","v":""},{"$f":"IF('2.Logbook'!AN163=\"\",\"\",'2.Logbook'!AN163)","v":""},{"$f":"IF('2.Logbook'!AO163=\"\",\"\",'2.Logbook'!AO163)","v":""},{"$f":"IF('2.Logbook'!AP163=\"\",\"\",'2.Logbook'!AP163)","v":""},{"$f":"IF('2.Logbook'!AQ163=\"\",\"\",'2.Logbook'!AQ163)","v":""},{"$f":"IF('2.Logbook'!AR163=\"\",\"\",'2.Logbook'!AR163)","v":""},{"$f":"IF('2.Logbook'!AS163=\"\",\"\",'2.Logbook'!AS163)","v":""},{"$f":"IF('2.Logbook'!AT163=\"\",\"\",'2.Logbook'!AT163)","v":""},{"$f":"IF('2.Logbook'!AU163=\"\",\"\",'2.Logbook'!AU163)","v":""},{"$f":"IF('2.Logbook'!AV163=\"\",\"\",'2.Logbook'!AV163)","v":""},{"$f":"IF('2.Logbook'!AW163=\"\",\"\",'2.Logbook'!AW163)","v":""},{"$f":"IF('2.Logbook'!AX163=\"\",\"\",'2.Logbook'!AX163)","v":""},{"$f":"IF('2.Logbook'!AY163=\"\",\"\",'2.Logbook'!AY163)","v":""}]
[{"$f":"IF('2.Logbook'!$A164=\"\",\"\",'2.Logbook'!$A164)","v":""},{"$f":"IF('2.Logbook'!$B164=\"\",\"\",'2.Logbook'!$B164)","v":""},{"$f":"IF('2.Logbook'!AH164=\"\",\"\",'2.Logbook'!AH164)","v":""},{"$f":"IF('2.Logbook'!AI164=\"\",\"\",'2.Logbook'!AI164)","v":""},{"$f":"IF('2.Logbook'!AJ164=\"\",\"\",'2.Logbook'!AJ164)","v":""},{"$f":"IF('2.Logbook'!AK164=\"\",\"\",'2.Logbook'!AK164)","v":""},{"$f":"IF('2.Logbook'!AL164=\"\",\"\",'2.Logbook'!AL164)","v":""},{"$f":"IF('2.Logbook'!AM164=\"\",\"\",'2.Logbook'!AM164)","v":""},{"$f":"IF('2.Logbook'!AN164=\"\",\"\",'2.Logbook'!AN164)","v":""},{"$f":"IF('2.Logbook'!AO164=\"\",\"\",'2.Logbook'!AO164)","v":""},{"$f":"IF('2.Logbook'!AP164=\"\",\"\",'2.Logbook'!AP164)","v":""},{"$f":"IF('2.Logbook'!AQ164=\"\",\"\",'2.Logbook'!AQ164)","v":""},{"$f":"IF('2.Logbook'!AR164=\"\",\"\",'2.Logbook'!AR164)","v":""},{"$f":"IF('2.Logbook'!AS164=\"\",\"\",'2.Logbook'!AS164)","v":""},{"$f":"IF('2.Logbook'!AT164=\"\",\"\",'2.Logbook'!AT164)","v":""},{"$f":"IF('2.Logbook'!AU164=\"\",\"\",'2.Logbook'!AU164)","v":""},{"$f":"IF('2.Logbook'!AV164=\"\",\"\",'2.Logbook'!AV164)","v":""},{"$f":"IF('2.Logbook'!AW164=\"\",\"\",'2.Logbook'!AW164)","v":""},{"$f":"IF('2.Logbook'!AX164=\"\",\"\",'2.Logbook'!AX164)","v":""},{"$f":"IF('2.Logbook'!AY164=\"\",\"\",'2.Logbook'!AY164)","v":""}]
[{"$f":"IF('2.Logbook'!$A165=\"\",\"\",'2.Logbook'!$A165)","v":""},{"$f":"IF('2.Logbook'!$B165=\"\",\"\",'2.Logbook'!$B165)","v":""},{"$f":"IF('2.Logbook'!AH165=\"\",\"\",'2.Logbook'!AH165)","v":""},{"$f":"IF('2.Logbook'!AI165=\"\",\"\",'2.Logbook'!AI165)","v":""},{"$f":"IF('2.Logbook'!AJ165=\"\",\"\",'2.Logbook'!AJ165)","v":""},{"$f":"IF('2.Logbook'!AK165=\"\",\"\",'2.Logbook'!AK165)","v":""},{"$f":"IF('2.Logbook'!AL165=\"\",\"\",'2.Logbook'!AL165)","v":""},{"$f":"IF('2.Logbook'!AM165=\"\",\"\",'2.Logbook'!AM165)","v":""},{"$f":"IF('2.Logbook'!AN165=\"\",\"\",'2.Logbook'!AN165)","v":""},{"$f":"IF('2.Logbook'!AO165=\"\",\"\",'2.Logbook'!AO165)","v":""},{"$f":"IF('2.Logbook'!AP165=\"\",\"\",'2.Logbook'!AP165)","v":""},{"$f":"IF('2.Logbook'!AQ165=\"\",\"\",'2.Logbook'!AQ165)","v":""},{"$f":"IF('2.Logbook'!AR165=\"\",\"\",'2.Logbook'!AR165)","v":""},{"$f":"IF('2.Logbook'!AS165=\"\",\"\",'2.Logbook'!AS165)","v":""},{"$f":"IF('2.Logbook'!AT165=\"\",\"\",'2.Logbook'!AT165)","v":""},{"$f":"IF('2.Logbook'!AU165=\"\",\"\",'2.Logbook'!AU165)","v":""},{"$f":"IF('2.Logbook'!AV165=\"\",\"\",'2.Logbook'!AV165)","v":""},{"$f":"IF('2.Logbook'!AW165=\"\",\"\",'2.Logbook'!AW165)","v":""},{"$f":"IF('2.Logbook'!AX165=\"\",\"\",'2.Logbook'!AX165)","v":""},{"$f":"IF('2.Logbook'!AY165=\"\",\"\",'2.Logbook'!AY165)","v":""}]
[{"$f":"IF('2.Logbook'!$A166=\"\",\"\",'2.Logbook'!$A166)","v":""},{"$f":"IF('2.Logbook'!$B166=\"\",\"\",'2.Logbook'!$B166)","v":""},{"$f":"IF('2.Logbook'!AH166=\"\",\"\",'2.Logbook'!AH166)","v":""},{"$f":"IF('2.Logbook'!AI166=\"\",\"\",'2.Logbook'!AI166)","v":""},{"$f":"IF('2.Logbook'!AJ166=\"\",\"\",'2.Logbook'!AJ166)","v":""},{"$f":"IF('2.Logbook'!AK166=\"\",\"\",'2.Logbook'!AK166)","v":""},{"$f":"IF('2.Logbook'!AL166=\"\",\"\",'2.Logbook'!AL166)","v":""},{"$f":"IF('2.Logbook'!AM166=\"\",\"\",'2.Logbook'!AM166)","v":""},{"$f":"IF('2.Logbook'!AN166=\"\",\"\",'2.Logbook'!AN166)","v":""},{"$f":"IF('2.Logbook'!AO166=\"\",\"\",'2.Logbook'!AO166)","v":""},{"$f":"IF('2.Logbook'!AP166=\"\",\"\",'2.Logbook'!AP166)","v":""},{"$f":"IF('2.Logbook'!AQ166=\"\",\"\",'2.Logbook'!AQ166)","v":""},{"$f":"IF('2.Logbook'!AR166=\"\",\"\",'2.Logbook'!AR166)","v":""},{"$f":"IF('2.Logbook'!AS166=\"\",\"\",'2.Logbook'!AS166)","v":""},{"$f":"IF('2.Logbook'!AT166=\"\",\"\",'2.Logbook'!AT166)","v":""},{"$f":"IF('2.Logbook'!AU166=\"\",\"\",'2.Logbook'!AU166)","v":""},{"$f":"IF('2.Logbook'!AV166=\"\",\"\",'2.Logbook'!AV166)","v":""},{"$f":"IF('2.Logbook'!AW166=\"\",\"\",'2.Logbook'!AW166)","v":""},{"$f":"IF('2.Logbook'!AX166=\"\",\"\",'2.Logbook'!AX166)","v":""},{"$f":"IF('2.Logbook'!AY166=\"\",\"\",'2.Logbook'!AY166)","v":""}]
[{"$f":"IF('2.Logbook'!$A167=\"\",\"\",'2.Logbook'!$A167)","v":""},{"$f":"IF('2.Logbook'!$B167=\"\",\"\",'2.Logbook'!$B167)","v":""},{"$f":"IF('2.Logbook'!AH167=\"\",\"\",'2.Logbook'!AH167)","v":""},{"$f":"IF('2.Logbook'!AI167=\"\",\"\",'2.Logbook'!AI167)","v":""},{"$f":"IF('2.Logbook'!AJ167=\"\",\"\",'2.Logbook'!AJ167)","v":""},{"$f":"IF('2.Logbook'!AK167=\"\",\"\",'2.Logbook'!AK167)","v":""},{"$f":"IF('2.Logbook'!AL167=\"\",\"\",'2.Logbook'!AL167)","v":""},{"$f":"IF('2.Logbook'!AM167=\"\",\"\",'2.Logbook'!AM167)","v":""},{"$f":"IF('2.Logbook'!AN167=\"\",\"\",'2.Logbook'!AN167)","v":""},{"$f":"IF('2.Logbook'!AO167=\"\",\"\",'2.Logbook'!AO167)","v":""},{"$f":"IF('2.Logbook'!AP167=\"\",\"\",'2.Logbook'!AP167)","v":""},{"$f":"IF('2.Logbook'!AQ167=\"\",\"\",'2.Logbook'!AQ167)","v":""},{"$f":"IF('2.Logbook'!AR167=\"\",\"\",'2.Logbook'!AR167)","v":""},{"$f":"IF('2.Logbook'!AS167=\"\",\"\",'2.Logbook'!AS167)","v":""},{"$f":"IF('2.Logbook'!AT167=\"\",\"\",'2.Logbook'!AT167)","v":""},{"$f":"IF('2.Logbook'!AU167=\"\",\"\",'2.Logbook'!AU167)","v":""},{"$f":"IF('2.Logbook'!AV167=\"\",\"\",'2.Logbook'!AV167)","v":""},{"$f":"IF('2.Logbook'!AW167=\"\",\"\",'2.Logbook'!AW167)","v":""},{"$f":"IF('2.Logbook'!AX167=\"\",\"\",'2.Logbook'!AX167)","v":""},{"$f":"IF('2.Logbook'!AY167=\"\",\"\",'2.Logbook'!AY167)","v":""}]
[{"$f":"IF('2.Logbook'!$A168=\"\",\"\",'2.Logbook'!$A168)","v":""},{"$f":"IF('2.Logbook'!$B168=\"\",\"\",'2.Logbook'!$B168)","v":""},{"$f":"IF('2.Logbook'!AH168=\"\",\"\",'2.Logbook'!AH168)","v":""},{"$f":"IF('2.Logbook'!AI168=\"\",\"\",'2.Logbook'!AI168)","v":""},{"$f":"IF('2.Logbook'!AJ168=\"\",\"\",'2.Logbook'!AJ168)","v":""},{"$f":"IF('2.Logbook'!AK168=\"\",\"\",'2.Logbook'!AK168)","v":""},{"$f":"IF('2.Logbook'!AL168=\"\",\"\",'2.Logbook'!AL168)","v":""},{"$f":"IF('2.Logbook'!AM168=\"\",\"\",'2.Logbook'!AM168)","v":""},{"$f":"IF('2.Logbook'!AN168=\"\",\"\",'2.Logbook'!AN168)","v":""},{"$f":"IF('2.Logbook'!AO168=\"\",\"\",'2.Logbook'!AO168)","v":""},{"$f":"IF('2.Logbook'!AP168=\"\",\"\",'2.Logbook'!AP168)","v":""},{"$f":"IF('2.Logbook'!AQ168=\"\",\"\",'2.Logbook'!AQ168)","v":""},{"$f":"IF('2.Logbook'!AR168=\"\",\"\",'2.Logbook'!AR168)","v":""},{"$f":"IF('2.Logbook'!AS168=\"\",\"\",'2.Logbook'!AS168)","v":""},{"$f":"IF('2.Logbook'!AT168=\"\",\"\",'2.Logbook'!AT168)","v":""},{"$f":"IF('2.Logbook'!AU168=\"\",\"\",'2.Logbook'!AU168)","v":""},{"$f":"IF('2.Logbook'!AV168=\"\",\"\",'2.Logbook'!AV168)","v":""},{"$f":"IF('2.Logbook'!AW168=\"\",\"\",'2.Logbook'!AW168)","v":""},{"$f":"IF('2.Logbook'!AX168=\"\",\"\",'2.Logbook'!AX168)","v":""},{"$f":"IF('2.Logbook'!AY168=\"\",\"\",'2.Logbook'!AY168)","v":""}]
[{"$f":"IF('2.Logbook'!$A169=\"\",\"\",'2.Logbook'!$A169)","v":""},{"$f":"IF('2.Logbook'!$B169=\"\",\"\",'2.Logbook'!$B169)","v":""},{"$f":"IF('2.Logbook'!AH169=\"\",\"\",'2.Logbook'!AH169)","v":""},{"$f":"IF('2.Logbook'!AI169=\"\",\"\",'2.Logbook'!AI169)","v":""},{"$f":"IF('2.Logbook'!AJ169=\"\",\"\",'2.Logbook'!AJ169)","v":""},{"$f":"IF('2.Logbook'!AK169=\"\",\"\",'2.Logbook'!AK169)","v":""},{"$f":"IF('2.Logbook'!AL169=\"\",\"\",'2.Logbook'!AL169)","v":""},{"$f":"IF('2.Logbook'!AM169=\"\",\"\",'2.Logbook'!AM169)","v":""},{"$f":"IF('2.Logbook'!AN169=\"\",\"\",'2.Logbook'!AN169)","v":""},{"$f":"IF('2.Logbook'!AO169=\"\",\"\",'2.Logbook'!AO169)","v":""},{"$f":"IF('2.Logbook'!AP169=\"\",\"\",'2.Logbook'!AP169)","v":""},{"$f":"IF('2.Logbook'!AQ169=\"\",\"\",'2.Logbook'!AQ169)","v":""},{"$f":"IF('2.Logbook'!AR169=\"\",\"\",'2.Logbook'!AR169)","v":""},{"$f":"IF('2.Logbook'!AS169=\"\",\"\",'2.Logbook'!AS169)","v":""},{"$f":"IF('2.Logbook'!AT169=\"\",\"\",'2.Logbook'!AT169)","v":""},{"$f":"IF('2.Logbook'!AU169=\"\",\"\",'2.Logbook'!AU169)","v":""},{"$f":"IF('2.Logbook'!AV169=\"\",\"\",'2.Logbook'!AV169)","v":""},{"$f":"IF('2.Logbook'!AW169=\"\",\"\",'2.Logbook'!AW169)","v":""},{"$f":"IF('2.Logbook'!AX169=\"\",\"\",'2.Logbook'!AX169)","v":""},{"$f":"IF('2.Logbook'!AY169=\"\",\"\",'2.Logbook'!AY169)","v":""}]
[{"$f":"IF('2.Logbook'!$A170=\"\",\"\",'2.Logbook'!$A170)","v":""},{"$f":"IF('2.Logbook'!$B170=\"\",\"\",'2.Logbook'!$B170)","v":""},{"$f":"IF('2.Logbook'!AH170=\"\",\"\",'2.Logbook'!AH170)","v":""},{"$f":"IF('2.Logbook'!AI170=\"\",\"\",'2.Logbook'!AI170)","v":""},{"$f":"IF('2.Logbook'!AJ170=\"\",\"\",'2.Logbook'!AJ170)","v":""},{"$f":"IF('2.Logbook'!AK170=\"\",\"\",'2.Logbook'!AK170)","v":""},{"$f":"IF('2.Logbook'!AL170=\"\",\"\",'2.Logbook'!AL170)","v":""},{"$f":"IF('2.Logbook'!AM170=\"\",\"\",'2.Logbook'!AM170)","v":""},{"$f":"IF('2.Logbook'!AN170=\"\",\"\",'2.Logbook'!AN170)","v":""},{"$f":"IF('2.Logbook'!AO170=\"\",\"\",'2.Logbook'!AO170)","v":""},{"$f":"IF('2.Logbook'!AP170=\"\",\"\",'2.Logbook'!AP170)","v":""},{"$f":"IF('2.Logbook'!AQ170=\"\",\"\",'2.Logbook'!AQ170)","v":""},{"$f":"IF('2.Logbook'!AR170=\"\",\"\",'2.Logbook'!AR170)","v":""},{"$f":"IF('2.Logbook'!AS170=\"\",\"\",'2.Logbook'!AS170)","v":""},{"$f":"IF('2.Logbook'!AT170=\"\",\"\",'2.Logbook'!AT170)","v":""},{"$f":"IF('2.Logbook'!AU170=\"\",\"\",'2.Logbook'!AU170)","v":""},{"$f":"IF('2.Logbook'!AV170=\"\",\"\",'2.Logbook'!AV170)","v":""},{"$f":"IF('2.Logbook'!AW170=\"\",\"\",'2.Logbook'!AW170)","v":""},{"$f":"IF('2.Logbook'!AX170=\"\",\"\",'2.Logbook'!AX170)","v":""},{"$f":"IF('2.Logbook'!AY170=\"\",\"\",'2.Logbook'!AY170)","v":""}]
[{"$f":"IF('2.Logbook'!$A171=\"\",\"\",'2.Logbook'!$A171)","v":""},{"$f":"IF('2.Logbook'!$B171=\"\",\"\",'2.Logbook'!$B171)","v":""},{"$f":"IF('2.Logbook'!AH171=\"\",\"\",'2.Logbook'!AH171)","v":""},{"$f":"IF('2.Logbook'!AI171=\"\",\"\",'2.Logbook'!AI171)","v":""},{"$f":"IF('2.Logbook'!AJ171=\"\",\"\",'2.Logbook'!AJ171)","v":""},{"$f":"IF('2.Logbook'!AK171=\"\",\"\",'2.Logbook'!AK171)","v":""},{"$f":"IF('2.Logbook'!AL171=\"\",\"\",'2.Logbook'!AL171)","v":""},{"$f":"IF('2.Logbook'!AM171=\"\",\"\",'2.Logbook'!AM171)","v":""},{"$f":"IF('2.Logbook'!AN171=\"\",\"\",'2.Logbook'!AN171)","v":""},{"$f":"IF('2.Logbook'!AO171=\"\",\"\",'2.Logbook'!AO171)","v":""},{"$f":"IF('2.Logbook'!AP171=\"\",\"\",'2.Logbook'!AP171)","v":""},{"$f":"IF('2.Logbook'!AQ171=\"\",\"\",'2.Logbook'!AQ171)","v":""},{"$f":"IF('2.Logbook'!AR171=\"\",\"\",'2.Logbook'!AR171)","v":""},{"$f":"IF('2.Logbook'!AS171=\"\",\"\",'2.Logbook'!AS171)","v":""},{"$f":"IF('2.Logbook'!AT171=\"\",\"\",'2.Logbook'!AT171)","v":""},{"$f":"IF('2.Logbook'!AU171=\"\",\"\",'2.Logbook'!AU171)","v":""},{"$f":"IF('2.Logbook'!AV171=\"\",\"\",'2.Logbook'!AV171)","v":""},{"$f":"IF('2.Logbook'!AW171=\"\",\"\",'2.Logbook'!AW171)","v":""},{"$f":"IF('2.Logbook'!AX171=\"\",\"\",'2.Logbook'!AX171)","v":""},{"$f":"IF('2.Logbook'!AY171=\"\",\"\",'2.Logbook'!AY171)","v":""}]
[{"$f":"IF('2.Logbook'!$A172=\"\",\"\",'2.Logbook'!$A172)","v":""},{"$f":"IF('2.Logbook'!$B172=\"\",\"\",'2.Logbook'!$B172)","v":""},{"$f":"IF('2.Logbook'!AH172=\"\",\"\",'2.Logbook'!AH172)","v":""},{"$f":"IF('2.Logbook'!AI172=\"\",\"\",'2.Logbook'!AI172)","v":""},{"$f":"IF('2.Logbook'!AJ172=\"\",\"\",'2.Logbook'!AJ172)","v":""},{"$f":"IF('2.Logbook'!AK172=\"\",\"\",'2.Logbook'!AK172)","v":""},{"$f":"IF('2.Logbook'!AL172=\"\",\"\",'2.Logbook'!AL172)","v":""},{"$f":"IF('2.Logbook'!AM172=\"\",\"\",'2.Logbook'!AM172)","v":""},{"$f":"IF('2.Logbook'!AN172=\"\",\"\",'2.Logbook'!AN172)","v":""},{"$f":"IF('2.Logbook'!AO172=\"\",\"\",'2.Logbook'!AO172)","v":""},{"$f":"IF('2.Logbook'!AP172=\"\",\"\",'2.Logbook'!AP172)","v":""},{"$f":"IF('2.Logbook'!AQ172=\"\",\"\",'2.Logbook'!AQ172)","v":""},{"$f":"IF('2.Logbook'!AR172=\"\",\"\",'2.Logbook'!AR172)","v":""},{"$f":"IF('2.Logbook'!AS172=\"\",\"\",'2.Logbook'!AS172)","v":""},{"$f":"IF('2.Logbook'!AT172=\"\",\"\",'2.Logbook'!AT172)","v":""},{"$f":"IF('2.Logbook'!AU172=\"\",\"\",'2.Logbook'!AU172)","v":""},{"$f":"IF('2.Logbook'!AV172=\"\",\"\",'2.Logbook'!AV172)","v":""},{"$f":"IF('2.Logbook'!AW172=\"\",\"\",'2.Logbook'!AW172)","v":""},{"$f":"IF('2.Logbook'!AX172=\"\",\"\",'2.Logbook'!AX172)","v":""},{"$f":"IF('2.Logbook'!AY172=\"\",\"\",'2.Logbook'!AY172)","v":""}]
[{"$f":"IF('2.Logbook'!$A173=\"\",\"\",'2.Logbook'!$A173)","v":""},{"$f":"IF('2.Logbook'!$B173=\"\",\"\",'2.Logbook'!$B173)","v":""},{"$f":"IF('2.Logbook'!AH173=\"\",\"\",'2.Logbook'!AH173)","v":""},{"$f":"IF('2.Logbook'!AI173=\"\",\"\",'2.Logbook'!AI173)","v":""},{"$f":"IF('2.Logbook'!AJ173=\"\",\"\",'2.Logbook'!AJ173)","v":""},{"$f":"IF('2.Logbook'!AK173=\"\",\"\",'2.Logbook'!AK173)","v":""},{"$f":"IF('2.Logbook'!AL173=\"\",\"\",'2.Logbook'!AL173)","v":""},{"$f":"IF('2.Logbook'!AM173=\"\",\"\",'2.Logbook'!AM173)","v":""},{"$f":"IF('2.Logbook'!AN173=\"\",\"\",'2.Logbook'!AN173)","v":""},{"$f":"IF('2.Logbook'!AO173=\"\",\"\",'2.Logbook'!AO173)","v":""},{"$f":"IF('2.Logbook'!AP173=\"\",\"\",'2.Logbook'!AP173)","v":""},{"$f":"IF('2.Logbook'!AQ173=\"\",\"\",'2.Logbook'!AQ173)","v":""},{"$f":"IF('2.Logbook'!AR173=\"\",\"\",'2.Logbook'!AR173)","v":""},{"$f":"IF('2.Logbook'!AS173=\"\",\"\",'2.Logbook'!AS173)","v":""},{"$f":"IF('2.Logbook'!AT173=\"\",\"\",'2.Logbook'!AT173)","v":""},{"$f":"IF('2.Logbook'!AU173=\"\",\"\",'2.Logbook'!AU173)","v":""},{"$f":"IF('2.Logbook'!AV173=\"\",\"\",'2.Logbook'!AV173)","v":""},{"$f":"IF('2.Logbook'!AW173=\"\",\"\",'2.Logbook'!AW173)","v":""},{"$f":"IF('2.Logbook'!AX173=\"\",\"\",'2.Logbook'!AX173)","v":""},{"$f":"IF('2.Logbook'!AY173=\"\",\"\",'2.Logbook'!AY173)","v":""}]
[{"$f":"IF('2.Logbook'!$A174=\"\",\"\",'2.Logbook'!$A174)","v":""},{"$f":"IF('2.Logbook'!$B174=\"\",\"\",'2.Logbook'!$B174)","v":""},{"$f":"IF('2.Logbook'!AH174=\"\",\"\",'2.Logbook'!AH174)","v":""},{"$f":"IF('2.Logbook'!AI174=\"\",\"\",'2.Logbook'!AI174)","v":""},{"$f":"IF('2.Logbook'!AJ174=\"\",\"\",'2.Logbook'!AJ174)","v":""},{"$f":"IF('2.Logbook'!AK174=\"\",\"\",'2.Logbook'!AK174)","v":""},{"$f":"IF('2.Logbook'!AL174=\"\",\"\",'2.Logbook'!AL174)","v":""},{"$f":"IF('2.Logbook'!AM174=\"\",\"\",'2.Logbook'!AM174)","v":""},{"$f":"IF('2.Logbook'!AN174=\"\",\"\",'2.Logbook'!AN174)","v":""},{"$f":"IF('2.Logbook'!AO174=\"\",\"\",'2.Logbook'!AO174)","v":""},{"$f":"IF('2.Logbook'!AP174=\"\",\"\",'2.Logbook'!AP174)","v":""},{"$f":"IF('2.Logbook'!AQ174=\"\",\"\",'2.Logbook'!AQ174)","v":""},{"$f":"IF('2.Logbook'!AR174=\"\",\"\",'2.Logbook'!AR174)","v":""},{"$f":"IF('2.Logbook'!AS174=\"\",\"\",'2.Logbook'!AS174)","v":""},{"$f":"IF('2.Logbook'!AT174=\"\",\"\",'2.Logbook'!AT174)","v":""},{"$f":"IF('2.Logbook'!AU174=\"\",\"\",'2.Logbook'!AU174)","v":""},{"$f":"IF('2.Logbook'!AV174=\"\",\"\",'2.Logbook'!AV174)","v":""},{"$f":"IF('2.Logbook'!AW174=\"\",\"\",'2.Logbook'!AW174)","v":""},{"$f":"IF('2.Logbook'!AX174=\"\",\"\",'2.Logbook'!AX174)","v":""},{"$f":"IF('2.Logbook'!AY174=\"\",\"\",'2.Logbook'!AY174)","v":""}]
[{"$f":"IF('2.Logbook'!$A175=\"\",\"\",'2.Logbook'!$A175)","v":""},{"$f":"IF('2.Logbook'!$B175=\"\",\"\",'2.Logbook'!$B175)","v":""},{"$f":"IF('2.Logbook'!AH175=\"\",\"\",'2.Logbook'!AH175)","v":""},{"$f":"IF('2.Logbook'!AI175=\"\",\"\",'2.Logbook'!AI175)","v":""},{"$f":"IF('2.Logbook'!AJ175=\"\",\"\",'2.Logbook'!AJ175)","v":""},{"$f":"IF('2.Logbook'!AK175=\"\",\"\",'2.Logbook'!AK175)","v":""},{"$f":"IF('2.Logbook'!AL175=\"\",\"\",'2.Logbook'!AL175)","v":""},{"$f":"IF('2.Logbook'!AM175=\"\",\"\",'2.Logbook'!AM175)","v":""},{"$f":"IF('2.Logbook'!AN175=\"\",\"\",'2.Logbook'!AN175)","v":""},{"$f":"IF('2.Logbook'!AO175=\"\",\"\",'2.Logbook'!AO175)","v":""},{"$f":"IF('2.Logbook'!AP175=\"\",\"\",'2.Logbook'!AP175)","v":""},{"$f":"IF('2.Logbook'!AQ175=\"\",\"\",'2.Logbook'!AQ175)","v":""},{"$f":"IF('2.Logbook'!AR175=\"\",\"\",'2.Logbook'!AR175)","v":""},{"$f":"IF('2.Logbook'!AS175=\"\",\"\",'2.Logbook'!AS175)","v":""},{"$f":"IF('2.Logbook'!AT175=\"\",\"\",'2.Logbook'!AT175)","v":""},{"$f":"IF('2.Logbook'!AU175=\"\",\"\",'2.Logbook'!AU175)","v":""},{"$f":"IF('2.Logbook'!AV175=\"\",\"\",'2.Logbook'!AV175)","v":""},{"$f":"IF('2.Logbook'!AW175=\"\",\"\",'2.Logbook'!AW175)","v":""},{"$f":"IF('2.Logbook'!AX175=\"\",\"\",'2.Logbook'!AX175)","v":""},{"$f":"IF('2.Logbook'!AY175=\"\",\"\",'2.Logbook'!AY175)","v":""}]
[{"$f":"IF('2.Logbook'!$A176=\"\",\"\",'2.Logbook'!$A176)","v":""},{"$f":"IF('2.Logbook'!$B176=\"\",\"\",'2.Logbook'!$B176)","v":""},{"$f":"IF('2.Logbook'!AH176=\"\",\"\",'2.Logbook'!AH176)","v":""},{"$f":"IF('2.Logbook'!AI176=\"\",\"\",'2.Logbook'!AI176)","v":""},{"$f":"IF('2.Logbook'!AJ176=\"\",\"\",'2.Logbook'!AJ176)","v":""},{"$f":"IF('2.Logbook'!AK176=\"\",\"\",'2.Logbook'!AK176)","v":""},{"$f":"IF('2.Logbook'!AL176=\"\",\"\",'2.Logbook'!AL176)","v":""},{"$f":"IF('2.Logbook'!AM176=\"\",\"\",'2.Logbook'!AM176)","v":""},{"$f":"IF('2.Logbook'!AN176=\"\",\"\",'2.Logbook'!AN176)","v":""},{"$f":"IF('2.Logbook'!AO176=\"\",\"\",'2.Logbook'!AO176)","v":""},{"$f":"IF('2.Logbook'!AP176=\"\",\"\",'2.Logbook'!AP176)","v":""},{"$f":"IF('2.Logbook'!AQ176=\"\",\"\",'2.Logbook'!AQ176)","v":""},{"$f":"IF('2.Logbook'!AR176=\"\",\"\",'2.Logbook'!AR176)","v":""},{"$f":"IF('2.Logbook'!AS176=\"\",\"\",'2.Logbook'!AS176)","v":""},{"$f":"IF('2.Logbook'!AT176=\"\",\"\",'2.Logbook'!AT176)","v":""},{"$f":"IF('2.Logbook'!AU176=\"\",\"\",'2.Logbook'!AU176)","v":""},{"$f":"IF('2.Logbook'!AV176=\"\",\"\",'2.Logbook'!AV176)","v":""},{"$f":"IF('2.Logbook'!AW176=\"\",\"\",'2.Logbook'!AW176)","v":""},{"$f":"IF('2.Logbook'!AX176=\"\",\"\",'2.Logbook'!AX176)","v":""},{"$f":"IF('2.Logbook'!AY176=\"\",\"\",'2.Logbook'!AY176)","v":""}]
[{"$f":"IF('2.Logbook'!$A177=\"\",\"\",'2.Logbook'!$A177)","v":""},{"$f":"IF('2.Logbook'!$B177=\"\",\"\",'2.Logbook'!$B177)","v":""},{"$f":"IF('2.Logbook'!AH177=\"\",\"\",'2.Logbook'!AH177)","v":""},{"$f":"IF('2.Logbook'!AI177=\"\",\"\",'2.Logbook'!AI177)","v":""},{"$f":"IF('2.Logbook'!AJ177=\"\",\"\",'2.Logbook'!AJ177)","v":""},{"$f":"IF('2.Logbook'!AK177=\"\",\"\",'2.Logbook'!AK177)","v":""},{"$f":"IF('2.Logbook'!AL177=\"\",\"\",'2.Logbook'!AL177)","v":""},{"$f":"IF('2.Logbook'!AM177=\"\",\"\",'2.Logbook'!AM177)","v":""},{"$f":"IF('2.Logbook'!AN177=\"\",\"\",'2.Logbook'!AN177)","v":""},{"$f":"IF('2.Logbook'!AO177=\"\",\"\",'2.Logbook'!AO177)","v":""},{"$f":"IF('2.Logbook'!AP177=\"\",\"\",'2.Logbook'!AP177)","v":""},{"$f":"IF('2.Logbook'!AQ177=\"\",\"\",'2.Logbook'!AQ177)","v":""},{"$f":"IF('2.Logbook'!AR177=\"\",\"\",'2.Logbook'!AR177)","v":""},{"$f":"IF('2.Logbook'!AS177=\"\",\"\",'2.Logbook'!AS177)","v":""},{"$f":"IF('2.Logbook'!AT177=\"\",\"\",'2.Logbook'!AT177)","v":""},{"$f":"IF('2.Logbook'!AU177=\"\",\"\",'2.Logbook'!AU177)","v":""},{"$f":"IF('2.Logbook'!AV177=\"\",\"\",'2.Logbook'!AV177)","v":""},{"$f":"IF('2.Logbook'!AW177=\"\",\"\",'2.Logbook'!AW177)","v":""},{"$f":"IF('2.Logbook'!AX177=\"\",\"\",'2.Logbook'!AX177)","v":""},{"$f":"IF('2.Logbook'!AY177=\"\",\"\",'2.Logbook'!AY177)","v":""}]
[{"$f":"IF('2.Logbook'!$A178=\"\",\"\",'2.Logbook'!$A178)","v":""},{"$f":"IF('2.Logbook'!$B178=\"\",\"\",'2.Logbook'!$B178)","v":""},{"$f":"IF('2.Logbook'!AH178=\"\",\"\",'2.Logbook'!AH178)","v":""},{"$f":"IF('2.Logbook'!AI178=\"\",\"\",'2.Logbook'!AI178)","v":""},{"$f":"IF('2.Logbook'!AJ178=\"\",\"\",'2.Logbook'!AJ178)","v":""},{"$f":"IF('2.Logbook'!AK178=\"\",\"\",'2.Logbook'!AK178)","v":""},{"$f":"IF('2.Logbook'!AL178=\"\",\"\",'2.Logbook'!AL178)","v":""},{"$f":"IF('2.Logbook'!AM178=\"\",\"\",'2.Logbook'!AM178)","v":""},{"$f":"IF('2.Logbook'!AN178=\"\",\"\",'2.Logbook'!AN178)","v":""},{"$f":"IF('2.Logbook'!AO178=\"\",\"\",'2.Logbook'!AO178)","v":""},{"$f":"IF('2.Logbook'!AP178=\"\",\"\",'2.Logbook'!AP178)","v":""},{"$f":"IF('2.Logbook'!AQ178=\"\",\"\",'2.Logbook'!AQ178)","v":""},{"$f":"IF('2.Logbook'!AR178=\"\",\"\",'2.Logbook'!AR178)","v":""},{"$f":"IF('2.Logbook'!AS178=\"\",\"\",'2.Logbook'!AS178)","v":""},{"$f":"IF('2.Logbook'!AT178=\"\",\"\",'2.Logbook'!AT178)","v":""},{"$f":"IF('2.Logbook'!AU178=\"\",\"\",'2.Logbook'!AU178)","v":""},{"$f":"IF('2.Logbook'!AV178=\"\",\"\",'2.Logbook'!AV178)","v":""},{"$f":"IF('2.Logbook'!AW178=\"\",\"\",'2.Logbook'!AW178)","v":""},{"$f":"IF('2.Logbook'!AX178=\"\",\"\",'2.Logbook'!AX178)","v":""},{"$f":"IF('2.Logbook'!AY178=\"\",\"\",'2.Logbook'!AY178)","v":""}]
[{"$f":"IF('2.Logbook'!$A179=\"\",\"\",'2.Logbook'!$A179)","v":""},{"$f":"IF('2.Logbook'!$B179=\"\",\"\",'2.Logbook'!$B179)","v":""},{"$f":"IF('2.Logbook'!AH179=\"\",\"\",'2.Logbook'!AH179)","v":""},{"$f":"IF('2.Logbook'!AI179=\"\",\"\",'2.Logbook'!AI179)","v":""},{"$f":"IF('2.Logbook'!AJ179=\"\",\"\",'2.Logbook'!AJ179)","v":""},{"$f":"IF('2.Logbook'!AK179=\"\",\"\",'2.Logbook'!AK179)","v":""},{"$f":"IF('2.Logbook'!AL179=\"\",\"\",'2.Logbook'!AL179)","v":""},{"$f":"IF('2.Logbook'!AM179=\"\",\"\",'2.Logbook'!AM179)","v":""},{"$f":"IF('2.Logbook'!AN179=\"\",\"\",'2.Logbook'!AN179)","v":""},{"$f":"IF('2.Logbook'!AO179=\"\",\"\",'2.Logbook'!AO179)","v":""},{"$f":"IF('2.Logbook'!AP179=\"\",\"\",'2.Logbook'!AP179)","v":""},{"$f":"IF('2.Logbook'!AQ179=\"\",\"\",'2.Logbook'!AQ179)","v":""},{"$f":"IF('2.Logbook'!AR179=\"\",\"\",'2.Logbook'!AR179)","v":""},{"$f":"IF('2.Logbook'!AS179=\"\",\"\",'2.Logbook'!AS179)","v":""},{"$f":"IF('2.Logbook'!AT179=\"\",\"\",'2.Logbook'!AT179)","v":""},{"$f":"IF('2.Logbook'!AU179=\"\",\"\",'2.Logbook'!AU179)","v":""},{"$f":"IF('2.Logbook'!AV179=\"\",\"\",'2.Logbook'!AV179)","v":""},{"$f":"IF('2.Logbook'!AW179=\"\",\"\",'2.Logbook'!AW179)","v":""},{"$f":"IF('2.Logbook'!AX179=\"\",\"\",'2.Logbook'!AX179)","v":""},{"$f":"IF('2.Logbook'!AY179=\"\",\"\",'2.Logbook'!AY179)","v":""}]
[{"$f":"IF('2.Logbook'!$A180=\"\",\"\",'2.Logbook'!$A180)","v":""},{"$f":"IF('2.Logbook'!$B180=\"\",\"\",'2.Logbook'!$B180)","v":""},{"$f":"IF('2.Logbook'!AH180=\"\",\"\",'2.Logbook'!AH180)","v":""},{"$f":"IF('2.Logbook'!AI180=\"\",\"\",'2.Logbook'!AI180)","v":""},{"$f":"IF('2.Logbook'!AJ180=\"\",\"\",'2.Logbook'!AJ180)","v":""},{"$f":"IF('2.Logbook'!AK180=\"\",\"\",'2.Logbook'!AK180)","v":""},{"$f":"IF('2.Logbook'!AL180=\"\",\"\",'2.Logbook'!AL180)","v":""},{"$f":"IF('2.Logbook'!AM180=\"\",\"\",'2.Logbook'!AM180)","v":""},{"$f":"IF('2.Logbook'!AN180=\"\",\"\",'2.Logbook'!AN180)","v":""},{"$f":"IF('2.Logbook'!AO180=\"\",\"\",'2.Logbook'!AO180)","v":""},{"$f":"IF('2.Logbook'!AP180=\"\",\"\",'2.Logbook'!AP180)","v":""},{"$f":"IF('2.Logbook'!AQ180=\"\",\"\",'2.Logbook'!AQ180)","v":""},{"$f":"IF('2.Logbook'!AR180=\"\",\"\",'2.Logbook'!AR180)","v":""},{"$f":"IF('2.Logbook'!AS180=\"\",\"\",'2.Logbook'!AS180)","v":""},{"$f":"IF('2.Logbook'!AT180=\"\",\"\",'2.Logbook'!AT180)","v":""},{"$f":"IF('2.Logbook'!AU180=\"\",\"\",'2.Logbook'!AU180)","v":""},{"$f":"IF('2.Logbook'!AV180=\"\",\"\",'2.Logbook'!AV180)","v":""},{"$f":"IF('2.Logbook'!AW180=\"\",\"\",'2.Logbook'!AW180)","v":""},{"$f":"IF('2.Logbook'!AX180=\"\",\"\",'2.Logbook'!AX180)","v":""},{"$f":"IF('2.Logbook'!AY180=\"\",\"\",'2.Logbook'!AY180)","v":""}]
[{"$f":"IF('2.Logbook'!$A181=\"\",\"\",'2.Logbook'!$A181)","v":""},{"$f":"IF('2.Logbook'!$B181=\"\",\"\",'2.Logbook'!$B181)","v":""},{"$f":"IF('2.Logbook'!AH181=\"\",\"\",'2.Logbook'!AH181)","v":""},{"$f":"IF('2.Logbook'!AI181=\"\",\"\",'2.Logbook'!AI181)","v":""},{"$f":"IF('2.Logbook'!AJ181=\"\",\"\",'2.Logbook'!AJ181)","v":""},{"$f":"IF('2.Logbook'!AK181=\"\",\"\",'2.Logbook'!AK181)","v":""},{"$f":"IF('2.Logbook'!AL181=\"\",\"\",'2.Logbook'!AL181)","v":""},{"$f":"IF('2.Logbook'!AM181=\"\",\"\",'2.Logbook'!AM181)","v":""},{"$f":"IF('2.Logbook'!AN181=\"\",\"\",'2.Logbook'!AN181)","v":""},{"$f":"IF('2.Logbook'!AO181=\"\",\"\",'2.Logbook'!AO181)","v":""},{"$f":"IF('2.Logbook'!AP181=\"\",\"\",'2.Logbook'!AP181)","v":""},{"$f":"IF('2.Logbook'!AQ181=\"\",\"\",'2.Logbook'!AQ181)","v":""},{"$f":"IF('2.Logbook'!AR181=\"\",\"\",'2.Logbook'!AR181)","v":""},{"$f":"IF('2.Logbook'!AS181=\"\",\"\",'2.Logbook'!AS181)","v":""},{"$f":"IF('2.Logbook'!AT181=\"\",\"\",'2.Logbook'!AT181)","v":""},{"$f":"IF('2.Logbook'!AU181=\"\",\"\",'2.Logbook'!AU181)","v":""},{"$f":"IF('2.Logbook'!AV181=\"\",\"\",'2.Logbook'!AV181)","v":""},{"$f":"IF('2.Logbook'!AW181=\"\",\"\",'2.Logbook'!AW181)","v":""},{"$f":"IF('2.Logbook'!AX181=\"\",\"\",'2.Logbook'!AX181)","v":""},{"$f":"IF('2.Logbook'!AY181=\"\",\"\",'2.Logbook'!AY181)","v":""}]
[{"$f":"IF('2.Logbook'!$A182=\"\",\"\",'2.Logbook'!$A182)","v":""},{"$f":"IF('2.Logbook'!$B182=\"\",\"\",'2.Logbook'!$B182)","v":""},{"$f":"IF('2.Logbook'!AH182=\"\",\"\",'2.Logbook'!AH182)","v":""},{"$f":"IF('2.Logbook'!AI182=\"\",\"\",'2.Logbook'!AI182)","v":""},{"$f":"IF('2.Logbook'!AJ182=\"\",\"\",'2.Logbook'!AJ182)","v":""},{"$f":"IF('2.Logbook'!AK182=\"\",\"\",'2.Logbook'!AK182)","v":""},{"$f":"IF('2.Logbook'!AL182=\"\",\"\",'2.Logbook'!AL182)","v":""},{"$f":"IF('2.Logbook'!AM182=\"\",\"\",'2.Logbook'!AM182)","v":""},{"$f":"IF('2.Logbook'!AN182=\"\",\"\",'2.Logbook'!AN182)","v":""},{"$f":"IF('2.Logbook'!AO182=\"\",\"\",'2.Logbook'!AO182)","v":""},{"$f":"IF('2.Logbook'!AP182=\"\",\"\",'2.Logbook'!AP182)","v":""},{"$f":"IF('2.Logbook'!AQ182=\"\",\"\",'2.Logbook'!AQ182)","v":""},{"$f":"IF('2.Logbook'!AR182=\"\",\"\",'2.Logbook'!AR182)","v":""},{"$f":"IF('2.Logbook'!AS182=\"\",\"\",'2.Logbook'!AS182)","v":""},{"$f":"IF('2.Logbook'!AT182=\"\",\"\",'2.Logbook'!AT182)","v":""},{"$f":"IF('2.Logbook'!AU182=\"\",\"\",'2.Logbook'!AU182)","v":""},{"$f":"IF('2.Logbook'!AV182=\"\",\"\",'2.Logbook'!AV182)","v":""},{"$f":"IF('2.Logbook'!AW182=\"\",\"\",'2.Logbook'!AW182)","v":""},{"$f":"IF('2.Logbook'!AX182=\"\",\"\",'2.Logbook'!AX182)","v":""},{"$f":"IF('2.Logbook'!AY182=\"\",\"\",'2.Logbook'!AY182)","v":""}]
[{"$f":"IF('2.Logbook'!$A183=\"\",\"\",'2.Logbook'!$A183)","v":""},{"$f":"IF('2.Logbook'!$B183=\"\",\"\",'2.Logbook'!$B183)","v":""},{"$f":"IF('2.Logbook'!AH183=\"\",\"\",'2.Logbook'!AH183)","v":""},{"$f":"IF('2.Logbook'!AI183=\"\",\"\",'2.Logbook'!AI183)","v":""},{"$f":"IF('2.Logbook'!AJ183=\"\",\"\",'2.Logbook'!AJ183)","v":""},{"$f":"IF('2.Logbook'!AK183=\"\",\"\",'2.Logbook'!AK183)","v":""},{"$f":"IF('2.Logbook'!AL183=\"\",\"\",'2.Logbook'!AL183)","v":""},{"$f":"IF('2.Logbook'!AM183=\"\",\"\",'2.Logbook'!AM183)","v":""},{"$f":"IF('2.Logbook'!AN183=\"\",\"\",'2.Logbook'!AN183)","v":""},{"$f":"IF('2.Logbook'!AO183=\"\",\"\",'2.Logbook'!AO183)","v":""},{"$f":"IF('2.Logbook'!AP183=\"\",\"\",'2.Logbook'!AP183)","v":""},{"$f":"IF('2.Logbook'!AQ183=\"\",\"\",'2.Logbook'!AQ183)","v":""},{"$f":"IF('2.Logbook'!AR183=\"\",\"\",'2.Logbook'!AR183)","v":""},{"$f":"IF('2.Logbook'!AS183=\"\",\"\",'2.Logbook'!AS183)","v":""},{"$f":"IF('2.Logbook'!AT183=\"\",\"\",'2.Logbook'!AT183)","v":""},{"$f":"IF('2.Logbook'!AU183=\"\",\"\",'2.Logbook'!AU183)","v":""},{"$f":"IF('2.Logbook'!AV183=\"\",\"\",'2.Logbook'!AV183)","v":""},{"$f":"IF('2.Logbook'!AW183=\"\",\"\",'2.Logbook'!AW183)","v":""},{"$f":"IF('2.Logbook'!AX183=\"\",\"\",'2.Logbook'!AX183)","v":""},{"$f":"IF('2.Logbook'!AY183=\"\",\"\",'2.Logbook'!AY183)","v":""}]
[{"$f":"IF('2.Logbook'!$A184=\"\",\"\",'2.Logbook'!$A184)","v":""},{"$f":"IF('2.Logbook'!$B184=\"\",\"\",'2.Logbook'!$B184)","v":""},{"$f":"IF('2.Logbook'!AH184=\"\",\"\",'2.Logbook'!AH184)","v":""},{"$f":"IF('2.Logbook'!AI184=\"\",\"\",'2.Logbook'!AI184)","v":""},{"$f":"IF('2.Logbook'!AJ184=\"\",\"\",'2.Logbook'!AJ184)","v":""},{"$f":"IF('2.Logbook'!AK184=\"\",\"\",'2.Logbook'!AK184)","v":""},{"$f":"IF('2.Logbook'!AL184=\"\",\"\",'2.Logbook'!AL184)","v":""},{"$f":"IF('2.Logbook'!AM184=\"\",\"\",'2.Logbook'!AM184)","v":""},{"$f":"IF('2.Logbook'!AN184=\"\",\"\",'2.Logbook'!AN184)","v":""},{"$f":"IF('2.Logbook'!AO184=\"\",\"\",'2.Logbook'!AO184)","v":""},{"$f":"IF('2.Logbook'!AP184=\"\",\"\",'2.Logbook'!AP184)","v":""},{"$f":"IF('2.Logbook'!AQ184=\"\",\"\",'2.Logbook'!AQ184)","v":""},{"$f":"IF('2.Logbook'!AR184=\"\",\"\",'2.Logbook'!AR184)","v":""},{"$f":"IF('2.Logbook'!AS184=\"\",\"\",'2.Logbook'!AS184)","v":""},{"$f":"IF('2.Logbook'!AT184=\"\",\"\",'2.Logbook'!AT184)","v":""},{"$f":"IF('2.Logbook'!AU184=\"\",\"\",'2.Logbook'!AU184)","v":""},{"$f":"IF('2.Logbook'!AV184=\"\",\"\",'2.Logbook'!AV184)","v":""},{"$f":"IF('2.Logbook'!AW184=\"\",\"\",'2.Logbook'!AW184)","v":""},{"$f":"IF('2.Logbook'!AX184=\"\",\"\",'2.Logbook'!AX184)","v":""},{"$f":"IF('2.Logbook'!AY184=\"\",\"\",'2.Logbook'!AY184)","v":""}]
[{"$f":"IF('2.Logbook'!$A185=\"\",\"\",'2.Logbook'!$A185)","v":""},{"$f":"IF('2.Logbook'!$B185=\"\",\"\",'2.Logbook'!$B185)","v":""},{"$f":"IF('2.Logbook'!AH185=\"\",\"\",'2.Logbook'!AH185)","v":""},{"$f":"IF('2.Logbook'!AI185=\"\",\"\",'2.Logbook'!AI185)","v":""},{"$f":"IF('2.Logbook'!AJ185=\"\",\"\",'2.Logbook'!AJ185)","v":""},{"$f":"IF('2.Logbook'!AK185=\"\",\"\",'2.Logbook'!AK185)","v":""},{"$f":"IF('2.Logbook'!AL185=\"\",\"\",'2.Logbook'!AL185)","v":""},{"$f":"IF('2.Logbook'!AM185=\"\",\"\",'2.Logbook'!AM185)","v":""},{"$f":"IF('2.Logbook'!AN185=\"\",\"\",'2.Logbook'!AN185)","v":""},{"$f":"IF('2.Logbook'!AO185=\"\",\"\",'2.Logbook'!AO185)","v":""},{"$f":"IF('2.Logbook'!AP185=\"\",\"\",'2.Logbook'!AP185)","v":""},{"$f":"IF('2.Logbook'!AQ185=\"\",\"\",'2.Logbook'!AQ185)","v":""},{"$f":"IF('2.Logbook'!AR185=\"\",\"\",'2.Logbook'!AR185)","v":""},{"$f":"IF('2.Logbook'!AS185=\"\",\"\",'2.Logbook'!AS185)","v":""},{"$f":"IF('2.Logbook'!AT185=\"\",\"\",'2.Logbook'!AT185)","v":""},{"$f":"IF('2.Logbook'!AU185=\"\",\"\",'2.Logbook'!AU185)","v":""},{"$f":"IF('2.Logbook'!AV185=\"\",\"\",'2.Logbook'!AV185)","v":""},{"$f":"IF('2.Logbook'!AW185=\"\",\"\",'2.Logbook'!AW185)","v":""},{"$f":"IF('2.Logbook'!AX185=\"\",\"\",'2.Logbook'!AX185)","v":""},{"$f":"IF('2.Logbook'!AY185=\"\",\"\",'2.Logbook'!AY185)","v":""}]
[{"$f":"IF('2.Logbook'!$A186=\"\",\"\",'2.Logbook'!$A186)","v":""},{"$f":"IF('2.Logbook'!$B186=\"\",\"\",'2.Logbook'!$B186)","v":""},{"$f":"IF('2.Logbook'!AH186=\"\",\"\",'2.Logbook'!AH186)","v":""},{"$f":"IF('2.Logbook'!AI186=\"\",\"\",'2.Logbook'!AI186)","v":""},{"$f":"IF('2.Logbook'!AJ186=\"\",\"\",'2.Logbook'!AJ186)","v":""},{"$f":"IF('2.Logbook'!AK186=\"\",\"\",'2.Logbook'!AK186)","v":""},{"$f":"IF('2.Logbook'!AL186=\"\",\"\",'2.Logbook'!AL186)","v":""},{"$f":"IF('2.Logbook'!AM186=\"\",\"\",'2.Logbook'!AM186)","v":""},{"$f":"IF('2.Logbook'!AN186=\"\",\"\",'2.Logbook'!AN186)","v":""},{"$f":"IF('2.Logbook'!AO186=\"\",\"\",'2.Logbook'!AO186)","v":""},{"$f":"IF('2.Logbook'!AP186=\"\",\"\",'2.Logbook'!AP186)","v":""},{"$f":"IF('2.Logbook'!AQ186=\"\",\"\",'2.Logbook'!AQ186)","v":""},{"$f":"IF('2.Logbook'!AR186=\"\",\"\",'2.Logbook'!AR186)","v":""},{"$f":"IF('2.Logbook'!AS186=\"\",\"\",'2.Logbook'!AS186)","v":""},{"$f":"IF('2.Logbook'!AT186=\"\",\"\",'2.Logbook'!AT186)","v":""},{"$f":"IF('2.Logbook'!AU186=\"\",\"\",'2.Logbook'!AU186)","v":""},{"$f":"IF('2.Logbook'!AV186=\"\",\"\",'2.Logbook'!AV186)","v":""},{"$f":"IF('2.Logbook'!AW186=\"\",\"\",'2.Logbook'!AW186)","v":""},{"$f":"IF('2.Logbook'!AX186=\"\",\"\",'2.Logbook'!AX186)","v":""},{"$f":"IF('2.Logbook'!AY186=\"\",\"\",'2.Logbook'!AY186)","v":""}]
[{"$f":"IF('2.Logbook'!$A187=\"\",\"\",'2.Logbook'!$A187)","v":""},{"$f":"IF('2.Logbook'!$B187=\"\",\"\",'2.Logbook'!$B187)","v":""},{"$f":"IF('2.Logbook'!AH187=\"\",\"\",'2.Logbook'!AH187)","v":""},{"$f":"IF('2.Logbook'!AI187=\"\",\"\",'2.Logbook'!AI187)","v":""},{"$f":"IF('2.Logbook'!AJ187=\"\",\"\",'2.Logbook'!AJ187)","v":""},{"$f":"IF('2.Logbook'!AK187=\"\",\"\",'2.Logbook'!AK187)","v":""},{"$f":"IF('2.Logbook'!AL187=\"\",\"\",'2.Logbook'!AL187)","v":""},{"$f":"IF('2.Logbook'!AM187=\"\",\"\",'2.Logbook'!AM187)","v":""},{"$f":"IF('2.Logbook'!AN187=\"\",\"\",'2.Logbook'!AN187)","v":""},{"$f":"IF('2.Logbook'!AO187=\"\",\"\",'2.Logbook'!AO187)","v":""},{"$f":"IF('2.Logbook'!AP187=\"\",\"\",'2.Logbook'!AP187)","v":""},{"$f":"IF('2.Logbook'!AQ187=\"\",\"\",'2.Logbook'!AQ187)","v":""},{"$f":"IF('2.Logbook'!AR187=\"\",\"\",'2.Logbook'!AR187)","v":""},{"$f":"IF('2.Logbook'!AS187=\"\",\"\",'2.Logbook'!AS187)","v":""},{"$f":"IF('2.Logbook'!AT187=\"\",\"\",'2.Logbook'!AT187)","v":""},{"$f":"IF('2.Logbook'!AU187=\"\",\"\",'2.Logbook'!AU187)","v":""},{"$f":"IF('2.Logbook'!AV187=\"\",\"\",'2.Logbook'!AV187)","v":""},{"$f":"IF('2.Logbook'!AW187=\"\",\"\",'2.Logbook'!AW187)","v":""},{"$f":"IF('2.Logbook'!AX187=\"\",\"\",'2.Logbook'!AX187)","v":""},{"$f":"IF('2.Logbook'!AY187=\"\",\"\",'2.Logbook'!AY187)","v":""}]
[{"$f":"IF('2.Logbook'!$A188=\"\",\"\",'2.Logbook'!$A188)","v":""},{"$f":"IF('2.Logbook'!$B188=\"\",\"\",'2.Logbook'!$B188)","v":""},{"$f":"IF('2.Logbook'!AH188=\"\",\"\",'2.Logbook'!AH188)","v":""},{"$f":"IF('2.Logbook'!AI188=\"\",\"\",'2.Logbook'!AI188)","v":""},{"$f":"IF('2.Logbook'!AJ188=\"\",\"\",'2.Logbook'!AJ188)","v":""},{"$f":"IF('2.Logbook'!AK188=\"\",\"\",'2.Logbook'!AK188)","v":""},{"$f":"IF('2.Logbook'!AL188=\"\",\"\",'2.Logbook'!AL188)","v":""},{"$f":"IF('2.Logbook'!AM188=\"\",\"\",'2.Logbook'!AM188)","v":""},{"$f":"IF('2.Logbook'!AN188=\"\",\"\",'2.Logbook'!AN188)","v":""},{"$f":"IF('2.Logbook'!AO188=\"\",\"\",'2.Logbook'!AO188)","v":""},{"$f":"IF('2.Logbook'!AP188=\"\",\"\",'2.Logbook'!AP188)","v":""},{"$f":"IF('2.Logbook'!AQ188=\"\",\"\",'2.Logbook'!AQ188)","v":""},{"$f":"IF('2.Logbook'!AR188=\"\",\"\",'2.Logbook'!AR188)","v":""},{"$f":"IF('2.Logbook'!AS188=\"\",\"\",'2.Logbook'!AS188)","v":""},{"$f":"IF('2.Logbook'!AT188=\"\",\"\",'2.Logbook'!AT188)","v":""},{"$f":"IF('2.Logbook'!AU188=\"\",\"\",'2.Logbook'!AU188)","v":""},{"$f":"IF('2.Logbook'!AV188=\"\",\"\",'2.Logbook'!AV188)","v":""},{"$f":"IF('2.Logbook'!AW188=\"\",\"\",'2.Logbook'!AW188)","v":""},{"$f":"IF('2.Logbook'!AX188=\"\",\"\",'2.Logbook'!AX188)","v":""},{"$f":"IF('2.Logbook'!AY188=\"\",\"\",'2.Logbook'!AY188)","v":""}]
[{"$f":"IF('2.Logbook'!$A189=\"\",\"\",'2.Logbook'!$A189)","v":""},{"$f":"IF('2.Logbook'!$B189=\"\",\"\",'2.Logbook'!$B189)","v":""},{"$f":"IF('2.Logbook'!AH189=\"\",\"\",'2.Logbook'!AH189)","v":""},{"$f":"IF('2.Logbook'!AI189=\"\",\"\",'2.Logbook'!AI189)","v":""},{"$f":"IF('2.Logbook'!AJ189=\"\",\"\",'2.Logbook'!AJ189)","v":""},{"$f":"IF('2.Logbook'!AK189=\"\",\"\",'2.Logbook'!AK189)","v":""},{"$f":"IF('2.Logbook'!AL189=\"\",\"\",'2.Logbook'!AL189)","v":""},{"$f":"IF('2.Logbook'!AM189=\"\",\"\",'2.Logbook'!AM189)","v":""},{"$f":"IF('2.Logbook'!AN189=\"\",\"\",'2.Logbook'!AN189)","v":""},{"$f":"IF('2.Logbook'!AO189=\"\",\"\",'2.Logbook'!AO189)","v":""},{"$f":"IF('2.Logbook'!AP189=\"\",\"\",'2.Logbook'!AP189)","v":""},{"$f":"IF('2.Logbook'!AQ189=\"\",\"\",'2.Logbook'!AQ189)","v":""},{"$f":"IF('2.Logbook'!AR189=\"\",\"\",'2.Logbook'!AR189)","v":""},{"$f":"IF('2.Logbook'!AS189=\"\",\"\",'2.Logbook'!AS189)","v":""},{"$f":"IF('2.Logbook'!AT189=\"\",\"\",'2.Logbook'!AT189)","v":""},{"$f":"IF('2.Logbook'!AU189=\"\",\"\",'2.Logbook'!AU189)","v":""},{"$f":"IF('2.Logbook'!AV189=\"\",\"\",'2.Logbook'!AV189)","v":""},{"$f":"IF('2.Logbook'!AW189=\"\",\"\",'2.Logbook'!AW189)","v":""},{"$f":"IF('2.Logbook'!AX189=\"\",\"\",'2.Logbook'!AX189)","v":""},{"$f":"IF('2.Logbook'!AY189=\"\",\"\",'2.Logbook'!AY189)","v":""}]
[{"$f":"IF('2.Logbook'!$A190=\"\",\"\",'2.Logbook'!$A190)","v":""},{"$f":"IF('2.Logbook'!$B190=\"\",\"\",'2.Logbook'!$B190)","v":""},{"$f":"IF('2.Logbook'!AH190=\"\",\"\",'2.Logbook'!AH190)","v":""},{"$f":"IF('2.Logbook'!AI190=\"\",\"\",'2.Logbook'!AI190)","v":""},{"$f":"IF('2.Logbook'!AJ190=\"\",\"\",'2.Logbook'!AJ190)","v":""},{"$f":"IF('2.Logbook'!AK190=\"\",\"\",'2.Logbook'!AK190)","v":""},{"$f":"IF('2.Logbook'!AL190=\"\",\"\",'2.Logbook'!AL190)","v":""},{"$f":"IF('2.Logbook'!AM190=\"\",\"\",'2.Logbook'!AM190)","v":""},{"$f":"IF('2.Logbook'!AN190=\"\",\"\",'2.Logbook'!AN190)","v":""},{"$f":"IF('2.Logbook'!AO190=\"\",\"\",'2.Logbook'!AO190)","v":""},{"$f":"IF('2.Logbook'!AP190=\"\",\"\",'2.Logbook'!AP190)","v":""},{"$f":"IF('2.Logbook'!AQ190=\"\",\"\",'2.Logbook'!AQ190)","v":""},{"$f":"IF('2.Logbook'!AR190=\"\",\"\",'2.Logbook'!AR190)","v":""},{"$f":"IF('2.Logbook'!AS190=\"\",\"\",'2.Logbook'!AS190)","v":""},{"$f":"IF('2.Logbook'!AT190=\"\",\"\",'2.Logbook'!AT190)","v":""},{"$f":"IF('2.Logbook'!AU190=\"\",\"\",'2.Logbook'!AU190)","v":""},{"$f":"IF('2.Logbook'!AV190=\"\",\"\",'2.Logbook'!AV190)","v":""},{"$f":"IF('2.Logbook'!AW190=\"\",\"\",'2.Logbook'!AW190)","v":""},{"$f":"IF('2.Logbook'!AX190=\"\",\"\",'2.Logbook'!AX190)","v":""},{"$f":"IF('2.Logbook'!AY190=\"\",\"\",'2.Logbook'!AY190)","v":""}]
[{"$f":"IF('2.Logbook'!$A191=\"\",\"\",'2.Logbook'!$A191)","v":""},{"$f":"IF('2.Logbook'!$B191=\"\",\"\",'2.Logbook'!$B191)","v":""},{"$f":"IF('2.Logbook'!AH191=\"\",\"\",'2.Logbook'!AH191)","v":""},{"$f":"IF('2.Logbook'!AI191=\"\",\"\",'2.Logbook'!AI191)","v":""},{"$f":"IF('2.Logbook'!AJ191=\"\",\"\",'2.Logbook'!AJ191)","v":""},{"$f":"IF('2.Logbook'!AK191=\"\",\"\",'2.Logbook'!AK191)","v":""},{"$f":"IF('2.Logbook'!AL191=\"\",\"\",'2.Logbook'!AL191)","v":""},{"$f":"IF('2.Logbook'!AM191=\"\",\"\",'2.Logbook'!AM191)","v":""},{"$f":"IF('2.Logbook'!AN191=\"\",\"\",'2.Logbook'!AN191)","v":""},{"$f":"IF('2.Logbook'!AO191=\"\",\"\",'2.Logbook'!AO191)","v":""},{"$f":"IF('2.Logbook'!AP191=\"\",\"\",'2.Logbook'!AP191)","v":""},{"$f":"IF('2.Logbook'!AQ191=\"\",\"\",'2.Logbook'!AQ191)","v":""},{"$f":"IF('2.Logbook'!AR191=\"\",\"\",'2.Logbook'!AR191)","v":""},{"$f":"IF('2.Logbook'!AS191=\"\",\"\",'2.Logbook'!AS191)","v":""},{"$f":"IF('2.Logbook'!AT191=\"\",\"\",'2.Logbook'!AT191)","v":""},{"$f":"IF('2.Logbook'!AU191=\"\",\"\",'2.Logbook'!AU191)","v":""},{"$f":"IF('2.Logbook'!AV191=\"\",\"\",'2.Logbook'!AV191)","v":""},{"$f":"IF('2.Logbook'!AW191=\"\",\"\",'2.Logbook'!AW191)","v":""},{"$f":"IF('2.Logbook'!AX191=\"\",\"\",'2.Logbook'!AX191)","v":""},{"$f":"IF('2.Logbook'!AY191=\"\",\"\",'2.Logbook'!AY191)","v":""}]
[{"$f":"IF('2.Logbook'!$A192=\"\",\"\",'2.Logbook'!$A192)","v":""},{"$f":"IF('2.Logbook'!$B192=\"\",\"\",'2.Logbook'!$B192)","v":""},{"$f":"IF('2.Logbook'!AH192=\"\",\"\",'2.Logbook'!AH192)","v":""},{"$f":"IF('2.Logbook'!AI192=\"\",\"\",'2.Logbook'!AI192)","v":""},{"$f":"IF('2.Logbook'!AJ192=\"\",\"\",'2.Logbook'!AJ192)","v":""},{"$f":"IF('2.Logbook'!AK192=\"\",\"\",'2.Logbook'!AK192)","v":""},{"$f":"IF('2.Logbook'!AL192=\"\",\"\",'2.Logbook'!AL192)","v":""},{"$f":"IF('2.Logbook'!AM192=\"\",\"\",'2.Logbook'!AM192)","v":""},{"$f":"IF('2.Logbook'!AN192=\"\",\"\",'2.Logbook'!AN192)","v":""},{"$f":"IF('2.Logbook'!AO192=\"\",\"\",'2.Logbook'!AO192)","v":""},{"$f":"IF('2.Logbook'!AP192=\"\",\"\",'2.Logbook'!AP192)","v":""},{"$f":"IF('2.Logbook'!AQ192=\"\",\"\",'2.Logbook'!AQ192)","v":""},{"$f":"IF('2.Logbook'!AR192=\"\",\"\",'2.Logbook'!AR192)","v":""},{"$f":"IF('2.Logbook'!AS192=\"\",\"\",'2.Logbook'!AS192)","v":""},{"$f":"IF('2.Logbook'!AT192=\"\",\"\",'2.Logbook'!AT192)","v":""},{"$f":"IF('2.Logbook'!AU192=\"\",\"\",'2.Logbook'!AU192)","v":""},{"$f":"IF('2.Logbook'!AV192=\"\",\"\",'2.Logbook'!AV192)","v":""},{"$f":"IF('2.Logbook'!AW192=\"\",\"\",'2.Logbook'!AW192)","v":""},{"$f":"IF('2.Logbook'!AX192=\"\",\"\",'2.Logbook'!AX192)","v":""},{"$f":"IF('2.Logbook'!AY192=\"\",\"\",'2.Logbook'!AY192)","v":""}]
[{"$f":"IF('2.Logbook'!$A193=\"\",\"\",'2.Logbook'!$A193)","v":""},{"$f":"IF('2.Logbook'!$B193=\"\",\"\",'2.Logbook'!$B193)","v":""},{"$f":"IF('2.Logbook'!AH193=\"\",\"\",'2.Logbook'!AH193)","v":""},{"$f":"IF('2.Logbook'!AI193=\"\",\"\",'2.Logbook'!AI193)","v":""},{"$f":"IF('2.Logbook'!AJ193=\"\",\"\",'2.Logbook'!AJ193)","v":""},{"$f":"IF('2.Logbook'!AK193=\"\",\"\",'2.Logbook'!AK193)","v":""},{"$f":"IF('2.Logbook'!AL193=\"\",\"\",'2.Logbook'!AL193)","v":""},{"$f":"IF('2.Logbook'!AM193=\"\",\"\",'2.Logbook'!AM193)","v":""},{"$f":"IF('2.Logbook'!AN193=\"\",\"\",'2.Logbook'!AN193)","v":""},{"$f":"IF('2.Logbook'!AO193=\"\",\"\",'2.Logbook'!AO193)","v":""},{"$f":"IF('2.Logbook'!AP193=\"\",\"\",'2.Logbook'!AP193)","v":""},{"$f":"IF('2.Logbook'!AQ193=\"\",\"\",'2.Logbook'!AQ193)","v":""},{"$f":"IF('2.Logbook'!AR193=\"\",\"\",'2.Logbook'!AR193)","v":""},{"$f":"IF('2.Logbook'!AS193=\"\",\"\",'2.Logbook'!AS193)","v":""},{"$f":"IF('2.Logbook'!AT193=\"\",\"\",'2.Logbook'!AT193)","v":""},{"$f":"IF('2.Logbook'!AU193=\"\",\"\",'2.Logbook'!AU193)","v":""},{"$f":"IF('2.Logbook'!AV193=\"\",\"\",'2.Logbook'!AV193)","v":""},{"$f":"IF('2.Logbook'!AW193=\"\",\"\",'2.Logbook'!AW193)","v":""},{"$f":"IF('2.Logbook'!AX193=\"\",\"\",'2.Logbook'!AX193)","v":""},{"$f":"IF('2.Logbook'!AY193=\"\",\"\",'2.Logbook'!AY193)","v":""}]
[{"$f":"IF('2.Logbook'!$A194=\"\",\"\",'2.Logbook'!$A194)","v":""},{"$f":"IF('2.Logbook'!$B194=\"\",\"\",'2.Logbook'!$B194)","v":""},{"$f":"IF('2.Logbook'!AH194=\"\",\"\",'2.Logbook'!AH194)","v":""},{"$f":"IF('2.Logbook'!AI194=\"\",\"\",'2.Logbook'!AI194)","v":""},{"$f":"IF('2.Logbook'!AJ194=\"\",\"\",'2.Logbook'!AJ194)","v":""},{"$f":"IF('2.Logbook'!AK194=\"\",\"\",'2.Logbook'!AK194)","v":""},{"$f":"IF('2.Logbook'!AL194=\"\",\"\",'2.Logbook'!AL194)","v":""},{"$f":"IF('2.Logbook'!AM194=\"\",\"\",'2.Logbook'!AM194)","v":""},{"$f":"IF('2.Logbook'!AN194=\"\",\"\",'2.Logbook'!AN194)","v":""},{"$f":"IF('2.Logbook'!AO194=\"\",\"\",'2.Logbook'!AO194)","v":""},{"$f":"IF('2.Logbook'!AP194=\"\",\"\",'2.Logbook'!AP194)","v":""},{"$f":"IF('2.Logbook'!AQ194=\"\",\"\",'2.Logbook'!AQ194)","v":""},{"$f":"IF('2.Logbook'!AR194=\"\",\"\",'2.Logbook'!AR194)","v":""},{"$f":"IF('2.Logbook'!AS194=\"\",\"\",'2.Logbook'!AS194)","v":""},{"$f":"IF('2.Logbook'!AT194=\"\",\"\",'2.Logbook'!AT194)","v":""},{"$f":"IF('2.Logbook'!AU194=\"\",\"\",'2.Logbook'!AU194)","v":""},{"$f":"IF('2.Logbook'!AV194=\"\",\"\",'2.Logbook'!AV194)","v":""},{"$f":"IF('2.Logbook'!AW194=\"\",\"\",'2.Logbook'!AW194)","v":""},{"$f":"IF('2.Logbook'!AX194=\"\",\"\",'2.Logbook'!AX194)","v":""},{"$f":"IF('2.Logbook'!AY194=\"\",\"\",'2.Logbook'!AY194)","v":""}]
[{"$f":"IF('2.Logbook'!$A195=\"\",\"\",'2.Logbook'!$A195)","v":""},{"$f":"IF('2.Logbook'!$B195=\"\",\"\",'2.Logbook'!$B195)","v":""},{"$f":"IF('2.Logbook'!AH195=\"\",\"\",'2.Logbook'!AH195)","v":""},{"$f":"IF('2.Logbook'!AI195=\"\",\"\",'2.Logbook'!AI195)","v":""},{"$f":"IF('2.Logbook'!AJ195=\"\",\"\",'2.Logbook'!AJ195)","v":""},{"$f":"IF('2.Logbook'!AK195=\"\",\"\",'2.Logbook'!AK195)","v":""},{"$f":"IF('2.Logbook'!AL195=\"\",\"\",'2.Logbook'!AL195)","v":""},{"$f":"IF('2.Logbook'!AM195=\"\",\"\",'2.Logbook'!AM195)","v":""},{"$f":"IF('2.Logbook'!AN195=\"\",\"\",'2.Logbook'!AN195)","v":""},{"$f":"IF('2.Logbook'!AO195=\"\",\"\",'2.Logbook'!AO195)","v":""},{"$f":"IF('2.Logbook'!AP195=\"\",\"\",'2.Logbook'!AP195)","v":""},{"$f":"IF('2.Logbook'!AQ195=\"\",\"\",'2.Logbook'!AQ195)","v":""},{"$f":"IF('2.Logbook'!AR195=\"\",\"\",'2.Logbook'!AR195)","v":""},{"$f":"IF('2.Logbook'!AS195=\"\",\"\",'2.Logbook'!AS195)","v":""},{"$f":"IF('2.Logbook'!AT195=\"\",\"\",'2.Logbook'!AT195)","v":""},{"$f":"IF('2.Logbook'!AU195=\"\",\"\",'2.Logbook'!AU195)","v":""},{"$f":"IF('2.Logbook'!AV195=\"\",\"\",'2.Logbook'!AV195)","v":""},{"$f":"IF('2.Logbook'!AW195=\"\",\"\",'2.Logbook'!AW195)","v":""},{"$f":"IF('2.Logbook'!AX195=\"\",\"\",'2.Logbook'!AX195)","v":""},{"$f":"IF('2.Logbook'!AY195=\"\",\"\",'2.Logbook'!AY195)","v":""}]
[{"$f":"IF('2.Logbook'!$A196=\"\",\"\",'2.Logbook'!$A196)","v":""},{"$f":"IF('2.Logbook'!$B196=\"\",\"\",'2.Logbook'!$B196)","v":""},{"$f":"IF('2.Logbook'!AH196=\"\",\"\",'2.Logbook'!AH196)","v":""},{"$f":"IF('2.Logbook'!AI196=\"\",\"\",'2.Logbook'!AI196)","v":""},{"$f":"IF('2.Logbook'!AJ196=\"\",\"\",'2.Logbook'!AJ196)","v":""},{"$f":"IF('2.Logbook'!AK196=\"\",\"\",'2.Logbook'!AK196)","v":""},{"$f":"IF('2.Logbook'!AL196=\"\",\"\",'2.Logbook'!AL196)","v":""},{"$f":"IF('2.Logbook'!AM196=\"\",\"\",'2.Logbook'!AM196)","v":""},{"$f":"IF('2.Logbook'!AN196=\"\",\"\",'2.Logbook'!AN196)","v":""},{"$f":"IF('2.Logbook'!AO196=\"\",\"\",'2.Logbook'!AO196)","v":""},{"$f":"IF('2.Logbook'!AP196=\"\",\"\",'2.Logbook'!AP196)","v":""},{"$f":"IF('2.Logbook'!AQ196=\"\",\"\",'2.Logbook'!AQ196)","v":""},{"$f":"IF('2.Logbook'!AR196=\"\",\"\",'2.Logbook'!AR196)","v":""},{"$f":"IF('2.Logbook'!AS196=\"\",\"\",'2.Logbook'!AS196)","v":""},{"$f":"IF('2.Logbook'!AT196=\"\",\"\",'2.Logbook'!AT196)","v":""},{"$f":"IF('2.Logbook'!AU196=\"\",\"\",'2.Logbook'!AU196)","v":""},{"$f":"IF('2.Logbook'!AV196=\"\",\"\",'2.Logbook'!AV196)","v":""},{"$f":"IF('2.Logbook'!AW196=\"\",\"\",'2.Logbook'!AW196)","v":""},{"$f":"IF('2.Logbook'!AX196=\"\",\"\",'2.Logbook'!AX196)","v":""},{"$f":"IF('2.Logbook'!AY196=\"\",\"\",'2.Logbook'!AY196)","v":""}]
[{"$f":"IF('2.Logbook'!$A197=\"\",\"\",'2.Logbook'!$A197)","v":""},{"$f":"IF('2.Logbook'!$B197=\"\",\"\",'2.Logbook'!$B197)","v":""},{"$f":"IF('2.Logbook'!AH197=\"\",\"\",'2.Logbook'!AH197)","v":""},{"$f":"IF('2.Logbook'!AI197=\"\",\"\",'2.Logbook'!AI197)","v":""},{"$f":"IF('2.Logbook'!AJ197=\"\",\"\",'2.Logbook'!AJ197)","v":""},{"$f":"IF('2.Logbook'!AK197=\"\",\"\",'2.Logbook'!AK197)","v":""},{"$f":"IF('2.Logbook'!AL197=\"\",\"\",'2.Logbook'!AL197)","v":""},{"$f":"IF('2.Logbook'!AM197=\"\",\"\",'2.Logbook'!AM197)","v":""},{"$f":"IF('2.Logbook'!AN197=\"\",\"\",'2.Logbook'!AN197)","v":""},{"$f":"IF('2.Logbook'!AO197=\"\",\"\",'2.Logbook'!AO197)","v":""},{"$f":"IF('2.Logbook'!AP197=\"\",\"\",'2.Logbook'!AP197)","v":""},{"$f":"IF('2.Logbook'!AQ197=\"\",\"\",'2.Logbook'!AQ197)","v":""},{"$f":"IF('2.Logbook'!AR197=\"\",\"\",'2.Logbook'!AR197)","v":""},{"$f":"IF('2.Logbook'!AS197=\"\",\"\",'2.Logbook'!AS197)","v":""},{"$f":"IF('2.Logbook'!AT197=\"\",\"\",'2.Logbook'!AT197)","v":""},{"$f":"IF('2.Logbook'!AU197=\"\",\"\",'2.Logbook'!AU197)","v":""},{"$f":"IF('2.Logbook'!AV197=\"\",\"\",'2.Logbook'!AV197)","v":""},{"$f":"IF('2.Logbook'!AW197=\"\",\"\",'2.Logbook'!AW197)","v":""},{"$f":"IF('2.Logbook'!AX197=\"\",\"\",'2.Logbook'!AX197)","v":""},{"$f":"IF('2.Logbook'!AY197=\"\",\"\",'2.Logbook'!AY197)","v":""}]
[{"$f":"IF('2.Logbook'!$A198=\"\",\"\",'2.Logbook'!$A198)","v":""},{"$f":"IF('2.Logbook'!$B198=\"\",\"\",'2.Logbook'!$B198)","v":""},{"$f":"IF('2.Logbook'!AH198=\"\",\"\",'2.Logbook'!AH198)","v":""},{"$f":"IF('2.Logbook'!AI198=\"\",\"\",'2.Logbook'!AI198)","v":""},{"$f":"IF('2.Logbook'!AJ198=\"\",\"\",'2.Logbook'!AJ198)","v":""},{"$f":"IF('2.Logbook'!AK198=\"\",\"\",'2.Logbook'!AK198)","v":""},{"$f":"IF('2.Logbook'!AL198=\"\",\"\",'2.Logbook'!AL198)","v":""},{"$f":"IF('2.Logbook'!AM198=\"\",\"\",'2.Logbook'!AM198)","v":""},{"$f":"IF('2.Logbook'!AN198=\"\",\"\",'2.Logbook'!AN198)","v":""},{"$f":"IF('2.Logbook'!AO198=\"\",\"\",'2.Logbook'!AO198)","v":""},{"$f":"IF('2.Logbook'!AP198=\"\",\"\",'2.Logbook'!AP198)","v":""},{"$f":"IF('2.Logbook'!AQ198=\"\",\"\",'2.Logbook'!AQ198)","v":""},{"$f":"IF('2.Logbook'!AR198=\"\",\"\",'2.Logbook'!AR198)","v":""},{"$f":"IF('2.Logbook'!AS198=\"\",\"\",'2.Logbook'!AS198)","v":""},{"$f":"IF('2.Logbook'!AT198=\"\",\"\",'2.Logbook'!AT198)","v":""},{"$f":"IF('2.Logbook'!AU198=\"\",\"\",'2.Logbook'!AU198)","v":""},{"$f":"IF('2.Logbook'!AV198=\"\",\"\",'2.Logbook'!AV198)","v":""},{"$f":"IF('2.Logbook'!AW198=\"\",\"\",'2.Logbook'!AW198)","v":""},{"$f":"IF('2.Logbook'!AX198=\"\",\"\",'2.Logbook'!AX198)","v":""},{"$f":"IF('2.Logbook'!AY198=\"\",\"\",'2.Logbook'!AY198)","v":""}]
[{"$f":"IF('2.Logbook'!$A199=\"\",\"\",'2.Logbook'!$A199)","v":""},{"$f":"IF('2.Logbook'!$B199=\"\",\"\",'2.Logbook'!$B199)","v":""},{"$f":"IF('2.Logbook'!AH199=\"\",\"\",'2.Logbook'!AH199)","v":""},{"$f":"IF('2.Logbook'!AI199=\"\",\"\",'2.Logbook'!AI199)","v":""},{"$f":"IF('2.Logbook'!AJ199=\"\",\"\",'2.Logbook'!AJ199)","v":""},{"$f":"IF('2.Logbook'!AK199=\"\",\"\",'2.Logbook'!AK199)","v":""},{"$f":"IF('2.Logbook'!AL199=\"\",\"\",'2.Logbook'!AL199)","v":""},{"$f":"IF('2.Logbook'!AM199=\"\",\"\",'2.Logbook'!AM199)","v":""},{"$f":"IF('2.Logbook'!AN199=\"\",\"\",'2.Logbook'!AN199)","v":""},{"$f":"IF('2.Logbook'!AO199=\"\",\"\",'2.Logbook'!AO199)","v":""},{"$f":"IF('2.Logbook'!AP199=\"\",\"\",'2.Logbook'!AP199)","v":""},{"$f":"IF('2.Logbook'!AQ199=\"\",\"\",'2.Logbook'!AQ199)","v":""},{"$f":"IF('2.Logbook'!AR199=\"\",\"\",'2.Logbook'!AR199)","v":""},{"$f":"IF('2.Logbook'!AS199=\"\",\"\",'2.Logbook'!AS199)","v":""},{"$f":"IF('2.Logbook'!AT199=\"\",\"\",'2.Logbook'!AT199)","v":""},{"$f":"IF('2.Logbook'!AU199=\"\",\"\",'2.Logbook'!AU199)","v":""},{"$f":"IF('2.Logbook'!AV199=\"\",\"\",'2.Logbook'!AV199)","v":""},{"$f":"IF('2.Logbook'!AW199=\"\",\"\",'2.Logbook'!AW199)","v":""},{"$f":"IF('2.Logbook'!AX199=\"\",\"\",'2.Logbook'!AX199)","v":""},{"$f":"IF('2.Logbook'!AY199=\"\",\"\",'2.Logbook'!AY199)","v":""}]
[{"$f":"IF('2.Logbook'!$A200=\"\",\"\",'2.Logbook'!$A200)","v":""},{"$f":"IF('2.Logbook'!$B200=\"\",\"\",'2.Logbook'!$B200)","v":""},{"$f":"IF('2.Logbook'!AH200=\"\",\"\",'2.Logbook'!AH200)","v":""},{"$f":"IF('2.Logbook'!AI200=\"\",\"\",'2.Logbook'!AI200)","v":""},{"$f":"IF('2.Logbook'!AJ200=\"\",\"\",'2.Logbook'!AJ200)","v":""},{"$f":"IF('2.Logbook'!AK200=\"\",\"\",'2.Logbook'!AK200)","v":""},{"$f":"IF('2.Logbook'!AL200=\"\",\"\",'2.Logbook'!AL200)","v":""},{"$f":"IF('2.Logbook'!AM200=\"\",\"\",'2.Logbook'!AM200)","v":""},{"$f":"IF('2.Logbook'!AN200=\"\",\"\",'2.Logbook'!AN200)","v":""},{"$f":"IF('2.Logbook'!AO200=\"\",\"\",'2.Logbook'!AO200)","v":""},{"$f":"IF('2.Logbook'!AP200=\"\",\"\",'2.Logbook'!AP200)","v":""},{"$f":"IF('2.Logbook'!AQ200=\"\",\"\",'2.Logbook'!AQ200)","v":""},{"$f":"IF('2.Logbook'!AR200=\"\",\"\",'2.Logbook'!AR200)","v":""},{"$f":"IF('2.Logbook'!AS200=\"\",\"\",'2.Logbook'!AS200)","v":""},{"$f":"IF('2.Logbook'!AT200=\"\",\"\",'2.Logbook'!AT200)","v":""},{"$f":"IF('2.Logbook'!AU200=\"\",\"\",'2.Logbook'!AU200)","v":""},{"$f":"IF('2.Logbook'!AV200=\"\",\"\",'2.Logbook'!AV200)","v":""},{"$f":"IF('2.Logbook'!AW200=\"\",\"\",'2.Logbook'!AW200)","v":""},{"$f":"IF('2.Logbook'!AX200=\"\",\"\",'2.Logbook'!AX200)","v":""},{"$f":"IF('2.Logbook'!AY200=\"\",\"\",'2.Logbook'!AY200)","v":""}]
[{"$f":"IF('2.Logbook'!$A201=\"\",\"\",'2.Logbook'!$A201)","v":""},{"$f":"IF('2.Logbook'!$B201=\"\",\"\",'2.Logbook'!$B201)","v":""},{"$f":"IF('2.Logbook'!AH201=\"\",\"\",'2.Logbook'!AH201)","v":""},{"$f":"IF('2.Logbook'!AI201=\"\",\"\",'2.Logbook'!AI201)","v":""},{"$f":"IF('2.Logbook'!AJ201=\"\",\"\",'2.Logbook'!AJ201)","v":""},{"$f":"IF('2.Logbook'!AK201=\"\",\"\",'2.Logbook'!AK201)","v":""},{"$f":"IF('2.Logbook'!AL201=\"\",\"\",'2.Logbook'!AL201)","v":""},{"$f":"IF('2.Logbook'!AM201=\"\",\"\",'2.Logbook'!AM201)","v":""},{"$f":"IF('2.Logbook'!AN201=\"\",\"\",'2.Logbook'!AN201)","v":""},{"$f":"IF('2.Logbook'!AO201=\"\",\"\",'2.Logbook'!AO201)","v":""},{"$f":"IF('2.Logbook'!AP201=\"\",\"\",'2.Logbook'!AP201)","v":""},{"$f":"IF('2.Logbook'!AQ201=\"\",\"\",'2.Logbook'!AQ201)","v":""},{"$f":"IF('2.Logbook'!AR201=\"\",\"\",'2.Logbook'!AR201)","v":""},{"$f":"IF('2.Logbook'!AS201=\"\",\"\",'2.Logbook'!AS201)","v":""},{"$f":"IF('2.Logbook'!AT201=\"\",\"\",'2.Logbook'!AT201)","v":""},{"$f":"IF('2.Logbook'!AU201=\"\",\"\",'2.Logbook'!AU201)","v":""},{"$f":"IF('2.Logbook'!AV201=\"\",\"\",'2.Logbook'!AV201)","v":""},{"$f":"IF('2.Logbook'!AW201=\"\",\"\",'2.Logbook'!AW201)","v":""},{"$f":"IF('2.Logbook'!AX201=\"\",\"\",'2.Logbook'!AX201)","v":""},{"$f":"IF('2.Logbook'!AY201=\"\",\"\",'2.Logbook'!AY201)","v":""}]
[{"$f":"IF('2.Logbook'!$A202=\"\",\"\",'2.Logbook'!$A202)","v":""},{"$f":"IF('2.Logbook'!$B202=\"\",\"\",'2.Logbook'!$B202)","v":""},{"$f":"IF('2.Logbook'!AH202=\"\",\"\",'2.Logbook'!AH202)","v":""},{"$f":"IF('2.Logbook'!AI202=\"\",\"\",'2.Logbook'!AI202)","v":""},{"$f":"IF('2.Logbook'!AJ202=\"\",\"\",'2.Logbook'!AJ202)","v":""},{"$f":"IF('2.Logbook'!AK202=\"\",\"\",'2.Logbook'!AK202)","v":""},{"$f":"IF('2.Logbook'!AL202=\"\",\"\",'2.Logbook'!AL202)","v":""},{"$f":"IF('2.Logbook'!AM202=\"\",\"\",'2.Logbook'!AM202)","v":""},{"$f":"IF('2.Logbook'!AN202=\"\",\"\",'2.Logbook'!AN202)","v":""},{"$f":"IF('2.Logbook'!AO202=\"\",\"\",'2.Logbook'!AO202)","v":""},{"$f":"IF('2.Logbook'!AP202=\"\",\"\",'2.Logbook'!AP202)","v":""},{"$f":"IF('2.Logbook'!AQ202=\"\",\"\",'2.Logbook'!AQ202)","v":""},{"$f":"IF('2.Logbook'!AR202=\"\",\"\",'2.Logbook'!AR202)","v":""},{"$f":"IF('2.Logbook'!AS202=\"\",\"\",'2.Logbook'!AS202)","v":""},{"$f":"IF('2.Logbook'!AT202=\"\",\"\",'2.Logbook'!AT202)","v":""},{"$f":"IF('2.Logbook'!AU202=\"\",\"\",'2.Logbook'!AU202)","v":""},{"$f":"IF('2.Logbook'!AV202=\"\",\"\",'2.Logbook'!AV202)","v":""},{"$f":"IF('2.Logbook'!AW202=\"\",\"\",'2.Logbook'!AW202)","v":""},{"$f":"IF('2.Logbook'!AX202=\"\",\"\",'2.Logbook'!AX202)","v":""},{"$f":"IF('2.Logbook'!AY202=\"\",\"\",'2.Logbook'!AY202)","v":""}]
[{"$f":"IF('2.Logbook'!$A203=\"\",\"\",'2.Logbook'!$A203)","v":""},{"$f":"IF('2.Logbook'!$B203=\"\",\"\",'2.Logbook'!$B203)","v":""},{"$f":"IF('2.Logbook'!AH203=\"\",\"\",'2.Logbook'!AH203)","v":""},{"$f":"IF('2.Logbook'!AI203=\"\",\"\",'2.Logbook'!AI203)","v":""},{"$f":"IF('2.Logbook'!AJ203=\"\",\"\",'2.Logbook'!AJ203)","v":""},{"$f":"IF('2.Logbook'!AK203=\"\",\"\",'2.Logbook'!AK203)","v":""},{"$f":"IF('2.Logbook'!AL203=\"\",\"\",'2.Logbook'!AL203)","v":""},{"$f":"IF('2.Logbook'!AM203=\"\",\"\",'2.Logbook'!AM203)","v":""},{"$f":"IF('2.Logbook'!AN203=\"\",\"\",'2.Logbook'!AN203)","v":""},{"$f":"IF('2.Logbook'!AO203=\"\",\"\",'2.Logbook'!AO203)","v":""},{"$f":"IF('2.Logbook'!AP203=\"\",\"\",'2.Logbook'!AP203)","v":""},{"$f":"IF('2.Logbook'!AQ203=\"\",\"\",'2.Logbook'!AQ203)","v":""},{"$f":"IF('2.Logbook'!AR203=\"\",\"\",'2.Logbook'!AR203)","v":""},{"$f":"IF('2.Logbook'!AS203=\"\",\"\",'2.Logbook'!AS203)","v":""},{"$f":"IF('2.Logbook'!AT203=\"\",\"\",'2.Logbook'!AT203)","v":""},{"$f":"IF('2.Logbook'!AU203=\"\",\"\",'2.Logbook'!AU203)","v":""},{"$f":"IF('2.Logbook'!AV203=\"\",\"\",'2.Logbook'!AV203)","v":""},{"$f":"IF('2.Logbook'!AW203=\"\",\"\",'2.Logbook'!AW203)","v":""},{"$f":"IF('2.Logbook'!AX203=\"\",\"\",'2.Logbook'!AX203)","v":""},{"$f":"IF('2.Logbook'!AY203=\"\",\"\",'2.Logbook'!AY203)","v":""}]
[{"$f":"IF('2.Logbook'!$A204=\"\",\"\",'2.Logbook'!$A204)","v":""},{"$f":"IF('2.Logbook'!$B204=\"\",\"\",'2.Logbook'!$B204)","v":""},{"$f":"IF('2.Logbook'!AH204=\"\",\"\",'2.Logbook'!AH204)","v":""},{"$f":"IF('2.Logbook'!AI204=\"\",\"\",'2.Logbook'!AI204)","v":""},{"$f":"IF('2.Logbook'!AJ204=\"\",\"\",'2.Logbook'!AJ204)","v":""},{"$f":"IF('2.Logbook'!AK204=\"\",\"\",'2.Logbook'!AK204)","v":""},{"$f":"IF('2.Logbook'!AL204=\"\",\"\",'2.Logbook'!AL204)","v":""},{"$f":"IF('2.Logbook'!AM204=\"\",\"\",'2.Logbook'!AM204)","v":""},{"$f":"IF('2.Logbook'!AN204=\"\",\"\",'2.Logbook'!AN204)","v":""},{"$f":"IF('2.Logbook'!AO204=\"\",\"\",'2.Logbook'!AO204)","v":""},{"$f":"IF('2.Logbook'!AP204=\"\",\"\",'2.Logbook'!AP204)","v":""},{"$f":"IF('2.Logbook'!AQ204=\"\",\"\",'2.Logbook'!AQ204)","v":""},{"$f":"IF('2.Logbook'!AR204=\"\",\"\",'2.Logbook'!AR204)","v":""},{"$f":"IF('2.Logbook'!AS204=\"\",\"\",'2.Logbook'!AS204)","v":""},{"$f":"IF('2.Logbook'!AT204=\"\",\"\",'2.Logbook'!AT204)","v":""},{"$f":"IF('2.Logbook'!AU204=\"\",\"\",'2.Logbook'!AU204)","v":""},{"$f":"IF('2.Logbook'!AV204=\"\",\"\",'2.Logbook'!AV204)","v":""},{"$f":"IF('2.Logbook'!AW204=\"\",\"\",'2.Logbook'!AW204)","v":""},{"$f":"IF('2.Logbook'!AX204=\"\",\"\",'2.Logbook'!AX204)","v":""},{"$f":"IF('2.Logbook'!AY204=\"\",\"\",'2.Logbook'!AY204)","v":""}]
[{"$f":"IF('2.Logbook'!$A205=\"\",\"\",'2.Logbook'!$A205)","v":""},{"$f":"IF('2.Logbook'!$B205=\"\",\"\",'2.Logbook'!$B205)","v":""},{"$f":"IF('2.Logbook'!AH205=\"\",\"\",'2.Logbook'!AH205)","v":""},{"$f":"IF('2.Logbook'!AI205=\"\",\"\",'2.Logbook'!AI205)","v":""},{"$f":"IF('2.Logbook'!AJ205=\"\",\"\",'2.Logbook'!AJ205)","v":""},{"$f":"IF('2.Logbook'!AK205=\"\",\"\",'2.Logbook'!AK205)","v":""},{"$f":"IF('2.Logbook'!AL205=\"\",\"\",'2.Logbook'!AL205)","v":""},{"$f":"IF('2.Logbook'!AM205=\"\",\"\",'2.Logbook'!AM205)","v":""},{"$f":"IF('2.Logbook'!AN205=\"\",\"\",'2.Logbook'!AN205)","v":""},{"$f":"IF('2.Logbook'!AO205=\"\",\"\",'2.Logbook'!AO205)","v":""},{"$f":"IF('2.Logbook'!AP205=\"\",\"\",'2.Logbook'!AP205)","v":""},{"$f":"IF('2.Logbook'!AQ205=\"\",\"\",'2.Logbook'!AQ205)","v":""},{"$f":"IF('2.Logbook'!AR205=\"\",\"\",'2.Logbook'!AR205)","v":""},{"$f":"IF('2.Logbook'!AS205=\"\",\"\",'2.Logbook'!AS205)","v":""},{"$f":"IF('2.Logbook'!AT205=\"\",\"\",'2.Logbook'!AT205)","v":""},{"$f":"IF('2.Logbook'!AU205=\"\",\"\",'2.Logbook'!AU205)","v":""},{"$f":"IF('2.Logbook'!AV205=\"\",\"\",'2.Logbook'!AV205)","v":""},{"$f":"IF('2.Logbook'!AW205=\"\",\"\",'2.Logbook'!AW205)","v":""},{"$f":"IF('2.Logbook'!AX205=\"\",\"\",'2.Logbook'!AX205)","v":""},{"$f":"IF('2.Logbook'!AY205=\"\",\"\",'2.Logbook'!AY205)","v":""}]
[{"$f":"IF('2.Logbook'!$A206=\"\",\"\",'2.Logbook'!$A206)","v":""},{"$f":"IF('2.Logbook'!$B206=\"\",\"\",'2.Logbook'!$B206)","v":""},{"$f":"IF('2.Logbook'!AH206=\"\",\"\",'2.Logbook'!AH206)","v":""},{"$f":"IF('2.Logbook'!AI206=\"\",\"\",'2.Logbook'!AI206)","v":""},{"$f":"IF('2.Logbook'!AJ206=\"\",\"\",'2.Logbook'!AJ206)","v":""},{"$f":"IF('2.Logbook'!AK206=\"\",\"\",'2.Logbook'!AK206)","v":""},{"$f":"IF('2.Logbook'!AL206=\"\",\"\",'2.Logbook'!AL206)","v":""},{"$f":"IF('2.Logbook'!AM206=\"\",\"\",'2.Logbook'!AM206)","v":""},{"$f":"IF('2.Logbook'!AN206=\"\",\"\",'2.Logbook'!AN206)","v":""},{"$f":"IF('2.Logbook'!AO206=\"\",\"\",'2.Logbook'!AO206)","v":""},{"$f":"IF('2.Logbook'!AP206=\"\",\"\",'2.Logbook'!AP206)","v":""},{"$f":"IF('2.Logbook'!AQ206=\"\",\"\",'2.Logbook'!AQ206)","v":""},{"$f":"IF('2.Logbook'!AR206=\"\",\"\",'2.Logbook'!AR206)","v":""},{"$f":"IF('2.Logbook'!AS206=\"\",\"\",'2.Logbook'!AS206)","v":""},{"$f":"IF('2.Logbook'!AT206=\"\",\"\",'2.Logbook'!AT206)","v":""},{"$f":"IF('2.Logbook'!AU206=\"\",\"\",'2.Logbook'!AU206)","v":""},{"$f":"IF('2.Logbook'!AV206=\"\",\"\",'2.Logbook'!AV206)","v":""},{"$f":"IF('2.Logbook'!AW206=\"\",\"\",'2.Logbook'!AW206)","v":""},{"$f":"IF('2.Logbook'!AX206=\"\",\"\",'2.Logbook'!AX206)","v":""},{"$f":"IF('2.Logbook'!AY206=\"\",\"\",'2.Logbook'!AY206)","v":""}]
[{"$f":"IF('2.Logbook'!$A207=\"\",\"\",'2.Logbook'!$A207)","v":""},{"$f":"IF('2.Logbook'!$B207=\"\",\"\",'2.Logbook'!$B207)","v":""},{"$f":"IF('2.Logbook'!AH207=\"\",\"\",'2.Logbook'!AH207)","v":""},{"$f":"IF('2.Logbook'!AI207=\"\",\"\",'2.Logbook'!AI207)","v":""},{"$f":"IF('2.Logbook'!AJ207=\"\",\"\",'2.Logbook'!AJ207)","v":""},{"$f":"IF('2.Logbook'!AK207=\"\",\"\",'2.Logbook'!AK207)","v":""},{"$f":"IF('2.Logbook'!AL207=\"\",\"\",'2.Logbook'!AL207)","v":""},{"$f":"IF('2.Logbook'!AM207=\"\",\"\",'2.Logbook'!AM207)","v":""},{"$f":"IF('2.Logbook'!AN207=\"\",\"\",'2.Logbook'!AN207)","v":""},{"$f":"IF('2.Logbook'!AO207=\"\",\"\",'2.Logbook'!AO207)","v":""},{"$f":"IF('2.Logbook'!AP207=\"\",\"\",'2.Logbook'!AP207)","v":""},{"$f":"IF('2.Logbook'!AQ207=\"\",\"\",'2.Logbook'!AQ207)","v":""},{"$f":"IF('2.Logbook'!AR207=\"\",\"\",'2.Logbook'!AR207)","v":""},{"$f":"IF('2.Logbook'!AS207=\"\",\"\",'2.Logbook'!AS207)","v":""},{"$f":"IF('2.Logbook'!AT207=\"\",\"\",'2.Logbook'!AT207)","v":""},{"$f":"IF('2.Logbook'!AU207=\"\",\"\",'2.Logbook'!AU207)","v":""},{"$f":"IF('2.Logbook'!AV207=\"\",\"\",'2.Logbook'!AV207)","v":""},{"$f":"IF('2.Logbook'!AW207=\"\",\"\",'2.Logbook'!AW207)","v":""},{"$f":"IF('2.Logbook'!AX207=\"\",\"\",'2.Logbook'!AX207)","v":""},{"$f":"IF('2.Logbook'!AY207=\"\",\"\",'2.Logbook'!AY207)","v":""}]
[{"$f":"IF('2.Logbook'!$A208=\"\",\"\",'2.Logbook'!$A208)","v":""},{"$f":"IF('2.Logbook'!$B208=\"\",\"\",'2.Logbook'!$B208)","v":""},{"$f":"IF('2.Logbook'!AH208=\"\",\"\",'2.Logbook'!AH208)","v":""},{"$f":"IF('2.Logbook'!AI208=\"\",\"\",'2.Logbook'!AI208)","v":""},{"$f":"IF('2.Logbook'!AJ208=\"\",\"\",'2.Logbook'!AJ208)","v":""},{"$f":"IF('2.Logbook'!AK208=\"\",\"\",'2.Logbook'!AK208)","v":""},{"$f":"IF('2.Logbook'!AL208=\"\",\"\",'2.Logbook'!AL208)","v":""},{"$f":"IF('2.Logbook'!AM208=\"\",\"\",'2.Logbook'!AM208)","v":""},{"$f":"IF('2.Logbook'!AN208=\"\",\"\",'2.Logbook'!AN208)","v":""},{"$f":"IF('2.Logbook'!AO208=\"\",\"\",'2.Logbook'!AO208)","v":""},{"$f":"IF('2.Logbook'!AP208=\"\",\"\",'2.Logbook'!AP208)","v":""},{"$f":"IF('2.Logbook'!AQ208=\"\",\"\",'2.Logbook'!AQ208)","v":""},{"$f":"IF('2.Logbook'!AR208=\"\",\"\",'2.Logbook'!AR208)","v":""},{"$f":"IF('2.Logbook'!AS208=\"\",\"\",'2.Logbook'!AS208)","v":""},{"$f":"IF('2.Logbook'!AT208=\"\",\"\",'2.Logbook'!AT208)","v":""},{"$f":"IF('2.Logbook'!AU208=\"\",\"\",'2.Logbook'!AU208)","v":""},{"$f":"IF('2.Logbook'!AV208=\"\",\"\",'2.Logbook'!AV208)","v":""},{"$f":"IF('2.Logbook'!AW208=\"\",\"\",'2.Logbook'!AW208)","v":""},{"$f":"IF('2.Logbook'!AX208=\"\",\"\",'2.Logbook'!AX208)","v":""},{"$f":"IF('2.Logbook'!AY208=\"\",\"\",'2.Logbook'!AY208)","v":""}]
[{"$f":"IF('2.Logbook'!$A209=\"\",\"\",'2.Logbook'!$A209)","v":""},{"$f":"IF('2.Logbook'!$B209=\"\",\"\",'2.Logbook'!$B209)","v":""},{"$f":"IF('2.Logbook'!AH209=\"\",\"\",'2.Logbook'!AH209)","v":""},{"$f":"IF('2.Logbook'!AI209=\"\",\"\",'2.Logbook'!AI209)","v":""},{"$f":"IF('2.Logbook'!AJ209=\"\",\"\",'2.Logbook'!AJ209)","v":""},{"$f":"IF('2.Logbook'!AK209=\"\",\"\",'2.Logbook'!AK209)","v":""},{"$f":"IF('2.Logbook'!AL209=\"\",\"\",'2.Logbook'!AL209)","v":""},{"$f":"IF('2.Logbook'!AM209=\"\",\"\",'2.Logbook'!AM209)","v":""},{"$f":"IF('2.Logbook'!AN209=\"\",\"\",'2.Logbook'!AN209)","v":""},{"$f":"IF('2.Logbook'!AO209=\"\",\"\",'2.Logbook'!AO209)","v":""},{"$f":"IF('2.Logbook'!AP209=\"\",\"\",'2.Logbook'!AP209)","v":""},{"$f":"IF('2.Logbook'!AQ209=\"\",\"\",'2.Logbook'!AQ209)","v":""},{"$f":"IF('2.Logbook'!AR209=\"\",\"\",'2.Logbook'!AR209)","v":""},{"$f":"IF('2.Logbook'!AS209=\"\",\"\",'2.Logbook'!AS209)","v":""},{"$f":"IF('2.Logbook'!AT209=\"\",\"\",'2.Logbook'!AT209)","v":""},{"$f":"IF('2.Logbook'!AU209=\"\",\"\",'2.Logbook'!AU209)","v":""},{"$f":"IF('2.Logbook'!AV209=\"\",\"\",'2.Logbook'!AV209)","v":""},{"$f":"IF('2.Logbook'!AW209=\"\",\"\",'2.Logbook'!AW209)","v":""},{"$f":"IF('2.Logbook'!AX209=\"\",\"\",'2.Logbook'!AX209)","v":""},{"$f":"IF('2.Logbook'!AY209=\"\",\"\",'2.Logbook'!AY209)","v":""}]
[{"$f":"IF('2.Logbook'!$A210=\"\",\"\",'2.Logbook'!$A210)","v":""},{"$f":"IF('2.Logbook'!$B210=\"\",\"\",'2.Logbook'!$B210)","v":""},{"$f":"IF('2.Logbook'!AH210=\"\",\"\",'2.Logbook'!AH210)","v":""},{"$f":"IF('2.Logbook'!AI210=\"\",\"\",'2.Logbook'!AI210)","v":""},{"$f":"IF('2.Logbook'!AJ210=\"\",\"\",'2.Logbook'!AJ210)","v":""},{"$f":"IF('2.Logbook'!AK210=\"\",\"\",'2.Logbook'!AK210)","v":""},{"$f":"IF('2.Logbook'!AL210=\"\",\"\",'2.Logbook'!AL210)","v":""},{"$f":"IF('2.Logbook'!AM210=\"\",\"\",'2.Logbook'!AM210)","v":""},{"$f":"IF('2.Logbook'!AN210=\"\",\"\",'2.Logbook'!AN210)","v":""},{"$f":"IF('2.Logbook'!AO210=\"\",\"\",'2.Logbook'!AO210)","v":""},{"$f":"IF('2.Logbook'!AP210=\"\",\"\",'2.Logbook'!AP210)","v":""},{"$f":"IF('2.Logbook'!AQ210=\"\",\"\",'2.Logbook'!AQ210)","v":""},{"$f":"IF('2.Logbook'!AR210=\"\",\"\",'2.Logbook'!AR210)","v":""},{"$f":"IF('2.Logbook'!AS210=\"\",\"\",'2.Logbook'!AS210)","v":""},{"$f":"IF('2.Logbook'!AT210=\"\",\"\",'2.Logbook'!AT210)","v":""},{"$f":"IF('2.Logbook'!AU210=\"\",\"\",'2.Logbook'!AU210)","v":""},{"$f":"IF('2.Logbook'!AV210=\"\",\"\",'2.Logbook'!AV210)","v":""},{"$f":"IF('2.Logbook'!AW210=\"\",\"\",'2.Logbook'!AW210)","v":""},{"$f":"IF('2.Logbook'!AX210=\"\",\"\",'2.Logbook'!AX210)","v":""},{"$f":"IF('2.Logbook'!AY210=\"\",\"\",'2.Logbook'!AY210)","v":""}]
[{"$f":"IF('2.Logbook'!$A211=\"\",\"\",'2.Logbook'!$A211)","v":""},{"$f":"IF('2.Logbook'!$B211=\"\",\"\",'2.Logbook'!$B211)","v":""},{"$f":"IF('2.Logbook'!AH211=\"\",\"\",'2.Logbook'!AH211)","v":""},{"$f":"IF('2.Logbook'!AI211=\"\",\"\",'2.Logbook'!AI211)","v":""},{"$f":"IF('2.Logbook'!AJ211=\"\",\"\",'2.Logbook'!AJ211)","v":""},{"$f":"IF('2.Logbook'!AK211=\"\",\"\",'2.Logbook'!AK211)","v":""},{"$f":"IF('2.Logbook'!AL211=\"\",\"\",'2.Logbook'!AL211)","v":""},{"$f":"IF('2.Logbook'!AM211=\"\",\"\",'2.Logbook'!AM211)","v":""},{"$f":"IF('2.Logbook'!AN211=\"\",\"\",'2.Logbook'!AN211)","v":""},{"$f":"IF('2.Logbook'!AO211=\"\",\"\",'2.Logbook'!AO211)","v":""},{"$f":"IF('2.Logbook'!AP211=\"\",\"\",'2.Logbook'!AP211)","v":""},{"$f":"IF('2.Logbook'!AQ211=\"\",\"\",'2.Logbook'!AQ211)","v":""},{"$f":"IF('2.Logbook'!AR211=\"\",\"\",'2.Logbook'!AR211)","v":""},{"$f":"IF('2.Logbook'!AS211=\"\",\"\",'2.Logbook'!AS211)","v":""},{"$f":"IF('2.Logbook'!AT211=\"\",\"\",'2.Logbook'!AT211)","v":""},{"$f":"IF('2.Logbook'!AU211=\"\",\"\",'2.Logbook'!AU211)","v":""},{"$f":"IF('2.Logbook'!AV211=\"\",\"\",'2.Logbook'!AV211)","v":""},{"$f":"IF('2.Logbook'!AW211=\"\",\"\",'2.Logbook'!AW211)","v":""},{"$f":"IF('2.Logbook'!AX211=\"\",\"\",'2.Logbook'!AX211)","v":""},{"$f":"IF('2.Logbook'!AY211=\"\",\"\",'2.Logbook'!AY211)","v":""}]
[{"$f":"IF('2.Logbook'!$A212=\"\",\"\",'2.Logbook'!$A212)","v":""},{"$f":"IF('2.Logbook'!$B212=\"\",\"\",'2.Logbook'!$B212)","v":""},{"$f":"IF('2.Logbook'!AH212=\"\",\"\",'2.Logbook'!AH212)","v":""},{"$f":"IF('2.Logbook'!AI212=\"\",\"\",'2.Logbook'!AI212)","v":""},{"$f":"IF('2.Logbook'!AJ212=\"\",\"\",'2.Logbook'!AJ212)","v":""},{"$f":"IF('2.Logbook'!AK212=\"\",\"\",'2.Logbook'!AK212)","v":""},{"$f":"IF('2.Logbook'!AL212=\"\",\"\",'2.Logbook'!AL212)","v":""},{"$f":"IF('2.Logbook'!AM212=\"\",\"\",'2.Logbook'!AM212)","v":""},{"$f":"IF('2.Logbook'!AN212=\"\",\"\",'2.Logbook'!AN212)","v":""},{"$f":"IF('2.Logbook'!AO212=\"\",\"\",'2.Logbook'!AO212)","v":""},{"$f":"IF('2.Logbook'!AP212=\"\",\"\",'2.Logbook'!AP212)","v":""},{"$f":"IF('2.Logbook'!AQ212=\"\",\"\",'2.Logbook'!AQ212)","v":""},{"$f":"IF('2.Logbook'!AR212=\"\",\"\",'2.Logbook'!AR212)","v":""},{"$f":"IF('2.Logbook'!AS212=\"\",\"\",'2.Logbook'!AS212)","v":""},{"$f":"IF('2.Logbook'!AT212=\"\",\"\",'2.Logbook'!AT212)","v":""},{"$f":"IF('2.Logbook'!AU212=\"\",\"\",'2.Logbook'!AU212)","v":""},{"$f":"IF('2.Logbook'!AV212=\"\",\"\",'2.Logbook'!AV212)","v":""},{"$f":"IF('2.Logbook'!AW212=\"\",\"\",'2.Logbook'!AW212)","v":""},{"$f":"IF('2.Logbook'!AX212=\"\",\"\",'2.Logbook'!AX212)","v":""},{"$f":"IF('2.Logbook'!AY212=\"\",\"\",'2.Logbook'!AY212)","v":""}]
[{"$f":"IF('2.Logbook'!$A213=\"\",\"\",'2.Logbook'!$A213)","v":""},{"$f":"IF('2.Logbook'!$B213=\"\",\"\",'2.Logbook'!$B213)","v":""},{"$f":"IF('2.Logbook'!AH213=\"\",\"\",'2.Logbook'!AH213)","v":""},{"$f":"IF('2.Logbook'!AI213=\"\",\"\",'2.Logbook'!AI213)","v":""},{"$f":"IF('2.Logbook'!AJ213=\"\",\"\",'2.Logbook'!AJ213)","v":""},{"$f":"IF('2.Logbook'!AK213=\"\",\"\",'2.Logbook'!AK213)","v":""},{"$f":"IF('2.Logbook'!AL213=\"\",\"\",'2.Logbook'!AL213)","v":""},{"$f":"IF('2.Logbook'!AM213=\"\",\"\",'2.Logbook'!AM213)","v":""},{"$f":"IF('2.Logbook'!AN213=\"\",\"\",'2.Logbook'!AN213)","v":""},{"$f":"IF('2.Logbook'!AO213=\"\",\"\",'2.Logbook'!AO213)","v":""},{"$f":"IF('2.Logbook'!AP213=\"\",\"\",'2.Logbook'!AP213)","v":""},{"$f":"IF('2.Logbook'!AQ213=\"\",\"\",'2.Logbook'!AQ213)","v":""},{"$f":"IF('2.Logbook'!AR213=\"\",\"\",'2.Logbook'!AR213)","v":""},{"$f":"IF('2.Logbook'!AS213=\"\",\"\",'2.Logbook'!AS213)","v":""},{"$f":"IF('2.Logbook'!AT213=\"\",\"\",'2.Logbook'!AT213)","v":""},{"$f":"IF('2.Logbook'!AU213=\"\",\"\",'2.Logbook'!AU213)","v":""},{"$f":"IF('2.Logbook'!AV213=\"\",\"\",'2.Logbook'!AV213)","v":""},{"$f":"IF('2.Logbook'!AW213=\"\",\"\",'2.Logbook'!AW213)","v":""},{"$f":"IF('2.Logbook'!AX213=\"\",\"\",'2.Logbook'!AX213)","v":""},{"$f":"IF('2.Logbook'!AY213=\"\",\"\",'2.Logbook'!AY213)","v":""}]
[{"$f":"IF('2.Logbook'!$A214=\"\",\"\",'2.Logbook'!$A214)","v":""},{"$f":"IF('2.Logbook'!$B214=\"\",\"\",'2.Logbook'!$B214)","v":""},{"$f":"IF('2.Logbook'!AH214=\"\",\"\",'2.Logbook'!AH214)","v":""},{"$f":"IF('2.Logbook'!AI214=\"\",\"\",'2.Logbook'!AI214)","v":""},{"$f":"IF('2.Logbook'!AJ214=\"\",\"\",'2.Logbook'!AJ214)","v":""},{"$f":"IF('2.Logbook'!AK214=\"\",\"\",'2.Logbook'!AK214)","v":""},{"$f":"IF('2.Logbook'!AL214=\"\",\"\",'2.Logbook'!AL214)","v":""},{"$f":"IF('2.Logbook'!AM214=\"\",\"\",'2.Logbook'!AM214)","v":""},{"$f":"IF('2.Logbook'!AN214=\"\",\"\",'2.Logbook'!AN214)","v":""},{"$f":"IF('2.Logbook'!AO214=\"\",\"\",'2.Logbook'!AO214)","v":""},{"$f":"IF('2.Logbook'!AP214=\"\",\"\",'2.Logbook'!AP214)","v":""},{"$f":"IF('2.Logbook'!AQ214=\"\",\"\",'2.Logbook'!AQ214)","v":""},{"$f":"IF('2.Logbook'!AR214=\"\",\"\",'2.Logbook'!AR214)","v":""},{"$f":"IF('2.Logbook'!AS214=\"\",\"\",'2.Logbook'!AS214)","v":""},{"$f":"IF('2.Logbook'!AT214=\"\",\"\",'2.Logbook'!AT214)","v":""},{"$f":"IF('2.Logbook'!AU214=\"\",\"\",'2.Logbook'!AU214)","v":""},{"$f":"IF('2.Logbook'!AV214=\"\",\"\",'2.Logbook'!AV214)","v":""},{"$f":"IF('2.Logbook'!AW214=\"\",\"\",'2.Logbook'!AW214)","v":""},{"$f":"IF('2.Logbook'!AX214=\"\",\"\",'2.Logbook'!AX214)","v":""},{"$f":"IF('2.Logbook'!AY214=\"\",\"\",'2.Logbook'!AY214)","v":""}]
[{"$f":"IF('2.Logbook'!$A215=\"\",\"\",'2.Logbook'!$A215)","v":""},{"$f":"IF('2.Logbook'!$B215=\"\",\"\",'2.Logbook'!$B215)","v":""},{"$f":"IF('2.Logbook'!AH215=\"\",\"\",'2.Logbook'!AH215)","v":""},{"$f":"IF('2.Logbook'!AI215=\"\",\"\",'2.Logbook'!AI215)","v":""},{"$f":"IF('2.Logbook'!AJ215=\"\",\"\",'2.Logbook'!AJ215)","v":""},{"$f":"IF('2.Logbook'!AK215=\"\",\"\",'2.Logbook'!AK215)","v":""},{"$f":"IF('2.Logbook'!AL215=\"\",\"\",'2.Logbook'!AL215)","v":""},{"$f":"IF('2.Logbook'!AM215=\"\",\"\",'2.Logbook'!AM215)","v":""},{"$f":"IF('2.Logbook'!AN215=\"\",\"\",'2.Logbook'!AN215)","v":""},{"$f":"IF('2.Logbook'!AO215=\"\",\"\",'2.Logbook'!AO215)","v":""},{"$f":"IF('2.Logbook'!AP215=\"\",\"\",'2.Logbook'!AP215)","v":""},{"$f":"IF('2.Logbook'!AQ215=\"\",\"\",'2.Logbook'!AQ215)","v":""},{"$f":"IF('2.Logbook'!AR215=\"\",\"\",'2.Logbook'!AR215)","v":""},{"$f":"IF('2.Logbook'!AS215=\"\",\"\",'2.Logbook'!AS215)","v":""},{"$f":"IF('2.Logbook'!AT215=\"\",\"\",'2.Logbook'!AT215)","v":""},{"$f":"IF('2.Logbook'!AU215=\"\",\"\",'2.Logbook'!AU215)","v":""},{"$f":"IF('2.Logbook'!AV215=\"\",\"\",'2.Logbook'!AV215)","v":""},{"$f":"IF('2.Logbook'!AW215=\"\",\"\",'2.Logbook'!AW215)","v":""},{"$f":"IF('2.Logbook'!AX215=\"\",\"\",'2.Logbook'!AX215)","v":""},{"$f":"IF('2.Logbook'!AY215=\"\",\"\",'2.Logbook'!AY215)","v":""}]
[{"$f":"IF('2.Logbook'!$A216=\"\",\"\",'2.Logbook'!$A216)","v":""},{"$f":"IF('2.Logbook'!$B216=\"\",\"\",'2.Logbook'!$B216)","v":""},{"$f":"IF('2.Logbook'!AH216=\"\",\"\",'2.Logbook'!AH216)","v":""},{"$f":"IF('2.Logbook'!AI216=\"\",\"\",'2.Logbook'!AI216)","v":""},{"$f":"IF('2.Logbook'!AJ216=\"\",\"\",'2.Logbook'!AJ216)","v":""},{"$f":"IF('2.Logbook'!AK216=\"\",\"\",'2.Logbook'!AK216)","v":""},{"$f":"IF('2.Logbook'!AL216=\"\",\"\",'2.Logbook'!AL216)","v":""},{"$f":"IF('2.Logbook'!AM216=\"\",\"\",'2.Logbook'!AM216)","v":""},{"$f":"IF('2.Logbook'!AN216=\"\",\"\",'2.Logbook'!AN216)","v":""},{"$f":"IF('2.Logbook'!AO216=\"\",\"\",'2.Logbook'!AO216)","v":""},{"$f":"IF('2.Logbook'!AP216=\"\",\"\",'2.Logbook'!AP216)","v":""},{"$f":"IF('2.Logbook'!AQ216=\"\",\"\",'2.Logbook'!AQ216)","v":""},{"$f":"IF('2.Logbook'!AR216=\"\",\"\",'2.Logbook'!AR216)","v":""},{"$f":"IF('2.Logbook'!AS216=\"\",\"\",'2.Logbook'!AS216)","v":""},{"$f":"IF('2.Logbook'!AT216=\"\",\"\",'2.Logbook'!AT216)","v":""},{"$f":"IF('2.Logbook'!AU216=\"\",\"\",'2.Logbook'!AU216)","v":""},{"$f":"IF('2.Logbook'!AV216=\"\",\"\",'2.Logbook'!AV216)","v":""},{"$f":"IF('2.Logbook'!AW216=\"\",\"\",'2.Logbook'!AW216)","v":""},{"$f":"IF('2.Logbook'!AX216=\"\",\"\",'2.Logbook'!AX216)","v":""},{"$f":"IF('2.Logbook'!AY216=\"\",\"\",'2.Logbook'!AY216)","v":""}]
[{"$f":"IF('2.Logbook'!$A217=\"\",\"\",'2.Logbook'!$A217)","v":""},{"$f":"IF('2.Logbook'!$B217=\"\",\"\",'2.Logbook'!$B217)","v":""},{"$f":"IF('2.Logbook'!AH217=\"\",\"\",'2.Logbook'!AH217)","v":""},{"$f":"IF('2.Logbook'!AI217=\"\",\"\",'2.Logbook'!AI217)","v":""},{"$f":"IF('2.Logbook'!AJ217=\"\",\"\",'2.Logbook'!AJ217)","v":""},{"$f":"IF('2.Logbook'!AK217=\"\",\"\",'2.Logbook'!AK217)","v":""},{"$f":"IF('2.Logbook'!AL217=\"\",\"\",'2.Logbook'!AL217)","v":""},{"$f":"IF('2.Logbook'!AM217=\"\",\"\",'2.Logbook'!AM217)","v":""},{"$f":"IF('2.Logbook'!AN217=\"\",\"\",'2.Logbook'!AN217)","v":""},{"$f":"IF('2.Logbook'!AO217=\"\",\"\",'2.Logbook'!AO217)","v":""},{"$f":"IF('2.Logbook'!AP217=\"\",\"\",'2.Logbook'!AP217)","v":""},{"$f":"IF('2.Logbook'!AQ217=\"\",\"\",'2.Logbook'!AQ217)","v":""},{"$f":"IF('2.Logbook'!AR217=\"\",\"\",'2.Logbook'!AR217)","v":""},{"$f":"IF('2.Logbook'!AS217=\"\",\"\",'2.Logbook'!AS217)","v":""},{"$f":"IF('2.Logbook'!AT217=\"\",\"\",'2.Logbook'!AT217)","v":""},{"$f":"IF('2.Logbook'!AU217=\"\",\"\",'2.Logbook'!AU217)","v":""},{"$f":"IF('2.Logbook'!AV217=\"\",\"\",'2.Logbook'!AV217)","v":""},{"$f":"IF('2.Logbook'!AW217=\"\",\"\",'2.Logbook'!AW217)","v":""},{"$f":"IF('2.Logbook'!AX217=\"\",\"\",'2.Logbook'!AX217)","v":""},{"$f":"IF('2.Logbook'!AY217=\"\",\"\",'2.Logbook'!AY217)","v":""}]
[{"$f":"IF('2.Logbook'!$A218=\"\",\"\",'2.Logbook'!$A218)","v":""},{"$f":"IF('2.Logbook'!$B218=\"\",\"\",'2.Logbook'!$B218)","v":""},{"$f":"IF('2.Logbook'!AH218=\"\",\"\",'2.Logbook'!AH218)","v":""},{"$f":"IF('2.Logbook'!AI218=\"\",\"\",'2.Logbook'!AI218)","v":""},{"$f":"IF('2.Logbook'!AJ218=\"\",\"\",'2.Logbook'!AJ218)","v":""},{"$f":"IF('2.Logbook'!AK218=\"\",\"\",'2.Logbook'!AK218)","v":""},{"$f":"IF('2.Logbook'!AL218=\"\",\"\",'2.Logbook'!AL218)","v":""},{"$f":"IF('2.Logbook'!AM218=\"\",\"\",'2.Logbook'!AM218)","v":""},{"$f":"IF('2.Logbook'!AN218=\"\",\"\",'2.Logbook'!AN218)","v":""},{"$f":"IF('2.Logbook'!AO218=\"\",\"\",'2.Logbook'!AO218)","v":""},{"$f":"IF('2.Logbook'!AP218=\"\",\"\",'2.Logbook'!AP218)","v":""},{"$f":"IF('2.Logbook'!AQ218=\"\",\"\",'2.Logbook'!AQ218)","v":""},{"$f":"IF('2.Logbook'!AR218=\"\",\"\",'2.Logbook'!AR218)","v":""},{"$f":"IF('2.Logbook'!AS218=\"\",\"\",'2.Logbook'!AS218)","v":""},{"$f":"IF('2.Logbook'!AT218=\"\",\"\",'2.Logbook'!AT218)","v":""},{"$f":"IF('2.Logbook'!AU218=\"\",\"\",'2.Logbook'!AU218)","v":""},{"$f":"IF('2.Logbook'!AV218=\"\",\"\",'2.Logbook'!AV218)","v":""},{"$f":"IF('2.Logbook'!AW218=\"\",\"\",'2.Logbook'!AW218)","v":""},{"$f":"IF('2.Logbook'!AX218=\"\",\"\",'2.Logbook'!AX218)","v":""},{"$f":"IF('2.Logbook'!AY218=\"\",\"\",'2.Logbook'!AY218)","v":""}]
[{"$f":"IF('2.Logbook'!$A219=\"\",\"\",'2.Logbook'!$A219)","v":""},{"$f":"IF('2.Logbook'!$B219=\"\",\"\",'2.Logbook'!$B219)","v":""},{"$f":"IF('2.Logbook'!AH219=\"\",\"\",'2.Logbook'!AH219)","v":""},{"$f":"IF('2.Logbook'!AI219=\"\",\"\",'2.Logbook'!AI219)","v":""},{"$f":"IF('2.Logbook'!AJ219=\"\",\"\",'2.Logbook'!AJ219)","v":""},{"$f":"IF('2.Logbook'!AK219=\"\",\"\",'2.Logbook'!AK219)","v":""},{"$f":"IF('2.Logbook'!AL219=\"\",\"\",'2.Logbook'!AL219)","v":""},{"$f":"IF('2.Logbook'!AM219=\"\",\"\",'2.Logbook'!AM219)","v":""},{"$f":"IF('2.Logbook'!AN219=\"\",\"\",'2.Logbook'!AN219)","v":""},{"$f":"IF('2.Logbook'!AO219=\"\",\"\",'2.Logbook'!AO219)","v":""},{"$f":"IF('2.Logbook'!AP219=\"\",\"\",'2.Logbook'!AP219)","v":""},{"$f":"IF('2.Logbook'!AQ219=\"\",\"\",'2.Logbook'!AQ219)","v":""},{"$f":"IF('2.Logbook'!AR219=\"\",\"\",'2.Logbook'!AR219)","v":""},{"$f":"IF('2.Logbook'!AS219=\"\",\"\",'2.Logbook'!AS219)","v":""},{"$f":"IF('2.Logbook'!AT219=\"\",\"\",'2.Logbook'!AT219)","v":""},{"$f":"IF('2.Logbook'!AU219=\"\",\"\",'2.Logbook'!AU219)","v":""},{"$f":"IF('2.Logbook'!AV219=\"\",\"\",'2.Logbook'!AV219)","v":""},{"$f":"IF('2.Logbook'!AW219=\"\",\"\",'2.Logbook'!AW219)","v":""},{"$f":"IF('2.Logbook'!AX219=\"\",\"\",'2.Logbook'!AX219)","v":""},{"$f":"IF('2.Logbook'!AY219=\"\",\"\",'2.Logbook'!AY219)","v":""}]
[{"$f":"IF('2.Logbook'!$A220=\"\",\"\",'2.Logbook'!$A220)","v":""},{"$f":"IF('2.Logbook'!$B220=\"\",\"\",'2.Logbook'!$B220)","v":""},{"$f":"IF('2.Logbook'!AH220=\"\",\"\",'2.Logbook'!AH220)","v":""},{"$f":"IF('2.Logbook'!AI220=\"\",\"\",'2.Logbook'!AI220)","v":""},{"$f":"IF('2.Logbook'!AJ220=\"\",\"\",'2.Logbook'!AJ220)","v":""},{"$f":"IF('2.Logbook'!AK220=\"\",\"\",'2.Logbook'!AK220)","v":""},{"$f":"IF('2.Logbook'!AL220=\"\",\"\",'2.Logbook'!AL220)","v":""},{"$f":"IF('2.Logbook'!AM220=\"\",\"\",'2.Logbook'!AM220)","v":""},{"$f":"IF('2.Logbook'!AN220=\"\",\"\",'2.Logbook'!AN220)","v":""},{"$f":"IF('2.Logbook'!AO220=\"\",\"\",'2.Logbook'!AO220)","v":""},{"$f":"IF('2.Logbook'!AP220=\"\",\"\",'2.Logbook'!AP220)","v":""},{"$f":"IF('2.Logbook'!AQ220=\"\",\"\",'2.Logbook'!AQ220)","v":""},{"$f":"IF('2.Logbook'!AR220=\"\",\"\",'2.Logbook'!AR220)","v":""},{"$f":"IF('2.Logbook'!AS220=\"\",\"\",'2.Logbook'!AS220)","v":""},{"$f":"IF('2.Logbook'!AT220=\"\",\"\",'2.Logbook'!AT220)","v":""},{"$f":"IF('2.Logbook'!AU220=\"\",\"\",'2.Logbook'!AU220)","v":""},{"$f":"IF('2.Logbook'!AV220=\"\",\"\",'2.Logbook'!AV220)","v":""},{"$f":"IF('2.Logbook'!AW220=\"\",\"\",'2.Logbook'!AW220)","v":""},{"$f":"IF('2.Logbook'!AX220=\"\",\"\",'2.Logbook'!AX220)","v":""},{"$f":"IF('2.Logbook'!AY220=\"\",\"\",'2.Logbook'!AY220)","v":""}]
[{"$f":"IF('2.Logbook'!$A221=\"\",\"\",'2.Logbook'!$A221)","v":""},{"$f":"IF('2.Logbook'!$B221=\"\",\"\",'2.Logbook'!$B221)","v":""},{"$f":"IF('2.Logbook'!AH221=\"\",\"\",'2.Logbook'!AH221)","v":""},{"$f":"IF('2.Logbook'!AI221=\"\",\"\",'2.Logbook'!AI221)","v":""},{"$f":"IF('2.Logbook'!AJ221=\"\",\"\",'2.Logbook'!AJ221)","v":""},{"$f":"IF('2.Logbook'!AK221=\"\",\"\",'2.Logbook'!AK221)","v":""},{"$f":"IF('2.Logbook'!AL221=\"\",\"\",'2.Logbook'!AL221)","v":""},{"$f":"IF('2.Logbook'!AM221=\"\",\"\",'2.Logbook'!AM221)","v":""},{"$f":"IF('2.Logbook'!AN221=\"\",\"\",'2.Logbook'!AN221)","v":""},{"$f":"IF('2.Logbook'!AO221=\"\",\"\",'2.Logbook'!AO221)","v":""},{"$f":"IF('2.Logbook'!AP221=\"\",\"\",'2.Logbook'!AP221)","v":""},{"$f":"IF('2.Logbook'!AQ221=\"\",\"\",'2.Logbook'!AQ221)","v":""},{"$f":"IF('2.Logbook'!AR221=\"\",\"\",'2.Logbook'!AR221)","v":""},{"$f":"IF('2.Logbook'!AS221=\"\",\"\",'2.Logbook'!AS221)","v":""},{"$f":"IF('2.Logbook'!AT221=\"\",\"\",'2.Logbook'!AT221)","v":""},{"$f":"IF('2.Logbook'!AU221=\"\",\"\",'2.Logbook'!AU221)","v":""},{"$f":"IF('2.Logbook'!AV221=\"\",\"\",'2.Logbook'!AV221)","v":""},{"$f":"IF('2.Logbook'!AW221=\"\",\"\",'2.Logbook'!AW221)","v":""},{"$f":"IF('2.Logbook'!AX221=\"\",\"\",'2.Logbook'!AX221)","v":""},{"$f":"IF('2.Logbook'!AY221=\"\",\"\",'2.Logbook'!AY221)","v":""}]
[{"$f":"IF('2.Logbook'!$A222=\"\",\"\",'2.Logbook'!$A222)","v":""},{"$f":"IF('2.Logbook'!$B222=\"\",\"\",'2.Logbook'!$B222)","v":""},{"$f":"IF('2.Logbook'!AH222=\"\",\"\",'2.Logbook'!AH222)","v":""},{"$f":"IF('2.Logbook'!AI222=\"\",\"\",'2.Logbook'!AI222)","v":""},{"$f":"IF('2.Logbook'!AJ222=\"\",\"\",'2.Logbook'!AJ222)","v":""},{"$f":"IF('2.Logbook'!AK222=\"\",\"\",'2.Logbook'!AK222)","v":""},{"$f":"IF('2.Logbook'!AL222=\"\",\"\",'2.Logbook'!AL222)","v":""},{"$f":"IF('2.Logbook'!AM222=\"\",\"\",'2.Logbook'!AM222)","v":""},{"$f":"IF('2.Logbook'!AN222=\"\",\"\",'2.Logbook'!AN222)","v":""},{"$f":"IF('2.Logbook'!AO222=\"\",\"\",'2.Logbook'!AO222)","v":""},{"$f":"IF('2.Logbook'!AP222=\"\",\"\",'2.Logbook'!AP222)","v":""},{"$f":"IF('2.Logbook'!AQ222=\"\",\"\",'2.Logbook'!AQ222)","v":""},{"$f":"IF('2.Logbook'!AR222=\"\",\"\",'2.Logbook'!AR222)","v":""},{"$f":"IF('2.Logbook'!AS222=\"\",\"\",'2.Logbook'!AS222)","v":""},{"$f":"IF('2.Logbook'!AT222=\"\",\"\",'2.Logbook'!AT222)","v":""},{"$f":"IF('2.Logbook'!AU222=\"\",\"\",'2.Logbook'!AU222)","v":""},{"$f":"IF('2.Logbook'!AV222=\"\",\"\",'2.Logbook'!AV222)","v":""},{"$f":"IF('2.Logbook'!AW222=\"\",\"\",'2.Logbook'!AW222)","v":""},{"$f":"IF('2.Logbook'!AX222=\"\",\"\",'2.Logbook'!AX222)","v":""},{"$f":"IF('2.Logbook'!AY222=\"\",\"\",'2.Logbook'!AY222)","v":""}]
[{"$f":"IF('2.Logbook'!$A223=\"\",\"\",'2.Logbook'!$A223)","v":""},{"$f":"IF('2.Logbook'!$B223=\"\",\"\",'2.Logbook'!$B223)","v":""},{"$f":"IF('2.Logbook'!AH223=\"\",\"\",'2.Logbook'!AH223)","v":""},{"$f":"IF('2.Logbook'!AI223=\"\",\"\",'2.Logbook'!AI223)","v":""},{"$f":"IF('2.Logbook'!AJ223=\"\",\"\",'2.Logbook'!AJ223)","v":""},{"$f":"IF('2.Logbook'!AK223=\"\",\"\",'2.Logbook'!AK223)","v":""},{"$f":"IF('2.Logbook'!AL223=\"\",\"\",'2.Logbook'!AL223)","v":""},{"$f":"IF('2.Logbook'!AM223=\"\",\"\",'2.Logbook'!AM223)","v":""},{"$f":"IF('2.Logbook'!AN223=\"\",\"\",'2.Logbook'!AN223)","v":""},{"$f":"IF('2.Logbook'!AO223=\"\",\"\",'2.Logbook'!AO223)","v":""},{"$f":"IF('2.Logbook'!AP223=\"\",\"\",'2.Logbook'!AP223)","v":""},{"$f":"IF('2.Logbook'!AQ223=\"\",\"\",'2.Logbook'!AQ223)","v":""},{"$f":"IF('2.Logbook'!AR223=\"\",\"\",'2.Logbook'!AR223)","v":""},{"$f":"IF('2.Logbook'!AS223=\"\",\"\",'2.Logbook'!AS223)","v":""},{"$f":"IF('2.Logbook'!AT223=\"\",\"\",'2.Logbook'!AT223)","v":""},{"$f":"IF('2.Logbook'!AU223=\"\",\"\",'2.Logbook'!AU223)","v":""},{"$f":"IF('2.Logbook'!AV223=\"\",\"\",'2.Logbook'!AV223)","v":""},{"$f":"IF('2.Logbook'!AW223=\"\",\"\",'2.Logbook'!AW223)","v":""},{"$f":"IF('2.Logbook'!AX223=\"\",\"\",'2.Logbook'!AX223)","v":""},{"$f":"IF('2.Logbook'!AY223=\"\",\"\",'2.Logbook'!AY223)","v":""}]
[{"$f":"IF('2.Logbook'!$A224=\"\",\"\",'2.Logbook'!$A224)","v":""},{"$f":"IF('2.Logbook'!$B224=\"\",\"\",'2.Logbook'!$B224)","v":""},{"$f":"IF('2.Logbook'!AH224=\"\",\"\",'2.Logbook'!AH224)","v":""},{"$f":"IF('2.Logbook'!AI224=\"\",\"\",'2.Logbook'!AI224)","v":""},{"$f":"IF('2.Logbook'!AJ224=\"\",\"\",'2.Logbook'!AJ224)","v":""},{"$f":"IF('2.Logbook'!AK224=\"\",\"\",'2.Logbook'!AK224)","v":""},{"$f":"IF('2.Logbook'!AL224=\"\",\"\",'2.Logbook'!AL224)","v":""},{"$f":"IF('2.Logbook'!AM224=\"\",\"\",'2.Logbook'!AM224)","v":""},{"$f":"IF('2.Logbook'!AN224=\"\",\"\",'2.Logbook'!AN224)","v":""},{"$f":"IF('2.Logbook'!AO224=\"\",\"\",'2.Logbook'!AO224)","v":""},{"$f":"IF('2.Logbook'!AP224=\"\",\"\",'2.Logbook'!AP224)","v":""},{"$f":"IF('2.Logbook'!AQ224=\"\",\"\",'2.Logbook'!AQ224)","v":""},{"$f":"IF('2.Logbook'!AR224=\"\",\"\",'2.Logbook'!AR224)","v":""},{"$f":"IF('2.Logbook'!AS224=\"\",\"\",'2.Logbook'!AS224)","v":""},{"$f":"IF('2.Logbook'!AT224=\"\",\"\",'2.Logbook'!AT224)","v":""},{"$f":"IF('2.Logbook'!AU224=\"\",\"\",'2.Logbook'!AU224)","v":""},{"$f":"IF('2.Logbook'!AV224=\"\",\"\",'2.Logbook'!AV224)","v":""},{"$f":"IF('2.Logbook'!AW224=\"\",\"\",'2.Logbook'!AW224)","v":""},{"$f":"IF('2.Logbook'!AX224=\"\",\"\",'2.Logbook'!AX224)","v":""},{"$f":"IF('2.Logbook'!AY224=\"\",\"\",'2.Logbook'!AY224)","v":""}]
[{"$f":"IF('2.Logbook'!$A225=\"\",\"\",'2.Logbook'!$A225)","v":""},{"$f":"IF('2.Logbook'!$B225=\"\",\"\",'2.Logbook'!$B225)","v":""},{"$f":"IF('2.Logbook'!AH225=\"\",\"\",'2.Logbook'!AH225)","v":""},{"$f":"IF('2.Logbook'!AI225=\"\",\"\",'2.Logbook'!AI225)","v":""},{"$f":"IF('2.Logbook'!AJ225=\"\",\"\",'2.Logbook'!AJ225)","v":""},{"$f":"IF('2.Logbook'!AK225=\"\",\"\",'2.Logbook'!AK225)","v":""},{"$f":"IF('2.Logbook'!AL225=\"\",\"\",'2.Logbook'!AL225)","v":""},{"$f":"IF('2.Logbook'!AM225=\"\",\"\",'2.Logbook'!AM225)","v":""},{"$f":"IF('2.Logbook'!AN225=\"\",\"\",'2.Logbook'!AN225)","v":""},{"$f":"IF('2.Logbook'!AO225=\"\",\"\",'2.Logbook'!AO225)","v":""},{"$f":"IF('2.Logbook'!AP225=\"\",\"\",'2.Logbook'!AP225)","v":""},{"$f":"IF('2.Logbook'!AQ225=\"\",\"\",'2.Logbook'!AQ225)","v":""},{"$f":"IF('2.Logbook'!AR225=\"\",\"\",'2.Logbook'!AR225)","v":""},{"$f":"IF('2.Logbook'!AS225=\"\",\"\",'2.Logbook'!AS225)","v":""},{"$f":"IF('2.Logbook'!AT225=\"\",\"\",'2.Logbook'!AT225)","v":""},{"$f":"IF('2.Logbook'!AU225=\"\",\"\",'2.Logbook'!AU225)","v":""},{"$f":"IF('2.Logbook'!AV225=\"\",\"\",'2.Logbook'!AV225)","v":""},{"$f":"IF('2.Logbook'!AW225=\"\",\"\",'2.Logbook'!AW225)","v":""},{"$f":"IF('2.Logbook'!AX225=\"\",\"\",'2.Logbook'!AX225)","v":""},{"$f":"IF('2.Logbook'!AY225=\"\",\"\",'2.Logbook'!AY225)","v":""}]
[{"$f":"IF('2.Logbook'!$A226=\"\",\"\",'2.Logbook'!$A226)","v":""},{"$f":"IF('2.Logbook'!$B226=\"\",\"\",'2.Logbook'!$B226)","v":""},{"$f":"IF('2.Logbook'!AH226=\"\",\"\",'2.Logbook'!AH226)","v":""},{"$f":"IF('2.Logbook'!AI226=\"\",\"\",'2.Logbook'!AI226)","v":""},{"$f":"IF('2.Logbook'!AJ226=\"\",\"\",'2.Logbook'!AJ226)","v":""},{"$f":"IF('2.Logbook'!AK226=\"\",\"\",'2.Logbook'!AK226)","v":""},{"$f":"IF('2.Logbook'!AL226=\"\",\"\",'2.Logbook'!AL226)","v":""},{"$f":"IF('2.Logbook'!AM226=\"\",\"\",'2.Logbook'!AM226)","v":""},{"$f":"IF('2.Logbook'!AN226=\"\",\"\",'2.Logbook'!AN226)","v":""},{"$f":"IF('2.Logbook'!AO226=\"\",\"\",'2.Logbook'!AO226)","v":""},{"$f":"IF('2.Logbook'!AP226=\"\",\"\",'2.Logbook'!AP226)","v":""},{"$f":"IF('2.Logbook'!AQ226=\"\",\"\",'2.Logbook'!AQ226)","v":""},{"$f":"IF('2.Logbook'!AR226=\"\",\"\",'2.Logbook'!AR226)","v":""},{"$f":"IF('2.Logbook'!AS226=\"\",\"\",'2.Logbook'!AS226)","v":""},{"$f":"IF('2.Logbook'!AT226=\"\",\"\",'2.Logbook'!AT226)","v":""},{"$f":"IF('2.Logbook'!AU226=\"\",\"\",'2.Logbook'!AU226)","v":""},{"$f":"IF('2.Logbook'!AV226=\"\",\"\",'2.Logbook'!AV226)","v":""},{"$f":"IF('2.Logbook'!AW226=\"\",\"\",'2.Logbook'!AW226)","v":""},{"$f":"IF('2.Logbook'!AX226=\"\",\"\",'2.Logbook'!AX226)","v":""},{"$f":"IF('2.Logbook'!AY226=\"\",\"\",'2.Logbook'!AY226)","v":""}]
[{"$f":"IF('2.Logbook'!$A227=\"\",\"\",'2.Logbook'!$A227)","v":""},{"$f":"IF('2.Logbook'!$B227=\"\",\"\",'2.Logbook'!$B227)","v":""},{"$f":"IF('2.Logbook'!AH227=\"\",\"\",'2.Logbook'!AH227)","v":""},{"$f":"IF('2.Logbook'!AI227=\"\",\"\",'2.Logbook'!AI227)","v":""},{"$f":"IF('2.Logbook'!AJ227=\"\",\"\",'2.Logbook'!AJ227)","v":""},{"$f":"IF('2.Logbook'!AK227=\"\",\"\",'2.Logbook'!AK227)","v":""},{"$f":"IF('2.Logbook'!AL227=\"\",\"\",'2.Logbook'!AL227)","v":""},{"$f":"IF('2.Logbook'!AM227=\"\",\"\",'2.Logbook'!AM227)","v":""},{"$f":"IF('2.Logbook'!AN227=\"\",\"\",'2.Logbook'!AN227)","v":""},{"$f":"IF('2.Logbook'!AO227=\"\",\"\",'2.Logbook'!AO227)","v":""},{"$f":"IF('2.Logbook'!AP227=\"\",\"\",'2.Logbook'!AP227)","v":""},{"$f":"IF('2.Logbook'!AQ227=\"\",\"\",'2.Logbook'!AQ227)","v":""},{"$f":"IF('2.Logbook'!AR227=\"\",\"\",'2.Logbook'!AR227)","v":""},{"$f":"IF('2.Logbook'!AS227=\"\",\"\",'2.Logbook'!AS227)","v":""},{"$f":"IF('2.Logbook'!AT227=\"\",\"\",'2.Logbook'!AT227)","v":""},{"$f":"IF('2.Logbook'!AU227=\"\",\"\",'2.Logbook'!AU227)","v":""},{"$f":"IF('2.Logbook'!AV227=\"\",\"\",'2.Logbook'!AV227)","v":""},{"$f":"IF('2.Logbook'!AW227=\"\",\"\",'2.Logbook'!AW227)","v":""},{"$f":"IF('2.Logbook'!AX227=\"\",\"\",'2.Logbook'!AX227)","v":""},{"$f":"IF('2.Logbook'!AY227=\"\",\"\",'2.Logbook'!AY227)","v":""}]
[{"$f":"IF('2.Logbook'!$A228=\"\",\"\",'2.Logbook'!$A228)","v":""},{"$f":"IF('2.Logbook'!$B228=\"\",\"\",'2.Logbook'!$B228)","v":""},{"$f":"IF('2.Logbook'!AH228=\"\",\"\",'2.Logbook'!AH228)","v":""},{"$f":"IF('2.Logbook'!AI228=\"\",\"\",'2.Logbook'!AI228)","v":""},{"$f":"IF('2.Logbook'!AJ228=\"\",\"\",'2.Logbook'!AJ228)","v":""},{"$f":"IF('2.Logbook'!AK228=\"\",\"\",'2.Logbook'!AK228)","v":""},{"$f":"IF('2.Logbook'!AL228=\"\",\"\",'2.Logbook'!AL228)","v":""},{"$f":"IF('2.Logbook'!AM228=\"\",\"\",'2.Logbook'!AM228)","v":""},{"$f":"IF('2.Logbook'!AN228=\"\",\"\",'2.Logbook'!AN228)","v":""},{"$f":"IF('2.Logbook'!AO228=\"\",\"\",'2.Logbook'!AO228)","v":""},{"$f":"IF('2.Logbook'!AP228=\"\",\"\",'2.Logbook'!AP228)","v":""},{"$f":"IF('2.Logbook'!AQ228=\"\",\"\",'2.Logbook'!AQ228)","v":""},{"$f":"IF('2.Logbook'!AR228=\"\",\"\",'2.Logbook'!AR228)","v":""},{"$f":"IF('2.Logbook'!AS228=\"\",\"\",'2.Logbook'!AS228)","v":""},{"$f":"IF('2.Logbook'!AT228=\"\",\"\",'2.Logbook'!AT228)","v":""},{"$f":"IF('2.Logbook'!AU228=\"\",\"\",'2.Logbook'!AU228)","v":""},{"$f":"IF('2.Logbook'!AV228=\"\",\"\",'2.Logbook'!AV228)","v":""},{"$f":"IF('2.Logbook'!AW228=\"\",\"\",'2.Logbook'!AW228)","v":""},{"$f":"IF('2.Logbook'!AX228=\"\",\"\",'2.Logbook'!AX228)","v":""},{"$f":"IF('2.Logbook'!AY228=\"\",\"\",'2.Logbook'!AY228)","v":""}]
[{"$f":"IF('2.Logbook'!$A229=\"\",\"\",'2.Logbook'!$A229)","v":""},{"$f":"IF('2.Logbook'!$B229=\"\",\"\",'2.Logbook'!$B229)","v":""},{"$f":"IF('2.Logbook'!AH229=\"\",\"\",'2.Logbook'!AH229)","v":""},{"$f":"IF('2.Logbook'!AI229=\"\",\"\",'2.Logbook'!AI229)","v":""},{"$f":"IF('2.Logbook'!AJ229=\"\",\"\",'2.Logbook'!AJ229)","v":""},{"$f":"IF('2.Logbook'!AK229=\"\",\"\",'2.Logbook'!AK229)","v":""},{"$f":"IF('2.Logbook'!AL229=\"\",\"\",'2.Logbook'!AL229)","v":""},{"$f":"IF('2.Logbook'!AM229=\"\",\"\",'2.Logbook'!AM229)","v":""},{"$f":"IF('2.Logbook'!AN229=\"\",\"\",'2.Logbook'!AN229)","v":""},{"$f":"IF('2.Logbook'!AO229=\"\",\"\",'2.Logbook'!AO229)","v":""},{"$f":"IF('2.Logbook'!AP229=\"\",\"\",'2.Logbook'!AP229)","v":""},{"$f":"IF('2.Logbook'!AQ229=\"\",\"\",'2.Logbook'!AQ229)","v":""},{"$f":"IF('2.Logbook'!AR229=\"\",\"\",'2.Logbook'!AR229)","v":""},{"$f":"IF('2.Logbook'!AS229=\"\",\"\",'2.Logbook'!AS229)","v":""},{"$f":"IF('2.Logbook'!AT229=\"\",\"\",'2.Logbook'!AT229)","v":""},{"$f":"IF('2.Logbook'!AU229=\"\",\"\",'2.Logbook'!AU229)","v":""},{"$f":"IF('2.Logbook'!AV229=\"\",\"\",'2.Logbook'!AV229)","v":""},{"$f":"IF('2.Logbook'!AW229=\"\",\"\",'2.Logbook'!AW229)","v":""},{"$f":"IF('2.Logbook'!AX229=\"\",\"\",'2.Logbook'!AX229)","v":""},{"$f":"IF('2.Logbook'!AY229=\"\",\"\",'2.Logbook'!AY229)","v":""}]
[{"$f":"IF('2.Logbook'!$A230=\"\",\"\",'2.Logbook'!$A230)","v":""},{"$f":"IF('2.Logbook'!$B230=\"\",\"\",'2.Logbook'!$B230)","v":""},{"$f":"IF('2.Logbook'!AH230=\"\",\"\",'2.Logbook'!AH230)","v":""},{"$f":"IF('2.Logbook'!AI230=\"\",\"\",'2.Logbook'!AI230)","v":""},{"$f":"IF('2.Logbook'!AJ230=\"\",\"\",'2.Logbook'!AJ230)","v":""},{"$f":"IF('2.Logbook'!AK230=\"\",\"\",'2.Logbook'!AK230)","v":""},{"$f":"IF('2.Logbook'!AL230=\"\",\"\",'2.Logbook'!AL230)","v":""},{"$f":"IF('2.Logbook'!AM230=\"\",\"\",'2.Logbook'!AM230)","v":""},{"$f":"IF('2.Logbook'!AN230=\"\",\"\",'2.Logbook'!AN230)","v":""},{"$f":"IF('2.Logbook'!AO230=\"\",\"\",'2.Logbook'!AO230)","v":""},{"$f":"IF('2.Logbook'!AP230=\"\",\"\",'2.Logbook'!AP230)","v":""},{"$f":"IF('2.Logbook'!AQ230=\"\",\"\",'2.Logbook'!AQ230)","v":""},{"$f":"IF('2.Logbook'!AR230=\"\",\"\",'2.Logbook'!AR230)","v":""},{"$f":"IF('2.Logbook'!AS230=\"\",\"\",'2.Logbook'!AS230)","v":""},{"$f":"IF('2.Logbook'!AT230=\"\",\"\",'2.Logbook'!AT230)","v":""},{"$f":"IF('2.Logbook'!AU230=\"\",\"\",'2.Logbook'!AU230)","v":""},{"$f":"IF('2.Logbook'!AV230=\"\",\"\",'2.Logbook'!AV230)","v":""},{"$f":"IF('2.Logbook'!AW230=\"\",\"\",'2.Logbook'!AW230)","v":""},{"$f":"IF('2.Logbook'!AX230=\"\",\"\",'2.Logbook'!AX230)","v":""},{"$f":"IF('2.Logbook'!AY230=\"\",\"\",'2.Logbook'!AY230)","v":""}]
[{"$f":"IF('2.Logbook'!$A231=\"\",\"\",'2.Logbook'!$A231)","v":""},{"$f":"IF('2.Logbook'!$B231=\"\",\"\",'2.Logbook'!$B231)","v":""},{"$f":"IF('2.Logbook'!AH231=\"\",\"\",'2.Logbook'!AH231)","v":""},{"$f":"IF('2.Logbook'!AI231=\"\",\"\",'2.Logbook'!AI231)","v":""},{"$f":"IF('2.Logbook'!AJ231=\"\",\"\",'2.Logbook'!AJ231)","v":""},{"$f":"IF('2.Logbook'!AK231=\"\",\"\",'2.Logbook'!AK231)","v":""},{"$f":"IF('2.Logbook'!AL231=\"\",\"\",'2.Logbook'!AL231)","v":""},{"$f":"IF('2.Logbook'!AM231=\"\",\"\",'2.Logbook'!AM231)","v":""},{"$f":"IF('2.Logbook'!AN231=\"\",\"\",'2.Logbook'!AN231)","v":""},{"$f":"IF('2.Logbook'!AO231=\"\",\"\",'2.Logbook'!AO231)","v":""},{"$f":"IF('2.Logbook'!AP231=\"\",\"\",'2.Logbook'!AP231)","v":""},{"$f":"IF('2.Logbook'!AQ231=\"\",\"\",'2.Logbook'!AQ231)","v":""},{"$f":"IF('2.Logbook'!AR231=\"\",\"\",'2.Logbook'!AR231)","v":""},{"$f":"IF('2.Logbook'!AS231=\"\",\"\",'2.Logbook'!AS231)","v":""},{"$f":"IF('2.Logbook'!AT231=\"\",\"\",'2.Logbook'!AT231)","v":""},{"$f":"IF('2.Logbook'!AU231=\"\",\"\",'2.Logbook'!AU231)","v":""},{"$f":"IF('2.Logbook'!AV231=\"\",\"\",'2.Logbook'!AV231)","v":""},{"$f":"IF('2.Logbook'!AW231=\"\",\"\",'2.Logbook'!AW231)","v":""},{"$f":"IF('2.Logbook'!AX231=\"\",\"\",'2.Logbook'!AX231)","v":""},{"$f":"IF('2.Logbook'!AY231=\"\",\"\",'2.Logbook'!AY231)","v":""}]
[{"$f":"IF('2.Logbook'!$A232=\"\",\"\",'2.Logbook'!$A232)","v":""},{"$f":"IF('2.Logbook'!$B232=\"\",\"\",'2.Logbook'!$B232)","v":""},{"$f":"IF('2.Logbook'!AH232=\"\",\"\",'2.Logbook'!AH232)","v":""},{"$f":"IF('2.Logbook'!AI232=\"\",\"\",'2.Logbook'!AI232)","v":""},{"$f":"IF('2.Logbook'!AJ232=\"\",\"\",'2.Logbook'!AJ232)","v":""},{"$f":"IF('2.Logbook'!AK232=\"\",\"\",'2.Logbook'!AK232)","v":""},{"$f":"IF('2.Logbook'!AL232=\"\",\"\",'2.Logbook'!AL232)","v":""},{"$f":"IF('2.Logbook'!AM232=\"\",\"\",'2.Logbook'!AM232)","v":""},{"$f":"IF('2.Logbook'!AN232=\"\",\"\",'2.Logbook'!AN232)","v":""},{"$f":"IF('2.Logbook'!AO232=\"\",\"\",'2.Logbook'!AO232)","v":""},{"$f":"IF('2.Logbook'!AP232=\"\",\"\",'2.Logbook'!AP232)","v":""},{"$f":"IF('2.Logbook'!AQ232=\"\",\"\",'2.Logbook'!AQ232)","v":""},{"$f":"IF('2.Logbook'!AR232=\"\",\"\",'2.Logbook'!AR232)","v":""},{"$f":"IF('2.Logbook'!AS232=\"\",\"\",'2.Logbook'!AS232)","v":""},{"$f":"IF('2.Logbook'!AT232=\"\",\"\",'2.Logbook'!AT232)","v":""},{"$f":"IF('2.Logbook'!AU232=\"\",\"\",'2.Logbook'!AU232)","v":""},{"$f":"IF('2.Logbook'!AV232=\"\",\"\",'2.Logbook'!AV232)","v":""},{"$f":"IF('2.Logbook'!AW232=\"\",\"\",'2.Logbook'!AW232)","v":""},{"$f":"IF('2.Logbook'!AX232=\"\",\"\",'2.Logbook'!AX232)","v":""},{"$f":"IF('2.Logbook'!AY232=\"\",\"\",'2.Logbook'!AY232)","v":""}]
[{"$f":"IF('2.Logbook'!$A233=\"\",\"\",'2.Logbook'!$A233)","v":""},{"$f":"IF('2.Logbook'!$B233=\"\",\"\",'2.Logbook'!$B233)","v":""},{"$f":"IF('2.Logbook'!AH233=\"\",\"\",'2.Logbook'!AH233)","v":""},{"$f":"IF('2.Logbook'!AI233=\"\",\"\",'2.Logbook'!AI233)","v":""},{"$f":"IF('2.Logbook'!AJ233=\"\",\"\",'2.Logbook'!AJ233)","v":""},{"$f":"IF('2.Logbook'!AK233=\"\",\"\",'2.Logbook'!AK233)","v":""},{"$f":"IF('2.Logbook'!AL233=\"\",\"\",'2.Logbook'!AL233)","v":""},{"$f":"IF('2.Logbook'!AM233=\"\",\"\",'2.Logbook'!AM233)","v":""},{"$f":"IF('2.Logbook'!AN233=\"\",\"\",'2.Logbook'!AN233)","v":""},{"$f":"IF('2.Logbook'!AO233=\"\",\"\",'2.Logbook'!AO233)","v":""},{"$f":"IF('2.Logbook'!AP233=\"\",\"\",'2.Logbook'!AP233)","v":""},{"$f":"IF('2.Logbook'!AQ233=\"\",\"\",'2.Logbook'!AQ233)","v":""},{"$f":"IF('2.Logbook'!AR233=\"\",\"\",'2.Logbook'!AR233)","v":""},{"$f":"IF('2.Logbook'!AS233=\"\",\"\",'2.Logbook'!AS233)","v":""},{"$f":"IF('2.Logbook'!AT233=\"\",\"\",'2.Logbook'!AT233)","v":""},{"$f":"IF('2.Logbook'!AU233=\"\",\"\",'2.Logbook'!AU233)","v":""},{"$f":"IF('2.Logbook'!AV233=\"\",\"\",'2.Logbook'!AV233)","v":""},{"$f":"IF('2.Logbook'!AW233=\"\",\"\",'2.Logbook'!AW233)","v":""},{"$f":"IF('2.Logbook'!AX233=\"\",\"\",'2.Logbook'!AX233)","v":""},{"$f":"IF('2.Logbook'!AY233=\"\",\"\",'2.Logbook'!AY233)","v":""}]
[{"$f":"IF('2.Logbook'!$A234=\"\",\"\",'2.Logbook'!$A234)","v":""},{"$f":"IF('2.Logbook'!$B234=\"\",\"\",'2.Logbook'!$B234)","v":""},{"$f":"IF('2.Logbook'!AH234=\"\",\"\",'2.Logbook'!AH234)","v":""},{"$f":"IF('2.Logbook'!AI234=\"\",\"\",'2.Logbook'!AI234)","v":""},{"$f":"IF('2.Logbook'!AJ234=\"\",\"\",'2.Logbook'!AJ234)","v":""},{"$f":"IF('2.Logbook'!AK234=\"\",\"\",'2.Logbook'!AK234)","v":""},{"$f":"IF('2.Logbook'!AL234=\"\",\"\",'2.Logbook'!AL234)","v":""},{"$f":"IF('2.Logbook'!AM234=\"\",\"\",'2.Logbook'!AM234)","v":""},{"$f":"IF('2.Logbook'!AN234=\"\",\"\",'2.Logbook'!AN234)","v":""},{"$f":"IF('2.Logbook'!AO234=\"\",\"\",'2.Logbook'!AO234)","v":""},{"$f":"IF('2.Logbook'!AP234=\"\",\"\",'2.Logbook'!AP234)","v":""},{"$f":"IF('2.Logbook'!AQ234=\"\",\"\",'2.Logbook'!AQ234)","v":""},{"$f":"IF('2.Logbook'!AR234=\"\",\"\",'2.Logbook'!AR234)","v":""},{"$f":"IF('2.Logbook'!AS234=\"\",\"\",'2.Logbook'!AS234)","v":""},{"$f":"IF('2.Logbook'!AT234=\"\",\"\",'2.Logbook'!AT234)","v":""},{"$f":"IF('2.Logbook'!AU234=\"\",\"\",'2.Logbook'!AU234)","v":""},{"$f":"IF('2.Logbook'!AV234=\"\",\"\",'2.Logbook'!AV234)","v":""},{"$f":"IF('2.Logbook'!AW234=\"\",\"\",'2.Logbook'!AW234)","v":""},{"$f":"IF('2.Logbook'!AX234=\"\",\"\",'2.Logbook'!AX234)","v":""},{"$f":"IF('2.Logbook'!AY234=\"\",\"\",'2.Logbook'!AY234)","v":""}]
[{"$f":"IF('2.Logbook'!$A235=\"\",\"\",'2.Logbook'!$A235)","v":""},{"$f":"IF('2.Logbook'!$B235=\"\",\"\",'2.Logbook'!$B235)","v":""},{"$f":"IF('2.Logbook'!AH235=\"\",\"\",'2.Logbook'!AH235)","v":""},{"$f":"IF('2.Logbook'!AI235=\"\",\"\",'2.Logbook'!AI235)","v":""},{"$f":"IF('2.Logbook'!AJ235=\"\",\"\",'2.Logbook'!AJ235)","v":""},{"$f":"IF('2.Logbook'!AK235=\"\",\"\",'2.Logbook'!AK235)","v":""},{"$f":"IF('2.Logbook'!AL235=\"\",\"\",'2.Logbook'!AL235)","v":""},{"$f":"IF('2.Logbook'!AM235=\"\",\"\",'2.Logbook'!AM235)","v":""},{"$f":"IF('2.Logbook'!AN235=\"\",\"\",'2.Logbook'!AN235)","v":""},{"$f":"IF('2.Logbook'!AO235=\"\",\"\",'2.Logbook'!AO235)","v":""},{"$f":"IF('2.Logbook'!AP235=\"\",\"\",'2.Logbook'!AP235)","v":""},{"$f":"IF('2.Logbook'!AQ235=\"\",\"\",'2.Logbook'!AQ235)","v":""},{"$f":"IF('2.Logbook'!AR235=\"\",\"\",'2.Logbook'!AR235)","v":""},{"$f":"IF('2.Logbook'!AS235=\"\",\"\",'2.Logbook'!AS235)","v":""},{"$f":"IF('2.Logbook'!AT235=\"\",\"\",'2.Logbook'!AT235)","v":""},{"$f":"IF('2.Logbook'!AU235=\"\",\"\",'2.Logbook'!AU235)","v":""},{"$f":"IF('2.Logbook'!AV235=\"\",\"\",'2.Logbook'!AV235)","v":""},{"$f":"IF('2.Logbook'!AW235=\"\",\"\",'2.Logbook'!AW235)","v":""},{"$f":"IF('2.Logbook'!AX235=\"\",\"\",'2.Logbook'!AX235)","v":""},{"$f":"IF('2.Logbook'!AY235=\"\",\"\",'2.Logbook'!AY235)","v":""}]
[{"$f":"IF('2.Logbook'!$A236=\"\",\"\",'2.Logbook'!$A236)","v":""},{"$f":"IF('2.Logbook'!$B236=\"\",\"\",'2.Logbook'!$B236)","v":""},{"$f":"IF('2.Logbook'!AH236=\"\",\"\",'2.Logbook'!AH236)","v":""},{"$f":"IF('2.Logbook'!AI236=\"\",\"\",'2.Logbook'!AI236)","v":""},{"$f":"IF('2.Logbook'!AJ236=\"\",\"\",'2.Logbook'!AJ236)","v":""},{"$f":"IF('2.Logbook'!AK236=\"\",\"\",'2.Logbook'!AK236)","v":""},{"$f":"IF('2.Logbook'!AL236=\"\",\"\",'2.Logbook'!AL236)","v":""},{"$f":"IF('2.Logbook'!AM236=\"\",\"\",'2.Logbook'!AM236)","v":""},{"$f":"IF('2.Logbook'!AN236=\"\",\"\",'2.Logbook'!AN236)","v":""},{"$f":"IF('2.Logbook'!AO236=\"\",\"\",'2.Logbook'!AO236)","v":""},{"$f":"IF('2.Logbook'!AP236=\"\",\"\",'2.Logbook'!AP236)","v":""},{"$f":"IF('2.Logbook'!AQ236=\"\",\"\",'2.Logbook'!AQ236)","v":""},{"$f":"IF('2.Logbook'!AR236=\"\",\"\",'2.Logbook'!AR236)","v":""},{"$f":"IF('2.Logbook'!AS236=\"\",\"\",'2.Logbook'!AS236)","v":""},{"$f":"IF('2.Logbook'!AT236=\"\",\"\",'2.Logbook'!AT236)","v":""},{"$f":"IF('2.Logbook'!AU236=\"\",\"\",'2.Logbook'!AU236)","v":""},{"$f":"IF('2.Logbook'!AV236=\"\",\"\",'2.Logbook'!AV236)","v":""},{"$f":"IF('2.Logbook'!AW236=\"\",\"\",'2.Logbook'!AW236)","v":""},{"$f":"IF('2.Logbook'!AX236=\"\",\"\",'2.Logbook'!AX236)","v":""},{"$f":"IF('2.Logbook'!AY236=\"\",\"\",'2.Logbook'!AY236)","v":""}]
[{"$f":"IF('2.Logbook'!$A237=\"\",\"\",'2.Logbook'!$A237)","v":""},{"$f":"IF('2.Logbook'!$B237=\"\",\"\",'2.Logbook'!$B237)","v":""},{"$f":"IF('2.Logbook'!AH237=\"\",\"\",'2.Logbook'!AH237)","v":""},{"$f":"IF('2.Logbook'!AI237=\"\",\"\",'2.Logbook'!AI237)","v":""},{"$f":"IF('2.Logbook'!AJ237=\"\",\"\",'2.Logbook'!AJ237)","v":""},{"$f":"IF('2.Logbook'!AK237=\"\",\"\",'2.Logbook'!AK237)","v":""},{"$f":"IF('2.Logbook'!AL237=\"\",\"\",'2.Logbook'!AL237)","v":""},{"$f":"IF('2.Logbook'!AM237=\"\",\"\",'2.Logbook'!AM237)","v":""},{"$f":"IF('2.Logbook'!AN237=\"\",\"\",'2.Logbook'!AN237)","v":""},{"$f":"IF('2.Logbook'!AO237=\"\",\"\",'2.Logbook'!AO237)","v":""},{"$f":"IF('2.Logbook'!AP237=\"\",\"\",'2.Logbook'!AP237)","v":""},{"$f":"IF('2.Logbook'!AQ237=\"\",\"\",'2.Logbook'!AQ237)","v":""},{"$f":"IF('2.Logbook'!AR237=\"\",\"\",'2.Logbook'!AR237)","v":""},{"$f":"IF('2.Logbook'!AS237=\"\",\"\",'2.Logbook'!AS237)","v":""},{"$f":"IF('2.Logbook'!AT237=\"\",\"\",'2.Logbook'!AT237)","v":""},{"$f":"IF('2.Logbook'!AU237=\"\",\"\",'2.Logbook'!AU237)","v":""},{"$f":"IF('2.Logbook'!AV237=\"\",\"\",'2.Logbook'!AV237)","v":""},{"$f":"IF('2.Logbook'!AW237=\"\",\"\",'2.Logbook'!AW237)","v":""},{"$f":"IF('2.Logbook'!AX237=\"\",\"\",'2.Logbook'!AX237)","v":""},{"$f":"IF('2.Logbook'!AY237=\"\",\"\",'2.Logbook'!AY237)","v":""}]
[{"$f":"IF('2.Logbook'!$A238=\"\",\"\",'2.Logbook'!$A238)","v":""},{"$f":"IF('2.Logbook'!$B238=\"\",\"\",'2.Logbook'!$B238)","v":""},{"$f":"IF('2.Logbook'!AH238=\"\",\"\",'2.Logbook'!AH238)","v":""},{"$f":"IF('2.Logbook'!AI238=\"\",\"\",'2.Logbook'!AI238)","v":""},{"$f":"IF('2.Logbook'!AJ238=\"\",\"\",'2.Logbook'!AJ238)","v":""},{"$f":"IF('2.Logbook'!AK238=\"\",\"\",'2.Logbook'!AK238)","v":""},{"$f":"IF('2.Logbook'!AL238=\"\",\"\",'2.Logbook'!AL238)","v":""},{"$f":"IF('2.Logbook'!AM238=\"\",\"\",'2.Logbook'!AM238)","v":""},{"$f":"IF('2.Logbook'!AN238=\"\",\"\",'2.Logbook'!AN238)","v":""},{"$f":"IF('2.Logbook'!AO238=\"\",\"\",'2.Logbook'!AO238)","v":""},{"$f":"IF('2.Logbook'!AP238=\"\",\"\",'2.Logbook'!AP238)","v":""},{"$f":"IF('2.Logbook'!AQ238=\"\",\"\",'2.Logbook'!AQ238)","v":""},{"$f":"IF('2.Logbook'!AR238=\"\",\"\",'2.Logbook'!AR238)","v":""},{"$f":"IF('2.Logbook'!AS238=\"\",\"\",'2.Logbook'!AS238)","v":""},{"$f":"IF('2.Logbook'!AT238=\"\",\"\",'2.Logbook'!AT238)","v":""},{"$f":"IF('2.Logbook'!AU238=\"\",\"\",'2.Logbook'!AU238)","v":""},{"$f":"IF('2.Logbook'!AV238=\"\",\"\",'2.Logbook'!AV238)","v":""},{"$f":"IF('2.Logbook'!AW238=\"\",\"\",'2.Logbook'!AW238)","v":""},{"$f":"IF('2.Logbook'!AX238=\"\",\"\",'2.Logbook'!AX238)","v":""},{"$f":"IF('2.Logbook'!AY238=\"\",\"\",'2.Logbook'!AY238)","v":""}]
[{"$f":"IF('2.Logbook'!$A239=\"\",\"\",'2.Logbook'!$A239)","v":""},{"$f":"IF('2.Logbook'!$B239=\"\",\"\",'2.Logbook'!$B239)","v":""},{"$f":"IF('2.Logbook'!AH239=\"\",\"\",'2.Logbook'!AH239)","v":""},{"$f":"IF('2.Logbook'!AI239=\"\",\"\",'2.Logbook'!AI239)","v":""},{"$f":"IF('2.Logbook'!AJ239=\"\",\"\",'2.Logbook'!AJ239)","v":""},{"$f":"IF('2.Logbook'!AK239=\"\",\"\",'2.Logbook'!AK239)","v":""},{"$f":"IF('2.Logbook'!AL239=\"\",\"\",'2.Logbook'!AL239)","v":""},{"$f":"IF('2.Logbook'!AM239=\"\",\"\",'2.Logbook'!AM239)","v":""},{"$f":"IF('2.Logbook'!AN239=\"\",\"\",'2.Logbook'!AN239)","v":""},{"$f":"IF('2.Logbook'!AO239=\"\",\"\",'2.Logbook'!AO239)","v":""},{"$f":"IF('2.Logbook'!AP239=\"\",\"\",'2.Logbook'!AP239)","v":""},{"$f":"IF('2.Logbook'!AQ239=\"\",\"\",'2.Logbook'!AQ239)","v":""},{"$f":"IF('2.Logbook'!AR239=\"\",\"\",'2.Logbook'!AR239)","v":""},{"$f":"IF('2.Logbook'!AS239=\"\",\"\",'2.Logbook'!AS239)","v":""},{"$f":"IF('2.Logbook'!AT239=\"\",\"\",'2.Logbook'!AT239)","v":""},{"$f":"IF('2.Logbook'!AU239=\"\",\"\",'2.Logbook'!AU239)","v":""},{"$f":"IF('2.Logbook'!AV239=\"\",\"\",'2.Logbook'!AV239)","v":""},{"$f":"IF('2.Logbook'!AW239=\"\",\"\",'2.Logbook'!AW239)","v":""},{"$f":"IF('2.Logbook'!AX239=\"\",\"\",'2.Logbook'!AX239)","v":""},{"$f":"IF('2.Logbook'!AY239=\"\",\"\",'2.Logbook'!AY239)","v":""}]
[{"$f":"IF('2.Logbook'!$A240=\"\",\"\",'2.Logbook'!$A240)","v":""},{"$f":"IF('2.Logbook'!$B240=\"\",\"\",'2.Logbook'!$B240)","v":""},{"$f":"IF('2.Logbook'!AH240=\"\",\"\",'2.Logbook'!AH240)","v":""},{"$f":"IF('2.Logbook'!AI240=\"\",\"\",'2.Logbook'!AI240)","v":""},{"$f":"IF('2.Logbook'!AJ240=\"\",\"\",'2.Logbook'!AJ240)","v":""},{"$f":"IF('2.Logbook'!AK240=\"\",\"\",'2.Logbook'!AK240)","v":""},{"$f":"IF('2.Logbook'!AL240=\"\",\"\",'2.Logbook'!AL240)","v":""},{"$f":"IF('2.Logbook'!AM240=\"\",\"\",'2.Logbook'!AM240)","v":""},{"$f":"IF('2.Logbook'!AN240=\"\",\"\",'2.Logbook'!AN240)","v":""},{"$f":"IF('2.Logbook'!AO240=\"\",\"\",'2.Logbook'!AO240)","v":""},{"$f":"IF('2.Logbook'!AP240=\"\",\"\",'2.Logbook'!AP240)","v":""},{"$f":"IF('2.Logbook'!AQ240=\"\",\"\",'2.Logbook'!AQ240)","v":""},{"$f":"IF('2.Logbook'!AR240=\"\",\"\",'2.Logbook'!AR240)","v":""},{"$f":"IF('2.Logbook'!AS240=\"\",\"\",'2.Logbook'!AS240)","v":""},{"$f":"IF('2.Logbook'!AT240=\"\",\"\",'2.Logbook'!AT240)","v":""},{"$f":"IF('2.Logbook'!AU240=\"\",\"\",'2.Logbook'!AU240)","v":""},{"$f":"IF('2.Logbook'!AV240=\"\",\"\",'2.Logbook'!AV240)","v":""},{"$f":"IF('2.Logbook'!AW240=\"\",\"\",'2.Logbook'!AW240)","v":""},{"$f":"IF('2.Logbook'!AX240=\"\",\"\",'2.Logbook'!AX240)","v":""},{"$f":"IF('2.Logbook'!AY240=\"\",\"\",'2.Logbook'!AY240)","v":""}]
[{"$f":"IF('2.Logbook'!$A241=\"\",\"\",'2.Logbook'!$A241)","v":""},{"$f":"IF('2.Logbook'!$B241=\"\",\"\",'2.Logbook'!$B241)","v":""},{"$f":"IF('2.Logbook'!AH241=\"\",\"\",'2.Logbook'!AH241)","v":""},{"$f":"IF('2.Logbook'!AI241=\"\",\"\",'2.Logbook'!AI241)","v":""},{"$f":"IF('2.Logbook'!AJ241=\"\",\"\",'2.Logbook'!AJ241)","v":""},{"$f":"IF('2.Logbook'!AK241=\"\",\"\",'2.Logbook'!AK241)","v":""},{"$f":"IF('2.Logbook'!AL241=\"\",\"\",'2.Logbook'!AL241)","v":""},{"$f":"IF('2.Logbook'!AM241=\"\",\"\",'2.Logbook'!AM241)","v":""},{"$f":"IF('2.Logbook'!AN241=\"\",\"\",'2.Logbook'!AN241)","v":""},{"$f":"IF('2.Logbook'!AO241=\"\",\"\",'2.Logbook'!AO241)","v":""},{"$f":"IF('2.Logbook'!AP241=\"\",\"\",'2.Logbook'!AP241)","v":""},{"$f":"IF('2.Logbook'!AQ241=\"\",\"\",'2.Logbook'!AQ241)","v":""},{"$f":"IF('2.Logbook'!AR241=\"\",\"\",'2.Logbook'!AR241)","v":""},{"$f":"IF('2.Logbook'!AS241=\"\",\"\",'2.Logbook'!AS241)","v":""},{"$f":"IF('2.Logbook'!AT241=\"\",\"\",'2.Logbook'!AT241)","v":""},{"$f":"IF('2.Logbook'!AU241=\"\",\"\",'2.Logbook'!AU241)","v":""},{"$f":"IF('2.Logbook'!AV241=\"\",\"\",'2.Logbook'!AV241)","v":""},{"$f":"IF('2.Logbook'!AW241=\"\",\"\",'2.Logbook'!AW241)","v":""},{"$f":"IF('2.Logbook'!AX241=\"\",\"\",'2.Logbook'!AX241)","v":""},{"$f":"IF('2.Logbook'!AY241=\"\",\"\",'2.Logbook'!AY241)","v":""}]
[{"$f":"IF('2.Logbook'!$A242=\"\",\"\",'2.Logbook'!$A242)","v":""},{"$f":"IF('2.Logbook'!$B242=\"\",\"\",'2.Logbook'!$B242)","v":""},{"$f":"IF('2.Logbook'!AH242=\"\",\"\",'2.Logbook'!AH242)","v":""},{"$f":"IF('2.Logbook'!AI242=\"\",\"\",'2.Logbook'!AI242)","v":""},{"$f":"IF('2.Logbook'!AJ242=\"\",\"\",'2.Logbook'!AJ242)","v":""},{"$f":"IF('2.Logbook'!AK242=\"\",\"\",'2.Logbook'!AK242)","v":""},{"$f":"IF('2.Logbook'!AL242=\"\",\"\",'2.Logbook'!AL242)","v":""},{"$f":"IF('2.Logbook'!AM242=\"\",\"\",'2.Logbook'!AM242)","v":""},{"$f":"IF('2.Logbook'!AN242=\"\",\"\",'2.Logbook'!AN242)","v":""},{"$f":"IF('2.Logbook'!AO242=\"\",\"\",'2.Logbook'!AO242)","v":""},{"$f":"IF('2.Logbook'!AP242=\"\",\"\",'2.Logbook'!AP242)","v":""},{"$f":"IF('2.Logbook'!AQ242=\"\",\"\",'2.Logbook'!AQ242)","v":""},{"$f":"IF('2.Logbook'!AR242=\"\",\"\",'2.Logbook'!AR242)","v":""},{"$f":"IF('2.Logbook'!AS242=\"\",\"\",'2.Logbook'!AS242)","v":""},{"$f":"IF('2.Logbook'!AT242=\"\",\"\",'2.Logbook'!AT242)","v":""},{"$f":"IF('2.Logbook'!AU242=\"\",\"\",'2.Logbook'!AU242)","v":""},{"$f":"IF('2.Logbook'!AV242=\"\",\"\",'2.Logbook'!AV242)","v":""},{"$f":"IF('2.Logbook'!AW242=\"\",\"\",'2.Logbook'!AW242)","v":""},{"$f":"IF('2.Logbook'!AX242=\"\",\"\",'2.Logbook'!AX242)","v":""},{"$f":"IF('2.Logbook'!AY242=\"\",\"\",'2.Logbook'!AY242)","v":""}]
[{"$f":"IF('2.Logbook'!$A243=\"\",\"\",'2.Logbook'!$A243)","v":""},{"$f":"IF('2.Logbook'!$B243=\"\",\"\",'2.Logbook'!$B243)","v":""},{"$f":"IF('2.Logbook'!AH243=\"\",\"\",'2.Logbook'!AH243)","v":""},{"$f":"IF('2.Logbook'!AI243=\"\",\"\",'2.Logbook'!AI243)","v":""},{"$f":"IF('2.Logbook'!AJ243=\"\",\"\",'2.Logbook'!AJ243)","v":""},{"$f":"IF('2.Logbook'!AK243=\"\",\"\",'2.Logbook'!AK243)","v":""},{"$f":"IF('2.Logbook'!AL243=\"\",\"\",'2.Logbook'!AL243)","v":""},{"$f":"IF('2.Logbook'!AM243=\"\",\"\",'2.Logbook'!AM243)","v":""},{"$f":"IF('2.Logbook'!AN243=\"\",\"\",'2.Logbook'!AN243)","v":""},{"$f":"IF('2.Logbook'!AO243=\"\",\"\",'2.Logbook'!AO243)","v":""},{"$f":"IF('2.Logbook'!AP243=\"\",\"\",'2.Logbook'!AP243)","v":""},{"$f":"IF('2.Logbook'!AQ243=\"\",\"\",'2.Logbook'!AQ243)","v":""},{"$f":"IF('2.Logbook'!AR243=\"\",\"\",'2.Logbook'!AR243)","v":""},{"$f":"IF('2.Logbook'!AS243=\"\",\"\",'2.Logbook'!AS243)","v":""},{"$f":"IF('2.Logbook'!AT243=\"\",\"\",'2.Logbook'!AT243)","v":""},{"$f":"IF('2.Logbook'!AU243=\"\",\"\",'2.Logbook'!AU243)","v":""},{"$f":"IF('2.Logbook'!AV243=\"\",\"\",'2.Logbook'!AV243)","v":""},{"$f":"IF('2.Logbook'!AW243=\"\",\"\",'2.Logbook'!AW243)","v":""},{"$f":"IF('2.Logbook'!AX243=\"\",\"\",'2.Logbook'!AX243)","v":""},{"$f":"IF('2.Logbook'!AY243=\"\",\"\",'2.Logbook'!AY243)","v":""}]
[{"$f":"IF('2.Logbook'!$A244=\"\",\"\",'2.Logbook'!$A244)","v":""},{"$f":"IF('2.Logbook'!$B244=\"\",\"\",'2.Logbook'!$B244)","v":""},{"$f":"IF('2.Logbook'!AH244=\"\",\"\",'2.Logbook'!AH244)","v":""},{"$f":"IF('2.Logbook'!AI244=\"\",\"\",'2.Logbook'!AI244)","v":""},{"$f":"IF('2.Logbook'!AJ244=\"\",\"\",'2.Logbook'!AJ244)","v":""},{"$f":"IF('2.Logbook'!AK244=\"\",\"\",'2.Logbook'!AK244)","v":""},{"$f":"IF('2.Logbook'!AL244=\"\",\"\",'2.Logbook'!AL244)","v":""},{"$f":"IF('2.Logbook'!AM244=\"\",\"\",'2.Logbook'!AM244)","v":""},{"$f":"IF('2.Logbook'!AN244=\"\",\"\",'2.Logbook'!AN244)","v":""},{"$f":"IF('2.Logbook'!AO244=\"\",\"\",'2.Logbook'!AO244)","v":""},{"$f":"IF('2.Logbook'!AP244=\"\",\"\",'2.Logbook'!AP244)","v":""},{"$f":"IF('2.Logbook'!AQ244=\"\",\"\",'2.Logbook'!AQ244)","v":""},{"$f":"IF('2.Logbook'!AR244=\"\",\"\",'2.Logbook'!AR244)","v":""},{"$f":"IF('2.Logbook'!AS244=\"\",\"\",'2.Logbook'!AS244)","v":""},{"$f":"IF('2.Logbook'!AT244=\"\",\"\",'2.Logbook'!AT244)","v":""},{"$f":"IF('2.Logbook'!AU244=\"\",\"\",'2.Logbook'!AU244)","v":""},{"$f":"IF('2.Logbook'!AV244=\"\",\"\",'2.Logbook'!AV244)","v":""},{"$f":"IF('2.Logbook'!AW244=\"\",\"\",'2.Logbook'!AW244)","v":""},{"$f":"IF('2.Logbook'!AX244=\"\",\"\",'2.Logbook'!AX244)","v":""},{"$f":"IF('2.Logbook'!AY244=\"\",\"\",'2.Logbook'!AY244)","v":""}]
[{"$f":"IF('2.Logbook'!$A245=\"\",\"\",'2.Logbook'!$A245)","v":""},{"$f":"IF('2.Logbook'!$B245=\"\",\"\",'2.Logbook'!$B245)","v":""},{"$f":"IF('2.Logbook'!AH245=\"\",\"\",'2.Logbook'!AH245)","v":""},{"$f":"IF('2.Logbook'!AI245=\"\",\"\",'2.Logbook'!AI245)","v":""},{"$f":"IF('2.Logbook'!AJ245=\"\",\"\",'2.Logbook'!AJ245)","v":""},{"$f":"IF('2.Logbook'!AK245=\"\",\"\",'2.Logbook'!AK245)","v":""},{"$f":"IF('2.Logbook'!AL245=\"\",\"\",'2.Logbook'!AL245)","v":""},{"$f":"IF('2.Logbook'!AM245=\"\",\"\",'2.Logbook'!AM245)","v":""},{"$f":"IF('2.Logbook'!AN245=\"\",\"\",'2.Logbook'!AN245)","v":""},{"$f":"IF('2.Logbook'!AO245=\"\",\"\",'2.Logbook'!AO245)","v":""},{"$f":"IF('2.Logbook'!AP245=\"\",\"\",'2.Logbook'!AP245)","v":""},{"$f":"IF('2.Logbook'!AQ245=\"\",\"\",'2.Logbook'!AQ245)","v":""},{"$f":"IF('2.Logbook'!AR245=\"\",\"\",'2.Logbook'!AR245)","v":""},{"$f":"IF('2.Logbook'!AS245=\"\",\"\",'2.Logbook'!AS245)","v":""},{"$f":"IF('2.Logbook'!AT245=\"\",\"\",'2.Logbook'!AT245)","v":""},{"$f":"IF('2.Logbook'!AU245=\"\",\"\",'2.Logbook'!AU245)","v":""},{"$f":"IF('2.Logbook'!AV245=\"\",\"\",'2.Logbook'!AV245)","v":""},{"$f":"IF('2.Logbook'!AW245=\"\",\"\",'2.Logbook'!AW245)","v":""},{"$f":"IF('2.Logbook'!AX245=\"\",\"\",'2.Logbook'!AX245)","v":""},{"$f":"IF('2.Logbook'!AY245=\"\",\"\",'2.Logbook'!AY245)","v":""}]
[{"$f":"IF('2.Logbook'!$A246=\"\",\"\",'2.Logbook'!$A246)","v":""},{"$f":"IF('2.Logbook'!$B246=\"\",\"\",'2.Logbook'!$B246)","v":""},{"$f":"IF('2.Logbook'!AH246=\"\",\"\",'2.Logbook'!AH246)","v":""},{"$f":"IF('2.Logbook'!AI246=\"\",\"\",'2.Logbook'!AI246)","v":""},{"$f":"IF('2.Logbook'!AJ246=\"\",\"\",'2.Logbook'!AJ246)","v":""},{"$f":"IF('2.Logbook'!AK246=\"\",\"\",'2.Logbook'!AK246)","v":""},{"$f":"IF('2.Logbook'!AL246=\"\",\"\",'2.Logbook'!AL246)","v":""},{"$f":"IF('2.Logbook'!AM246=\"\",\"\",'2.Logbook'!AM246)","v":""},{"$f":"IF('2.Logbook'!AN246=\"\",\"\",'2.Logbook'!AN246)","v":""},{"$f":"IF('2.Logbook'!AO246=\"\",\"\",'2.Logbook'!AO246)","v":""},{"$f":"IF('2.Logbook'!AP246=\"\",\"\",'2.Logbook'!AP246)","v":""},{"$f":"IF('2.Logbook'!AQ246=\"\",\"\",'2.Logbook'!AQ246)","v":""},{"$f":"IF('2.Logbook'!AR246=\"\",\"\",'2.Logbook'!AR246)","v":""},{"$f":"IF('2.Logbook'!AS246=\"\",\"\",'2.Logbook'!AS246)","v":""},{"$f":"IF('2.Logbook'!AT246=\"\",\"\",'2.Logbook'!AT246)","v":""},{"$f":"IF('2.Logbook'!AU246=\"\",\"\",'2.Logbook'!AU246)","v":""},{"$f":"IF('2.Logbook'!AV246=\"\",\"\",'2.Logbook'!AV246)","v":""},{"$f":"IF('2.Logbook'!AW246=\"\",\"\",'2.Logbook'!AW246)","v":""},{"$f":"IF('2.Logbook'!AX246=\"\",\"\",'2.Logbook'!AX246)","v":""},{"$f":"IF('2.Logbook'!AY246=\"\",\"\",'2.Logbook'!AY246)","v":""}]
[{"$f":"IF('2.Logbook'!$A247=\"\",\"\",'2.Logbook'!$A247)","v":""},{"$f":"IF('2.Logbook'!$B247=\"\",\"\",'2.Logbook'!$B247)","v":""},{"$f":"IF('2.Logbook'!AH247=\"\",\"\",'2.Logbook'!AH247)","v":""},{"$f":"IF('2.Logbook'!AI247=\"\",\"\",'2.Logbook'!AI247)","v":""},{"$f":"IF('2.Logbook'!AJ247=\"\",\"\",'2.Logbook'!AJ247)","v":""},{"$f":"IF('2.Logbook'!AK247=\"\",\"\",'2.Logbook'!AK247)","v":""},{"$f":"IF('2.Logbook'!AL247=\"\",\"\",'2.Logbook'!AL247)","v":""},{"$f":"IF('2.Logbook'!AM247=\"\",\"\",'2.Logbook'!AM247)","v":""},{"$f":"IF('2.Logbook'!AN247=\"\",\"\",'2.Logbook'!AN247)","v":""},{"$f":"IF('2.Logbook'!AO247=\"\",\"\",'2.Logbook'!AO247)","v":""},{"$f":"IF('2.Logbook'!AP247=\"\",\"\",'2.Logbook'!AP247)","v":""},{"$f":"IF('2.Logbook'!AQ247=\"\",\"\",'2.Logbook'!AQ247)","v":""},{"$f":"IF('2.Logbook'!AR247=\"\",\"\",'2.Logbook'!AR247)","v":""},{"$f":"IF('2.Logbook'!AS247=\"\",\"\",'2.Logbook'!AS247)","v":""},{"$f":"IF('2.Logbook'!AT247=\"\",\"\",'2.Logbook'!AT247)","v":""},{"$f":"IF('2.Logbook'!AU247=\"\",\"\",'2.Logbook'!AU247)","v":""},{"$f":"IF('2.Logbook'!AV247=\"\",\"\",'2.Logbook'!AV247)","v":""},{"$f":"IF('2.Logbook'!AW247=\"\",\"\",'2.Logbook'!AW247)","v":""},{"$f":"IF('2.Logbook'!AX247=\"\",\"\",'2.Logbook'!AX247)","v":""},{"$f":"IF('2.Logbook'!AY247=\"\",\"\",'2.Logbook'!AY247)","v":""}]
[{"$f":"IF('2.Logbook'!$A248=\"\",\"\",'2.Logbook'!$A248)","v":""},{"$f":"IF('2.Logbook'!$B248=\"\",\"\",'2.Logbook'!$B248)","v":""},{"$f":"IF('2.Logbook'!AH248=\"\",\"\",'2.Logbook'!AH248)","v":""},{"$f":"IF('2.Logbook'!AI248=\"\",\"\",'2.Logbook'!AI248)","v":""},{"$f":"IF('2.Logbook'!AJ248=\"\",\"\",'2.Logbook'!AJ248)","v":""},{"$f":"IF('2.Logbook'!AK248=\"\",\"\",'2.Logbook'!AK248)","v":""},{"$f":"IF('2.Logbook'!AL248=\"\",\"\",'2.Logbook'!AL248)","v":""},{"$f":"IF('2.Logbook'!AM248=\"\",\"\",'2.Logbook'!AM248)","v":""},{"$f":"IF('2.Logbook'!AN248=\"\",\"\",'2.Logbook'!AN248)","v":""},{"$f":"IF('2.Logbook'!AO248=\"\",\"\",'2.Logbook'!AO248)","v":""},{"$f":"IF('2.Logbook'!AP248=\"\",\"\",'2.Logbook'!AP248)","v":""},{"$f":"IF('2.Logbook'!AQ248=\"\",\"\",'2.Logbook'!AQ248)","v":""},{"$f":"IF('2.Logbook'!AR248=\"\",\"\",'2.Logbook'!AR248)","v":""},{"$f":"IF('2.Logbook'!AS248=\"\",\"\",'2.Logbook'!AS248)","v":""},{"$f":"IF('2.Logbook'!AT248=\"\",\"\",'2.Logbook'!AT248)","v":""},{"$f":"IF('2.Logbook'!AU248=\"\",\"\",'2.Logbook'!AU248)","v":""},{"$f":"IF('2.Logbook'!AV248=\"\",\"\",'2.Logbook'!AV248)","v":""},{"$f":"IF('2.Logbook'!AW248=\"\",\"\",'2.Logbook'!AW248)","v":""},{"$f":"IF('2.Logbook'!AX248=\"\",\"\",'2.Logbook'!AX248)","v":""},{"$f":"IF('2.Logbook'!AY248=\"\",\"\",'2.Logbook'!AY248)","v":""}]
[{"$f":"IF('2.Logbook'!$A249=\"\",\"\",'2.Logbook'!$A249)","v":""},{"$f":"IF('2.Logbook'!$B249=\"\",\"\",'2.Logbook'!$B249)","v":""},{"$f":"IF('2.Logbook'!AH249=\"\",\"\",'2.Logbook'!AH249)","v":""},{"$f":"IF('2.Logbook'!AI249=\"\",\"\",'2.Logbook'!AI249)","v":""},{"$f":"IF('2.Logbook'!AJ249=\"\",\"\",'2.Logbook'!AJ249)","v":""},{"$f":"IF('2.Logbook'!AK249=\"\",\"\",'2.Logbook'!AK249)","v":""},{"$f":"IF('2.Logbook'!AL249=\"\",\"\",'2.Logbook'!AL249)","v":""},{"$f":"IF('2.Logbook'!AM249=\"\",\"\",'2.Logbook'!AM249)","v":""},{"$f":"IF('2.Logbook'!AN249=\"\",\"\",'2.Logbook'!AN249)","v":""},{"$f":"IF('2.Logbook'!AO249=\"\",\"\",'2.Logbook'!AO249)","v":""},{"$f":"IF('2.Logbook'!AP249=\"\",\"\",'2.Logbook'!AP249)","v":""},{"$f":"IF('2.Logbook'!AQ249=\"\",\"\",'2.Logbook'!AQ249)","v":""},{"$f":"IF('2.Logbook'!AR249=\"\",\"\",'2.Logbook'!AR249)","v":""},{"$f":"IF('2.Logbook'!AS249=\"\",\"\",'2.Logbook'!AS249)","v":""},{"$f":"IF('2.Logbook'!AT249=\"\",\"\",'2.Logbook'!AT249)","v":""},{"$f":"IF('2.Logbook'!AU249=\"\",\"\",'2.Logbook'!AU249)","v":""},{"$f":"IF('2.Logbook'!AV249=\"\",\"\",'2.Logbook'!AV249)","v":""},{"$f":"IF('2.Logbook'!AW249=\"\",\"\",'2.Logbook'!AW249)","v":""},{"$f":"IF('2.Logbook'!AX249=\"\",\"\",'2.Logbook'!AX249)","v":""},{"$f":"IF('2.Logbook'!AY249=\"\",\"\",'2.Logbook'!AY249)","v":""}]
[{"$f":"IF('2.Logbook'!$A250=\"\",\"\",'2.Logbook'!$A250)","v":""},{"$f":"IF('2.Logbook'!$B250=\"\",\"\",'2.Logbook'!$B250)","v":""},{"$f":"IF('2.Logbook'!AH250=\"\",\"\",'2.Logbook'!AH250)","v":""},{"$f":"IF('2.Logbook'!AI250=\"\",\"\",'2.Logbook'!AI250)","v":""},{"$f":"IF('2.Logbook'!AJ250=\"\",\"\",'2.Logbook'!AJ250)","v":""},{"$f":"IF('2.Logbook'!AK250=\"\",\"\",'2.Logbook'!AK250)","v":""},{"$f":"IF('2.Logbook'!AL250=\"\",\"\",'2.Logbook'!AL250)","v":""},{"$f":"IF('2.Logbook'!AM250=\"\",\"\",'2.Logbook'!AM250)","v":""},{"$f":"IF('2.Logbook'!AN250=\"\",\"\",'2.Logbook'!AN250)","v":""},{"$f":"IF('2.Logbook'!AO250=\"\",\"\",'2.Logbook'!AO250)","v":""},{"$f":"IF('2.Logbook'!AP250=\"\",\"\",'2.Logbook'!AP250)","v":""},{"$f":"IF('2.Logbook'!AQ250=\"\",\"\",'2.Logbook'!AQ250)","v":""},{"$f":"IF('2.Logbook'!AR250=\"\",\"\",'2.Logbook'!AR250)","v":""},{"$f":"IF('2.Logbook'!AS250=\"\",\"\",'2.Logbook'!AS250)","v":""},{"$f":"IF('2.Logbook'!AT250=\"\",\"\",'2.Logbook'!AT250)","v":""},{"$f":"IF('2.Logbook'!AU250=\"\",\"\",'2.Logbook'!AU250)","v":""},{"$f":"IF('2.Logbook'!AV250=\"\",\"\",'2.Logbook'!AV250)","v":""},{"$f":"IF('2.Logbook'!AW250=\"\",\"\",'2.Logbook'!AW250)","v":""},{"$f":"IF('2.Logbook'!AX250=\"\",\"\",'2.Logbook'!AX250)","v":""},{"$f":"IF('2.Logbook'!AY250=\"\",\"\",'2.Logbook'!AY250)","v":""}]
[{"$f":"IF('2.Logbook'!$A251=\"\",\"\",'2.Logbook'!$A251)","v":""},{"$f":"IF('2.Logbook'!$B251=\"\",\"\",'2.Logbook'!$B251)","v":""},{"$f":"IF('2.Logbook'!AH251=\"\",\"\",'2.Logbook'!AH251)","v":""},{"$f":"IF('2.Logbook'!AI251=\"\",\"\",'2.Logbook'!AI251)","v":""},{"$f":"IF('2.Logbook'!AJ251=\"\",\"\",'2.Logbook'!AJ251)","v":""},{"$f":"IF('2.Logbook'!AK251=\"\",\"\",'2.Logbook'!AK251)","v":""},{"$f":"IF('2.Logbook'!AL251=\"\",\"\",'2.Logbook'!AL251)","v":""},{"$f":"IF('2.Logbook'!AM251=\"\",\"\",'2.Logbook'!AM251)","v":""},{"$f":"IF('2.Logbook'!AN251=\"\",\"\",'2.Logbook'!AN251)","v":""},{"$f":"IF('2.Logbook'!AO251=\"\",\"\",'2.Logbook'!AO251)","v":""},{"$f":"IF('2.Logbook'!AP251=\"\",\"\",'2.Logbook'!AP251)","v":""},{"$f":"IF('2.Logbook'!AQ251=\"\",\"\",'2.Logbook'!AQ251)","v":""},{"$f":"IF('2.Logbook'!AR251=\"\",\"\",'2.Logbook'!AR251)","v":""},{"$f":"IF('2.Logbook'!AS251=\"\",\"\",'2.Logbook'!AS251)","v":""},{"$f":"IF('2.Logbook'!AT251=\"\",\"\",'2.Logbook'!AT251)","v":""},{"$f":"IF('2.Logbook'!AU251=\"\",\"\",'2.Logbook'!AU251)","v":""},{"$f":"IF('2.Logbook'!AV251=\"\",\"\",'2.Logbook'!AV251)","v":""},{"$f":"IF('2.Logbook'!AW251=\"\",\"\",'2.Logbook'!AW251)","v":""},{"$f":"IF('2.Logbook'!AX251=\"\",\"\",'2.Logbook'!AX251)","v":""},{"$f":"IF('2.Logbook'!AY251=\"\",\"\",'2.Logbook'!AY251)","v":""}]
[{"$f":"IF('2.Logbook'!$A252=\"\",\"\",'2.Logbook'!$A252)","v":""},{"$f":"IF('2.Logbook'!$B252=\"\",\"\",'2.Logbook'!$B252)","v":""},{"$f":"IF('2.Logbook'!AH252=\"\",\"\",'2.Logbook'!AH252)","v":""},{"$f":"IF('2.Logbook'!AI252=\"\",\"\",'2.Logbook'!AI252)","v":""},{"$f":"IF('2.Logbook'!AJ252=\"\",\"\",'2.Logbook'!AJ252)","v":""},{"$f":"IF('2.Logbook'!AK252=\"\",\"\",'2.Logbook'!AK252)","v":""},{"$f":"IF('2.Logbook'!AL252=\"\",\"\",'2.Logbook'!AL252)","v":""},{"$f":"IF('2.Logbook'!AM252=\"\",\"\",'2.Logbook'!AM252)","v":""},{"$f":"IF('2.Logbook'!AN252=\"\",\"\",'2.Logbook'!AN252)","v":""},{"$f":"IF('2.Logbook'!AO252=\"\",\"\",'2.Logbook'!AO252)","v":""},{"$f":"IF('2.Logbook'!AP252=\"\",\"\",'2.Logbook'!AP252)","v":""},{"$f":"IF('2.Logbook'!AQ252=\"\",\"\",'2.Logbook'!AQ252)","v":""},{"$f":"IF('2.Logbook'!AR252=\"\",\"\",'2.Logbook'!AR252)","v":""},{"$f":"IF('2.Logbook'!AS252=\"\",\"\",'2.Logbook'!AS252)","v":""},{"$f":"IF('2.Logbook'!AT252=\"\",\"\",'2.Logbook'!AT252)","v":""},{"$f":"IF('2.Logbook'!AU252=\"\",\"\",'2.Logbook'!AU252)","v":""},{"$f":"IF('2.Logbook'!AV252=\"\",\"\",'2.Logbook'!AV252)","v":""},{"$f":"IF('2.Logbook'!AW252=\"\",\"\",'2.Logbook'!AW252)","v":""},{"$f":"IF('2.Logbook'!AX252=\"\",\"\",'2.Logbook'!AX252)","v":""},{"$f":"IF('2.Logbook'!AY252=\"\",\"\",'2.Logbook'!AY252)","v":""}]
[{"$f":"IF('2.Logbook'!$A253=\"\",\"\",'2.Logbook'!$A253)","v":""},{"$f":"IF('2.Logbook'!$B253=\"\",\"\",'2.Logbook'!$B253)","v":""},{"$f":"IF('2.Logbook'!AH253=\"\",\"\",'2.Logbook'!AH253)","v":""},{"$f":"IF('2.Logbook'!AI253=\"\",\"\",'2.Logbook'!AI253)","v":""},{"$f":"IF('2.Logbook'!AJ253=\"\",\"\",'2.Logbook'!AJ253)","v":""},{"$f":"IF('2.Logbook'!AK253=\"\",\"\",'2.Logbook'!AK253)","v":""},{"$f":"IF('2.Logbook'!AL253=\"\",\"\",'2.Logbook'!AL253)","v":""},{"$f":"IF('2.Logbook'!AM253=\"\",\"\",'2.Logbook'!AM253)","v":""},{"$f":"IF('2.Logbook'!AN253=\"\",\"\",'2.Logbook'!AN253)","v":""},{"$f":"IF('2.Logbook'!AO253=\"\",\"\",'2.Logbook'!AO253)","v":""},{"$f":"IF('2.Logbook'!AP253=\"\",\"\",'2.Logbook'!AP253)","v":""},{"$f":"IF('2.Logbook'!AQ253=\"\",\"\",'2.Logbook'!AQ253)","v":""},{"$f":"IF('2.Logbook'!AR253=\"\",\"\",'2.Logbook'!AR253)","v":""},{"$f":"IF('2.Logbook'!AS253=\"\",\"\",'2.Logbook'!AS253)","v":""},{"$f":"IF('2.Logbook'!AT253=\"\",\"\",'2.Logbook'!AT253)","v":""},{"$f":"IF('2.Logbook'!AU253=\"\",\"\",'2.Logbook'!AU253)","v":""},{"$f":"IF('2.Logbook'!AV253=\"\",\"\",'2.Logbook'!AV253)","v":""},{"$f":"IF('2.Logbook'!AW253=\"\",\"\",'2.Logbook'!AW253)","v":""},{"$f":"IF('2.Logbook'!AX253=\"\",\"\",'2.Logbook'!AX253)","v":""},{"$f":"IF('2.Logbook'!AY253=\"\",\"\",'2.Logbook'!AY253)","v":""}]
[{"$f":"IF('2.Logbook'!$A254=\"\",\"\",'2.Logbook'!$A254)","v":""},{"$f":"IF('2.Logbook'!$B254=\"\",\"\",'2.Logbook'!$B254)","v":""},{"$f":"IF('2.Logbook'!AH254=\"\",\"\",'2.Logbook'!AH254)","v":""},{"$f":"IF('2.Logbook'!AI254=\"\",\"\",'2.Logbook'!AI254)","v":""},{"$f":"IF('2.Logbook'!AJ254=\"\",\"\",'2.Logbook'!AJ254)","v":""},{"$f":"IF('2.Logbook'!AK254=\"\",\"\",'2.Logbook'!AK254)","v":""},{"$f":"IF('2.Logbook'!AL254=\"\",\"\",'2.Logbook'!AL254)","v":""},{"$f":"IF('2.Logbook'!AM254=\"\",\"\",'2.Logbook'!AM254)","v":""},{"$f":"IF('2.Logbook'!AN254=\"\",\"\",'2.Logbook'!AN254)","v":""},{"$f":"IF('2.Logbook'!AO254=\"\",\"\",'2.Logbook'!AO254)","v":""},{"$f":"IF('2.Logbook'!AP254=\"\",\"\",'2.Logbook'!AP254)","v":""},{"$f":"IF('2.Logbook'!AQ254=\"\",\"\",'2.Logbook'!AQ254)","v":""},{"$f":"IF('2.Logbook'!AR254=\"\",\"\",'2.Logbook'!AR254)","v":""},{"$f":"IF('2.Logbook'!AS254=\"\",\"\",'2.Logbook'!AS254)","v":""},{"$f":"IF('2.Logbook'!AT254=\"\",\"\",'2.Logbook'!AT254)","v":""},{"$f":"IF('2.Logbook'!AU254=\"\",\"\",'2.Logbook'!AU254)","v":""},{"$f":"IF('2.Logbook'!AV254=\"\",\"\",'2.Logbook'!AV254)","v":""},{"$f":"IF('2.Logbook'!AW254=\"\",\"\",'2.Logbook'!AW254)","v":""},{"$f":"IF('2.Logbook'!AX254=\"\",\"\",'2.Logbook'!AX254)","v":""},{"$f":"IF('2.Logbook'!AY254=\"\",\"\",'2.Logbook'!AY254)","v":""}]
[{"$f":"IF('2.Logbook'!$A255=\"\",\"\",'2.Logbook'!$A255)","v":""},{"$f":"IF('2.Logbook'!$B255=\"\",\"\",'2.Logbook'!$B255)","v":""},{"$f":"IF('2.Logbook'!AH255=\"\",\"\",'2.Logbook'!AH255)","v":""},{"$f":"IF('2.Logbook'!AI255=\"\",\"\",'2.Logbook'!AI255)","v":""},{"$f":"IF('2.Logbook'!AJ255=\"\",\"\",'2.Logbook'!AJ255)","v":""},{"$f":"IF('2.Logbook'!AK255=\"\",\"\",'2.Logbook'!AK255)","v":""},{"$f":"IF('2.Logbook'!AL255=\"\",\"\",'2.Logbook'!AL255)","v":""},{"$f":"IF('2.Logbook'!AM255=\"\",\"\",'2.Logbook'!AM255)","v":""},{"$f":"IF('2.Logbook'!AN255=\"\",\"\",'2.Logbook'!AN255)","v":""},{"$f":"IF('2.Logbook'!AO255=\"\",\"\",'2.Logbook'!AO255)","v":""},{"$f":"IF('2.Logbook'!AP255=\"\",\"\",'2.Logbook'!AP255)","v":""},{"$f":"IF('2.Logbook'!AQ255=\"\",\"\",'2.Logbook'!AQ255)","v":""},{"$f":"IF('2.Logbook'!AR255=\"\",\"\",'2.Logbook'!AR255)","v":""},{"$f":"IF('2.Logbook'!AS255=\"\",\"\",'2.Logbook'!AS255)","v":""},{"$f":"IF('2.Logbook'!AT255=\"\",\"\",'2.Logbook'!AT255)","v":""},{"$f":"IF('2.Logbook'!AU255=\"\",\"\",'2.Logbook'!AU255)","v":""},{"$f":"IF('2.Logbook'!AV255=\"\",\"\",'2.Logbook'!AV255)","v":""},{"$f":"IF('2.Logbook'!AW255=\"\",\"\",'2.Logbook'!AW255)","v":""},{"$f":"IF('2.Logbook'!AX255=\"\",\"\",'2.Logbook'!AX255)","v":""},{"$f":"IF('2.Logbook'!AY255=\"\",\"\",'2.Logbook'!AY255)","v":""}]
[{"$f":"IF('2.Logbook'!$A256=\"\",\"\",'2.Logbook'!$A256)","v":""},{"$f":"IF('2.Logbook'!$B256=\"\",\"\",'2.Logbook'!$B256)","v":""},{"$f":"IF('2.Logbook'!AH256=\"\",\"\",'2.Logbook'!AH256)","v":""},{"$f":"IF('2.Logbook'!AI256=\"\",\"\",'2.Logbook'!AI256)","v":""},{"$f":"IF('2.Logbook'!AJ256=\"\",\"\",'2.Logbook'!AJ256)","v":""},{"$f":"IF('2.Logbook'!AK256=\"\",\"\",'2.Logbook'!AK256)","v":""},{"$f":"IF('2.Logbook'!AL256=\"\",\"\",'2.Logbook'!AL256)","v":""},{"$f":"IF('2.Logbook'!AM256=\"\",\"\",'2.Logbook'!AM256)","v":""},{"$f":"IF('2.Logbook'!AN256=\"\",\"\",'2.Logbook'!AN256)","v":""},{"$f":"IF('2.Logbook'!AO256=\"\",\"\",'2.Logbook'!AO256)","v":""},{"$f":"IF('2.Logbook'!AP256=\"\",\"\",'2.Logbook'!AP256)","v":""},{"$f":"IF('2.Logbook'!AQ256=\"\",\"\",'2.Logbook'!AQ256)","v":""},{"$f":"IF('2.Logbook'!AR256=\"\",\"\",'2.Logbook'!AR256)","v":""},{"$f":"IF('2.Logbook'!AS256=\"\",\"\",'2.Logbook'!AS256)","v":""},{"$f":"IF('2.Logbook'!AT256=\"\",\"\",'2.Logbook'!AT256)","v":""},{"$f":"IF('2.Logbook'!AU256=\"\",\"\",'2.Logbook'!AU256)","v":""},{"$f":"IF('2.Logbook'!AV256=\"\",\"\",'2.Logbook'!AV256)","v":""},{"$f":"IF('2.Logbook'!AW256=\"\",\"\",'2.Logbook'!AW256)","v":""},{"$f":"IF('2.Logbook'!AX256=\"\",\"\",'2.Logbook'!AX256)","v":""},{"$f":"IF('2.Logbook'!AY256=\"\",\"\",'2.Logbook'!AY256)","v":""}]
[{"$f":"IF('2.Logbook'!$A257=\"\",\"\",'2.Logbook'!$A257)","v":""},{"$f":"IF('2.Logbook'!$B257=\"\",\"\",'2.Logbook'!$B257)","v":""},{"$f":"IF('2.Logbook'!AH257=\"\",\"\",'2.Logbook'!AH257)","v":""},{"$f":"IF('2.Logbook'!AI257=\"\",\"\",'2.Logbook'!AI257)","v":""},{"$f":"IF('2.Logbook'!AJ257=\"\",\"\",'2.Logbook'!AJ257)","v":""},{"$f":"IF('2.Logbook'!AK257=\"\",\"\",'2.Logbook'!AK257)","v":""},{"$f":"IF('2.Logbook'!AL257=\"\",\"\",'2.Logbook'!AL257)","v":""},{"$f":"IF('2.Logbook'!AM257=\"\",\"\",'2.Logbook'!AM257)","v":""},{"$f":"IF('2.Logbook'!AN257=\"\",\"\",'2.Logbook'!AN257)","v":""},{"$f":"IF('2.Logbook'!AO257=\"\",\"\",'2.Logbook'!AO257)","v":""},{"$f":"IF('2.Logbook'!AP257=\"\",\"\",'2.Logbook'!AP257)","v":""},{"$f":"IF('2.Logbook'!AQ257=\"\",\"\",'2.Logbook'!AQ257)","v":""},{"$f":"IF('2.Logbook'!AR257=\"\",\"\",'2.Logbook'!AR257)","v":""},{"$f":"IF('2.Logbook'!AS257=\"\",\"\",'2.Logbook'!AS257)","v":""},{"$f":"IF('2.Logbook'!AT257=\"\",\"\",'2.Logbook'!AT257)","v":""},{"$f":"IF('2.Logbook'!AU257=\"\",\"\",'2.Logbook'!AU257)","v":""},{"$f":"IF('2.Logbook'!AV257=\"\",\"\",'2.Logbook'!AV257)","v":""},{"$f":"IF('2.Logbook'!AW257=\"\",\"\",'2.Logbook'!AW257)","v":""},{"$f":"IF('2.Logbook'!AX257=\"\",\"\",'2.Logbook'!AX257)","v":""},{"$f":"IF('2.Logbook'!AY257=\"\",\"\",'2.Logbook'!AY257)","v":""}]
[{"$f":"IF('2.Logbook'!$A258=\"\",\"\",'2.Logbook'!$A258)","v":""},{"$f":"IF('2.Logbook'!$B258=\"\",\"\",'2.Logbook'!$B258)","v":""},{"$f":"IF('2.Logbook'!AH258=\"\",\"\",'2.Logbook'!AH258)","v":""},{"$f":"IF('2.Logbook'!AI258=\"\",\"\",'2.Logbook'!AI258)","v":""},{"$f":"IF('2.Logbook'!AJ258=\"\",\"\",'2.Logbook'!AJ258)","v":""},{"$f":"IF('2.Logbook'!AK258=\"\",\"\",'2.Logbook'!AK258)","v":""},{"$f":"IF('2.Logbook'!AL258=\"\",\"\",'2.Logbook'!AL258)","v":""},{"$f":"IF('2.Logbook'!AM258=\"\",\"\",'2.Logbook'!AM258)","v":""},{"$f":"IF('2.Logbook'!AN258=\"\",\"\",'2.Logbook'!AN258)","v":""},{"$f":"IF('2.Logbook'!AO258=\"\",\"\",'2.Logbook'!AO258)","v":""},{"$f":"IF('2.Logbook'!AP258=\"\",\"\",'2.Logbook'!AP258)","v":""},{"$f":"IF('2.Logbook'!AQ258=\"\",\"\",'2.Logbook'!AQ258)","v":""},{"$f":"IF('2.Logbook'!AR258=\"\",\"\",'2.Logbook'!AR258)","v":""},{"$f":"IF('2.Logbook'!AS258=\"\",\"\",'2.Logbook'!AS258)","v":""},{"$f":"IF('2.Logbook'!AT258=\"\",\"\",'2.Logbook'!AT258)","v":""},{"$f":"IF('2.Logbook'!AU258=\"\",\"\",'2.Logbook'!AU258)","v":""},{"$f":"IF('2.Logbook'!AV258=\"\",\"\",'2.Logbook'!AV258)","v":""},{"$f":"IF('2.Logbook'!AW258=\"\",\"\",'2.Logbook'!AW258)","v":""},{"$f":"IF('2.Logbook'!AX258=\"\",\"\",'2.Logbook'!AX258)","v":""},{"$f":"IF('2.Logbook'!AY258=\"\",\"\",'2.Logbook'!AY258)","v":""}]
[{"$f":"IF('2.Logbook'!$A259=\"\",\"\",'2.Logbook'!$A259)","v":""},{"$f":"IF('2.Logbook'!$B259=\"\",\"\",'2.Logbook'!$B259)","v":""},{"$f":"IF('2.Logbook'!AH259=\"\",\"\",'2.Logbook'!AH259)","v":""},{"$f":"IF('2.Logbook'!AI259=\"\",\"\",'2.Logbook'!AI259)","v":""},{"$f":"IF('2.Logbook'!AJ259=\"\",\"\",'2.Logbook'!AJ259)","v":""},{"$f":"IF('2.Logbook'!AK259=\"\",\"\",'2.Logbook'!AK259)","v":""},{"$f":"IF('2.Logbook'!AL259=\"\",\"\",'2.Logbook'!AL259)","v":""},{"$f":"IF('2.Logbook'!AM259=\"\",\"\",'2.Logbook'!AM259)","v":""},{"$f":"IF('2.Logbook'!AN259=\"\",\"\",'2.Logbook'!AN259)","v":""},{"$f":"IF('2.Logbook'!AO259=\"\",\"\",'2.Logbook'!AO259)","v":""},{"$f":"IF('2.Logbook'!AP259=\"\",\"\",'2.Logbook'!AP259)","v":""},{"$f":"IF('2.Logbook'!AQ259=\"\",\"\",'2.Logbook'!AQ259)","v":""},{"$f":"IF('2.Logbook'!AR259=\"\",\"\",'2.Logbook'!AR259)","v":""},{"$f":"IF('2.Logbook'!AS259=\"\",\"\",'2.Logbook'!AS259)","v":""},{"$f":"IF('2.Logbook'!AT259=\"\",\"\",'2.Logbook'!AT259)","v":""},{"$f":"IF('2.Logbook'!AU259=\"\",\"\",'2.Logbook'!AU259)","v":""},{"$f":"IF('2.Logbook'!AV259=\"\",\"\",'2.Logbook'!AV259)","v":""},{"$f":"IF('2.Logbook'!AW259=\"\",\"\",'2.Logbook'!AW259)","v":""},{"$f":"IF('2.Logbook'!AX259=\"\",\"\",'2.Logbook'!AX259)","v":""},{"$f":"IF('2.Logbook'!AY259=\"\",\"\",'2.Logbook'!AY259)","v":""}]
[{"$f":"IF('2.Logbook'!$A260=\"\",\"\",'2.Logbook'!$A260)","v":""},{"$f":"IF('2.Logbook'!$B260=\"\",\"\",'2.Logbook'!$B260)","v":""},{"$f":"IF('2.Logbook'!AH260=\"\",\"\",'2.Logbook'!AH260)","v":""},{"$f":"IF('2.Logbook'!AI260=\"\",\"\",'2.Logbook'!AI260)","v":""},{"$f":"IF('2.Logbook'!AJ260=\"\",\"\",'2.Logbook'!AJ260)","v":""},{"$f":"IF('2.Logbook'!AK260=\"\",\"\",'2.Logbook'!AK260)","v":""},{"$f":"IF('2.Logbook'!AL260=\"\",\"\",'2.Logbook'!AL260)","v":""},{"$f":"IF('2.Logbook'!AM260=\"\",\"\",'2.Logbook'!AM260)","v":""},{"$f":"IF('2.Logbook'!AN260=\"\",\"\",'2.Logbook'!AN260)","v":""},{"$f":"IF('2.Logbook'!AO260=\"\",\"\",'2.Logbook'!AO260)","v":""},{"$f":"IF('2.Logbook'!AP260=\"\",\"\",'2.Logbook'!AP260)","v":""},{"$f":"IF('2.Logbook'!AQ260=\"\",\"\",'2.Logbook'!AQ260)","v":""},{"$f":"IF('2.Logbook'!AR260=\"\",\"\",'2.Logbook'!AR260)","v":""},{"$f":"IF('2.Logbook'!AS260=\"\",\"\",'2.Logbook'!AS260)","v":""},{"$f":"IF('2.Logbook'!AT260=\"\",\"\",'2.Logbook'!AT260)","v":""},{"$f":"IF('2.Logbook'!AU260=\"\",\"\",'2.Logbook'!AU260)","v":""},{"$f":"IF('2.Logbook'!AV260=\"\",\"\",'2.Logbook'!AV260)","v":""},{"$f":"IF('2.Logbook'!AW260=\"\",\"\",'2.Logbook'!AW260)","v":""},{"$f":"IF('2.Logbook'!AX260=\"\",\"\",'2.Logbook'!AX260)","v":""},{"$f":"IF('2.Logbook'!AY260=\"\",\"\",'2.Logbook'!AY260)","v":""}]
[{"$f":"IF('2.Logbook'!$A261=\"\",\"\",'2.Logbook'!$A261)","v":""},{"$f":"IF('2.Logbook'!$B261=\"\",\"\",'2.Logbook'!$B261)","v":""},{"$f":"IF('2.Logbook'!AH261=\"\",\"\",'2.Logbook'!AH261)","v":""},{"$f":"IF('2.Logbook'!AI261=\"\",\"\",'2.Logbook'!AI261)","v":""},{"$f":"IF('2.Logbook'!AJ261=\"\",\"\",'2.Logbook'!AJ261)","v":""},{"$f":"IF('2.Logbook'!AK261=\"\",\"\",'2.Logbook'!AK261)","v":""},{"$f":"IF('2.Logbook'!AL261=\"\",\"\",'2.Logbook'!AL261)","v":""},{"$f":"IF('2.Logbook'!AM261=\"\",\"\",'2.Logbook'!AM261)","v":""},{"$f":"IF('2.Logbook'!AN261=\"\",\"\",'2.Logbook'!AN261)","v":""},{"$f":"IF('2.Logbook'!AO261=\"\",\"\",'2.Logbook'!AO261)","v":""},{"$f":"IF('2.Logbook'!AP261=\"\",\"\",'2.Logbook'!AP261)","v":""},{"$f":"IF('2.Logbook'!AQ261=\"\",\"\",'2.Logbook'!AQ261)","v":""},{"$f":"IF('2.Logbook'!AR261=\"\",\"\",'2.Logbook'!AR261)","v":""},{"$f":"IF('2.Logbook'!AS261=\"\",\"\",'2.Logbook'!AS261)","v":""},{"$f":"IF('2.Logbook'!AT261=\"\",\"\",'2.Logbook'!AT261)","v":""},{"$f":"IF('2.Logbook'!AU261=\"\",\"\",'2.Logbook'!AU261)","v":""},{"$f":"IF('2.Logbook'!AV261=\"\",\"\",'2.Logbook'!AV261)","v":""},{"$f":"IF('2.Logbook'!AW261=\"\",\"\",'2.Logbook'!AW261)","v":""},{"$f":"IF('2.Logbook'!AX261=\"\",\"\",'2.Logbook'!AX261)","v":""},{"$f":"IF('2.Logbook'!AY261=\"\",\"\",'2.Logbook'!AY261)","v":""}]
[{"$f":"IF('2.Logbook'!$A262=\"\",\"\",'2.Logbook'!$A262)","v":""},{"$f":"IF('2.Logbook'!$B262=\"\",\"\",'2.Logbook'!$B262)","v":""},{"$f":"IF('2.Logbook'!AH262=\"\",\"\",'2.Logbook'!AH262)","v":""},{"$f":"IF('2.Logbook'!AI262=\"\",\"\",'2.Logbook'!AI262)","v":""},{"$f":"IF('2.Logbook'!AJ262=\"\",\"\",'2.Logbook'!AJ262)","v":""},{"$f":"IF('2.Logbook'!AK262=\"\",\"\",'2.Logbook'!AK262)","v":""},{"$f":"IF('2.Logbook'!AL262=\"\",\"\",'2.Logbook'!AL262)","v":""},{"$f":"IF('2.Logbook'!AM262=\"\",\"\",'2.Logbook'!AM262)","v":""},{"$f":"IF('2.Logbook'!AN262=\"\",\"\",'2.Logbook'!AN262)","v":""},{"$f":"IF('2.Logbook'!AO262=\"\",\"\",'2.Logbook'!AO262)","v":""},{"$f":"IF('2.Logbook'!AP262=\"\",\"\",'2.Logbook'!AP262)","v":""},{"$f":"IF('2.Logbook'!AQ262=\"\",\"\",'2.Logbook'!AQ262)","v":""},{"$f":"IF('2.Logbook'!AR262=\"\",\"\",'2.Logbook'!AR262)","v":""},{"$f":"IF('2.Logbook'!AS262=\"\",\"\",'2.Logbook'!AS262)","v":""},{"$f":"IF('2.Logbook'!AT262=\"\",\"\",'2.Logbook'!AT262)","v":""},{"$f":"IF('2.Logbook'!AU262=\"\",\"\",'2.Logbook'!AU262)","v":""},{"$f":"IF('2.Logbook'!AV262=\"\",\"\",'2.Logbook'!AV262)","v":""},{"$f":"IF('2.Logbook'!AW262=\"\",\"\",'2.Logbook'!AW262)","v":""},{"$f":"IF('2.Logbook'!AX262=\"\",\"\",'2.Logbook'!AX262)","v":""},{"$f":"IF('2.Logbook'!AY262=\"\",\"\",'2.Logbook'!AY262)","v":""}]
[{"$f":"IF('2.Logbook'!$A263=\"\",\"\",'2.Logbook'!$A263)","v":""},{"$f":"IF('2.Logbook'!$B263=\"\",\"\",'2.Logbook'!$B263)","v":""},{"$f":"IF('2.Logbook'!AH263=\"\",\"\",'2.Logbook'!AH263)","v":""},{"$f":"IF('2.Logbook'!AI263=\"\",\"\",'2.Logbook'!AI263)","v":""},{"$f":"IF('2.Logbook'!AJ263=\"\",\"\",'2.Logbook'!AJ263)","v":""},{"$f":"IF('2.Logbook'!AK263=\"\",\"\",'2.Logbook'!AK263)","v":""},{"$f":"IF('2.Logbook'!AL263=\"\",\"\",'2.Logbook'!AL263)","v":""},{"$f":"IF('2.Logbook'!AM263=\"\",\"\",'2.Logbook'!AM263)","v":""},{"$f":"IF('2.Logbook'!AN263=\"\",\"\",'2.Logbook'!AN263)","v":""},{"$f":"IF('2.Logbook'!AO263=\"\",\"\",'2.Logbook'!AO263)","v":""},{"$f":"IF('2.Logbook'!AP263=\"\",\"\",'2.Logbook'!AP263)","v":""},{"$f":"IF('2.Logbook'!AQ263=\"\",\"\",'2.Logbook'!AQ263)","v":""},{"$f":"IF('2.Logbook'!AR263=\"\",\"\",'2.Logbook'!AR263)","v":""},{"$f":"IF('2.Logbook'!AS263=\"\",\"\",'2.Logbook'!AS263)","v":""},{"$f":"IF('2.Logbook'!AT263=\"\",\"\",'2.Logbook'!AT263)","v":""},{"$f":"IF('2.Logbook'!AU263=\"\",\"\",'2.Logbook'!AU263)","v":""},{"$f":"IF('2.Logbook'!AV263=\"\",\"\",'2.Logbook'!AV263)","v":""},{"$f":"IF('2.Logbook'!AW263=\"\",\"\",'2.Logbook'!AW263)","v":""},{"$f":"IF('2.Logbook'!AX263=\"\",\"\",'2.Logbook'!AX263)","v":""},{"$f":"IF('2.Logbook'!AY263=\"\",\"\",'2.Logbook'!AY263)","v":""}]
[{"$f":"IF('2.Logbook'!$A264=\"\",\"\",'2.Logbook'!$A264)","v":""},{"$f":"IF('2.Logbook'!$B264=\"\",\"\",'2.Logbook'!$B264)","v":""},{"$f":"IF('2.Logbook'!AH264=\"\",\"\",'2.Logbook'!AH264)","v":""},{"$f":"IF('2.Logbook'!AI264=\"\",\"\",'2.Logbook'!AI264)","v":""},{"$f":"IF('2.Logbook'!AJ264=\"\",\"\",'2.Logbook'!AJ264)","v":""},{"$f":"IF('2.Logbook'!AK264=\"\",\"\",'2.Logbook'!AK264)","v":""},{"$f":"IF('2.Logbook'!AL264=\"\",\"\",'2.Logbook'!AL264)","v":""},{"$f":"IF('2.Logbook'!AM264=\"\",\"\",'2.Logbook'!AM264)","v":""},{"$f":"IF('2.Logbook'!AN264=\"\",\"\",'2.Logbook'!AN264)","v":""},{"$f":"IF('2.Logbook'!AO264=\"\",\"\",'2.Logbook'!AO264)","v":""},{"$f":"IF('2.Logbook'!AP264=\"\",\"\",'2.Logbook'!AP264)","v":""},{"$f":"IF('2.Logbook'!AQ264=\"\",\"\",'2.Logbook'!AQ264)","v":""},{"$f":"IF('2.Logbook'!AR264=\"\",\"\",'2.Logbook'!AR264)","v":""},{"$f":"IF('2.Logbook'!AS264=\"\",\"\",'2.Logbook'!AS264)","v":""},{"$f":"IF('2.Logbook'!AT264=\"\",\"\",'2.Logbook'!AT264)","v":""},{"$f":"IF('2.Logbook'!AU264=\"\",\"\",'2.Logbook'!AU264)","v":""},{"$f":"IF('2.Logbook'!AV264=\"\",\"\",'2.Logbook'!AV264)","v":""},{"$f":"IF('2.Logbook'!AW264=\"\",\"\",'2.Logbook'!AW264)","v":""},{"$f":"IF('2.Logbook'!AX264=\"\",\"\",'2.Logbook'!AX264)","v":""},{"$f":"IF('2.Logbook'!AY264=\"\",\"\",'2.Logbook'!AY264)","v":""}]
[{"$f":"IF('2.Logbook'!$A265=\"\",\"\",'2.Logbook'!$A265)","v":""},{"$f":"IF('2.Logbook'!$B265=\"\",\"\",'2.Logbook'!$B265)","v":""},{"$f":"IF('2.Logbook'!AH265=\"\",\"\",'2.Logbook'!AH265)","v":""},{"$f":"IF('2.Logbook'!AI265=\"\",\"\",'2.Logbook'!AI265)","v":""},{"$f":"IF('2.Logbook'!AJ265=\"\",\"\",'2.Logbook'!AJ265)","v":""},{"$f":"IF('2.Logbook'!AK265=\"\",\"\",'2.Logbook'!AK265)","v":""},{"$f":"IF('2.Logbook'!AL265=\"\",\"\",'2.Logbook'!AL265)","v":""},{"$f":"IF('2.Logbook'!AM265=\"\",\"\",'2.Logbook'!AM265)","v":""},{"$f":"IF('2.Logbook'!AN265=\"\",\"\",'2.Logbook'!AN265)","v":""},{"$f":"IF('2.Logbook'!AO265=\"\",\"\",'2.Logbook'!AO265)","v":""},{"$f":"IF('2.Logbook'!AP265=\"\",\"\",'2.Logbook'!AP265)","v":""},{"$f":"IF('2.Logbook'!AQ265=\"\",\"\",'2.Logbook'!AQ265)","v":""},{"$f":"IF('2.Logbook'!AR265=\"\",\"\",'2.Logbook'!AR265)","v":""},{"$f":"IF('2.Logbook'!AS265=\"\",\"\",'2.Logbook'!AS265)","v":""},{"$f":"IF('2.Logbook'!AT265=\"\",\"\",'2.Logbook'!AT265)","v":""},{"$f":"IF('2.Logbook'!AU265=\"\",\"\",'2.Logbook'!AU265)","v":""},{"$f":"IF('2.Logbook'!AV265=\"\",\"\",'2.Logbook'!AV265)","v":""},{"$f":"IF('2.Logbook'!AW265=\"\",\"\",'2.Logbook'!AW265)","v":""},{"$f":"IF('2.Logbook'!AX265=\"\",\"\",'2.Logbook'!AX265)","v":""},{"$f":"IF('2.Logbook'!AY265=\"\",\"\",'2.Logbook'!AY265)","v":""}]
[{"$f":"IF('2.Logbook'!$A266=\"\",\"\",'2.Logbook'!$A266)","v":""},{"$f":"IF('2.Logbook'!$B266=\"\",\"\",'2.Logbook'!$B266)","v":""},{"$f":"IF('2.Logbook'!AH266=\"\",\"\",'2.Logbook'!AH266)","v":""},{"$f":"IF('2.Logbook'!AI266=\"\",\"\",'2.Logbook'!AI266)","v":""},{"$f":"IF('2.Logbook'!AJ266=\"\",\"\",'2.Logbook'!AJ266)","v":""},{"$f":"IF('2.Logbook'!AK266=\"\",\"\",'2.Logbook'!AK266)","v":""},{"$f":"IF('2.Logbook'!AL266=\"\",\"\",'2.Logbook'!AL266)","v":""},{"$f":"IF('2.Logbook'!AM266=\"\",\"\",'2.Logbook'!AM266)","v":""},{"$f":"IF('2.Logbook'!AN266=\"\",\"\",'2.Logbook'!AN266)","v":""},{"$f":"IF('2.Logbook'!AO266=\"\",\"\",'2.Logbook'!AO266)","v":""},{"$f":"IF('2.Logbook'!AP266=\"\",\"\",'2.Logbook'!AP266)","v":""},{"$f":"IF('2.Logbook'!AQ266=\"\",\"\",'2.Logbook'!AQ266)","v":""},{"$f":"IF('2.Logbook'!AR266=\"\",\"\",'2.Logbook'!AR266)","v":""},{"$f":"IF('2.Logbook'!AS266=\"\",\"\",'2.Logbook'!AS266)","v":""},{"$f":"IF('2.Logbook'!AT266=\"\",\"\",'2.Logbook'!AT266)","v":""},{"$f":"IF('2.Logbook'!AU266=\"\",\"\",'2.Logbook'!AU266)","v":""},{"$f":"IF('2.Logbook'!AV266=\"\",\"\",'2.Logbook'!AV266)","v":""},{"$f":"IF('2.Logbook'!AW266=\"\",\"\",'2.Logbook'!AW266)","v":""},{"$f":"IF('2.Logbook'!AX266=\"\",\"\",'2.Logbook'!AX266)","v":""},{"$f":"IF('2.Logbook'!AY266=\"\",\"\",'2.Logbook'!AY266)","v":""}]
[{"$f":"IF('2.Logbook'!$A267=\"\",\"\",'2.Logbook'!$A267)","v":""},{"$f":"IF('2.Logbook'!$B267=\"\",\"\",'2.Logbook'!$B267)","v":""},{"$f":"IF('2.Logbook'!AH267=\"\",\"\",'2.Logbook'!AH267)","v":""},{"$f":"IF('2.Logbook'!AI267=\"\",\"\",'2.Logbook'!AI267)","v":""},{"$f":"IF('2.Logbook'!AJ267=\"\",\"\",'2.Logbook'!AJ267)","v":""},{"$f":"IF('2.Logbook'!AK267=\"\",\"\",'2.Logbook'!AK267)","v":""},{"$f":"IF('2.Logbook'!AL267=\"\",\"\",'2.Logbook'!AL267)","v":""},{"$f":"IF('2.Logbook'!AM267=\"\",\"\",'2.Logbook'!AM267)","v":""},{"$f":"IF('2.Logbook'!AN267=\"\",\"\",'2.Logbook'!AN267)","v":""},{"$f":"IF('2.Logbook'!AO267=\"\",\"\",'2.Logbook'!AO267)","v":""},{"$f":"IF('2.Logbook'!AP267=\"\",\"\",'2.Logbook'!AP267)","v":""},{"$f":"IF('2.Logbook'!AQ267=\"\",\"\",'2.Logbook'!AQ267)","v":""},{"$f":"IF('2.Logbook'!AR267=\"\",\"\",'2.Logbook'!AR267)","v":""},{"$f":"IF('2.Logbook'!AS267=\"\",\"\",'2.Logbook'!AS267)","v":""},{"$f":"IF('2.Logbook'!AT267=\"\",\"\",'2.Logbook'!AT267)","v":""},{"$f":"IF('2.Logbook'!AU267=\"\",\"\",'2.Logbook'!AU267)","v":""},{"$f":"IF('2.Logbook'!AV267=\"\",\"\",'2.Logbook'!AV267)","v":""},{"$f":"IF('2.Logbook'!AW267=\"\",\"\",'2.Logbook'!AW267)","v":""},{"$f":"IF('2.Logbook'!AX267=\"\",\"\",'2.Logbook'!AX267)","v":""},{"$f":"IF('2.Logbook'!AY267=\"\",\"\",'2.Logbook'!AY267)","v":""}]
[{"$f":"IF('2.Logbook'!$A268=\"\",\"\",'2.Logbook'!$A268)","v":""},{"$f":"IF('2.Logbook'!$B268=\"\",\"\",'2.Logbook'!$B268)","v":""},{"$f":"IF('2.Logbook'!AH268=\"\",\"\",'2.Logbook'!AH268)","v":""},{"$f":"IF('2.Logbook'!AI268=\"\",\"\",'2.Logbook'!AI268)","v":""},{"$f":"IF('2.Logbook'!AJ268=\"\",\"\",'2.Logbook'!AJ268)","v":""},{"$f":"IF('2.Logbook'!AK268=\"\",\"\",'2.Logbook'!AK268)","v":""},{"$f":"IF('2.Logbook'!AL268=\"\",\"\",'2.Logbook'!AL268)","v":""},{"$f":"IF('2.Logbook'!AM268=\"\",\"\",'2.Logbook'!AM268)","v":""},{"$f":"IF('2.Logbook'!AN268=\"\",\"\",'2.Logbook'!AN268)","v":""},{"$f":"IF('2.Logbook'!AO268=\"\",\"\",'2.Logbook'!AO268)","v":""},{"$f":"IF('2.Logbook'!AP268=\"\",\"\",'2.Logbook'!AP268)","v":""},{"$f":"IF('2.Logbook'!AQ268=\"\",\"\",'2.Logbook'!AQ268)","v":""},{"$f":"IF('2.Logbook'!AR268=\"\",\"\",'2.Logbook'!AR268)","v":""},{"$f":"IF('2.Logbook'!AS268=\"\",\"\",'2.Logbook'!AS268)","v":""},{"$f":"IF('2.Logbook'!AT268=\"\",\"\",'2.Logbook'!AT268)","v":""},{"$f":"IF('2.Logbook'!AU268=\"\",\"\",'2.Logbook'!AU268)","v":""},{"$f":"IF('2.Logbook'!AV268=\"\",\"\",'2.Logbook'!AV268)","v":""},{"$f":"IF('2.Logbook'!AW268=\"\",\"\",'2.Logbook'!AW268)","v":""},{"$f":"IF('2.Logbook'!AX268=\"\",\"\",'2.Logbook'!AX268)","v":""},{"$f":"IF('2.Logbook'!AY268=\"\",\"\",'2.Logbook'!AY268)","v":""}]
[{"$f":"IF('2.Logbook'!$A269=\"\",\"\",'2.Logbook'!$A269)","v":""},{"$f":"IF('2.Logbook'!$B269=\"\",\"\",'2.Logbook'!$B269)","v":""},{"$f":"IF('2.Logbook'!AH269=\"\",\"\",'2.Logbook'!AH269)","v":""},{"$f":"IF('2.Logbook'!AI269=\"\",\"\",'2.Logbook'!AI269)","v":""},{"$f":"IF('2.Logbook'!AJ269=\"\",\"\",'2.Logbook'!AJ269)","v":""},{"$f":"IF('2.Logbook'!AK269=\"\",\"\",'2.Logbook'!AK269)","v":""},{"$f":"IF('2.Logbook'!AL269=\"\",\"\",'2.Logbook'!AL269)","v":""},{"$f":"IF('2.Logbook'!AM269=\"\",\"\",'2.Logbook'!AM269)","v":""},{"$f":"IF('2.Logbook'!AN269=\"\",\"\",'2.Logbook'!AN269)","v":""},{"$f":"IF('2.Logbook'!AO269=\"\",\"\",'2.Logbook'!AO269)","v":""},{"$f":"IF('2.Logbook'!AP269=\"\",\"\",'2.Logbook'!AP269)","v":""},{"$f":"IF('2.Logbook'!AQ269=\"\",\"\",'2.Logbook'!AQ269)","v":""},{"$f":"IF('2.Logbook'!AR269=\"\",\"\",'2.Logbook'!AR269)","v":""},{"$f":"IF('2.Logbook'!AS269=\"\",\"\",'2.Logbook'!AS269)","v":""},{"$f":"IF('2.Logbook'!AT269=\"\",\"\",'2.Logbook'!AT269)","v":""},{"$f":"IF('2.Logbook'!AU269=\"\",\"\",'2.Logbook'!AU269)","v":""},{"$f":"IF('2.Logbook'!AV269=\"\",\"\",'2.Logbook'!AV269)","v":""},{"$f":"IF('2.Logbook'!AW269=\"\",\"\",'2.Logbook'!AW269)","v":""},{"$f":"IF('2.Logbook'!AX269=\"\",\"\",'2.Logbook'!AX269)","v":""},{"$f":"IF('2.Logbook'!AY269=\"\",\"\",'2.Logbook'!AY269)","v":""}]
[{"$f":"IF('2.Logbook'!$A270=\"\",\"\",'2.Logbook'!$A270)","v":""},{"$f":"IF('2.Logbook'!$B270=\"\",\"\",'2.Logbook'!$B270)","v":""},{"$f":"IF('2.Logbook'!AH270=\"\",\"\",'2.Logbook'!AH270)","v":""},{"$f":"IF('2.Logbook'!AI270=\"\",\"\",'2.Logbook'!AI270)","v":""},{"$f":"IF('2.Logbook'!AJ270=\"\",\"\",'2.Logbook'!AJ270)","v":""},{"$f":"IF('2.Logbook'!AK270=\"\",\"\",'2.Logbook'!AK270)","v":""},{"$f":"IF('2.Logbook'!AL270=\"\",\"\",'2.Logbook'!AL270)","v":""},{"$f":"IF('2.Logbook'!AM270=\"\",\"\",'2.Logbook'!AM270)","v":""},{"$f":"IF('2.Logbook'!AN270=\"\",\"\",'2.Logbook'!AN270)","v":""},{"$f":"IF('2.Logbook'!AO270=\"\",\"\",'2.Logbook'!AO270)","v":""},{"$f":"IF('2.Logbook'!AP270=\"\",\"\",'2.Logbook'!AP270)","v":""},{"$f":"IF('2.Logbook'!AQ270=\"\",\"\",'2.Logbook'!AQ270)","v":""},{"$f":"IF('2.Logbook'!AR270=\"\",\"\",'2.Logbook'!AR270)","v":""},{"$f":"IF('2.Logbook'!AS270=\"\",\"\",'2.Logbook'!AS270)","v":""},{"$f":"IF('2.Logbook'!AT270=\"\",\"\",'2.Logbook'!AT270)","v":""},{"$f":"IF('2.Logbook'!AU270=\"\",\"\",'2.Logbook'!AU270)","v":""},{"$f":"IF('2.Logbook'!AV270=\"\",\"\",'2.Logbook'!AV270)","v":""},{"$f":"IF('2.Logbook'!AW270=\"\",\"\",'2.Logbook'!AW270)","v":""},{"$f":"IF('2.Logbook'!AX270=\"\",\"\",'2.Logbook'!AX270)","v":""},{"$f":"IF('2.Logbook'!AY270=\"\",\"\",'2.Logbook'!AY270)","v":""}]
[{"$f":"IF('2.Logbook'!$A271=\"\",\"\",'2.Logbook'!$A271)","v":""},{"$f":"IF('2.Logbook'!$B271=\"\",\"\",'2.Logbook'!$B271)","v":""},{"$f":"IF('2.Logbook'!AH271=\"\",\"\",'2.Logbook'!AH271)","v":""},{"$f":"IF('2.Logbook'!AI271=\"\",\"\",'2.Logbook'!AI271)","v":""},{"$f":"IF('2.Logbook'!AJ271=\"\",\"\",'2.Logbook'!AJ271)","v":""},{"$f":"IF('2.Logbook'!AK271=\"\",\"\",'2.Logbook'!AK271)","v":""},{"$f":"IF('2.Logbook'!AL271=\"\",\"\",'2.Logbook'!AL271)","v":""},{"$f":"IF('2.Logbook'!AM271=\"\",\"\",'2.Logbook'!AM271)","v":""},{"$f":"IF('2.Logbook'!AN271=\"\",\"\",'2.Logbook'!AN271)","v":""},{"$f":"IF('2.Logbook'!AO271=\"\",\"\",'2.Logbook'!AO271)","v":""},{"$f":"IF('2.Logbook'!AP271=\"\",\"\",'2.Logbook'!AP271)","v":""},{"$f":"IF('2.Logbook'!AQ271=\"\",\"\",'2.Logbook'!AQ271)","v":""},{"$f":"IF('2.Logbook'!AR271=\"\",\"\",'2.Logbook'!AR271)","v":""},{"$f":"IF('2.Logbook'!AS271=\"\",\"\",'2.Logbook'!AS271)","v":""},{"$f":"IF('2.Logbook'!AT271=\"\",\"\",'2.Logbook'!AT271)","v":""},{"$f":"IF('2.Logbook'!AU271=\"\",\"\",'2.Logbook'!AU271)","v":""},{"$f":"IF('2.Logbook'!AV271=\"\",\"\",'2.Logbook'!AV271)","v":""},{"$f":"IF('2.Logbook'!AW271=\"\",\"\",'2.Logbook'!AW271)","v":""},{"$f":"IF('2.Logbook'!AX271=\"\",\"\",'2.Logbook'!AX271)","v":""},{"$f":"IF('2.Logbook'!AY271=\"\",\"\",'2.Logbook'!AY271)","v":""}]
[{"$f":"IF('2.Logbook'!$A272=\"\",\"\",'2.Logbook'!$A272)","v":""},{"$f":"IF('2.Logbook'!$B272=\"\",\"\",'2.Logbook'!$B272)","v":""},{"$f":"IF('2.Logbook'!AH272=\"\",\"\",'2.Logbook'!AH272)","v":""},{"$f":"IF('2.Logbook'!AI272=\"\",\"\",'2.Logbook'!AI272)","v":""},{"$f":"IF('2.Logbook'!AJ272=\"\",\"\",'2.Logbook'!AJ272)","v":""},{"$f":"IF('2.Logbook'!AK272=\"\",\"\",'2.Logbook'!AK272)","v":""},{"$f":"IF('2.Logbook'!AL272=\"\",\"\",'2.Logbook'!AL272)","v":""},{"$f":"IF('2.Logbook'!AM272=\"\",\"\",'2.Logbook'!AM272)","v":""},{"$f":"IF('2.Logbook'!AN272=\"\",\"\",'2.Logbook'!AN272)","v":""},{"$f":"IF('2.Logbook'!AO272=\"\",\"\",'2.Logbook'!AO272)","v":""},{"$f":"IF('2.Logbook'!AP272=\"\",\"\",'2.Logbook'!AP272)","v":""},{"$f":"IF('2.Logbook'!AQ272=\"\",\"\",'2.Logbook'!AQ272)","v":""},{"$f":"IF('2.Logbook'!AR272=\"\",\"\",'2.Logbook'!AR272)","v":""},{"$f":"IF('2.Logbook'!AS272=\"\",\"\",'2.Logbook'!AS272)","v":""},{"$f":"IF('2.Logbook'!AT272=\"\",\"\",'2.Logbook'!AT272)","v":""},{"$f":"IF('2.Logbook'!AU272=\"\",\"\",'2.Logbook'!AU272)","v":""},{"$f":"IF('2.Logbook'!AV272=\"\",\"\",'2.Logbook'!AV272)","v":""},{"$f":"IF('2.Logbook'!AW272=\"\",\"\",'2.Logbook'!AW272)","v":""},{"$f":"IF('2.Logbook'!AX272=\"\",\"\",'2.Logbook'!AX272)","v":""},{"$f":"IF('2.Logbook'!AY272=\"\",\"\",'2.Logbook'!AY272)","v":""}]
[{"$f":"IF('2.Logbook'!$A273=\"\",\"\",'2.Logbook'!$A273)","v":""},{"$f":"IF('2.Logbook'!$B273=\"\",\"\",'2.Logbook'!$B273)","v":""},{"$f":"IF('2.Logbook'!AH273=\"\",\"\",'2.Logbook'!AH273)","v":""},{"$f":"IF('2.Logbook'!AI273=\"\",\"\",'2.Logbook'!AI273)","v":""},{"$f":"IF('2.Logbook'!AJ273=\"\",\"\",'2.Logbook'!AJ273)","v":""},{"$f":"IF('2.Logbook'!AK273=\"\",\"\",'2.Logbook'!AK273)","v":""},{"$f":"IF('2.Logbook'!AL273=\"\",\"\",'2.Logbook'!AL273)","v":""},{"$f":"IF('2.Logbook'!AM273=\"\",\"\",'2.Logbook'!AM273)","v":""},{"$f":"IF('2.Logbook'!AN273=\"\",\"\",'2.Logbook'!AN273)","v":""},{"$f":"IF('2.Logbook'!AO273=\"\",\"\",'2.Logbook'!AO273)","v":""},{"$f":"IF('2.Logbook'!AP273=\"\",\"\",'2.Logbook'!AP273)","v":""},{"$f":"IF('2.Logbook'!AQ273=\"\",\"\",'2.Logbook'!AQ273)","v":""},{"$f":"IF('2.Logbook'!AR273=\"\",\"\",'2.Logbook'!AR273)","v":""},{"$f":"IF('2.Logbook'!AS273=\"\",\"\",'2.Logbook'!AS273)","v":""},{"$f":"IF('2.Logbook'!AT273=\"\",\"\",'2.Logbook'!AT273)","v":""},{"$f":"IF('2.Logbook'!AU273=\"\",\"\",'2.Logbook'!AU273)","v":""},{"$f":"IF('2.Logbook'!AV273=\"\",\"\",'2.Logbook'!AV273)","v":""},{"$f":"IF('2.Logbook'!AW273=\"\",\"\",'2.Logbook'!AW273)","v":""},{"$f":"IF('2.Logbook'!AX273=\"\",\"\",'2.Logbook'!AX273)","v":""},{"$f":"IF('2.Logbook'!AY273=\"\",\"\",'2.Logbook'!AY273)","v":""}]
[{"$f":"IF('2.Logbook'!$A274=\"\",\"\",'2.Logbook'!$A274)","v":""},{"$f":"IF('2.Logbook'!$B274=\"\",\"\",'2.Logbook'!$B274)","v":""},{"$f":"IF('2.Logbook'!AH274=\"\",\"\",'2.Logbook'!AH274)","v":""},{"$f":"IF('2.Logbook'!AI274=\"\",\"\",'2.Logbook'!AI274)","v":""},{"$f":"IF('2.Logbook'!AJ274=\"\",\"\",'2.Logbook'!AJ274)","v":""},{"$f":"IF('2.Logbook'!AK274=\"\",\"\",'2.Logbook'!AK274)","v":""},{"$f":"IF('2.Logbook'!AL274=\"\",\"\",'2.Logbook'!AL274)","v":""},{"$f":"IF('2.Logbook'!AM274=\"\",\"\",'2.Logbook'!AM274)","v":""},{"$f":"IF('2.Logbook'!AN274=\"\",\"\",'2.Logbook'!AN274)","v":""},{"$f":"IF('2.Logbook'!AO274=\"\",\"\",'2.Logbook'!AO274)","v":""},{"$f":"IF('2.Logbook'!AP274=\"\",\"\",'2.Logbook'!AP274)","v":""},{"$f":"IF('2.Logbook'!AQ274=\"\",\"\",'2.Logbook'!AQ274)","v":""},{"$f":"IF('2.Logbook'!AR274=\"\",\"\",'2.Logbook'!AR274)","v":""},{"$f":"IF('2.Logbook'!AS274=\"\",\"\",'2.Logbook'!AS274)","v":""},{"$f":"IF('2.Logbook'!AT274=\"\",\"\",'2.Logbook'!AT274)","v":""},{"$f":"IF('2.Logbook'!AU274=\"\",\"\",'2.Logbook'!AU274)","v":""},{"$f":"IF('2.Logbook'!AV274=\"\",\"\",'2.Logbook'!AV274)","v":""},{"$f":"IF('2.Logbook'!AW274=\"\",\"\",'2.Logbook'!AW274)","v":""},{"$f":"IF('2.Logbook'!AX274=\"\",\"\",'2.Logbook'!AX274)","v":""},{"$f":"IF('2.Logbook'!AY274=\"\",\"\",'2.Logbook'!AY274)","v":""}]
[{"$f":"IF('2.Logbook'!$A275=\"\",\"\",'2.Logbook'!$A275)","v":""},{"$f":"IF('2.Logbook'!$B275=\"\",\"\",'2.Logbook'!$B275)","v":""},{"$f":"IF('2.Logbook'!AH275=\"\",\"\",'2.Logbook'!AH275)","v":""},{"$f":"IF('2.Logbook'!AI275=\"\",\"\",'2.Logbook'!AI275)","v":""},{"$f":"IF('2.Logbook'!AJ275=\"\",\"\",'2.Logbook'!AJ275)","v":""},{"$f":"IF('2.Logbook'!AK275=\"\",\"\",'2.Logbook'!AK275)","v":""},{"$f":"IF('2.Logbook'!AL275=\"\",\"\",'2.Logbook'!AL275)","v":""},{"$f":"IF('2.Logbook'!AM275=\"\",\"\",'2.Logbook'!AM275)","v":""},{"$f":"IF('2.Logbook'!AN275=\"\",\"\",'2.Logbook'!AN275)","v":""},{"$f":"IF('2.Logbook'!AO275=\"\",\"\",'2.Logbook'!AO275)","v":""},{"$f":"IF('2.Logbook'!AP275=\"\",\"\",'2.Logbook'!AP275)","v":""},{"$f":"IF('2.Logbook'!AQ275=\"\",\"\",'2.Logbook'!AQ275)","v":""},{"$f":"IF('2.Logbook'!AR275=\"\",\"\",'2.Logbook'!AR275)","v":""},{"$f":"IF('2.Logbook'!AS275=\"\",\"\",'2.Logbook'!AS275)","v":""},{"$f":"IF('2.Logbook'!AT275=\"\",\"\",'2.Logbook'!AT275)","v":""},{"$f":"IF('2.Logbook'!AU275=\"\",\"\",'2.Logbook'!AU275)","v":""},{"$f":"IF('2.Logbook'!AV275=\"\",\"\",'2.Logbook'!AV275)","v":""},{"$f":"IF('2.Logbook'!AW275=\"\",\"\",'2.Logbook'!AW275)","v":""},{"$f":"IF('2.Logbook'!AX275=\"\",\"\",'2.Logbook'!AX275)","v":""},{"$f":"IF('2.Logbook'!AY275=\"\",\"\",'2.Logbook'!AY275)","v":""}]
[{"$f":"IF('2.Logbook'!$A276=\"\",\"\",'2.Logbook'!$A276)","v":""},{"$f":"IF('2.Logbook'!$B276=\"\",\"\",'2.Logbook'!$B276)","v":""},{"$f":"IF('2.Logbook'!AH276=\"\",\"\",'2.Logbook'!AH276)","v":""},{"$f":"IF('2.Logbook'!AI276=\"\",\"\",'2.Logbook'!AI276)","v":""},{"$f":"IF('2.Logbook'!AJ276=\"\",\"\",'2.Logbook'!AJ276)","v":""},{"$f":"IF('2.Logbook'!AK276=\"\",\"\",'2.Logbook'!AK276)","v":""},{"$f":"IF('2.Logbook'!AL276=\"\",\"\",'2.Logbook'!AL276)","v":""},{"$f":"IF('2.Logbook'!AM276=\"\",\"\",'2.Logbook'!AM276)","v":""},{"$f":"IF('2.Logbook'!AN276=\"\",\"\",'2.Logbook'!AN276)","v":""},{"$f":"IF('2.Logbook'!AO276=\"\",\"\",'2.Logbook'!AO276)","v":""},{"$f":"IF('2.Logbook'!AP276=\"\",\"\",'2.Logbook'!AP276)","v":""},{"$f":"IF('2.Logbook'!AQ276=\"\",\"\",'2.Logbook'!AQ276)","v":""},{"$f":"IF('2.Logbook'!AR276=\"\",\"\",'2.Logbook'!AR276)","v":""},{"$f":"IF('2.Logbook'!AS276=\"\",\"\",'2.Logbook'!AS276)","v":""},{"$f":"IF('2.Logbook'!AT276=\"\",\"\",'2.Logbook'!AT276)","v":""},{"$f":"IF('2.Logbook'!AU276=\"\",\"\",'2.Logbook'!AU276)","v":""},{"$f":"IF('2.Logbook'!AV276=\"\",\"\",'2.Logbook'!AV276)","v":""},{"$f":"IF('2.Logbook'!AW276=\"\",\"\",'2.Logbook'!AW276)","v":""},{"$f":"IF('2.Logbook'!AX276=\"\",\"\",'2.Logbook'!AX276)","v":""},{"$f":"IF('2.Logbook'!AY276=\"\",\"\",'2.Logbook'!AY276)","v":""}]
[{"$f":"IF('2.Logbook'!$A277=\"\",\"\",'2.Logbook'!$A277)","v":""},{"$f":"IF('2.Logbook'!$B277=\"\",\"\",'2.Logbook'!$B277)","v":""},{"$f":"IF('2.Logbook'!AH277=\"\",\"\",'2.Logbook'!AH277)","v":""},{"$f":"IF('2.Logbook'!AI277=\"\",\"\",'2.Logbook'!AI277)","v":""},{"$f":"IF('2.Logbook'!AJ277=\"\",\"\",'2.Logbook'!AJ277)","v":""},{"$f":"IF('2.Logbook'!AK277=\"\",\"\",'2.Logbook'!AK277)","v":""},{"$f":"IF('2.Logbook'!AL277=\"\",\"\",'2.Logbook'!AL277)","v":""},{"$f":"IF('2.Logbook'!AM277=\"\",\"\",'2.Logbook'!AM277)","v":""},{"$f":"IF('2.Logbook'!AN277=\"\",\"\",'2.Logbook'!AN277)","v":""},{"$f":"IF('2.Logbook'!AO277=\"\",\"\",'2.Logbook'!AO277)","v":""},{"$f":"IF('2.Logbook'!AP277=\"\",\"\",'2.Logbook'!AP277)","v":""},{"$f":"IF('2.Logbook'!AQ277=\"\",\"\",'2.Logbook'!AQ277)","v":""},{"$f":"IF('2.Logbook'!AR277=\"\",\"\",'2.Logbook'!AR277)","v":""},{"$f":"IF('2.Logbook'!AS277=\"\",\"\",'2.Logbook'!AS277)","v":""},{"$f":"IF('2.Logbook'!AT277=\"\",\"\",'2.Logbook'!AT277)","v":""},{"$f":"IF('2.Logbook'!AU277=\"\",\"\",'2.Logbook'!AU277)","v":""},{"$f":"IF('2.Logbook'!AV277=\"\",\"\",'2.Logbook'!AV277)","v":""},{"$f":"IF('2.Logbook'!AW277=\"\",\"\",'2.Logbook'!AW277)","v":""},{"$f":"IF('2.Logbook'!AX277=\"\",\"\",'2.Logbook'!AX277)","v":""},{"$f":"IF('2.Logbook'!AY277=\"\",\"\",'2.Logbook'!AY277)","v":""}]
[{"$f":"IF('2.Logbook'!$A278=\"\",\"\",'2.Logbook'!$A278)","v":""},{"$f":"IF('2.Logbook'!$B278=\"\",\"\",'2.Logbook'!$B278)","v":""},{"$f":"IF('2.Logbook'!AH278=\"\",\"\",'2.Logbook'!AH278)","v":""},{"$f":"IF('2.Logbook'!AI278=\"\",\"\",'2.Logbook'!AI278)","v":""},{"$f":"IF('2.Logbook'!AJ278=\"\",\"\",'2.Logbook'!AJ278)","v":""},{"$f":"IF('2.Logbook'!AK278=\"\",\"\",'2.Logbook'!AK278)","v":""},{"$f":"IF('2.Logbook'!AL278=\"\",\"\",'2.Logbook'!AL278)","v":""},{"$f":"IF('2.Logbook'!AM278=\"\",\"\",'2.Logbook'!AM278)","v":""},{"$f":"IF('2.Logbook'!AN278=\"\",\"\",'2.Logbook'!AN278)","v":""},{"$f":"IF('2.Logbook'!AO278=\"\",\"\",'2.Logbook'!AO278)","v":""},{"$f":"IF('2.Logbook'!AP278=\"\",\"\",'2.Logbook'!AP278)","v":""},{"$f":"IF('2.Logbook'!AQ278=\"\",\"\",'2.Logbook'!AQ278)","v":""},{"$f":"IF('2.Logbook'!AR278=\"\",\"\",'2.Logbook'!AR278)","v":""},{"$f":"IF('2.Logbook'!AS278=\"\",\"\",'2.Logbook'!AS278)","v":""},{"$f":"IF('2.Logbook'!AT278=\"\",\"\",'2.Logbook'!AT278)","v":""},{"$f":"IF('2.Logbook'!AU278=\"\",\"\",'2.Logbook'!AU278)","v":""},{"$f":"IF('2.Logbook'!AV278=\"\",\"\",'2.Logbook'!AV278)","v":""},{"$f":"IF('2.Logbook'!AW278=\"\",\"\",'2.Logbook'!AW278)","v":""},{"$f":"IF('2.Logbook'!AX278=\"\",\"\",'2.Logbook'!AX278)","v":""},{"$f":"IF('2.Logbook'!AY278=\"\",\"\",'2.Logbook'!AY278)","v":""}]
[{"$f":"IF('2.Logbook'!$A279=\"\",\"\",'2.Logbook'!$A279)","v":""},{"$f":"IF('2.Logbook'!$B279=\"\",\"\",'2.Logbook'!$B279)","v":""},{"$f":"IF('2.Logbook'!AH279=\"\",\"\",'2.Logbook'!AH279)","v":""},{"$f":"IF('2.Logbook'!AI279=\"\",\"\",'2.Logbook'!AI279)","v":""},{"$f":"IF('2.Logbook'!AJ279=\"\",\"\",'2.Logbook'!AJ279)","v":""},{"$f":"IF('2.Logbook'!AK279=\"\",\"\",'2.Logbook'!AK279)","v":""},{"$f":"IF('2.Logbook'!AL279=\"\",\"\",'2.Logbook'!AL279)","v":""},{"$f":"IF('2.Logbook'!AM279=\"\",\"\",'2.Logbook'!AM279)","v":""},{"$f":"IF('2.Logbook'!AN279=\"\",\"\",'2.Logbook'!AN279)","v":""},{"$f":"IF('2.Logbook'!AO279=\"\",\"\",'2.Logbook'!AO279)","v":""},{"$f":"IF('2.Logbook'!AP279=\"\",\"\",'2.Logbook'!AP279)","v":""},{"$f":"IF('2.Logbook'!AQ279=\"\",\"\",'2.Logbook'!AQ279)","v":""},{"$f":"IF('2.Logbook'!AR279=\"\",\"\",'2.Logbook'!AR279)","v":""},{"$f":"IF('2.Logbook'!AS279=\"\",\"\",'2.Logbook'!AS279)","v":""},{"$f":"IF('2.Logbook'!AT279=\"\",\"\",'2.Logbook'!AT279)","v":""},{"$f":"IF('2.Logbook'!AU279=\"\",\"\",'2.Logbook'!AU279)","v":""},{"$f":"IF('2.Logbook'!AV279=\"\",\"\",'2.Logbook'!AV279)","v":""},{"$f":"IF('2.Logbook'!AW279=\"\",\"\",'2.Logbook'!AW279)","v":""},{"$f":"IF('2.Logbook'!AX279=\"\",\"\",'2.Logbook'!AX279)","v":""},{"$f":"IF('2.Logbook'!AY279=\"\",\"\",'2.Logbook'!AY279)","v":""}]
[{"$f":"IF('2.Logbook'!$A280=\"\",\"\",'2.Logbook'!$A280)","v":""},{"$f":"IF('2.Logbook'!$B280=\"\",\"\",'2.Logbook'!$B280)","v":""},{"$f":"IF('2.Logbook'!AH280=\"\",\"\",'2.Logbook'!AH280)","v":""},{"$f":"IF('2.Logbook'!AI280=\"\",\"\",'2.Logbook'!AI280)","v":""},{"$f":"IF('2.Logbook'!AJ280=\"\",\"\",'2.Logbook'!AJ280)","v":""},{"$f":"IF('2.Logbook'!AK280=\"\",\"\",'2.Logbook'!AK280)","v":""},{"$f":"IF('2.Logbook'!AL280=\"\",\"\",'2.Logbook'!AL280)","v":""},{"$f":"IF('2.Logbook'!AM280=\"\",\"\",'2.Logbook'!AM280)","v":""},{"$f":"IF('2.Logbook'!AN280=\"\",\"\",'2.Logbook'!AN280)","v":""},{"$f":"IF('2.Logbook'!AO280=\"\",\"\",'2.Logbook'!AO280)","v":""},{"$f":"IF('2.Logbook'!AP280=\"\",\"\",'2.Logbook'!AP280)","v":""},{"$f":"IF('2.Logbook'!AQ280=\"\",\"\",'2.Logbook'!AQ280)","v":""},{"$f":"IF('2.Logbook'!AR280=\"\",\"\",'2.Logbook'!AR280)","v":""},{"$f":"IF('2.Logbook'!AS280=\"\",\"\",'2.Logbook'!AS280)","v":""},{"$f":"IF('2.Logbook'!AT280=\"\",\"\",'2.Logbook'!AT280)","v":""},{"$f":"IF('2.Logbook'!AU280=\"\",\"\",'2.Logbook'!AU280)","v":""},{"$f":"IF('2.Logbook'!AV280=\"\",\"\",'2.Logbook'!AV280)","v":""},{"$f":"IF('2.Logbook'!AW280=\"\",\"\",'2.Logbook'!AW280)","v":""},{"$f":"IF('2.Logbook'!AX280=\"\",\"\",'2.Logbook'!AX280)","v":""},{"$f":"IF('2.Logbook'!AY280=\"\",\"\",'2.Logbook'!AY280)","v":""}]
[{"$f":"IF('2.Logbook'!$A281=\"\",\"\",'2.Logbook'!$A281)","v":""},{"$f":"IF('2.Logbook'!$B281=\"\",\"\",'2.Logbook'!$B281)","v":""},{"$f":"IF('2.Logbook'!AH281=\"\",\"\",'2.Logbook'!AH281)","v":""},{"$f":"IF('2.Logbook'!AI281=\"\",\"\",'2.Logbook'!AI281)","v":""},{"$f":"IF('2.Logbook'!AJ281=\"\",\"\",'2.Logbook'!AJ281)","v":""},{"$f":"IF('2.Logbook'!AK281=\"\",\"\",'2.Logbook'!AK281)","v":""},{"$f":"IF('2.Logbook'!AL281=\"\",\"\",'2.Logbook'!AL281)","v":""},{"$f":"IF('2.Logbook'!AM281=\"\",\"\",'2.Logbook'!AM281)","v":""},{"$f":"IF('2.Logbook'!AN281=\"\",\"\",'2.Logbook'!AN281)","v":""},{"$f":"IF('2.Logbook'!AO281=\"\",\"\",'2.Logbook'!AO281)","v":""},{"$f":"IF('2.Logbook'!AP281=\"\",\"\",'2.Logbook'!AP281)","v":""},{"$f":"IF('2.Logbook'!AQ281=\"\",\"\",'2.Logbook'!AQ281)","v":""},{"$f":"IF('2.Logbook'!AR281=\"\",\"\",'2.Logbook'!AR281)","v":""},{"$f":"IF('2.Logbook'!AS281=\"\",\"\",'2.Logbook'!AS281)","v":""},{"$f":"IF('2.Logbook'!AT281=\"\",\"\",'2.Logbook'!AT281)","v":""},{"$f":"IF('2.Logbook'!AU281=\"\",\"\",'2.Logbook'!AU281)","v":""},{"$f":"IF('2.Logbook'!AV281=\"\",\"\",'2.Logbook'!AV281)","v":""},{"$f":"IF('2.Logbook'!AW281=\"\",\"\",'2.Logbook'!AW281)","v":""},{"$f":"IF('2.Logbook'!AX281=\"\",\"\",'2.Logbook'!AX281)","v":""},{"$f":"IF('2.Logbook'!AY281=\"\",\"\",'2.Logbook'!AY281)","v":""}]
[{"$f":"IF('2.Logbook'!$A282=\"\",\"\",'2.Logbook'!$A282)","v":""},{"$f":"IF('2.Logbook'!$B282=\"\",\"\",'2.Logbook'!$B282)","v":""},{"$f":"IF('2.Logbook'!AH282=\"\",\"\",'2.Logbook'!AH282)","v":""},{"$f":"IF('2.Logbook'!AI282=\"\",\"\",'2.Logbook'!AI282)","v":""},{"$f":"IF('2.Logbook'!AJ282=\"\",\"\",'2.Logbook'!AJ282)","v":""},{"$f":"IF('2.Logbook'!AK282=\"\",\"\",'2.Logbook'!AK282)","v":""},{"$f":"IF('2.Logbook'!AL282=\"\",\"\",'2.Logbook'!AL282)","v":""},{"$f":"IF('2.Logbook'!AM282=\"\",\"\",'2.Logbook'!AM282)","v":""},{"$f":"IF('2.Logbook'!AN282=\"\",\"\",'2.Logbook'!AN282)","v":""},{"$f":"IF('2.Logbook'!AO282=\"\",\"\",'2.Logbook'!AO282)","v":""},{"$f":"IF('2.Logbook'!AP282=\"\",\"\",'2.Logbook'!AP282)","v":""},{"$f":"IF('2.Logbook'!AQ282=\"\",\"\",'2.Logbook'!AQ282)","v":""},{"$f":"IF('2.Logbook'!AR282=\"\",\"\",'2.Logbook'!AR282)","v":""},{"$f":"IF('2.Logbook'!AS282=\"\",\"\",'2.Logbook'!AS282)","v":""},{"$f":"IF('2.Logbook'!AT282=\"\",\"\",'2.Logbook'!AT282)","v":""},{"$f":"IF('2.Logbook'!AU282=\"\",\"\",'2.Logbook'!AU282)","v":""},{"$f":"IF('2.Logbook'!AV282=\"\",\"\",'2.Logbook'!AV282)","v":""},{"$f":"IF('2.Logbook'!AW282=\"\",\"\",'2.Logbook'!AW282)","v":""},{"$f":"IF('2.Logbook'!AX282=\"\",\"\",'2.Logbook'!AX282)","v":""},{"$f":"IF('2.Logbook'!AY282=\"\",\"\",'2.Logbook'!AY282)","v":""}]
[{"$f":"IF('2.Logbook'!$A283=\"\",\"\",'2.Logbook'!$A283)","v":""},{"$f":"IF('2.Logbook'!$B283=\"\",\"\",'2.Logbook'!$B283)","v":""},{"$f":"IF('2.Logbook'!AH283=\"\",\"\",'2.Logbook'!AH283)","v":""},{"$f":"IF('2.Logbook'!AI283=\"\",\"\",'2.Logbook'!AI283)","v":""},{"$f":"IF('2.Logbook'!AJ283=\"\",\"\",'2.Logbook'!AJ283)","v":""},{"$f":"IF('2.Logbook'!AK283=\"\",\"\",'2.Logbook'!AK283)","v":""},{"$f":"IF('2.Logbook'!AL283=\"\",\"\",'2.Logbook'!AL283)","v":""},{"$f":"IF('2.Logbook'!AM283=\"\",\"\",'2.Logbook'!AM283)","v":""},{"$f":"IF('2.Logbook'!AN283=\"\",\"\",'2.Logbook'!AN283)","v":""},{"$f":"IF('2.Logbook'!AO283=\"\",\"\",'2.Logbook'!AO283)","v":""},{"$f":"IF('2.Logbook'!AP283=\"\",\"\",'2.Logbook'!AP283)","v":""},{"$f":"IF('2.Logbook'!AQ283=\"\",\"\",'2.Logbook'!AQ283)","v":""},{"$f":"IF('2.Logbook'!AR283=\"\",\"\",'2.Logbook'!AR283)","v":""},{"$f":"IF('2.Logbook'!AS283=\"\",\"\",'2.Logbook'!AS283)","v":""},{"$f":"IF('2.Logbook'!AT283=\"\",\"\",'2.Logbook'!AT283)","v":""},{"$f":"IF('2.Logbook'!AU283=\"\",\"\",'2.Logbook'!AU283)","v":""},{"$f":"IF('2.Logbook'!AV283=\"\",\"\",'2.Logbook'!AV283)","v":""},{"$f":"IF('2.Logbook'!AW283=\"\",\"\",'2.Logbook'!AW283)","v":""},{"$f":"IF('2.Logbook'!AX283=\"\",\"\",'2.Logbook'!AX283)","v":""},{"$f":"IF('2.Logbook'!AY283=\"\",\"\",'2.Logbook'!AY283)","v":""}]
[{"$f":"IF('2.Logbook'!$A284=\"\",\"\",'2.Logbook'!$A284)","v":""},{"$f":"IF('2.Logbook'!$B284=\"\",\"\",'2.Logbook'!$B284)","v":""},{"$f":"IF('2.Logbook'!AH284=\"\",\"\",'2.Logbook'!AH284)","v":""},{"$f":"IF('2.Logbook'!AI284=\"\",\"\",'2.Logbook'!AI284)","v":""},{"$f":"IF('2.Logbook'!AJ284=\"\",\"\",'2.Logbook'!AJ284)","v":""},{"$f":"IF('2.Logbook'!AK284=\"\",\"\",'2.Logbook'!AK284)","v":""},{"$f":"IF('2.Logbook'!AL284=\"\",\"\",'2.Logbook'!AL284)","v":""},{"$f":"IF('2.Logbook'!AM284=\"\",\"\",'2.Logbook'!AM284)","v":""},{"$f":"IF('2.Logbook'!AN284=\"\",\"\",'2.Logbook'!AN284)","v":""},{"$f":"IF('2.Logbook'!AO284=\"\",\"\",'2.Logbook'!AO284)","v":""},{"$f":"IF('2.Logbook'!AP284=\"\",\"\",'2.Logbook'!AP284)","v":""},{"$f":"IF('2.Logbook'!AQ284=\"\",\"\",'2.Logbook'!AQ284)","v":""},{"$f":"IF('2.Logbook'!AR284=\"\",\"\",'2.Logbook'!AR284)","v":""},{"$f":"IF('2.Logbook'!AS284=\"\",\"\",'2.Logbook'!AS284)","v":""},{"$f":"IF('2.Logbook'!AT284=\"\",\"\",'2.Logbook'!AT284)","v":""},{"$f":"IF('2.Logbook'!AU284=\"\",\"\",'2.Logbook'!AU284)","v":""},{"$f":"IF('2.Logbook'!AV284=\"\",\"\",'2.Logbook'!AV284)","v":""},{"$f":"IF('2.Logbook'!AW284=\"\",\"\",'2.Logbook'!AW284)","v":""},{"$f":"IF('2.Logbook'!AX284=\"\",\"\",'2.Logbook'!AX284)","v":""},{"$f":"IF('2.Logbook'!AY284=\"\",\"\",'2.Logbook'!AY284)","v":""}]
[{"$f":"IF('2.Logbook'!$A285=\"\",\"\",'2.Logbook'!$A285)","v":""},{"$f":"IF('2.Logbook'!$B285=\"\",\"\",'2.Logbook'!$B285)","v":""},{"$f":"IF('2.Logbook'!AH285=\"\",\"\",'2.Logbook'!AH285)","v":""},{"$f":"IF('2.Logbook'!AI285=\"\",\"\",'2.Logbook'!AI285)","v":""},{"$f":"IF('2.Logbook'!AJ285=\"\",\"\",'2.Logbook'!AJ285)","v":""},{"$f":"IF('2.Logbook'!AK285=\"\",\"\",'2.Logbook'!AK285)","v":""},{"$f":"IF('2.Logbook'!AL285=\"\",\"\",'2.Logbook'!AL285)","v":""},{"$f":"IF('2.Logbook'!AM285=\"\",\"\",'2.Logbook'!AM285)","v":""},{"$f":"IF('2.Logbook'!AN285=\"\",\"\",'2.Logbook'!AN285)","v":""},{"$f":"IF('2.Logbook'!AO285=\"\",\"\",'2.Logbook'!AO285)","v":""},{"$f":"IF('2.Logbook'!AP285=\"\",\"\",'2.Logbook'!AP285)","v":""},{"$f":"IF('2.Logbook'!AQ285=\"\",\"\",'2.Logbook'!AQ285)","v":""},{"$f":"IF('2.Logbook'!AR285=\"\",\"\",'2.Logbook'!AR285)","v":""},{"$f":"IF('2.Logbook'!AS285=\"\",\"\",'2.Logbook'!AS285)","v":""},{"$f":"IF('2.Logbook'!AT285=\"\",\"\",'2.Logbook'!AT285)","v":""},{"$f":"IF('2.Logbook'!AU285=\"\",\"\",'2.Logbook'!AU285)","v":""},{"$f":"IF('2.Logbook'!AV285=\"\",\"\",'2.Logbook'!AV285)","v":""},{"$f":"IF('2.Logbook'!AW285=\"\",\"\",'2.Logbook'!AW285)","v":""},{"$f":"IF('2.Logbook'!AX285=\"\",\"\",'2.Logbook'!AX285)","v":""},{"$f":"IF('2.Logbook'!AY285=\"\",\"\",'2.Logbook'!AY285)","v":""}]
[{"$f":"IF('2.Logbook'!$A286=\"\",\"\",'2.Logbook'!$A286)","v":""},{"$f":"IF('2.Logbook'!$B286=\"\",\"\",'2.Logbook'!$B286)","v":""},{"$f":"IF('2.Logbook'!AH286=\"\",\"\",'2.Logbook'!AH286)","v":""},{"$f":"IF('2.Logbook'!AI286=\"\",\"\",'2.Logbook'!AI286)","v":""},{"$f":"IF('2.Logbook'!AJ286=\"\",\"\",'2.Logbook'!AJ286)","v":""},{"$f":"IF('2.Logbook'!AK286=\"\",\"\",'2.Logbook'!AK286)","v":""},{"$f":"IF('2.Logbook'!AL286=\"\",\"\",'2.Logbook'!AL286)","v":""},{"$f":"IF('2.Logbook'!AM286=\"\",\"\",'2.Logbook'!AM286)","v":""},{"$f":"IF('2.Logbook'!AN286=\"\",\"\",'2.Logbook'!AN286)","v":""},{"$f":"IF('2.Logbook'!AO286=\"\",\"\",'2.Logbook'!AO286)","v":""},{"$f":"IF('2.Logbook'!AP286=\"\",\"\",'2.Logbook'!AP286)","v":""},{"$f":"IF('2.Logbook'!AQ286=\"\",\"\",'2.Logbook'!AQ286)","v":""},{"$f":"IF('2.Logbook'!AR286=\"\",\"\",'2.Logbook'!AR286)","v":""},{"$f":"IF('2.Logbook'!AS286=\"\",\"\",'2.Logbook'!AS286)","v":""},{"$f":"IF('2.Logbook'!AT286=\"\",\"\",'2.Logbook'!AT286)","v":""},{"$f":"IF('2.Logbook'!AU286=\"\",\"\",'2.Logbook'!AU286)","v":""},{"$f":"IF('2.Logbook'!AV286=\"\",\"\",'2.Logbook'!AV286)","v":""},{"$f":"IF('2.Logbook'!AW286=\"\",\"\",'2.Logbook'!AW286)","v":""},{"$f":"IF('2.Logbook'!AX286=\"\",\"\",'2.Logbook'!AX286)","v":""},{"$f":"IF('2.Logbook'!AY286=\"\",\"\",'2.Logbook'!AY286)","v":""}]
[{"$f":"IF('2.Logbook'!$A287=\"\",\"\",'2.Logbook'!$A287)","v":""},{"$f":"IF('2.Logbook'!$B287=\"\",\"\",'2.Logbook'!$B287)","v":""},{"$f":"IF('2.Logbook'!AH287=\"\",\"\",'2.Logbook'!AH287)","v":""},{"$f":"IF('2.Logbook'!AI287=\"\",\"\",'2.Logbook'!AI287)","v":""},{"$f":"IF('2.Logbook'!AJ287=\"\",\"\",'2.Logbook'!AJ287)","v":""},{"$f":"IF('2.Logbook'!AK287=\"\",\"\",'2.Logbook'!AK287)","v":""},{"$f":"IF('2.Logbook'!AL287=\"\",\"\",'2.Logbook'!AL287)","v":""},{"$f":"IF('2.Logbook'!AM287=\"\",\"\",'2.Logbook'!AM287)","v":""},{"$f":"IF('2.Logbook'!AN287=\"\",\"\",'2.Logbook'!AN287)","v":""},{"$f":"IF('2.Logbook'!AO287=\"\",\"\",'2.Logbook'!AO287)","v":""},{"$f":"IF('2.Logbook'!AP287=\"\",\"\",'2.Logbook'!AP287)","v":""},{"$f":"IF('2.Logbook'!AQ287=\"\",\"\",'2.Logbook'!AQ287)","v":""},{"$f":"IF('2.Logbook'!AR287=\"\",\"\",'2.Logbook'!AR287)","v":""},{"$f":"IF('2.Logbook'!AS287=\"\",\"\",'2.Logbook'!AS287)","v":""},{"$f":"IF('2.Logbook'!AT287=\"\",\"\",'2.Logbook'!AT287)","v":""},{"$f":"IF('2.Logbook'!AU287=\"\",\"\",'2.Logbook'!AU287)","v":""},{"$f":"IF('2.Logbook'!AV287=\"\",\"\",'2.Logbook'!AV287)","v":""},{"$f":"IF('2.Logbook'!AW287=\"\",\"\",'2.Logbook'!AW287)","v":""},{"$f":"IF('2.Logbook'!AX287=\"\",\"\",'2.Logbook'!AX287)","v":""},{"$f":"IF('2.Logbook'!AY287=\"\",\"\",'2.Logbook'!AY287)","v":""}]
[{"$f":"IF('2.Logbook'!$A288=\"\",\"\",'2.Logbook'!$A288)","v":""},{"$f":"IF('2.Logbook'!$B288=\"\",\"\",'2.Logbook'!$B288)","v":""},{"$f":"IF('2.Logbook'!AH288=\"\",\"\",'2.Logbook'!AH288)","v":""},{"$f":"IF('2.Logbook'!AI288=\"\",\"\",'2.Logbook'!AI288)","v":""},{"$f":"IF('2.Logbook'!AJ288=\"\",\"\",'2.Logbook'!AJ288)","v":""},{"$f":"IF('2.Logbook'!AK288=\"\",\"\",'2.Logbook'!AK288)","v":""},{"$f":"IF('2.Logbook'!AL288=\"\",\"\",'2.Logbook'!AL288)","v":""},{"$f":"IF('2.Logbook'!AM288=\"\",\"\",'2.Logbook'!AM288)","v":""},{"$f":"IF('2.Logbook'!AN288=\"\",\"\",'2.Logbook'!AN288)","v":""},{"$f":"IF('2.Logbook'!AO288=\"\",\"\",'2.Logbook'!AO288)","v":""},{"$f":"IF('2.Logbook'!AP288=\"\",\"\",'2.Logbook'!AP288)","v":""},{"$f":"IF('2.Logbook'!AQ288=\"\",\"\",'2.Logbook'!AQ288)","v":""},{"$f":"IF('2.Logbook'!AR288=\"\",\"\",'2.Logbook'!AR288)","v":""},{"$f":"IF('2.Logbook'!AS288=\"\",\"\",'2.Logbook'!AS288)","v":""},{"$f":"IF('2.Logbook'!AT288=\"\",\"\",'2.Logbook'!AT288)","v":""},{"$f":"IF('2.Logbook'!AU288=\"\",\"\",'2.Logbook'!AU288)","v":""},{"$f":"IF('2.Logbook'!AV288=\"\",\"\",'2.Logbook'!AV288)","v":""},{"$f":"IF('2.Logbook'!AW288=\"\",\"\",'2.Logbook'!AW288)","v":""},{"$f":"IF('2.Logbook'!AX288=\"\",\"\",'2.Logbook'!AX288)","v":""},{"$f":"IF('2.Logbook'!AY288=\"\",\"\",'2.Logbook'!AY288)","v":""}]
[{"$f":"IF('2.Logbook'!$A289=\"\",\"\",'2.Logbook'!$A289)","v":""},{"$f":"IF('2.Logbook'!$B289=\"\",\"\",'2.Logbook'!$B289)","v":""},{"$f":"IF('2.Logbook'!AH289=\"\",\"\",'2.Logbook'!AH289)","v":""},{"$f":"IF('2.Logbook'!AI289=\"\",\"\",'2.Logbook'!AI289)","v":""},{"$f":"IF('2.Logbook'!AJ289=\"\",\"\",'2.Logbook'!AJ289)","v":""},{"$f":"IF('2.Logbook'!AK289=\"\",\"\",'2.Logbook'!AK289)","v":""},{"$f":"IF('2.Logbook'!AL289=\"\",\"\",'2.Logbook'!AL289)","v":""},{"$f":"IF('2.Logbook'!AM289=\"\",\"\",'2.Logbook'!AM289)","v":""},{"$f":"IF('2.Logbook'!AN289=\"\",\"\",'2.Logbook'!AN289)","v":""},{"$f":"IF('2.Logbook'!AO289=\"\",\"\",'2.Logbook'!AO289)","v":""},{"$f":"IF('2.Logbook'!AP289=\"\",\"\",'2.Logbook'!AP289)","v":""},{"$f":"IF('2.Logbook'!AQ289=\"\",\"\",'2.Logbook'!AQ289)","v":""},{"$f":"IF('2.Logbook'!AR289=\"\",\"\",'2.Logbook'!AR289)","v":""},{"$f":"IF('2.Logbook'!AS289=\"\",\"\",'2.Logbook'!AS289)","v":""},{"$f":"IF('2.Logbook'!AT289=\"\",\"\",'2.Logbook'!AT289)","v":""},{"$f":"IF('2.Logbook'!AU289=\"\",\"\",'2.Logbook'!AU289)","v":""},{"$f":"IF('2.Logbook'!AV289=\"\",\"\",'2.Logbook'!AV289)","v":""},{"$f":"IF('2.Logbook'!AW289=\"\",\"\",'2.Logbook'!AW289)","v":""},{"$f":"IF('2.Logbook'!AX289=\"\",\"\",'2.Logbook'!AX289)","v":""},{"$f":"IF('2.Logbook'!AY289=\"\",\"\",'2.Logbook'!AY289)","v":""}]
[{"$f":"IF('2.Logbook'!$A290=\"\",\"\",'2.Logbook'!$A290)","v":""},{"$f":"IF('2.Logbook'!$B290=\"\",\"\",'2.Logbook'!$B290)","v":""},{"$f":"IF('2.Logbook'!AH290=\"\",\"\",'2.Logbook'!AH290)","v":""},{"$f":"IF('2.Logbook'!AI290=\"\",\"\",'2.Logbook'!AI290)","v":""},{"$f":"IF('2.Logbook'!AJ290=\"\",\"\",'2.Logbook'!AJ290)","v":""},{"$f":"IF('2.Logbook'!AK290=\"\",\"\",'2.Logbook'!AK290)","v":""},{"$f":"IF('2.Logbook'!AL290=\"\",\"\",'2.Logbook'!AL290)","v":""},{"$f":"IF('2.Logbook'!AM290=\"\",\"\",'2.Logbook'!AM290)","v":""},{"$f":"IF('2.Logbook'!AN290=\"\",\"\",'2.Logbook'!AN290)","v":""},{"$f":"IF('2.Logbook'!AO290=\"\",\"\",'2.Logbook'!AO290)","v":""},{"$f":"IF('2.Logbook'!AP290=\"\",\"\",'2.Logbook'!AP290)","v":""},{"$f":"IF('2.Logbook'!AQ290=\"\",\"\",'2.Logbook'!AQ290)","v":""},{"$f":"IF('2.Logbook'!AR290=\"\",\"\",'2.Logbook'!AR290)","v":""},{"$f":"IF('2.Logbook'!AS290=\"\",\"\",'2.Logbook'!AS290)","v":""},{"$f":"IF('2.Logbook'!AT290=\"\",\"\",'2.Logbook'!AT290)","v":""},{"$f":"IF('2.Logbook'!AU290=\"\",\"\",'2.Logbook'!AU290)","v":""},{"$f":"IF('2.Logbook'!AV290=\"\",\"\",'2.Logbook'!AV290)","v":""},{"$f":"IF('2.Logbook'!AW290=\"\",\"\",'2.Logbook'!AW290)","v":""},{"$f":"IF('2.Logbook'!AX290=\"\",\"\",'2.Logbook'!AX290)","v":""},{"$f":"IF('2.Logbook'!AY290=\"\",\"\",'2.Logbook'!AY290)","v":""}]
[{"$f":"IF('2.Logbook'!$A291=\"\",\"\",'2.Logbook'!$A291)","v":""},{"$f":"IF('2.Logbook'!$B291=\"\",\"\",'2.Logbook'!$B291)","v":""},{"$f":"IF('2.Logbook'!AH291=\"\",\"\",'2.Logbook'!AH291)","v":""},{"$f":"IF('2.Logbook'!AI291=\"\",\"\",'2.Logbook'!AI291)","v":""},{"$f":"IF('2.Logbook'!AJ291=\"\",\"\",'2.Logbook'!AJ291)","v":""},{"$f":"IF('2.Logbook'!AK291=\"\",\"\",'2.Logbook'!AK291)","v":""},{"$f":"IF('2.Logbook'!AL291=\"\",\"\",'2.Logbook'!AL291)","v":""},{"$f":"IF('2.Logbook'!AM291=\"\",\"\",'2.Logbook'!AM291)","v":""},{"$f":"IF('2.Logbook'!AN291=\"\",\"\",'2.Logbook'!AN291)","v":""},{"$f":"IF('2.Logbook'!AO291=\"\",\"\",'2.Logbook'!AO291)","v":""},{"$f":"IF('2.Logbook'!AP291=\"\",\"\",'2.Logbook'!AP291)","v":""},{"$f":"IF('2.Logbook'!AQ291=\"\",\"\",'2.Logbook'!AQ291)","v":""},{"$f":"IF('2.Logbook'!AR291=\"\",\"\",'2.Logbook'!AR291)","v":""},{"$f":"IF('2.Logbook'!AS291=\"\",\"\",'2.Logbook'!AS291)","v":""},{"$f":"IF('2.Logbook'!AT291=\"\",\"\",'2.Logbook'!AT291)","v":""},{"$f":"IF('2.Logbook'!AU291=\"\",\"\",'2.Logbook'!AU291)","v":""},{"$f":"IF('2.Logbook'!AV291=\"\",\"\",'2.Logbook'!AV291)","v":""},{"$f":"IF('2.Logbook'!AW291=\"\",\"\",'2.Logbook'!AW291)","v":""},{"$f":"IF('2.Logbook'!AX291=\"\",\"\",'2.Logbook'!AX291)","v":""},{"$f":"IF('2.Logbook'!AY291=\"\",\"\",'2.Logbook'!AY291)","v":""}]
[{"$f":"IF('2.Logbook'!$A292=\"\",\"\",'2.Logbook'!$A292)","v":""},{"$f":"IF('2.Logbook'!$B292=\"\",\"\",'2.Logbook'!$B292)","v":""},{"$f":"IF('2.Logbook'!AH292=\"\",\"\",'2.Logbook'!AH292)","v":""},{"$f":"IF('2.Logbook'!AI292=\"\",\"\",'2.Logbook'!AI292)","v":""},{"$f":"IF('2.Logbook'!AJ292=\"\",\"\",'2.Logbook'!AJ292)","v":""},{"$f":"IF('2.Logbook'!AK292=\"\",\"\",'2.Logbook'!AK292)","v":""},{"$f":"IF('2.Logbook'!AL292=\"\",\"\",'2.Logbook'!AL292)","v":""},{"$f":"IF('2.Logbook'!AM292=\"\",\"\",'2.Logbook'!AM292)","v":""},{"$f":"IF('2.Logbook'!AN292=\"\",\"\",'2.Logbook'!AN292)","v":""},{"$f":"IF('2.Logbook'!AO292=\"\",\"\",'2.Logbook'!AO292)","v":""},{"$f":"IF('2.Logbook'!AP292=\"\",\"\",'2.Logbook'!AP292)","v":""},{"$f":"IF('2.Logbook'!AQ292=\"\",\"\",'2.Logbook'!AQ292)","v":""},{"$f":"IF('2.Logbook'!AR292=\"\",\"\",'2.Logbook'!AR292)","v":""},{"$f":"IF('2.Logbook'!AS292=\"\",\"\",'2.Logbook'!AS292)","v":""},{"$f":"IF('2.Logbook'!AT292=\"\",\"\",'2.Logbook'!AT292)","v":""},{"$f":"IF('2.Logbook'!AU292=\"\",\"\",'2.Logbook'!AU292)","v":""},{"$f":"IF('2.Logbook'!AV292=\"\",\"\",'2.Logbook'!AV292)","v":""},{"$f":"IF('2.Logbook'!AW292=\"\",\"\",'2.Logbook'!AW292)","v":""},{"$f":"IF('2.Logbook'!AX292=\"\",\"\",'2.Logbook'!AX292)","v":""},{"$f":"IF('2.Logbook'!AY292=\"\",\"\",'2.Logbook'!AY292)","v":""}]
[{"$f":"IF('2.Logbook'!$A293=\"\",\"\",'2.Logbook'!$A293)","v":""},{"$f":"IF('2.Logbook'!$B293=\"\",\"\",'2.Logbook'!$B293)","v":""},{"$f":"IF('2.Logbook'!AH293=\"\",\"\",'2.Logbook'!AH293)","v":""},{"$f":"IF('2.Logbook'!AI293=\"\",\"\",'2.Logbook'!AI293)","v":""},{"$f":"IF('2.Logbook'!AJ293=\"\",\"\",'2.Logbook'!AJ293)","v":""},{"$f":"IF('2.Logbook'!AK293=\"\",\"\",'2.Logbook'!AK293)","v":""},{"$f":"IF('2.Logbook'!AL293=\"\",\"\",'2.Logbook'!AL293)","v":""},{"$f":"IF('2.Logbook'!AM293=\"\",\"\",'2.Logbook'!AM293)","v":""},{"$f":"IF('2.Logbook'!AN293=\"\",\"\",'2.Logbook'!AN293)","v":""},{"$f":"IF('2.Logbook'!AO293=\"\",\"\",'2.Logbook'!AO293)","v":""},{"$f":"IF('2.Logbook'!AP293=\"\",\"\",'2.Logbook'!AP293)","v":""},{"$f":"IF('2.Logbook'!AQ293=\"\",\"\",'2.Logbook'!AQ293)","v":""},{"$f":"IF('2.Logbook'!AR293=\"\",\"\",'2.Logbook'!AR293)","v":""},{"$f":"IF('2.Logbook'!AS293=\"\",\"\",'2.Logbook'!AS293)","v":""},{"$f":"IF('2.Logbook'!AT293=\"\",\"\",'2.Logbook'!AT293)","v":""},{"$f":"IF('2.Logbook'!AU293=\"\",\"\",'2.Logbook'!AU293)","v":""},{"$f":"IF('2.Logbook'!AV293=\"\",\"\",'2.Logbook'!AV293)","v":""},{"$f":"IF('2.Logbook'!AW293=\"\",\"\",'2.Logbook'!AW293)","v":""},{"$f":"IF('2.Logbook'!AX293=\"\",\"\",'2.Logbook'!AX293)","v":""},{"$f":"IF('2.Logbook'!AY293=\"\",\"\",'2.Logbook'!AY293)","v":""}]
[{"$f":"IF('2.Logbook'!$A294=\"\",\"\",'2.Logbook'!$A294)","v":""},{"$f":"IF('2.Logbook'!$B294=\"\",\"\",'2.Logbook'!$B294)","v":""},{"$f":"IF('2.Logbook'!AH294=\"\",\"\",'2.Logbook'!AH294)","v":""},{"$f":"IF('2.Logbook'!AI294=\"\",\"\",'2.Logbook'!AI294)","v":""},{"$f":"IF('2.Logbook'!AJ294=\"\",\"\",'2.Logbook'!AJ294)","v":""},{"$f":"IF('2.Logbook'!AK294=\"\",\"\",'2.Logbook'!AK294)","v":""},{"$f":"IF('2.Logbook'!AL294=\"\",\"\",'2.Logbook'!AL294)","v":""},{"$f":"IF('2.Logbook'!AM294=\"\",\"\",'2.Logbook'!AM294)","v":""},{"$f":"IF('2.Logbook'!AN294=\"\",\"\",'2.Logbook'!AN294)","v":""},{"$f":"IF('2.Logbook'!AO294=\"\",\"\",'2.Logbook'!AO294)","v":""},{"$f":"IF('2.Logbook'!AP294=\"\",\"\",'2.Logbook'!AP294)","v":""},{"$f":"IF('2.Logbook'!AQ294=\"\",\"\",'2.Logbook'!AQ294)","v":""},{"$f":"IF('2.Logbook'!AR294=\"\",\"\",'2.Logbook'!AR294)","v":""},{"$f":"IF('2.Logbook'!AS294=\"\",\"\",'2.Logbook'!AS294)","v":""},{"$f":"IF('2.Logbook'!AT294=\"\",\"\",'2.Logbook'!AT294)","v":""},{"$f":"IF('2.Logbook'!AU294=\"\",\"\",'2.Logbook'!AU294)","v":""},{"$f":"IF('2.Logbook'!AV294=\"\",\"\",'2.Logbook'!AV294)","v":""},{"$f":"IF('2.Logbook'!AW294=\"\",\"\",'2.Logbook'!AW294)","v":""},{"$f":"IF('2.Logbook'!AX294=\"\",\"\",'2.Logbook'!AX294)","v":""},{"$f":"IF('2.Logbook'!AY294=\"\",\"\",'2.Logbook'!AY294)","v":""}]
[{"$f":"IF('2.Logbook'!$A295=\"\",\"\",'2.Logbook'!$A295)","v":""},{"$f":"IF('2.Logbook'!$B295=\"\",\"\",'2.Logbook'!$B295)","v":""},{"$f":"IF('2.Logbook'!AH295=\"\",\"\",'2.Logbook'!AH295)","v":""},{"$f":"IF('2.Logbook'!AI295=\"\",\"\",'2.Logbook'!AI295)","v":""},{"$f":"IF('2.Logbook'!AJ295=\"\",\"\",'2.Logbook'!AJ295)","v":""},{"$f":"IF('2.Logbook'!AK295=\"\",\"\",'2.Logbook'!AK295)","v":""},{"$f":"IF('2.Logbook'!AL295=\"\",\"\",'2.Logbook'!AL295)","v":""},{"$f":"IF('2.Logbook'!AM295=\"\",\"\",'2.Logbook'!AM295)","v":""},{"$f":"IF('2.Logbook'!AN295=\"\",\"\",'2.Logbook'!AN295)","v":""},{"$f":"IF('2.Logbook'!AO295=\"\",\"\",'2.Logbook'!AO295)","v":""},{"$f":"IF('2.Logbook'!AP295=\"\",\"\",'2.Logbook'!AP295)","v":""},{"$f":"IF('2.Logbook'!AQ295=\"\",\"\",'2.Logbook'!AQ295)","v":""},{"$f":"IF('2.Logbook'!AR295=\"\",\"\",'2.Logbook'!AR295)","v":""},{"$f":"IF('2.Logbook'!AS295=\"\",\"\",'2.Logbook'!AS295)","v":""},{"$f":"IF('2.Logbook'!AT295=\"\",\"\",'2.Logbook'!AT295)","v":""},{"$f":"IF('2.Logbook'!AU295=\"\",\"\",'2.Logbook'!AU295)","v":""},{"$f":"IF('2.Logbook'!AV295=\"\",\"\",'2.Logbook'!AV295)","v":""},{"$f":"IF('2.Logbook'!AW295=\"\",\"\",'2.Logbook'!AW295)","v":""},{"$f":"IF('2.Logbook'!AX295=\"\",\"\",'2.Logbook'!AX295)","v":""},{"$f":"IF('2.Logbook'!AY295=\"\",\"\",'2.Logbook'!AY295)","v":""}]
[{"$f":"IF('2.Logbook'!$A296=\"\",\"\",'2.Logbook'!$A296)","v":""},{"$f":"IF('2.Logbook'!$B296=\"\",\"\",'2.Logbook'!$B296)","v":""},{"$f":"IF('2.Logbook'!AH296=\"\",\"\",'2.Logbook'!AH296)","v":""},{"$f":"IF('2.Logbook'!AI296=\"\",\"\",'2.Logbook'!AI296)","v":""},{"$f":"IF('2.Logbook'!AJ296=\"\",\"\",'2.Logbook'!AJ296)","v":""},{"$f":"IF('2.Logbook'!AK296=\"\",\"\",'2.Logbook'!AK296)","v":""},{"$f":"IF('2.Logbook'!AL296=\"\",\"\",'2.Logbook'!AL296)","v":""},{"$f":"IF('2.Logbook'!AM296=\"\",\"\",'2.Logbook'!AM296)","v":""},{"$f":"IF('2.Logbook'!AN296=\"\",\"\",'2.Logbook'!AN296)","v":""},{"$f":"IF('2.Logbook'!AO296=\"\",\"\",'2.Logbook'!AO296)","v":""},{"$f":"IF('2.Logbook'!AP296=\"\",\"\",'2.Logbook'!AP296)","v":""},{"$f":"IF('2.Logbook'!AQ296=\"\",\"\",'2.Logbook'!AQ296)","v":""},{"$f":"IF('2.Logbook'!AR296=\"\",\"\",'2.Logbook'!AR296)","v":""},{"$f":"IF('2.Logbook'!AS296=\"\",\"\",'2.Logbook'!AS296)","v":""},{"$f":"IF('2.Logbook'!AT296=\"\",\"\",'2.Logbook'!AT296)","v":""},{"$f":"IF('2.Logbook'!AU296=\"\",\"\",'2.Logbook'!AU296)","v":""},{"$f":"IF('2.Logbook'!AV296=\"\",\"\",'2.Logbook'!AV296)","v":""},{"$f":"IF('2.Logbook'!AW296=\"\",\"\",'2.Logbook'!AW296)","v":""},{"$f":"IF('2.Logbook'!AX296=\"\",\"\",'2.Logbook'!AX296)","v":""},{"$f":"IF('2.Logbook'!AY296=\"\",\"\",'2.Logbook'!AY296)","v":""}]
[{"$f":"IF('2.Logbook'!$A297=\"\",\"\",'2.Logbook'!$A297)","v":""},{"$f":"IF('2.Logbook'!$B297=\"\",\"\",'2.Logbook'!$B297)","v":""},{"$f":"IF('2.Logbook'!AH297=\"\",\"\",'2.Logbook'!AH297)","v":""},{"$f":"IF('2.Logbook'!AI297=\"\",\"\",'2.Logbook'!AI297)","v":""},{"$f":"IF('2.Logbook'!AJ297=\"\",\"\",'2.Logbook'!AJ297)","v":""},{"$f":"IF('2.Logbook'!AK297=\"\",\"\",'2.Logbook'!AK297)","v":""},{"$f":"IF('2.Logbook'!AL297=\"\",\"\",'2.Logbook'!AL297)","v":""},{"$f":"IF('2.Logbook'!AM297=\"\",\"\",'2.Logbook'!AM297)","v":""},{"$f":"IF('2.Logbook'!AN297=\"\",\"\",'2.Logbook'!AN297)","v":""},{"$f":"IF('2.Logbook'!AO297=\"\",\"\",'2.Logbook'!AO297)","v":""},{"$f":"IF('2.Logbook'!AP297=\"\",\"\",'2.Logbook'!AP297)","v":""},{"$f":"IF('2.Logbook'!AQ297=\"\",\"\",'2.Logbook'!AQ297)","v":""},{"$f":"IF('2.Logbook'!AR297=\"\",\"\",'2.Logbook'!AR297)","v":""},{"$f":"IF('2.Logbook'!AS297=\"\",\"\",'2.Logbook'!AS297)","v":""},{"$f":"IF('2.Logbook'!AT297=\"\",\"\",'2.Logbook'!AT297)","v":""},{"$f":"IF('2.Logbook'!AU297=\"\",\"\",'2.Logbook'!AU297)","v":""},{"$f":"IF('2.Logbook'!AV297=\"\",\"\",'2.Logbook'!AV297)","v":""},{"$f":"IF('2.Logbook'!AW297=\"\",\"\",'2.Logbook'!AW297)","v":""},{"$f":"IF('2.Logbook'!AX297=\"\",\"\",'2.Logbook'!AX297)","v":""},{"$f":"IF('2.Logbook'!AY297=\"\",\"\",'2.Logbook'!AY297)","v":""}]
[{"$f":"IF('2.Logbook'!$A298=\"\",\"\",'2.Logbook'!$A298)","v":""},{"$f":"IF('2.Logbook'!$B298=\"\",\"\",'2.Logbook'!$B298)","v":""},{"$f":"IF('2.Logbook'!AH298=\"\",\"\",'2.Logbook'!AH298)","v":""},{"$f":"IF('2.Logbook'!AI298=\"\",\"\",'2.Logbook'!AI298)","v":""},{"$f":"IF('2.Logbook'!AJ298=\"\",\"\",'2.Logbook'!AJ298)","v":""},{"$f":"IF('2.Logbook'!AK298=\"\",\"\",'2.Logbook'!AK298)","v":""},{"$f":"IF('2.Logbook'!AL298=\"\",\"\",'2.Logbook'!AL298)","v":""},{"$f":"IF('2.Logbook'!AM298=\"\",\"\",'2.Logbook'!AM298)","v":""},{"$f":"IF('2.Logbook'!AN298=\"\",\"\",'2.Logbook'!AN298)","v":""},{"$f":"IF('2.Logbook'!AO298=\"\",\"\",'2.Logbook'!AO298)","v":""},{"$f":"IF('2.Logbook'!AP298=\"\",\"\",'2.Logbook'!AP298)","v":""},{"$f":"IF('2.Logbook'!AQ298=\"\",\"\",'2.Logbook'!AQ298)","v":""},{"$f":"IF('2.Logbook'!AR298=\"\",\"\",'2.Logbook'!AR298)","v":""},{"$f":"IF('2.Logbook'!AS298=\"\",\"\",'2.Logbook'!AS298)","v":""},{"$f":"IF('2.Logbook'!AT298=\"\",\"\",'2.Logbook'!AT298)","v":""},{"$f":"IF('2.Logbook'!AU298=\"\",\"\",'2.Logbook'!AU298)","v":""},{"$f":"IF('2.Logbook'!AV298=\"\",\"\",'2.Logbook'!AV298)","v":""},{"$f":"IF('2.Logbook'!AW298=\"\",\"\",'2.Logbook'!AW298)","v":""},{"$f":"IF('2.Logbook'!AX298=\"\",\"\",'2.Logbook'!AX298)","v":""},{"$f":"IF('2.Logbook'!AY298=\"\",\"\",'2.Logbook'!AY298)","v":""}]
[{"$f":"IF('2.Logbook'!$A299=\"\",\"\",'2.Logbook'!$A299)","v":""},{"$f":"IF('2.Logbook'!$B299=\"\",\"\",'2.Logbook'!$B299)","v":""},{"$f":"IF('2.Logbook'!AH299=\"\",\"\",'2.Logbook'!AH299)","v":""},{"$f":"IF('2.Logbook'!AI299=\"\",\"\",'2.Logbook'!AI299)","v":""},{"$f":"IF('2.Logbook'!AJ299=\"\",\"\",'2.Logbook'!AJ299)","v":""},{"$f":"IF('2.Logbook'!AK299=\"\",\"\",'2.Logbook'!AK299)","v":""},{"$f":"IF('2.Logbook'!AL299=\"\",\"\",'2.Logbook'!AL299)","v":""},{"$f":"IF('2.Logbook'!AM299=\"\",\"\",'2.Logbook'!AM299)","v":""},{"$f":"IF('2.Logbook'!AN299=\"\",\"\",'2.Logbook'!AN299)","v":""},{"$f":"IF('2.Logbook'!AO299=\"\",\"\",'2.Logbook'!AO299)","v":""},{"$f":"IF('2.Logbook'!AP299=\"\",\"\",'2.Logbook'!AP299)","v":""},{"$f":"IF('2.Logbook'!AQ299=\"\",\"\",'2.Logbook'!AQ299)","v":""},{"$f":"IF('2.Logbook'!AR299=\"\",\"\",'2.Logbook'!AR299)","v":""},{"$f":"IF('2.Logbook'!AS299=\"\",\"\",'2.Logbook'!AS299)","v":""},{"$f":"IF('2.Logbook'!AT299=\"\",\"\",'2.Logbook'!AT299)","v":""},{"$f":"IF('2.Logbook'!AU299=\"\",\"\",'2.Logbook'!AU299)","v":""},{"$f":"IF('2.Logbook'!AV299=\"\",\"\",'2.Logbook'!AV299)","v":""},{"$f":"IF('2.Logbook'!AW299=\"\",\"\",'2.Logbook'!AW299)","v":""},{"$f":"IF('2.Logbook'!AX299=\"\",\"\",'2.Logbook'!AX299)","v":""},{"$f":"IF('2.Logbook'!AY299=\"\",\"\",'2.Logbook'!AY299)","v":""}]
[{"$f":"IF('2.Logbook'!$A300=\"\",\"\",'2.Logbook'!$A300)","v":""},{"$f":"IF('2.Logbook'!$B300=\"\",\"\",'2.Logbook'!$B300)","v":""},{"$f":"IF('2.Logbook'!AH300=\"\",\"\",'2.Logbook'!AH300)","v":""},{"$f":"IF('2.Logbook'!AI300=\"\",\"\",'2.Logbook'!AI300)","v":""},{"$f":"IF('2.Logbook'!AJ300=\"\",\"\",'2.Logbook'!AJ300)","v":""},{"$f":"IF('2.Logbook'!AK300=\"\",\"\",'2.Logbook'!AK300)","v":""},{"$f":"IF('2.Logbook'!AL300=\"\",\"\",'2.Logbook'!AL300)","v":""},{"$f":"IF('2.Logbook'!AM300=\"\",\"\",'2.Logbook'!AM300)","v":""},{"$f":"IF('2.Logbook'!AN300=\"\",\"\",'2.Logbook'!AN300)","v":""},{"$f":"IF('2.Logbook'!AO300=\"\",\"\",'2.Logbook'!AO300)","v":""},{"$f":"IF('2.Logbook'!AP300=\"\",\"\",'2.Logbook'!AP300)","v":""},{"$f":"IF('2.Logbook'!AQ300=\"\",\"\",'2.Logbook'!AQ300)","v":""},{"$f":"IF('2.Logbook'!AR300=\"\",\"\",'2.Logbook'!AR300)","v":""},{"$f":"IF('2.Logbook'!AS300=\"\",\"\",'2.Logbook'!AS300)","v":""},{"$f":"IF('2.Logbook'!AT300=\"\",\"\",'2.Logbook'!AT300)","v":""},{"$f":"IF('2.Logbook'!AU300=\"\",\"\",'2.Logbook'!AU300)","v":""},{"$f":"IF('2.Logbook'!AV300=\"\",\"\",'2.Logbook'!AV300)","v":""},{"$f":"IF('2.Logbook'!AW300=\"\",\"\",'2.Logbook'!AW300)","v":""},{"$f":"IF('2.Logbook'!AX300=\"\",\"\",'2.Logbook'!AX300)","v":""},{"$f":"IF('2.Logbook'!AY300=\"\",\"\",'2.Logbook'!AY300)","v":""}]
[{"$f":"IF('2.Logbook'!$A301=\"\",\"\",'2.Logbook'!$A301)","v":""},{"$f":"IF('2.Logbook'!$B301=\"\",\"\",'2.Logbook'!$B301)","v":""},{"$f":"IF('2.Logbook'!AH301=\"\",\"\",'2.Logbook'!AH301)","v":""},{"$f":"IF('2.Logbook'!AI301=\"\",\"\",'2.Logbook'!AI301)","v":""},{"$f":"IF('2.Logbook'!AJ301=\"\",\"\",'2.Logbook'!AJ301)","v":""},{"$f":"IF('2.Logbook'!AK301=\"\",\"\",'2.Logbook'!AK301)","v":""},{"$f":"IF('2.Logbook'!AL301=\"\",\"\",'2.Logbook'!AL301)","v":""},{"$f":"IF('2.Logbook'!AM301=\"\",\"\",'2.Logbook'!AM301)","v":""},{"$f":"IF('2.Logbook'!AN301=\"\",\"\",'2.Logbook'!AN301)","v":""},{"$f":"IF('2.Logbook'!AO301=\"\",\"\",'2.Logbook'!AO301)","v":""},{"$f":"IF('2.Logbook'!AP301=\"\",\"\",'2.Logbook'!AP301)","v":""},{"$f":"IF('2.Logbook'!AQ301=\"\",\"\",'2.Logbook'!AQ301)","v":""},{"$f":"IF('2.Logbook'!AR301=\"\",\"\",'2.Logbook'!AR301)","v":""},{"$f":"IF('2.Logbook'!AS301=\"\",\"\",'2.Logbook'!AS301)","v":""},{"$f":"IF('2.Logbook'!AT301=\"\",\"\",'2.Logbook'!AT301)","v":""},{"$f":"IF('2.Logbook'!AU301=\"\",\"\",'2.Logbook'!AU301)","v":""},{"$f":"IF('2.Logbook'!AV301=\"\",\"\",'2.Logbook'!AV301)","v":""},{"$f":"IF('2.Logbook'!AW301=\"\",\"\",'2.Logbook'!AW301)","v":""},{"$f":"IF('2.Logbook'!AX301=\"\",\"\",'2.Logbook'!AX301)","v":""},{"$f":"IF('2.Logbook'!AY301=\"\",\"\",'2.Logbook'!AY301)","v":""}]
[{"$f":"IF('2.Logbook'!$A302=\"\",\"\",'2.Logbook'!$A302)","v":""},{"$f":"IF('2.Logbook'!$B302=\"\",\"\",'2.Logbook'!$B302)","v":""},{"$f":"IF('2.Logbook'!AH302=\"\",\"\",'2.Logbook'!AH302)","v":""},{"$f":"IF('2.Logbook'!AI302=\"\",\"\",'2.Logbook'!AI302)","v":""},{"$f":"IF('2.Logbook'!AJ302=\"\",\"\",'2.Logbook'!AJ302)","v":""},{"$f":"IF('2.Logbook'!AK302=\"\",\"\",'2.Logbook'!AK302)","v":""},{"$f":"IF('2.Logbook'!AL302=\"\",\"\",'2.Logbook'!AL302)","v":""},{"$f":"IF('2.Logbook'!AM302=\"\",\"\",'2.Logbook'!AM302)","v":""},{"$f":"IF('2.Logbook'!AN302=\"\",\"\",'2.Logbook'!AN302)","v":""},{"$f":"IF('2.Logbook'!AO302=\"\",\"\",'2.Logbook'!AO302)","v":""},{"$f":"IF('2.Logbook'!AP302=\"\",\"\",'2.Logbook'!AP302)","v":""},{"$f":"IF('2.Logbook'!AQ302=\"\",\"\",'2.Logbook'!AQ302)","v":""},{"$f":"IF('2.Logbook'!AR302=\"\",\"\",'2.Logbook'!AR302)","v":""},{"$f":"IF('2.Logbook'!AS302=\"\",\"\",'2.Logbook'!AS302)","v":""},{"$f":"IF('2.Logbook'!AT302=\"\",\"\",'2.Logbook'!AT302)","v":""},{"$f":"IF('2.Logbook'!AU302=\"\",\"\",'2.Logbook'!AU302)","v":""},{"$f":"IF('2.Logbook'!AV302=\"\",\"\",'2.Logbook'!AV302)","v":""},{"$f":"IF('2.Logbook'!AW302=\"\",\"\",'2.Logbook'!AW302)","v":""},{"$f":"IF('2.Logbook'!AX302=\"\",\"\",'2.Logbook'!AX302)","v":""},{"$f":"IF('2.Logbook'!AY302=\"\",\"\",'2.Logbook'!AY302)","v":""}]
[{"$f":"IF('2.Logbook'!$A303=\"\",\"\",'2.Logbook'!$A303)","v":""},{"$f":"IF('2.Logbook'!$B303=\"\",\"\",'2.Logbook'!$B303)","v":""},{"$f":"IF('2.Logbook'!AH303=\"\",\"\",'2.Logbook'!AH303)","v":""},{"$f":"IF('2.Logbook'!AI303=\"\",\"\",'2.Logbook'!AI303)","v":""},{"$f":"IF('2.Logbook'!AJ303=\"\",\"\",'2.Logbook'!AJ303)","v":""},{"$f":"IF('2.Logbook'!AK303=\"\",\"\",'2.Logbook'!AK303)","v":""},{"$f":"IF('2.Logbook'!AL303=\"\",\"\",'2.Logbook'!AL303)","v":""},{"$f":"IF('2.Logbook'!AM303=\"\",\"\",'2.Logbook'!AM303)","v":""},{"$f":"IF('2.Logbook'!AN303=\"\",\"\",'2.Logbook'!AN303)","v":""},{"$f":"IF('2.Logbook'!AO303=\"\",\"\",'2.Logbook'!AO303)","v":""},{"$f":"IF('2.Logbook'!AP303=\"\",\"\",'2.Logbook'!AP303)","v":""},{"$f":"IF('2.Logbook'!AQ303=\"\",\"\",'2.Logbook'!AQ303)","v":""},{"$f":"IF('2.Logbook'!AR303=\"\",\"\",'2.Logbook'!AR303)","v":""},{"$f":"IF('2.Logbook'!AS303=\"\",\"\",'2.Logbook'!AS303)","v":""},{"$f":"IF('2.Logbook'!AT303=\"\",\"\",'2.Logbook'!AT303)","v":""},{"$f":"IF('2.Logbook'!AU303=\"\",\"\",'2.Logbook'!AU303)","v":""},{"$f":"IF('2.Logbook'!AV303=\"\",\"\",'2.Logbook'!AV303)","v":""},{"$f":"IF('2.Logbook'!AW303=\"\",\"\",'2.Logbook'!AW303)","v":""},{"$f":"IF('2.Logbook'!AX303=\"\",\"\",'2.Logbook'!AX303)","v":""},{"$f":"IF('2.Logbook'!AY303=\"\",\"\",'2.Logbook'!AY303)","v":""}]
[{"$f":"IF('2.Logbook'!$A304=\"\",\"\",'2.Logbook'!$A304)","v":""},{"$f":"IF('2.Logbook'!$B304=\"\",\"\",'2.Logbook'!$B304)","v":""},{"$f":"IF('2.Logbook'!AH304=\"\",\"\",'2.Logbook'!AH304)","v":""},{"$f":"IF('2.Logbook'!AI304=\"\",\"\",'2.Logbook'!AI304)","v":""},{"$f":"IF('2.Logbook'!AJ304=\"\",\"\",'2.Logbook'!AJ304)","v":""},{"$f":"IF('2.Logbook'!AK304=\"\",\"\",'2.Logbook'!AK304)","v":""},{"$f":"IF('2.Logbook'!AL304=\"\",\"\",'2.Logbook'!AL304)","v":""},{"$f":"IF('2.Logbook'!AM304=\"\",\"\",'2.Logbook'!AM304)","v":""},{"$f":"IF('2.Logbook'!AN304=\"\",\"\",'2.Logbook'!AN304)","v":""},{"$f":"IF('2.Logbook'!AO304=\"\",\"\",'2.Logbook'!AO304)","v":""},{"$f":"IF('2.Logbook'!AP304=\"\",\"\",'2.Logbook'!AP304)","v":""},{"$f":"IF('2.Logbook'!AQ304=\"\",\"\",'2.Logbook'!AQ304)","v":""},{"$f":"IF('2.Logbook'!AR304=\"\",\"\",'2.Logbook'!AR304)","v":""},{"$f":"IF('2.Logbook'!AS304=\"\",\"\",'2.Logbook'!AS304)","v":""},{"$f":"IF('2.Logbook'!AT304=\"\",\"\",'2.Logbook'!AT304)","v":""},{"$f":"IF('2.Logbook'!AU304=\"\",\"\",'2.Logbook'!AU304)","v":""},{"$f":"IF('2.Logbook'!AV304=\"\",\"\",'2.Logbook'!AV304)","v":""},{"$f":"IF('2.Logbook'!AW304=\"\",\"\",'2.Logbook'!AW304)","v":""},{"$f":"IF('2.Logbook'!AX304=\"\",\"\",'2.Logbook'!AX304)","v":""},{"$f":"IF('2.Logbook'!AY304=\"\",\"\",'2.Logbook'!AY304)","v":""}]
[{"$f":"IF('2.Logbook'!$A305=\"\",\"\",'2.Logbook'!$A305)","v":""},{"$f":"IF('2.Logbook'!$B305=\"\",\"\",'2.Logbook'!$B305)","v":""},{"$f":"IF('2.Logbook'!AH305=\"\",\"\",'2.Logbook'!AH305)","v":""},{"$f":"IF('2.Logbook'!AI305=\"\",\"\",'2.Logbook'!AI305)","v":""},{"$f":"IF('2.Logbook'!AJ305=\"\",\"\",'2.Logbook'!AJ305)","v":""},{"$f":"IF('2.Logbook'!AK305=\"\",\"\",'2.Logbook'!AK305)","v":""},{"$f":"IF('2.Logbook'!AL305=\"\",\"\",'2.Logbook'!AL305)","v":""},{"$f":"IF('2.Logbook'!AM305=\"\",\"\",'2.Logbook'!AM305)","v":""},{"$f":"IF('2.Logbook'!AN305=\"\",\"\",'2.Logbook'!AN305)","v":""},{"$f":"IF('2.Logbook'!AO305=\"\",\"\",'2.Logbook'!AO305)","v":""},{"$f":"IF('2.Logbook'!AP305=\"\",\"\",'2.Logbook'!AP305)","v":""},{"$f":"IF('2.Logbook'!AQ305=\"\",\"\",'2.Logbook'!AQ305)","v":""},{"$f":"IF('2.Logbook'!AR305=\"\",\"\",'2.Logbook'!AR305)","v":""},{"$f":"IF('2.Logbook'!AS305=\"\",\"\",'2.Logbook'!AS305)","v":""},{"$f":"IF('2.Logbook'!AT305=\"\",\"\",'2.Logbook'!AT305)","v":""},{"$f":"IF('2.Logbook'!AU305=\"\",\"\",'2.Logbook'!AU305)","v":""},{"$f":"IF('2.Logbook'!AV305=\"\",\"\",'2.Logbook'!AV305)","v":""},{"$f":"IF('2.Logbook'!AW305=\"\",\"\",'2.Logbook'!AW305)","v":""},{"$f":"IF('2.Logbook'!AX305=\"\",\"\",'2.Logbook'!AX305)","v":""},{"$f":"IF('2.Logbook'!AY305=\"\",\"\",'2.Logbook'!AY305)","v":""}]
[{"$f":"IF('2.Logbook'!$A306=\"\",\"\",'2.Logbook'!$A306)","v":""},{"$f":"IF('2.Logbook'!$B306=\"\",\"\",'2.Logbook'!$B306)","v":""},{"$f":"IF('2.Logbook'!AH306=\"\",\"\",'2.Logbook'!AH306)","v":""},{"$f":"IF('2.Logbook'!AI306=\"\",\"\",'2.Logbook'!AI306)","v":""},{"$f":"IF('2.Logbook'!AJ306=\"\",\"\",'2.Logbook'!AJ306)","v":""},{"$f":"IF('2.Logbook'!AK306=\"\",\"\",'2.Logbook'!AK306)","v":""},{"$f":"IF('2.Logbook'!AL306=\"\",\"\",'2.Logbook'!AL306)","v":""},{"$f":"IF('2.Logbook'!AM306=\"\",\"\",'2.Logbook'!AM306)","v":""},{"$f":"IF('2.Logbook'!AN306=\"\",\"\",'2.Logbook'!AN306)","v":""},{"$f":"IF('2.Logbook'!AO306=\"\",\"\",'2.Logbook'!AO306)","v":""},{"$f":"IF('2.Logbook'!AP306=\"\",\"\",'2.Logbook'!AP306)","v":""},{"$f":"IF('2.Logbook'!AQ306=\"\",\"\",'2.Logbook'!AQ306)","v":""},{"$f":"IF('2.Logbook'!AR306=\"\",\"\",'2.Logbook'!AR306)","v":""},{"$f":"IF('2.Logbook'!AS306=\"\",\"\",'2.Logbook'!AS306)","v":""},{"$f":"IF('2.Logbook'!AT306=\"\",\"\",'2.Logbook'!AT306)","v":""},{"$f":"IF('2.Logbook'!AU306=\"\",\"\",'2.Logbook'!AU306)","v":""},{"$f":"IF('2.Logbook'!AV306=\"\",\"\",'2.Logbook'!AV306)","v":""},{"$f":"IF('2.Logbook'!AW306=\"\",\"\",'2.Logbook'!AW306)","v":""},{"$f":"IF('2.Logbook'!AX306=\"\",\"\",'2.Logbook'!AX306)","v":""},{"$f":"IF('2.Logbook'!AY306=\"\",\"\",'2.Logbook'!AY306)","v":""}]
[{"$f":"IF('2.Logbook'!$A307=\"\",\"\",'2.Logbook'!$A307)","v":""},{"$f":"IF('2.Logbook'!$B307=\"\",\"\",'2.Logbook'!$B307)","v":""},{"$f":"IF('2.Logbook'!AH307=\"\",\"\",'2.Logbook'!AH307)","v":""},{"$f":"IF('2.Logbook'!AI307=\"\",\"\",'2.Logbook'!AI307)","v":""},{"$f":"IF('2.Logbook'!AJ307=\"\",\"\",'2.Logbook'!AJ307)","v":""},{"$f":"IF('2.Logbook'!AK307=\"\",\"\",'2.Logbook'!AK307)","v":""},{"$f":"IF('2.Logbook'!AL307=\"\",\"\",'2.Logbook'!AL307)","v":""},{"$f":"IF('2.Logbook'!AM307=\"\",\"\",'2.Logbook'!AM307)","v":""},{"$f":"IF('2.Logbook'!AN307=\"\",\"\",'2.Logbook'!AN307)","v":""},{"$f":"IF('2.Logbook'!AO307=\"\",\"\",'2.Logbook'!AO307)","v":""},{"$f":"IF('2.Logbook'!AP307=\"\",\"\",'2.Logbook'!AP307)","v":""},{"$f":"IF('2.Logbook'!AQ307=\"\",\"\",'2.Logbook'!AQ307)","v":""},{"$f":"IF('2.Logbook'!AR307=\"\",\"\",'2.Logbook'!AR307)","v":""},{"$f":"IF('2.Logbook'!AS307=\"\",\"\",'2.Logbook'!AS307)","v":""},{"$f":"IF('2.Logbook'!AT307=\"\",\"\",'2.Logbook'!AT307)","v":""},{"$f":"IF('2.Logbook'!AU307=\"\",\"\",'2.Logbook'!AU307)","v":""},{"$f":"IF('2.Logbook'!AV307=\"\",\"\",'2.Logbook'!AV307)","v":""},{"$f":"IF('2.Logbook'!AW307=\"\",\"\",'2.Logbook'!AW307)","v":""},{"$f":"IF('2.Logbook'!AX307=\"\",\"\",'2.Logbook'!AX307)","v":""},{"$f":"IF('2.Logbook'!AY307=\"\",\"\",'2.Logbook'!AY307)","v":""}]
[{"$f":"IF('2.Logbook'!$A308=\"\",\"\",'2.Logbook'!$A308)","v":""},{"$f":"IF('2.Logbook'!$B308=\"\",\"\",'2.Logbook'!$B308)","v":""},{"$f":"IF('2.Logbook'!AH308=\"\",\"\",'2.Logbook'!AH308)","v":""},{"$f":"IF('2.Logbook'!AI308=\"\",\"\",'2.Logbook'!AI308)","v":""},{"$f":"IF('2.Logbook'!AJ308=\"\",\"\",'2.Logbook'!AJ308)","v":""},{"$f":"IF('2.Logbook'!AK308=\"\",\"\",'2.Logbook'!AK308)","v":""},{"$f":"IF('2.Logbook'!AL308=\"\",\"\",'2.Logbook'!AL308)","v":""},{"$f":"IF('2.Logbook'!AM308=\"\",\"\",'2.Logbook'!AM308)","v":""},{"$f":"IF('2.Logbook'!AN308=\"\",\"\",'2.Logbook'!AN308)","v":""},{"$f":"IF('2.Logbook'!AO308=\"\",\"\",'2.Logbook'!AO308)","v":""},{"$f":"IF('2.Logbook'!AP308=\"\",\"\",'2.Logbook'!AP308)","v":""},{"$f":"IF('2.Logbook'!AQ308=\"\",\"\",'2.Logbook'!AQ308)","v":""},{"$f":"IF('2.Logbook'!AR308=\"\",\"\",'2.Logbook'!AR308)","v":""},{"$f":"IF('2.Logbook'!AS308=\"\",\"\",'2.Logbook'!AS308)","v":""},{"$f":"IF('2.Logbook'!AT308=\"\",\"\",'2.Logbook'!AT308)","v":""},{"$f":"IF('2.Logbook'!AU308=\"\",\"\",'2.Logbook'!AU308)","v":""},{"$f":"IF('2.Logbook'!AV308=\"\",\"\",'2.Logbook'!AV308)","v":""},{"$f":"IF('2.Logbook'!AW308=\"\",\"\",'2.Logbook'!AW308)","v":""},{"$f":"IF('2.Logbook'!AX308=\"\",\"\",'2.Logbook'!AX308)","v":""},{"$f":"IF('2.Logbook'!AY308=\"\",\"\",'2.Logbook'!AY308)","v":""}]
[{"$f":"IF('2.Logbook'!$A309=\"\",\"\",'2.Logbook'!$A309)","v":""},{"$f":"IF('2.Logbook'!$B309=\"\",\"\",'2.Logbook'!$B309)","v":""},{"$f":"IF('2.Logbook'!AH309=\"\",\"\",'2.Logbook'!AH309)","v":""},{"$f":"IF('2.Logbook'!AI309=\"\",\"\",'2.Logbook'!AI309)","v":""},{"$f":"IF('2.Logbook'!AJ309=\"\",\"\",'2.Logbook'!AJ309)","v":""},{"$f":"IF('2.Logbook'!AK309=\"\",\"\",'2.Logbook'!AK309)","v":""},{"$f":"IF('2.Logbook'!AL309=\"\",\"\",'2.Logbook'!AL309)","v":""},{"$f":"IF('2.Logbook'!AM309=\"\",\"\",'2.Logbook'!AM309)","v":""},{"$f":"IF('2.Logbook'!AN309=\"\",\"\",'2.Logbook'!AN309)","v":""},{"$f":"IF('2.Logbook'!AO309=\"\",\"\",'2.Logbook'!AO309)","v":""},{"$f":"IF('2.Logbook'!AP309=\"\",\"\",'2.Logbook'!AP309)","v":""},{"$f":"IF('2.Logbook'!AQ309=\"\",\"\",'2.Logbook'!AQ309)","v":""},{"$f":"IF('2.Logbook'!AR309=\"\",\"\",'2.Logbook'!AR309)","v":""},{"$f":"IF('2.Logbook'!AS309=\"\",\"\",'2.Logbook'!AS309)","v":""},{"$f":"IF('2.Logbook'!AT309=\"\",\"\",'2.Logbook'!AT309)","v":""},{"$f":"IF('2.Logbook'!AU309=\"\",\"\",'2.Logbook'!AU309)","v":""},{"$f":"IF('2.Logbook'!AV309=\"\",\"\",'2.Logbook'!AV309)","v":""},{"$f":"IF('2.Logbook'!AW309=\"\",\"\",'2.Logbook'!AW309)","v":""},{"$f":"IF('2.Logbook'!AX309=\"\",\"\",'2.Logbook'!AX309)","v":""},{"$f":"IF('2.Logbook'!AY309=\"\",\"\",'2.Logbook'!AY309)","v":""}]
[{"$f":"IF('2.Logbook'!$A310=\"\",\"\",'2.Logbook'!$A310)","v":""},{"$f":"IF('2.Logbook'!$B310=\"\",\"\",'2.Logbook'!$B310)","v":""},{"$f":"IF('2.Logbook'!AH310=\"\",\"\",'2.Logbook'!AH310)","v":""},{"$f":"IF('2.Logbook'!AI310=\"\",\"\",'2.Logbook'!AI310)","v":""},{"$f":"IF('2.Logbook'!AJ310=\"\",\"\",'2.Logbook'!AJ310)","v":""},{"$f":"IF('2.Logbook'!AK310=\"\",\"\",'2.Logbook'!AK310)","v":""},{"$f":"IF('2.Logbook'!AL310=\"\",\"\",'2.Logbook'!AL310)","v":""},{"$f":"IF('2.Logbook'!AM310=\"\",\"\",'2.Logbook'!AM310)","v":""},{"$f":"IF('2.Logbook'!AN310=\"\",\"\",'2.Logbook'!AN310)","v":""},{"$f":"IF('2.Logbook'!AO310=\"\",\"\",'2.Logbook'!AO310)","v":""},{"$f":"IF('2.Logbook'!AP310=\"\",\"\",'2.Logbook'!AP310)","v":""},{"$f":"IF('2.Logbook'!AQ310=\"\",\"\",'2.Logbook'!AQ310)","v":""},{"$f":"IF('2.Logbook'!AR310=\"\",\"\",'2.Logbook'!AR310)","v":""},{"$f":"IF('2.Logbook'!AS310=\"\",\"\",'2.Logbook'!AS310)","v":""},{"$f":"IF('2.Logbook'!AT310=\"\",\"\",'2.Logbook'!AT310)","v":""},{"$f":"IF('2.Logbook'!AU310=\"\",\"\",'2.Logbook'!AU310)","v":""},{"$f":"IF('2.Logbook'!AV310=\"\",\"\",'2.Logbook'!AV310)","v":""},{"$f":"IF('2.Logbook'!AW310=\"\",\"\",'2.Logbook'!AW310)","v":""},{"$f":"IF('2.Logbook'!AX310=\"\",\"\",'2.Logbook'!AX310)","v":""},{"$f":"IF('2.Logbook'!AY310=\"\",\"\",'2.Logbook'!AY310)","v":""}]
[{"$f":"IF('2.Logbook'!$A311=\"\",\"\",'2.Logbook'!$A311)","v":""},{"$f":"IF('2.Logbook'!$B311=\"\",\"\",'2.Logbook'!$B311)","v":""},{"$f":"IF('2.Logbook'!AH311=\"\",\"\",'2.Logbook'!AH311)","v":""},{"$f":"IF('2.Logbook'!AI311=\"\",\"\",'2.Logbook'!AI311)","v":""},{"$f":"IF('2.Logbook'!AJ311=\"\",\"\",'2.Logbook'!AJ311)","v":""},{"$f":"IF('2.Logbook'!AK311=\"\",\"\",'2.Logbook'!AK311)","v":""},{"$f":"IF('2.Logbook'!AL311=\"\",\"\",'2.Logbook'!AL311)","v":""},{"$f":"IF('2.Logbook'!AM311=\"\",\"\",'2.Logbook'!AM311)","v":""},{"$f":"IF('2.Logbook'!AN311=\"\",\"\",'2.Logbook'!AN311)","v":""},{"$f":"IF('2.Logbook'!AO311=\"\",\"\",'2.Logbook'!AO311)","v":""},{"$f":"IF('2.Logbook'!AP311=\"\",\"\",'2.Logbook'!AP311)","v":""},{"$f":"IF('2.Logbook'!AQ311=\"\",\"\",'2.Logbook'!AQ311)","v":""},{"$f":"IF('2.Logbook'!AR311=\"\",\"\",'2.Logbook'!AR311)","v":""},{"$f":"IF('2.Logbook'!AS311=\"\",\"\",'2.Logbook'!AS311)","v":""},{"$f":"IF('2.Logbook'!AT311=\"\",\"\",'2.Logbook'!AT311)","v":""},{"$f":"IF('2.Logbook'!AU311=\"\",\"\",'2.Logbook'!AU311)","v":""},{"$f":"IF('2.Logbook'!AV311=\"\",\"\",'2.Logbook'!AV311)","v":""},{"$f":"IF('2.Logbook'!AW311=\"\",\"\",'2.Logbook'!AW311)","v":""},{"$f":"IF('2.Logbook'!AX311=\"\",\"\",'2.Logbook'!AX311)","v":""},{"$f":"IF('2.Logbook'!AY311=\"\",\"\",'2.Logbook'!AY311)","v":""}]
[{"$f":"IF('2.Logbook'!$A312=\"\",\"\",'2.Logbook'!$A312)","v":""},{"$f":"IF('2.Logbook'!$B312=\"\",\"\",'2.Logbook'!$B312)","v":""},{"$f":"IF('2.Logbook'!AH312=\"\",\"\",'2.Logbook'!AH312)","v":""},{"$f":"IF('2.Logbook'!AI312=\"\",\"\",'2.Logbook'!AI312)","v":""},{"$f":"IF('2.Logbook'!AJ312=\"\",\"\",'2.Logbook'!AJ312)","v":""},{"$f":"IF('2.Logbook'!AK312=\"\",\"\",'2.Logbook'!AK312)","v":""},{"$f":"IF('2.Logbook'!AL312=\"\",\"\",'2.Logbook'!AL312)","v":""},{"$f":"IF('2.Logbook'!AM312=\"\",\"\",'2.Logbook'!AM312)","v":""},{"$f":"IF('2.Logbook'!AN312=\"\",\"\",'2.Logbook'!AN312)","v":""},{"$f":"IF('2.Logbook'!AO312=\"\",\"\",'2.Logbook'!AO312)","v":""},{"$f":"IF('2.Logbook'!AP312=\"\",\"\",'2.Logbook'!AP312)","v":""},{"$f":"IF('2.Logbook'!AQ312=\"\",\"\",'2.Logbook'!AQ312)","v":""},{"$f":"IF('2.Logbook'!AR312=\"\",\"\",'2.Logbook'!AR312)","v":""},{"$f":"IF('2.Logbook'!AS312=\"\",\"\",'2.Logbook'!AS312)","v":""},{"$f":"IF('2.Logbook'!AT312=\"\",\"\",'2.Logbook'!AT312)","v":""},{"$f":"IF('2.Logbook'!AU312=\"\",\"\",'2.Logbook'!AU312)","v":""},{"$f":"IF('2.Logbook'!AV312=\"\",\"\",'2.Logbook'!AV312)","v":""},{"$f":"IF('2.Logbook'!AW312=\"\",\"\",'2.Logbook'!AW312)","v":""},{"$f":"IF('2.Logbook'!AX312=\"\",\"\",'2.Logbook'!AX312)","v":""},{"$f":"IF('2.Logbook'!AY312=\"\",\"\",'2.Logbook'!AY312)","v":""}]
[{"$f":"IF('2.Logbook'!$A313=\"\",\"\",'2.Logbook'!$A313)","v":""},{"$f":"IF('2.Logbook'!$B313=\"\",\"\",'2.Logbook'!$B313)","v":""},{"$f":"IF('2.Logbook'!AH313=\"\",\"\",'2.Logbook'!AH313)","v":""},{"$f":"IF('2.Logbook'!AI313=\"\",\"\",'2.Logbook'!AI313)","v":""},{"$f":"IF('2.Logbook'!AJ313=\"\",\"\",'2.Logbook'!AJ313)","v":""},{"$f":"IF('2.Logbook'!AK313=\"\",\"\",'2.Logbook'!AK313)","v":""},{"$f":"IF('2.Logbook'!AL313=\"\",\"\",'2.Logbook'!AL313)","v":""},{"$f":"IF('2.Logbook'!AM313=\"\",\"\",'2.Logbook'!AM313)","v":""},{"$f":"IF('2.Logbook'!AN313=\"\",\"\",'2.Logbook'!AN313)","v":""},{"$f":"IF('2.Logbook'!AO313=\"\",\"\",'2.Logbook'!AO313)","v":""},{"$f":"IF('2.Logbook'!AP313=\"\",\"\",'2.Logbook'!AP313)","v":""},{"$f":"IF('2.Logbook'!AQ313=\"\",\"\",'2.Logbook'!AQ313)","v":""},{"$f":"IF('2.Logbook'!AR313=\"\",\"\",'2.Logbook'!AR313)","v":""},{"$f":"IF('2.Logbook'!AS313=\"\",\"\",'2.Logbook'!AS313)","v":""},{"$f":"IF('2.Logbook'!AT313=\"\",\"\",'2.Logbook'!AT313)","v":""},{"$f":"IF('2.Logbook'!AU313=\"\",\"\",'2.Logbook'!AU313)","v":""},{"$f":"IF('2.Logbook'!AV313=\"\",\"\",'2.Logbook'!AV313)","v":""},{"$f":"IF('2.Logbook'!AW313=\"\",\"\",'2.Logbook'!AW313)","v":""},{"$f":"IF('2.Logbook'!AX313=\"\",\"\",'2.Logbook'!AX313)","v":""},{"$f":"IF('2.Logbook'!AY313=\"\",\"\",'2.Logbook'!AY313)","v":""}]
[{"$f":"IF('2.Logbook'!$A314=\"\",\"\",'2.Logbook'!$A314)","v":""},{"$f":"IF('2.Logbook'!$B314=\"\",\"\",'2.Logbook'!$B314)","v":""},{"$f":"IF('2.Logbook'!AH314=\"\",\"\",'2.Logbook'!AH314)","v":""},{"$f":"IF('2.Logbook'!AI314=\"\",\"\",'2.Logbook'!AI314)","v":""},{"$f":"IF('2.Logbook'!AJ314=\"\",\"\",'2.Logbook'!AJ314)","v":""},{"$f":"IF('2.Logbook'!AK314=\"\",\"\",'2.Logbook'!AK314)","v":""},{"$f":"IF('2.Logbook'!AL314=\"\",\"\",'2.Logbook'!AL314)","v":""},{"$f":"IF('2.Logbook'!AM314=\"\",\"\",'2.Logbook'!AM314)","v":""},{"$f":"IF('2.Logbook'!AN314=\"\",\"\",'2.Logbook'!AN314)","v":""},{"$f":"IF('2.Logbook'!AO314=\"\",\"\",'2.Logbook'!AO314)","v":""},{"$f":"IF('2.Logbook'!AP314=\"\",\"\",'2.Logbook'!AP314)","v":""},{"$f":"IF('2.Logbook'!AQ314=\"\",\"\",'2.Logbook'!AQ314)","v":""},{"$f":"IF('2.Logbook'!AR314=\"\",\"\",'2.Logbook'!AR314)","v":""},{"$f":"IF('2.Logbook'!AS314=\"\",\"\",'2.Logbook'!AS314)","v":""},{"$f":"IF('2.Logbook'!AT314=\"\",\"\",'2.Logbook'!AT314)","v":""},{"$f":"IF('2.Logbook'!AU314=\"\",\"\",'2.Logbook'!AU314)","v":""},{"$f":"IF('2.Logbook'!AV314=\"\",\"\",'2.Logbook'!AV314)","v":""},{"$f":"IF('2.Logbook'!AW314=\"\",\"\",'2.Logbook'!AW314)","v":""},{"$f":"IF('2.Logbook'!AX314=\"\",\"\",'2.Logbook'!AX314)","v":""},{"$f":"IF('2.Logbook'!AY314=\"\",\"\",'2.Logbook'!AY314)","v":""}]
[{"$f":"IF('2.Logbook'!$A315=\"\",\"\",'2.Logbook'!$A315)","v":""},{"$f":"IF('2.Logbook'!$B315=\"\",\"\",'2.Logbook'!$B315)","v":""},{"$f":"IF('2.Logbook'!AH315=\"\",\"\",'2.Logbook'!AH315)","v":""},{"$f":"IF('2.Logbook'!AI315=\"\",\"\",'2.Logbook'!AI315)","v":""},{"$f":"IF('2.Logbook'!AJ315=\"\",\"\",'2.Logbook'!AJ315)","v":""},{"$f":"IF('2.Logbook'!AK315=\"\",\"\",'2.Logbook'!AK315)","v":""},{"$f":"IF('2.Logbook'!AL315=\"\",\"\",'2.Logbook'!AL315)","v":""},{"$f":"IF('2.Logbook'!AM315=\"\",\"\",'2.Logbook'!AM315)","v":""},{"$f":"IF('2.Logbook'!AN315=\"\",\"\",'2.Logbook'!AN315)","v":""},{"$f":"IF('2.Logbook'!AO315=\"\",\"\",'2.Logbook'!AO315)","v":""},{"$f":"IF('2.Logbook'!AP315=\"\",\"\",'2.Logbook'!AP315)","v":""},{"$f":"IF('2.Logbook'!AQ315=\"\",\"\",'2.Logbook'!AQ315)","v":""},{"$f":"IF('2.Logbook'!AR315=\"\",\"\",'2.Logbook'!AR315)","v":""},{"$f":"IF('2.Logbook'!AS315=\"\",\"\",'2.Logbook'!AS315)","v":""},{"$f":"IF('2.Logbook'!AT315=\"\",\"\",'2.Logbook'!AT315)","v":""},{"$f":"IF('2.Logbook'!AU315=\"\",\"\",'2.Logbook'!AU315)","v":""},{"$f":"IF('2.Logbook'!AV315=\"\",\"\",'2.Logbook'!AV315)","v":""},{"$f":"IF('2.Logbook'!AW315=\"\",\"\",'2.Logbook'!AW315)","v":""},{"$f":"IF('2.Logbook'!AX315=\"\",\"\",'2.Logbook'!AX315)","v":""},{"$f":"IF('2.Logbook'!AY315=\"\",\"\",'2.Logbook'!AY315)","v":""}]
[{"$f":"IF('2.Logbook'!$A316=\"\",\"\",'2.Logbook'!$A316)","v":""},{"$f":"IF('2.Logbook'!$B316=\"\",\"\",'2.Logbook'!$B316)","v":""},{"$f":"IF('2.Logbook'!AH316=\"\",\"\",'2.Logbook'!AH316)","v":""},{"$f":"IF('2.Logbook'!AI316=\"\",\"\",'2.Logbook'!AI316)","v":""},{"$f":"IF('2.Logbook'!AJ316=\"\",\"\",'2.Logbook'!AJ316)","v":""},{"$f":"IF('2.Logbook'!AK316=\"\",\"\",'2.Logbook'!AK316)","v":""},{"$f":"IF('2.Logbook'!AL316=\"\",\"\",'2.Logbook'!AL316)","v":""},{"$f":"IF('2.Logbook'!AM316=\"\",\"\",'2.Logbook'!AM316)","v":""},{"$f":"IF('2.Logbook'!AN316=\"\",\"\",'2.Logbook'!AN316)","v":""},{"$f":"IF('2.Logbook'!AO316=\"\",\"\",'2.Logbook'!AO316)","v":""},{"$f":"IF('2.Logbook'!AP316=\"\",\"\",'2.Logbook'!AP316)","v":""},{"$f":"IF('2.Logbook'!AQ316=\"\",\"\",'2.Logbook'!AQ316)","v":""},{"$f":"IF('2.Logbook'!AR316=\"\",\"\",'2.Logbook'!AR316)","v":""},{"$f":"IF('2.Logbook'!AS316=\"\",\"\",'2.Logbook'!AS316)","v":""},{"$f":"IF('2.Logbook'!AT316=\"\",\"\",'2.Logbook'!AT316)","v":""},{"$f":"IF('2.Logbook'!AU316=\"\",\"\",'2.Logbook'!AU316)","v":""},{"$f":"IF('2.Logbook'!AV316=\"\",\"\",'2.Logbook'!AV316)","v":""},{"$f":"IF('2.Logbook'!AW316=\"\",\"\",'2.Logbook'!AW316)","v":""},{"$f":"IF('2.Logbook'!AX316=\"\",\"\",'2.Logbook'!AX316)","v":""},{"$f":"IF('2.Logbook'!AY316=\"\",\"\",'2.Logbook'!AY316)","v":""}]
[{"$f":"IF('2.Logbook'!$A317=\"\",\"\",'2.Logbook'!$A317)","v":""},{"$f":"IF('2.Logbook'!$B317=\"\",\"\",'2.Logbook'!$B317)","v":""},{"$f":"IF('2.Logbook'!AH317=\"\",\"\",'2.Logbook'!AH317)","v":""},{"$f":"IF('2.Logbook'!AI317=\"\",\"\",'2.Logbook'!AI317)","v":""},{"$f":"IF('2.Logbook'!AJ317=\"\",\"\",'2.Logbook'!AJ317)","v":""},{"$f":"IF('2.Logbook'!AK317=\"\",\"\",'2.Logbook'!AK317)","v":""},{"$f":"IF('2.Logbook'!AL317=\"\",\"\",'2.Logbook'!AL317)","v":""},{"$f":"IF('2.Logbook'!AM317=\"\",\"\",'2.Logbook'!AM317)","v":""},{"$f":"IF('2.Logbook'!AN317=\"\",\"\",'2.Logbook'!AN317)","v":""},{"$f":"IF('2.Logbook'!AO317=\"\",\"\",'2.Logbook'!AO317)","v":""},{"$f":"IF('2.Logbook'!AP317=\"\",\"\",'2.Logbook'!AP317)","v":""},{"$f":"IF('2.Logbook'!AQ317=\"\",\"\",'2.Logbook'!AQ317)","v":""},{"$f":"IF('2.Logbook'!AR317=\"\",\"\",'2.Logbook'!AR317)","v":""},{"$f":"IF('2.Logbook'!AS317=\"\",\"\",'2.Logbook'!AS317)","v":""},{"$f":"IF('2.Logbook'!AT317=\"\",\"\",'2.Logbook'!AT317)","v":""},{"$f":"IF('2.Logbook'!AU317=\"\",\"\",'2.Logbook'!AU317)","v":""},{"$f":"IF('2.Logbook'!AV317=\"\",\"\",'2.Logbook'!AV317)","v":""},{"$f":"IF('2.Logbook'!AW317=\"\",\"\",'2.Logbook'!AW317)","v":""},{"$f":"IF('2.Logbook'!AX317=\"\",\"\",'2.Logbook'!AX317)","v":""},{"$f":"IF('2.Logbook'!AY317=\"\",\"\",'2.Logbook'!AY317)","v":""}]
[{"$f":"IF('2.Logbook'!$A318=\"\",\"\",'2.Logbook'!$A318)","v":""},{"$f":"IF('2.Logbook'!$B318=\"\",\"\",'2.Logbook'!$B318)","v":""},{"$f":"IF('2.Logbook'!AH318=\"\",\"\",'2.Logbook'!AH318)","v":""},{"$f":"IF('2.Logbook'!AI318=\"\",\"\",'2.Logbook'!AI318)","v":""},{"$f":"IF('2.Logbook'!AJ318=\"\",\"\",'2.Logbook'!AJ318)","v":""},{"$f":"IF('2.Logbook'!AK318=\"\",\"\",'2.Logbook'!AK318)","v":""},{"$f":"IF('2.Logbook'!AL318=\"\",\"\",'2.Logbook'!AL318)","v":""},{"$f":"IF('2.Logbook'!AM318=\"\",\"\",'2.Logbook'!AM318)","v":""},{"$f":"IF('2.Logbook'!AN318=\"\",\"\",'2.Logbook'!AN318)","v":""},{"$f":"IF('2.Logbook'!AO318=\"\",\"\",'2.Logbook'!AO318)","v":""},{"$f":"IF('2.Logbook'!AP318=\"\",\"\",'2.Logbook'!AP318)","v":""},{"$f":"IF('2.Logbook'!AQ318=\"\",\"\",'2.Logbook'!AQ318)","v":""},{"$f":"IF('2.Logbook'!AR318=\"\",\"\",'2.Logbook'!AR318)","v":""},{"$f":"IF('2.Logbook'!AS318=\"\",\"\",'2.Logbook'!AS318)","v":""},{"$f":"IF('2.Logbook'!AT318=\"\",\"\",'2.Logbook'!AT318)","v":""},{"$f":"IF('2.Logbook'!AU318=\"\",\"\",'2.Logbook'!AU318)","v":""},{"$f":"IF('2.Logbook'!AV318=\"\",\"\",'2.Logbook'!AV318)","v":""},{"$f":"IF('2.Logbook'!AW318=\"\",\"\",'2.Logbook'!AW318)","v":""},{"$f":"IF('2.Logbook'!AX318=\"\",\"\",'2.Logbook'!AX318)","v":""},{"$f":"IF('2.Logbook'!AY318=\"\",\"\",'2.Logbook'!AY318)","v":""}]
[{"$f":"IF('2.Logbook'!$A319=\"\",\"\",'2.Logbook'!$A319)","v":""},{"$f":"IF('2.Logbook'!$B319=\"\",\"\",'2.Logbook'!$B319)","v":""},{"$f":"IF('2.Logbook'!AH319=\"\",\"\",'2.Logbook'!AH319)","v":""},{"$f":"IF('2.Logbook'!AI319=\"\",\"\",'2.Logbook'!AI319)","v":""},{"$f":"IF('2.Logbook'!AJ319=\"\",\"\",'2.Logbook'!AJ319)","v":""},{"$f":"IF('2.Logbook'!AK319=\"\",\"\",'2.Logbook'!AK319)","v":""},{"$f":"IF('2.Logbook'!AL319=\"\",\"\",'2.Logbook'!AL319)","v":""},{"$f":"IF('2.Logbook'!AM319=\"\",\"\",'2.Logbook'!AM319)","v":""},{"$f":"IF('2.Logbook'!AN319=\"\",\"\",'2.Logbook'!AN319)","v":""},{"$f":"IF('2.Logbook'!AO319=\"\",\"\",'2.Logbook'!AO319)","v":""},{"$f":"IF('2.Logbook'!AP319=\"\",\"\",'2.Logbook'!AP319)","v":""},{"$f":"IF('2.Logbook'!AQ319=\"\",\"\",'2.Logbook'!AQ319)","v":""},{"$f":"IF('2.Logbook'!AR319=\"\",\"\",'2.Logbook'!AR319)","v":""},{"$f":"IF('2.Logbook'!AS319=\"\",\"\",'2.Logbook'!AS319)","v":""},{"$f":"IF('2.Logbook'!AT319=\"\",\"\",'2.Logbook'!AT319)","v":""},{"$f":"IF('2.Logbook'!AU319=\"\",\"\",'2.Logbook'!AU319)","v":""},{"$f":"IF('2.Logbook'!AV319=\"\",\"\",'2.Logbook'!AV319)","v":""},{"$f":"IF('2.Logbook'!AW319=\"\",\"\",'2.Logbook'!AW319)","v":""},{"$f":"IF('2.Logbook'!AX319=\"\",\"\",'2.Logbook'!AX319)","v":""},{"$f":"IF('2.Logbook'!AY319=\"\",\"\",'2.Logbook'!AY319)","v":""}]
[{"$f":"IF('2.Logbook'!$A320=\"\",\"\",'2.Logbook'!$A320)","v":""},{"$f":"IF('2.Logbook'!$B320=\"\",\"\",'2.Logbook'!$B320)","v":""},{"$f":"IF('2.Logbook'!AH320=\"\",\"\",'2.Logbook'!AH320)","v":""},{"$f":"IF('2.Logbook'!AI320=\"\",\"\",'2.Logbook'!AI320)","v":""},{"$f":"IF('2.Logbook'!AJ320=\"\",\"\",'2.Logbook'!AJ320)","v":""},{"$f":"IF('2.Logbook'!AK320=\"\",\"\",'2.Logbook'!AK320)","v":""},{"$f":"IF('2.Logbook'!AL320=\"\",\"\",'2.Logbook'!AL320)","v":""},{"$f":"IF('2.Logbook'!AM320=\"\",\"\",'2.Logbook'!AM320)","v":""},{"$f":"IF('2.Logbook'!AN320=\"\",\"\",'2.Logbook'!AN320)","v":""},{"$f":"IF('2.Logbook'!AO320=\"\",\"\",'2.Logbook'!AO320)","v":""},{"$f":"IF('2.Logbook'!AP320=\"\",\"\",'2.Logbook'!AP320)","v":""},{"$f":"IF('2.Logbook'!AQ320=\"\",\"\",'2.Logbook'!AQ320)","v":""},{"$f":"IF('2.Logbook'!AR320=\"\",\"\",'2.Logbook'!AR320)","v":""},{"$f":"IF('2.Logbook'!AS320=\"\",\"\",'2.Logbook'!AS320)","v":""},{"$f":"IF('2.Logbook'!AT320=\"\",\"\",'2.Logbook'!AT320)","v":""},{"$f":"IF('2.Logbook'!AU320=\"\",\"\",'2.Logbook'!AU320)","v":""},{"$f":"IF('2.Logbook'!AV320=\"\",\"\",'2.Logbook'!AV320)","v":""},{"$f":"IF('2.Logbook'!AW320=\"\",\"\",'2.Logbook'!AW320)","v":""},{"$f":"IF('2.Logbook'!AX320=\"\",\"\",'2.Logbook'!AX320)","v":""},{"$f":"IF('2.Logbook'!AY320=\"\",\"\",'2.Logbook'!AY320)","v":""}]
[{"$f":"IF('2.Logbook'!$A321=\"\",\"\",'2.Logbook'!$A321)","v":""},{"$f":"IF('2.Logbook'!$B321=\"\",\"\",'2.Logbook'!$B321)","v":""},{"$f":"IF('2.Logbook'!AH321=\"\",\"\",'2.Logbook'!AH321)","v":""},{"$f":"IF('2.Logbook'!AI321=\"\",\"\",'2.Logbook'!AI321)","v":""},{"$f":"IF('2.Logbook'!AJ321=\"\",\"\",'2.Logbook'!AJ321)","v":""},{"$f":"IF('2.Logbook'!AK321=\"\",\"\",'2.Logbook'!AK321)","v":""},{"$f":"IF('2.Logbook'!AL321=\"\",\"\",'2.Logbook'!AL321)","v":""},{"$f":"IF('2.Logbook'!AM321=\"\",\"\",'2.Logbook'!AM321)","v":""},{"$f":"IF('2.Logbook'!AN321=\"\",\"\",'2.Logbook'!AN321)","v":""},{"$f":"IF('2.Logbook'!AO321=\"\",\"\",'2.Logbook'!AO321)","v":""},{"$f":"IF('2.Logbook'!AP321=\"\",\"\",'2.Logbook'!AP321)","v":""},{"$f":"IF('2.Logbook'!AQ321=\"\",\"\",'2.Logbook'!AQ321)","v":""},{"$f":"IF('2.Logbook'!AR321=\"\",\"\",'2.Logbook'!AR321)","v":""},{"$f":"IF('2.Logbook'!AS321=\"\",\"\",'2.Logbook'!AS321)","v":""},{"$f":"IF('2.Logbook'!AT321=\"\",\"\",'2.Logbook'!AT321)","v":""},{"$f":"IF('2.Logbook'!AU321=\"\",\"\",'2.Logbook'!AU321)","v":""},{"$f":"IF('2.Logbook'!AV321=\"\",\"\",'2.Logbook'!AV321)","v":""},{"$f":"IF('2.Logbook'!AW321=\"\",\"\",'2.Logbook'!AW321)","v":""},{"$f":"IF('2.Logbook'!AX321=\"\",\"\",'2.Logbook'!AX321)","v":""},{"$f":"IF('2.Logbook'!AY321=\"\",\"\",'2.Logbook'!AY321)","v":""}]
[{"$f":"IF('2.Logbook'!$A322=\"\",\"\",'2.Logbook'!$A322)","v":""},{"$f":"IF('2.Logbook'!$B322=\"\",\"\",'2.Logbook'!$B322)","v":""},{"$f":"IF('2.Logbook'!AH322=\"\",\"\",'2.Logbook'!AH322)","v":""},{"$f":"IF('2.Logbook'!AI322=\"\",\"\",'2.Logbook'!AI322)","v":""},{"$f":"IF('2.Logbook'!AJ322=\"\",\"\",'2.Logbook'!AJ322)","v":""},{"$f":"IF('2.Logbook'!AK322=\"\",\"\",'2.Logbook'!AK322)","v":""},{"$f":"IF('2.Logbook'!AL322=\"\",\"\",'2.Logbook'!AL322)","v":""},{"$f":"IF('2.Logbook'!AM322=\"\",\"\",'2.Logbook'!AM322)","v":""},{"$f":"IF('2.Logbook'!AN322=\"\",\"\",'2.Logbook'!AN322)","v":""},{"$f":"IF('2.Logbook'!AO322=\"\",\"\",'2.Logbook'!AO322)","v":""},{"$f":"IF('2.Logbook'!AP322=\"\",\"\",'2.Logbook'!AP322)","v":""},{"$f":"IF('2.Logbook'!AQ322=\"\",\"\",'2.Logbook'!AQ322)","v":""},{"$f":"IF('2.Logbook'!AR322=\"\",\"\",'2.Logbook'!AR322)","v":""},{"$f":"IF('2.Logbook'!AS322=\"\",\"\",'2.Logbook'!AS322)","v":""},{"$f":"IF('2.Logbook'!AT322=\"\",\"\",'2.Logbook'!AT322)","v":""},{"$f":"IF('2.Logbook'!AU322=\"\",\"\",'2.Logbook'!AU322)","v":""},{"$f":"IF('2.Logbook'!AV322=\"\",\"\",'2.Logbook'!AV322)","v":""},{"$f":"IF('2.Logbook'!AW322=\"\",\"\",'2.Logbook'!AW322)","v":""},{"$f":"IF('2.Logbook'!AX322=\"\",\"\",'2.Logbook'!AX322)","v":""},{"$f":"IF('2.Logbook'!AY322=\"\",\"\",'2.Logbook'!AY322)","v":""}]
[{"$f":"IF('2.Logbook'!$A323=\"\",\"\",'2.Logbook'!$A323)","v":""},{"$f":"IF('2.Logbook'!$B323=\"\",\"\",'2.Logbook'!$B323)","v":""},{"$f":"IF('2.Logbook'!AH323=\"\",\"\",'2.Logbook'!AH323)","v":""},{"$f":"IF('2.Logbook'!AI323=\"\",\"\",'2.Logbook'!AI323)","v":""},{"$f":"IF('2.Logbook'!AJ323=\"\",\"\",'2.Logbook'!AJ323)","v":""},{"$f":"IF('2.Logbook'!AK323=\"\",\"\",'2.Logbook'!AK323)","v":""},{"$f":"IF('2.Logbook'!AL323=\"\",\"\",'2.Logbook'!AL323)","v":""},{"$f":"IF('2.Logbook'!AM323=\"\",\"\",'2.Logbook'!AM323)","v":""},{"$f":"IF('2.Logbook'!AN323=\"\",\"\",'2.Logbook'!AN323)","v":""},{"$f":"IF('2.Logbook'!AO323=\"\",\"\",'2.Logbook'!AO323)","v":""},{"$f":"IF('2.Logbook'!AP323=\"\",\"\",'2.Logbook'!AP323)","v":""},{"$f":"IF('2.Logbook'!AQ323=\"\",\"\",'2.Logbook'!AQ323)","v":""},{"$f":"IF('2.Logbook'!AR323=\"\",\"\",'2.Logbook'!AR323)","v":""},{"$f":"IF('2.Logbook'!AS323=\"\",\"\",'2.Logbook'!AS323)","v":""},{"$f":"IF('2.Logbook'!AT323=\"\",\"\",'2.Logbook'!AT323)","v":""},{"$f":"IF('2.Logbook'!AU323=\"\",\"\",'2.Logbook'!AU323)","v":""},{"$f":"IF('2.Logbook'!AV323=\"\",\"\",'2.Logbook'!AV323)","v":""},{"$f":"IF('2.Logbook'!AW323=\"\",\"\",'2.Logbook'!AW323)","v":""},{"$f":"IF('2.Logbook'!AX323=\"\",\"\",'2.Logbook'!AX323)","v":""},{"$f":"IF('2.Logbook'!AY323=\"\",\"\",'2.Logbook'!AY323)","v":""}]
[{"$f":"IF('2.Logbook'!$A324=\"\",\"\",'2.Logbook'!$A324)","v":""},{"$f":"IF('2.Logbook'!$B324=\"\",\"\",'2.Logbook'!$B324)","v":""},{"$f":"IF('2.Logbook'!AH324=\"\",\"\",'2.Logbook'!AH324)","v":""},{"$f":"IF('2.Logbook'!AI324=\"\",\"\",'2.Logbook'!AI324)","v":""},{"$f":"IF('2.Logbook'!AJ324=\"\",\"\",'2.Logbook'!AJ324)","v":""},{"$f":"IF('2.Logbook'!AK324=\"\",\"\",'2.Logbook'!AK324)","v":""},{"$f":"IF('2.Logbook'!AL324=\"\",\"\",'2.Logbook'!AL324)","v":""},{"$f":"IF('2.Logbook'!AM324=\"\",\"\",'2.Logbook'!AM324)","v":""},{"$f":"IF('2.Logbook'!AN324=\"\",\"\",'2.Logbook'!AN324)","v":""},{"$f":"IF('2.Logbook'!AO324=\"\",\"\",'2.Logbook'!AO324)","v":""},{"$f":"IF('2.Logbook'!AP324=\"\",\"\",'2.Logbook'!AP324)","v":""},{"$f":"IF('2.Logbook'!AQ324=\"\",\"\",'2.Logbook'!AQ324)","v":""},{"$f":"IF('2.Logbook'!AR324=\"\",\"\",'2.Logbook'!AR324)","v":""},{"$f":"IF('2.Logbook'!AS324=\"\",\"\",'2.Logbook'!AS324)","v":""},{"$f":"IF('2.Logbook'!AT324=\"\",\"\",'2.Logbook'!AT324)","v":""},{"$f":"IF('2.Logbook'!AU324=\"\",\"\",'2.Logbook'!AU324)","v":""},{"$f":"IF('2.Logbook'!AV324=\"\",\"\",'2.Logbook'!AV324)","v":""},{"$f":"IF('2.Logbook'!AW324=\"\",\"\",'2.Logbook'!AW324)","v":""},{"$f":"IF('2.Logbook'!AX324=\"\",\"\",'2.Logbook'!AX324)","v":""},{"$f":"IF('2.Logbook'!AY324=\"\",\"\",'2.Logbook'!AY324)","v":""}]
[{"$f":"IF('2.Logbook'!$A325=\"\",\"\",'2.Logbook'!$A325)","v":""},{"$f":"IF('2.Logbook'!$B325=\"\",\"\",'2.Logbook'!$B325)","v":""},{"$f":"IF('2.Logbook'!AH325=\"\",\"\",'2.Logbook'!AH325)","v":""},{"$f":"IF('2.Logbook'!AI325=\"\",\"\",'2.Logbook'!AI325)","v":""},{"$f":"IF('2.Logbook'!AJ325=\"\",\"\",'2.Logbook'!AJ325)","v":""},{"$f":"IF('2.Logbook'!AK325=\"\",\"\",'2.Logbook'!AK325)","v":""},{"$f":"IF('2.Logbook'!AL325=\"\",\"\",'2.Logbook'!AL325)","v":""},{"$f":"IF('2.Logbook'!AM325=\"\",\"\",'2.Logbook'!AM325)","v":""},{"$f":"IF('2.Logbook'!AN325=\"\",\"\",'2.Logbook'!AN325)","v":""},{"$f":"IF('2.Logbook'!AO325=\"\",\"\",'2.Logbook'!AO325)","v":""},{"$f":"IF('2.Logbook'!AP325=\"\",\"\",'2.Logbook'!AP325)","v":""},{"$f":"IF('2.Logbook'!AQ325=\"\",\"\",'2.Logbook'!AQ325)","v":""},{"$f":"IF('2.Logbook'!AR325=\"\",\"\",'2.Logbook'!AR325)","v":""},{"$f":"IF('2.Logbook'!AS325=\"\",\"\",'2.Logbook'!AS325)","v":""},{"$f":"IF('2.Logbook'!AT325=\"\",\"\",'2.Logbook'!AT325)","v":""},{"$f":"IF('2.Logbook'!AU325=\"\",\"\",'2.Logbook'!AU325)","v":""},{"$f":"IF('2.Logbook'!AV325=\"\",\"\",'2.Logbook'!AV325)","v":""},{"$f":"IF('2.Logbook'!AW325=\"\",\"\",'2.Logbook'!AW325)","v":""},{"$f":"IF('2.Logbook'!AX325=\"\",\"\",'2.Logbook'!AX325)","v":""},{"$f":"IF('2.Logbook'!AY325=\"\",\"\",'2.Logbook'!AY325)","v":""}]
[{"$f":"IF('2.Logbook'!$A326=\"\",\"\",'2.Logbook'!$A326)","v":""},{"$f":"IF('2.Logbook'!$B326=\"\",\"\",'2.Logbook'!$B326)","v":""},{"$f":"IF('2.Logbook'!AH326=\"\",\"\",'2.Logbook'!AH326)","v":""},{"$f":"IF('2.Logbook'!AI326=\"\",\"\",'2.Logbook'!AI326)","v":""},{"$f":"IF('2.Logbook'!AJ326=\"\",\"\",'2.Logbook'!AJ326)","v":""},{"$f":"IF('2.Logbook'!AK326=\"\",\"\",'2.Logbook'!AK326)","v":""},{"$f":"IF('2.Logbook'!AL326=\"\",\"\",'2.Logbook'!AL326)","v":""},{"$f":"IF('2.Logbook'!AM326=\"\",\"\",'2.Logbook'!AM326)","v":""},{"$f":"IF('2.Logbook'!AN326=\"\",\"\",'2.Logbook'!AN326)","v":""},{"$f":"IF('2.Logbook'!AO326=\"\",\"\",'2.Logbook'!AO326)","v":""},{"$f":"IF('2.Logbook'!AP326=\"\",\"\",'2.Logbook'!AP326)","v":""},{"$f":"IF('2.Logbook'!AQ326=\"\",\"\",'2.Logbook'!AQ326)","v":""},{"$f":"IF('2.Logbook'!AR326=\"\",\"\",'2.Logbook'!AR326)","v":""},{"$f":"IF('2.Logbook'!AS326=\"\",\"\",'2.Logbook'!AS326)","v":""},{"$f":"IF('2.Logbook'!AT326=\"\",\"\",'2.Logbook'!AT326)","v":""},{"$f":"IF('2.Logbook'!AU326=\"\",\"\",'2.Logbook'!AU326)","v":""},{"$f":"IF('2.Logbook'!AV326=\"\",\"\",'2.Logbook'!AV326)","v":""},{"$f":"IF('2.Logbook'!AW326=\"\",\"\",'2.Logbook'!AW326)","v":""},{"$f":"IF('2.Logbook'!AX326=\"\",\"\",'2.Logbook'!AX326)","v":""},{"$f":"IF('2.Logbook'!AY326=\"\",\"\",'2.Logbook'!AY326)","v":""}]
[{"$f":"IF('2.Logbook'!$A327=\"\",\"\",'2.Logbook'!$A327)","v":""},{"$f":"IF('2.Logbook'!$B327=\"\",\"\",'2.Logbook'!$B327)","v":""},{"$f":"IF('2.Logbook'!AH327=\"\",\"\",'2.Logbook'!AH327)","v":""},{"$f":"IF('2.Logbook'!AI327=\"\",\"\",'2.Logbook'!AI327)","v":""},{"$f":"IF('2.Logbook'!AJ327=\"\",\"\",'2.Logbook'!AJ327)","v":""},{"$f":"IF('2.Logbook'!AK327=\"\",\"\",'2.Logbook'!AK327)","v":""},{"$f":"IF('2.Logbook'!AL327=\"\",\"\",'2.Logbook'!AL327)","v":""},{"$f":"IF('2.Logbook'!AM327=\"\",\"\",'2.Logbook'!AM327)","v":""},{"$f":"IF('2.Logbook'!AN327=\"\",\"\",'2.Logbook'!AN327)","v":""},{"$f":"IF('2.Logbook'!AO327=\"\",\"\",'2.Logbook'!AO327)","v":""},{"$f":"IF('2.Logbook'!AP327=\"\",\"\",'2.Logbook'!AP327)","v":""},{"$f":"IF('2.Logbook'!AQ327=\"\",\"\",'2.Logbook'!AQ327)","v":""},{"$f":"IF('2.Logbook'!AR327=\"\",\"\",'2.Logbook'!AR327)","v":""},{"$f":"IF('2.Logbook'!AS327=\"\",\"\",'2.Logbook'!AS327)","v":""},{"$f":"IF('2.Logbook'!AT327=\"\",\"\",'2.Logbook'!AT327)","v":""},{"$f":"IF('2.Logbook'!AU327=\"\",\"\",'2.Logbook'!AU327)","v":""},{"$f":"IF('2.Logbook'!AV327=\"\",\"\",'2.Logbook'!AV327)","v":""},{"$f":"IF('2.Logbook'!AW327=\"\",\"\",'2.Logbook'!AW327)","v":""},{"$f":"IF('2.Logbook'!AX327=\"\",\"\",'2.Logbook'!AX327)","v":""},{"$f":"IF('2.Logbook'!AY327=\"\",\"\",'2.Logbook'!AY327)","v":""}]
[{"$f":"IF('2.Logbook'!$A328=\"\",\"\",'2.Logbook'!$A328)","v":""},{"$f":"IF('2.Logbook'!$B328=\"\",\"\",'2.Logbook'!$B328)","v":""},{"$f":"IF('2.Logbook'!AH328=\"\",\"\",'2.Logbook'!AH328)","v":""},{"$f":"IF('2.Logbook'!AI328=\"\",\"\",'2.Logbook'!AI328)","v":""},{"$f":"IF('2.Logbook'!AJ328=\"\",\"\",'2.Logbook'!AJ328)","v":""},{"$f":"IF('2.Logbook'!AK328=\"\",\"\",'2.Logbook'!AK328)","v":""},{"$f":"IF('2.Logbook'!AL328=\"\",\"\",'2.Logbook'!AL328)","v":""},{"$f":"IF('2.Logbook'!AM328=\"\",\"\",'2.Logbook'!AM328)","v":""},{"$f":"IF('2.Logbook'!AN328=\"\",\"\",'2.Logbook'!AN328)","v":""},{"$f":"IF('2.Logbook'!AO328=\"\",\"\",'2.Logbook'!AO328)","v":""},{"$f":"IF('2.Logbook'!AP328=\"\",\"\",'2.Logbook'!AP328)","v":""},{"$f":"IF('2.Logbook'!AQ328=\"\",\"\",'2.Logbook'!AQ328)","v":""},{"$f":"IF('2.Logbook'!AR328=\"\",\"\",'2.Logbook'!AR328)","v":""},{"$f":"IF('2.Logbook'!AS328=\"\",\"\",'2.Logbook'!AS328)","v":""},{"$f":"IF('2.Logbook'!AT328=\"\",\"\",'2.Logbook'!AT328)","v":""},{"$f":"IF('2.Logbook'!AU328=\"\",\"\",'2.Logbook'!AU328)","v":""},{"$f":"IF('2.Logbook'!AV328=\"\",\"\",'2.Logbook'!AV328)","v":""},{"$f":"IF('2.Logbook'!AW328=\"\",\"\",'2.Logbook'!AW328)","v":""},{"$f":"IF('2.Logbook'!AX328=\"\",\"\",'2.Logbook'!AX328)","v":""},{"$f":"IF('2.Logbook'!AY328=\"\",\"\",'2.Logbook'!AY328)","v":""}]
[{"$f":"IF('2.Logbook'!$A329=\"\",\"\",'2.Logbook'!$A329)","v":""},{"$f":"IF('2.Logbook'!$B329=\"\",\"\",'2.Logbook'!$B329)","v":""},{"$f":"IF('2.Logbook'!AH329=\"\",\"\",'2.Logbook'!AH329)","v":""},{"$f":"IF('2.Logbook'!AI329=\"\",\"\",'2.Logbook'!AI329)","v":""},{"$f":"IF('2.Logbook'!AJ329=\"\",\"\",'2.Logbook'!AJ329)","v":""},{"$f":"IF('2.Logbook'!AK329=\"\",\"\",'2.Logbook'!AK329)","v":""},{"$f":"IF('2.Logbook'!AL329=\"\",\"\",'2.Logbook'!AL329)","v":""},{"$f":"IF('2.Logbook'!AM329=\"\",\"\",'2.Logbook'!AM329)","v":""},{"$f":"IF('2.Logbook'!AN329=\"\",\"\",'2.Logbook'!AN329)","v":""},{"$f":"IF('2.Logbook'!AO329=\"\",\"\",'2.Logbook'!AO329)","v":""},{"$f":"IF('2.Logbook'!AP329=\"\",\"\",'2.Logbook'!AP329)","v":""},{"$f":"IF('2.Logbook'!AQ329=\"\",\"\",'2.Logbook'!AQ329)","v":""},{"$f":"IF('2.Logbook'!AR329=\"\",\"\",'2.Logbook'!AR329)","v":""},{"$f":"IF('2.Logbook'!AS329=\"\",\"\",'2.Logbook'!AS329)","v":""},{"$f":"IF('2.Logbook'!AT329=\"\",\"\",'2.Logbook'!AT329)","v":""},{"$f":"IF('2.Logbook'!AU329=\"\",\"\",'2.Logbook'!AU329)","v":""},{"$f":"IF('2.Logbook'!AV329=\"\",\"\",'2.Logbook'!AV329)","v":""},{"$f":"IF('2.Logbook'!AW329=\"\",\"\",'2.Logbook'!AW329)","v":""},{"$f":"IF('2.Logbook'!AX329=\"\",\"\",'2.Logbook'!AX329)","v":""},{"$f":"IF('2.Logbook'!AY329=\"\",\"\",'2.Logbook'!AY329)","v":""}]
[{"$f":"IF('2.Logbook'!$A330=\"\",\"\",'2.Logbook'!$A330)","v":""},{"$f":"IF('2.Logbook'!$B330=\"\",\"\",'2.Logbook'!$B330)","v":""},{"$f":"IF('2.Logbook'!AH330=\"\",\"\",'2.Logbook'!AH330)","v":""},{"$f":"IF('2.Logbook'!AI330=\"\",\"\",'2.Logbook'!AI330)","v":""},{"$f":"IF('2.Logbook'!AJ330=\"\",\"\",'2.Logbook'!AJ330)","v":""},{"$f":"IF('2.Logbook'!AK330=\"\",\"\",'2.Logbook'!AK330)","v":""},{"$f":"IF('2.Logbook'!AL330=\"\",\"\",'2.Logbook'!AL330)","v":""},{"$f":"IF('2.Logbook'!AM330=\"\",\"\",'2.Logbook'!AM330)","v":""},{"$f":"IF('2.Logbook'!AN330=\"\",\"\",'2.Logbook'!AN330)","v":""},{"$f":"IF('2.Logbook'!AO330=\"\",\"\",'2.Logbook'!AO330)","v":""},{"$f":"IF('2.Logbook'!AP330=\"\",\"\",'2.Logbook'!AP330)","v":""},{"$f":"IF('2.Logbook'!AQ330=\"\",\"\",'2.Logbook'!AQ330)","v":""},{"$f":"IF('2.Logbook'!AR330=\"\",\"\",'2.Logbook'!AR330)","v":""},{"$f":"IF('2.Logbook'!AS330=\"\",\"\",'2.Logbook'!AS330)","v":""},{"$f":"IF('2.Logbook'!AT330=\"\",\"\",'2.Logbook'!AT330)","v":""},{"$f":"IF('2.Logbook'!AU330=\"\",\"\",'2.Logbook'!AU330)","v":""},{"$f":"IF('2.Logbook'!AV330=\"\",\"\",'2.Logbook'!AV330)","v":""},{"$f":"IF('2.Logbook'!AW330=\"\",\"\",'2.Logbook'!AW330)","v":""},{"$f":"IF('2.Logbook'!AX330=\"\",\"\",'2.Logbook'!AX330)","v":""},{"$f":"IF('2.Logbook'!AY330=\"\",\"\",'2.Logbook'!AY330)","v":""}]
[{"$f":"IF('2.Logbook'!$A331=\"\",\"\",'2.Logbook'!$A331)","v":""},{"$f":"IF('2.Logbook'!$B331=\"\",\"\",'2.Logbook'!$B331)","v":""},{"$f":"IF('2.Logbook'!AH331=\"\",\"\",'2.Logbook'!AH331)","v":""},{"$f":"IF('2.Logbook'!AI331=\"\",\"\",'2.Logbook'!AI331)","v":""},{"$f":"IF('2.Logbook'!AJ331=\"\",\"\",'2.Logbook'!AJ331)","v":""},{"$f":"IF('2.Logbook'!AK331=\"\",\"\",'2.Logbook'!AK331)","v":""},{"$f":"IF('2.Logbook'!AL331=\"\",\"\",'2.Logbook'!AL331)","v":""},{"$f":"IF('2.Logbook'!AM331=\"\",\"\",'2.Logbook'!AM331)","v":""},{"$f":"IF('2.Logbook'!AN331=\"\",\"\",'2.Logbook'!AN331)","v":""},{"$f":"IF('2.Logbook'!AO331=\"\",\"\",'2.Logbook'!AO331)","v":""},{"$f":"IF('2.Logbook'!AP331=\"\",\"\",'2.Logbook'!AP331)","v":""},{"$f":"IF('2.Logbook'!AQ331=\"\",\"\",'2.Logbook'!AQ331)","v":""},{"$f":"IF('2.Logbook'!AR331=\"\",\"\",'2.Logbook'!AR331)","v":""},{"$f":"IF('2.Logbook'!AS331=\"\",\"\",'2.Logbook'!AS331)","v":""},{"$f":"IF('2.Logbook'!AT331=\"\",\"\",'2.Logbook'!AT331)","v":""},{"$f":"IF('2.Logbook'!AU331=\"\",\"\",'2.Logbook'!AU331)","v":""},{"$f":"IF('2.Logbook'!AV331=\"\",\"\",'2.Logbook'!AV331)","v":""},{"$f":"IF('2.Logbook'!AW331=\"\",\"\",'2.Logbook'!AW331)","v":""},{"$f":"IF('2.Logbook'!AX331=\"\",\"\",'2.Logbook'!AX331)","v":""},{"$f":"IF('2.Logbook'!AY331=\"\",\"\",'2.Logbook'!AY331)","v":""}]
[{"$f":"IF('2.Logbook'!$A332=\"\",\"\",'2.Logbook'!$A332)","v":""},{"$f":"IF('2.Logbook'!$B332=\"\",\"\",'2.Logbook'!$B332)","v":""},{"$f":"IF('2.Logbook'!AH332=\"\",\"\",'2.Logbook'!AH332)","v":""},{"$f":"IF('2.Logbook'!AI332=\"\",\"\",'2.Logbook'!AI332)","v":""},{"$f":"IF('2.Logbook'!AJ332=\"\",\"\",'2.Logbook'!AJ332)","v":""},{"$f":"IF('2.Logbook'!AK332=\"\",\"\",'2.Logbook'!AK332)","v":""},{"$f":"IF('2.Logbook'!AL332=\"\",\"\",'2.Logbook'!AL332)","v":""},{"$f":"IF('2.Logbook'!AM332=\"\",\"\",'2.Logbook'!AM332)","v":""},{"$f":"IF('2.Logbook'!AN332=\"\",\"\",'2.Logbook'!AN332)","v":""},{"$f":"IF('2.Logbook'!AO332=\"\",\"\",'2.Logbook'!AO332)","v":""},{"$f":"IF('2.Logbook'!AP332=\"\",\"\",'2.Logbook'!AP332)","v":""},{"$f":"IF('2.Logbook'!AQ332=\"\",\"\",'2.Logbook'!AQ332)","v":""},{"$f":"IF('2.Logbook'!AR332=\"\",\"\",'2.Logbook'!AR332)","v":""},{"$f":"IF('2.Logbook'!AS332=\"\",\"\",'2.Logbook'!AS332)","v":""},{"$f":"IF('2.Logbook'!AT332=\"\",\"\",'2.Logbook'!AT332)","v":""},{"$f":"IF('2.Logbook'!AU332=\"\",\"\",'2.Logbook'!AU332)","v":""},{"$f":"IF('2.Logbook'!AV332=\"\",\"\",'2.Logbook'!AV332)","v":""},{"$f":"IF('2.Logbook'!AW332=\"\",\"\",'2.Logbook'!AW332)","v":""},{"$f":"IF('2.Logbook'!AX332=\"\",\"\",'2.Logbook'!AX332)","v":""},{"$f":"IF('2.Logbook'!AY332=\"\",\"\",'2.Logbook'!AY332)","v":""}]
[{"$f":"IF('2.Logbook'!$A333=\"\",\"\",'2.Logbook'!$A333)","v":""},{"$f":"IF('2.Logbook'!$B333=\"\",\"\",'2.Logbook'!$B333)","v":""},{"$f":"IF('2.Logbook'!AH333=\"\",\"\",'2.Logbook'!AH333)","v":""},{"$f":"IF('2.Logbook'!AI333=\"\",\"\",'2.Logbook'!AI333)","v":""},{"$f":"IF('2.Logbook'!AJ333=\"\",\"\",'2.Logbook'!AJ333)","v":""},{"$f":"IF('2.Logbook'!AK333=\"\",\"\",'2.Logbook'!AK333)","v":""},{"$f":"IF('2.Logbook'!AL333=\"\",\"\",'2.Logbook'!AL333)","v":""},{"$f":"IF('2.Logbook'!AM333=\"\",\"\",'2.Logbook'!AM333)","v":""},{"$f":"IF('2.Logbook'!AN333=\"\",\"\",'2.Logbook'!AN333)","v":""},{"$f":"IF('2.Logbook'!AO333=\"\",\"\",'2.Logbook'!AO333)","v":""},{"$f":"IF('2.Logbook'!AP333=\"\",\"\",'2.Logbook'!AP333)","v":""},{"$f":"IF('2.Logbook'!AQ333=\"\",\"\",'2.Logbook'!AQ333)","v":""},{"$f":"IF('2.Logbook'!AR333=\"\",\"\",'2.Logbook'!AR333)","v":""},{"$f":"IF('2.Logbook'!AS333=\"\",\"\",'2.Logbook'!AS333)","v":""},{"$f":"IF('2.Logbook'!AT333=\"\",\"\",'2.Logbook'!AT333)","v":""},{"$f":"IF('2.Logbook'!AU333=\"\",\"\",'2.Logbook'!AU333)","v":""},{"$f":"IF('2.Logbook'!AV333=\"\",\"\",'2.Logbook'!AV333)","v":""},{"$f":"IF('2.Logbook'!AW333=\"\",\"\",'2.Logbook'!AW333)","v":""},{"$f":"IF('2.Logbook'!AX333=\"\",\"\",'2.Logbook'!AX333)","v":""},{"$f":"IF('2.Logbook'!AY333=\"\",\"\",'2.Logbook'!AY333)","v":""}]
[{"$f":"IF('2.Logbook'!$A334=\"\",\"\",'2.Logbook'!$A334)","v":""},{"$f":"IF('2.Logbook'!$B334=\"\",\"\",'2.Logbook'!$B334)","v":""},{"$f":"IF('2.Logbook'!AH334=\"\",\"\",'2.Logbook'!AH334)","v":""},{"$f":"IF('2.Logbook'!AI334=\"\",\"\",'2.Logbook'!AI334)","v":""},{"$f":"IF('2.Logbook'!AJ334=\"\",\"\",'2.Logbook'!AJ334)","v":""},{"$f":"IF('2.Logbook'!AK334=\"\",\"\",'2.Logbook'!AK334)","v":""},{"$f":"IF('2.Logbook'!AL334=\"\",\"\",'2.Logbook'!AL334)","v":""},{"$f":"IF('2.Logbook'!AM334=\"\",\"\",'2.Logbook'!AM334)","v":""},{"$f":"IF('2.Logbook'!AN334=\"\",\"\",'2.Logbook'!AN334)","v":""},{"$f":"IF('2.Logbook'!AO334=\"\",\"\",'2.Logbook'!AO334)","v":""},{"$f":"IF('2.Logbook'!AP334=\"\",\"\",'2.Logbook'!AP334)","v":""},{"$f":"IF('2.Logbook'!AQ334=\"\",\"\",'2.Logbook'!AQ334)","v":""},{"$f":"IF('2.Logbook'!AR334=\"\",\"\",'2.Logbook'!AR334)","v":""},{"$f":"IF('2.Logbook'!AS334=\"\",\"\",'2.Logbook'!AS334)","v":""},{"$f":"IF('2.Logbook'!AT334=\"\",\"\",'2.Logbook'!AT334)","v":""},{"$f":"IF('2.Logbook'!AU334=\"\",\"\",'2.Logbook'!AU334)","v":""},{"$f":"IF('2.Logbook'!AV334=\"\",\"\",'2.Logbook'!AV334)","v":""},{"$f":"IF('2.Logbook'!AW334=\"\",\"\",'2.Logbook'!AW334)","v":""},{"$f":"IF('2.Logbook'!AX334=\"\",\"\",'2.Logbook'!AX334)","v":""},{"$f":"IF('2.Logbook'!AY334=\"\",\"\",'2.Logbook'!AY334)","v":""}]
[{"$f":"IF('2.Logbook'!$A335=\"\",\"\",'2.Logbook'!$A335)","v":""},{"$f":"IF('2.Logbook'!$B335=\"\",\"\",'2.Logbook'!$B335)","v":""},{"$f":"IF('2.Logbook'!AH335=\"\",\"\",'2.Logbook'!AH335)","v":""},{"$f":"IF('2.Logbook'!AI335=\"\",\"\",'2.Logbook'!AI335)","v":""},{"$f":"IF('2.Logbook'!AJ335=\"\",\"\",'2.Logbook'!AJ335)","v":""},{"$f":"IF('2.Logbook'!AK335=\"\",\"\",'2.Logbook'!AK335)","v":""},{"$f":"IF('2.Logbook'!AL335=\"\",\"\",'2.Logbook'!AL335)","v":""},{"$f":"IF('2.Logbook'!AM335=\"\",\"\",'2.Logbook'!AM335)","v":""},{"$f":"IF('2.Logbook'!AN335=\"\",\"\",'2.Logbook'!AN335)","v":""},{"$f":"IF('2.Logbook'!AO335=\"\",\"\",'2.Logbook'!AO335)","v":""},{"$f":"IF('2.Logbook'!AP335=\"\",\"\",'2.Logbook'!AP335)","v":""},{"$f":"IF('2.Logbook'!AQ335=\"\",\"\",'2.Logbook'!AQ335)","v":""},{"$f":"IF('2.Logbook'!AR335=\"\",\"\",'2.Logbook'!AR335)","v":""},{"$f":"IF('2.Logbook'!AS335=\"\",\"\",'2.Logbook'!AS335)","v":""},{"$f":"IF('2.Logbook'!AT335=\"\",\"\",'2.Logbook'!AT335)","v":""},{"$f":"IF('2.Logbook'!AU335=\"\",\"\",'2.Logbook'!AU335)","v":""},{"$f":"IF('2.Logbook'!AV335=\"\",\"\",'2.Logbook'!AV335)","v":""},{"$f":"IF('2.Logbook'!AW335=\"\",\"\",'2.Logbook'!AW335)","v":""},{"$f":"IF('2.Logbook'!AX335=\"\",\"\",'2.Logbook'!AX335)","v":""},{"$f":"IF('2.Logbook'!AY335=\"\",\"\",'2.Logbook'!AY335)","v":""}]
[{"$f":"IF('2.Logbook'!$A336=\"\",\"\",'2.Logbook'!$A336)","v":""},{"$f":"IF('2.Logbook'!$B336=\"\",\"\",'2.Logbook'!$B336)","v":""},{"$f":"IF('2.Logbook'!AH336=\"\",\"\",'2.Logbook'!AH336)","v":""},{"$f":"IF('2.Logbook'!AI336=\"\",\"\",'2.Logbook'!AI336)","v":""},{"$f":"IF('2.Logbook'!AJ336=\"\",\"\",'2.Logbook'!AJ336)","v":""},{"$f":"IF('2.Logbook'!AK336=\"\",\"\",'2.Logbook'!AK336)","v":""},{"$f":"IF('2.Logbook'!AL336=\"\",\"\",'2.Logbook'!AL336)","v":""},{"$f":"IF('2.Logbook'!AM336=\"\",\"\",'2.Logbook'!AM336)","v":""},{"$f":"IF('2.Logbook'!AN336=\"\",\"\",'2.Logbook'!AN336)","v":""},{"$f":"IF('2.Logbook'!AO336=\"\",\"\",'2.Logbook'!AO336)","v":""},{"$f":"IF('2.Logbook'!AP336=\"\",\"\",'2.Logbook'!AP336)","v":""},{"$f":"IF('2.Logbook'!AQ336=\"\",\"\",'2.Logbook'!AQ336)","v":""},{"$f":"IF('2.Logbook'!AR336=\"\",\"\",'2.Logbook'!AR336)","v":""},{"$f":"IF('2.Logbook'!AS336=\"\",\"\",'2.Logbook'!AS336)","v":""},{"$f":"IF('2.Logbook'!AT336=\"\",\"\",'2.Logbook'!AT336)","v":""},{"$f":"IF('2.Logbook'!AU336=\"\",\"\",'2.Logbook'!AU336)","v":""},{"$f":"IF('2.Logbook'!AV336=\"\",\"\",'2.Logbook'!AV336)","v":""},{"$f":"IF('2.Logbook'!AW336=\"\",\"\",'2.Logbook'!AW336)","v":""},{"$f":"IF('2.Logbook'!AX336=\"\",\"\",'2.Logbook'!AX336)","v":""},{"$f":"IF('2.Logbook'!AY336=\"\",\"\",'2.Logbook'!AY336)","v":""}]
[{"$f":"IF('2.Logbook'!$A337=\"\",\"\",'2.Logbook'!$A337)","v":""},{"$f":"IF('2.Logbook'!$B337=\"\",\"\",'2.Logbook'!$B337)","v":""},{"$f":"IF('2.Logbook'!AH337=\"\",\"\",'2.Logbook'!AH337)","v":""},{"$f":"IF('2.Logbook'!AI337=\"\",\"\",'2.Logbook'!AI337)","v":""},{"$f":"IF('2.Logbook'!AJ337=\"\",\"\",'2.Logbook'!AJ337)","v":""},{"$f":"IF('2.Logbook'!AK337=\"\",\"\",'2.Logbook'!AK337)","v":""},{"$f":"IF('2.Logbook'!AL337=\"\",\"\",'2.Logbook'!AL337)","v":""},{"$f":"IF('2.Logbook'!AM337=\"\",\"\",'2.Logbook'!AM337)","v":""},{"$f":"IF('2.Logbook'!AN337=\"\",\"\",'2.Logbook'!AN337)","v":""},{"$f":"IF('2.Logbook'!AO337=\"\",\"\",'2.Logbook'!AO337)","v":""},{"$f":"IF('2.Logbook'!AP337=\"\",\"\",'2.Logbook'!AP337)","v":""},{"$f":"IF('2.Logbook'!AQ337=\"\",\"\",'2.Logbook'!AQ337)","v":""},{"$f":"IF('2.Logbook'!AR337=\"\",\"\",'2.Logbook'!AR337)","v":""},{"$f":"IF('2.Logbook'!AS337=\"\",\"\",'2.Logbook'!AS337)","v":""},{"$f":"IF('2.Logbook'!AT337=\"\",\"\",'2.Logbook'!AT337)","v":""},{"$f":"IF('2.Logbook'!AU337=\"\",\"\",'2.Logbook'!AU337)","v":""},{"$f":"IF('2.Logbook'!AV337=\"\",\"\",'2.Logbook'!AV337)","v":""},{"$f":"IF('2.Logbook'!AW337=\"\",\"\",'2.Logbook'!AW337)","v":""},{"$f":"IF('2.Logbook'!AX337=\"\",\"\",'2.Logbook'!AX337)","v":""},{"$f":"IF('2.Logbook'!AY337=\"\",\"\",'2.Logbook'!AY337)","v":""}]
[{"$f":"IF('2.Logbook'!$A338=\"\",\"\",'2.Logbook'!$A338)","v":""},{"$f":"IF('2.Logbook'!$B338=\"\",\"\",'2.Logbook'!$B338)","v":""},{"$f":"IF('2.Logbook'!AH338=\"\",\"\",'2.Logbook'!AH338)","v":""},{"$f":"IF('2.Logbook'!AI338=\"\",\"\",'2.Logbook'!AI338)","v":""},{"$f":"IF('2.Logbook'!AJ338=\"\",\"\",'2.Logbook'!AJ338)","v":""},{"$f":"IF('2.Logbook'!AK338=\"\",\"\",'2.Logbook'!AK338)","v":""},{"$f":"IF('2.Logbook'!AL338=\"\",\"\",'2.Logbook'!AL338)","v":""},{"$f":"IF('2.Logbook'!AM338=\"\",\"\",'2.Logbook'!AM338)","v":""},{"$f":"IF('2.Logbook'!AN338=\"\",\"\",'2.Logbook'!AN338)","v":""},{"$f":"IF('2.Logbook'!AO338=\"\",\"\",'2.Logbook'!AO338)","v":""},{"$f":"IF('2.Logbook'!AP338=\"\",\"\",'2.Logbook'!AP338)","v":""},{"$f":"IF('2.Logbook'!AQ338=\"\",\"\",'2.Logbook'!AQ338)","v":""},{"$f":"IF('2.Logbook'!AR338=\"\",\"\",'2.Logbook'!AR338)","v":""},{"$f":"IF('2.Logbook'!AS338=\"\",\"\",'2.Logbook'!AS338)","v":""},{"$f":"IF('2.Logbook'!AT338=\"\",\"\",'2.Logbook'!AT338)","v":""},{"$f":"IF('2.Logbook'!AU338=\"\",\"\",'2.Logbook'!AU338)","v":""},{"$f":"IF('2.Logbook'!AV338=\"\",\"\",'2.Logbook'!AV338)","v":""},{"$f":"IF('2.Logbook'!AW338=\"\",\"\",'2.Logbook'!AW338)","v":""},{"$f":"IF('2.Logbook'!AX338=\"\",\"\",'2.Logbook'!AX338)","v":""},{"$f":"IF('2.Logbook'!AY338=\"\",\"\",'2.Logbook'!AY338)","v":""}]
[{"$f":"IF('2.Logbook'!$A339=\"\",\"\",'2.Logbook'!$A339)","v":""},{"$f":"IF('2.Logbook'!$B339=\"\",\"\",'2.Logbook'!$B339)","v":""},{"$f":"IF('2.Logbook'!AH339=\"\",\"\",'2.Logbook'!AH339)","v":""},{"$f":"IF('2.Logbook'!AI339=\"\",\"\",'2.Logbook'!AI339)","v":""},{"$f":"IF('2.Logbook'!AJ339=\"\",\"\",'2.Logbook'!AJ339)","v":""},{"$f":"IF('2.Logbook'!AK339=\"\",\"\",'2.Logbook'!AK339)","v":""},{"$f":"IF('2.Logbook'!AL339=\"\",\"\",'2.Logbook'!AL339)","v":""},{"$f":"IF('2.Logbook'!AM339=\"\",\"\",'2.Logbook'!AM339)","v":""},{"$f":"IF('2.Logbook'!AN339=\"\",\"\",'2.Logbook'!AN339)","v":""},{"$f":"IF('2.Logbook'!AO339=\"\",\"\",'2.Logbook'!AO339)","v":""},{"$f":"IF('2.Logbook'!AP339=\"\",\"\",'2.Logbook'!AP339)","v":""},{"$f":"IF('2.Logbook'!AQ339=\"\",\"\",'2.Logbook'!AQ339)","v":""},{"$f":"IF('2.Logbook'!AR339=\"\",\"\",'2.Logbook'!AR339)","v":""},{"$f":"IF('2.Logbook'!AS339=\"\",\"\",'2.Logbook'!AS339)","v":""},{"$f":"IF('2.Logbook'!AT339=\"\",\"\",'2.Logbook'!AT339)","v":""},{"$f":"IF('2.Logbook'!AU339=\"\",\"\",'2.Logbook'!AU339)","v":""},{"$f":"IF('2.Logbook'!AV339=\"\",\"\",'2.Logbook'!AV339)","v":""},{"$f":"IF('2.Logbook'!AW339=\"\",\"\",'2.Logbook'!AW339)","v":""},{"$f":"IF('2.Logbook'!AX339=\"\",\"\",'2.Logbook'!AX339)","v":""},{"$f":"IF('2.Logbook'!AY339=\"\",\"\",'2.Logbook'!AY339)","v":""}]
[{"$f":"IF('2.Logbook'!$A340=\"\",\"\",'2.Logbook'!$A340)","v":""},{"$f":"IF('2.Logbook'!$B340=\"\",\"\",'2.Logbook'!$B340)","v":""},{"$f":"IF('2.Logbook'!AH340=\"\",\"\",'2.Logbook'!AH340)","v":""},{"$f":"IF('2.Logbook'!AI340=\"\",\"\",'2.Logbook'!AI340)","v":""},{"$f":"IF('2.Logbook'!AJ340=\"\",\"\",'2.Logbook'!AJ340)","v":""},{"$f":"IF('2.Logbook'!AK340=\"\",\"\",'2.Logbook'!AK340)","v":""},{"$f":"IF('2.Logbook'!AL340=\"\",\"\",'2.Logbook'!AL340)","v":""},{"$f":"IF('2.Logbook'!AM340=\"\",\"\",'2.Logbook'!AM340)","v":""},{"$f":"IF('2.Logbook'!AN340=\"\",\"\",'2.Logbook'!AN340)","v":""},{"$f":"IF('2.Logbook'!AO340=\"\",\"\",'2.Logbook'!AO340)","v":""},{"$f":"IF('2.Logbook'!AP340=\"\",\"\",'2.Logbook'!AP340)","v":""},{"$f":"IF('2.Logbook'!AQ340=\"\",\"\",'2.Logbook'!AQ340)","v":""},{"$f":"IF('2.Logbook'!AR340=\"\",\"\",'2.Logbook'!AR340)","v":""},{"$f":"IF('2.Logbook'!AS340=\"\",\"\",'2.Logbook'!AS340)","v":""},{"$f":"IF('2.Logbook'!AT340=\"\",\"\",'2.Logbook'!AT340)","v":""},{"$f":"IF('2.Logbook'!AU340=\"\",\"\",'2.Logbook'!AU340)","v":""},{"$f":"IF('2.Logbook'!AV340=\"\",\"\",'2.Logbook'!AV340)","v":""},{"$f":"IF('2.Logbook'!AW340=\"\",\"\",'2.Logbook'!AW340)","v":""},{"$f":"IF('2.Logbook'!AX340=\"\",\"\",'2.Logbook'!AX340)","v":""},{"$f":"IF('2.Logbook'!AY340=\"\",\"\",'2.Logbook'!AY340)","v":""}]
[{"$f":"IF('2.Logbook'!$A341=\"\",\"\",'2.Logbook'!$A341)","v":""},{"$f":"IF('2.Logbook'!$B341=\"\",\"\",'2.Logbook'!$B341)","v":""},{"$f":"IF('2.Logbook'!AH341=\"\",\"\",'2.Logbook'!AH341)","v":""},{"$f":"IF('2.Logbook'!AI341=\"\",\"\",'2.Logbook'!AI341)","v":""},{"$f":"IF('2.Logbook'!AJ341=\"\",\"\",'2.Logbook'!AJ341)","v":""},{"$f":"IF('2.Logbook'!AK341=\"\",\"\",'2.Logbook'!AK341)","v":""},{"$f":"IF('2.Logbook'!AL341=\"\",\"\",'2.Logbook'!AL341)","v":""},{"$f":"IF('2.Logbook'!AM341=\"\",\"\",'2.Logbook'!AM341)","v":""},{"$f":"IF('2.Logbook'!AN341=\"\",\"\",'2.Logbook'!AN341)","v":""},{"$f":"IF('2.Logbook'!AO341=\"\",\"\",'2.Logbook'!AO341)","v":""},{"$f":"IF('2.Logbook'!AP341=\"\",\"\",'2.Logbook'!AP341)","v":""},{"$f":"IF('2.Logbook'!AQ341=\"\",\"\",'2.Logbook'!AQ341)","v":""},{"$f":"IF('2.Logbook'!AR341=\"\",\"\",'2.Logbook'!AR341)","v":""},{"$f":"IF('2.Logbook'!AS341=\"\",\"\",'2.Logbook'!AS341)","v":""},{"$f":"IF('2.Logbook'!AT341=\"\",\"\",'2.Logbook'!AT341)","v":""},{"$f":"IF('2.Logbook'!AU341=\"\",\"\",'2.Logbook'!AU341)","v":""},{"$f":"IF('2.Logbook'!AV341=\"\",\"\",'2.Logbook'!AV341)","v":""},{"$f":"IF('2.Logbook'!AW341=\"\",\"\",'2.Logbook'!AW341)","v":""},{"$f":"IF('2.Logbook'!AX341=\"\",\"\",'2.Logbook'!AX341)","v":""},{"$f":"IF('2.Logbook'!AY341=\"\",\"\",'2.Logbook'!AY341)","v":""}]
[{"$f":"IF('2.Logbook'!$A342=\"\",\"\",'2.Logbook'!$A342)","v":""},{"$f":"IF('2.Logbook'!$B342=\"\",\"\",'2.Logbook'!$B342)","v":""},{"$f":"IF('2.Logbook'!AH342=\"\",\"\",'2.Logbook'!AH342)","v":""},{"$f":"IF('2.Logbook'!AI342=\"\",\"\",'2.Logbook'!AI342)","v":""},{"$f":"IF('2.Logbook'!AJ342=\"\",\"\",'2.Logbook'!AJ342)","v":""},{"$f":"IF('2.Logbook'!AK342=\"\",\"\",'2.Logbook'!AK342)","v":""},{"$f":"IF('2.Logbook'!AL342=\"\",\"\",'2.Logbook'!AL342)","v":""},{"$f":"IF('2.Logbook'!AM342=\"\",\"\",'2.Logbook'!AM342)","v":""},{"$f":"IF('2.Logbook'!AN342=\"\",\"\",'2.Logbook'!AN342)","v":""},{"$f":"IF('2.Logbook'!AO342=\"\",\"\",'2.Logbook'!AO342)","v":""},{"$f":"IF('2.Logbook'!AP342=\"\",\"\",'2.Logbook'!AP342)","v":""},{"$f":"IF('2.Logbook'!AQ342=\"\",\"\",'2.Logbook'!AQ342)","v":""},{"$f":"IF('2.Logbook'!AR342=\"\",\"\",'2.Logbook'!AR342)","v":""},{"$f":"IF('2.Logbook'!AS342=\"\",\"\",'2.Logbook'!AS342)","v":""},{"$f":"IF('2.Logbook'!AT342=\"\",\"\",'2.Logbook'!AT342)","v":""},{"$f":"IF('2.Logbook'!AU342=\"\",\"\",'2.Logbook'!AU342)","v":""},{"$f":"IF('2.Logbook'!AV342=\"\",\"\",'2.Logbook'!AV342)","v":""},{"$f":"IF('2.Logbook'!AW342=\"\",\"\",'2.Logbook'!AW342)","v":""},{"$f":"IF('2.Logbook'!AX342=\"\",\"\",'2.Logbook'!AX342)","v":""},{"$f":"IF('2.Logbook'!AY342=\"\",\"\",'2.Logbook'!AY342)","v":""}]
[{"$f":"IF('2.Logbook'!$A343=\"\",\"\",'2.Logbook'!$A343)","v":""},{"$f":"IF('2.Logbook'!$B343=\"\",\"\",'2.Logbook'!$B343)","v":""},{"$f":"IF('2.Logbook'!AH343=\"\",\"\",'2.Logbook'!AH343)","v":""},{"$f":"IF('2.Logbook'!AI343=\"\",\"\",'2.Logbook'!AI343)","v":""},{"$f":"IF('2.Logbook'!AJ343=\"\",\"\",'2.Logbook'!AJ343)","v":""},{"$f":"IF('2.Logbook'!AK343=\"\",\"\",'2.Logbook'!AK343)","v":""},{"$f":"IF('2.Logbook'!AL343=\"\",\"\",'2.Logbook'!AL343)","v":""},{"$f":"IF('2.Logbook'!AM343=\"\",\"\",'2.Logbook'!AM343)","v":""},{"$f":"IF('2.Logbook'!AN343=\"\",\"\",'2.Logbook'!AN343)","v":""},{"$f":"IF('2.Logbook'!AO343=\"\",\"\",'2.Logbook'!AO343)","v":""},{"$f":"IF('2.Logbook'!AP343=\"\",\"\",'2.Logbook'!AP343)","v":""},{"$f":"IF('2.Logbook'!AQ343=\"\",\"\",'2.Logbook'!AQ343)","v":""},{"$f":"IF('2.Logbook'!AR343=\"\",\"\",'2.Logbook'!AR343)","v":""},{"$f":"IF('2.Logbook'!AS343=\"\",\"\",'2.Logbook'!AS343)","v":""},{"$f":"IF('2.Logbook'!AT343=\"\",\"\",'2.Logbook'!AT343)","v":""},{"$f":"IF('2.Logbook'!AU343=\"\",\"\",'2.Logbook'!AU343)","v":""},{"$f":"IF('2.Logbook'!AV343=\"\",\"\",'2.Logbook'!AV343)","v":""},{"$f":"IF('2.Logbook'!AW343=\"\",\"\",'2.Logbook'!AW343)","v":""},{"$f":"IF('2.Logbook'!AX343=\"\",\"\",'2.Logbook'!AX343)","v":""},{"$f":"IF('2.Logbook'!AY343=\"\",\"\",'2.Logbook'!AY343)","v":""}]
[{"$f":"IF('2.Logbook'!$A344=\"\",\"\",'2.Logbook'!$A344)","v":""},{"$f":"IF('2.Logbook'!$B344=\"\",\"\",'2.Logbook'!$B344)","v":""},{"$f":"IF('2.Logbook'!AH344=\"\",\"\",'2.Logbook'!AH344)","v":""},{"$f":"IF('2.Logbook'!AI344=\"\",\"\",'2.Logbook'!AI344)","v":""},{"$f":"IF('2.Logbook'!AJ344=\"\",\"\",'2.Logbook'!AJ344)","v":""},{"$f":"IF('2.Logbook'!AK344=\"\",\"\",'2.Logbook'!AK344)","v":""},{"$f":"IF('2.Logbook'!AL344=\"\",\"\",'2.Logbook'!AL344)","v":""},{"$f":"IF('2.Logbook'!AM344=\"\",\"\",'2.Logbook'!AM344)","v":""},{"$f":"IF('2.Logbook'!AN344=\"\",\"\",'2.Logbook'!AN344)","v":""},{"$f":"IF('2.Logbook'!AO344=\"\",\"\",'2.Logbook'!AO344)","v":""},{"$f":"IF('2.Logbook'!AP344=\"\",\"\",'2.Logbook'!AP344)","v":""},{"$f":"IF('2.Logbook'!AQ344=\"\",\"\",'2.Logbook'!AQ344)","v":""},{"$f":"IF('2.Logbook'!AR344=\"\",\"\",'2.Logbook'!AR344)","v":""},{"$f":"IF('2.Logbook'!AS344=\"\",\"\",'2.Logbook'!AS344)","v":""},{"$f":"IF('2.Logbook'!AT344=\"\",\"\",'2.Logbook'!AT344)","v":""},{"$f":"IF('2.Logbook'!AU344=\"\",\"\",'2.Logbook'!AU344)","v":""},{"$f":"IF('2.Logbook'!AV344=\"\",\"\",'2.Logbook'!AV344)","v":""},{"$f":"IF('2.Logbook'!AW344=\"\",\"\",'2.Logbook'!AW344)","v":""},{"$f":"IF('2.Logbook'!AX344=\"\",\"\",'2.Logbook'!AX344)","v":""},{"$f":"IF('2.Logbook'!AY344=\"\",\"\",'2.Logbook'!AY344)","v":""}]
[{"$f":"IF('2.Logbook'!$A345=\"\",\"\",'2.Logbook'!$A345)","v":""},{"$f":"IF('2.Logbook'!$B345=\"\",\"\",'2.Logbook'!$B345)","v":""},{"$f":"IF('2.Logbook'!AH345=\"\",\"\",'2.Logbook'!AH345)","v":""},{"$f":"IF('2.Logbook'!AI345=\"\",\"\",'2.Logbook'!AI345)","v":""},{"$f":"IF('2.Logbook'!AJ345=\"\",\"\",'2.Logbook'!AJ345)","v":""},{"$f":"IF('2.Logbook'!AK345=\"\",\"\",'2.Logbook'!AK345)","v":""},{"$f":"IF('2.Logbook'!AL345=\"\",\"\",'2.Logbook'!AL345)","v":""},{"$f":"IF('2.Logbook'!AM345=\"\",\"\",'2.Logbook'!AM345)","v":""},{"$f":"IF('2.Logbook'!AN345=\"\",\"\",'2.Logbook'!AN345)","v":""},{"$f":"IF('2.Logbook'!AO345=\"\",\"\",'2.Logbook'!AO345)","v":""},{"$f":"IF('2.Logbook'!AP345=\"\",\"\",'2.Logbook'!AP345)","v":""},{"$f":"IF('2.Logbook'!AQ345=\"\",\"\",'2.Logbook'!AQ345)","v":""},{"$f":"IF('2.Logbook'!AR345=\"\",\"\",'2.Logbook'!AR345)","v":""},{"$f":"IF('2.Logbook'!AS345=\"\",\"\",'2.Logbook'!AS345)","v":""},{"$f":"IF('2.Logbook'!AT345=\"\",\"\",'2.Logbook'!AT345)","v":""},{"$f":"IF('2.Logbook'!AU345=\"\",\"\",'2.Logbook'!AU345)","v":""},{"$f":"IF('2.Logbook'!AV345=\"\",\"\",'2.Logbook'!AV345)","v":""},{"$f":"IF('2.Logbook'!AW345=\"\",\"\",'2.Logbook'!AW345)","v":""},{"$f":"IF('2.Logbook'!AX345=\"\",\"\",'2.Logbook'!AX345)","v":""},{"$f":"IF('2.Logbook'!AY345=\"\",\"\",'2.Logbook'!AY345)","v":""}]
[{"$f":"IF('2.Logbook'!$A346=\"\",\"\",'2.Logbook'!$A346)","v":""},{"$f":"IF('2.Logbook'!$B346=\"\",\"\",'2.Logbook'!$B346)","v":""},{"$f":"IF('2.Logbook'!AH346=\"\",\"\",'2.Logbook'!AH346)","v":""},{"$f":"IF('2.Logbook'!AI346=\"\",\"\",'2.Logbook'!AI346)","v":""},{"$f":"IF('2.Logbook'!AJ346=\"\",\"\",'2.Logbook'!AJ346)","v":""},{"$f":"IF('2.Logbook'!AK346=\"\",\"\",'2.Logbook'!AK346)","v":""},{"$f":"IF('2.Logbook'!AL346=\"\",\"\",'2.Logbook'!AL346)","v":""},{"$f":"IF('2.Logbook'!AM346=\"\",\"\",'2.Logbook'!AM346)","v":""},{"$f":"IF('2.Logbook'!AN346=\"\",\"\",'2.Logbook'!AN346)","v":""},{"$f":"IF('2.Logbook'!AO346=\"\",\"\",'2.Logbook'!AO346)","v":""},{"$f":"IF('2.Logbook'!AP346=\"\",\"\",'2.Logbook'!AP346)","v":""},{"$f":"IF('2.Logbook'!AQ346=\"\",\"\",'2.Logbook'!AQ346)","v":""},{"$f":"IF('2.Logbook'!AR346=\"\",\"\",'2.Logbook'!AR346)","v":""},{"$f":"IF('2.Logbook'!AS346=\"\",\"\",'2.Logbook'!AS346)","v":""},{"$f":"IF('2.Logbook'!AT346=\"\",\"\",'2.Logbook'!AT346)","v":""},{"$f":"IF('2.Logbook'!AU346=\"\",\"\",'2.Logbook'!AU346)","v":""},{"$f":"IF('2.Logbook'!AV346=\"\",\"\",'2.Logbook'!AV346)","v":""},{"$f":"IF('2.Logbook'!AW346=\"\",\"\",'2.Logbook'!AW346)","v":""},{"$f":"IF('2.Logbook'!AX346=\"\",\"\",'2.Logbook'!AX346)","v":""},{"$f":"IF('2.Logbook'!AY346=\"\",\"\",'2.Logbook'!AY346)","v":""}]
[{"$f":"IF('2.Logbook'!$A347=\"\",\"\",'2.Logbook'!$A347)","v":""},{"$f":"IF('2.Logbook'!$B347=\"\",\"\",'2.Logbook'!$B347)","v":""},{"$f":"IF('2.Logbook'!AH347=\"\",\"\",'2.Logbook'!AH347)","v":""},{"$f":"IF('2.Logbook'!AI347=\"\",\"\",'2.Logbook'!AI347)","v":""},{"$f":"IF('2.Logbook'!AJ347=\"\",\"\",'2.Logbook'!AJ347)","v":""},{"$f":"IF('2.Logbook'!AK347=\"\",\"\",'2.Logbook'!AK347)","v":""},{"$f":"IF('2.Logbook'!AL347=\"\",\"\",'2.Logbook'!AL347)","v":""},{"$f":"IF('2.Logbook'!AM347=\"\",\"\",'2.Logbook'!AM347)","v":""},{"$f":"IF('2.Logbook'!AN347=\"\",\"\",'2.Logbook'!AN347)","v":""},{"$f":"IF('2.Logbook'!AO347=\"\",\"\",'2.Logbook'!AO347)","v":""},{"$f":"IF('2.Logbook'!AP347=\"\",\"\",'2.Logbook'!AP347)","v":""},{"$f":"IF('2.Logbook'!AQ347=\"\",\"\",'2.Logbook'!AQ347)","v":""},{"$f":"IF('2.Logbook'!AR347=\"\",\"\",'2.Logbook'!AR347)","v":""},{"$f":"IF('2.Logbook'!AS347=\"\",\"\",'2.Logbook'!AS347)","v":""},{"$f":"IF('2.Logbook'!AT347=\"\",\"\",'2.Logbook'!AT347)","v":""},{"$f":"IF('2.Logbook'!AU347=\"\",\"\",'2.Logbook'!AU347)","v":""},{"$f":"IF('2.Logbook'!AV347=\"\",\"\",'2.Logbook'!AV347)","v":""},{"$f":"IF('2.Logbook'!AW347=\"\",\"\",'2.Logbook'!AW347)","v":""},{"$f":"IF('2.Logbook'!AX347=\"\",\"\",'2.Logbook'!AX347)","v":""},{"$f":"IF('2.Logbook'!AY347=\"\",\"\",'2.Logbook'!AY347)","v":""}]
[{"$f":"IF('2.Logbook'!$A348=\"\",\"\",'2.Logbook'!$A348)","v":""},{"$f":"IF('2.Logbook'!$B348=\"\",\"\",'2.Logbook'!$B348)","v":""},{"$f":"IF('2.Logbook'!AH348=\"\",\"\",'2.Logbook'!AH348)","v":""},{"$f":"IF('2.Logbook'!AI348=\"\",\"\",'2.Logbook'!AI348)","v":""},{"$f":"IF('2.Logbook'!AJ348=\"\",\"\",'2.Logbook'!AJ348)","v":""},{"$f":"IF('2.Logbook'!AK348=\"\",\"\",'2.Logbook'!AK348)","v":""},{"$f":"IF('2.Logbook'!AL348=\"\",\"\",'2.Logbook'!AL348)","v":""},{"$f":"IF('2.Logbook'!AM348=\"\",\"\",'2.Logbook'!AM348)","v":""},{"$f":"IF('2.Logbook'!AN348=\"\",\"\",'2.Logbook'!AN348)","v":""},{"$f":"IF('2.Logbook'!AO348=\"\",\"\",'2.Logbook'!AO348)","v":""},{"$f":"IF('2.Logbook'!AP348=\"\",\"\",'2.Logbook'!AP348)","v":""},{"$f":"IF('2.Logbook'!AQ348=\"\",\"\",'2.Logbook'!AQ348)","v":""},{"$f":"IF('2.Logbook'!AR348=\"\",\"\",'2.Logbook'!AR348)","v":""},{"$f":"IF('2.Logbook'!AS348=\"\",\"\",'2.Logbook'!AS348)","v":""},{"$f":"IF('2.Logbook'!AT348=\"\",\"\",'2.Logbook'!AT348)","v":""},{"$f":"IF('2.Logbook'!AU348=\"\",\"\",'2.Logbook'!AU348)","v":""},{"$f":"IF('2.Logbook'!AV348=\"\",\"\",'2.Logbook'!AV348)","v":""},{"$f":"IF('2.Logbook'!AW348=\"\",\"\",'2.Logbook'!AW348)","v":""},{"$f":"IF('2.Logbook'!AX348=\"\",\"\",'2.Logbook'!AX348)","v":""},{"$f":"IF('2.Logbook'!AY348=\"\",\"\",'2.Logbook'!AY348)","v":""}]
[{"$f":"IF('2.Logbook'!$A349=\"\",\"\",'2.Logbook'!$A349)","v":""},{"$f":"IF('2.Logbook'!$B349=\"\",\"\",'2.Logbook'!$B349)","v":""},{"$f":"IF('2.Logbook'!AH349=\"\",\"\",'2.Logbook'!AH349)","v":""},{"$f":"IF('2.Logbook'!AI349=\"\",\"\",'2.Logbook'!AI349)","v":""},{"$f":"IF('2.Logbook'!AJ349=\"\",\"\",'2.Logbook'!AJ349)","v":""},{"$f":"IF('2.Logbook'!AK349=\"\",\"\",'2.Logbook'!AK349)","v":""},{"$f":"IF('2.Logbook'!AL349=\"\",\"\",'2.Logbook'!AL349)","v":""},{"$f":"IF('2.Logbook'!AM349=\"\",\"\",'2.Logbook'!AM349)","v":""},{"$f":"IF('2.Logbook'!AN349=\"\",\"\",'2.Logbook'!AN349)","v":""},{"$f":"IF('2.Logbook'!AO349=\"\",\"\",'2.Logbook'!AO349)","v":""},{"$f":"IF('2.Logbook'!AP349=\"\",\"\",'2.Logbook'!AP349)","v":""},{"$f":"IF('2.Logbook'!AQ349=\"\",\"\",'2.Logbook'!AQ349)","v":""},{"$f":"IF('2.Logbook'!AR349=\"\",\"\",'2.Logbook'!AR349)","v":""},{"$f":"IF('2.Logbook'!AS349=\"\",\"\",'2.Logbook'!AS349)","v":""},{"$f":"IF('2.Logbook'!AT349=\"\",\"\",'2.Logbook'!AT349)","v":""},{"$f":"IF('2.Logbook'!AU349=\"\",\"\",'2.Logbook'!AU349)","v":""},{"$f":"IF('2.Logbook'!AV349=\"\",\"\",'2.Logbook'!AV349)","v":""},{"$f":"IF('2.Logbook'!AW349=\"\",\"\",'2.Logbook'!AW349)","v":""},{"$f":"IF('2.Logbook'!AX349=\"\",\"\",'2.Logbook'!AX349)","v":""},{"$f":"IF('2.Logbook'!AY349=\"\",\"\",'2.Logbook'!AY349)","v":""}]
[{"$f":"IF('2.Logbook'!$A350=\"\",\"\",'2.Logbook'!$A350)","v":""},{"$f":"IF('2.Logbook'!$B350=\"\",\"\",'2.Logbook'!$B350)","v":""},{"$f":"IF('2.Logbook'!AH350=\"\",\"\",'2.Logbook'!AH350)","v":""},{"$f":"IF('2.Logbook'!AI350=\"\",\"\",'2.Logbook'!AI350)","v":""},{"$f":"IF('2.Logbook'!AJ350=\"\",\"\",'2.Logbook'!AJ350)","v":""},{"$f":"IF('2.Logbook'!AK350=\"\",\"\",'2.Logbook'!AK350)","v":""},{"$f":"IF('2.Logbook'!AL350=\"\",\"\",'2.Logbook'!AL350)","v":""},{"$f":"IF('2.Logbook'!AM350=\"\",\"\",'2.Logbook'!AM350)","v":""},{"$f":"IF('2.Logbook'!AN350=\"\",\"\",'2.Logbook'!AN350)","v":""},{"$f":"IF('2.Logbook'!AO350=\"\",\"\",'2.Logbook'!AO350)","v":""},{"$f":"IF('2.Logbook'!AP350=\"\",\"\",'2.Logbook'!AP350)","v":""},{"$f":"IF('2.Logbook'!AQ350=\"\",\"\",'2.Logbook'!AQ350)","v":""},{"$f":"IF('2.Logbook'!AR350=\"\",\"\",'2.Logbook'!AR350)","v":""},{"$f":"IF('2.Logbook'!AS350=\"\",\"\",'2.Logbook'!AS350)","v":""},{"$f":"IF('2.Logbook'!AT350=\"\",\"\",'2.Logbook'!AT350)","v":""},{"$f":"IF('2.Logbook'!AU350=\"\",\"\",'2.Logbook'!AU350)","v":""},{"$f":"IF('2.Logbook'!AV350=\"\",\"\",'2.Logbook'!AV350)","v":""},{"$f":"IF('2.Logbook'!AW350=\"\",\"\",'2.Logbook'!AW350)","v":""},{"$f":"IF('2.Logbook'!AX350=\"\",\"\",'2.Logbook'!AX350)","v":""},{"$f":"IF('2.Logbook'!AY350=\"\",\"\",'2.Logbook'!AY350)","v":""}]
[{"$f":"IF('2.Logbook'!$A351=\"\",\"\",'2.Logbook'!$A351)","v":""},{"$f":"IF('2.Logbook'!$B351=\"\",\"\",'2.Logbook'!$B351)","v":""},{"$f":"IF('2.Logbook'!AH351=\"\",\"\",'2.Logbook'!AH351)","v":""},{"$f":"IF('2.Logbook'!AI351=\"\",\"\",'2.Logbook'!AI351)","v":""},{"$f":"IF('2.Logbook'!AJ351=\"\",\"\",'2.Logbook'!AJ351)","v":""},{"$f":"IF('2.Logbook'!AK351=\"\",\"\",'2.Logbook'!AK351)","v":""},{"$f":"IF('2.Logbook'!AL351=\"\",\"\",'2.Logbook'!AL351)","v":""},{"$f":"IF('2.Logbook'!AM351=\"\",\"\",'2.Logbook'!AM351)","v":""},{"$f":"IF('2.Logbook'!AN351=\"\",\"\",'2.Logbook'!AN351)","v":""},{"$f":"IF('2.Logbook'!AO351=\"\",\"\",'2.Logbook'!AO351)","v":""},{"$f":"IF('2.Logbook'!AP351=\"\",\"\",'2.Logbook'!AP351)","v":""},{"$f":"IF('2.Logbook'!AQ351=\"\",\"\",'2.Logbook'!AQ351)","v":""},{"$f":"IF('2.Logbook'!AR351=\"\",\"\",'2.Logbook'!AR351)","v":""},{"$f":"IF('2.Logbook'!AS351=\"\",\"\",'2.Logbook'!AS351)","v":""},{"$f":"IF('2.Logbook'!AT351=\"\",\"\",'2.Logbook'!AT351)","v":""},{"$f":"IF('2.Logbook'!AU351=\"\",\"\",'2.Logbook'!AU351)","v":""},{"$f":"IF('2.Logbook'!AV351=\"\",\"\",'2.Logbook'!AV351)","v":""},{"$f":"IF('2.Logbook'!AW351=\"\",\"\",'2.Logbook'!AW351)","v":""},{"$f":"IF('2.Logbook'!AX351=\"\",\"\",'2.Logbook'!AX351)","v":""},{"$f":"IF('2.Logbook'!AY351=\"\",\"\",'2.Logbook'!AY351)","v":""}]
[{"$f":"IF('2.Logbook'!$A352=\"\",\"\",'2.Logbook'!$A352)","v":""},{"$f":"IF('2.Logbook'!$B352=\"\",\"\",'2.Logbook'!$B352)","v":""},{"$f":"IF('2.Logbook'!AH352=\"\",\"\",'2.Logbook'!AH352)","v":""},{"$f":"IF('2.Logbook'!AI352=\"\",\"\",'2.Logbook'!AI352)","v":""},{"$f":"IF('2.Logbook'!AJ352=\"\",\"\",'2.Logbook'!AJ352)","v":""},{"$f":"IF('2.Logbook'!AK352=\"\",\"\",'2.Logbook'!AK352)","v":""},{"$f":"IF('2.Logbook'!AL352=\"\",\"\",'2.Logbook'!AL352)","v":""},{"$f":"IF('2.Logbook'!AM352=\"\",\"\",'2.Logbook'!AM352)","v":""},{"$f":"IF('2.Logbook'!AN352=\"\",\"\",'2.Logbook'!AN352)","v":""},{"$f":"IF('2.Logbook'!AO352=\"\",\"\",'2.Logbook'!AO352)","v":""},{"$f":"IF('2.Logbook'!AP352=\"\",\"\",'2.Logbook'!AP352)","v":""},{"$f":"IF('2.Logbook'!AQ352=\"\",\"\",'2.Logbook'!AQ352)","v":""},{"$f":"IF('2.Logbook'!AR352=\"\",\"\",'2.Logbook'!AR352)","v":""},{"$f":"IF('2.Logbook'!AS352=\"\",\"\",'2.Logbook'!AS352)","v":""},{"$f":"IF('2.Logbook'!AT352=\"\",\"\",'2.Logbook'!AT352)","v":""},{"$f":"IF('2.Logbook'!AU352=\"\",\"\",'2.Logbook'!AU352)","v":""},{"$f":"IF('2.Logbook'!AV352=\"\",\"\",'2.Logbook'!AV352)","v":""},{"$f":"IF('2.Logbook'!AW352=\"\",\"\",'2.Logbook'!AW352)","v":""},{"$f":"IF('2.Logbook'!AX352=\"\",\"\",'2.Logbook'!AX352)","v":""},{"$f":"IF('2.Logbook'!AY352=\"\",\"\",'2.Logbook'!AY352)","v":""}]
[{"$f":"IF('2.Logbook'!$A353=\"\",\"\",'2.Logbook'!$A353)","v":""},{"$f":"IF('2.Logbook'!$B353=\"\",\"\",'2.Logbook'!$B353)","v":""},{"$f":"IF('2.Logbook'!AH353=\"\",\"\",'2.Logbook'!AH353)","v":""},{"$f":"IF('2.Logbook'!AI353=\"\",\"\",'2.Logbook'!AI353)","v":""},{"$f":"IF('2.Logbook'!AJ353=\"\",\"\",'2.Logbook'!AJ353)","v":""},{"$f":"IF('2.Logbook'!AK353=\"\",\"\",'2.Logbook'!AK353)","v":""},{"$f":"IF('2.Logbook'!AL353=\"\",\"\",'2.Logbook'!AL353)","v":""},{"$f":"IF('2.Logbook'!AM353=\"\",\"\",'2.Logbook'!AM353)","v":""},{"$f":"IF('2.Logbook'!AN353=\"\",\"\",'2.Logbook'!AN353)","v":""},{"$f":"IF('2.Logbook'!AO353=\"\",\"\",'2.Logbook'!AO353)","v":""},{"$f":"IF('2.Logbook'!AP353=\"\",\"\",'2.Logbook'!AP353)","v":""},{"$f":"IF('2.Logbook'!AQ353=\"\",\"\",'2.Logbook'!AQ353)","v":""},{"$f":"IF('2.Logbook'!AR353=\"\",\"\",'2.Logbook'!AR353)","v":""},{"$f":"IF('2.Logbook'!AS353=\"\",\"\",'2.Logbook'!AS353)","v":""},{"$f":"IF('2.Logbook'!AT353=\"\",\"\",'2.Logbook'!AT353)","v":""},{"$f":"IF('2.Logbook'!AU353=\"\",\"\",'2.Logbook'!AU353)","v":""},{"$f":"IF('2.Logbook'!AV353=\"\",\"\",'2.Logbook'!AV353)","v":""},{"$f":"IF('2.Logbook'!AW353=\"\",\"\",'2.Logbook'!AW353)","v":""},{"$f":"IF('2.Logbook'!AX353=\"\",\"\",'2.Logbook'!AX353)","v":""},{"$f":"IF('2.Logbook'!AY353=\"\",\"\",'2.Logbook'!AY353)","v":""}]
[{"$f":"IF('2.Logbook'!$A354=\"\",\"\",'2.Logbook'!$A354)","v":""},{"$f":"IF('2.Logbook'!$B354=\"\",\"\",'2.Logbook'!$B354)","v":""},{"$f":"IF('2.Logbook'!AH354=\"\",\"\",'2.Logbook'!AH354)","v":""},{"$f":"IF('2.Logbook'!AI354=\"\",\"\",'2.Logbook'!AI354)","v":""},{"$f":"IF('2.Logbook'!AJ354=\"\",\"\",'2.Logbook'!AJ354)","v":""},{"$f":"IF('2.Logbook'!AK354=\"\",\"\",'2.Logbook'!AK354)","v":""},{"$f":"IF('2.Logbook'!AL354=\"\",\"\",'2.Logbook'!AL354)","v":""},{"$f":"IF('2.Logbook'!AM354=\"\",\"\",'2.Logbook'!AM354)","v":""},{"$f":"IF('2.Logbook'!AN354=\"\",\"\",'2.Logbook'!AN354)","v":""},{"$f":"IF('2.Logbook'!AO354=\"\",\"\",'2.Logbook'!AO354)","v":""},{"$f":"IF('2.Logbook'!AP354=\"\",\"\",'2.Logbook'!AP354)","v":""},{"$f":"IF('2.Logbook'!AQ354=\"\",\"\",'2.Logbook'!AQ354)","v":""},{"$f":"IF('2.Logbook'!AR354=\"\",\"\",'2.Logbook'!AR354)","v":""},{"$f":"IF('2.Logbook'!AS354=\"\",\"\",'2.Logbook'!AS354)","v":""},{"$f":"IF('2.Logbook'!AT354=\"\",\"\",'2.Logbook'!AT354)","v":""},{"$f":"IF('2.Logbook'!AU354=\"\",\"\",'2.Logbook'!AU354)","v":""},{"$f":"IF('2.Logbook'!AV354=\"\",\"\",'2.Logbook'!AV354)","v":""},{"$f":"IF('2.Logbook'!AW354=\"\",\"\",'2.Logbook'!AW354)","v":""},{"$f":"IF('2.Logbook'!AX354=\"\",\"\",'2.Logbook'!AX354)","v":""},{"$f":"IF('2.Logbook'!AY354=\"\",\"\",'2.Logbook'!AY354)","v":""}]
[{"$f":"IF('2.Logbook'!$A355=\"\",\"\",'2.Logbook'!$A355)","v":""},{"$f":"IF('2.Logbook'!$B355=\"\",\"\",'2.Logbook'!$B355)","v":""},{"$f":"IF('2.Logbook'!AH355=\"\",\"\",'2.Logbook'!AH355)","v":""},{"$f":"IF('2.Logbook'!AI355=\"\",\"\",'2.Logbook'!AI355)","v":""},{"$f":"IF('2.Logbook'!AJ355=\"\",\"\",'2.Logbook'!AJ355)","v":""},{"$f":"IF('2.Logbook'!AK355=\"\",\"\",'2.Logbook'!AK355)","v":""},{"$f":"IF('2.Logbook'!AL355=\"\",\"\",'2.Logbook'!AL355)","v":""},{"$f":"IF('2.Logbook'!AM355=\"\",\"\",'2.Logbook'!AM355)","v":""},{"$f":"IF('2.Logbook'!AN355=\"\",\"\",'2.Logbook'!AN355)","v":""},{"$f":"IF('2.Logbook'!AO355=\"\",\"\",'2.Logbook'!AO355)","v":""},{"$f":"IF('2.Logbook'!AP355=\"\",\"\",'2.Logbook'!AP355)","v":""},{"$f":"IF('2.Logbook'!AQ355=\"\",\"\",'2.Logbook'!AQ355)","v":""},{"$f":"IF('2.Logbook'!AR355=\"\",\"\",'2.Logbook'!AR355)","v":""},{"$f":"IF('2.Logbook'!AS355=\"\",\"\",'2.Logbook'!AS355)","v":""},{"$f":"IF('2.Logbook'!AT355=\"\",\"\",'2.Logbook'!AT355)","v":""},{"$f":"IF('2.Logbook'!AU355=\"\",\"\",'2.Logbook'!AU355)","v":""},{"$f":"IF('2.Logbook'!AV355=\"\",\"\",'2.Logbook'!AV355)","v":""},{"$f":"IF('2.Logbook'!AW355=\"\",\"\",'2.Logbook'!AW355)","v":""},{"$f":"IF('2.Logbook'!AX355=\"\",\"\",'2.Logbook'!AX355)","v":""},{"$f":"IF('2.Logbook'!AY355=\"\",\"\",'2.Logbook'!AY355)","v":""}]
[{"$f":"IF('2.Logbook'!$A356=\"\",\"\",'2.Logbook'!$A356)","v":""},{"$f":"IF('2.Logbook'!$B356=\"\",\"\",'2.Logbook'!$B356)","v":""},{"$f":"IF('2.Logbook'!AH356=\"\",\"\",'2.Logbook'!AH356)","v":""},{"$f":"IF('2.Logbook'!AI356=\"\",\"\",'2.Logbook'!AI356)","v":""},{"$f":"IF('2.Logbook'!AJ356=\"\",\"\",'2.Logbook'!AJ356)","v":""},{"$f":"IF('2.Logbook'!AK356=\"\",\"\",'2.Logbook'!AK356)","v":""},{"$f":"IF('2.Logbook'!AL356=\"\",\"\",'2.Logbook'!AL356)","v":""},{"$f":"IF('2.Logbook'!AM356=\"\",\"\",'2.Logbook'!AM356)","v":""},{"$f":"IF('2.Logbook'!AN356=\"\",\"\",'2.Logbook'!AN356)","v":""},{"$f":"IF('2.Logbook'!AO356=\"\",\"\",'2.Logbook'!AO356)","v":""},{"$f":"IF('2.Logbook'!AP356=\"\",\"\",'2.Logbook'!AP356)","v":""},{"$f":"IF('2.Logbook'!AQ356=\"\",\"\",'2.Logbook'!AQ356)","v":""},{"$f":"IF('2.Logbook'!AR356=\"\",\"\",'2.Logbook'!AR356)","v":""},{"$f":"IF('2.Logbook'!AS356=\"\",\"\",'2.Logbook'!AS356)","v":""},{"$f":"IF('2.Logbook'!AT356=\"\",\"\",'2.Logbook'!AT356)","v":""},{"$f":"IF('2.Logbook'!AU356=\"\",\"\",'2.Logbook'!AU356)","v":""},{"$f":"IF('2.Logbook'!AV356=\"\",\"\",'2.Logbook'!AV356)","v":""},{"$f":"IF('2.Logbook'!AW356=\"\",\"\",'2.Logbook'!AW356)","v":""},{"$f":"IF('2.Logbook'!AX356=\"\",\"\",'2.Logbook'!AX356)","v":""},{"$f":"IF('2.Logbook'!AY356=\"\",\"\",'2.Logbook'!AY356)","v":""}]
[{"$f":"IF('2.Logbook'!$A357=\"\",\"\",'2.Logbook'!$A357)","v":""},{"$f":"IF('2.Logbook'!$B357=\"\",\"\",'2.Logbook'!$B357)","v":""},{"$f":"IF('2.Logbook'!AH357=\"\",\"\",'2.Logbook'!AH357)","v":""},{"$f":"IF('2.Logbook'!AI357=\"\",\"\",'2.Logbook'!AI357)","v":""},{"$f":"IF('2.Logbook'!AJ357=\"\",\"\",'2.Logbook'!AJ357)","v":""},{"$f":"IF('2.Logbook'!AK357=\"\",\"\",'2.Logbook'!AK357)","v":""},{"$f":"IF('2.Logbook'!AL357=\"\",\"\",'2.Logbook'!AL357)","v":""},{"$f":"IF('2.Logbook'!AM357=\"\",\"\",'2.Logbook'!AM357)","v":""},{"$f":"IF('2.Logbook'!AN357=\"\",\"\",'2.Logbook'!AN357)","v":""},{"$f":"IF('2.Logbook'!AO357=\"\",\"\",'2.Logbook'!AO357)","v":""},{"$f":"IF('2.Logbook'!AP357=\"\",\"\",'2.Logbook'!AP357)","v":""},{"$f":"IF('2.Logbook'!AQ357=\"\",\"\",'2.Logbook'!AQ357)","v":""},{"$f":"IF('2.Logbook'!AR357=\"\",\"\",'2.Logbook'!AR357)","v":""},{"$f":"IF('2.Logbook'!AS357=\"\",\"\",'2.Logbook'!AS357)","v":""},{"$f":"IF('2.Logbook'!AT357=\"\",\"\",'2.Logbook'!AT357)","v":""},{"$f":"IF('2.Logbook'!AU357=\"\",\"\",'2.Logbook'!AU357)","v":""},{"$f":"IF('2.Logbook'!AV357=\"\",\"\",'2.Logbook'!AV357)","v":""},{"$f":"IF('2.Logbook'!AW357=\"\",\"\",'2.Logbook'!AW357)","v":""},{"$f":"IF('2.Logbook'!AX357=\"\",\"\",'2.Logbook'!AX357)","v":""},{"$f":"IF('2.Logbook'!AY357=\"\",\"\",'2.Logbook'!AY357)","v":""}]
[{"$f":"IF('2.Logbook'!$A358=\"\",\"\",'2.Logbook'!$A358)","v":""},{"$f":"IF('2.Logbook'!$B358=\"\",\"\",'2.Logbook'!$B358)","v":""},{"$f":"IF('2.Logbook'!AH358=\"\",\"\",'2.Logbook'!AH358)","v":""},{"$f":"IF('2.Logbook'!AI358=\"\",\"\",'2.Logbook'!AI358)","v":""},{"$f":"IF('2.Logbook'!AJ358=\"\",\"\",'2.Logbook'!AJ358)","v":""},{"$f":"IF('2.Logbook'!AK358=\"\",\"\",'2.Logbook'!AK358)","v":""},{"$f":"IF('2.Logbook'!AL358=\"\",\"\",'2.Logbook'!AL358)","v":""},{"$f":"IF('2.Logbook'!AM358=\"\",\"\",'2.Logbook'!AM358)","v":""},{"$f":"IF('2.Logbook'!AN358=\"\",\"\",'2.Logbook'!AN358)","v":""},{"$f":"IF('2.Logbook'!AO358=\"\",\"\",'2.Logbook'!AO358)","v":""},{"$f":"IF('2.Logbook'!AP358=\"\",\"\",'2.Logbook'!AP358)","v":""},{"$f":"IF('2.Logbook'!AQ358=\"\",\"\",'2.Logbook'!AQ358)","v":""},{"$f":"IF('2.Logbook'!AR358=\"\",\"\",'2.Logbook'!AR358)","v":""},{"$f":"IF('2.Logbook'!AS358=\"\",\"\",'2.Logbook'!AS358)","v":""},{"$f":"IF('2.Logbook'!AT358=\"\",\"\",'2.Logbook'!AT358)","v":""},{"$f":"IF('2.Logbook'!AU358=\"\",\"\",'2.Logbook'!AU358)","v":""},{"$f":"IF('2.Logbook'!AV358=\"\",\"\",'2.Logbook'!AV358)","v":""},{"$f":"IF('2.Logbook'!AW358=\"\",\"\",'2.Logbook'!AW358)","v":""},{"$f":"IF('2.Logbook'!AX358=\"\",\"\",'2.Logbook'!AX358)","v":""},{"$f":"IF('2.Logbook'!AY358=\"\",\"\",'2.Logbook'!AY358)","v":""}]
[{"$f":"IF('2.Logbook'!$A359=\"\",\"\",'2.Logbook'!$A359)","v":""},{"$f":"IF('2.Logbook'!$B359=\"\",\"\",'2.Logbook'!$B359)","v":""},{"$f":"IF('2.Logbook'!AH359=\"\",\"\",'2.Logbook'!AH359)","v":""},{"$f":"IF('2.Logbook'!AI359=\"\",\"\",'2.Logbook'!AI359)","v":""},{"$f":"IF('2.Logbook'!AJ359=\"\",\"\",'2.Logbook'!AJ359)","v":""},{"$f":"IF('2.Logbook'!AK359=\"\",\"\",'2.Logbook'!AK359)","v":""},{"$f":"IF('2.Logbook'!AL359=\"\",\"\",'2.Logbook'!AL359)","v":""},{"$f":"IF('2.Logbook'!AM359=\"\",\"\",'2.Logbook'!AM359)","v":""},{"$f":"IF('2.Logbook'!AN359=\"\",\"\",'2.Logbook'!AN359)","v":""},{"$f":"IF('2.Logbook'!AO359=\"\",\"\",'2.Logbook'!AO359)","v":""},{"$f":"IF('2.Logbook'!AP359=\"\",\"\",'2.Logbook'!AP359)","v":""},{"$f":"IF('2.Logbook'!AQ359=\"\",\"\",'2.Logbook'!AQ359)","v":""},{"$f":"IF('2.Logbook'!AR359=\"\",\"\",'2.Logbook'!AR359)","v":""},{"$f":"IF('2.Logbook'!AS359=\"\",\"\",'2.Logbook'!AS359)","v":""},{"$f":"IF('2.Logbook'!AT359=\"\",\"\",'2.Logbook'!AT359)","v":""},{"$f":"IF('2.Logbook'!AU359=\"\",\"\",'2.Logbook'!AU359)","v":""},{"$f":"IF('2.Logbook'!AV359=\"\",\"\",'2.Logbook'!AV359)","v":""},{"$f":"IF('2.Logbook'!AW359=\"\",\"\",'2.Logbook'!AW359)","v":""},{"$f":"IF('2.Logbook'!AX359=\"\",\"\",'2.Logbook'!AX359)","v":""},{"$f":"IF('2.Logbook'!AY359=\"\",\"\",'2.Logbook'!AY359)","v":""}]
[{"$f":"IF('2.Logbook'!$A360=\"\",\"\",'2.Logbook'!$A360)","v":""},{"$f":"IF('2.Logbook'!$B360=\"\",\"\",'2.Logbook'!$B360)","v":""},{"$f":"IF('2.Logbook'!AH360=\"\",\"\",'2.Logbook'!AH360)","v":""},{"$f":"IF('2.Logbook'!AI360=\"\",\"\",'2.Logbook'!AI360)","v":""},{"$f":"IF('2.Logbook'!AJ360=\"\",\"\",'2.Logbook'!AJ360)","v":""},{"$f":"IF('2.Logbook'!AK360=\"\",\"\",'2.Logbook'!AK360)","v":""},{"$f":"IF('2.Logbook'!AL360=\"\",\"\",'2.Logbook'!AL360)","v":""},{"$f":"IF('2.Logbook'!AM360=\"\",\"\",'2.Logbook'!AM360)","v":""},{"$f":"IF('2.Logbook'!AN360=\"\",\"\",'2.Logbook'!AN360)","v":""},{"$f":"IF('2.Logbook'!AO360=\"\",\"\",'2.Logbook'!AO360)","v":""},{"$f":"IF('2.Logbook'!AP360=\"\",\"\",'2.Logbook'!AP360)","v":""},{"$f":"IF('2.Logbook'!AQ360=\"\",\"\",'2.Logbook'!AQ360)","v":""},{"$f":"IF('2.Logbook'!AR360=\"\",\"\",'2.Logbook'!AR360)","v":""},{"$f":"IF('2.Logbook'!AS360=\"\",\"\",'2.Logbook'!AS360)","v":""},{"$f":"IF('2.Logbook'!AT360=\"\",\"\",'2.Logbook'!AT360)","v":""},{"$f":"IF('2.Logbook'!AU360=\"\",\"\",'2.Logbook'!AU360)","v":""},{"$f":"IF('2.Logbook'!AV360=\"\",\"\",'2.Logbook'!AV360)","v":""},{"$f":"IF('2.Logbook'!AW360=\"\",\"\",'2.Logbook'!AW360)","v":""},{"$f":"IF('2.Logbook'!AX360=\"\",\"\",'2.Logbook'!AX360)","v":""},{"$f":"IF('2.Logbook'!AY360=\"\",\"\",'2.Logbook'!AY360)","v":""}]
[{"$f":"IF('2.Logbook'!$A361=\"\",\"\",'2.Logbook'!$A361)","v":""},{"$f":"IF('2.Logbook'!$B361=\"\",\"\",'2.Logbook'!$B361)","v":""},{"$f":"IF('2.Logbook'!AH361=\"\",\"\",'2.Logbook'!AH361)","v":""},{"$f":"IF('2.Logbook'!AI361=\"\",\"\",'2.Logbook'!AI361)","v":""},{"$f":"IF('2.Logbook'!AJ361=\"\",\"\",'2.Logbook'!AJ361)","v":""},{"$f":"IF('2.Logbook'!AK361=\"\",\"\",'2.Logbook'!AK361)","v":""},{"$f":"IF('2.Logbook'!AL361=\"\",\"\",'2.Logbook'!AL361)","v":""},{"$f":"IF('2.Logbook'!AM361=\"\",\"\",'2.Logbook'!AM361)","v":""},{"$f":"IF('2.Logbook'!AN361=\"\",\"\",'2.Logbook'!AN361)","v":""},{"$f":"IF('2.Logbook'!AO361=\"\",\"\",'2.Logbook'!AO361)","v":""},{"$f":"IF('2.Logbook'!AP361=\"\",\"\",'2.Logbook'!AP361)","v":""},{"$f":"IF('2.Logbook'!AQ361=\"\",\"\",'2.Logbook'!AQ361)","v":""},{"$f":"IF('2.Logbook'!AR361=\"\",\"\",'2.Logbook'!AR361)","v":""},{"$f":"IF('2.Logbook'!AS361=\"\",\"\",'2.Logbook'!AS361)","v":""},{"$f":"IF('2.Logbook'!AT361=\"\",\"\",'2.Logbook'!AT361)","v":""},{"$f":"IF('2.Logbook'!AU361=\"\",\"\",'2.Logbook'!AU361)","v":""},{"$f":"IF('2.Logbook'!AV361=\"\",\"\",'2.Logbook'!AV361)","v":""},{"$f":"IF('2.Logbook'!AW361=\"\",\"\",'2.Logbook'!AW361)","v":""},{"$f":"IF('2.Logbook'!AX361=\"\",\"\",'2.Logbook'!AX361)","v":""},{"$f":"IF('2.Logbook'!AY361=\"\",\"\",'2.Logbook'!AY361)","v":""}]
[{"$f":"IF('2.Logbook'!$A362=\"\",\"\",'2.Logbook'!$A362)","v":""},{"$f":"IF('2.Logbook'!$B362=\"\",\"\",'2.Logbook'!$B362)","v":""},{"$f":"IF('2.Logbook'!AH362=\"\",\"\",'2.Logbook'!AH362)","v":""},{"$f":"IF('2.Logbook'!AI362=\"\",\"\",'2.Logbook'!AI362)","v":""},{"$f":"IF('2.Logbook'!AJ362=\"\",\"\",'2.Logbook'!AJ362)","v":""},{"$f":"IF('2.Logbook'!AK362=\"\",\"\",'2.Logbook'!AK362)","v":""},{"$f":"IF('2.Logbook'!AL362=\"\",\"\",'2.Logbook'!AL362)","v":""},{"$f":"IF('2.Logbook'!AM362=\"\",\"\",'2.Logbook'!AM362)","v":""},{"$f":"IF('2.Logbook'!AN362=\"\",\"\",'2.Logbook'!AN362)","v":""},{"$f":"IF('2.Logbook'!AO362=\"\",\"\",'2.Logbook'!AO362)","v":""},{"$f":"IF('2.Logbook'!AP362=\"\",\"\",'2.Logbook'!AP362)","v":""},{"$f":"IF('2.Logbook'!AQ362=\"\",\"\",'2.Logbook'!AQ362)","v":""},{"$f":"IF('2.Logbook'!AR362=\"\",\"\",'2.Logbook'!AR362)","v":""},{"$f":"IF('2.Logbook'!AS362=\"\",\"\",'2.Logbook'!AS362)","v":""},{"$f":"IF('2.Logbook'!AT362=\"\",\"\",'2.Logbook'!AT362)","v":""},{"$f":"IF('2.Logbook'!AU362=\"\",\"\",'2.Logbook'!AU362)","v":""},{"$f":"IF('2.Logbook'!AV362=\"\",\"\",'2.Logbook'!AV362)","v":""},{"$f":"IF('2.Logbook'!AW362=\"\",\"\",'2.Logbook'!AW362)","v":""},{"$f":"IF('2.Logbook'!AX362=\"\",\"\",'2.Logbook'!AX362)","v":""},{"$f":"IF('2.Logbook'!AY362=\"\",\"\",'2.Logbook'!AY362)","v":""}]
[{"$f":"IF('2.Logbook'!$A363=\"\",\"\",'2.Logbook'!$A363)","v":""},{"$f":"IF('2.Logbook'!$B363=\"\",\"\",'2.Logbook'!$B363)","v":""},{"$f":"IF('2.Logbook'!AH363=\"\",\"\",'2.Logbook'!AH363)","v":""},{"$f":"IF('2.Logbook'!AI363=\"\",\"\",'2.Logbook'!AI363)","v":""},{"$f":"IF('2.Logbook'!AJ363=\"\",\"\",'2.Logbook'!AJ363)","v":""},{"$f":"IF('2.Logbook'!AK363=\"\",\"\",'2.Logbook'!AK363)","v":""},{"$f":"IF('2.Logbook'!AL363=\"\",\"\",'2.Logbook'!AL363)","v":""},{"$f":"IF('2.Logbook'!AM363=\"\",\"\",'2.Logbook'!AM363)","v":""},{"$f":"IF('2.Logbook'!AN363=\"\",\"\",'2.Logbook'!AN363)","v":""},{"$f":"IF('2.Logbook'!AO363=\"\",\"\",'2.Logbook'!AO363)","v":""},{"$f":"IF('2.Logbook'!AP363=\"\",\"\",'2.Logbook'!AP363)","v":""},{"$f":"IF('2.Logbook'!AQ363=\"\",\"\",'2.Logbook'!AQ363)","v":""},{"$f":"IF('2.Logbook'!AR363=\"\",\"\",'2.Logbook'!AR363)","v":""},{"$f":"IF('2.Logbook'!AS363=\"\",\"\",'2.Logbook'!AS363)","v":""},{"$f":"IF('2.Logbook'!AT363=\"\",\"\",'2.Logbook'!AT363)","v":""},{"$f":"IF('2.Logbook'!AU363=\"\",\"\",'2.Logbook'!AU363)","v":""},{"$f":"IF('2.Logbook'!AV363=\"\",\"\",'2.Logbook'!AV363)","v":""},{"$f":"IF('2.Logbook'!AW363=\"\",\"\",'2.Logbook'!AW363)","v":""},{"$f":"IF('2.Logbook'!AX363=\"\",\"\",'2.Logbook'!AX363)","v":""},{"$f":"IF('2.Logbook'!AY363=\"\",\"\",'2.Logbook'!AY363)","v":""}]
[{"$f":"IF('2.Logbook'!$A364=\"\",\"\",'2.Logbook'!$A364)","v":""},{"$f":"IF('2.Logbook'!$B364=\"\",\"\",'2.Logbook'!$B364)","v":""},{"$f":"IF('2.Logbook'!AH364=\"\",\"\",'2.Logbook'!AH364)","v":""},{"$f":"IF('2.Logbook'!AI364=\"\",\"\",'2.Logbook'!AI364)","v":""},{"$f":"IF('2.Logbook'!AJ364=\"\",\"\",'2.Logbook'!AJ364)","v":""},{"$f":"IF('2.Logbook'!AK364=\"\",\"\",'2.Logbook'!AK364)","v":""},{"$f":"IF('2.Logbook'!AL364=\"\",\"\",'2.Logbook'!AL364)","v":""},{"$f":"IF('2.Logbook'!AM364=\"\",\"\",'2.Logbook'!AM364)","v":""},{"$f":"IF('2.Logbook'!AN364=\"\",\"\",'2.Logbook'!AN364)","v":""},{"$f":"IF('2.Logbook'!AO364=\"\",\"\",'2.Logbook'!AO364)","v":""},{"$f":"IF('2.Logbook'!AP364=\"\",\"\",'2.Logbook'!AP364)","v":""},{"$f":"IF('2.Logbook'!AQ364=\"\",\"\",'2.Logbook'!AQ364)","v":""},{"$f":"IF('2.Logbook'!AR364=\"\",\"\",'2.Logbook'!AR364)","v":""},{"$f":"IF('2.Logbook'!AS364=\"\",\"\",'2.Logbook'!AS364)","v":""},{"$f":"IF('2.Logbook'!AT364=\"\",\"\",'2.Logbook'!AT364)","v":""},{"$f":"IF('2.Logbook'!AU364=\"\",\"\",'2.Logbook'!AU364)","v":""},{"$f":"IF('2.Logbook'!AV364=\"\",\"\",'2.Logbook'!AV364)","v":""},{"$f":"IF('2.Logbook'!AW364=\"\",\"\",'2.Logbook'!AW364)","v":""},{"$f":"IF('2.Logbook'!AX364=\"\",\"\",'2.Logbook'!AX364)","v":""},{"$f":"IF('2.Logbook'!AY364=\"\",\"\",'2.Logbook'!AY364)","v":""}]
[{"$f":"IF('2.Logbook'!$A365=\"\",\"\",'2.Logbook'!$A365)","v":""},{"$f":"IF('2.Logbook'!$B365=\"\",\"\",'2.Logbook'!$B365)","v":""},{"$f":"IF('2.Logbook'!AH365=\"\",\"\",'2.Logbook'!AH365)","v":""},{"$f":"IF('2.Logbook'!AI365=\"\",\"\",'2.Logbook'!AI365)","v":""},{"$f":"IF('2.Logbook'!AJ365=\"\",\"\",'2.Logbook'!AJ365)","v":""},{"$f":"IF('2.Logbook'!AK365=\"\",\"\",'2.Logbook'!AK365)","v":""},{"$f":"IF('2.Logbook'!AL365=\"\",\"\",'2.Logbook'!AL365)","v":""},{"$f":"IF('2.Logbook'!AM365=\"\",\"\",'2.Logbook'!AM365)","v":""},{"$f":"IF('2.Logbook'!AN365=\"\",\"\",'2.Logbook'!AN365)","v":""},{"$f":"IF('2.Logbook'!AO365=\"\",\"\",'2.Logbook'!AO365)","v":""},{"$f":"IF('2.Logbook'!AP365=\"\",\"\",'2.Logbook'!AP365)","v":""},{"$f":"IF('2.Logbook'!AQ365=\"\",\"\",'2.Logbook'!AQ365)","v":""},{"$f":"IF('2.Logbook'!AR365=\"\",\"\",'2.Logbook'!AR365)","v":""},{"$f":"IF('2.Logbook'!AS365=\"\",\"\",'2.Logbook'!AS365)","v":""},{"$f":"IF('2.Logbook'!AT365=\"\",\"\",'2.Logbook'!AT365)","v":""},{"$f":"IF('2.Logbook'!AU365=\"\",\"\",'2.Logbook'!AU365)","v":""},{"$f":"IF('2.Logbook'!AV365=\"\",\"\",'2.Logbook'!AV365)","v":""},{"$f":"IF('2.Logbook'!AW365=\"\",\"\",'2.Logbook'!AW365)","v":""},{"$f":"IF('2.Logbook'!AX365=\"\",\"\",'2.Logbook'!AX365)","v":""},{"$f":"IF('2.Logbook'!AY365=\"\",\"\",'2.Logbook'!AY365)","v":""}]
[{"$f":"IF('2.Logbook'!$A366=\"\",\"\",'2.Logbook'!$A366)","v":""},{"$f":"IF('2.Logbook'!$B366=\"\",\"\",'2.Logbook'!$B366)","v":""},{"$f":"IF('2.Logbook'!AH366=\"\",\"\",'2.Logbook'!AH366)","v":""},{"$f":"IF('2.Logbook'!AI366=\"\",\"\",'2.Logbook'!AI366)","v":""},{"$f":"IF('2.Logbook'!AJ366=\"\",\"\",'2.Logbook'!AJ366)","v":""},{"$f":"IF('2.Logbook'!AK366=\"\",\"\",'2.Logbook'!AK366)","v":""},{"$f":"IF('2.Logbook'!AL366=\"\",\"\",'2.Logbook'!AL366)","v":""},{"$f":"IF('2.Logbook'!AM366=\"\",\"\",'2.Logbook'!AM366)","v":""},{"$f":"IF('2.Logbook'!AN366=\"\",\"\",'2.Logbook'!AN366)","v":""},{"$f":"IF('2.Logbook'!AO366=\"\",\"\",'2.Logbook'!AO366)","v":""},{"$f":"IF('2.Logbook'!AP366=\"\",\"\",'2.Logbook'!AP366)","v":""},{"$f":"IF('2.Logbook'!AQ366=\"\",\"\",'2.Logbook'!AQ366)","v":""},{"$f":"IF('2.Logbook'!AR366=\"\",\"\",'2.Logbook'!AR366)","v":""},{"$f":"IF('2.Logbook'!AS366=\"\",\"\",'2.Logbook'!AS366)","v":""},{"$f":"IF('2.Logbook'!AT366=\"\",\"\",'2.Logbook'!AT366)","v":""},{"$f":"IF('2.Logbook'!AU366=\"\",\"\",'2.Logbook'!AU366)","v":""},{"$f":"IF('2.Logbook'!AV366=\"\",\"\",'2.Logbook'!AV366)","v":""},{"$f":"IF('2.Logbook'!AW366=\"\",\"\",'2.Logbook'!AW366)","v":""},{"$f":"IF('2.Logbook'!AX366=\"\",\"\",'2.Logbook'!AX366)","v":""},{"$f":"IF('2.Logbook'!AY366=\"\",\"\",'2.Logbook'!AY366)","v":""}]
[{"$f":"IF('2.Logbook'!$A367=\"\",\"\",'2.Logbook'!$A367)","v":""},{"$f":"IF('2.Logbook'!$B367=\"\",\"\",'2.Logbook'!$B367)","v":""},{"$f":"IF('2.Logbook'!AH367=\"\",\"\",'2.Logbook'!AH367)","v":""},{"$f":"IF('2.Logbook'!AI367=\"\",\"\",'2.Logbook'!AI367)","v":""},{"$f":"IF('2.Logbook'!AJ367=\"\",\"\",'2.Logbook'!AJ367)","v":""},{"$f":"IF('2.Logbook'!AK367=\"\",\"\",'2.Logbook'!AK367)","v":""},{"$f":"IF('2.Logbook'!AL367=\"\",\"\",'2.Logbook'!AL367)","v":""},{"$f":"IF('2.Logbook'!AM367=\"\",\"\",'2.Logbook'!AM367)","v":""},{"$f":"IF('2.Logbook'!AN367=\"\",\"\",'2.Logbook'!AN367)","v":""},{"$f":"IF('2.Logbook'!AO367=\"\",\"\",'2.Logbook'!AO367)","v":""},{"$f":"IF('2.Logbook'!AP367=\"\",\"\",'2.Logbook'!AP367)","v":""},{"$f":"IF('2.Logbook'!AQ367=\"\",\"\",'2.Logbook'!AQ367)","v":""},{"$f":"IF('2.Logbook'!AR367=\"\",\"\",'2.Logbook'!AR367)","v":""},{"$f":"IF('2.Logbook'!AS367=\"\",\"\",'2.Logbook'!AS367)","v":""},{"$f":"IF('2.Logbook'!AT367=\"\",\"\",'2.Logbook'!AT367)","v":""},{"$f":"IF('2.Logbook'!AU367=\"\",\"\",'2.Logbook'!AU367)","v":""},{"$f":"IF('2.Logbook'!AV367=\"\",\"\",'2.Logbook'!AV367)","v":""},{"$f":"IF('2.Logbook'!AW367=\"\",\"\",'2.Logbook'!AW367)","v":""},{"$f":"IF('2.Logbook'!AX367=\"\",\"\",'2.Logbook'!AX367)","v":""},{"$f":"IF('2.Logbook'!AY367=\"\",\"\",'2.Logbook'!AY367)","v":""}]
[{"$f":"IF('2.Logbook'!$A368=\"\",\"\",'2.Logbook'!$A368)","v":""},{"$f":"IF('2.Logbook'!$B368=\"\",\"\",'2.Logbook'!$B368)","v":""},{"$f":"IF('2.Logbook'!AH368=\"\",\"\",'2.Logbook'!AH368)","v":""},{"$f":"IF('2.Logbook'!AI368=\"\",\"\",'2.Logbook'!AI368)","v":""},{"$f":"IF('2.Logbook'!AJ368=\"\",\"\",'2.Logbook'!AJ368)","v":""},{"$f":"IF('2.Logbook'!AK368=\"\",\"\",'2.Logbook'!AK368)","v":""},{"$f":"IF('2.Logbook'!AL368=\"\",\"\",'2.Logbook'!AL368)","v":""},{"$f":"IF('2.Logbook'!AM368=\"\",\"\",'2.Logbook'!AM368)","v":""},{"$f":"IF('2.Logbook'!AN368=\"\",\"\",'2.Logbook'!AN368)","v":""},{"$f":"IF('2.Logbook'!AO368=\"\",\"\",'2.Logbook'!AO368)","v":""},{"$f":"IF('2.Logbook'!AP368=\"\",\"\",'2.Logbook'!AP368)","v":""},{"$f":"IF('2.Logbook'!AQ368=\"\",\"\",'2.Logbook'!AQ368)","v":""},{"$f":"IF('2.Logbook'!AR368=\"\",\"\",'2.Logbook'!AR368)","v":""},{"$f":"IF('2.Logbook'!AS368=\"\",\"\",'2.Logbook'!AS368)","v":""},{"$f":"IF('2.Logbook'!AT368=\"\",\"\",'2.Logbook'!AT368)","v":""},{"$f":"IF('2.Logbook'!AU368=\"\",\"\",'2.Logbook'!AU368)","v":""},{"$f":"IF('2.Logbook'!AV368=\"\",\"\",'2.Logbook'!AV368)","v":""},{"$f":"IF('2.Logbook'!AW368=\"\",\"\",'2.Logbook'!AW368)","v":""},{"$f":"IF('2.Logbook'!AX368=\"\",\"\",'2.Logbook'!AX368)","v":""},{"$f":"IF('2.Logbook'!AY368=\"\",\"\",'2.Logbook'!AY368)","v":""}]
[{"$f":"IF('2.Logbook'!$A369=\"\",\"\",'2.Logbook'!$A369)","v":""},{"$f":"IF('2.Logbook'!$B369=\"\",\"\",'2.Logbook'!$B369)","v":""},{"$f":"IF('2.Logbook'!AH369=\"\",\"\",'2.Logbook'!AH369)","v":""},{"$f":"IF('2.Logbook'!AI369=\"\",\"\",'2.Logbook'!AI369)","v":""},{"$f":"IF('2.Logbook'!AJ369=\"\",\"\",'2.Logbook'!AJ369)","v":""},{"$f":"IF('2.Logbook'!AK369=\"\",\"\",'2.Logbook'!AK369)","v":""},{"$f":"IF('2.Logbook'!AL369=\"\",\"\",'2.Logbook'!AL369)","v":""},{"$f":"IF('2.Logbook'!AM369=\"\",\"\",'2.Logbook'!AM369)","v":""},{"$f":"IF('2.Logbook'!AN369=\"\",\"\",'2.Logbook'!AN369)","v":""},{"$f":"IF('2.Logbook'!AO369=\"\",\"\",'2.Logbook'!AO369)","v":""},{"$f":"IF('2.Logbook'!AP369=\"\",\"\",'2.Logbook'!AP369)","v":""},{"$f":"IF('2.Logbook'!AQ369=\"\",\"\",'2.Logbook'!AQ369)","v":""},{"$f":"IF('2.Logbook'!AR369=\"\",\"\",'2.Logbook'!AR369)","v":""},{"$f":"IF('2.Logbook'!AS369=\"\",\"\",'2.Logbook'!AS369)","v":""},{"$f":"IF('2.Logbook'!AT369=\"\",\"\",'2.Logbook'!AT369)","v":""},{"$f":"IF('2.Logbook'!AU369=\"\",\"\",'2.Logbook'!AU369)","v":""},{"$f":"IF('2.Logbook'!AV369=\"\",\"\",'2.Logbook'!AV369)","v":""},{"$f":"IF('2.Logbook'!AW369=\"\",\"\",'2.Logbook'!AW369)","v":""},{"$f":"IF('2.Logbook'!AX369=\"\",\"\",'2.Logbook'!AX369)","v":""},{"$f":"IF('2.Logbook'!AY369=\"\",\"\",'2.Logbook'!AY369)","v":""}]
[{"$f":"IF('2.Logbook'!$A370=\"\",\"\",'2.Logbook'!$A370)","v":""},{"$f":"IF('2.Logbook'!$B370=\"\",\"\",'2.Logbook'!$B370)","v":""},{"$f":"IF('2.Logbook'!AH370=\"\",\"\",'2.Logbook'!AH370)","v":""},{"$f":"IF('2.Logbook'!AI370=\"\",\"\",'2.Logbook'!AI370)","v":""},{"$f":"IF('2.Logbook'!AJ370=\"\",\"\",'2.Logbook'!AJ370)","v":""},{"$f":"IF('2.Logbook'!AK370=\"\",\"\",'2.Logbook'!AK370)","v":""},{"$f":"IF('2.Logbook'!AL370=\"\",\"\",'2.Logbook'!AL370)","v":""},{"$f":"IF('2.Logbook'!AM370=\"\",\"\",'2.Logbook'!AM370)","v":""},{"$f":"IF('2.Logbook'!AN370=\"\",\"\",'2.Logbook'!AN370)","v":""},{"$f":"IF('2.Logbook'!AO370=\"\",\"\",'2.Logbook'!AO370)","v":""},{"$f":"IF('2.Logbook'!AP370=\"\",\"\",'2.Logbook'!AP370)","v":""},{"$f":"IF('2.Logbook'!AQ370=\"\",\"\",'2.Logbook'!AQ370)","v":""},{"$f":"IF('2.Logbook'!AR370=\"\",\"\",'2.Logbook'!AR370)","v":""},{"$f":"IF('2.Logbook'!AS370=\"\",\"\",'2.Logbook'!AS370)","v":""},{"$f":"IF('2.Logbook'!AT370=\"\",\"\",'2.Logbook'!AT370)","v":""},{"$f":"IF('2.Logbook'!AU370=\"\",\"\",'2.Logbook'!AU370)","v":""},{"$f":"IF('2.Logbook'!AV370=\"\",\"\",'2.Logbook'!AV370)","v":""},{"$f":"IF('2.Logbook'!AW370=\"\",\"\",'2.Logbook'!AW370)","v":""},{"$f":"IF('2.Logbook'!AX370=\"\",\"\",'2.Logbook'!AX370)","v":""},{"$f":"IF('2.Logbook'!AY370=\"\",\"\",'2.Logbook'!AY370)","v":""}]
[{"$f":"IF('2.Logbook'!$A371=\"\",\"\",'2.Logbook'!$A371)","v":""},{"$f":"IF('2.Logbook'!$B371=\"\",\"\",'2.Logbook'!$B371)","v":""},{"$f":"IF('2.Logbook'!AH371=\"\",\"\",'2.Logbook'!AH371)","v":""},{"$f":"IF('2.Logbook'!AI371=\"\",\"\",'2.Logbook'!AI371)","v":""},{"$f":"IF('2.Logbook'!AJ371=\"\",\"\",'2.Logbook'!AJ371)","v":""},{"$f":"IF('2.Logbook'!AK371=\"\",\"\",'2.Logbook'!AK371)","v":""},{"$f":"IF('2.Logbook'!AL371=\"\",\"\",'2.Logbook'!AL371)","v":""},{"$f":"IF('2.Logbook'!AM371=\"\",\"\",'2.Logbook'!AM371)","v":""},{"$f":"IF('2.Logbook'!AN371=\"\",\"\",'2.Logbook'!AN371)","v":""},{"$f":"IF('2.Logbook'!AO371=\"\",\"\",'2.Logbook'!AO371)","v":""},{"$f":"IF('2.Logbook'!AP371=\"\",\"\",'2.Logbook'!AP371)","v":""},{"$f":"IF('2.Logbook'!AQ371=\"\",\"\",'2.Logbook'!AQ371)","v":""},{"$f":"IF('2.Logbook'!AR371=\"\",\"\",'2.Logbook'!AR371)","v":""},{"$f":"IF('2.Logbook'!AS371=\"\",\"\",'2.Logbook'!AS371)","v":""},{"$f":"IF('2.Logbook'!AT371=\"\",\"\",'2.Logbook'!AT371)","v":""},{"$f":"IF('2.Logbook'!AU371=\"\",\"\",'2.Logbook'!AU371)","v":""},{"$f":"IF('2.Logbook'!AV371=\"\",\"\",'2.Logbook'!AV371)","v":""},{"$f":"IF('2.Logbook'!AW371=\"\",\"\",'2.Logbook'!AW371)","v":""},{"$f":"IF('2.Logbook'!AX371=\"\",\"\",'2.Logbook'!AX371)","v":""},{"$f":"IF('2.Logbook'!AY371=\"\",\"\",'2.Logbook'!AY371)","v":""}]
[{"$f":"IF('2.Logbook'!$A372=\"\",\"\",'2.Logbook'!$A372)","v":""},{"$f":"IF('2.Logbook'!$B372=\"\",\"\",'2.Logbook'!$B372)","v":""},{"$f":"IF('2.Logbook'!AH372=\"\",\"\",'2.Logbook'!AH372)","v":""},{"$f":"IF('2.Logbook'!AI372=\"\",\"\",'2.Logbook'!AI372)","v":""},{"$f":"IF('2.Logbook'!AJ372=\"\",\"\",'2.Logbook'!AJ372)","v":""},{"$f":"IF('2.Logbook'!AK372=\"\",\"\",'2.Logbook'!AK372)","v":""},{"$f":"IF('2.Logbook'!AL372=\"\",\"\",'2.Logbook'!AL372)","v":""},{"$f":"IF('2.Logbook'!AM372=\"\",\"\",'2.Logbook'!AM372)","v":""},{"$f":"IF('2.Logbook'!AN372=\"\",\"\",'2.Logbook'!AN372)","v":""},{"$f":"IF('2.Logbook'!AO372=\"\",\"\",'2.Logbook'!AO372)","v":""},{"$f":"IF('2.Logbook'!AP372=\"\",\"\",'2.Logbook'!AP372)","v":""},{"$f":"IF('2.Logbook'!AQ372=\"\",\"\",'2.Logbook'!AQ372)","v":""},{"$f":"IF('2.Logbook'!AR372=\"\",\"\",'2.Logbook'!AR372)","v":""},{"$f":"IF('2.Logbook'!AS372=\"\",\"\",'2.Logbook'!AS372)","v":""},{"$f":"IF('2.Logbook'!AT372=\"\",\"\",'2.Logbook'!AT372)","v":""},{"$f":"IF('2.Logbook'!AU372=\"\",\"\",'2.Logbook'!AU372)","v":""},{"$f":"IF('2.Logbook'!AV372=\"\",\"\",'2.Logbook'!AV372)","v":""},{"$f":"IF('2.Logbook'!AW372=\"\",\"\",'2.Logbook'!AW372)","v":""},{"$f":"IF('2.Logbook'!AX372=\"\",\"\",'2.Logbook'!AX372)","v":""},{"$f":"IF('2.Logbook'!AY372=\"\",\"\",'2.Logbook'!AY372)","v":""}]
[{"$f":"IF('2.Logbook'!$A373=\"\",\"\",'2.Logbook'!$A373)","v":""},{"$f":"IF('2.Logbook'!$B373=\"\",\"\",'2.Logbook'!$B373)","v":""},{"$f":"IF('2.Logbook'!AH373=\"\",\"\",'2.Logbook'!AH373)","v":""},{"$f":"IF('2.Logbook'!AI373=\"\",\"\",'2.Logbook'!AI373)","v":""},{"$f":"IF('2.Logbook'!AJ373=\"\",\"\",'2.Logbook'!AJ373)","v":""},{"$f":"IF('2.Logbook'!AK373=\"\",\"\",'2.Logbook'!AK373)","v":""},{"$f":"IF('2.Logbook'!AL373=\"\",\"\",'2.Logbook'!AL373)","v":""},{"$f":"IF('2.Logbook'!AM373=\"\",\"\",'2.Logbook'!AM373)","v":""},{"$f":"IF('2.Logbook'!AN373=\"\",\"\",'2.Logbook'!AN373)","v":""},{"$f":"IF('2.Logbook'!AO373=\"\",\"\",'2.Logbook'!AO373)","v":""},{"$f":"IF('2.Logbook'!AP373=\"\",\"\",'2.Logbook'!AP373)","v":""},{"$f":"IF('2.Logbook'!AQ373=\"\",\"\",'2.Logbook'!AQ373)","v":""},{"$f":"IF('2.Logbook'!AR373=\"\",\"\",'2.Logbook'!AR373)","v":""},{"$f":"IF('2.Logbook'!AS373=\"\",\"\",'2.Logbook'!AS373)","v":""},{"$f":"IF('2.Logbook'!AT373=\"\",\"\",'2.Logbook'!AT373)","v":""},{"$f":"IF('2.Logbook'!AU373=\"\",\"\",'2.Logbook'!AU373)","v":""},{"$f":"IF('2.Logbook'!AV373=\"\",\"\",'2.Logbook'!AV373)","v":""},{"$f":"IF('2.Logbook'!AW373=\"\",\"\",'2.Logbook'!AW373)","v":""},{"$f":"IF('2.Logbook'!AX373=\"\",\"\",'2.Logbook'!AX373)","v":""},{"$f":"IF('2.Logbook'!AY373=\"\",\"\",'2.Logbook'!AY373)","v":""}]
[{"$f":"IF('2.Logbook'!$A374=\"\",\"\",'2.Logbook'!$A374)","v":""},{"$f":"IF('2.Logbook'!$B374=\"\",\"\",'2.Logbook'!$B374)","v":""},{"$f":"IF('2.Logbook'!AH374=\"\",\"\",'2.Logbook'!AH374)","v":""},{"$f":"IF('2.Logbook'!AI374=\"\",\"\",'2.Logbook'!AI374)","v":""},{"$f":"IF('2.Logbook'!AJ374=\"\",\"\",'2.Logbook'!AJ374)","v":""},{"$f":"IF('2.Logbook'!AK374=\"\",\"\",'2.Logbook'!AK374)","v":""},{"$f":"IF('2.Logbook'!AL374=\"\",\"\",'2.Logbook'!AL374)","v":""},{"$f":"IF('2.Logbook'!AM374=\"\",\"\",'2.Logbook'!AM374)","v":""},{"$f":"IF('2.Logbook'!AN374=\"\",\"\",'2.Logbook'!AN374)","v":""},{"$f":"IF('2.Logbook'!AO374=\"\",\"\",'2.Logbook'!AO374)","v":""},{"$f":"IF('2.Logbook'!AP374=\"\",\"\",'2.Logbook'!AP374)","v":""},{"$f":"IF('2.Logbook'!AQ374=\"\",\"\",'2.Logbook'!AQ374)","v":""},{"$f":"IF('2.Logbook'!AR374=\"\",\"\",'2.Logbook'!AR374)","v":""},{"$f":"IF('2.Logbook'!AS374=\"\",\"\",'2.Logbook'!AS374)","v":""},{"$f":"IF('2.Logbook'!AT374=\"\",\"\",'2.Logbook'!AT374)","v":""},{"$f":"IF('2.Logbook'!AU374=\"\",\"\",'2.Logbook'!AU374)","v":""},{"$f":"IF('2.Logbook'!AV374=\"\",\"\",'2.Logbook'!AV374)","v":""},{"$f":"IF('2.Logbook'!AW374=\"\",\"\",'2.Logbook'!AW374)","v":""},{"$f":"IF('2.Logbook'!AX374=\"\",\"\",'2.Logbook'!AX374)","v":""},{"$f":"IF('2.Logbook'!AY374=\"\",\"\",'2.Logbook'!AY374)","v":""}]
[{"$f":"IF('2.Logbook'!$A375=\"\",\"\",'2.Logbook'!$A375)","v":""},{"$f":"IF('2.Logbook'!$B375=\"\",\"\",'2.Logbook'!$B375)","v":""},{"$f":"IF('2.Logbook'!AH375=\"\",\"\",'2.Logbook'!AH375)","v":""},{"$f":"IF('2.Logbook'!AI375=\"\",\"\",'2.Logbook'!AI375)","v":""},{"$f":"IF('2.Logbook'!AJ375=\"\",\"\",'2.Logbook'!AJ375)","v":""},{"$f":"IF('2.Logbook'!AK375=\"\",\"\",'2.Logbook'!AK375)","v":""},{"$f":"IF('2.Logbook'!AL375=\"\",\"\",'2.Logbook'!AL375)","v":""},{"$f":"IF('2.Logbook'!AM375=\"\",\"\",'2.Logbook'!AM375)","v":""},{"$f":"IF('2.Logbook'!AN375=\"\",\"\",'2.Logbook'!AN375)","v":""},{"$f":"IF('2.Logbook'!AO375=\"\",\"\",'2.Logbook'!AO375)","v":""},{"$f":"IF('2.Logbook'!AP375=\"\",\"\",'2.Logbook'!AP375)","v":""},{"$f":"IF('2.Logbook'!AQ375=\"\",\"\",'2.Logbook'!AQ375)","v":""},{"$f":"IF('2.Logbook'!AR375=\"\",\"\",'2.Logbook'!AR375)","v":""},{"$f":"IF('2.Logbook'!AS375=\"\",\"\",'2.Logbook'!AS375)","v":""},{"$f":"IF('2.Logbook'!AT375=\"\",\"\",'2.Logbook'!AT375)","v":""},{"$f":"IF('2.Logbook'!AU375=\"\",\"\",'2.Logbook'!AU375)","v":""},{"$f":"IF('2.Logbook'!AV375=\"\",\"\",'2.Logbook'!AV375)","v":""},{"$f":"IF('2.Logbook'!AW375=\"\",\"\",'2.Logbook'!AW375)","v":""},{"$f":"IF('2.Logbook'!AX375=\"\",\"\",'2.Logbook'!AX375)","v":""},{"$f":"IF('2.Logbook'!AY375=\"\",\"\",'2.Logbook'!AY375)","v":""}]
[{"$f":"IF('2.Logbook'!$A376=\"\",\"\",'2.Logbook'!$A376)","v":""},{"$f":"IF('2.Logbook'!$B376=\"\",\"\",'2.Logbook'!$B376)","v":""},{"$f":"IF('2.Logbook'!AH376=\"\",\"\",'2.Logbook'!AH376)","v":""},{"$f":"IF('2.Logbook'!AI376=\"\",\"\",'2.Logbook'!AI376)","v":""},{"$f":"IF('2.Logbook'!AJ376=\"\",\"\",'2.Logbook'!AJ376)","v":""},{"$f":"IF('2.Logbook'!AK376=\"\",\"\",'2.Logbook'!AK376)","v":""},{"$f":"IF('2.Logbook'!AL376=\"\",\"\",'2.Logbook'!AL376)","v":""},{"$f":"IF('2.Logbook'!AM376=\"\",\"\",'2.Logbook'!AM376)","v":""},{"$f":"IF('2.Logbook'!AN376=\"\",\"\",'2.Logbook'!AN376)","v":""},{"$f":"IF('2.Logbook'!AO376=\"\",\"\",'2.Logbook'!AO376)","v":""},{"$f":"IF('2.Logbook'!AP376=\"\",\"\",'2.Logbook'!AP376)","v":""},{"$f":"IF('2.Logbook'!AQ376=\"\",\"\",'2.Logbook'!AQ376)","v":""},{"$f":"IF('2.Logbook'!AR376=\"\",\"\",'2.Logbook'!AR376)","v":""},{"$f":"IF('2.Logbook'!AS376=\"\",\"\",'2.Logbook'!AS376)","v":""},{"$f":"IF('2.Logbook'!AT376=\"\",\"\",'2.Logbook'!AT376)","v":""},{"$f":"IF('2.Logbook'!AU376=\"\",\"\",'2.Logbook'!AU376)","v":""},{"$f":"IF('2.Logbook'!AV376=\"\",\"\",'2.Logbook'!AV376)","v":""},{"$f":"IF('2.Logbook'!AW376=\"\",\"\",'2.Logbook'!AW376)","v":""},{"$f":"IF('2.Logbook'!AX376=\"\",\"\",'2.Logbook'!AX376)","v":""},{"$f":"IF('2.Logbook'!AY376=\"\",\"\",'2.Logbook'!AY376)","v":""}]
[{"$f":"IF('2.Logbook'!$A377=\"\",\"\",'2.Logbook'!$A377)","v":""},{"$f":"IF('2.Logbook'!$B377=\"\",\"\",'2.Logbook'!$B377)","v":""},{"$f":"IF('2.Logbook'!AH377=\"\",\"\",'2.Logbook'!AH377)","v":""},{"$f":"IF('2.Logbook'!AI377=\"\",\"\",'2.Logbook'!AI377)","v":""},{"$f":"IF('2.Logbook'!AJ377=\"\",\"\",'2.Logbook'!AJ377)","v":""},{"$f":"IF('2.Logbook'!AK377=\"\",\"\",'2.Logbook'!AK377)","v":""},{"$f":"IF('2.Logbook'!AL377=\"\",\"\",'2.Logbook'!AL377)","v":""},{"$f":"IF('2.Logbook'!AM377=\"\",\"\",'2.Logbook'!AM377)","v":""},{"$f":"IF('2.Logbook'!AN377=\"\",\"\",'2.Logbook'!AN377)","v":""},{"$f":"IF('2.Logbook'!AO377=\"\",\"\",'2.Logbook'!AO377)","v":""},{"$f":"IF('2.Logbook'!AP377=\"\",\"\",'2.Logbook'!AP377)","v":""},{"$f":"IF('2.Logbook'!AQ377=\"\",\"\",'2.Logbook'!AQ377)","v":""},{"$f":"IF('2.Logbook'!AR377=\"\",\"\",'2.Logbook'!AR377)","v":""},{"$f":"IF('2.Logbook'!AS377=\"\",\"\",'2.Logbook'!AS377)","v":""},{"$f":"IF('2.Logbook'!AT377=\"\",\"\",'2.Logbook'!AT377)","v":""},{"$f":"IF('2.Logbook'!AU377=\"\",\"\",'2.Logbook'!AU377)","v":""},{"$f":"IF('2.Logbook'!AV377=\"\",\"\",'2.Logbook'!AV377)","v":""},{"$f":"IF('2.Logbook'!AW377=\"\",\"\",'2.Logbook'!AW377)","v":""},{"$f":"IF('2.Logbook'!AX377=\"\",\"\",'2.Logbook'!AX377)","v":""},{"$f":"IF('2.Logbook'!AY377=\"\",\"\",'2.Logbook'!AY377)","v":""}]
[{"$f":"IF('2.Logbook'!$A378=\"\",\"\",'2.Logbook'!$A378)","v":""},{"$f":"IF('2.Logbook'!$B378=\"\",\"\",'2.Logbook'!$B378)","v":""},{"$f":"IF('2.Logbook'!AH378=\"\",\"\",'2.Logbook'!AH378)","v":""},{"$f":"IF('2.Logbook'!AI378=\"\",\"\",'2.Logbook'!AI378)","v":""},{"$f":"IF('2.Logbook'!AJ378=\"\",\"\",'2.Logbook'!AJ378)","v":""},{"$f":"IF('2.Logbook'!AK378=\"\",\"\",'2.Logbook'!AK378)","v":""},{"$f":"IF('2.Logbook'!AL378=\"\",\"\",'2.Logbook'!AL378)","v":""},{"$f":"IF('2.Logbook'!AM378=\"\",\"\",'2.Logbook'!AM378)","v":""},{"$f":"IF('2.Logbook'!AN378=\"\",\"\",'2.Logbook'!AN378)","v":""},{"$f":"IF('2.Logbook'!AO378=\"\",\"\",'2.Logbook'!AO378)","v":""},{"$f":"IF('2.Logbook'!AP378=\"\",\"\",'2.Logbook'!AP378)","v":""},{"$f":"IF('2.Logbook'!AQ378=\"\",\"\",'2.Logbook'!AQ378)","v":""},{"$f":"IF('2.Logbook'!AR378=\"\",\"\",'2.Logbook'!AR378)","v":""},{"$f":"IF('2.Logbook'!AS378=\"\",\"\",'2.Logbook'!AS378)","v":""},{"$f":"IF('2.Logbook'!AT378=\"\",\"\",'2.Logbook'!AT378)","v":""},{"$f":"IF('2.Logbook'!AU378=\"\",\"\",'2.Logbook'!AU378)","v":""},{"$f":"IF('2.Logbook'!AV378=\"\",\"\",'2.Logbook'!AV378)","v":""},{"$f":"IF('2.Logbook'!AW378=\"\",\"\",'2.Logbook'!AW378)","v":""},{"$f":"IF('2.Logbook'!AX378=\"\",\"\",'2.Logbook'!AX378)","v":""},{"$f":"IF('2.Logbook'!AY378=\"\",\"\",'2.Logbook'!AY378)","v":""}]
[{"$f":"IF('2.Logbook'!$A379=\"\",\"\",'2.Logbook'!$A379)","v":""},{"$f":"IF('2.Logbook'!$B379=\"\",\"\",'2.Logbook'!$B379)","v":""},{"$f":"IF('2.Logbook'!AH379=\"\",\"\",'2.Logbook'!AH379)","v":""},{"$f":"IF('2.Logbook'!AI379=\"\",\"\",'2.Logbook'!AI379)","v":""},{"$f":"IF('2.Logbook'!AJ379=\"\",\"\",'2.Logbook'!AJ379)","v":""},{"$f":"IF('2.Logbook'!AK379=\"\",\"\",'2.Logbook'!AK379)","v":""},{"$f":"IF('2.Logbook'!AL379=\"\",\"\",'2.Logbook'!AL379)","v":""},{"$f":"IF('2.Logbook'!AM379=\"\",\"\",'2.Logbook'!AM379)","v":""},{"$f":"IF('2.Logbook'!AN379=\"\",\"\",'2.Logbook'!AN379)","v":""},{"$f":"IF('2.Logbook'!AO379=\"\",\"\",'2.Logbook'!AO379)","v":""},{"$f":"IF('2.Logbook'!AP379=\"\",\"\",'2.Logbook'!AP379)","v":""},{"$f":"IF('2.Logbook'!AQ379=\"\",\"\",'2.Logbook'!AQ379)","v":""},{"$f":"IF('2.Logbook'!AR379=\"\",\"\",'2.Logbook'!AR379)","v":""},{"$f":"IF('2.Logbook'!AS379=\"\",\"\",'2.Logbook'!AS379)","v":""},{"$f":"IF('2.Logbook'!AT379=\"\",\"\",'2.Logbook'!AT379)","v":""},{"$f":"IF('2.Logbook'!AU379=\"\",\"\",'2.Logbook'!AU379)","v":""},{"$f":"IF('2.Logbook'!AV379=\"\",\"\",'2.Logbook'!AV379)","v":""},{"$f":"IF('2.Logbook'!AW379=\"\",\"\",'2.Logbook'!AW379)","v":""},{"$f":"IF('2.Logbook'!AX379=\"\",\"\",'2.Logbook'!AX379)","v":""},{"$f":"IF('2.Logbook'!AY379=\"\",\"\",'2.Logbook'!AY379)","v":""}]
[{"$f":"IF('2.Logbook'!$A380=\"\",\"\",'2.Logbook'!$A380)","v":""},{"$f":"IF('2.Logbook'!$B380=\"\",\"\",'2.Logbook'!$B380)","v":""},{"$f":"IF('2.Logbook'!AH380=\"\",\"\",'2.Logbook'!AH380)","v":""},{"$f":"IF('2.Logbook'!AI380=\"\",\"\",'2.Logbook'!AI380)","v":""},{"$f":"IF('2.Logbook'!AJ380=\"\",\"\",'2.Logbook'!AJ380)","v":""},{"$f":"IF('2.Logbook'!AK380=\"\",\"\",'2.Logbook'!AK380)","v":""},{"$f":"IF('2.Logbook'!AL380=\"\",\"\",'2.Logbook'!AL380)","v":""},{"$f":"IF('2.Logbook'!AM380=\"\",\"\",'2.Logbook'!AM380)","v":""},{"$f":"IF('2.Logbook'!AN380=\"\",\"\",'2.Logbook'!AN380)","v":""},{"$f":"IF('2.Logbook'!AO380=\"\",\"\",'2.Logbook'!AO380)","v":""},{"$f":"IF('2.Logbook'!AP380=\"\",\"\",'2.Logbook'!AP380)","v":""},{"$f":"IF('2.Logbook'!AQ380=\"\",\"\",'2.Logbook'!AQ380)","v":""},{"$f":"IF('2.Logbook'!AR380=\"\",\"\",'2.Logbook'!AR380)","v":""},{"$f":"IF('2.Logbook'!AS380=\"\",\"\",'2.Logbook'!AS380)","v":""},{"$f":"IF('2.Logbook'!AT380=\"\",\"\",'2.Logbook'!AT380)","v":""},{"$f":"IF('2.Logbook'!AU380=\"\",\"\",'2.Logbook'!AU380)","v":""},{"$f":"IF('2.Logbook'!AV380=\"\",\"\",'2.Logbook'!AV380)","v":""},{"$f":"IF('2.Logbook'!AW380=\"\",\"\",'2.Logbook'!AW380)","v":""},{"$f":"IF('2.Logbook'!AX380=\"\",\"\",'2.Logbook'!AX380)","v":""},{"$f":"IF('2.Logbook'!AY380=\"\",\"\",'2.Logbook'!AY380)","v":""}]
[{"$f":"IF('2.Logbook'!$A381=\"\",\"\",'2.Logbook'!$A381)","v":""},{"$f":"IF('2.Logbook'!$B381=\"\",\"\",'2.Logbook'!$B381)","v":""},{"$f":"IF('2.Logbook'!AH381=\"\",\"\",'2.Logbook'!AH381)","v":""},{"$f":"IF('2.Logbook'!AI381=\"\",\"\",'2.Logbook'!AI381)","v":""},{"$f":"IF('2.Logbook'!AJ381=\"\",\"\",'2.Logbook'!AJ381)","v":""},{"$f":"IF('2.Logbook'!AK381=\"\",\"\",'2.Logbook'!AK381)","v":""},{"$f":"IF('2.Logbook'!AL381=\"\",\"\",'2.Logbook'!AL381)","v":""},{"$f":"IF('2.Logbook'!AM381=\"\",\"\",'2.Logbook'!AM381)","v":""},{"$f":"IF('2.Logbook'!AN381=\"\",\"\",'2.Logbook'!AN381)","v":""},{"$f":"IF('2.Logbook'!AO381=\"\",\"\",'2.Logbook'!AO381)","v":""},{"$f":"IF('2.Logbook'!AP381=\"\",\"\",'2.Logbook'!AP381)","v":""},{"$f":"IF('2.Logbook'!AQ381=\"\",\"\",'2.Logbook'!AQ381)","v":""},{"$f":"IF('2.Logbook'!AR381=\"\",\"\",'2.Logbook'!AR381)","v":""},{"$f":"IF('2.Logbook'!AS381=\"\",\"\",'2.Logbook'!AS381)","v":""},{"$f":"IF('2.Logbook'!AT381=\"\",\"\",'2.Logbook'!AT381)","v":""},{"$f":"IF('2.Logbook'!AU381=\"\",\"\",'2.Logbook'!AU381)","v":""},{"$f":"IF('2.Logbook'!AV381=\"\",\"\",'2.Logbook'!AV381)","v":""},{"$f":"IF('2.Logbook'!AW381=\"\",\"\",'2.Logbook'!AW381)","v":""},{"$f":"IF('2.Logbook'!AX381=\"\",\"\",'2.Logbook'!AX381)","v":""},{"$f":"IF('2.Logbook'!AY381=\"\",\"\",'2.Logbook'!AY381)","v":""}]
[{"$f":"IF('2.Logbook'!$A382=\"\",\"\",'2.Logbook'!$A382)","v":""},{"$f":"IF('2.Logbook'!$B382=\"\",\"\",'2.Logbook'!$B382)","v":""},{"$f":"IF('2.Logbook'!AH382=\"\",\"\",'2.Logbook'!AH382)","v":""},{"$f":"IF('2.Logbook'!AI382=\"\",\"\",'2.Logbook'!AI382)","v":""},{"$f":"IF('2.Logbook'!AJ382=\"\",\"\",'2.Logbook'!AJ382)","v":""},{"$f":"IF('2.Logbook'!AK382=\"\",\"\",'2.Logbook'!AK382)","v":""},{"$f":"IF('2.Logbook'!AL382=\"\",\"\",'2.Logbook'!AL382)","v":""},{"$f":"IF('2.Logbook'!AM382=\"\",\"\",'2.Logbook'!AM382)","v":""},{"$f":"IF('2.Logbook'!AN382=\"\",\"\",'2.Logbook'!AN382)","v":""},{"$f":"IF('2.Logbook'!AO382=\"\",\"\",'2.Logbook'!AO382)","v":""},{"$f":"IF('2.Logbook'!AP382=\"\",\"\",'2.Logbook'!AP382)","v":""},{"$f":"IF('2.Logbook'!AQ382=\"\",\"\",'2.Logbook'!AQ382)","v":""},{"$f":"IF('2.Logbook'!AR382=\"\",\"\",'2.Logbook'!AR382)","v":""},{"$f":"IF('2.Logbook'!AS382=\"\",\"\",'2.Logbook'!AS382)","v":""},{"$f":"IF('2.Logbook'!AT382=\"\",\"\",'2.Logbook'!AT382)","v":""},{"$f":"IF('2.Logbook'!AU382=\"\",\"\",'2.Logbook'!AU382)","v":""},{"$f":"IF('2.Logbook'!AV382=\"\",\"\",'2.Logbook'!AV382)","v":""},{"$f":"IF('2.Logbook'!AW382=\"\",\"\",'2.Logbook'!AW382)","v":""},{"$f":"IF('2.Logbook'!AX382=\"\",\"\",'2.Logbook'!AX382)","v":""},{"$f":"IF('2.Logbook'!AY382=\"\",\"\",'2.Logbook'!AY382)","v":""}]
[{"$f":"IF('2.Logbook'!$A383=\"\",\"\",'2.Logbook'!$A383)","v":""},{"$f":"IF('2.Logbook'!$B383=\"\",\"\",'2.Logbook'!$B383)","v":""},{"$f":"IF('2.Logbook'!AH383=\"\",\"\",'2.Logbook'!AH383)","v":""},{"$f":"IF('2.Logbook'!AI383=\"\",\"\",'2.Logbook'!AI383)","v":""},{"$f":"IF('2.Logbook'!AJ383=\"\",\"\",'2.Logbook'!AJ383)","v":""},{"$f":"IF('2.Logbook'!AK383=\"\",\"\",'2.Logbook'!AK383)","v":""},{"$f":"IF('2.Logbook'!AL383=\"\",\"\",'2.Logbook'!AL383)","v":""},{"$f":"IF('2.Logbook'!AM383=\"\",\"\",'2.Logbook'!AM383)","v":""},{"$f":"IF('2.Logbook'!AN383=\"\",\"\",'2.Logbook'!AN383)","v":""},{"$f":"IF('2.Logbook'!AO383=\"\",\"\",'2.Logbook'!AO383)","v":""},{"$f":"IF('2.Logbook'!AP383=\"\",\"\",'2.Logbook'!AP383)","v":""},{"$f":"IF('2.Logbook'!AQ383=\"\",\"\",'2.Logbook'!AQ383)","v":""},{"$f":"IF('2.Logbook'!AR383=\"\",\"\",'2.Logbook'!AR383)","v":""},{"$f":"IF('2.Logbook'!AS383=\"\",\"\",'2.Logbook'!AS383)","v":""},{"$f":"IF('2.Logbook'!AT383=\"\",\"\",'2.Logbook'!AT383)","v":""},{"$f":"IF('2.Logbook'!AU383=\"\",\"\",'2.Logbook'!AU383)","v":""},{"$f":"IF('2.Logbook'!AV383=\"\",\"\",'2.Logbook'!AV383)","v":""},{"$f":"IF('2.Logbook'!AW383=\"\",\"\",'2.Logbook'!AW383)","v":""},{"$f":"IF('2.Logbook'!AX383=\"\",\"\",'2.Logbook'!AX383)","v":""},{"$f":"IF('2.Logbook'!AY383=\"\",\"\",'2.Logbook'!AY383)","v":""}]
[{"$f":"IF('2.Logbook'!$A384=\"\",\"\",'2.Logbook'!$A384)","v":""},{"$f":"IF('2.Logbook'!$B384=\"\",\"\",'2.Logbook'!$B384)","v":""},{"$f":"IF('2.Logbook'!AH384=\"\",\"\",'2.Logbook'!AH384)","v":""},{"$f":"IF('2.Logbook'!AI384=\"\",\"\",'2.Logbook'!AI384)","v":""},{"$f":"IF('2.Logbook'!AJ384=\"\",\"\",'2.Logbook'!AJ384)","v":""},{"$f":"IF('2.Logbook'!AK384=\"\",\"\",'2.Logbook'!AK384)","v":""},{"$f":"IF('2.Logbook'!AL384=\"\",\"\",'2.Logbook'!AL384)","v":""},{"$f":"IF('2.Logbook'!AM384=\"\",\"\",'2.Logbook'!AM384)","v":""},{"$f":"IF('2.Logbook'!AN384=\"\",\"\",'2.Logbook'!AN384)","v":""},{"$f":"IF('2.Logbook'!AO384=\"\",\"\",'2.Logbook'!AO384)","v":""},{"$f":"IF('2.Logbook'!AP384=\"\",\"\",'2.Logbook'!AP384)","v":""},{"$f":"IF('2.Logbook'!AQ384=\"\",\"\",'2.Logbook'!AQ384)","v":""},{"$f":"IF('2.Logbook'!AR384=\"\",\"\",'2.Logbook'!AR384)","v":""},{"$f":"IF('2.Logbook'!AS384=\"\",\"\",'2.Logbook'!AS384)","v":""},{"$f":"IF('2.Logbook'!AT384=\"\",\"\",'2.Logbook'!AT384)","v":""},{"$f":"IF('2.Logbook'!AU384=\"\",\"\",'2.Logbook'!AU384)","v":""},{"$f":"IF('2.Logbook'!AV384=\"\",\"\",'2.Logbook'!AV384)","v":""},{"$f":"IF('2.Logbook'!AW384=\"\",\"\",'2.Logbook'!AW384)","v":""},{"$f":"IF('2.Logbook'!AX384=\"\",\"\",'2.Logbook'!AX384)","v":""},{"$f":"IF('2.Logbook'!AY384=\"\",\"\",'2.Logbook'!AY384)","v":""}]
[{"$f":"IF('2.Logbook'!$A385=\"\",\"\",'2.Logbook'!$A385)","v":""},{"$f":"IF('2.Logbook'!$B385=\"\",\"\",'2.Logbook'!$B385)","v":""},{"$f":"IF('2.Logbook'!AH385=\"\",\"\",'2.Logbook'!AH385)","v":""},{"$f":"IF('2.Logbook'!AI385=\"\",\"\",'2.Logbook'!AI385)","v":""},{"$f":"IF('2.Logbook'!AJ385=\"\",\"\",'2.Logbook'!AJ385)","v":""},{"$f":"IF('2.Logbook'!AK385=\"\",\"\",'2.Logbook'!AK385)","v":""},{"$f":"IF('2.Logbook'!AL385=\"\",\"\",'2.Logbook'!AL385)","v":""},{"$f":"IF('2.Logbook'!AM385=\"\",\"\",'2.Logbook'!AM385)","v":""},{"$f":"IF('2.Logbook'!AN385=\"\",\"\",'2.Logbook'!AN385)","v":""},{"$f":"IF('2.Logbook'!AO385=\"\",\"\",'2.Logbook'!AO385)","v":""},{"$f":"IF('2.Logbook'!AP385=\"\",\"\",'2.Logbook'!AP385)","v":""},{"$f":"IF('2.Logbook'!AQ385=\"\",\"\",'2.Logbook'!AQ385)","v":""},{"$f":"IF('2.Logbook'!AR385=\"\",\"\",'2.Logbook'!AR385)","v":""},{"$f":"IF('2.Logbook'!AS385=\"\",\"\",'2.Logbook'!AS385)","v":""},{"$f":"IF('2.Logbook'!AT385=\"\",\"\",'2.Logbook'!AT385)","v":""},{"$f":"IF('2.Logbook'!AU385=\"\",\"\",'2.Logbook'!AU385)","v":""},{"$f":"IF('2.Logbook'!AV385=\"\",\"\",'2.Logbook'!AV385)","v":""},{"$f":"IF('2.Logbook'!AW385=\"\",\"\",'2.Logbook'!AW385)","v":""},{"$f":"IF('2.Logbook'!AX385=\"\",\"\",'2.Logbook'!AX385)","v":""},{"$f":"IF('2.Logbook'!AY385=\"\",\"\",'2.Logbook'!AY385)","v":""}]
[{"$f":"IF('2.Logbook'!$A386=\"\",\"\",'2.Logbook'!$A386)","v":""},{"$f":"IF('2.Logbook'!$B386=\"\",\"\",'2.Logbook'!$B386)","v":""},{"$f":"IF('2.Logbook'!AH386=\"\",\"\",'2.Logbook'!AH386)","v":""},{"$f":"IF('2.Logbook'!AI386=\"\",\"\",'2.Logbook'!AI386)","v":""},{"$f":"IF('2.Logbook'!AJ386=\"\",\"\",'2.Logbook'!AJ386)","v":""},{"$f":"IF('2.Logbook'!AK386=\"\",\"\",'2.Logbook'!AK386)","v":""},{"$f":"IF('2.Logbook'!AL386=\"\",\"\",'2.Logbook'!AL386)","v":""},{"$f":"IF('2.Logbook'!AM386=\"\",\"\",'2.Logbook'!AM386)","v":""},{"$f":"IF('2.Logbook'!AN386=\"\",\"\",'2.Logbook'!AN386)","v":""},{"$f":"IF('2.Logbook'!AO386=\"\",\"\",'2.Logbook'!AO386)","v":""},{"$f":"IF('2.Logbook'!AP386=\"\",\"\",'2.Logbook'!AP386)","v":""},{"$f":"IF('2.Logbook'!AQ386=\"\",\"\",'2.Logbook'!AQ386)","v":""},{"$f":"IF('2.Logbook'!AR386=\"\",\"\",'2.Logbook'!AR386)","v":""},{"$f":"IF('2.Logbook'!AS386=\"\",\"\",'2.Logbook'!AS386)","v":""},{"$f":"IF('2.Logbook'!AT386=\"\",\"\",'2.Logbook'!AT386)","v":""},{"$f":"IF('2.Logbook'!AU386=\"\",\"\",'2.Logbook'!AU386)","v":""},{"$f":"IF('2.Logbook'!AV386=\"\",\"\",'2.Logbook'!AV386)","v":""},{"$f":"IF('2.Logbook'!AW386=\"\",\"\",'2.Logbook'!AW386)","v":""},{"$f":"IF('2.Logbook'!AX386=\"\",\"\",'2.Logbook'!AX386)","v":""},{"$f":"IF('2.Logbook'!AY386=\"\",\"\",'2.Logbook'!AY386)","v":""}]
[{"$f":"IF('2.Logbook'!$A387=\"\",\"\",'2.Logbook'!$A387)","v":""},{"$f":"IF('2.Logbook'!$B387=\"\",\"\",'2.Logbook'!$B387)","v":""},{"$f":"IF('2.Logbook'!AH387=\"\",\"\",'2.Logbook'!AH387)","v":""},{"$f":"IF('2.Logbook'!AI387=\"\",\"\",'2.Logbook'!AI387)","v":""},{"$f":"IF('2.Logbook'!AJ387=\"\",\"\",'2.Logbook'!AJ387)","v":""},{"$f":"IF('2.Logbook'!AK387=\"\",\"\",'2.Logbook'!AK387)","v":""},{"$f":"IF('2.Logbook'!AL387=\"\",\"\",'2.Logbook'!AL387)","v":""},{"$f":"IF('2.Logbook'!AM387=\"\",\"\",'2.Logbook'!AM387)","v":""},{"$f":"IF('2.Logbook'!AN387=\"\",\"\",'2.Logbook'!AN387)","v":""},{"$f":"IF('2.Logbook'!AO387=\"\",\"\",'2.Logbook'!AO387)","v":""},{"$f":"IF('2.Logbook'!AP387=\"\",\"\",'2.Logbook'!AP387)","v":""},{"$f":"IF('2.Logbook'!AQ387=\"\",\"\",'2.Logbook'!AQ387)","v":""},{"$f":"IF('2.Logbook'!AR387=\"\",\"\",'2.Logbook'!AR387)","v":""},{"$f":"IF('2.Logbook'!AS387=\"\",\"\",'2.Logbook'!AS387)","v":""},{"$f":"IF('2.Logbook'!AT387=\"\",\"\",'2.Logbook'!AT387)","v":""},{"$f":"IF('2.Logbook'!AU387=\"\",\"\",'2.Logbook'!AU387)","v":""},{"$f":"IF('2.Logbook'!AV387=\"\",\"\",'2.Logbook'!AV387)","v":""},{"$f":"IF('2.Logbook'!AW387=\"\",\"\",'2.Logbook'!AW387)","v":""},{"$f":"IF('2.Logbook'!AX387=\"\",\"\",'2.Logbook'!AX387)","v":""},{"$f":"IF('2.Logbook'!AY387=\"\",\"\",'2.Logbook'!AY387)","v":""}]
[{"$f":"IF('2.Logbook'!$A388=\"\",\"\",'2.Logbook'!$A388)","v":""},{"$f":"IF('2.Logbook'!$B388=\"\",\"\",'2.Logbook'!$B388)","v":""},{"$f":"IF('2.Logbook'!AH388=\"\",\"\",'2.Logbook'!AH388)","v":""},{"$f":"IF('2.Logbook'!AI388=\"\",\"\",'2.Logbook'!AI388)","v":""},{"$f":"IF('2.Logbook'!AJ388=\"\",\"\",'2.Logbook'!AJ388)","v":""},{"$f":"IF('2.Logbook'!AK388=\"\",\"\",'2.Logbook'!AK388)","v":""},{"$f":"IF('2.Logbook'!AL388=\"\",\"\",'2.Logbook'!AL388)","v":""},{"$f":"IF('2.Logbook'!AM388=\"\",\"\",'2.Logbook'!AM388)","v":""},{"$f":"IF('2.Logbook'!AN388=\"\",\"\",'2.Logbook'!AN388)","v":""},{"$f":"IF('2.Logbook'!AO388=\"\",\"\",'2.Logbook'!AO388)","v":""},{"$f":"IF('2.Logbook'!AP388=\"\",\"\",'2.Logbook'!AP388)","v":""},{"$f":"IF('2.Logbook'!AQ388=\"\",\"\",'2.Logbook'!AQ388)","v":""},{"$f":"IF('2.Logbook'!AR388=\"\",\"\",'2.Logbook'!AR388)","v":""},{"$f":"IF('2.Logbook'!AS388=\"\",\"\",'2.Logbook'!AS388)","v":""},{"$f":"IF('2.Logbook'!AT388=\"\",\"\",'2.Logbook'!AT388)","v":""},{"$f":"IF('2.Logbook'!AU388=\"\",\"\",'2.Logbook'!AU388)","v":""},{"$f":"IF('2.Logbook'!AV388=\"\",\"\",'2.Logbook'!AV388)","v":""},{"$f":"IF('2.Logbook'!AW388=\"\",\"\",'2.Logbook'!AW388)","v":""},{"$f":"IF('2.Logbook'!AX388=\"\",\"\",'2.Logbook'!AX388)","v":""},{"$f":"IF('2.Logbook'!AY388=\"\",\"\",'2.Logbook'!AY388)","v":""}]
[{"$f":"IF('2.Logbook'!$A389=\"\",\"\",'2.Logbook'!$A389)","v":""},{"$f":"IF('2.Logbook'!$B389=\"\",\"\",'2.Logbook'!$B389)","v":""},{"$f":"IF('2.Logbook'!AH389=\"\",\"\",'2.Logbook'!AH389)","v":""},{"$f":"IF('2.Logbook'!AI389=\"\",\"\",'2.Logbook'!AI389)","v":""},{"$f":"IF('2.Logbook'!AJ389=\"\",\"\",'2.Logbook'!AJ389)","v":""},{"$f":"IF('2.Logbook'!AK389=\"\",\"\",'2.Logbook'!AK389)","v":""},{"$f":"IF('2.Logbook'!AL389=\"\",\"\",'2.Logbook'!AL389)","v":""},{"$f":"IF('2.Logbook'!AM389=\"\",\"\",'2.Logbook'!AM389)","v":""},{"$f":"IF('2.Logbook'!AN389=\"\",\"\",'2.Logbook'!AN389)","v":""},{"$f":"IF('2.Logbook'!AO389=\"\",\"\",'2.Logbook'!AO389)","v":""},{"$f":"IF('2.Logbook'!AP389=\"\",\"\",'2.Logbook'!AP389)","v":""},{"$f":"IF('2.Logbook'!AQ389=\"\",\"\",'2.Logbook'!AQ389)","v":""},{"$f":"IF('2.Logbook'!AR389=\"\",\"\",'2.Logbook'!AR389)","v":""},{"$f":"IF('2.Logbook'!AS389=\"\",\"\",'2.Logbook'!AS389)","v":""},{"$f":"IF('2.Logbook'!AT389=\"\",\"\",'2.Logbook'!AT389)","v":""},{"$f":"IF('2.Logbook'!AU389=\"\",\"\",'2.Logbook'!AU389)","v":""},{"$f":"IF('2.Logbook'!AV389=\"\",\"\",'2.Logbook'!AV389)","v":""},{"$f":"IF('2.Logbook'!AW389=\"\",\"\",'2.Logbook'!AW389)","v":""},{"$f":"IF('2.Logbook'!AX389=\"\",\"\",'2.Logbook'!AX389)","v":""},{"$f":"IF('2.Logbook'!AY389=\"\",\"\",'2.Logbook'!AY389)","v":""}]
[{"$f":"IF('2.Logbook'!$A390=\"\",\"\",'2.Logbook'!$A390)","v":""},{"$f":"IF('2.Logbook'!$B390=\"\",\"\",'2.Logbook'!$B390)","v":""},{"$f":"IF('2.Logbook'!AH390=\"\",\"\",'2.Logbook'!AH390)","v":""},{"$f":"IF('2.Logbook'!AI390=\"\",\"\",'2.Logbook'!AI390)","v":""},{"$f":"IF('2.Logbook'!AJ390=\"\",\"\",'2.Logbook'!AJ390)","v":""},{"$f":"IF('2.Logbook'!AK390=\"\",\"\",'2.Logbook'!AK390)","v":""},{"$f":"IF('2.Logbook'!AL390=\"\",\"\",'2.Logbook'!AL390)","v":""},{"$f":"IF('2.Logbook'!AM390=\"\",\"\",'2.Logbook'!AM390)","v":""},{"$f":"IF('2.Logbook'!AN390=\"\",\"\",'2.Logbook'!AN390)","v":""},{"$f":"IF('2.Logbook'!AO390=\"\",\"\",'2.Logbook'!AO390)","v":""},{"$f":"IF('2.Logbook'!AP390=\"\",\"\",'2.Logbook'!AP390)","v":""},{"$f":"IF('2.Logbook'!AQ390=\"\",\"\",'2.Logbook'!AQ390)","v":""},{"$f":"IF('2.Logbook'!AR390=\"\",\"\",'2.Logbook'!AR390)","v":""},{"$f":"IF('2.Logbook'!AS390=\"\",\"\",'2.Logbook'!AS390)","v":""},{"$f":"IF('2.Logbook'!AT390=\"\",\"\",'2.Logbook'!AT390)","v":""},{"$f":"IF('2.Logbook'!AU390=\"\",\"\",'2.Logbook'!AU390)","v":""},{"$f":"IF('2.Logbook'!AV390=\"\",\"\",'2.Logbook'!AV390)","v":""},{"$f":"IF('2.Logbook'!AW390=\"\",\"\",'2.Logbook'!AW390)","v":""},{"$f":"IF('2.Logbook'!AX390=\"\",\"\",'2.Logbook'!AX390)","v":""},{"$f":"IF('2.Logbook'!AY390=\"\",\"\",'2.Logbook'!AY390)","v":""}]
[{"$f":"IF('2.Logbook'!$A391=\"\",\"\",'2.Logbook'!$A391)","v":""},{"$f":"IF('2.Logbook'!$B391=\"\",\"\",'2.Logbook'!$B391)","v":""},{"$f":"IF('2.Logbook'!AH391=\"\",\"\",'2.Logbook'!AH391)","v":""},{"$f":"IF('2.Logbook'!AI391=\"\",\"\",'2.Logbook'!AI391)","v":""},{"$f":"IF('2.Logbook'!AJ391=\"\",\"\",'2.Logbook'!AJ391)","v":""},{"$f":"IF('2.Logbook'!AK391=\"\",\"\",'2.Logbook'!AK391)","v":""},{"$f":"IF('2.Logbook'!AL391=\"\",\"\",'2.Logbook'!AL391)","v":""},{"$f":"IF('2.Logbook'!AM391=\"\",\"\",'2.Logbook'!AM391)","v":""},{"$f":"IF('2.Logbook'!AN391=\"\",\"\",'2.Logbook'!AN391)","v":""},{"$f":"IF('2.Logbook'!AO391=\"\",\"\",'2.Logbook'!AO391)","v":""},{"$f":"IF('2.Logbook'!AP391=\"\",\"\",'2.Logbook'!AP391)","v":""},{"$f":"IF('2.Logbook'!AQ391=\"\",\"\",'2.Logbook'!AQ391)","v":""},{"$f":"IF('2.Logbook'!AR391=\"\",\"\",'2.Logbook'!AR391)","v":""},{"$f":"IF('2.Logbook'!AS391=\"\",\"\",'2.Logbook'!AS391)","v":""},{"$f":"IF('2.Logbook'!AT391=\"\",\"\",'2.Logbook'!AT391)","v":""},{"$f":"IF('2.Logbook'!AU391=\"\",\"\",'2.Logbook'!AU391)","v":""},{"$f":"IF('2.Logbook'!AV391=\"\",\"\",'2.Logbook'!AV391)","v":""},{"$f":"IF('2.Logbook'!AW391=\"\",\"\",'2.Logbook'!AW391)","v":""},{"$f":"IF('2.Logbook'!AX391=\"\",\"\",'2.Logbook'!AX391)","v":""},{"$f":"IF('2.Logbook'!AY391=\"\",\"\",'2.Logbook'!AY391)","v":""}]
[{"$f":"IF('2.Logbook'!$A392=\"\",\"\",'2.Logbook'!$A392)","v":""},{"$f":"IF('2.Logbook'!$B392=\"\",\"\",'2.Logbook'!$B392)","v":""},{"$f":"IF('2.Logbook'!AH392=\"\",\"\",'2.Logbook'!AH392)","v":""},{"$f":"IF('2.Logbook'!AI392=\"\",\"\",'2.Logbook'!AI392)","v":""},{"$f":"IF('2.Logbook'!AJ392=\"\",\"\",'2.Logbook'!AJ392)","v":""},{"$f":"IF('2.Logbook'!AK392=\"\",\"\",'2.Logbook'!AK392)","v":""},{"$f":"IF('2.Logbook'!AL392=\"\",\"\",'2.Logbook'!AL392)","v":""},{"$f":"IF('2.Logbook'!AM392=\"\",\"\",'2.Logbook'!AM392)","v":""},{"$f":"IF('2.Logbook'!AN392=\"\",\"\",'2.Logbook'!AN392)","v":""},{"$f":"IF('2.Logbook'!AO392=\"\",\"\",'2.Logbook'!AO392)","v":""},{"$f":"IF('2.Logbook'!AP392=\"\",\"\",'2.Logbook'!AP392)","v":""},{"$f":"IF('2.Logbook'!AQ392=\"\",\"\",'2.Logbook'!AQ392)","v":""},{"$f":"IF('2.Logbook'!AR392=\"\",\"\",'2.Logbook'!AR392)","v":""},{"$f":"IF('2.Logbook'!AS392=\"\",\"\",'2.Logbook'!AS392)","v":""},{"$f":"IF('2.Logbook'!AT392=\"\",\"\",'2.Logbook'!AT392)","v":""},{"$f":"IF('2.Logbook'!AU392=\"\",\"\",'2.Logbook'!AU392)","v":""},{"$f":"IF('2.Logbook'!AV392=\"\",\"\",'2.Logbook'!AV392)","v":""},{"$f":"IF('2.Logbook'!AW392=\"\",\"\",'2.Logbook'!AW392)","v":""},{"$f":"IF('2.Logbook'!AX392=\"\",\"\",'2.Logbook'!AX392)","v":""},{"$f":"IF('2.Logbook'!AY392=\"\",\"\",'2.Logbook'!AY392)","v":""}]
[{"$f":"IF('2.Logbook'!$A393=\"\",\"\",'2.Logbook'!$A393)","v":""},{"$f":"IF('2.Logbook'!$B393=\"\",\"\",'2.Logbook'!$B393)","v":""},{"$f":"IF('2.Logbook'!AH393=\"\",\"\",'2.Logbook'!AH393)","v":""},{"$f":"IF('2.Logbook'!AI393=\"\",\"\",'2.Logbook'!AI393)","v":""},{"$f":"IF('2.Logbook'!AJ393=\"\",\"\",'2.Logbook'!AJ393)","v":""},{"$f":"IF('2.Logbook'!AK393=\"\",\"\",'2.Logbook'!AK393)","v":""},{"$f":"IF('2.Logbook'!AL393=\"\",\"\",'2.Logbook'!AL393)","v":""},{"$f":"IF('2.Logbook'!AM393=\"\",\"\",'2.Logbook'!AM393)","v":""},{"$f":"IF('2.Logbook'!AN393=\"\",\"\",'2.Logbook'!AN393)","v":""},{"$f":"IF('2.Logbook'!AO393=\"\",\"\",'2.Logbook'!AO393)","v":""},{"$f":"IF('2.Logbook'!AP393=\"\",\"\",'2.Logbook'!AP393)","v":""},{"$f":"IF('2.Logbook'!AQ393=\"\",\"\",'2.Logbook'!AQ393)","v":""},{"$f":"IF('2.Logbook'!AR393=\"\",\"\",'2.Logbook'!AR393)","v":""},{"$f":"IF('2.Logbook'!AS393=\"\",\"\",'2.Logbook'!AS393)","v":""},{"$f":"IF('2.Logbook'!AT393=\"\",\"\",'2.Logbook'!AT393)","v":""},{"$f":"IF('2.Logbook'!AU393=\"\",\"\",'2.Logbook'!AU393)","v":""},{"$f":"IF('2.Logbook'!AV393=\"\",\"\",'2.Logbook'!AV393)","v":""},{"$f":"IF('2.Logbook'!AW393=\"\",\"\",'2.Logbook'!AW393)","v":""},{"$f":"IF('2.Logbook'!AX393=\"\",\"\",'2.Logbook'!AX393)","v":""},{"$f":"IF('2.Logbook'!AY393=\"\",\"\",'2.Logbook'!AY393)","v":""}]
[{"$f":"IF('2.Logbook'!$A394=\"\",\"\",'2.Logbook'!$A394)","v":""},{"$f":"IF('2.Logbook'!$B394=\"\",\"\",'2.Logbook'!$B394)","v":""},{"$f":"IF('2.Logbook'!AH394=\"\",\"\",'2.Logbook'!AH394)","v":""},{"$f":"IF('2.Logbook'!AI394=\"\",\"\",'2.Logbook'!AI394)","v":""},{"$f":"IF('2.Logbook'!AJ394=\"\",\"\",'2.Logbook'!AJ394)","v":""},{"$f":"IF('2.Logbook'!AK394=\"\",\"\",'2.Logbook'!AK394)","v":""},{"$f":"IF('2.Logbook'!AL394=\"\",\"\",'2.Logbook'!AL394)","v":""},{"$f":"IF('2.Logbook'!AM394=\"\",\"\",'2.Logbook'!AM394)","v":""},{"$f":"IF('2.Logbook'!AN394=\"\",\"\",'2.Logbook'!AN394)","v":""},{"$f":"IF('2.Logbook'!AO394=\"\",\"\",'2.Logbook'!AO394)","v":""},{"$f":"IF('2.Logbook'!AP394=\"\",\"\",'2.Logbook'!AP394)","v":""},{"$f":"IF('2.Logbook'!AQ394=\"\",\"\",'2.Logbook'!AQ394)","v":""},{"$f":"IF('2.Logbook'!AR394=\"\",\"\",'2.Logbook'!AR394)","v":""},{"$f":"IF('2.Logbook'!AS394=\"\",\"\",'2.Logbook'!AS394)","v":""},{"$f":"IF('2.Logbook'!AT394=\"\",\"\",'2.Logbook'!AT394)","v":""},{"$f":"IF('2.Logbook'!AU394=\"\",\"\",'2.Logbook'!AU394)","v":""},{"$f":"IF('2.Logbook'!AV394=\"\",\"\",'2.Logbook'!AV394)","v":""},{"$f":"IF('2.Logbook'!AW394=\"\",\"\",'2.Logbook'!AW394)","v":""},{"$f":"IF('2.Logbook'!AX394=\"\",\"\",'2.Logbook'!AX394)","v":""},{"$f":"IF('2.Logbook'!AY394=\"\",\"\",'2.Logbook'!AY394)","v":""}]
[{"$f":"IF('2.Logbook'!$A395=\"\",\"\",'2.Logbook'!$A395)","v":""},{"$f":"IF('2.Logbook'!$B395=\"\",\"\",'2.Logbook'!$B395)","v":""},{"$f":"IF('2.Logbook'!AH395=\"\",\"\",'2.Logbook'!AH395)","v":""},{"$f":"IF('2.Logbook'!AI395=\"\",\"\",'2.Logbook'!AI395)","v":""},{"$f":"IF('2.Logbook'!AJ395=\"\",\"\",'2.Logbook'!AJ395)","v":""},{"$f":"IF('2.Logbook'!AK395=\"\",\"\",'2.Logbook'!AK395)","v":""},{"$f":"IF('2.Logbook'!AL395=\"\",\"\",'2.Logbook'!AL395)","v":""},{"$f":"IF('2.Logbook'!AM395=\"\",\"\",'2.Logbook'!AM395)","v":""},{"$f":"IF('2.Logbook'!AN395=\"\",\"\",'2.Logbook'!AN395)","v":""},{"$f":"IF('2.Logbook'!AO395=\"\",\"\",'2.Logbook'!AO395)","v":""},{"$f":"IF('2.Logbook'!AP395=\"\",\"\",'2.Logbook'!AP395)","v":""},{"$f":"IF('2.Logbook'!AQ395=\"\",\"\",'2.Logbook'!AQ395)","v":""},{"$f":"IF('2.Logbook'!AR395=\"\",\"\",'2.Logbook'!AR395)","v":""},{"$f":"IF('2.Logbook'!AS395=\"\",\"\",'2.Logbook'!AS395)","v":""},{"$f":"IF('2.Logbook'!AT395=\"\",\"\",'2.Logbook'!AT395)","v":""},{"$f":"IF('2.Logbook'!AU395=\"\",\"\",'2.Logbook'!AU395)","v":""},{"$f":"IF('2.Logbook'!AV395=\"\",\"\",'2.Logbook'!AV395)","v":""},{"$f":"IF('2.Logbook'!AW395=\"\",\"\",'2.Logbook'!AW395)","v":""},{"$f":"IF('2.Logbook'!AX395=\"\",\"\",'2.Logbook'!AX395)","v":""},{"$f":"IF('2.Logbook'!AY395=\"\",\"\",'2.Logbook'!AY395)","v":""}]
[{"$f":"IF('2.Logbook'!$A396=\"\",\"\",'2.Logbook'!$A396)","v":""},{"$f":"IF('2.Logbook'!$B396=\"\",\"\",'2.Logbook'!$B396)","v":""},{"$f":"IF('2.Logbook'!AH396=\"\",\"\",'2.Logbook'!AH396)","v":""},{"$f":"IF('2.Logbook'!AI396=\"\",\"\",'2.Logbook'!AI396)","v":""},{"$f":"IF('2.Logbook'!AJ396=\"\",\"\",'2.Logbook'!AJ396)","v":""},{"$f":"IF('2.Logbook'!AK396=\"\",\"\",'2.Logbook'!AK396)","v":""},{"$f":"IF('2.Logbook'!AL396=\"\",\"\",'2.Logbook'!AL396)","v":""},{"$f":"IF('2.Logbook'!AM396=\"\",\"\",'2.Logbook'!AM396)","v":""},{"$f":"IF('2.Logbook'!AN396=\"\",\"\",'2.Logbook'!AN396)","v":""},{"$f":"IF('2.Logbook'!AO396=\"\",\"\",'2.Logbook'!AO396)","v":""},{"$f":"IF('2.Logbook'!AP396=\"\",\"\",'2.Logbook'!AP396)","v":""},{"$f":"IF('2.Logbook'!AQ396=\"\",\"\",'2.Logbook'!AQ396)","v":""},{"$f":"IF('2.Logbook'!AR396=\"\",\"\",'2.Logbook'!AR396)","v":""},{"$f":"IF('2.Logbook'!AS396=\"\",\"\",'2.Logbook'!AS396)","v":""},{"$f":"IF('2.Logbook'!AT396=\"\",\"\",'2.Logbook'!AT396)","v":""},{"$f":"IF('2.Logbook'!AU396=\"\",\"\",'2.Logbook'!AU396)","v":""},{"$f":"IF('2.Logbook'!AV396=\"\",\"\",'2.Logbook'!AV396)","v":""},{"$f":"IF('2.Logbook'!AW396=\"\",\"\",'2.Logbook'!AW396)","v":""},{"$f":"IF('2.Logbook'!AX396=\"\",\"\",'2.Logbook'!AX396)","v":""},{"$f":"IF('2.Logbook'!AY396=\"\",\"\",'2.Logbook'!AY396)","v":""}]
[{"$f":"IF('2.Logbook'!$A397=\"\",\"\",'2.Logbook'!$A397)","v":""},{"$f":"IF('2.Logbook'!$B397=\"\",\"\",'2.Logbook'!$B397)","v":""},{"$f":"IF('2.Logbook'!AH397=\"\",\"\",'2.Logbook'!AH397)","v":""},{"$f":"IF('2.Logbook'!AI397=\"\",\"\",'2.Logbook'!AI397)","v":""},{"$f":"IF('2.Logbook'!AJ397=\"\",\"\",'2.Logbook'!AJ397)","v":""},{"$f":"IF('2.Logbook'!AK397=\"\",\"\",'2.Logbook'!AK397)","v":""},{"$f":"IF('2.Logbook'!AL397=\"\",\"\",'2.Logbook'!AL397)","v":""},{"$f":"IF('2.Logbook'!AM397=\"\",\"\",'2.Logbook'!AM397)","v":""},{"$f":"IF('2.Logbook'!AN397=\"\",\"\",'2.Logbook'!AN397)","v":""},{"$f":"IF('2.Logbook'!AO397=\"\",\"\",'2.Logbook'!AO397)","v":""},{"$f":"IF('2.Logbook'!AP397=\"\",\"\",'2.Logbook'!AP397)","v":""},{"$f":"IF('2.Logbook'!AQ397=\"\",\"\",'2.Logbook'!AQ397)","v":""},{"$f":"IF('2.Logbook'!AR397=\"\",\"\",'2.Logbook'!AR397)","v":""},{"$f":"IF('2.Logbook'!AS397=\"\",\"\",'2.Logbook'!AS397)","v":""},{"$f":"IF('2.Logbook'!AT397=\"\",\"\",'2.Logbook'!AT397)","v":""},{"$f":"IF('2.Logbook'!AU397=\"\",\"\",'2.Logbook'!AU397)","v":""},{"$f":"IF('2.Logbook'!AV397=\"\",\"\",'2.Logbook'!AV397)","v":""},{"$f":"IF('2.Logbook'!AW397=\"\",\"\",'2.Logbook'!AW397)","v":""},{"$f":"IF('2.Logbook'!AX397=\"\",\"\",'2.Logbook'!AX397)","v":""},{"$f":"IF('2.Logbook'!AY397=\"\",\"\",'2.Logbook'!AY397)","v":""}]
[{"$f":"IF('2.Logbook'!$A398=\"\",\"\",'2.Logbook'!$A398)","v":""},{"$f":"IF('2.Logbook'!$B398=\"\",\"\",'2.Logbook'!$B398)","v":""},{"$f":"IF('2.Logbook'!AH398=\"\",\"\",'2.Logbook'!AH398)","v":""},{"$f":"IF('2.Logbook'!AI398=\"\",\"\",'2.Logbook'!AI398)","v":""},{"$f":"IF('2.Logbook'!AJ398=\"\",\"\",'2.Logbook'!AJ398)","v":""},{"$f":"IF('2.Logbook'!AK398=\"\",\"\",'2.Logbook'!AK398)","v":""},{"$f":"IF('2.Logbook'!AL398=\"\",\"\",'2.Logbook'!AL398)","v":""},{"$f":"IF('2.Logbook'!AM398=\"\",\"\",'2.Logbook'!AM398)","v":""},{"$f":"IF('2.Logbook'!AN398=\"\",\"\",'2.Logbook'!AN398)","v":""},{"$f":"IF('2.Logbook'!AO398=\"\",\"\",'2.Logbook'!AO398)","v":""},{"$f":"IF('2.Logbook'!AP398=\"\",\"\",'2.Logbook'!AP398)","v":""},{"$f":"IF('2.Logbook'!AQ398=\"\",\"\",'2.Logbook'!AQ398)","v":""},{"$f":"IF('2.Logbook'!AR398=\"\",\"\",'2.Logbook'!AR398)","v":""},{"$f":"IF('2.Logbook'!AS398=\"\",\"\",'2.Logbook'!AS398)","v":""},{"$f":"IF('2.Logbook'!AT398=\"\",\"\",'2.Logbook'!AT398)","v":""},{"$f":"IF('2.Logbook'!AU398=\"\",\"\",'2.Logbook'!AU398)","v":""},{"$f":"IF('2.Logbook'!AV398=\"\",\"\",'2.Logbook'!AV398)","v":""},{"$f":"IF('2.Logbook'!AW398=\"\",\"\",'2.Logbook'!AW398)","v":""},{"$f":"IF('2.Logbook'!AX398=\"\",\"\",'2.Logbook'!AX398)","v":""},{"$f":"IF('2.Logbook'!AY398=\"\",\"\",'2.Logbook'!AY398)","v":""}]
[{"$f":"IF('2.Logbook'!$A399=\"\",\"\",'2.Logbook'!$A399)","v":""},{"$f":"IF('2.Logbook'!$B399=\"\",\"\",'2.Logbook'!$B399)","v":""},{"$f":"IF('2.Logbook'!AH399=\"\",\"\",'2.Logbook'!AH399)","v":""},{"$f":"IF('2.Logbook'!AI399=\"\",\"\",'2.Logbook'!AI399)","v":""},{"$f":"IF('2.Logbook'!AJ399=\"\",\"\",'2.Logbook'!AJ399)","v":""},{"$f":"IF('2.Logbook'!AK399=\"\",\"\",'2.Logbook'!AK399)","v":""},{"$f":"IF('2.Logbook'!AL399=\"\",\"\",'2.Logbook'!AL399)","v":""},{"$f":"IF('2.Logbook'!AM399=\"\",\"\",'2.Logbook'!AM399)","v":""},{"$f":"IF('2.Logbook'!AN399=\"\",\"\",'2.Logbook'!AN399)","v":""},{"$f":"IF('2.Logbook'!AO399=\"\",\"\",'2.Logbook'!AO399)","v":""},{"$f":"IF('2.Logbook'!AP399=\"\",\"\",'2.Logbook'!AP399)","v":""},{"$f":"IF('2.Logbook'!AQ399=\"\",\"\",'2.Logbook'!AQ399)","v":""},{"$f":"IF('2.Logbook'!AR399=\"\",\"\",'2.Logbook'!AR399)","v":""},{"$f":"IF('2.Logbook'!AS399=\"\",\"\",'2.Logbook'!AS399)","v":""},{"$f":"IF('2.Logbook'!AT399=\"\",\"\",'2.Logbook'!AT399)","v":""},{"$f":"IF('2.Logbook'!AU399=\"\",\"\",'2.Logbook'!AU399)","v":""},{"$f":"IF('2.Logbook'!AV399=\"\",\"\",'2.Logbook'!AV399)","v":""},{"$f":"IF('2.Logbook'!AW399=\"\",\"\",'2.Logbook'!AW399)","v":""},{"$f":"IF('2.Logbook'!AX399=\"\",\"\",'2.Logbook'!AX399)","v":""},{"$f":"IF('2.Logbook'!AY399=\"\",\"\",'2.Logbook'!AY399)","v":""}]
[{"$f":"IF('2.Logbook'!$A400=\"\",\"\",'2.Logbook'!$A400)","v":""},{"$f":"IF('2.Logbook'!$B400=\"\",\"\",'2.Logbook'!$B400)","v":""},{"$f":"IF('2.Logbook'!AH400=\"\",\"\",'2.Logbook'!AH400)","v":""},{"$f":"IF('2.Logbook'!AI400=\"\",\"\",'2.Logbook'!AI400)","v":""},{"$f":"IF('2.Logbook'!AJ400=\"\",\"\",'2.Logbook'!AJ400)","v":""},{"$f":"IF('2.Logbook'!AK400=\"\",\"\",'2.Logbook'!AK400)","v":""},{"$f":"IF('2.Logbook'!AL400=\"\",\"\",'2.Logbook'!AL400)","v":""},{"$f":"IF('2.Logbook'!AM400=\"\",\"\",'2.Logbook'!AM400)","v":""},{"$f":"IF('2.Logbook'!AN400=\"\",\"\",'2.Logbook'!AN400)","v":""},{"$f":"IF('2.Logbook'!AO400=\"\",\"\",'2.Logbook'!AO400)","v":""},{"$f":"IF('2.Logbook'!AP400=\"\",\"\",'2.Logbook'!AP400)","v":""},{"$f":"IF('2.Logbook'!AQ400=\"\",\"\",'2.Logbook'!AQ400)","v":""},{"$f":"IF('2.Logbook'!AR400=\"\",\"\",'2.Logbook'!AR400)","v":""},{"$f":"IF('2.Logbook'!AS400=\"\",\"\",'2.Logbook'!AS400)","v":""},{"$f":"IF('2.Logbook'!AT400=\"\",\"\",'2.Logbook'!AT400)","v":""},{"$f":"IF('2.Logbook'!AU400=\"\",\"\",'2.Logbook'!AU400)","v":""},{"$f":"IF('2.Logbook'!AV400=\"\",\"\",'2.Logbook'!AV400)","v":""},{"$f":"IF('2.Logbook'!AW400=\"\",\"\",'2.Logbook'!AW400)","v":""},{"$f":"IF('2.Logbook'!AX400=\"\",\"\",'2.Logbook'!AX400)","v":""},{"$f":"IF('2.Logbook'!AY400=\"\",\"\",'2.Logbook'!AY400)","v":""}]
[{"$f":"IF('2.Logbook'!$A401=\"\",\"\",'2.Logbook'!$A401)","v":""},{"$f":"IF('2.Logbook'!$B401=\"\",\"\",'2.Logbook'!$B401)","v":""},{"$f":"IF('2.Logbook'!AH401=\"\",\"\",'2.Logbook'!AH401)","v":""},{"$f":"IF('2.Logbook'!AI401=\"\",\"\",'2.Logbook'!AI401)","v":""},{"$f":"IF('2.Logbook'!AJ401=\"\",\"\",'2.Logbook'!AJ401)","v":""},{"$f":"IF('2.Logbook'!AK401=\"\",\"\",'2.Logbook'!AK401)","v":""},{"$f":"IF('2.Logbook'!AL401=\"\",\"\",'2.Logbook'!AL401)","v":""},{"$f":"IF('2.Logbook'!AM401=\"\",\"\",'2.Logbook'!AM401)","v":""},{"$f":"IF('2.Logbook'!AN401=\"\",\"\",'2.Logbook'!AN401)","v":""},{"$f":"IF('2.Logbook'!AO401=\"\",\"\",'2.Logbook'!AO401)","v":""},{"$f":"IF('2.Logbook'!AP401=\"\",\"\",'2.Logbook'!AP401)","v":""},{"$f":"IF('2.Logbook'!AQ401=\"\",\"\",'2.Logbook'!AQ401)","v":""},{"$f":"IF('2.Logbook'!AR401=\"\",\"\",'2.Logbook'!AR401)","v":""},{"$f":"IF('2.Logbook'!AS401=\"\",\"\",'2.Logbook'!AS401)","v":""},{"$f":"IF('2.Logbook'!AT401=\"\",\"\",'2.Logbook'!AT401)","v":""},{"$f":"IF('2.Logbook'!AU401=\"\",\"\",'2.Logbook'!AU401)","v":""},{"$f":"IF('2.Logbook'!AV401=\"\",\"\",'2.Logbook'!AV401)","v":""},{"$f":"IF('2.Logbook'!AW401=\"\",\"\",'2.Logbook'!AW401)","v":""},{"$f":"IF('2.Logbook'!AX401=\"\",\"\",'2.Logbook'!AX401)","v":""},{"$f":"IF('2.Logbook'!AY401=\"\",\"\",'2.Logbook'!AY401)","v":""}]
[{"$f":"IF('2.Logbook'!$A402=\"\",\"\",'2.Logbook'!$A402)","v":""},{"$f":"IF('2.Logbook'!$B402=\"\",\"\",'2.Logbook'!$B402)","v":""},{"$f":"IF('2.Logbook'!AH402=\"\",\"\",'2.Logbook'!AH402)","v":""},{"$f":"IF('2.Logbook'!AI402=\"\",\"\",'2.Logbook'!AI402)","v":""},{"$f":"IF('2.Logbook'!AJ402=\"\",\"\",'2.Logbook'!AJ402)","v":""},{"$f":"IF('2.Logbook'!AK402=\"\",\"\",'2.Logbook'!AK402)","v":""},{"$f":"IF('2.Logbook'!AL402=\"\",\"\",'2.Logbook'!AL402)","v":""},{"$f":"IF('2.Logbook'!AM402=\"\",\"\",'2.Logbook'!AM402)","v":""},{"$f":"IF('2.Logbook'!AN402=\"\",\"\",'2.Logbook'!AN402)","v":""},{"$f":"IF('2.Logbook'!AO402=\"\",\"\",'2.Logbook'!AO402)","v":""},{"$f":"IF('2.Logbook'!AP402=\"\",\"\",'2.Logbook'!AP402)","v":""},{"$f":"IF('2.Logbook'!AQ402=\"\",\"\",'2.Logbook'!AQ402)","v":""},{"$f":"IF('2.Logbook'!AR402=\"\",\"\",'2.Logbook'!AR402)","v":""},{"$f":"IF('2.Logbook'!AS402=\"\",\"\",'2.Logbook'!AS402)","v":""},{"$f":"IF('2.Logbook'!AT402=\"\",\"\",'2.Logbook'!AT402)","v":""},{"$f":"IF('2.Logbook'!AU402=\"\",\"\",'2.Logbook'!AU402)","v":""},{"$f":"IF('2.Logbook'!AV402=\"\",\"\",'2.Logbook'!AV402)","v":""},{"$f":"IF('2.Logbook'!AW402=\"\",\"\",'2.Logbook'!AW402)","v":""},{"$f":"IF('2.Logbook'!AX402=\"\",\"\",'2.Logbook'!AX402)","v":""},{"$f":"IF('2.Logbook'!AY402=\"\",\"\",'2.Logbook'!AY402)","v":""}]
[{"$f":"IF('2.Logbook'!$A403=\"\",\"\",'2.Logbook'!$A403)","v":""},{"$f":"IF('2.Logbook'!$B403=\"\",\"\",'2.Logbook'!$B403)","v":""},{"$f":"IF('2.Logbook'!AH403=\"\",\"\",'2.Logbook'!AH403)","v":""},{"$f":"IF('2.Logbook'!AI403=\"\",\"\",'2.Logbook'!AI403)","v":""},{"$f":"IF('2.Logbook'!AJ403=\"\",\"\",'2.Logbook'!AJ403)","v":""},{"$f":"IF('2.Logbook'!AK403=\"\",\"\",'2.Logbook'!AK403)","v":""},{"$f":"IF('2.Logbook'!AL403=\"\",\"\",'2.Logbook'!AL403)","v":""},{"$f":"IF('2.Logbook'!AM403=\"\",\"\",'2.Logbook'!AM403)","v":""},{"$f":"IF('2.Logbook'!AN403=\"\",\"\",'2.Logbook'!AN403)","v":""},{"$f":"IF('2.Logbook'!AO403=\"\",\"\",'2.Logbook'!AO403)","v":""},{"$f":"IF('2.Logbook'!AP403=\"\",\"\",'2.Logbook'!AP403)","v":""},{"$f":"IF('2.Logbook'!AQ403=\"\",\"\",'2.Logbook'!AQ403)","v":""},{"$f":"IF('2.Logbook'!AR403=\"\",\"\",'2.Logbook'!AR403)","v":""},{"$f":"IF('2.Logbook'!AS403=\"\",\"\",'2.Logbook'!AS403)","v":""},{"$f":"IF('2.Logbook'!AT403=\"\",\"\",'2.Logbook'!AT403)","v":""},{"$f":"IF('2.Logbook'!AU403=\"\",\"\",'2.Logbook'!AU403)","v":""},{"$f":"IF('2.Logbook'!AV403=\"\",\"\",'2.Logbook'!AV403)","v":""},{"$f":"IF('2.Logbook'!AW403=\"\",\"\",'2.Logbook'!AW403)","v":""},{"$f":"IF('2.Logbook'!AX403=\"\",\"\",'2.Logbook'!AX403)","v":""},{"$f":"IF('2.Logbook'!AY403=\"\",\"\",'2.Logbook'!AY403)","v":""}]
[{"$f":"IF('2.Logbook'!$A404=\"\",\"\",'2.Logbook'!$A404)","v":""},{"$f":"IF('2.Logbook'!$B404=\"\",\"\",'2.Logbook'!$B404)","v":""},{"$f":"IF('2.Logbook'!AH404=\"\",\"\",'2.Logbook'!AH404)","v":""},{"$f":"IF('2.Logbook'!AI404=\"\",\"\",'2.Logbook'!AI404)","v":""},{"$f":"IF('2.Logbook'!AJ404=\"\",\"\",'2.Logbook'!AJ404)","v":""},{"$f":"IF('2.Logbook'!AK404=\"\",\"\",'2.Logbook'!AK404)","v":""},{"$f":"IF('2.Logbook'!AL404=\"\",\"\",'2.Logbook'!AL404)","v":""},{"$f":"IF('2.Logbook'!AM404=\"\",\"\",'2.Logbook'!AM404)","v":""},{"$f":"IF('2.Logbook'!AN404=\"\",\"\",'2.Logbook'!AN404)","v":""},{"$f":"IF('2.Logbook'!AO404=\"\",\"\",'2.Logbook'!AO404)","v":""},{"$f":"IF('2.Logbook'!AP404=\"\",\"\",'2.Logbook'!AP404)","v":""},{"$f":"IF('2.Logbook'!AQ404=\"\",\"\",'2.Logbook'!AQ404)","v":""},{"$f":"IF('2.Logbook'!AR404=\"\",\"\",'2.Logbook'!AR404)","v":""},{"$f":"IF('2.Logbook'!AS404=\"\",\"\",'2.Logbook'!AS404)","v":""},{"$f":"IF('2.Logbook'!AT404=\"\",\"\",'2.Logbook'!AT404)","v":""},{"$f":"IF('2.Logbook'!AU404=\"\",\"\",'2.Logbook'!AU404)","v":""},{"$f":"IF('2.Logbook'!AV404=\"\",\"\",'2.Logbook'!AV404)","v":""},{"$f":"IF('2.Logbook'!AW404=\"\",\"\",'2.Logbook'!AW404)","v":""},{"$f":"IF('2.Logbook'!AX404=\"\",\"\",'2.Logbook'!AX404)","v":""},{"$f":"IF('2.Logbook'!AY404=\"\",\"\",'2.Logbook'!AY404)","v":""}]
[{"$f":"IF('2.Logbook'!$A405=\"\",\"\",'2.Logbook'!$A405)","v":""},{"$f":"IF('2.Logbook'!$B405=\"\",\"\",'2.Logbook'!$B405)","v":""},{"$f":"IF('2.Logbook'!AH405=\"\",\"\",'2.Logbook'!AH405)","v":""},{"$f":"IF('2.Logbook'!AI405=\"\",\"\",'2.Logbook'!AI405)","v":""},{"$f":"IF('2.Logbook'!AJ405=\"\",\"\",'2.Logbook'!AJ405)","v":""},{"$f":"IF('2.Logbook'!AK405=\"\",\"\",'2.Logbook'!AK405)","v":""},{"$f":"IF('2.Logbook'!AL405=\"\",\"\",'2.Logbook'!AL405)","v":""},{"$f":"IF('2.Logbook'!AM405=\"\",\"\",'2.Logbook'!AM405)","v":""},{"$f":"IF('2.Logbook'!AN405=\"\",\"\",'2.Logbook'!AN405)","v":""},{"$f":"IF('2.Logbook'!AO405=\"\",\"\",'2.Logbook'!AO405)","v":""},{"$f":"IF('2.Logbook'!AP405=\"\",\"\",'2.Logbook'!AP405)","v":""},{"$f":"IF('2.Logbook'!AQ405=\"\",\"\",'2.Logbook'!AQ405)","v":""},{"$f":"IF('2.Logbook'!AR405=\"\",\"\",'2.Logbook'!AR405)","v":""},{"$f":"IF('2.Logbook'!AS405=\"\",\"\",'2.Logbook'!AS405)","v":""},{"$f":"IF('2.Logbook'!AT405=\"\",\"\",'2.Logbook'!AT405)","v":""},{"$f":"IF('2.Logbook'!AU405=\"\",\"\",'2.Logbook'!AU405)","v":""},{"$f":"IF('2.Logbook'!AV405=\"\",\"\",'2.Logbook'!AV405)","v":""},{"$f":"IF('2.Logbook'!AW405=\"\",\"\",'2.Logbook'!AW405)","v":""},{"$f":"IF('2.Logbook'!AX405=\"\",\"\",'2.Logbook'!AX405)","v":""},{"$f":"IF('2.Logbook'!AY405=\"\",\"\",'2.Logbook'!AY405)","v":""}]
[{"$f":"IF('2.Logbook'!$A406=\"\",\"\",'2.Logbook'!$A406)","v":""},{"$f":"IF('2.Logbook'!$B406=\"\",\"\",'2.Logbook'!$B406)","v":""},{"$f":"IF('2.Logbook'!AH406=\"\",\"\",'2.Logbook'!AH406)","v":""},{"$f":"IF('2.Logbook'!AI406=\"\",\"\",'2.Logbook'!AI406)","v":""},{"$f":"IF('2.Logbook'!AJ406=\"\",\"\",'2.Logbook'!AJ406)","v":""},{"$f":"IF('2.Logbook'!AK406=\"\",\"\",'2.Logbook'!AK406)","v":""},{"$f":"IF('2.Logbook'!AL406=\"\",\"\",'2.Logbook'!AL406)","v":""},{"$f":"IF('2.Logbook'!AM406=\"\",\"\",'2.Logbook'!AM406)","v":""},{"$f":"IF('2.Logbook'!AN406=\"\",\"\",'2.Logbook'!AN406)","v":""},{"$f":"IF('2.Logbook'!AO406=\"\",\"\",'2.Logbook'!AO406)","v":""},{"$f":"IF('2.Logbook'!AP406=\"\",\"\",'2.Logbook'!AP406)","v":""},{"$f":"IF('2.Logbook'!AQ406=\"\",\"\",'2.Logbook'!AQ406)","v":""},{"$f":"IF('2.Logbook'!AR406=\"\",\"\",'2.Logbook'!AR406)","v":""},{"$f":"IF('2.Logbook'!AS406=\"\",\"\",'2.Logbook'!AS406)","v":""},{"$f":"IF('2.Logbook'!AT406=\"\",\"\",'2.Logbook'!AT406)","v":""},{"$f":"IF('2.Logbook'!AU406=\"\",\"\",'2.Logbook'!AU406)","v":""},{"$f":"IF('2.Logbook'!AV406=\"\",\"\",'2.Logbook'!AV406)","v":""},{"$f":"IF('2.Logbook'!AW406=\"\",\"\",'2.Logbook'!AW406)","v":""},{"$f":"IF('2.Logbook'!AX406=\"\",\"\",'2.Logbook'!AX406)","v":""},{"$f":"IF('2.Logbook'!AY406=\"\",\"\",'2.Logbook'!AY406)","v":""}]
[{"$f":"IF('2.Logbook'!$A407=\"\",\"\",'2.Logbook'!$A407)","v":""},{"$f":"IF('2.Logbook'!$B407=\"\",\"\",'2.Logbook'!$B407)","v":""},{"$f":"IF('2.Logbook'!AH407=\"\",\"\",'2.Logbook'!AH407)","v":""},{"$f":"IF('2.Logbook'!AI407=\"\",\"\",'2.Logbook'!AI407)","v":""},{"$f":"IF('2.Logbook'!AJ407=\"\",\"\",'2.Logbook'!AJ407)","v":""},{"$f":"IF('2.Logbook'!AK407=\"\",\"\",'2.Logbook'!AK407)","v":""},{"$f":"IF('2.Logbook'!AL407=\"\",\"\",'2.Logbook'!AL407)","v":""},{"$f":"IF('2.Logbook'!AM407=\"\",\"\",'2.Logbook'!AM407)","v":""},{"$f":"IF('2.Logbook'!AN407=\"\",\"\",'2.Logbook'!AN407)","v":""},{"$f":"IF('2.Logbook'!AO407=\"\",\"\",'2.Logbook'!AO407)","v":""},{"$f":"IF('2.Logbook'!AP407=\"\",\"\",'2.Logbook'!AP407)","v":""},{"$f":"IF('2.Logbook'!AQ407=\"\",\"\",'2.Logbook'!AQ407)","v":""},{"$f":"IF('2.Logbook'!AR407=\"\",\"\",'2.Logbook'!AR407)","v":""},{"$f":"IF('2.Logbook'!AS407=\"\",\"\",'2.Logbook'!AS407)","v":""},{"$f":"IF('2.Logbook'!AT407=\"\",\"\",'2.Logbook'!AT407)","v":""},{"$f":"IF('2.Logbook'!AU407=\"\",\"\",'2.Logbook'!AU407)","v":""},{"$f":"IF('2.Logbook'!AV407=\"\",\"\",'2.Logbook'!AV407)","v":""},{"$f":"IF('2.Logbook'!AW407=\"\",\"\",'2.Logbook'!AW407)","v":""},{"$f":"IF('2.Logbook'!AX407=\"\",\"\",'2.Logbook'!AX407)","v":""},{"$f":"IF('2.Logbook'!AY407=\"\",\"\",'2.Logbook'!AY407)","v":""}]
[{"$f":"IF('2.Logbook'!$A408=\"\",\"\",'2.Logbook'!$A408)","v":""},{"$f":"IF('2.Logbook'!$B408=\"\",\"\",'2.Logbook'!$B408)","v":""},{"$f":"IF('2.Logbook'!AH408=\"\",\"\",'2.Logbook'!AH408)","v":""},{"$f":"IF('2.Logbook'!AI408=\"\",\"\",'2.Logbook'!AI408)","v":""},{"$f":"IF('2.Logbook'!AJ408=\"\",\"\",'2.Logbook'!AJ408)","v":""},{"$f":"IF('2.Logbook'!AK408=\"\",\"\",'2.Logbook'!AK408)","v":""},{"$f":"IF('2.Logbook'!AL408=\"\",\"\",'2.Logbook'!AL408)","v":""},{"$f":"IF('2.Logbook'!AM408=\"\",\"\",'2.Logbook'!AM408)","v":""},{"$f":"IF('2.Logbook'!AN408=\"\",\"\",'2.Logbook'!AN408)","v":""},{"$f":"IF('2.Logbook'!AO408=\"\",\"\",'2.Logbook'!AO408)","v":""},{"$f":"IF('2.Logbook'!AP408=\"\",\"\",'2.Logbook'!AP408)","v":""},{"$f":"IF('2.Logbook'!AQ408=\"\",\"\",'2.Logbook'!AQ408)","v":""},{"$f":"IF('2.Logbook'!AR408=\"\",\"\",'2.Logbook'!AR408)","v":""},{"$f":"IF('2.Logbook'!AS408=\"\",\"\",'2.Logbook'!AS408)","v":""},{"$f":"IF('2.Logbook'!AT408=\"\",\"\",'2.Logbook'!AT408)","v":""},{"$f":"IF('2.Logbook'!AU408=\"\",\"\",'2.Logbook'!AU408)","v":""},{"$f":"IF('2.Logbook'!AV408=\"\",\"\",'2.Logbook'!AV408)","v":""},{"$f":"IF('2.Logbook'!AW408=\"\",\"\",'2.Logbook'!AW408)","v":""},{"$f":"IF('2.Logbook'!AX408=\"\",\"\",'2.Logbook'!AX408)","v":""},{"$f":"IF('2.Logbook'!AY408=\"\",\"\",'2.Logbook'!AY408)","v":""}]
[{"$f":"IF('2.Logbook'!$A409=\"\",\"\",'2.Logbook'!$A409)","v":""},{"$f":"IF('2.Logbook'!$B409=\"\",\"\",'2.Logbook'!$B409)","v":""},{"$f":"IF('2.Logbook'!AH409=\"\",\"\",'2.Logbook'!AH409)","v":""},{"$f":"IF('2.Logbook'!AI409=\"\",\"\",'2.Logbook'!AI409)","v":""},{"$f":"IF('2.Logbook'!AJ409=\"\",\"\",'2.Logbook'!AJ409)","v":""},{"$f":"IF('2.Logbook'!AK409=\"\",\"\",'2.Logbook'!AK409)","v":""},{"$f":"IF('2.Logbook'!AL409=\"\",\"\",'2.Logbook'!AL409)","v":""},{"$f":"IF('2.Logbook'!AM409=\"\",\"\",'2.Logbook'!AM409)","v":""},{"$f":"IF('2.Logbook'!AN409=\"\",\"\",'2.Logbook'!AN409)","v":""},{"$f":"IF('2.Logbook'!AO409=\"\",\"\",'2.Logbook'!AO409)","v":""},{"$f":"IF('2.Logbook'!AP409=\"\",\"\",'2.Logbook'!AP409)","v":""},{"$f":"IF('2.Logbook'!AQ409=\"\",\"\",'2.Logbook'!AQ409)","v":""},{"$f":"IF('2.Logbook'!AR409=\"\",\"\",'2.Logbook'!AR409)","v":""},{"$f":"IF('2.Logbook'!AS409=\"\",\"\",'2.Logbook'!AS409)","v":""},{"$f":"IF('2.Logbook'!AT409=\"\",\"\",'2.Logbook'!AT409)","v":""},{"$f":"IF('2.Logbook'!AU409=\"\",\"\",'2.Logbook'!AU409)","v":""},{"$f":"IF('2.Logbook'!AV409=\"\",\"\",'2.Logbook'!AV409)","v":""},{"$f":"IF('2.Logbook'!AW409=\"\",\"\",'2.Logbook'!AW409)","v":""},{"$f":"IF('2.Logbook'!AX409=\"\",\"\",'2.Logbook'!AX409)","v":""},{"$f":"IF('2.Logbook'!AY409=\"\",\"\",'2.Logbook'!AY409)","v":""}]
[{"$f":"IF('2.Logbook'!$A410=\"\",\"\",'2.Logbook'!$A410)","v":""},{"$f":"IF('2.Logbook'!$B410=\"\",\"\",'2.Logbook'!$B410)","v":""},{"$f":"IF('2.Logbook'!AH410=\"\",\"\",'2.Logbook'!AH410)","v":""},{"$f":"IF('2.Logbook'!AI410=\"\",\"\",'2.Logbook'!AI410)","v":""},{"$f":"IF('2.Logbook'!AJ410=\"\",\"\",'2.Logbook'!AJ410)","v":""},{"$f":"IF('2.Logbook'!AK410=\"\",\"\",'2.Logbook'!AK410)","v":""},{"$f":"IF('2.Logbook'!AL410=\"\",\"\",'2.Logbook'!AL410)","v":""},{"$f":"IF('2.Logbook'!AM410=\"\",\"\",'2.Logbook'!AM410)","v":""},{"$f":"IF('2.Logbook'!AN410=\"\",\"\",'2.Logbook'!AN410)","v":""},{"$f":"IF('2.Logbook'!AO410=\"\",\"\",'2.Logbook'!AO410)","v":""},{"$f":"IF('2.Logbook'!AP410=\"\",\"\",'2.Logbook'!AP410)","v":""},{"$f":"IF('2.Logbook'!AQ410=\"\",\"\",'2.Logbook'!AQ410)","v":""},{"$f":"IF('2.Logbook'!AR410=\"\",\"\",'2.Logbook'!AR410)","v":""},{"$f":"IF('2.Logbook'!AS410=\"\",\"\",'2.Logbook'!AS410)","v":""},{"$f":"IF('2.Logbook'!AT410=\"\",\"\",'2.Logbook'!AT410)","v":""},{"$f":"IF('2.Logbook'!AU410=\"\",\"\",'2.Logbook'!AU410)","v":""},{"$f":"IF('2.Logbook'!AV410=\"\",\"\",'2.Logbook'!AV410)","v":""},{"$f":"IF('2.Logbook'!AW410=\"\",\"\",'2.Logbook'!AW410)","v":""},{"$f":"IF('2.Logbook'!AX410=\"\",\"\",'2.Logbook'!AX410)","v":""},{"$f":"IF('2.Logbook'!AY410=\"\",\"\",'2.Logbook'!AY410)","v":""}]
[{"$f":"IF('2.Logbook'!$A411=\"\",\"\",'2.Logbook'!$A411)","v":""},{"$f":"IF('2.Logbook'!$B411=\"\",\"\",'2.Logbook'!$B411)","v":""},{"$f":"IF('2.Logbook'!AH411=\"\",\"\",'2.Logbook'!AH411)","v":""},{"$f":"IF('2.Logbook'!AI411=\"\",\"\",'2.Logbook'!AI411)","v":""},{"$f":"IF('2.Logbook'!AJ411=\"\",\"\",'2.Logbook'!AJ411)","v":""},{"$f":"IF('2.Logbook'!AK411=\"\",\"\",'2.Logbook'!AK411)","v":""},{"$f":"IF('2.Logbook'!AL411=\"\",\"\",'2.Logbook'!AL411)","v":""},{"$f":"IF('2.Logbook'!AM411=\"\",\"\",'2.Logbook'!AM411)","v":""},{"$f":"IF('2.Logbook'!AN411=\"\",\"\",'2.Logbook'!AN411)","v":""},{"$f":"IF('2.Logbook'!AO411=\"\",\"\",'2.Logbook'!AO411)","v":""},{"$f":"IF('2.Logbook'!AP411=\"\",\"\",'2.Logbook'!AP411)","v":""},{"$f":"IF('2.Logbook'!AQ411=\"\",\"\",'2.Logbook'!AQ411)","v":""},{"$f":"IF('2.Logbook'!AR411=\"\",\"\",'2.Logbook'!AR411)","v":""},{"$f":"IF('2.Logbook'!AS411=\"\",\"\",'2.Logbook'!AS411)","v":""},{"$f":"IF('2.Logbook'!AT411=\"\",\"\",'2.Logbook'!AT411)","v":""},{"$f":"IF('2.Logbook'!AU411=\"\",\"\",'2.Logbook'!AU411)","v":""},{"$f":"IF('2.Logbook'!AV411=\"\",\"\",'2.Logbook'!AV411)","v":""},{"$f":"IF('2.Logbook'!AW411=\"\",\"\",'2.Logbook'!AW411)","v":""},{"$f":"IF('2.Logbook'!AX411=\"\",\"\",'2.Logbook'!AX411)","v":""},{"$f":"IF('2.Logbook'!AY411=\"\",\"\",'2.Logbook'!AY411)","v":""}]
[{"$f":"IF('2.Logbook'!$A412=\"\",\"\",'2.Logbook'!$A412)","v":""},{"$f":"IF('2.Logbook'!$B412=\"\",\"\",'2.Logbook'!$B412)","v":""},{"$f":"IF('2.Logbook'!AH412=\"\",\"\",'2.Logbook'!AH412)","v":""},{"$f":"IF('2.Logbook'!AI412=\"\",\"\",'2.Logbook'!AI412)","v":""},{"$f":"IF('2.Logbook'!AJ412=\"\",\"\",'2.Logbook'!AJ412)","v":""},{"$f":"IF('2.Logbook'!AK412=\"\",\"\",'2.Logbook'!AK412)","v":""},{"$f":"IF('2.Logbook'!AL412=\"\",\"\",'2.Logbook'!AL412)","v":""},{"$f":"IF('2.Logbook'!AM412=\"\",\"\",'2.Logbook'!AM412)","v":""},{"$f":"IF('2.Logbook'!AN412=\"\",\"\",'2.Logbook'!AN412)","v":""},{"$f":"IF('2.Logbook'!AO412=\"\",\"\",'2.Logbook'!AO412)","v":""},{"$f":"IF('2.Logbook'!AP412=\"\",\"\",'2.Logbook'!AP412)","v":""},{"$f":"IF('2.Logbook'!AQ412=\"\",\"\",'2.Logbook'!AQ412)","v":""},{"$f":"IF('2.Logbook'!AR412=\"\",\"\",'2.Logbook'!AR412)","v":""},{"$f":"IF('2.Logbook'!AS412=\"\",\"\",'2.Logbook'!AS412)","v":""},{"$f":"IF('2.Logbook'!AT412=\"\",\"\",'2.Logbook'!AT412)","v":""},{"$f":"IF('2.Logbook'!AU412=\"\",\"\",'2.Logbook'!AU412)","v":""},{"$f":"IF('2.Logbook'!AV412=\"\",\"\",'2.Logbook'!AV412)","v":""},{"$f":"IF('2.Logbook'!AW412=\"\",\"\",'2.Logbook'!AW412)","v":""},{"$f":"IF('2.Logbook'!AX412=\"\",\"\",'2.Logbook'!AX412)","v":""},{"$f":"IF('2.Logbook'!AY412=\"\",\"\",'2.Logbook'!AY412)","v":""}]
[{"$f":"IF('2.Logbook'!$A413=\"\",\"\",'2.Logbook'!$A413)","v":""},{"$f":"IF('2.Logbook'!$B413=\"\",\"\",'2.Logbook'!$B413)","v":""},{"$f":"IF('2.Logbook'!AH413=\"\",\"\",'2.Logbook'!AH413)","v":""},{"$f":"IF('2.Logbook'!AI413=\"\",\"\",'2.Logbook'!AI413)","v":""},{"$f":"IF('2.Logbook'!AJ413=\"\",\"\",'2.Logbook'!AJ413)","v":""},{"$f":"IF('2.Logbook'!AK413=\"\",\"\",'2.Logbook'!AK413)","v":""},{"$f":"IF('2.Logbook'!AL413=\"\",\"\",'2.Logbook'!AL413)","v":""},{"$f":"IF('2.Logbook'!AM413=\"\",\"\",'2.Logbook'!AM413)","v":""},{"$f":"IF('2.Logbook'!AN413=\"\",\"\",'2.Logbook'!AN413)","v":""},{"$f":"IF('2.Logbook'!AO413=\"\",\"\",'2.Logbook'!AO413)","v":""},{"$f":"IF('2.Logbook'!AP413=\"\",\"\",'2.Logbook'!AP413)","v":""},{"$f":"IF('2.Logbook'!AQ413=\"\",\"\",'2.Logbook'!AQ413)","v":""},{"$f":"IF('2.Logbook'!AR413=\"\",\"\",'2.Logbook'!AR413)","v":""},{"$f":"IF('2.Logbook'!AS413=\"\",\"\",'2.Logbook'!AS413)","v":""},{"$f":"IF('2.Logbook'!AT413=\"\",\"\",'2.Logbook'!AT413)","v":""},{"$f":"IF('2.Logbook'!AU413=\"\",\"\",'2.Logbook'!AU413)","v":""},{"$f":"IF('2.Logbook'!AV413=\"\",\"\",'2.Logbook'!AV413)","v":""},{"$f":"IF('2.Logbook'!AW413=\"\",\"\",'2.Logbook'!AW413)","v":""},{"$f":"IF('2.Logbook'!AX413=\"\",\"\",'2.Logbook'!AX413)","v":""},{"$f":"IF('2.Logbook'!AY413=\"\",\"\",'2.Logbook'!AY413)","v":""}]
[{"$f":"IF('2.Logbook'!$A414=\"\",\"\",'2.Logbook'!$A414)","v":""},{"$f":"IF('2.Logbook'!$B414=\"\",\"\",'2.Logbook'!$B414)","v":""},{"$f":"IF('2.Logbook'!AH414=\"\",\"\",'2.Logbook'!AH414)","v":""},{"$f":"IF('2.Logbook'!AI414=\"\",\"\",'2.Logbook'!AI414)","v":""},{"$f":"IF('2.Logbook'!AJ414=\"\",\"\",'2.Logbook'!AJ414)","v":""},{"$f":"IF('2.Logbook'!AK414=\"\",\"\",'2.Logbook'!AK414)","v":""},{"$f":"IF('2.Logbook'!AL414=\"\",\"\",'2.Logbook'!AL414)","v":""},{"$f":"IF('2.Logbook'!AM414=\"\",\"\",'2.Logbook'!AM414)","v":""},{"$f":"IF('2.Logbook'!AN414=\"\",\"\",'2.Logbook'!AN414)","v":""},{"$f":"IF('2.Logbook'!AO414=\"\",\"\",'2.Logbook'!AO414)","v":""},{"$f":"IF('2.Logbook'!AP414=\"\",\"\",'2.Logbook'!AP414)","v":""},{"$f":"IF('2.Logbook'!AQ414=\"\",\"\",'2.Logbook'!AQ414)","v":""},{"$f":"IF('2.Logbook'!AR414=\"\",\"\",'2.Logbook'!AR414)","v":""},{"$f":"IF('2.Logbook'!AS414=\"\",\"\",'2.Logbook'!AS414)","v":""},{"$f":"IF('2.Logbook'!AT414=\"\",\"\",'2.Logbook'!AT414)","v":""},{"$f":"IF('2.Logbook'!AU414=\"\",\"\",'2.Logbook'!AU414)","v":""},{"$f":"IF('2.Logbook'!AV414=\"\",\"\",'2.Logbook'!AV414)","v":""},{"$f":"IF('2.Logbook'!AW414=\"\",\"\",'2.Logbook'!AW414)","v":""},{"$f":"IF('2.Logbook'!AX414=\"\",\"\",'2.Logbook'!AX414)","v":""},{"$f":"IF('2.Logbook'!AY414=\"\",\"\",'2.Logbook'!AY414)","v":""}]
[{"$f":"IF('2.Logbook'!$A415=\"\",\"\",'2.Logbook'!$A415)","v":""},{"$f":"IF('2.Logbook'!$B415=\"\",\"\",'2.Logbook'!$B415)","v":""},{"$f":"IF('2.Logbook'!AH415=\"\",\"\",'2.Logbook'!AH415)","v":""},{"$f":"IF('2.Logbook'!AI415=\"\",\"\",'2.Logbook'!AI415)","v":""},{"$f":"IF('2.Logbook'!AJ415=\"\",\"\",'2.Logbook'!AJ415)","v":""},{"$f":"IF('2.Logbook'!AK415=\"\",\"\",'2.Logbook'!AK415)","v":""},{"$f":"IF('2.Logbook'!AL415=\"\",\"\",'2.Logbook'!AL415)","v":""},{"$f":"IF('2.Logbook'!AM415=\"\",\"\",'2.Logbook'!AM415)","v":""},{"$f":"IF('2.Logbook'!AN415=\"\",\"\",'2.Logbook'!AN415)","v":""},{"$f":"IF('2.Logbook'!AO415=\"\",\"\",'2.Logbook'!AO415)","v":""},{"$f":"IF('2.Logbook'!AP415=\"\",\"\",'2.Logbook'!AP415)","v":""},{"$f":"IF('2.Logbook'!AQ415=\"\",\"\",'2.Logbook'!AQ415)","v":""},{"$f":"IF('2.Logbook'!AR415=\"\",\"\",'2.Logbook'!AR415)","v":""},{"$f":"IF('2.Logbook'!AS415=\"\",\"\",'2.Logbook'!AS415)","v":""},{"$f":"IF('2.Logbook'!AT415=\"\",\"\",'2.Logbook'!AT415)","v":""},{"$f":"IF('2.Logbook'!AU415=\"\",\"\",'2.Logbook'!AU415)","v":""},{"$f":"IF('2.Logbook'!AV415=\"\",\"\",'2.Logbook'!AV415)","v":""},{"$f":"IF('2.Logbook'!AW415=\"\",\"\",'2.Logbook'!AW415)","v":""},{"$f":"IF('2.Logbook'!AX415=\"\",\"\",'2.Logbook'!AX415)","v":""},{"$f":"IF('2.Logbook'!AY415=\"\",\"\",'2.Logbook'!AY415)","v":""}]
[{"$f":"IF('2.Logbook'!$A416=\"\",\"\",'2.Logbook'!$A416)","v":""},{"$f":"IF('2.Logbook'!$B416=\"\",\"\",'2.Logbook'!$B416)","v":""},{"$f":"IF('2.Logbook'!AH416=\"\",\"\",'2.Logbook'!AH416)","v":""},{"$f":"IF('2.Logbook'!AI416=\"\",\"\",'2.Logbook'!AI416)","v":""},{"$f":"IF('2.Logbook'!AJ416=\"\",\"\",'2.Logbook'!AJ416)","v":""},{"$f":"IF('2.Logbook'!AK416=\"\",\"\",'2.Logbook'!AK416)","v":""},{"$f":"IF('2.Logbook'!AL416=\"\",\"\",'2.Logbook'!AL416)","v":""},{"$f":"IF('2.Logbook'!AM416=\"\",\"\",'2.Logbook'!AM416)","v":""},{"$f":"IF('2.Logbook'!AN416=\"\",\"\",'2.Logbook'!AN416)","v":""},{"$f":"IF('2.Logbook'!AO416=\"\",\"\",'2.Logbook'!AO416)","v":""},{"$f":"IF('2.Logbook'!AP416=\"\",\"\",'2.Logbook'!AP416)","v":""},{"$f":"IF('2.Logbook'!AQ416=\"\",\"\",'2.Logbook'!AQ416)","v":""},{"$f":"IF('2.Logbook'!AR416=\"\",\"\",'2.Logbook'!AR416)","v":""},{"$f":"IF('2.Logbook'!AS416=\"\",\"\",'2.Logbook'!AS416)","v":""},{"$f":"IF('2.Logbook'!AT416=\"\",\"\",'2.Logbook'!AT416)","v":""},{"$f":"IF('2.Logbook'!AU416=\"\",\"\",'2.Logbook'!AU416)","v":""},{"$f":"IF('2.Logbook'!AV416=\"\",\"\",'2.Logbook'!AV416)","v":""},{"$f":"IF('2.Logbook'!AW416=\"\",\"\",'2.Logbook'!AW416)","v":""},{"$f":"IF('2.Logbook'!AX416=\"\",\"\",'2.Logbook'!AX416)","v":""},{"$f":"IF('2.Logbook'!AY416=\"\",\"\",'2.Logbook'!AY416)","v":""}]
[{"$f":"IF('2.Logbook'!$A417=\"\",\"\",'2.Logbook'!$A417)","v":""},{"$f":"IF('2.Logbook'!$B417=\"\",\"\",'2.Logbook'!$B417)","v":""},{"$f":"IF('2.Logbook'!AH417=\"\",\"\",'2.Logbook'!AH417)","v":""},{"$f":"IF('2.Logbook'!AI417=\"\",\"\",'2.Logbook'!AI417)","v":""},{"$f":"IF('2.Logbook'!AJ417=\"\",\"\",'2.Logbook'!AJ417)","v":""},{"$f":"IF('2.Logbook'!AK417=\"\",\"\",'2.Logbook'!AK417)","v":""},{"$f":"IF('2.Logbook'!AL417=\"\",\"\",'2.Logbook'!AL417)","v":""},{"$f":"IF('2.Logbook'!AM417=\"\",\"\",'2.Logbook'!AM417)","v":""},{"$f":"IF('2.Logbook'!AN417=\"\",\"\",'2.Logbook'!AN417)","v":""},{"$f":"IF('2.Logbook'!AO417=\"\",\"\",'2.Logbook'!AO417)","v":""},{"$f":"IF('2.Logbook'!AP417=\"\",\"\",'2.Logbook'!AP417)","v":""},{"$f":"IF('2.Logbook'!AQ417=\"\",\"\",'2.Logbook'!AQ417)","v":""},{"$f":"IF('2.Logbook'!AR417=\"\",\"\",'2.Logbook'!AR417)","v":""},{"$f":"IF('2.Logbook'!AS417=\"\",\"\",'2.Logbook'!AS417)","v":""},{"$f":"IF('2.Logbook'!AT417=\"\",\"\",'2.Logbook'!AT417)","v":""},{"$f":"IF('2.Logbook'!AU417=\"\",\"\",'2.Logbook'!AU417)","v":""},{"$f":"IF('2.Logbook'!AV417=\"\",\"\",'2.Logbook'!AV417)","v":""},{"$f":"IF('2.Logbook'!AW417=\"\",\"\",'2.Logbook'!AW417)","v":""},{"$f":"IF('2.Logbook'!AX417=\"\",\"\",'2.Logbook'!AX417)","v":""},{"$f":"IF('2.Logbook'!AY417=\"\",\"\",'2.Logbook'!AY417)","v":""}]
[{"$f":"IF('2.Logbook'!$A418=\"\",\"\",'2.Logbook'!$A418)","v":""},{"$f":"IF('2.Logbook'!$B418=\"\",\"\",'2.Logbook'!$B418)","v":""},{"$f":"IF('2.Logbook'!AH418=\"\",\"\",'2.Logbook'!AH418)","v":""},{"$f":"IF('2.Logbook'!AI418=\"\",\"\",'2.Logbook'!AI418)","v":""},{"$f":"IF('2.Logbook'!AJ418=\"\",\"\",'2.Logbook'!AJ418)","v":""},{"$f":"IF('2.Logbook'!AK418=\"\",\"\",'2.Logbook'!AK418)","v":""},{"$f":"IF('2.Logbook'!AL418=\"\",\"\",'2.Logbook'!AL418)","v":""},{"$f":"IF('2.Logbook'!AM418=\"\",\"\",'2.Logbook'!AM418)","v":""},{"$f":"IF('2.Logbook'!AN418=\"\",\"\",'2.Logbook'!AN418)","v":""},{"$f":"IF('2.Logbook'!AO418=\"\",\"\",'2.Logbook'!AO418)","v":""},{"$f":"IF('2.Logbook'!AP418=\"\",\"\",'2.Logbook'!AP418)","v":""},{"$f":"IF('2.Logbook'!AQ418=\"\",\"\",'2.Logbook'!AQ418)","v":""},{"$f":"IF('2.Logbook'!AR418=\"\",\"\",'2.Logbook'!AR418)","v":""},{"$f":"IF('2.Logbook'!AS418=\"\",\"\",'2.Logbook'!AS418)","v":""},{"$f":"IF('2.Logbook'!AT418=\"\",\"\",'2.Logbook'!AT418)","v":""},{"$f":"IF('2.Logbook'!AU418=\"\",\"\",'2.Logbook'!AU418)","v":""},{"$f":"IF('2.Logbook'!AV418=\"\",\"\",'2.Logbook'!AV418)","v":""},{"$f":"IF('2.Logbook'!AW418=\"\",\"\",'2.Logbook'!AW418)","v":""},{"$f":"IF('2.Logbook'!AX418=\"\",\"\",'2.Logbook'!AX418)","v":""},{"$f":"IF('2.Logbook'!AY418=\"\",\"\",'2.Logbook'!AY418)","v":""}]
[{"$f":"IF('2.Logbook'!$A419=\"\",\"\",'2.Logbook'!$A419)","v":""},{"$f":"IF('2.Logbook'!$B419=\"\",\"\",'2.Logbook'!$B419)","v":""},{"$f":"IF('2.Logbook'!AH419=\"\",\"\",'2.Logbook'!AH419)","v":""},{"$f":"IF('2.Logbook'!AI419=\"\",\"\",'2.Logbook'!AI419)","v":""},{"$f":"IF('2.Logbook'!AJ419=\"\",\"\",'2.Logbook'!AJ419)","v":""},{"$f":"IF('2.Logbook'!AK419=\"\",\"\",'2.Logbook'!AK419)","v":""},{"$f":"IF('2.Logbook'!AL419=\"\",\"\",'2.Logbook'!AL419)","v":""},{"$f":"IF('2.Logbook'!AM419=\"\",\"\",'2.Logbook'!AM419)","v":""},{"$f":"IF('2.Logbook'!AN419=\"\",\"\",'2.Logbook'!AN419)","v":""},{"$f":"IF('2.Logbook'!AO419=\"\",\"\",'2.Logbook'!AO419)","v":""},{"$f":"IF('2.Logbook'!AP419=\"\",\"\",'2.Logbook'!AP419)","v":""},{"$f":"IF('2.Logbook'!AQ419=\"\",\"\",'2.Logbook'!AQ419)","v":""},{"$f":"IF('2.Logbook'!AR419=\"\",\"\",'2.Logbook'!AR419)","v":""},{"$f":"IF('2.Logbook'!AS419=\"\",\"\",'2.Logbook'!AS419)","v":""},{"$f":"IF('2.Logbook'!AT419=\"\",\"\",'2.Logbook'!AT419)","v":""},{"$f":"IF('2.Logbook'!AU419=\"\",\"\",'2.Logbook'!AU419)","v":""},{"$f":"IF('2.Logbook'!AV419=\"\",\"\",'2.Logbook'!AV419)","v":""},{"$f":"IF('2.Logbook'!AW419=\"\",\"\",'2.Logbook'!AW419)","v":""},{"$f":"IF('2.Logbook'!AX419=\"\",\"\",'2.Logbook'!AX419)","v":""},{"$f":"IF('2.Logbook'!AY419=\"\",\"\",'2.Logbook'!AY419)","v":""}]
[{"$f":"IF('2.Logbook'!$A420=\"\",\"\",'2.Logbook'!$A420)","v":""},{"$f":"IF('2.Logbook'!$B420=\"\",\"\",'2.Logbook'!$B420)","v":""},{"$f":"IF('2.Logbook'!AH420=\"\",\"\",'2.Logbook'!AH420)","v":""},{"$f":"IF('2.Logbook'!AI420=\"\",\"\",'2.Logbook'!AI420)","v":""},{"$f":"IF('2.Logbook'!AJ420=\"\",\"\",'2.Logbook'!AJ420)","v":""},{"$f":"IF('2.Logbook'!AK420=\"\",\"\",'2.Logbook'!AK420)","v":""},{"$f":"IF('2.Logbook'!AL420=\"\",\"\",'2.Logbook'!AL420)","v":""},{"$f":"IF('2.Logbook'!AM420=\"\",\"\",'2.Logbook'!AM420)","v":""},{"$f":"IF('2.Logbook'!AN420=\"\",\"\",'2.Logbook'!AN420)","v":""},{"$f":"IF('2.Logbook'!AO420=\"\",\"\",'2.Logbook'!AO420)","v":""},{"$f":"IF('2.Logbook'!AP420=\"\",\"\",'2.Logbook'!AP420)","v":""},{"$f":"IF('2.Logbook'!AQ420=\"\",\"\",'2.Logbook'!AQ420)","v":""},{"$f":"IF('2.Logbook'!AR420=\"\",\"\",'2.Logbook'!AR420)","v":""},{"$f":"IF('2.Logbook'!AS420=\"\",\"\",'2.Logbook'!AS420)","v":""},{"$f":"IF('2.Logbook'!AT420=\"\",\"\",'2.Logbook'!AT420)","v":""},{"$f":"IF('2.Logbook'!AU420=\"\",\"\",'2.Logbook'!AU420)","v":""},{"$f":"IF('2.Logbook'!AV420=\"\",\"\",'2.Logbook'!AV420)","v":""},{"$f":"IF('2.Logbook'!AW420=\"\",\"\",'2.Logbook'!AW420)","v":""},{"$f":"IF('2.Logbook'!AX420=\"\",\"\",'2.Logbook'!AX420)","v":""},{"$f":"IF('2.Logbook'!AY420=\"\",\"\",'2.Logbook'!AY420)","v":""}]
[{"$f":"IF('2.Logbook'!$A421=\"\",\"\",'2.Logbook'!$A421)","v":""},{"$f":"IF('2.Logbook'!$B421=\"\",\"\",'2.Logbook'!$B421)","v":""},{"$f":"IF('2.Logbook'!AH421=\"\",\"\",'2.Logbook'!AH421)","v":""},{"$f":"IF('2.Logbook'!AI421=\"\",\"\",'2.Logbook'!AI421)","v":""},{"$f":"IF('2.Logbook'!AJ421=\"\",\"\",'2.Logbook'!AJ421)","v":""},{"$f":"IF('2.Logbook'!AK421=\"\",\"\",'2.Logbook'!AK421)","v":""},{"$f":"IF('2.Logbook'!AL421=\"\",\"\",'2.Logbook'!AL421)","v":""},{"$f":"IF('2.Logbook'!AM421=\"\",\"\",'2.Logbook'!AM421)","v":""},{"$f":"IF('2.Logbook'!AN421=\"\",\"\",'2.Logbook'!AN421)","v":""},{"$f":"IF('2.Logbook'!AO421=\"\",\"\",'2.Logbook'!AO421)","v":""},{"$f":"IF('2.Logbook'!AP421=\"\",\"\",'2.Logbook'!AP421)","v":""},{"$f":"IF('2.Logbook'!AQ421=\"\",\"\",'2.Logbook'!AQ421)","v":""},{"$f":"IF('2.Logbook'!AR421=\"\",\"\",'2.Logbook'!AR421)","v":""},{"$f":"IF('2.Logbook'!AS421=\"\",\"\",'2.Logbook'!AS421)","v":""},{"$f":"IF('2.Logbook'!AT421=\"\",\"\",'2.Logbook'!AT421)","v":""},{"$f":"IF('2.Logbook'!AU421=\"\",\"\",'2.Logbook'!AU421)","v":""},{"$f":"IF('2.Logbook'!AV421=\"\",\"\",'2.Logbook'!AV421)","v":""},{"$f":"IF('2.Logbook'!AW421=\"\",\"\",'2.Logbook'!AW421)","v":""},{"$f":"IF('2.Logbook'!AX421=\"\",\"\",'2.Logbook'!AX421)","v":""},{"$f":"IF('2.Logbook'!AY421=\"\",\"\",'2.Logbook'!AY421)","v":""}]
[{"$f":"IF('2.Logbook'!$A422=\"\",\"\",'2.Logbook'!$A422)","v":""},{"$f":"IF('2.Logbook'!$B422=\"\",\"\",'2.Logbook'!$B422)","v":""},{"$f":"IF('2.Logbook'!AH422=\"\",\"\",'2.Logbook'!AH422)","v":""},{"$f":"IF('2.Logbook'!AI422=\"\",\"\",'2.Logbook'!AI422)","v":""},{"$f":"IF('2.Logbook'!AJ422=\"\",\"\",'2.Logbook'!AJ422)","v":""},{"$f":"IF('2.Logbook'!AK422=\"\",\"\",'2.Logbook'!AK422)","v":""},{"$f":"IF('2.Logbook'!AL422=\"\",\"\",'2.Logbook'!AL422)","v":""},{"$f":"IF('2.Logbook'!AM422=\"\",\"\",'2.Logbook'!AM422)","v":""},{"$f":"IF('2.Logbook'!AN422=\"\",\"\",'2.Logbook'!AN422)","v":""},{"$f":"IF('2.Logbook'!AO422=\"\",\"\",'2.Logbook'!AO422)","v":""},{"$f":"IF('2.Logbook'!AP422=\"\",\"\",'2.Logbook'!AP422)","v":""},{"$f":"IF('2.Logbook'!AQ422=\"\",\"\",'2.Logbook'!AQ422)","v":""},{"$f":"IF('2.Logbook'!AR422=\"\",\"\",'2.Logbook'!AR422)","v":""},{"$f":"IF('2.Logbook'!AS422=\"\",\"\",'2.Logbook'!AS422)","v":""},{"$f":"IF('2.Logbook'!AT422=\"\",\"\",'2.Logbook'!AT422)","v":""},{"$f":"IF('2.Logbook'!AU422=\"\",\"\",'2.Logbook'!AU422)","v":""},{"$f":"IF('2.Logbook'!AV422=\"\",\"\",'2.Logbook'!AV422)","v":""},{"$f":"IF('2.Logbook'!AW422=\"\",\"\",'2.Logbook'!AW422)","v":""},{"$f":"IF('2.Logbook'!AX422=\"\",\"\",'2.Logbook'!AX422)","v":""},{"$f":"IF('2.Logbook'!AY422=\"\",\"\",'2.Logbook'!AY422)","v":""}]
[{"$f":"IF('2.Logbook'!$A423=\"\",\"\",'2.Logbook'!$A423)","v":""},{"$f":"IF('2.Logbook'!$B423=\"\",\"\",'2.Logbook'!$B423)","v":""},{"$f":"IF('2.Logbook'!AH423=\"\",\"\",'2.Logbook'!AH423)","v":""},{"$f":"IF('2.Logbook'!AI423=\"\",\"\",'2.Logbook'!AI423)","v":""},{"$f":"IF('2.Logbook'!AJ423=\"\",\"\",'2.Logbook'!AJ423)","v":""},{"$f":"IF('2.Logbook'!AK423=\"\",\"\",'2.Logbook'!AK423)","v":""},{"$f":"IF('2.Logbook'!AL423=\"\",\"\",'2.Logbook'!AL423)","v":""},{"$f":"IF('2.Logbook'!AM423=\"\",\"\",'2.Logbook'!AM423)","v":""},{"$f":"IF('2.Logbook'!AN423=\"\",\"\",'2.Logbook'!AN423)","v":""},{"$f":"IF('2.Logbook'!AO423=\"\",\"\",'2.Logbook'!AO423)","v":""},{"$f":"IF('2.Logbook'!AP423=\"\",\"\",'2.Logbook'!AP423)","v":""},{"$f":"IF('2.Logbook'!AQ423=\"\",\"\",'2.Logbook'!AQ423)","v":""},{"$f":"IF('2.Logbook'!AR423=\"\",\"\",'2.Logbook'!AR423)","v":""},{"$f":"IF('2.Logbook'!AS423=\"\",\"\",'2.Logbook'!AS423)","v":""},{"$f":"IF('2.Logbook'!AT423=\"\",\"\",'2.Logbook'!AT423)","v":""},{"$f":"IF('2.Logbook'!AU423=\"\",\"\",'2.Logbook'!AU423)","v":""},{"$f":"IF('2.Logbook'!AV423=\"\",\"\",'2.Logbook'!AV423)","v":""},{"$f":"IF('2.Logbook'!AW423=\"\",\"\",'2.Logbook'!AW423)","v":""},{"$f":"IF('2.Logbook'!AX423=\"\",\"\",'2.Logbook'!AX423)","v":""},{"$f":"IF('2.Logbook'!AY423=\"\",\"\",'2.Logbook'!AY423)","v":""}]
[{"$f":"IF('2.Logbook'!$A424=\"\",\"\",'2.Logbook'!$A424)","v":""},{"$f":"IF('2.Logbook'!$B424=\"\",\"\",'2.Logbook'!$B424)","v":""},{"$f":"IF('2.Logbook'!AH424=\"\",\"\",'2.Logbook'!AH424)","v":""},{"$f":"IF('2.Logbook'!AI424=\"\",\"\",'2.Logbook'!AI424)","v":""},{"$f":"IF('2.Logbook'!AJ424=\"\",\"\",'2.Logbook'!AJ424)","v":""},{"$f":"IF('2.Logbook'!AK424=\"\",\"\",'2.Logbook'!AK424)","v":""},{"$f":"IF('2.Logbook'!AL424=\"\",\"\",'2.Logbook'!AL424)","v":""},{"$f":"IF('2.Logbook'!AM424=\"\",\"\",'2.Logbook'!AM424)","v":""},{"$f":"IF('2.Logbook'!AN424=\"\",\"\",'2.Logbook'!AN424)","v":""},{"$f":"IF('2.Logbook'!AO424=\"\",\"\",'2.Logbook'!AO424)","v":""},{"$f":"IF('2.Logbook'!AP424=\"\",\"\",'2.Logbook'!AP424)","v":""},{"$f":"IF('2.Logbook'!AQ424=\"\",\"\",'2.Logbook'!AQ424)","v":""},{"$f":"IF('2.Logbook'!AR424=\"\",\"\",'2.Logbook'!AR424)","v":""},{"$f":"IF('2.Logbook'!AS424=\"\",\"\",'2.Logbook'!AS424)","v":""},{"$f":"IF('2.Logbook'!AT424=\"\",\"\",'2.Logbook'!AT424)","v":""},{"$f":"IF('2.Logbook'!AU424=\"\",\"\",'2.Logbook'!AU424)","v":""},{"$f":"IF('2.Logbook'!AV424=\"\",\"\",'2.Logbook'!AV424)","v":""},{"$f":"IF('2.Logbook'!AW424=\"\",\"\",'2.Logbook'!AW424)","v":""},{"$f":"IF('2.Logbook'!AX424=\"\",\"\",'2.Logbook'!AX424)","v":""},{"$f":"IF('2.Logbook'!AY424=\"\",\"\",'2.Logbook'!AY424)","v":""}]
[{"$f":"IF('2.Logbook'!$A425=\"\",\"\",'2.Logbook'!$A425)","v":""},{"$f":"IF('2.Logbook'!$B425=\"\",\"\",'2.Logbook'!$B425)","v":""},{"$f":"IF('2.Logbook'!AH425=\"\",\"\",'2.Logbook'!AH425)","v":""},{"$f":"IF('2.Logbook'!AI425=\"\",\"\",'2.Logbook'!AI425)","v":""},{"$f":"IF('2.Logbook'!AJ425=\"\",\"\",'2.Logbook'!AJ425)","v":""},{"$f":"IF('2.Logbook'!AK425=\"\",\"\",'2.Logbook'!AK425)","v":""},{"$f":"IF('2.Logbook'!AL425=\"\",\"\",'2.Logbook'!AL425)","v":""},{"$f":"IF('2.Logbook'!AM425=\"\",\"\",'2.Logbook'!AM425)","v":""},{"$f":"IF('2.Logbook'!AN425=\"\",\"\",'2.Logbook'!AN425)","v":""},{"$f":"IF('2.Logbook'!AO425=\"\",\"\",'2.Logbook'!AO425)","v":""},{"$f":"IF('2.Logbook'!AP425=\"\",\"\",'2.Logbook'!AP425)","v":""},{"$f":"IF('2.Logbook'!AQ425=\"\",\"\",'2.Logbook'!AQ425)","v":""},{"$f":"IF('2.Logbook'!AR425=\"\",\"\",'2.Logbook'!AR425)","v":""},{"$f":"IF('2.Logbook'!AS425=\"\",\"\",'2.Logbook'!AS425)","v":""},{"$f":"IF('2.Logbook'!AT425=\"\",\"\",'2.Logbook'!AT425)","v":""},{"$f":"IF('2.Logbook'!AU425=\"\",\"\",'2.Logbook'!AU425)","v":""},{"$f":"IF('2.Logbook'!AV425=\"\",\"\",'2.Logbook'!AV425)","v":""},{"$f":"IF('2.Logbook'!AW425=\"\",\"\",'2.Logbook'!AW425)","v":""},{"$f":"IF('2.Logbook'!AX425=\"\",\"\",'2.Logbook'!AX425)","v":""},{"$f":"IF('2.Logbook'!AY425=\"\",\"\",'2.Logbook'!AY425)","v":""}]
[{"$f":"IF('2.Logbook'!$A426=\"\",\"\",'2.Logbook'!$A426)","v":""},{"$f":"IF('2.Logbook'!$B426=\"\",\"\",'2.Logbook'!$B426)","v":""},{"$f":"IF('2.Logbook'!AH426=\"\",\"\",'2.Logbook'!AH426)","v":""},{"$f":"IF('2.Logbook'!AI426=\"\",\"\",'2.Logbook'!AI426)","v":""},{"$f":"IF('2.Logbook'!AJ426=\"\",\"\",'2.Logbook'!AJ426)","v":""},{"$f":"IF('2.Logbook'!AK426=\"\",\"\",'2.Logbook'!AK426)","v":""},{"$f":"IF('2.Logbook'!AL426=\"\",\"\",'2.Logbook'!AL426)","v":""},{"$f":"IF('2.Logbook'!AM426=\"\",\"\",'2.Logbook'!AM426)","v":""},{"$f":"IF('2.Logbook'!AN426=\"\",\"\",'2.Logbook'!AN426)","v":""},{"$f":"IF('2.Logbook'!AO426=\"\",\"\",'2.Logbook'!AO426)","v":""},{"$f":"IF('2.Logbook'!AP426=\"\",\"\",'2.Logbook'!AP426)","v":""},{"$f":"IF('2.Logbook'!AQ426=\"\",\"\",'2.Logbook'!AQ426)","v":""},{"$f":"IF('2.Logbook'!AR426=\"\",\"\",'2.Logbook'!AR426)","v":""},{"$f":"IF('2.Logbook'!AS426=\"\",\"\",'2.Logbook'!AS426)","v":""},{"$f":"IF('2.Logbook'!AT426=\"\",\"\",'2.Logbook'!AT426)","v":""},{"$f":"IF('2.Logbook'!AU426=\"\",\"\",'2.Logbook'!AU426)","v":""},{"$f":"IF('2.Logbook'!AV426=\"\",\"\",'2.Logbook'!AV426)","v":""},{"$f":"IF('2.Logbook'!AW426=\"\",\"\",'2.Logbook'!AW426)","v":""},{"$f":"IF('2.Logbook'!AX426=\"\",\"\",'2.Logbook'!AX426)","v":""},{"$f":"IF('2.Logbook'!AY426=\"\",\"\",'2.Logbook'!AY426)","v":""}]
[{"$f":"IF('2.Logbook'!$A427=\"\",\"\",'2.Logbook'!$A427)","v":""},{"$f":"IF('2.Logbook'!$B427=\"\",\"\",'2.Logbook'!$B427)","v":""},{"$f":"IF('2.Logbook'!AH427=\"\",\"\",'2.Logbook'!AH427)","v":""},{"$f":"IF('2.Logbook'!AI427=\"\",\"\",'2.Logbook'!AI427)","v":""},{"$f":"IF('2.Logbook'!AJ427=\"\",\"\",'2.Logbook'!AJ427)","v":""},{"$f":"IF('2.Logbook'!AK427=\"\",\"\",'2.Logbook'!AK427)","v":""},{"$f":"IF('2.Logbook'!AL427=\"\",\"\",'2.Logbook'!AL427)","v":""},{"$f":"IF('2.Logbook'!AM427=\"\",\"\",'2.Logbook'!AM427)","v":""},{"$f":"IF('2.Logbook'!AN427=\"\",\"\",'2.Logbook'!AN427)","v":""},{"$f":"IF('2.Logbook'!AO427=\"\",\"\",'2.Logbook'!AO427)","v":""},{"$f":"IF('2.Logbook'!AP427=\"\",\"\",'2.Logbook'!AP427)","v":""},{"$f":"IF('2.Logbook'!AQ427=\"\",\"\",'2.Logbook'!AQ427)","v":""},{"$f":"IF('2.Logbook'!AR427=\"\",\"\",'2.Logbook'!AR427)","v":""},{"$f":"IF('2.Logbook'!AS427=\"\",\"\",'2.Logbook'!AS427)","v":""},{"$f":"IF('2.Logbook'!AT427=\"\",\"\",'2.Logbook'!AT427)","v":""},{"$f":"IF('2.Logbook'!AU427=\"\",\"\",'2.Logbook'!AU427)","v":""},{"$f":"IF('2.Logbook'!AV427=\"\",\"\",'2.Logbook'!AV427)","v":""},{"$f":"IF('2.Logbook'!AW427=\"\",\"\",'2.Logbook'!AW427)","v":""},{"$f":"IF('2.Logbook'!AX427=\"\",\"\",'2.Logbook'!AX427)","v":""},{"$f":"IF('2.Logbook'!AY427=\"\",\"\",'2.Logbook'!AY427)","v":""}]
[{"$f":"IF('2.Logbook'!$A428=\"\",\"\",'2.Logbook'!$A428)","v":""},{"$f":"IF('2.Logbook'!$B428=\"\",\"\",'2.Logbook'!$B428)","v":""},{"$f":"IF('2.Logbook'!AH428=\"\",\"\",'2.Logbook'!AH428)","v":""},{"$f":"IF('2.Logbook'!AI428=\"\",\"\",'2.Logbook'!AI428)","v":""},{"$f":"IF('2.Logbook'!AJ428=\"\",\"\",'2.Logbook'!AJ428)","v":""},{"$f":"IF('2.Logbook'!AK428=\"\",\"\",'2.Logbook'!AK428)","v":""},{"$f":"IF('2.Logbook'!AL428=\"\",\"\",'2.Logbook'!AL428)","v":""},{"$f":"IF('2.Logbook'!AM428=\"\",\"\",'2.Logbook'!AM428)","v":""},{"$f":"IF('2.Logbook'!AN428=\"\",\"\",'2.Logbook'!AN428)","v":""},{"$f":"IF('2.Logbook'!AO428=\"\",\"\",'2.Logbook'!AO428)","v":""},{"$f":"IF('2.Logbook'!AP428=\"\",\"\",'2.Logbook'!AP428)","v":""},{"$f":"IF('2.Logbook'!AQ428=\"\",\"\",'2.Logbook'!AQ428)","v":""},{"$f":"IF('2.Logbook'!AR428=\"\",\"\",'2.Logbook'!AR428)","v":""},{"$f":"IF('2.Logbook'!AS428=\"\",\"\",'2.Logbook'!AS428)","v":""},{"$f":"IF('2.Logbook'!AT428=\"\",\"\",'2.Logbook'!AT428)","v":""},{"$f":"IF('2.Logbook'!AU428=\"\",\"\",'2.Logbook'!AU428)","v":""},{"$f":"IF('2.Logbook'!AV428=\"\",\"\",'2.Logbook'!AV428)","v":""},{"$f":"IF('2.Logbook'!AW428=\"\",\"\",'2.Logbook'!AW428)","v":""},{"$f":"IF('2.Logbook'!AX428=\"\",\"\",'2.Logbook'!AX428)","v":""},{"$f":"IF('2.Logbook'!AY428=\"\",\"\",'2.Logbook'!AY428)","v":""}]
[{"$f":"IF('2.Logbook'!$A429=\"\",\"\",'2.Logbook'!$A429)","v":""},{"$f":"IF('2.Logbook'!$B429=\"\",\"\",'2.Logbook'!$B429)","v":""},{"$f":"IF('2.Logbook'!AH429=\"\",\"\",'2.Logbook'!AH429)","v":""},{"$f":"IF('2.Logbook'!AI429=\"\",\"\",'2.Logbook'!AI429)","v":""},{"$f":"IF('2.Logbook'!AJ429=\"\",\"\",'2.Logbook'!AJ429)","v":""},{"$f":"IF('2.Logbook'!AK429=\"\",\"\",'2.Logbook'!AK429)","v":""},{"$f":"IF('2.Logbook'!AL429=\"\",\"\",'2.Logbook'!AL429)","v":""},{"$f":"IF('2.Logbook'!AM429=\"\",\"\",'2.Logbook'!AM429)","v":""},{"$f":"IF('2.Logbook'!AN429=\"\",\"\",'2.Logbook'!AN429)","v":""},{"$f":"IF('2.Logbook'!AO429=\"\",\"\",'2.Logbook'!AO429)","v":""},{"$f":"IF('2.Logbook'!AP429=\"\",\"\",'2.Logbook'!AP429)","v":""},{"$f":"IF('2.Logbook'!AQ429=\"\",\"\",'2.Logbook'!AQ429)","v":""},{"$f":"IF('2.Logbook'!AR429=\"\",\"\",'2.Logbook'!AR429)","v":""},{"$f":"IF('2.Logbook'!AS429=\"\",\"\",'2.Logbook'!AS429)","v":""},{"$f":"IF('2.Logbook'!AT429=\"\",\"\",'2.Logbook'!AT429)","v":""},{"$f":"IF('2.Logbook'!AU429=\"\",\"\",'2.Logbook'!AU429)","v":""},{"$f":"IF('2.Logbook'!AV429=\"\",\"\",'2.Logbook'!AV429)","v":""},{"$f":"IF('2.Logbook'!AW429=\"\",\"\",'2.Logbook'!AW429)","v":""},{"$f":"IF('2.Logbook'!AX429=\"\",\"\",'2.Logbook'!AX429)","v":""},{"$f":"IF('2.Logbook'!AY429=\"\",\"\",'2.Logbook'!AY429)","v":""}]
[{"$f":"IF('2.Logbook'!$A430=\"\",\"\",'2.Logbook'!$A430)","v":""},{"$f":"IF('2.Logbook'!$B430=\"\",\"\",'2.Logbook'!$B430)","v":""},{"$f":"IF('2.Logbook'!AH430=\"\",\"\",'2.Logbook'!AH430)","v":""},{"$f":"IF('2.Logbook'!AI430=\"\",\"\",'2.Logbook'!AI430)","v":""},{"$f":"IF('2.Logbook'!AJ430=\"\",\"\",'2.Logbook'!AJ430)","v":""},{"$f":"IF('2.Logbook'!AK430=\"\",\"\",'2.Logbook'!AK430)","v":""},{"$f":"IF('2.Logbook'!AL430=\"\",\"\",'2.Logbook'!AL430)","v":""},{"$f":"IF('2.Logbook'!AM430=\"\",\"\",'2.Logbook'!AM430)","v":""},{"$f":"IF('2.Logbook'!AN430=\"\",\"\",'2.Logbook'!AN430)","v":""},{"$f":"IF('2.Logbook'!AO430=\"\",\"\",'2.Logbook'!AO430)","v":""},{"$f":"IF('2.Logbook'!AP430=\"\",\"\",'2.Logbook'!AP430)","v":""},{"$f":"IF('2.Logbook'!AQ430=\"\",\"\",'2.Logbook'!AQ430)","v":""},{"$f":"IF('2.Logbook'!AR430=\"\",\"\",'2.Logbook'!AR430)","v":""},{"$f":"IF('2.Logbook'!AS430=\"\",\"\",'2.Logbook'!AS430)","v":""},{"$f":"IF('2.Logbook'!AT430=\"\",\"\",'2.Logbook'!AT430)","v":""},{"$f":"IF('2.Logbook'!AU430=\"\",\"\",'2.Logbook'!AU430)","v":""},{"$f":"IF('2.Logbook'!AV430=\"\",\"\",'2.Logbook'!AV430)","v":""},{"$f":"IF('2.Logbook'!AW430=\"\",\"\",'2.Logbook'!AW430)","v":""},{"$f":"IF('2.Logbook'!AX430=\"\",\"\",'2.Logbook'!AX430)","v":""},{"$f":"IF('2.Logbook'!AY430=\"\",\"\",'2.Logbook'!AY430)","v":""}]
[{"$f":"IF('2.Logbook'!$A431=\"\",\"\",'2.Logbook'!$A431)","v":""},{"$f":"IF('2.Logbook'!$B431=\"\",\"\",'2.Logbook'!$B431)","v":""},{"$f":"IF('2.Logbook'!AH431=\"\",\"\",'2.Logbook'!AH431)","v":""},{"$f":"IF('2.Logbook'!AI431=\"\",\"\",'2.Logbook'!AI431)","v":""},{"$f":"IF('2.Logbook'!AJ431=\"\",\"\",'2.Logbook'!AJ431)","v":""},{"$f":"IF('2.Logbook'!AK431=\"\",\"\",'2.Logbook'!AK431)","v":""},{"$f":"IF('2.Logbook'!AL431=\"\",\"\",'2.Logbook'!AL431)","v":""},{"$f":"IF('2.Logbook'!AM431=\"\",\"\",'2.Logbook'!AM431)","v":""},{"$f":"IF('2.Logbook'!AN431=\"\",\"\",'2.Logbook'!AN431)","v":""},{"$f":"IF('2.Logbook'!AO431=\"\",\"\",'2.Logbook'!AO431)","v":""},{"$f":"IF('2.Logbook'!AP431=\"\",\"\",'2.Logbook'!AP431)","v":""},{"$f":"IF('2.Logbook'!AQ431=\"\",\"\",'2.Logbook'!AQ431)","v":""},{"$f":"IF('2.Logbook'!AR431=\"\",\"\",'2.Logbook'!AR431)","v":""},{"$f":"IF('2.Logbook'!AS431=\"\",\"\",'2.Logbook'!AS431)","v":""},{"$f":"IF('2.Logbook'!AT431=\"\",\"\",'2.Logbook'!AT431)","v":""},{"$f":"IF('2.Logbook'!AU431=\"\",\"\",'2.Logbook'!AU431)","v":""},{"$f":"IF('2.Logbook'!AV431=\"\",\"\",'2.Logbook'!AV431)","v":""},{"$f":"IF('2.Logbook'!AW431=\"\",\"\",'2.Logbook'!AW431)","v":""},{"$f":"IF('2.Logbook'!AX431=\"\",\"\",'2.Logbook'!AX431)","v":""},{"$f":"IF('2.Logbook'!AY431=\"\",\"\",'2.Logbook'!AY431)","v":""}]
[{"$f":"IF('2.Logbook'!$A432=\"\",\"\",'2.Logbook'!$A432)","v":""},{"$f":"IF('2.Logbook'!$B432=\"\",\"\",'2.Logbook'!$B432)","v":""},{"$f":"IF('2.Logbook'!AH432=\"\",\"\",'2.Logbook'!AH432)","v":""},{"$f":"IF('2.Logbook'!AI432=\"\",\"\",'2.Logbook'!AI432)","v":""},{"$f":"IF('2.Logbook'!AJ432=\"\",\"\",'2.Logbook'!AJ432)","v":""},{"$f":"IF('2.Logbook'!AK432=\"\",\"\",'2.Logbook'!AK432)","v":""},{"$f":"IF('2.Logbook'!AL432=\"\",\"\",'2.Logbook'!AL432)","v":""},{"$f":"IF('2.Logbook'!AM432=\"\",\"\",'2.Logbook'!AM432)","v":""},{"$f":"IF('2.Logbook'!AN432=\"\",\"\",'2.Logbook'!AN432)","v":""},{"$f":"IF('2.Logbook'!AO432=\"\",\"\",'2.Logbook'!AO432)","v":""},{"$f":"IF('2.Logbook'!AP432=\"\",\"\",'2.Logbook'!AP432)","v":""},{"$f":"IF('2.Logbook'!AQ432=\"\",\"\",'2.Logbook'!AQ432)","v":""},{"$f":"IF('2.Logbook'!AR432=\"\",\"\",'2.Logbook'!AR432)","v":""},{"$f":"IF('2.Logbook'!AS432=\"\",\"\",'2.Logbook'!AS432)","v":""},{"$f":"IF('2.Logbook'!AT432=\"\",\"\",'2.Logbook'!AT432)","v":""},{"$f":"IF('2.Logbook'!AU432=\"\",\"\",'2.Logbook'!AU432)","v":""},{"$f":"IF('2.Logbook'!AV432=\"\",\"\",'2.Logbook'!AV432)","v":""},{"$f":"IF('2.Logbook'!AW432=\"\",\"\",'2.Logbook'!AW432)","v":""},{"$f":"IF('2.Logbook'!AX432=\"\",\"\",'2.Logbook'!AX432)","v":""},{"$f":"IF('2.Logbook'!AY432=\"\",\"\",'2.Logbook'!AY432)","v":""}]
[{"$f":"IF('2.Logbook'!$A433=\"\",\"\",'2.Logbook'!$A433)","v":""},{"$f":"IF('2.Logbook'!$B433=\"\",\"\",'2.Logbook'!$B433)","v":""},{"$f":"IF('2.Logbook'!AH433=\"\",\"\",'2.Logbook'!AH433)","v":""},{"$f":"IF('2.Logbook'!AI433=\"\",\"\",'2.Logbook'!AI433)","v":""},{"$f":"IF('2.Logbook'!AJ433=\"\",\"\",'2.Logbook'!AJ433)","v":""},{"$f":"IF('2.Logbook'!AK433=\"\",\"\",'2.Logbook'!AK433)","v":""},{"$f":"IF('2.Logbook'!AL433=\"\",\"\",'2.Logbook'!AL433)","v":""},{"$f":"IF('2.Logbook'!AM433=\"\",\"\",'2.Logbook'!AM433)","v":""},{"$f":"IF('2.Logbook'!AN433=\"\",\"\",'2.Logbook'!AN433)","v":""},{"$f":"IF('2.Logbook'!AO433=\"\",\"\",'2.Logbook'!AO433)","v":""},{"$f":"IF('2.Logbook'!AP433=\"\",\"\",'2.Logbook'!AP433)","v":""},{"$f":"IF('2.Logbook'!AQ433=\"\",\"\",'2.Logbook'!AQ433)","v":""},{"$f":"IF('2.Logbook'!AR433=\"\",\"\",'2.Logbook'!AR433)","v":""},{"$f":"IF('2.Logbook'!AS433=\"\",\"\",'2.Logbook'!AS433)","v":""},{"$f":"IF('2.Logbook'!AT433=\"\",\"\",'2.Logbook'!AT433)","v":""},{"$f":"IF('2.Logbook'!AU433=\"\",\"\",'2.Logbook'!AU433)","v":""},{"$f":"IF('2.Logbook'!AV433=\"\",\"\",'2.Logbook'!AV433)","v":""},{"$f":"IF('2.Logbook'!AW433=\"\",\"\",'2.Logbook'!AW433)","v":""},{"$f":"IF('2.Logbook'!AX433=\"\",\"\",'2.Logbook'!AX433)","v":""},{"$f":"IF('2.Logbook'!AY433=\"\",\"\",'2.Logbook'!AY433)","v":""}]
[{"$f":"IF('2.Logbook'!$A434=\"\",\"\",'2.Logbook'!$A434)","v":""},{"$f":"IF('2.Logbook'!$B434=\"\",\"\",'2.Logbook'!$B434)","v":""},{"$f":"IF('2.Logbook'!AH434=\"\",\"\",'2.Logbook'!AH434)","v":""},{"$f":"IF('2.Logbook'!AI434=\"\",\"\",'2.Logbook'!AI434)","v":""},{"$f":"IF('2.Logbook'!AJ434=\"\",\"\",'2.Logbook'!AJ434)","v":""},{"$f":"IF('2.Logbook'!AK434=\"\",\"\",'2.Logbook'!AK434)","v":""},{"$f":"IF('2.Logbook'!AL434=\"\",\"\",'2.Logbook'!AL434)","v":""},{"$f":"IF('2.Logbook'!AM434=\"\",\"\",'2.Logbook'!AM434)","v":""},{"$f":"IF('2.Logbook'!AN434=\"\",\"\",'2.Logbook'!AN434)","v":""},{"$f":"IF('2.Logbook'!AO434=\"\",\"\",'2.Logbook'!AO434)","v":""},{"$f":"IF('2.Logbook'!AP434=\"\",\"\",'2.Logbook'!AP434)","v":""},{"$f":"IF('2.Logbook'!AQ434=\"\",\"\",'2.Logbook'!AQ434)","v":""},{"$f":"IF('2.Logbook'!AR434=\"\",\"\",'2.Logbook'!AR434)","v":""},{"$f":"IF('2.Logbook'!AS434=\"\",\"\",'2.Logbook'!AS434)","v":""},{"$f":"IF('2.Logbook'!AT434=\"\",\"\",'2.Logbook'!AT434)","v":""},{"$f":"IF('2.Logbook'!AU434=\"\",\"\",'2.Logbook'!AU434)","v":""},{"$f":"IF('2.Logbook'!AV434=\"\",\"\",'2.Logbook'!AV434)","v":""},{"$f":"IF('2.Logbook'!AW434=\"\",\"\",'2.Logbook'!AW434)","v":""},{"$f":"IF('2.Logbook'!AX434=\"\",\"\",'2.Logbook'!AX434)","v":""},{"$f":"IF('2.Logbook'!AY434=\"\",\"\",'2.Logbook'!AY434)","v":""}]
[{"$f":"IF('2.Logbook'!$A435=\"\",\"\",'2.Logbook'!$A435)","v":""},{"$f":"IF('2.Logbook'!$B435=\"\",\"\",'2.Logbook'!$B435)","v":""},{"$f":"IF('2.Logbook'!AH435=\"\",\"\",'2.Logbook'!AH435)","v":""},{"$f":"IF('2.Logbook'!AI435=\"\",\"\",'2.Logbook'!AI435)","v":""},{"$f":"IF('2.Logbook'!AJ435=\"\",\"\",'2.Logbook'!AJ435)","v":""},{"$f":"IF('2.Logbook'!AK435=\"\",\"\",'2.Logbook'!AK435)","v":""},{"$f":"IF('2.Logbook'!AL435=\"\",\"\",'2.Logbook'!AL435)","v":""},{"$f":"IF('2.Logbook'!AM435=\"\",\"\",'2.Logbook'!AM435)","v":""},{"$f":"IF('2.Logbook'!AN435=\"\",\"\",'2.Logbook'!AN435)","v":""},{"$f":"IF('2.Logbook'!AO435=\"\",\"\",'2.Logbook'!AO435)","v":""},{"$f":"IF('2.Logbook'!AP435=\"\",\"\",'2.Logbook'!AP435)","v":""},{"$f":"IF('2.Logbook'!AQ435=\"\",\"\",'2.Logbook'!AQ435)","v":""},{"$f":"IF('2.Logbook'!AR435=\"\",\"\",'2.Logbook'!AR435)","v":""},{"$f":"IF('2.Logbook'!AS435=\"\",\"\",'2.Logbook'!AS435)","v":""},{"$f":"IF('2.Logbook'!AT435=\"\",\"\",'2.Logbook'!AT435)","v":""},{"$f":"IF('2.Logbook'!AU435=\"\",\"\",'2.Logbook'!AU435)","v":""},{"$f":"IF('2.Logbook'!AV435=\"\",\"\",'2.Logbook'!AV435)","v":""},{"$f":"IF('2.Logbook'!AW435=\"\",\"\",'2.Logbook'!AW435)","v":""},{"$f":"IF('2.Logbook'!AX435=\"\",\"\",'2.Logbook'!AX435)","v":""},{"$f":"IF('2.Logbook'!AY435=\"\",\"\",'2.Logbook'!AY435)","v":""}]
[{"$f":"IF('2.Logbook'!$A436=\"\",\"\",'2.Logbook'!$A436)","v":""},{"$f":"IF('2.Logbook'!$B436=\"\",\"\",'2.Logbook'!$B436)","v":""},{"$f":"IF('2.Logbook'!AH436=\"\",\"\",'2.Logbook'!AH436)","v":""},{"$f":"IF('2.Logbook'!AI436=\"\",\"\",'2.Logbook'!AI436)","v":""},{"$f":"IF('2.Logbook'!AJ436=\"\",\"\",'2.Logbook'!AJ436)","v":""},{"$f":"IF('2.Logbook'!AK436=\"\",\"\",'2.Logbook'!AK436)","v":""},{"$f":"IF('2.Logbook'!AL436=\"\",\"\",'2.Logbook'!AL436)","v":""},{"$f":"IF('2.Logbook'!AM436=\"\",\"\",'2.Logbook'!AM436)","v":""},{"$f":"IF('2.Logbook'!AN436=\"\",\"\",'2.Logbook'!AN436)","v":""},{"$f":"IF('2.Logbook'!AO436=\"\",\"\",'2.Logbook'!AO436)","v":""},{"$f":"IF('2.Logbook'!AP436=\"\",\"\",'2.Logbook'!AP436)","v":""},{"$f":"IF('2.Logbook'!AQ436=\"\",\"\",'2.Logbook'!AQ436)","v":""},{"$f":"IF('2.Logbook'!AR436=\"\",\"\",'2.Logbook'!AR436)","v":""},{"$f":"IF('2.Logbook'!AS436=\"\",\"\",'2.Logbook'!AS436)","v":""},{"$f":"IF('2.Logbook'!AT436=\"\",\"\",'2.Logbook'!AT436)","v":""},{"$f":"IF('2.Logbook'!AU436=\"\",\"\",'2.Logbook'!AU436)","v":""},{"$f":"IF('2.Logbook'!AV436=\"\",\"\",'2.Logbook'!AV436)","v":""},{"$f":"IF('2.Logbook'!AW436=\"\",\"\",'2.Logbook'!AW436)","v":""},{"$f":"IF('2.Logbook'!AX436=\"\",\"\",'2.Logbook'!AX436)","v":""},{"$f":"IF('2.Logbook'!AY436=\"\",\"\",'2.Logbook'!AY436)","v":""}]
[{"$f":"IF('2.Logbook'!$A437=\"\",\"\",'2.Logbook'!$A437)","v":""},{"$f":"IF('2.Logbook'!$B437=\"\",\"\",'2.Logbook'!$B437)","v":""},{"$f":"IF('2.Logbook'!AH437=\"\",\"\",'2.Logbook'!AH437)","v":""},{"$f":"IF('2.Logbook'!AI437=\"\",\"\",'2.Logbook'!AI437)","v":""},{"$f":"IF('2.Logbook'!AJ437=\"\",\"\",'2.Logbook'!AJ437)","v":""},{"$f":"IF('2.Logbook'!AK437=\"\",\"\",'2.Logbook'!AK437)","v":""},{"$f":"IF('2.Logbook'!AL437=\"\",\"\",'2.Logbook'!AL437)","v":""},{"$f":"IF('2.Logbook'!AM437=\"\",\"\",'2.Logbook'!AM437)","v":""},{"$f":"IF('2.Logbook'!AN437=\"\",\"\",'2.Logbook'!AN437)","v":""},{"$f":"IF('2.Logbook'!AO437=\"\",\"\",'2.Logbook'!AO437)","v":""},{"$f":"IF('2.Logbook'!AP437=\"\",\"\",'2.Logbook'!AP437)","v":""},{"$f":"IF('2.Logbook'!AQ437=\"\",\"\",'2.Logbook'!AQ437)","v":""},{"$f":"IF('2.Logbook'!AR437=\"\",\"\",'2.Logbook'!AR437)","v":""},{"$f":"IF('2.Logbook'!AS437=\"\",\"\",'2.Logbook'!AS437)","v":""},{"$f":"IF('2.Logbook'!AT437=\"\",\"\",'2.Logbook'!AT437)","v":""},{"$f":"IF('2.Logbook'!AU437=\"\",\"\",'2.Logbook'!AU437)","v":""},{"$f":"IF('2.Logbook'!AV437=\"\",\"\",'2.Logbook'!AV437)","v":""},{"$f":"IF('2.Logbook'!AW437=\"\",\"\",'2.Logbook'!AW437)","v":""},{"$f":"IF('2.Logbook'!AX437=\"\",\"\",'2.Logbook'!AX437)","v":""},{"$f":"IF('2.Logbook'!AY437=\"\",\"\",'2.Logbook'!AY437)","v":""}]
[{"$f":"IF('2.Logbook'!$A438=\"\",\"\",'2.Logbook'!$A438)","v":""},{"$f":"IF('2.Logbook'!$B438=\"\",\"\",'2.Logbook'!$B438)","v":""},{"$f":"IF('2.Logbook'!AH438=\"\",\"\",'2.Logbook'!AH438)","v":""},{"$f":"IF('2.Logbook'!AI438=\"\",\"\",'2.Logbook'!AI438)","v":""},{"$f":"IF('2.Logbook'!AJ438=\"\",\"\",'2.Logbook'!AJ438)","v":""},{"$f":"IF('2.Logbook'!AK438=\"\",\"\",'2.Logbook'!AK438)","v":""},{"$f":"IF('2.Logbook'!AL438=\"\",\"\",'2.Logbook'!AL438)","v":""},{"$f":"IF('2.Logbook'!AM438=\"\",\"\",'2.Logbook'!AM438)","v":""},{"$f":"IF('2.Logbook'!AN438=\"\",\"\",'2.Logbook'!AN438)","v":""},{"$f":"IF('2.Logbook'!AO438=\"\",\"\",'2.Logbook'!AO438)","v":""},{"$f":"IF('2.Logbook'!AP438=\"\",\"\",'2.Logbook'!AP438)","v":""},{"$f":"IF('2.Logbook'!AQ438=\"\",\"\",'2.Logbook'!AQ438)","v":""},{"$f":"IF('2.Logbook'!AR438=\"\",\"\",'2.Logbook'!AR438)","v":""},{"$f":"IF('2.Logbook'!AS438=\"\",\"\",'2.Logbook'!AS438)","v":""},{"$f":"IF('2.Logbook'!AT438=\"\",\"\",'2.Logbook'!AT438)","v":""},{"$f":"IF('2.Logbook'!AU438=\"\",\"\",'2.Logbook'!AU438)","v":""},{"$f":"IF('2.Logbook'!AV438=\"\",\"\",'2.Logbook'!AV438)","v":""},{"$f":"IF('2.Logbook'!AW438=\"\",\"\",'2.Logbook'!AW438)","v":""},{"$f":"IF('2.Logbook'!AX438=\"\",\"\",'2.Logbook'!AX438)","v":""},{"$f":"IF('2.Logbook'!AY438=\"\",\"\",'2.Logbook'!AY438)","v":""}]
[{"$f":"IF('2.Logbook'!$A439=\"\",\"\",'2.Logbook'!$A439)","v":""},{"$f":"IF('2.Logbook'!$B439=\"\",\"\",'2.Logbook'!$B439)","v":""},{"$f":"IF('2.Logbook'!AH439=\"\",\"\",'2.Logbook'!AH439)","v":""},{"$f":"IF('2.Logbook'!AI439=\"\",\"\",'2.Logbook'!AI439)","v":""},{"$f":"IF('2.Logbook'!AJ439=\"\",\"\",'2.Logbook'!AJ439)","v":""},{"$f":"IF('2.Logbook'!AK439=\"\",\"\",'2.Logbook'!AK439)","v":""},{"$f":"IF('2.Logbook'!AL439=\"\",\"\",'2.Logbook'!AL439)","v":""},{"$f":"IF('2.Logbook'!AM439=\"\",\"\",'2.Logbook'!AM439)","v":""},{"$f":"IF('2.Logbook'!AN439=\"\",\"\",'2.Logbook'!AN439)","v":""},{"$f":"IF('2.Logbook'!AO439=\"\",\"\",'2.Logbook'!AO439)","v":""},{"$f":"IF('2.Logbook'!AP439=\"\",\"\",'2.Logbook'!AP439)","v":""},{"$f":"IF('2.Logbook'!AQ439=\"\",\"\",'2.Logbook'!AQ439)","v":""},{"$f":"IF('2.Logbook'!AR439=\"\",\"\",'2.Logbook'!AR439)","v":""},{"$f":"IF('2.Logbook'!AS439=\"\",\"\",'2.Logbook'!AS439)","v":""},{"$f":"IF('2.Logbook'!AT439=\"\",\"\",'2.Logbook'!AT439)","v":""},{"$f":"IF('2.Logbook'!AU439=\"\",\"\",'2.Logbook'!AU439)","v":""},{"$f":"IF('2.Logbook'!AV439=\"\",\"\",'2.Logbook'!AV439)","v":""},{"$f":"IF('2.Logbook'!AW439=\"\",\"\",'2.Logbook'!AW439)","v":""},{"$f":"IF('2.Logbook'!AX439=\"\",\"\",'2.Logbook'!AX439)","v":""},{"$f":"IF('2.Logbook'!AY439=\"\",\"\",'2.Logbook'!AY439)","v":""}]
[{"$f":"IF('2.Logbook'!$A440=\"\",\"\",'2.Logbook'!$A440)","v":""},{"$f":"IF('2.Logbook'!$B440=\"\",\"\",'2.Logbook'!$B440)","v":""},{"$f":"IF('2.Logbook'!AH440=\"\",\"\",'2.Logbook'!AH440)","v":""},{"$f":"IF('2.Logbook'!AI440=\"\",\"\",'2.Logbook'!AI440)","v":""},{"$f":"IF('2.Logbook'!AJ440=\"\",\"\",'2.Logbook'!AJ440)","v":""},{"$f":"IF('2.Logbook'!AK440=\"\",\"\",'2.Logbook'!AK440)","v":""},{"$f":"IF('2.Logbook'!AL440=\"\",\"\",'2.Logbook'!AL440)","v":""},{"$f":"IF('2.Logbook'!AM440=\"\",\"\",'2.Logbook'!AM440)","v":""},{"$f":"IF('2.Logbook'!AN440=\"\",\"\",'2.Logbook'!AN440)","v":""},{"$f":"IF('2.Logbook'!AO440=\"\",\"\",'2.Logbook'!AO440)","v":""},{"$f":"IF('2.Logbook'!AP440=\"\",\"\",'2.Logbook'!AP440)","v":""},{"$f":"IF('2.Logbook'!AQ440=\"\",\"\",'2.Logbook'!AQ440)","v":""},{"$f":"IF('2.Logbook'!AR440=\"\",\"\",'2.Logbook'!AR440)","v":""},{"$f":"IF('2.Logbook'!AS440=\"\",\"\",'2.Logbook'!AS440)","v":""},{"$f":"IF('2.Logbook'!AT440=\"\",\"\",'2.Logbook'!AT440)","v":""},{"$f":"IF('2.Logbook'!AU440=\"\",\"\",'2.Logbook'!AU440)","v":""},{"$f":"IF('2.Logbook'!AV440=\"\",\"\",'2.Logbook'!AV440)","v":""},{"$f":"IF('2.Logbook'!AW440=\"\",\"\",'2.Logbook'!AW440)","v":""},{"$f":"IF('2.Logbook'!AX440=\"\",\"\",'2.Logbook'!AX440)","v":""},{"$f":"IF('2.Logbook'!AY440=\"\",\"\",'2.Logbook'!AY440)","v":""}]
[{"$f":"IF('2.Logbook'!$A441=\"\",\"\",'2.Logbook'!$A441)","v":""},{"$f":"IF('2.Logbook'!$B441=\"\",\"\",'2.Logbook'!$B441)","v":""},{"$f":"IF('2.Logbook'!AH441=\"\",\"\",'2.Logbook'!AH441)","v":""},{"$f":"IF('2.Logbook'!AI441=\"\",\"\",'2.Logbook'!AI441)","v":""},{"$f":"IF('2.Logbook'!AJ441=\"\",\"\",'2.Logbook'!AJ441)","v":""},{"$f":"IF('2.Logbook'!AK441=\"\",\"\",'2.Logbook'!AK441)","v":""},{"$f":"IF('2.Logbook'!AL441=\"\",\"\",'2.Logbook'!AL441)","v":""},{"$f":"IF('2.Logbook'!AM441=\"\",\"\",'2.Logbook'!AM441)","v":""},{"$f":"IF('2.Logbook'!AN441=\"\",\"\",'2.Logbook'!AN441)","v":""},{"$f":"IF('2.Logbook'!AO441=\"\",\"\",'2.Logbook'!AO441)","v":""},{"$f":"IF('2.Logbook'!AP441=\"\",\"\",'2.Logbook'!AP441)","v":""},{"$f":"IF('2.Logbook'!AQ441=\"\",\"\",'2.Logbook'!AQ441)","v":""},{"$f":"IF('2.Logbook'!AR441=\"\",\"\",'2.Logbook'!AR441)","v":""},{"$f":"IF('2.Logbook'!AS441=\"\",\"\",'2.Logbook'!AS441)","v":""},{"$f":"IF('2.Logbook'!AT441=\"\",\"\",'2.Logbook'!AT441)","v":""},{"$f":"IF('2.Logbook'!AU441=\"\",\"\",'2.Logbook'!AU441)","v":""},{"$f":"IF('2.Logbook'!AV441=\"\",\"\",'2.Logbook'!AV441)","v":""},{"$f":"IF('2.Logbook'!AW441=\"\",\"\",'2.Logbook'!AW441)","v":""},{"$f":"IF('2.Logbook'!AX441=\"\",\"\",'2.Logbook'!AX441)","v":""},{"$f":"IF('2.Logbook'!AY441=\"\",\"\",'2.Logbook'!AY441)","v":""}]
[{"$f":"IF('2.Logbook'!$A442=\"\",\"\",'2.Logbook'!$A442)","v":""},{"$f":"IF('2.Logbook'!$B442=\"\",\"\",'2.Logbook'!$B442)","v":""},{"$f":"IF('2.Logbook'!AH442=\"\",\"\",'2.Logbook'!AH442)","v":""},{"$f":"IF('2.Logbook'!AI442=\"\",\"\",'2.Logbook'!AI442)","v":""},{"$f":"IF('2.Logbook'!AJ442=\"\",\"\",'2.Logbook'!AJ442)","v":""},{"$f":"IF('2.Logbook'!AK442=\"\",\"\",'2.Logbook'!AK442)","v":""},{"$f":"IF('2.Logbook'!AL442=\"\",\"\",'2.Logbook'!AL442)","v":""},{"$f":"IF('2.Logbook'!AM442=\"\",\"\",'2.Logbook'!AM442)","v":""},{"$f":"IF('2.Logbook'!AN442=\"\",\"\",'2.Logbook'!AN442)","v":""},{"$f":"IF('2.Logbook'!AO442=\"\",\"\",'2.Logbook'!AO442)","v":""},{"$f":"IF('2.Logbook'!AP442=\"\",\"\",'2.Logbook'!AP442)","v":""},{"$f":"IF('2.Logbook'!AQ442=\"\",\"\",'2.Logbook'!AQ442)","v":""},{"$f":"IF('2.Logbook'!AR442=\"\",\"\",'2.Logbook'!AR442)","v":""},{"$f":"IF('2.Logbook'!AS442=\"\",\"\",'2.Logbook'!AS442)","v":""},{"$f":"IF('2.Logbook'!AT442=\"\",\"\",'2.Logbook'!AT442)","v":""},{"$f":"IF('2.Logbook'!AU442=\"\",\"\",'2.Logbook'!AU442)","v":""},{"$f":"IF('2.Logbook'!AV442=\"\",\"\",'2.Logbook'!AV442)","v":""},{"$f":"IF('2.Logbook'!AW442=\"\",\"\",'2.Logbook'!AW442)","v":""},{"$f":"IF('2.Logbook'!AX442=\"\",\"\",'2.Logbook'!AX442)","v":""},{"$f":"IF('2.Logbook'!AY442=\"\",\"\",'2.Logbook'!AY442)","v":""}]
[{"$f":"IF('2.Logbook'!$A443=\"\",\"\",'2.Logbook'!$A443)","v":""},{"$f":"IF('2.Logbook'!$B443=\"\",\"\",'2.Logbook'!$B443)","v":""},{"$f":"IF('2.Logbook'!AH443=\"\",\"\",'2.Logbook'!AH443)","v":""},{"$f":"IF('2.Logbook'!AI443=\"\",\"\",'2.Logbook'!AI443)","v":""},{"$f":"IF('2.Logbook'!AJ443=\"\",\"\",'2.Logbook'!AJ443)","v":""},{"$f":"IF('2.Logbook'!AK443=\"\",\"\",'2.Logbook'!AK443)","v":""},{"$f":"IF('2.Logbook'!AL443=\"\",\"\",'2.Logbook'!AL443)","v":""},{"$f":"IF('2.Logbook'!AM443=\"\",\"\",'2.Logbook'!AM443)","v":""},{"$f":"IF('2.Logbook'!AN443=\"\",\"\",'2.Logbook'!AN443)","v":""},{"$f":"IF('2.Logbook'!AO443=\"\",\"\",'2.Logbook'!AO443)","v":""},{"$f":"IF('2.Logbook'!AP443=\"\",\"\",'2.Logbook'!AP443)","v":""},{"$f":"IF('2.Logbook'!AQ443=\"\",\"\",'2.Logbook'!AQ443)","v":""},{"$f":"IF('2.Logbook'!AR443=\"\",\"\",'2.Logbook'!AR443)","v":""},{"$f":"IF('2.Logbook'!AS443=\"\",\"\",'2.Logbook'!AS443)","v":""},{"$f":"IF('2.Logbook'!AT443=\"\",\"\",'2.Logbook'!AT443)","v":""},{"$f":"IF('2.Logbook'!AU443=\"\",\"\",'2.Logbook'!AU443)","v":""},{"$f":"IF('2.Logbook'!AV443=\"\",\"\",'2.Logbook'!AV443)","v":""},{"$f":"IF('2.Logbook'!AW443=\"\",\"\",'2.Logbook'!AW443)","v":""},{"$f":"IF('2.Logbook'!AX443=\"\",\"\",'2.Logbook'!AX443)","v":""},{"$f":"IF('2.Logbook'!AY443=\"\",\"\",'2.Logbook'!AY443)","v":""}]
[{"$f":"IF('2.Logbook'!$A444=\"\",\"\",'2.Logbook'!$A444)","v":""},{"$f":"IF('2.Logbook'!$B444=\"\",\"\",'2.Logbook'!$B444)","v":""},{"$f":"IF('2.Logbook'!AH444=\"\",\"\",'2.Logbook'!AH444)","v":""},{"$f":"IF('2.Logbook'!AI444=\"\",\"\",'2.Logbook'!AI444)","v":""},{"$f":"IF('2.Logbook'!AJ444=\"\",\"\",'2.Logbook'!AJ444)","v":""},{"$f":"IF('2.Logbook'!AK444=\"\",\"\",'2.Logbook'!AK444)","v":""},{"$f":"IF('2.Logbook'!AL444=\"\",\"\",'2.Logbook'!AL444)","v":""},{"$f":"IF('2.Logbook'!AM444=\"\",\"\",'2.Logbook'!AM444)","v":""},{"$f":"IF('2.Logbook'!AN444=\"\",\"\",'2.Logbook'!AN444)","v":""},{"$f":"IF('2.Logbook'!AO444=\"\",\"\",'2.Logbook'!AO444)","v":""},{"$f":"IF('2.Logbook'!AP444=\"\",\"\",'2.Logbook'!AP444)","v":""},{"$f":"IF('2.Logbook'!AQ444=\"\",\"\",'2.Logbook'!AQ444)","v":""},{"$f":"IF('2.Logbook'!AR444=\"\",\"\",'2.Logbook'!AR444)","v":""},{"$f":"IF('2.Logbook'!AS444=\"\",\"\",'2.Logbook'!AS444)","v":""},{"$f":"IF('2.Logbook'!AT444=\"\",\"\",'2.Logbook'!AT444)","v":""},{"$f":"IF('2.Logbook'!AU444=\"\",\"\",'2.Logbook'!AU444)","v":""},{"$f":"IF('2.Logbook'!AV444=\"\",\"\",'2.Logbook'!AV444)","v":""},{"$f":"IF('2.Logbook'!AW444=\"\",\"\",'2.Logbook'!AW444)","v":""},{"$f":"IF('2.Logbook'!AX444=\"\",\"\",'2.Logbook'!AX444)","v":""},{"$f":"IF('2.Logbook'!AY444=\"\",\"\",'2.Logbook'!AY444)","v":""}]
[{"$f":"IF('2.Logbook'!$A445=\"\",\"\",'2.Logbook'!$A445)","v":""},{"$f":"IF('2.Logbook'!$B445=\"\",\"\",'2.Logbook'!$B445)","v":""},{"$f":"IF('2.Logbook'!AH445=\"\",\"\",'2.Logbook'!AH445)","v":""},{"$f":"IF('2.Logbook'!AI445=\"\",\"\",'2.Logbook'!AI445)","v":""},{"$f":"IF('2.Logbook'!AJ445=\"\",\"\",'2.Logbook'!AJ445)","v":""},{"$f":"IF('2.Logbook'!AK445=\"\",\"\",'2.Logbook'!AK445)","v":""},{"$f":"IF('2.Logbook'!AL445=\"\",\"\",'2.Logbook'!AL445)","v":""},{"$f":"IF('2.Logbook'!AM445=\"\",\"\",'2.Logbook'!AM445)","v":""},{"$f":"IF('2.Logbook'!AN445=\"\",\"\",'2.Logbook'!AN445)","v":""},{"$f":"IF('2.Logbook'!AO445=\"\",\"\",'2.Logbook'!AO445)","v":""},{"$f":"IF('2.Logbook'!AP445=\"\",\"\",'2.Logbook'!AP445)","v":""},{"$f":"IF('2.Logbook'!AQ445=\"\",\"\",'2.Logbook'!AQ445)","v":""},{"$f":"IF('2.Logbook'!AR445=\"\",\"\",'2.Logbook'!AR445)","v":""},{"$f":"IF('2.Logbook'!AS445=\"\",\"\",'2.Logbook'!AS445)","v":""},{"$f":"IF('2.Logbook'!AT445=\"\",\"\",'2.Logbook'!AT445)","v":""},{"$f":"IF('2.Logbook'!AU445=\"\",\"\",'2.Logbook'!AU445)","v":""},{"$f":"IF('2.Logbook'!AV445=\"\",\"\",'2.Logbook'!AV445)","v":""},{"$f":"IF('2.Logbook'!AW445=\"\",\"\",'2.Logbook'!AW445)","v":""},{"$f":"IF('2.Logbook'!AX445=\"\",\"\",'2.Logbook'!AX445)","v":""},{"$f":"IF('2.Logbook'!AY445=\"\",\"\",'2.Logbook'!AY445)","v":""}]
[{"$f":"IF('2.Logbook'!$A446=\"\",\"\",'2.Logbook'!$A446)","v":""},{"$f":"IF('2.Logbook'!$B446=\"\",\"\",'2.Logbook'!$B446)","v":""},{"$f":"IF('2.Logbook'!AH446=\"\",\"\",'2.Logbook'!AH446)","v":""},{"$f":"IF('2.Logbook'!AI446=\"\",\"\",'2.Logbook'!AI446)","v":""},{"$f":"IF('2.Logbook'!AJ446=\"\",\"\",'2.Logbook'!AJ446)","v":""},{"$f":"IF('2.Logbook'!AK446=\"\",\"\",'2.Logbook'!AK446)","v":""},{"$f":"IF('2.Logbook'!AL446=\"\",\"\",'2.Logbook'!AL446)","v":""},{"$f":"IF('2.Logbook'!AM446=\"\",\"\",'2.Logbook'!AM446)","v":""},{"$f":"IF('2.Logbook'!AN446=\"\",\"\",'2.Logbook'!AN446)","v":""},{"$f":"IF('2.Logbook'!AO446=\"\",\"\",'2.Logbook'!AO446)","v":""},{"$f":"IF('2.Logbook'!AP446=\"\",\"\",'2.Logbook'!AP446)","v":""},{"$f":"IF('2.Logbook'!AQ446=\"\",\"\",'2.Logbook'!AQ446)","v":""},{"$f":"IF('2.Logbook'!AR446=\"\",\"\",'2.Logbook'!AR446)","v":""},{"$f":"IF('2.Logbook'!AS446=\"\",\"\",'2.Logbook'!AS446)","v":""},{"$f":"IF('2.Logbook'!AT446=\"\",\"\",'2.Logbook'!AT446)","v":""},{"$f":"IF('2.Logbook'!AU446=\"\",\"\",'2.Logbook'!AU446)","v":""},{"$f":"IF('2.Logbook'!AV446=\"\",\"\",'2.Logbook'!AV446)","v":""},{"$f":"IF('2.Logbook'!AW446=\"\",\"\",'2.Logbook'!AW446)","v":""},{"$f":"IF('2.Logbook'!AX446=\"\",\"\",'2.Logbook'!AX446)","v":""},{"$f":"IF('2.Logbook'!AY446=\"\",\"\",'2.Logbook'!AY446)","v":""}]
[{"$f":"IF('2.Logbook'!$A447=\"\",\"\",'2.Logbook'!$A447)","v":""},{"$f":"IF('2.Logbook'!$B447=\"\",\"\",'2.Logbook'!$B447)","v":""},{"$f":"IF('2.Logbook'!AH447=\"\",\"\",'2.Logbook'!AH447)","v":""},{"$f":"IF('2.Logbook'!AI447=\"\",\"\",'2.Logbook'!AI447)","v":""},{"$f":"IF('2.Logbook'!AJ447=\"\",\"\",'2.Logbook'!AJ447)","v":""},{"$f":"IF('2.Logbook'!AK447=\"\",\"\",'2.Logbook'!AK447)","v":""},{"$f":"IF('2.Logbook'!AL447=\"\",\"\",'2.Logbook'!AL447)","v":""},{"$f":"IF('2.Logbook'!AM447=\"\",\"\",'2.Logbook'!AM447)","v":""},{"$f":"IF('2.Logbook'!AN447=\"\",\"\",'2.Logbook'!AN447)","v":""},{"$f":"IF('2.Logbook'!AO447=\"\",\"\",'2.Logbook'!AO447)","v":""},{"$f":"IF('2.Logbook'!AP447=\"\",\"\",'2.Logbook'!AP447)","v":""},{"$f":"IF('2.Logbook'!AQ447=\"\",\"\",'2.Logbook'!AQ447)","v":""},{"$f":"IF('2.Logbook'!AR447=\"\",\"\",'2.Logbook'!AR447)","v":""},{"$f":"IF('2.Logbook'!AS447=\"\",\"\",'2.Logbook'!AS447)","v":""},{"$f":"IF('2.Logbook'!AT447=\"\",\"\",'2.Logbook'!AT447)","v":""},{"$f":"IF('2.Logbook'!AU447=\"\",\"\",'2.Logbook'!AU447)","v":""},{"$f":"IF('2.Logbook'!AV447=\"\",\"\",'2.Logbook'!AV447)","v":""},{"$f":"IF('2.Logbook'!AW447=\"\",\"\",'2.Logbook'!AW447)","v":""},{"$f":"IF('2.Logbook'!AX447=\"\",\"\",'2.Logbook'!AX447)","v":""},{"$f":"IF('2.Logbook'!AY447=\"\",\"\",'2.Logbook'!AY447)","v":""}]
[{"$f":"IF('2.Logbook'!$A448=\"\",\"\",'2.Logbook'!$A448)","v":""},{"$f":"IF('2.Logbook'!$B448=\"\",\"\",'2.Logbook'!$B448)","v":""},{"$f":"IF('2.Logbook'!AH448=\"\",\"\",'2.Logbook'!AH448)","v":""},{"$f":"IF('2.Logbook'!AI448=\"\",\"\",'2.Logbook'!AI448)","v":""},{"$f":"IF('2.Logbook'!AJ448=\"\",\"\",'2.Logbook'!AJ448)","v":""},{"$f":"IF('2.Logbook'!AK448=\"\",\"\",'2.Logbook'!AK448)","v":""},{"$f":"IF('2.Logbook'!AL448=\"\",\"\",'2.Logbook'!AL448)","v":""},{"$f":"IF('2.Logbook'!AM448=\"\",\"\",'2.Logbook'!AM448)","v":""},{"$f":"IF('2.Logbook'!AN448=\"\",\"\",'2.Logbook'!AN448)","v":""},{"$f":"IF('2.Logbook'!AO448=\"\",\"\",'2.Logbook'!AO448)","v":""},{"$f":"IF('2.Logbook'!AP448=\"\",\"\",'2.Logbook'!AP448)","v":""},{"$f":"IF('2.Logbook'!AQ448=\"\",\"\",'2.Logbook'!AQ448)","v":""},{"$f":"IF('2.Logbook'!AR448=\"\",\"\",'2.Logbook'!AR448)","v":""},{"$f":"IF('2.Logbook'!AS448=\"\",\"\",'2.Logbook'!AS448)","v":""},{"$f":"IF('2.Logbook'!AT448=\"\",\"\",'2.Logbook'!AT448)","v":""},{"$f":"IF('2.Logbook'!AU448=\"\",\"\",'2.Logbook'!AU448)","v":""},{"$f":"IF('2.Logbook'!AV448=\"\",\"\",'2.Logbook'!AV448)","v":""},{"$f":"IF('2.Logbook'!AW448=\"\",\"\",'2.Logbook'!AW448)","v":""},{"$f":"IF('2.Logbook'!AX448=\"\",\"\",'2.Logbook'!AX448)","v":""},{"$f":"IF('2.Logbook'!AY448=\"\",\"\",'2.Logbook'!AY448)","v":""}]
[{"$f":"IF('2.Logbook'!$A449=\"\",\"\",'2.Logbook'!$A449)","v":""},{"$f":"IF('2.Logbook'!$B449=\"\",\"\",'2.Logbook'!$B449)","v":""},{"$f":"IF('2.Logbook'!AH449=\"\",\"\",'2.Logbook'!AH449)","v":""},{"$f":"IF('2.Logbook'!AI449=\"\",\"\",'2.Logbook'!AI449)","v":""},{"$f":"IF('2.Logbook'!AJ449=\"\",\"\",'2.Logbook'!AJ449)","v":""},{"$f":"IF('2.Logbook'!AK449=\"\",\"\",'2.Logbook'!AK449)","v":""},{"$f":"IF('2.Logbook'!AL449=\"\",\"\",'2.Logbook'!AL449)","v":""},{"$f":"IF('2.Logbook'!AM449=\"\",\"\",'2.Logbook'!AM449)","v":""},{"$f":"IF('2.Logbook'!AN449=\"\",\"\",'2.Logbook'!AN449)","v":""},{"$f":"IF('2.Logbook'!AO449=\"\",\"\",'2.Logbook'!AO449)","v":""},{"$f":"IF('2.Logbook'!AP449=\"\",\"\",'2.Logbook'!AP449)","v":""},{"$f":"IF('2.Logbook'!AQ449=\"\",\"\",'2.Logbook'!AQ449)","v":""},{"$f":"IF('2.Logbook'!AR449=\"\",\"\",'2.Logbook'!AR449)","v":""},{"$f":"IF('2.Logbook'!AS449=\"\",\"\",'2.Logbook'!AS449)","v":""},{"$f":"IF('2.Logbook'!AT449=\"\",\"\",'2.Logbook'!AT449)","v":""},{"$f":"IF('2.Logbook'!AU449=\"\",\"\",'2.Logbook'!AU449)","v":""},{"$f":"IF('2.Logbook'!AV449=\"\",\"\",'2.Logbook'!AV449)","v":""},{"$f":"IF('2.Logbook'!AW449=\"\",\"\",'2.Logbook'!AW449)","v":""},{"$f":"IF('2.Logbook'!AX449=\"\",\"\",'2.Logbook'!AX449)","v":""},{"$f":"IF('2.Logbook'!AY449=\"\",\"\",'2.Logbook'!AY449)","v":""}]
[{"$f":"IF('2.Logbook'!$A450=\"\",\"\",'2.Logbook'!$A450)","v":""},{"$f":"IF('2.Logbook'!$B450=\"\",\"\",'2.Logbook'!$B450)","v":""},{"$f":"IF('2.Logbook'!AH450=\"\",\"\",'2.Logbook'!AH450)","v":""},{"$f":"IF('2.Logbook'!AI450=\"\",\"\",'2.Logbook'!AI450)","v":""},{"$f":"IF('2.Logbook'!AJ450=\"\",\"\",'2.Logbook'!AJ450)","v":""},{"$f":"IF('2.Logbook'!AK450=\"\",\"\",'2.Logbook'!AK450)","v":""},{"$f":"IF('2.Logbook'!AL450=\"\",\"\",'2.Logbook'!AL450)","v":""},{"$f":"IF('2.Logbook'!AM450=\"\",\"\",'2.Logbook'!AM450)","v":""},{"$f":"IF('2.Logbook'!AN450=\"\",\"\",'2.Logbook'!AN450)","v":""},{"$f":"IF('2.Logbook'!AO450=\"\",\"\",'2.Logbook'!AO450)","v":""},{"$f":"IF('2.Logbook'!AP450=\"\",\"\",'2.Logbook'!AP450)","v":""},{"$f":"IF('2.Logbook'!AQ450=\"\",\"\",'2.Logbook'!AQ450)","v":""},{"$f":"IF('2.Logbook'!AR450=\"\",\"\",'2.Logbook'!AR450)","v":""},{"$f":"IF('2.Logbook'!AS450=\"\",\"\",'2.Logbook'!AS450)","v":""},{"$f":"IF('2.Logbook'!AT450=\"\",\"\",'2.Logbook'!AT450)","v":""},{"$f":"IF('2.Logbook'!AU450=\"\",\"\",'2.Logbook'!AU450)","v":""},{"$f":"IF('2.Logbook'!AV450=\"\",\"\",'2.Logbook'!AV450)","v":""},{"$f":"IF('2.Logbook'!AW450=\"\",\"\",'2.Logbook'!AW450)","v":""},{"$f":"IF('2.Logbook'!AX450=\"\",\"\",'2.Logbook'!AX450)","v":""},{"$f":"IF('2.Logbook'!AY450=\"\",\"\",'2.Logbook'!AY450)","v":""}]
[{"$f":"IF('2.Logbook'!$A451=\"\",\"\",'2.Logbook'!$A451)","v":""},{"$f":"IF('2.Logbook'!$B451=\"\",\"\",'2.Logbook'!$B451)","v":""},{"$f":"IF('2.Logbook'!AH451=\"\",\"\",'2.Logbook'!AH451)","v":""},{"$f":"IF('2.Logbook'!AI451=\"\",\"\",'2.Logbook'!AI451)","v":""},{"$f":"IF('2.Logbook'!AJ451=\"\",\"\",'2.Logbook'!AJ451)","v":""},{"$f":"IF('2.Logbook'!AK451=\"\",\"\",'2.Logbook'!AK451)","v":""},{"$f":"IF('2.Logbook'!AL451=\"\",\"\",'2.Logbook'!AL451)","v":""},{"$f":"IF('2.Logbook'!AM451=\"\",\"\",'2.Logbook'!AM451)","v":""},{"$f":"IF('2.Logbook'!AN451=\"\",\"\",'2.Logbook'!AN451)","v":""},{"$f":"IF('2.Logbook'!AO451=\"\",\"\",'2.Logbook'!AO451)","v":""},{"$f":"IF('2.Logbook'!AP451=\"\",\"\",'2.Logbook'!AP451)","v":""},{"$f":"IF('2.Logbook'!AQ451=\"\",\"\",'2.Logbook'!AQ451)","v":""},{"$f":"IF('2.Logbook'!AR451=\"\",\"\",'2.Logbook'!AR451)","v":""},{"$f":"IF('2.Logbook'!AS451=\"\",\"\",'2.Logbook'!AS451)","v":""},{"$f":"IF('2.Logbook'!AT451=\"\",\"\",'2.Logbook'!AT451)","v":""},{"$f":"IF('2.Logbook'!AU451=\"\",\"\",'2.Logbook'!AU451)","v":""},{"$f":"IF('2.Logbook'!AV451=\"\",\"\",'2.Logbook'!AV451)","v":""},{"$f":"IF('2.Logbook'!AW451=\"\",\"\",'2.Logbook'!AW451)","v":""},{"$f":"IF('2.Logbook'!AX451=\"\",\"\",'2.Logbook'!AX451)","v":""},{"$f":"IF('2.Logbook'!AY451=\"\",\"\",'2.Logbook'!AY451)","v":""}]
[{"$f":"IF('2.Logbook'!$A452=\"\",\"\",'2.Logbook'!$A452)","v":""},{"$f":"IF('2.Logbook'!$B452=\"\",\"\",'2.Logbook'!$B452)","v":""},{"$f":"IF('2.Logbook'!AH452=\"\",\"\",'2.Logbook'!AH452)","v":""},{"$f":"IF('2.Logbook'!AI452=\"\",\"\",'2.Logbook'!AI452)","v":""},{"$f":"IF('2.Logbook'!AJ452=\"\",\"\",'2.Logbook'!AJ452)","v":""},{"$f":"IF('2.Logbook'!AK452=\"\",\"\",'2.Logbook'!AK452)","v":""},{"$f":"IF('2.Logbook'!AL452=\"\",\"\",'2.Logbook'!AL452)","v":""},{"$f":"IF('2.Logbook'!AM452=\"\",\"\",'2.Logbook'!AM452)","v":""},{"$f":"IF('2.Logbook'!AN452=\"\",\"\",'2.Logbook'!AN452)","v":""},{"$f":"IF('2.Logbook'!AO452=\"\",\"\",'2.Logbook'!AO452)","v":""},{"$f":"IF('2.Logbook'!AP452=\"\",\"\",'2.Logbook'!AP452)","v":""},{"$f":"IF('2.Logbook'!AQ452=\"\",\"\",'2.Logbook'!AQ452)","v":""},{"$f":"IF('2.Logbook'!AR452=\"\",\"\",'2.Logbook'!AR452)","v":""},{"$f":"IF('2.Logbook'!AS452=\"\",\"\",'2.Logbook'!AS452)","v":""},{"$f":"IF('2.Logbook'!AT452=\"\",\"\",'2.Logbook'!AT452)","v":""},{"$f":"IF('2.Logbook'!AU452=\"\",\"\",'2.Logbook'!AU452)","v":""},{"$f":"IF('2.Logbook'!AV452=\"\",\"\",'2.Logbook'!AV452)","v":""},{"$f":"IF('2.Logbook'!AW452=\"\",\"\",'2.Logbook'!AW452)","v":""},{"$f":"IF('2.Logbook'!AX452=\"\",\"\",'2.Logbook'!AX452)","v":""},{"$f":"IF('2.Logbook'!AY452=\"\",\"\",'2.Logbook'!AY452)","v":""}]
[{"$f":"IF('2.Logbook'!$A453=\"\",\"\",'2.Logbook'!$A453)","v":""},{"$f":"IF('2.Logbook'!$B453=\"\",\"\",'2.Logbook'!$B453)","v":""},{"$f":"IF('2.Logbook'!AH453=\"\",\"\",'2.Logbook'!AH453)","v":""},{"$f":"IF('2.Logbook'!AI453=\"\",\"\",'2.Logbook'!AI453)","v":""},{"$f":"IF('2.Logbook'!AJ453=\"\",\"\",'2.Logbook'!AJ453)","v":""},{"$f":"IF('2.Logbook'!AK453=\"\",\"\",'2.Logbook'!AK453)","v":""},{"$f":"IF('2.Logbook'!AL453=\"\",\"\",'2.Logbook'!AL453)","v":""},{"$f":"IF('2.Logbook'!AM453=\"\",\"\",'2.Logbook'!AM453)","v":""},{"$f":"IF('2.Logbook'!AN453=\"\",\"\",'2.Logbook'!AN453)","v":""},{"$f":"IF('2.Logbook'!AO453=\"\",\"\",'2.Logbook'!AO453)","v":""},{"$f":"IF('2.Logbook'!AP453=\"\",\"\",'2.Logbook'!AP453)","v":""},{"$f":"IF('2.Logbook'!AQ453=\"\",\"\",'2.Logbook'!AQ453)","v":""},{"$f":"IF('2.Logbook'!AR453=\"\",\"\",'2.Logbook'!AR453)","v":""},{"$f":"IF('2.Logbook'!AS453=\"\",\"\",'2.Logbook'!AS453)","v":""},{"$f":"IF('2.Logbook'!AT453=\"\",\"\",'2.Logbook'!AT453)","v":""},{"$f":"IF('2.Logbook'!AU453=\"\",\"\",'2.Logbook'!AU453)","v":""},{"$f":"IF('2.Logbook'!AV453=\"\",\"\",'2.Logbook'!AV453)","v":""},{"$f":"IF('2.Logbook'!AW453=\"\",\"\",'2.Logbook'!AW453)","v":""},{"$f":"IF('2.Logbook'!AX453=\"\",\"\",'2.Logbook'!AX453)","v":""},{"$f":"IF('2.Logbook'!AY453=\"\",\"\",'2.Logbook'!AY453)","v":""}]
[{"$f":"IF('2.Logbook'!$A454=\"\",\"\",'2.Logbook'!$A454)","v":""},{"$f":"IF('2.Logbook'!$B454=\"\",\"\",'2.Logbook'!$B454)","v":""},{"$f":"IF('2.Logbook'!AH454=\"\",\"\",'2.Logbook'!AH454)","v":""},{"$f":"IF('2.Logbook'!AI454=\"\",\"\",'2.Logbook'!AI454)","v":""},{"$f":"IF('2.Logbook'!AJ454=\"\",\"\",'2.Logbook'!AJ454)","v":""},{"$f":"IF('2.Logbook'!AK454=\"\",\"\",'2.Logbook'!AK454)","v":""},{"$f":"IF('2.Logbook'!AL454=\"\",\"\",'2.Logbook'!AL454)","v":""},{"$f":"IF('2.Logbook'!AM454=\"\",\"\",'2.Logbook'!AM454)","v":""},{"$f":"IF('2.Logbook'!AN454=\"\",\"\",'2.Logbook'!AN454)","v":""},{"$f":"IF('2.Logbook'!AO454=\"\",\"\",'2.Logbook'!AO454)","v":""},{"$f":"IF('2.Logbook'!AP454=\"\",\"\",'2.Logbook'!AP454)","v":""},{"$f":"IF('2.Logbook'!AQ454=\"\",\"\",'2.Logbook'!AQ454)","v":""},{"$f":"IF('2.Logbook'!AR454=\"\",\"\",'2.Logbook'!AR454)","v":""},{"$f":"IF('2.Logbook'!AS454=\"\",\"\",'2.Logbook'!AS454)","v":""},{"$f":"IF('2.Logbook'!AT454=\"\",\"\",'2.Logbook'!AT454)","v":""},{"$f":"IF('2.Logbook'!AU454=\"\",\"\",'2.Logbook'!AU454)","v":""},{"$f":"IF('2.Logbook'!AV454=\"\",\"\",'2.Logbook'!AV454)","v":""},{"$f":"IF('2.Logbook'!AW454=\"\",\"\",'2.Logbook'!AW454)","v":""},{"$f":"IF('2.Logbook'!AX454=\"\",\"\",'2.Logbook'!AX454)","v":""},{"$f":"IF('2.Logbook'!AY454=\"\",\"\",'2.Logbook'!AY454)","v":""}]
[{"$f":"IF('2.Logbook'!$A455=\"\",\"\",'2.Logbook'!$A455)","v":""},{"$f":"IF('2.Logbook'!$B455=\"\",\"\",'2.Logbook'!$B455)","v":""},{"$f":"IF('2.Logbook'!AH455=\"\",\"\",'2.Logbook'!AH455)","v":""},{"$f":"IF('2.Logbook'!AI455=\"\",\"\",'2.Logbook'!AI455)","v":""},{"$f":"IF('2.Logbook'!AJ455=\"\",\"\",'2.Logbook'!AJ455)","v":""},{"$f":"IF('2.Logbook'!AK455=\"\",\"\",'2.Logbook'!AK455)","v":""},{"$f":"IF('2.Logbook'!AL455=\"\",\"\",'2.Logbook'!AL455)","v":""},{"$f":"IF('2.Logbook'!AM455=\"\",\"\",'2.Logbook'!AM455)","v":""},{"$f":"IF('2.Logbook'!AN455=\"\",\"\",'2.Logbook'!AN455)","v":""},{"$f":"IF('2.Logbook'!AO455=\"\",\"\",'2.Logbook'!AO455)","v":""},{"$f":"IF('2.Logbook'!AP455=\"\",\"\",'2.Logbook'!AP455)","v":""},{"$f":"IF('2.Logbook'!AQ455=\"\",\"\",'2.Logbook'!AQ455)","v":""},{"$f":"IF('2.Logbook'!AR455=\"\",\"\",'2.Logbook'!AR455)","v":""},{"$f":"IF('2.Logbook'!AS455=\"\",\"\",'2.Logbook'!AS455)","v":""},{"$f":"IF('2.Logbook'!AT455=\"\",\"\",'2.Logbook'!AT455)","v":""},{"$f":"IF('2.Logbook'!AU455=\"\",\"\",'2.Logbook'!AU455)","v":""},{"$f":"IF('2.Logbook'!AV455=\"\",\"\",'2.Logbook'!AV455)","v":""},{"$f":"IF('2.Logbook'!AW455=\"\",\"\",'2.Logbook'!AW455)","v":""},{"$f":"IF('2.Logbook'!AX455=\"\",\"\",'2.Logbook'!AX455)","v":""},{"$f":"IF('2.Logbook'!AY455=\"\",\"\",'2.Logbook'!AY455)","v":""}]
[{"$f":"IF('2.Logbook'!$A456=\"\",\"\",'2.Logbook'!$A456)","v":""},{"$f":"IF('2.Logbook'!$B456=\"\",\"\",'2.Logbook'!$B456)","v":""},{"$f":"IF('2.Logbook'!AH456=\"\",\"\",'2.Logbook'!AH456)","v":""},{"$f":"IF('2.Logbook'!AI456=\"\",\"\",'2.Logbook'!AI456)","v":""},{"$f":"IF('2.Logbook'!AJ456=\"\",\"\",'2.Logbook'!AJ456)","v":""},{"$f":"IF('2.Logbook'!AK456=\"\",\"\",'2.Logbook'!AK456)","v":""},{"$f":"IF('2.Logbook'!AL456=\"\",\"\",'2.Logbook'!AL456)","v":""},{"$f":"IF('2.Logbook'!AM456=\"\",\"\",'2.Logbook'!AM456)","v":""},{"$f":"IF('2.Logbook'!AN456=\"\",\"\",'2.Logbook'!AN456)","v":""},{"$f":"IF('2.Logbook'!AO456=\"\",\"\",'2.Logbook'!AO456)","v":""},{"$f":"IF('2.Logbook'!AP456=\"\",\"\",'2.Logbook'!AP456)","v":""},{"$f":"IF('2.Logbook'!AQ456=\"\",\"\",'2.Logbook'!AQ456)","v":""},{"$f":"IF('2.Logbook'!AR456=\"\",\"\",'2.Logbook'!AR456)","v":""},{"$f":"IF('2.Logbook'!AS456=\"\",\"\",'2.Logbook'!AS456)","v":""},{"$f":"IF('2.Logbook'!AT456=\"\",\"\",'2.Logbook'!AT456)","v":""},{"$f":"IF('2.Logbook'!AU456=\"\",\"\",'2.Logbook'!AU456)","v":""},{"$f":"IF('2.Logbook'!AV456=\"\",\"\",'2.Logbook'!AV456)","v":""},{"$f":"IF('2.Logbook'!AW456=\"\",\"\",'2.Logbook'!AW456)","v":""},{"$f":"IF('2.Logbook'!AX456=\"\",\"\",'2.Logbook'!AX456)","v":""},{"$f":"IF('2.Logbook'!AY456=\"\",\"\",'2.Logbook'!AY456)","v":""}]
[{"$f":"IF('2.Logbook'!$A457=\"\",\"\",'2.Logbook'!$A457)","v":""},{"$f":"IF('2.Logbook'!$B457=\"\",\"\",'2.Logbook'!$B457)","v":""},{"$f":"IF('2.Logbook'!AH457=\"\",\"\",'2.Logbook'!AH457)","v":""},{"$f":"IF('2.Logbook'!AI457=\"\",\"\",'2.Logbook'!AI457)","v":""},{"$f":"IF('2.Logbook'!AJ457=\"\",\"\",'2.Logbook'!AJ457)","v":""},{"$f":"IF('2.Logbook'!AK457=\"\",\"\",'2.Logbook'!AK457)","v":""},{"$f":"IF('2.Logbook'!AL457=\"\",\"\",'2.Logbook'!AL457)","v":""},{"$f":"IF('2.Logbook'!AM457=\"\",\"\",'2.Logbook'!AM457)","v":""},{"$f":"IF('2.Logbook'!AN457=\"\",\"\",'2.Logbook'!AN457)","v":""},{"$f":"IF('2.Logbook'!AO457=\"\",\"\",'2.Logbook'!AO457)","v":""},{"$f":"IF('2.Logbook'!AP457=\"\",\"\",'2.Logbook'!AP457)","v":""},{"$f":"IF('2.Logbook'!AQ457=\"\",\"\",'2.Logbook'!AQ457)","v":""},{"$f":"IF('2.Logbook'!AR457=\"\",\"\",'2.Logbook'!AR457)","v":""},{"$f":"IF('2.Logbook'!AS457=\"\",\"\",'2.Logbook'!AS457)","v":""},{"$f":"IF('2.Logbook'!AT457=\"\",\"\",'2.Logbook'!AT457)","v":""},{"$f":"IF('2.Logbook'!AU457=\"\",\"\",'2.Logbook'!AU457)","v":""},{"$f":"IF('2.Logbook'!AV457=\"\",\"\",'2.Logbook'!AV457)","v":""},{"$f":"IF('2.Logbook'!AW457=\"\",\"\",'2.Logbook'!AW457)","v":""},{"$f":"IF('2.Logbook'!AX457=\"\",\"\",'2.Logbook'!AX457)","v":""},{"$f":"IF('2.Logbook'!AY457=\"\",\"\",'2.Logbook'!AY457)","v":""}]
[{"$f":"IF('2.Logbook'!$A458=\"\",\"\",'2.Logbook'!$A458)","v":""},{"$f":"IF('2.Logbook'!$B458=\"\",\"\",'2.Logbook'!$B458)","v":""},{"$f":"IF('2.Logbook'!AH458=\"\",\"\",'2.Logbook'!AH458)","v":""},{"$f":"IF('2.Logbook'!AI458=\"\",\"\",'2.Logbook'!AI458)","v":""},{"$f":"IF('2.Logbook'!AJ458=\"\",\"\",'2.Logbook'!AJ458)","v":""},{"$f":"IF('2.Logbook'!AK458=\"\",\"\",'2.Logbook'!AK458)","v":""},{"$f":"IF('2.Logbook'!AL458=\"\",\"\",'2.Logbook'!AL458)","v":""},{"$f":"IF('2.Logbook'!AM458=\"\",\"\",'2.Logbook'!AM458)","v":""},{"$f":"IF('2.Logbook'!AN458=\"\",\"\",'2.Logbook'!AN458)","v":""},{"$f":"IF('2.Logbook'!AO458=\"\",\"\",'2.Logbook'!AO458)","v":""},{"$f":"IF('2.Logbook'!AP458=\"\",\"\",'2.Logbook'!AP458)","v":""},{"$f":"IF('2.Logbook'!AQ458=\"\",\"\",'2.Logbook'!AQ458)","v":""},{"$f":"IF('2.Logbook'!AR458=\"\",\"\",'2.Logbook'!AR458)","v":""},{"$f":"IF('2.Logbook'!AS458=\"\",\"\",'2.Logbook'!AS458)","v":""},{"$f":"IF('2.Logbook'!AT458=\"\",\"\",'2.Logbook'!AT458)","v":""},{"$f":"IF('2.Logbook'!AU458=\"\",\"\",'2.Logbook'!AU458)","v":""},{"$f":"IF('2.Logbook'!AV458=\"\",\"\",'2.Logbook'!AV458)","v":""},{"$f":"IF('2.Logbook'!AW458=\"\",\"\",'2.Logbook'!AW458)","v":""},{"$f":"IF('2.Logbook'!AX458=\"\",\"\",'2.Logbook'!AX458)","v":""},{"$f":"IF('2.Logbook'!AY458=\"\",\"\",'2.Logbook'!AY458)","v":""}]
[{"$f":"IF('2.Logbook'!$A459=\"\",\"\",'2.Logbook'!$A459)","v":""},{"$f":"IF('2.Logbook'!$B459=\"\",\"\",'2.Logbook'!$B459)","v":""},{"$f":"IF('2.Logbook'!AH459=\"\",\"\",'2.Logbook'!AH459)","v":""},{"$f":"IF('2.Logbook'!AI459=\"\",\"\",'2.Logbook'!AI459)","v":""},{"$f":"IF('2.Logbook'!AJ459=\"\",\"\",'2.Logbook'!AJ459)","v":""},{"$f":"IF('2.Logbook'!AK459=\"\",\"\",'2.Logbook'!AK459)","v":""},{"$f":"IF('2.Logbook'!AL459=\"\",\"\",'2.Logbook'!AL459)","v":""},{"$f":"IF('2.Logbook'!AM459=\"\",\"\",'2.Logbook'!AM459)","v":""},{"$f":"IF('2.Logbook'!AN459=\"\",\"\",'2.Logbook'!AN459)","v":""},{"$f":"IF('2.Logbook'!AO459=\"\",\"\",'2.Logbook'!AO459)","v":""},{"$f":"IF('2.Logbook'!AP459=\"\",\"\",'2.Logbook'!AP459)","v":""},{"$f":"IF('2.Logbook'!AQ459=\"\",\"\",'2.Logbook'!AQ459)","v":""},{"$f":"IF('2.Logbook'!AR459=\"\",\"\",'2.Logbook'!AR459)","v":""},{"$f":"IF('2.Logbook'!AS459=\"\",\"\",'2.Logbook'!AS459)","v":""},{"$f":"IF('2.Logbook'!AT459=\"\",\"\",'2.Logbook'!AT459)","v":""},{"$f":"IF('2.Logbook'!AU459=\"\",\"\",'2.Logbook'!AU459)","v":""},{"$f":"IF('2.Logbook'!AV459=\"\",\"\",'2.Logbook'!AV459)","v":""},{"$f":"IF('2.Logbook'!AW459=\"\",\"\",'2.Logbook'!AW459)","v":""},{"$f":"IF('2.Logbook'!AX459=\"\",\"\",'2.Logbook'!AX459)","v":""},{"$f":"IF('2.Logbook'!AY459=\"\",\"\",'2.Logbook'!AY459)","v":""}]
[{"$f":"IF('2.Logbook'!$A460=\"\",\"\",'2.Logbook'!$A460)","v":""},{"$f":"IF('2.Logbook'!$B460=\"\",\"\",'2.Logbook'!$B460)","v":""},{"$f":"IF('2.Logbook'!AH460=\"\",\"\",'2.Logbook'!AH460)","v":""},{"$f":"IF('2.Logbook'!AI460=\"\",\"\",'2.Logbook'!AI460)","v":""},{"$f":"IF('2.Logbook'!AJ460=\"\",\"\",'2.Logbook'!AJ460)","v":""},{"$f":"IF('2.Logbook'!AK460=\"\",\"\",'2.Logbook'!AK460)","v":""},{"$f":"IF('2.Logbook'!AL460=\"\",\"\",'2.Logbook'!AL460)","v":""},{"$f":"IF('2.Logbook'!AM460=\"\",\"\",'2.Logbook'!AM460)","v":""},{"$f":"IF('2.Logbook'!AN460=\"\",\"\",'2.Logbook'!AN460)","v":""},{"$f":"IF('2.Logbook'!AO460=\"\",\"\",'2.Logbook'!AO460)","v":""},{"$f":"IF('2.Logbook'!AP460=\"\",\"\",'2.Logbook'!AP460)","v":""},{"$f":"IF('2.Logbook'!AQ460=\"\",\"\",'2.Logbook'!AQ460)","v":""},{"$f":"IF('2.Logbook'!AR460=\"\",\"\",'2.Logbook'!AR460)","v":""},{"$f":"IF('2.Logbook'!AS460=\"\",\"\",'2.Logbook'!AS460)","v":""},{"$f":"IF('2.Logbook'!AT460=\"\",\"\",'2.Logbook'!AT460)","v":""},{"$f":"IF('2.Logbook'!AU460=\"\",\"\",'2.Logbook'!AU460)","v":""},{"$f":"IF('2.Logbook'!AV460=\"\",\"\",'2.Logbook'!AV460)","v":""},{"$f":"IF('2.Logbook'!AW460=\"\",\"\",'2.Logbook'!AW460)","v":""},{"$f":"IF('2.Logbook'!AX460=\"\",\"\",'2.Logbook'!AX460)","v":""},{"$f":"IF('2.Logbook'!AY460=\"\",\"\",'2.Logbook'!AY460)","v":""}]
[{"$f":"IF('2.Logbook'!$A461=\"\",\"\",'2.Logbook'!$A461)","v":""},{"$f":"IF('2.Logbook'!$B461=\"\",\"\",'2.Logbook'!$B461)","v":""},{"$f":"IF('2.Logbook'!AH461=\"\",\"\",'2.Logbook'!AH461)","v":""},{"$f":"IF('2.Logbook'!AI461=\"\",\"\",'2.Logbook'!AI461)","v":""},{"$f":"IF('2.Logbook'!AJ461=\"\",\"\",'2.Logbook'!AJ461)","v":""},{"$f":"IF('2.Logbook'!AK461=\"\",\"\",'2.Logbook'!AK461)","v":""},{"$f":"IF('2.Logbook'!AL461=\"\",\"\",'2.Logbook'!AL461)","v":""},{"$f":"IF('2.Logbook'!AM461=\"\",\"\",'2.Logbook'!AM461)","v":""},{"$f":"IF('2.Logbook'!AN461=\"\",\"\",'2.Logbook'!AN461)","v":""},{"$f":"IF('2.Logbook'!AO461=\"\",\"\",'2.Logbook'!AO461)","v":""},{"$f":"IF('2.Logbook'!AP461=\"\",\"\",'2.Logbook'!AP461)","v":""},{"$f":"IF('2.Logbook'!AQ461=\"\",\"\",'2.Logbook'!AQ461)","v":""},{"$f":"IF('2.Logbook'!AR461=\"\",\"\",'2.Logbook'!AR461)","v":""},{"$f":"IF('2.Logbook'!AS461=\"\",\"\",'2.Logbook'!AS461)","v":""},{"$f":"IF('2.Logbook'!AT461=\"\",\"\",'2.Logbook'!AT461)","v":""},{"$f":"IF('2.Logbook'!AU461=\"\",\"\",'2.Logbook'!AU461)","v":""},{"$f":"IF('2.Logbook'!AV461=\"\",\"\",'2.Logbook'!AV461)","v":""},{"$f":"IF('2.Logbook'!AW461=\"\",\"\",'2.Logbook'!AW461)","v":""},{"$f":"IF('2.Logbook'!AX461=\"\",\"\",'2.Logbook'!AX461)","v":""},{"$f":"IF('2.Logbook'!AY461=\"\",\"\",'2.Logbook'!AY461)","v":""}]
[{"$f":"IF('2.Logbook'!$A462=\"\",\"\",'2.Logbook'!$A462)","v":""},{"$f":"IF('2.Logbook'!$B462=\"\",\"\",'2.Logbook'!$B462)","v":""},{"$f":"IF('2.Logbook'!AH462=\"\",\"\",'2.Logbook'!AH462)","v":""},{"$f":"IF('2.Logbook'!AI462=\"\",\"\",'2.Logbook'!AI462)","v":""},{"$f":"IF('2.Logbook'!AJ462=\"\",\"\",'2.Logbook'!AJ462)","v":""},{"$f":"IF('2.Logbook'!AK462=\"\",\"\",'2.Logbook'!AK462)","v":""},{"$f":"IF('2.Logbook'!AL462=\"\",\"\",'2.Logbook'!AL462)","v":""},{"$f":"IF('2.Logbook'!AM462=\"\",\"\",'2.Logbook'!AM462)","v":""},{"$f":"IF('2.Logbook'!AN462=\"\",\"\",'2.Logbook'!AN462)","v":""},{"$f":"IF('2.Logbook'!AO462=\"\",\"\",'2.Logbook'!AO462)","v":""},{"$f":"IF('2.Logbook'!AP462=\"\",\"\",'2.Logbook'!AP462)","v":""},{"$f":"IF('2.Logbook'!AQ462=\"\",\"\",'2.Logbook'!AQ462)","v":""},{"$f":"IF('2.Logbook'!AR462=\"\",\"\",'2.Logbook'!AR462)","v":""},{"$f":"IF('2.Logbook'!AS462=\"\",\"\",'2.Logbook'!AS462)","v":""},{"$f":"IF('2.Logbook'!AT462=\"\",\"\",'2.Logbook'!AT462)","v":""},{"$f":"IF('2.Logbook'!AU462=\"\",\"\",'2.Logbook'!AU462)","v":""},{"$f":"IF('2.Logbook'!AV462=\"\",\"\",'2.Logbook'!AV462)","v":""},{"$f":"IF('2.Logbook'!AW462=\"\",\"\",'2.Logbook'!AW462)","v":""},{"$f":"IF('2.Logbook'!AX462=\"\",\"\",'2.Logbook'!AX462)","v":""},{"$f":"IF('2.Logbook'!AY462=\"\",\"\",'2.Logbook'!AY462)","v":""}]
[{"$f":"IF('2.Logbook'!$A463=\"\",\"\",'2.Logbook'!$A463)","v":""},{"$f":"IF('2.Logbook'!$B463=\"\",\"\",'2.Logbook'!$B463)","v":""},{"$f":"IF('2.Logbook'!AH463=\"\",\"\",'2.Logbook'!AH463)","v":""},{"$f":"IF('2.Logbook'!AI463=\"\",\"\",'2.Logbook'!AI463)","v":""},{"$f":"IF('2.Logbook'!AJ463=\"\",\"\",'2.Logbook'!AJ463)","v":""},{"$f":"IF('2.Logbook'!AK463=\"\",\"\",'2.Logbook'!AK463)","v":""},{"$f":"IF('2.Logbook'!AL463=\"\",\"\",'2.Logbook'!AL463)","v":""},{"$f":"IF('2.Logbook'!AM463=\"\",\"\",'2.Logbook'!AM463)","v":""},{"$f":"IF('2.Logbook'!AN463=\"\",\"\",'2.Logbook'!AN463)","v":""},{"$f":"IF('2.Logbook'!AO463=\"\",\"\",'2.Logbook'!AO463)","v":""},{"$f":"IF('2.Logbook'!AP463=\"\",\"\",'2.Logbook'!AP463)","v":""},{"$f":"IF('2.Logbook'!AQ463=\"\",\"\",'2.Logbook'!AQ463)","v":""},{"$f":"IF('2.Logbook'!AR463=\"\",\"\",'2.Logbook'!AR463)","v":""},{"$f":"IF('2.Logbook'!AS463=\"\",\"\",'2.Logbook'!AS463)","v":""},{"$f":"IF('2.Logbook'!AT463=\"\",\"\",'2.Logbook'!AT463)","v":""},{"$f":"IF('2.Logbook'!AU463=\"\",\"\",'2.Logbook'!AU463)","v":""},{"$f":"IF('2.Logbook'!AV463=\"\",\"\",'2.Logbook'!AV463)","v":""},{"$f":"IF('2.Logbook'!AW463=\"\",\"\",'2.Logbook'!AW463)","v":""},{"$f":"IF('2.Logbook'!AX463=\"\",\"\",'2.Logbook'!AX463)","v":""},{"$f":"IF('2.Logbook'!AY463=\"\",\"\",'2.Logbook'!AY463)","v":""}]
[{"$f":"IF('2.Logbook'!$A464=\"\",\"\",'2.Logbook'!$A464)","v":""},{"$f":"IF('2.Logbook'!$B464=\"\",\"\",'2.Logbook'!$B464)","v":""},{"$f":"IF('2.Logbook'!AH464=\"\",\"\",'2.Logbook'!AH464)","v":""},{"$f":"IF('2.Logbook'!AI464=\"\",\"\",'2.Logbook'!AI464)","v":""},{"$f":"IF('2.Logbook'!AJ464=\"\",\"\",'2.Logbook'!AJ464)","v":""},{"$f":"IF('2.Logbook'!AK464=\"\",\"\",'2.Logbook'!AK464)","v":""},{"$f":"IF('2.Logbook'!AL464=\"\",\"\",'2.Logbook'!AL464)","v":""},{"$f":"IF('2.Logbook'!AM464=\"\",\"\",'2.Logbook'!AM464)","v":""},{"$f":"IF('2.Logbook'!AN464=\"\",\"\",'2.Logbook'!AN464)","v":""},{"$f":"IF('2.Logbook'!AO464=\"\",\"\",'2.Logbook'!AO464)","v":""},{"$f":"IF('2.Logbook'!AP464=\"\",\"\",'2.Logbook'!AP464)","v":""},{"$f":"IF('2.Logbook'!AQ464=\"\",\"\",'2.Logbook'!AQ464)","v":""},{"$f":"IF('2.Logbook'!AR464=\"\",\"\",'2.Logbook'!AR464)","v":""},{"$f":"IF('2.Logbook'!AS464=\"\",\"\",'2.Logbook'!AS464)","v":""},{"$f":"IF('2.Logbook'!AT464=\"\",\"\",'2.Logbook'!AT464)","v":""},{"$f":"IF('2.Logbook'!AU464=\"\",\"\",'2.Logbook'!AU464)","v":""},{"$f":"IF('2.Logbook'!AV464=\"\",\"\",'2.Logbook'!AV464)","v":""},{"$f":"IF('2.Logbook'!AW464=\"\",\"\",'2.Logbook'!AW464)","v":""},{"$f":"IF('2.Logbook'!AX464=\"\",\"\",'2.Logbook'!AX464)","v":""},{"$f":"IF('2.Logbook'!AY464=\"\",\"\",'2.Logbook'!AY464)","v":""}]
[{"$f":"IF('2.Logbook'!$A465=\"\",\"\",'2.Logbook'!$A465)","v":""},{"$f":"IF('2.Logbook'!$B465=\"\",\"\",'2.Logbook'!$B465)","v":""},{"$f":"IF('2.Logbook'!AH465=\"\",\"\",'2.Logbook'!AH465)","v":""},{"$f":"IF('2.Logbook'!AI465=\"\",\"\",'2.Logbook'!AI465)","v":""},{"$f":"IF('2.Logbook'!AJ465=\"\",\"\",'2.Logbook'!AJ465)","v":""},{"$f":"IF('2.Logbook'!AK465=\"\",\"\",'2.Logbook'!AK465)","v":""},{"$f":"IF('2.Logbook'!AL465=\"\",\"\",'2.Logbook'!AL465)","v":""},{"$f":"IF('2.Logbook'!AM465=\"\",\"\",'2.Logbook'!AM465)","v":""},{"$f":"IF('2.Logbook'!AN465=\"\",\"\",'2.Logbook'!AN465)","v":""},{"$f":"IF('2.Logbook'!AO465=\"\",\"\",'2.Logbook'!AO465)","v":""},{"$f":"IF('2.Logbook'!AP465=\"\",\"\",'2.Logbook'!AP465)","v":""},{"$f":"IF('2.Logbook'!AQ465=\"\",\"\",'2.Logbook'!AQ465)","v":""},{"$f":"IF('2.Logbook'!AR465=\"\",\"\",'2.Logbook'!AR465)","v":""},{"$f":"IF('2.Logbook'!AS465=\"\",\"\",'2.Logbook'!AS465)","v":""},{"$f":"IF('2.Logbook'!AT465=\"\",\"\",'2.Logbook'!AT465)","v":""},{"$f":"IF('2.Logbook'!AU465=\"\",\"\",'2.Logbook'!AU465)","v":""},{"$f":"IF('2.Logbook'!AV465=\"\",\"\",'2.Logbook'!AV465)","v":""},{"$f":"IF('2.Logbook'!AW465=\"\",\"\",'2.Logbook'!AW465)","v":""},{"$f":"IF('2.Logbook'!AX465=\"\",\"\",'2.Logbook'!AX465)","v":""},{"$f":"IF('2.Logbook'!AY465=\"\",\"\",'2.Logbook'!AY465)","v":""}]
[{"$f":"IF('2.Logbook'!$A466=\"\",\"\",'2.Logbook'!$A466)","v":""},{"$f":"IF('2.Logbook'!$B466=\"\",\"\",'2.Logbook'!$B466)","v":""},{"$f":"IF('2.Logbook'!AH466=\"\",\"\",'2.Logbook'!AH466)","v":""},{"$f":"IF('2.Logbook'!AI466=\"\",\"\",'2.Logbook'!AI466)","v":""},{"$f":"IF('2.Logbook'!AJ466=\"\",\"\",'2.Logbook'!AJ466)","v":""},{"$f":"IF('2.Logbook'!AK466=\"\",\"\",'2.Logbook'!AK466)","v":""},{"$f":"IF('2.Logbook'!AL466=\"\",\"\",'2.Logbook'!AL466)","v":""},{"$f":"IF('2.Logbook'!AM466=\"\",\"\",'2.Logbook'!AM466)","v":""},{"$f":"IF('2.Logbook'!AN466=\"\",\"\",'2.Logbook'!AN466)","v":""},{"$f":"IF('2.Logbook'!AO466=\"\",\"\",'2.Logbook'!AO466)","v":""},{"$f":"IF('2.Logbook'!AP466=\"\",\"\",'2.Logbook'!AP466)","v":""},{"$f":"IF('2.Logbook'!AQ466=\"\",\"\",'2.Logbook'!AQ466)","v":""},{"$f":"IF('2.Logbook'!AR466=\"\",\"\",'2.Logbook'!AR466)","v":""},{"$f":"IF('2.Logbook'!AS466=\"\",\"\",'2.Logbook'!AS466)","v":""},{"$f":"IF('2.Logbook'!AT466=\"\",\"\",'2.Logbook'!AT466)","v":""},{"$f":"IF('2.Logbook'!AU466=\"\",\"\",'2.Logbook'!AU466)","v":""},{"$f":"IF('2.Logbook'!AV466=\"\",\"\",'2.Logbook'!AV466)","v":""},{"$f":"IF('2.Logbook'!AW466=\"\",\"\",'2.Logbook'!AW466)","v":""},{"$f":"IF('2.Logbook'!AX466=\"\",\"\",'2.Logbook'!AX466)","v":""},{"$f":"IF('2.Logbook'!AY466=\"\",\"\",'2.Logbook'!AY466)","v":""}]
[{"$f":"IF('2.Logbook'!$A467=\"\",\"\",'2.Logbook'!$A467)","v":""},{"$f":"IF('2.Logbook'!$B467=\"\",\"\",'2.Logbook'!$B467)","v":""},{"$f":"IF('2.Logbook'!AH467=\"\",\"\",'2.Logbook'!AH467)","v":""},{"$f":"IF('2.Logbook'!AI467=\"\",\"\",'2.Logbook'!AI467)","v":""},{"$f":"IF('2.Logbook'!AJ467=\"\",\"\",'2.Logbook'!AJ467)","v":""},{"$f":"IF('2.Logbook'!AK467=\"\",\"\",'2.Logbook'!AK467)","v":""},{"$f":"IF('2.Logbook'!AL467=\"\",\"\",'2.Logbook'!AL467)","v":""},{"$f":"IF('2.Logbook'!AM467=\"\",\"\",'2.Logbook'!AM467)","v":""},{"$f":"IF('2.Logbook'!AN467=\"\",\"\",'2.Logbook'!AN467)","v":""},{"$f":"IF('2.Logbook'!AO467=\"\",\"\",'2.Logbook'!AO467)","v":""},{"$f":"IF('2.Logbook'!AP467=\"\",\"\",'2.Logbook'!AP467)","v":""},{"$f":"IF('2.Logbook'!AQ467=\"\",\"\",'2.Logbook'!AQ467)","v":""},{"$f":"IF('2.Logbook'!AR467=\"\",\"\",'2.Logbook'!AR467)","v":""},{"$f":"IF('2.Logbook'!AS467=\"\",\"\",'2.Logbook'!AS467)","v":""},{"$f":"IF('2.Logbook'!AT467=\"\",\"\",'2.Logbook'!AT467)","v":""},{"$f":"IF('2.Logbook'!AU467=\"\",\"\",'2.Logbook'!AU467)","v":""},{"$f":"IF('2.Logbook'!AV467=\"\",\"\",'2.Logbook'!AV467)","v":""},{"$f":"IF('2.Logbook'!AW467=\"\",\"\",'2.Logbook'!AW467)","v":""},{"$f":"IF('2.Logbook'!AX467=\"\",\"\",'2.Logbook'!AX467)","v":""},{"$f":"IF('2.Logbook'!AY467=\"\",\"\",'2.Logbook'!AY467)","v":""}]
[{"$f":"IF('2.Logbook'!$A468=\"\",\"\",'2.Logbook'!$A468)","v":""},{"$f":"IF('2.Logbook'!$B468=\"\",\"\",'2.Logbook'!$B468)","v":""},{"$f":"IF('2.Logbook'!AH468=\"\",\"\",'2.Logbook'!AH468)","v":""},{"$f":"IF('2.Logbook'!AI468=\"\",\"\",'2.Logbook'!AI468)","v":""},{"$f":"IF('2.Logbook'!AJ468=\"\",\"\",'2.Logbook'!AJ468)","v":""},{"$f":"IF('2.Logbook'!AK468=\"\",\"\",'2.Logbook'!AK468)","v":""},{"$f":"IF('2.Logbook'!AL468=\"\",\"\",'2.Logbook'!AL468)","v":""},{"$f":"IF('2.Logbook'!AM468=\"\",\"\",'2.Logbook'!AM468)","v":""},{"$f":"IF('2.Logbook'!AN468=\"\",\"\",'2.Logbook'!AN468)","v":""},{"$f":"IF('2.Logbook'!AO468=\"\",\"\",'2.Logbook'!AO468)","v":""},{"$f":"IF('2.Logbook'!AP468=\"\",\"\",'2.Logbook'!AP468)","v":""},{"$f":"IF('2.Logbook'!AQ468=\"\",\"\",'2.Logbook'!AQ468)","v":""},{"$f":"IF('2.Logbook'!AR468=\"\",\"\",'2.Logbook'!AR468)","v":""},{"$f":"IF('2.Logbook'!AS468=\"\",\"\",'2.Logbook'!AS468)","v":""},{"$f":"IF('2.Logbook'!AT468=\"\",\"\",'2.Logbook'!AT468)","v":""},{"$f":"IF('2.Logbook'!AU468=\"\",\"\",'2.Logbook'!AU468)","v":""},{"$f":"IF('2.Logbook'!AV468=\"\",\"\",'2.Logbook'!AV468)","v":""},{"$f":"IF('2.Logbook'!AW468=\"\",\"\",'2.Logbook'!AW468)","v":""},{"$f":"IF('2.Logbook'!AX468=\"\",\"\",'2.Logbook'!AX468)","v":""},{"$f":"IF('2.Logbook'!AY468=\"\",\"\",'2.Logbook'!AY468)","v":""}]
[{"$f":"IF('2.Logbook'!$A469=\"\",\"\",'2.Logbook'!$A469)","v":""},{"$f":"IF('2.Logbook'!$B469=\"\",\"\",'2.Logbook'!$B469)","v":""},{"$f":"IF('2.Logbook'!AH469=\"\",\"\",'2.Logbook'!AH469)","v":""},{"$f":"IF('2.Logbook'!AI469=\"\",\"\",'2.Logbook'!AI469)","v":""},{"$f":"IF('2.Logbook'!AJ469=\"\",\"\",'2.Logbook'!AJ469)","v":""},{"$f":"IF('2.Logbook'!AK469=\"\",\"\",'2.Logbook'!AK469)","v":""},{"$f":"IF('2.Logbook'!AL469=\"\",\"\",'2.Logbook'!AL469)","v":""},{"$f":"IF('2.Logbook'!AM469=\"\",\"\",'2.Logbook'!AM469)","v":""},{"$f":"IF('2.Logbook'!AN469=\"\",\"\",'2.Logbook'!AN469)","v":""},{"$f":"IF('2.Logbook'!AO469=\"\",\"\",'2.Logbook'!AO469)","v":""},{"$f":"IF('2.Logbook'!AP469=\"\",\"\",'2.Logbook'!AP469)","v":""},{"$f":"IF('2.Logbook'!AQ469=\"\",\"\",'2.Logbook'!AQ469)","v":""},{"$f":"IF('2.Logbook'!AR469=\"\",\"\",'2.Logbook'!AR469)","v":""},{"$f":"IF('2.Logbook'!AS469=\"\",\"\",'2.Logbook'!AS469)","v":""},{"$f":"IF('2.Logbook'!AT469=\"\",\"\",'2.Logbook'!AT469)","v":""},{"$f":"IF('2.Logbook'!AU469=\"\",\"\",'2.Logbook'!AU469)","v":""},{"$f":"IF('2.Logbook'!AV469=\"\",\"\",'2.Logbook'!AV469)","v":""},{"$f":"IF('2.Logbook'!AW469=\"\",\"\",'2.Logbook'!AW469)","v":""},{"$f":"IF('2.Logbook'!AX469=\"\",\"\",'2.Logbook'!AX469)","v":""},{"$f":"IF('2.Logbook'!AY469=\"\",\"\",'2.Logbook'!AY469)","v":""}]
[{"$f":"IF('2.Logbook'!$A470=\"\",\"\",'2.Logbook'!$A470)","v":""},{"$f":"IF('2.Logbook'!$B470=\"\",\"\",'2.Logbook'!$B470)","v":""},{"$f":"IF('2.Logbook'!AH470=\"\",\"\",'2.Logbook'!AH470)","v":""},{"$f":"IF('2.Logbook'!AI470=\"\",\"\",'2.Logbook'!AI470)","v":""},{"$f":"IF('2.Logbook'!AJ470=\"\",\"\",'2.Logbook'!AJ470)","v":""},{"$f":"IF('2.Logbook'!AK470=\"\",\"\",'2.Logbook'!AK470)","v":""},{"$f":"IF('2.Logbook'!AL470=\"\",\"\",'2.Logbook'!AL470)","v":""},{"$f":"IF('2.Logbook'!AM470=\"\",\"\",'2.Logbook'!AM470)","v":""},{"$f":"IF('2.Logbook'!AN470=\"\",\"\",'2.Logbook'!AN470)","v":""},{"$f":"IF('2.Logbook'!AO470=\"\",\"\",'2.Logbook'!AO470)","v":""},{"$f":"IF('2.Logbook'!AP470=\"\",\"\",'2.Logbook'!AP470)","v":""},{"$f":"IF('2.Logbook'!AQ470=\"\",\"\",'2.Logbook'!AQ470)","v":""},{"$f":"IF('2.Logbook'!AR470=\"\",\"\",'2.Logbook'!AR470)","v":""},{"$f":"IF('2.Logbook'!AS470=\"\",\"\",'2.Logbook'!AS470)","v":""},{"$f":"IF('2.Logbook'!AT470=\"\",\"\",'2.Logbook'!AT470)","v":""},{"$f":"IF('2.Logbook'!AU470=\"\",\"\",'2.Logbook'!AU470)","v":""},{"$f":"IF('2.Logbook'!AV470=\"\",\"\",'2.Logbook'!AV470)","v":""},{"$f":"IF('2.Logbook'!AW470=\"\",\"\",'2.Logbook'!AW470)","v":""},{"$f":"IF('2.Logbook'!AX470=\"\",\"\",'2.Logbook'!AX470)","v":""},{"$f":"IF('2.Logbook'!AY470=\"\",\"\",'2.Logbook'!AY470)","v":""}]
[{"$f":"IF('2.Logbook'!$A471=\"\",\"\",'2.Logbook'!$A471)","v":""},{"$f":"IF('2.Logbook'!$B471=\"\",\"\",'2.Logbook'!$B471)","v":""},{"$f":"IF('2.Logbook'!AH471=\"\",\"\",'2.Logbook'!AH471)","v":""},{"$f":"IF('2.Logbook'!AI471=\"\",\"\",'2.Logbook'!AI471)","v":""},{"$f":"IF('2.Logbook'!AJ471=\"\",\"\",'2.Logbook'!AJ471)","v":""},{"$f":"IF('2.Logbook'!AK471=\"\",\"\",'2.Logbook'!AK471)","v":""},{"$f":"IF('2.Logbook'!AL471=\"\",\"\",'2.Logbook'!AL471)","v":""},{"$f":"IF('2.Logbook'!AM471=\"\",\"\",'2.Logbook'!AM471)","v":""},{"$f":"IF('2.Logbook'!AN471=\"\",\"\",'2.Logbook'!AN471)","v":""},{"$f":"IF('2.Logbook'!AO471=\"\",\"\",'2.Logbook'!AO471)","v":""},{"$f":"IF('2.Logbook'!AP471=\"\",\"\",'2.Logbook'!AP471)","v":""},{"$f":"IF('2.Logbook'!AQ471=\"\",\"\",'2.Logbook'!AQ471)","v":""},{"$f":"IF('2.Logbook'!AR471=\"\",\"\",'2.Logbook'!AR471)","v":""},{"$f":"IF('2.Logbook'!AS471=\"\",\"\",'2.Logbook'!AS471)","v":""},{"$f":"IF('2.Logbook'!AT471=\"\",\"\",'2.Logbook'!AT471)","v":""},{"$f":"IF('2.Logbook'!AU471=\"\",\"\",'2.Logbook'!AU471)","v":""},{"$f":"IF('2.Logbook'!AV471=\"\",\"\",'2.Logbook'!AV471)","v":""},{"$f":"IF('2.Logbook'!AW471=\"\",\"\",'2.Logbook'!AW471)","v":""},{"$f":"IF('2.Logbook'!AX471=\"\",\"\",'2.Logbook'!AX471)","v":""},{"$f":"IF('2.Logbook'!AY471=\"\",\"\",'2.Logbook'!AY471)","v":""}]
[{"$f":"IF('2.Logbook'!$A472=\"\",\"\",'2.Logbook'!$A472)","v":""},{"$f":"IF('2.Logbook'!$B472=\"\",\"\",'2.Logbook'!$B472)","v":""},{"$f":"IF('2.Logbook'!AH472=\"\",\"\",'2.Logbook'!AH472)","v":""},{"$f":"IF('2.Logbook'!AI472=\"\",\"\",'2.Logbook'!AI472)","v":""},{"$f":"IF('2.Logbook'!AJ472=\"\",\"\",'2.Logbook'!AJ472)","v":""},{"$f":"IF('2.Logbook'!AK472=\"\",\"\",'2.Logbook'!AK472)","v":""},{"$f":"IF('2.Logbook'!AL472=\"\",\"\",'2.Logbook'!AL472)","v":""},{"$f":"IF('2.Logbook'!AM472=\"\",\"\",'2.Logbook'!AM472)","v":""},{"$f":"IF('2.Logbook'!AN472=\"\",\"\",'2.Logbook'!AN472)","v":""},{"$f":"IF('2.Logbook'!AO472=\"\",\"\",'2.Logbook'!AO472)","v":""},{"$f":"IF('2.Logbook'!AP472=\"\",\"\",'2.Logbook'!AP472)","v":""},{"$f":"IF('2.Logbook'!AQ472=\"\",\"\",'2.Logbook'!AQ472)","v":""},{"$f":"IF('2.Logbook'!AR472=\"\",\"\",'2.Logbook'!AR472)","v":""},{"$f":"IF('2.Logbook'!AS472=\"\",\"\",'2.Logbook'!AS472)","v":""},{"$f":"IF('2.Logbook'!AT472=\"\",\"\",'2.Logbook'!AT472)","v":""},{"$f":"IF('2.Logbook'!AU472=\"\",\"\",'2.Logbook'!AU472)","v":""},{"$f":"IF('2.Logbook'!AV472=\"\",\"\",'2.Logbook'!AV472)","v":""},{"$f":"IF('2.Logbook'!AW472=\"\",\"\",'2.Logbook'!AW472)","v":""},{"$f":"IF('2.Logbook'!AX472=\"\",\"\",'2.Logbook'!AX472)","v":""},{"$f":"IF('2.Logbook'!AY472=\"\",\"\",'2.Logbook'!AY472)","v":""}]
[{"$f":"IF('2.Logbook'!$A473=\"\",\"\",'2.Logbook'!$A473)","v":""},{"$f":"IF('2.Logbook'!$B473=\"\",\"\",'2.Logbook'!$B473)","v":""},{"$f":"IF('2.Logbook'!AH473=\"\",\"\",'2.Logbook'!AH473)","v":""},{"$f":"IF('2.Logbook'!AI473=\"\",\"\",'2.Logbook'!AI473)","v":""},{"$f":"IF('2.Logbook'!AJ473=\"\",\"\",'2.Logbook'!AJ473)","v":""},{"$f":"IF('2.Logbook'!AK473=\"\",\"\",'2.Logbook'!AK473)","v":""},{"$f":"IF('2.Logbook'!AL473=\"\",\"\",'2.Logbook'!AL473)","v":""},{"$f":"IF('2.Logbook'!AM473=\"\",\"\",'2.Logbook'!AM473)","v":""},{"$f":"IF('2.Logbook'!AN473=\"\",\"\",'2.Logbook'!AN473)","v":""},{"$f":"IF('2.Logbook'!AO473=\"\",\"\",'2.Logbook'!AO473)","v":""},{"$f":"IF('2.Logbook'!AP473=\"\",\"\",'2.Logbook'!AP473)","v":""},{"$f":"IF('2.Logbook'!AQ473=\"\",\"\",'2.Logbook'!AQ473)","v":""},{"$f":"IF('2.Logbook'!AR473=\"\",\"\",'2.Logbook'!AR473)","v":""},{"$f":"IF('2.Logbook'!AS473=\"\",\"\",'2.Logbook'!AS473)","v":""},{"$f":"IF('2.Logbook'!AT473=\"\",\"\",'2.Logbook'!AT473)","v":""},{"$f":"IF('2.Logbook'!AU473=\"\",\"\",'2.Logbook'!AU473)","v":""},{"$f":"IF('2.Logbook'!AV473=\"\",\"\",'2.Logbook'!AV473)","v":""},{"$f":"IF('2.Logbook'!AW473=\"\",\"\",'2.Logbook'!AW473)","v":""},{"$f":"IF('2.Logbook'!AX473=\"\",\"\",'2.Logbook'!AX473)","v":""},{"$f":"IF('2.Logbook'!AY473=\"\",\"\",'2.Logbook'!AY473)","v":""}]
[{"$f":"IF('2.Logbook'!$A474=\"\",\"\",'2.Logbook'!$A474)","v":""},{"$f":"IF('2.Logbook'!$B474=\"\",\"\",'2.Logbook'!$B474)","v":""},{"$f":"IF('2.Logbook'!AH474=\"\",\"\",'2.Logbook'!AH474)","v":""},{"$f":"IF('2.Logbook'!AI474=\"\",\"\",'2.Logbook'!AI474)","v":""},{"$f":"IF('2.Logbook'!AJ474=\"\",\"\",'2.Logbook'!AJ474)","v":""},{"$f":"IF('2.Logbook'!AK474=\"\",\"\",'2.Logbook'!AK474)","v":""},{"$f":"IF('2.Logbook'!AL474=\"\",\"\",'2.Logbook'!AL474)","v":""},{"$f":"IF('2.Logbook'!AM474=\"\",\"\",'2.Logbook'!AM474)","v":""},{"$f":"IF('2.Logbook'!AN474=\"\",\"\",'2.Logbook'!AN474)","v":""},{"$f":"IF('2.Logbook'!AO474=\"\",\"\",'2.Logbook'!AO474)","v":""},{"$f":"IF('2.Logbook'!AP474=\"\",\"\",'2.Logbook'!AP474)","v":""},{"$f":"IF('2.Logbook'!AQ474=\"\",\"\",'2.Logbook'!AQ474)","v":""},{"$f":"IF('2.Logbook'!AR474=\"\",\"\",'2.Logbook'!AR474)","v":""},{"$f":"IF('2.Logbook'!AS474=\"\",\"\",'2.Logbook'!AS474)","v":""},{"$f":"IF('2.Logbook'!AT474=\"\",\"\",'2.Logbook'!AT474)","v":""},{"$f":"IF('2.Logbook'!AU474=\"\",\"\",'2.Logbook'!AU474)","v":""},{"$f":"IF('2.Logbook'!AV474=\"\",\"\",'2.Logbook'!AV474)","v":""},{"$f":"IF('2.Logbook'!AW474=\"\",\"\",'2.Logbook'!AW474)","v":""},{"$f":"IF('2.Logbook'!AX474=\"\",\"\",'2.Logbook'!AX474)","v":""},{"$f":"IF('2.Logbook'!AY474=\"\",\"\",'2.Logbook'!AY474)","v":""}]
[{"$f":"IF('2.Logbook'!$A475=\"\",\"\",'2.Logbook'!$A475)","v":""},{"$f":"IF('2.Logbook'!$B475=\"\",\"\",'2.Logbook'!$B475)","v":""},{"$f":"IF('2.Logbook'!AH475=\"\",\"\",'2.Logbook'!AH475)","v":""},{"$f":"IF('2.Logbook'!AI475=\"\",\"\",'2.Logbook'!AI475)","v":""},{"$f":"IF('2.Logbook'!AJ475=\"\",\"\",'2.Logbook'!AJ475)","v":""},{"$f":"IF('2.Logbook'!AK475=\"\",\"\",'2.Logbook'!AK475)","v":""},{"$f":"IF('2.Logbook'!AL475=\"\",\"\",'2.Logbook'!AL475)","v":""},{"$f":"IF('2.Logbook'!AM475=\"\",\"\",'2.Logbook'!AM475)","v":""},{"$f":"IF('2.Logbook'!AN475=\"\",\"\",'2.Logbook'!AN475)","v":""},{"$f":"IF('2.Logbook'!AO475=\"\",\"\",'2.Logbook'!AO475)","v":""},{"$f":"IF('2.Logbook'!AP475=\"\",\"\",'2.Logbook'!AP475)","v":""},{"$f":"IF('2.Logbook'!AQ475=\"\",\"\",'2.Logbook'!AQ475)","v":""},{"$f":"IF('2.Logbook'!AR475=\"\",\"\",'2.Logbook'!AR475)","v":""},{"$f":"IF('2.Logbook'!AS475=\"\",\"\",'2.Logbook'!AS475)","v":""},{"$f":"IF('2.Logbook'!AT475=\"\",\"\",'2.Logbook'!AT475)","v":""},{"$f":"IF('2.Logbook'!AU475=\"\",\"\",'2.Logbook'!AU475)","v":""},{"$f":"IF('2.Logbook'!AV475=\"\",\"\",'2.Logbook'!AV475)","v":""},{"$f":"IF('2.Logbook'!AW475=\"\",\"\",'2.Logbook'!AW475)","v":""},{"$f":"IF('2.Logbook'!AX475=\"\",\"\",'2.Logbook'!AX475)","v":""},{"$f":"IF('2.Logbook'!AY475=\"\",\"\",'2.Logbook'!AY475)","v":""}]
[{"$f":"IF('2.Logbook'!$A476=\"\",\"\",'2.Logbook'!$A476)","v":""},{"$f":"IF('2.Logbook'!$B476=\"\",\"\",'2.Logbook'!$B476)","v":""},{"$f":"IF('2.Logbook'!AH476=\"\",\"\",'2.Logbook'!AH476)","v":""},{"$f":"IF('2.Logbook'!AI476=\"\",\"\",'2.Logbook'!AI476)","v":""},{"$f":"IF('2.Logbook'!AJ476=\"\",\"\",'2.Logbook'!AJ476)","v":""},{"$f":"IF('2.Logbook'!AK476=\"\",\"\",'2.Logbook'!AK476)","v":""},{"$f":"IF('2.Logbook'!AL476=\"\",\"\",'2.Logbook'!AL476)","v":""},{"$f":"IF('2.Logbook'!AM476=\"\",\"\",'2.Logbook'!AM476)","v":""},{"$f":"IF('2.Logbook'!AN476=\"\",\"\",'2.Logbook'!AN476)","v":""},{"$f":"IF('2.Logbook'!AO476=\"\",\"\",'2.Logbook'!AO476)","v":""},{"$f":"IF('2.Logbook'!AP476=\"\",\"\",'2.Logbook'!AP476)","v":""},{"$f":"IF('2.Logbook'!AQ476=\"\",\"\",'2.Logbook'!AQ476)","v":""},{"$f":"IF('2.Logbook'!AR476=\"\",\"\",'2.Logbook'!AR476)","v":""},{"$f":"IF('2.Logbook'!AS476=\"\",\"\",'2.Logbook'!AS476)","v":""},{"$f":"IF('2.Logbook'!AT476=\"\",\"\",'2.Logbook'!AT476)","v":""},{"$f":"IF('2.Logbook'!AU476=\"\",\"\",'2.Logbook'!AU476)","v":""},{"$f":"IF('2.Logbook'!AV476=\"\",\"\",'2.Logbook'!AV476)","v":""},{"$f":"IF('2.Logbook'!AW476=\"\",\"\",'2.Logbook'!AW476)","v":""},{"$f":"IF('2.Logbook'!AX476=\"\",\"\",'2.Logbook'!AX476)","v":""},{"$f":"IF('2.Logbook'!AY476=\"\",\"\",'2.Logbook'!AY476)","v":""}]
[{"$f":"IF('2.Logbook'!$A477=\"\",\"\",'2.Logbook'!$A477)","v":""},{"$f":"IF('2.Logbook'!$B477=\"\",\"\",'2.Logbook'!$B477)","v":""},{"$f":"IF('2.Logbook'!AH477=\"\",\"\",'2.Logbook'!AH477)","v":""},{"$f":"IF('2.Logbook'!AI477=\"\",\"\",'2.Logbook'!AI477)","v":""},{"$f":"IF('2.Logbook'!AJ477=\"\",\"\",'2.Logbook'!AJ477)","v":""},{"$f":"IF('2.Logbook'!AK477=\"\",\"\",'2.Logbook'!AK477)","v":""},{"$f":"IF('2.Logbook'!AL477=\"\",\"\",'2.Logbook'!AL477)","v":""},{"$f":"IF('2.Logbook'!AM477=\"\",\"\",'2.Logbook'!AM477)","v":""},{"$f":"IF('2.Logbook'!AN477=\"\",\"\",'2.Logbook'!AN477)","v":""},{"$f":"IF('2.Logbook'!AO477=\"\",\"\",'2.Logbook'!AO477)","v":""},{"$f":"IF('2.Logbook'!AP477=\"\",\"\",'2.Logbook'!AP477)","v":""},{"$f":"IF('2.Logbook'!AQ477=\"\",\"\",'2.Logbook'!AQ477)","v":""},{"$f":"IF('2.Logbook'!AR477=\"\",\"\",'2.Logbook'!AR477)","v":""},{"$f":"IF('2.Logbook'!AS477=\"\",\"\",'2.Logbook'!AS477)","v":""},{"$f":"IF('2.Logbook'!AT477=\"\",\"\",'2.Logbook'!AT477)","v":""},{"$f":"IF('2.Logbook'!AU477=\"\",\"\",'2.Logbook'!AU477)","v":""},{"$f":"IF('2.Logbook'!AV477=\"\",\"\",'2.Logbook'!AV477)","v":""},{"$f":"IF('2.Logbook'!AW477=\"\",\"\",'2.Logbook'!AW477)","v":""},{"$f":"IF('2.Logbook'!AX477=\"\",\"\",'2.Logbook'!AX477)","v":""},{"$f":"IF('2.Logbook'!AY477=\"\",\"\",'2.Logbook'!AY477)","v":""}]
[{"$f":"IF('2.Logbook'!$A478=\"\",\"\",'2.Logbook'!$A478)","v":""},{"$f":"IF('2.Logbook'!$B478=\"\",\"\",'2.Logbook'!$B478)","v":""},{"$f":"IF('2.Logbook'!AH478=\"\",\"\",'2.Logbook'!AH478)","v":""},{"$f":"IF('2.Logbook'!AI478=\"\",\"\",'2.Logbook'!AI478)","v":""},{"$f":"IF('2.Logbook'!AJ478=\"\",\"\",'2.Logbook'!AJ478)","v":""},{"$f":"IF('2.Logbook'!AK478=\"\",\"\",'2.Logbook'!AK478)","v":""},{"$f":"IF('2.Logbook'!AL478=\"\",\"\",'2.Logbook'!AL478)","v":""},{"$f":"IF('2.Logbook'!AM478=\"\",\"\",'2.Logbook'!AM478)","v":""},{"$f":"IF('2.Logbook'!AN478=\"\",\"\",'2.Logbook'!AN478)","v":""},{"$f":"IF('2.Logbook'!AO478=\"\",\"\",'2.Logbook'!AO478)","v":""},{"$f":"IF('2.Logbook'!AP478=\"\",\"\",'2.Logbook'!AP478)","v":""},{"$f":"IF('2.Logbook'!AQ478=\"\",\"\",'2.Logbook'!AQ478)","v":""},{"$f":"IF('2.Logbook'!AR478=\"\",\"\",'2.Logbook'!AR478)","v":""},{"$f":"IF('2.Logbook'!AS478=\"\",\"\",'2.Logbook'!AS478)","v":""},{"$f":"IF('2.Logbook'!AT478=\"\",\"\",'2.Logbook'!AT478)","v":""},{"$f":"IF('2.Logbook'!AU478=\"\",\"\",'2.Logbook'!AU478)","v":""},{"$f":"IF('2.Logbook'!AV478=\"\",\"\",'2.Logbook'!AV478)","v":""},{"$f":"IF('2.Logbook'!AW478=\"\",\"\",'2.Logbook'!AW478)","v":""},{"$f":"IF('2.Logbook'!AX478=\"\",\"\",'2.Logbook'!AX478)","v":""},{"$f":"IF('2.Logbook'!AY478=\"\",\"\",'2.Logbook'!AY478)","v":""}]
[{"$f":"IF('2.Logbook'!$A479=\"\",\"\",'2.Logbook'!$A479)","v":""},{"$f":"IF('2.Logbook'!$B479=\"\",\"\",'2.Logbook'!$B479)","v":""},{"$f":"IF('2.Logbook'!AH479=\"\",\"\",'2.Logbook'!AH479)","v":""},{"$f":"IF('2.Logbook'!AI479=\"\",\"\",'2.Logbook'!AI479)","v":""},{"$f":"IF('2.Logbook'!AJ479=\"\",\"\",'2.Logbook'!AJ479)","v":""},{"$f":"IF('2.Logbook'!AK479=\"\",\"\",'2.Logbook'!AK479)","v":""},{"$f":"IF('2.Logbook'!AL479=\"\",\"\",'2.Logbook'!AL479)","v":""},{"$f":"IF('2.Logbook'!AM479=\"\",\"\",'2.Logbook'!AM479)","v":""},{"$f":"IF('2.Logbook'!AN479=\"\",\"\",'2.Logbook'!AN479)","v":""},{"$f":"IF('2.Logbook'!AO479=\"\",\"\",'2.Logbook'!AO479)","v":""},{"$f":"IF('2.Logbook'!AP479=\"\",\"\",'2.Logbook'!AP479)","v":""},{"$f":"IF('2.Logbook'!AQ479=\"\",\"\",'2.Logbook'!AQ479)","v":""},{"$f":"IF('2.Logbook'!AR479=\"\",\"\",'2.Logbook'!AR479)","v":""},{"$f":"IF('2.Logbook'!AS479=\"\",\"\",'2.Logbook'!AS479)","v":""},{"$f":"IF('2.Logbook'!AT479=\"\",\"\",'2.Logbook'!AT479)","v":""},{"$f":"IF('2.Logbook'!AU479=\"\",\"\",'2.Logbook'!AU479)","v":""},{"$f":"IF('2.Logbook'!AV479=\"\",\"\",'2.Logbook'!AV479)","v":""},{"$f":"IF('2.Logbook'!AW479=\"\",\"\",'2.Logbook'!AW479)","v":""},{"$f":"IF('2.Logbook'!AX479=\"\",\"\",'2.Logbook'!AX479)","v":""},{"$f":"IF('2.Logbook'!AY479=\"\",\"\",'2.Logbook'!AY479)","v":""}]
[{"$f":"IF('2.Logbook'!$A480=\"\",\"\",'2.Logbook'!$A480)","v":""},{"$f":"IF('2.Logbook'!$B480=\"\",\"\",'2.Logbook'!$B480)","v":""},{"$f":"IF('2.Logbook'!AH480=\"\",\"\",'2.Logbook'!AH480)","v":""},{"$f":"IF('2.Logbook'!AI480=\"\",\"\",'2.Logbook'!AI480)","v":""},{"$f":"IF('2.Logbook'!AJ480=\"\",\"\",'2.Logbook'!AJ480)","v":""},{"$f":"IF('2.Logbook'!AK480=\"\",\"\",'2.Logbook'!AK480)","v":""},{"$f":"IF('2.Logbook'!AL480=\"\",\"\",'2.Logbook'!AL480)","v":""},{"$f":"IF('2.Logbook'!AM480=\"\",\"\",'2.Logbook'!AM480)","v":""},{"$f":"IF('2.Logbook'!AN480=\"\",\"\",'2.Logbook'!AN480)","v":""},{"$f":"IF('2.Logbook'!AO480=\"\",\"\",'2.Logbook'!AO480)","v":""},{"$f":"IF('2.Logbook'!AP480=\"\",\"\",'2.Logbook'!AP480)","v":""},{"$f":"IF('2.Logbook'!AQ480=\"\",\"\",'2.Logbook'!AQ480)","v":""},{"$f":"IF('2.Logbook'!AR480=\"\",\"\",'2.Logbook'!AR480)","v":""},{"$f":"IF('2.Logbook'!AS480=\"\",\"\",'2.Logbook'!AS480)","v":""},{"$f":"IF('2.Logbook'!AT480=\"\",\"\",'2.Logbook'!AT480)","v":""},{"$f":"IF('2.Logbook'!AU480=\"\",\"\",'2.Logbook'!AU480)","v":""},{"$f":"IF('2.Logbook'!AV480=\"\",\"\",'2.Logbook'!AV480)","v":""},{"$f":"IF('2.Logbook'!AW480=\"\",\"\",'2.Logbook'!AW480)","v":""},{"$f":"IF('2.Logbook'!AX480=\"\",\"\",'2.Logbook'!AX480)","v":""},{"$f":"IF('2.Logbook'!AY480=\"\",\"\",'2.Logbook'!AY480)","v":""}]
[{"$f":"IF('2.Logbook'!$A481=\"\",\"\",'2.Logbook'!$A481)","v":""},{"$f":"IF('2.Logbook'!$B481=\"\",\"\",'2.Logbook'!$B481)","v":""},{"$f":"IF('2.Logbook'!AH481=\"\",\"\",'2.Logbook'!AH481)","v":""},{"$f":"IF('2.Logbook'!AI481=\"\",\"\",'2.Logbook'!AI481)","v":""},{"$f":"IF('2.Logbook'!AJ481=\"\",\"\",'2.Logbook'!AJ481)","v":""},{"$f":"IF('2.Logbook'!AK481=\"\",\"\",'2.Logbook'!AK481)","v":""},{"$f":"IF('2.Logbook'!AL481=\"\",\"\",'2.Logbook'!AL481)","v":""},{"$f":"IF('2.Logbook'!AM481=\"\",\"\",'2.Logbook'!AM481)","v":""},{"$f":"IF('2.Logbook'!AN481=\"\",\"\",'2.Logbook'!AN481)","v":""},{"$f":"IF('2.Logbook'!AO481=\"\",\"\",'2.Logbook'!AO481)","v":""},{"$f":"IF('2.Logbook'!AP481=\"\",\"\",'2.Logbook'!AP481)","v":""},{"$f":"IF('2.Logbook'!AQ481=\"\",\"\",'2.Logbook'!AQ481)","v":""},{"$f":"IF('2.Logbook'!AR481=\"\",\"\",'2.Logbook'!AR481)","v":""},{"$f":"IF('2.Logbook'!AS481=\"\",\"\",'2.Logbook'!AS481)","v":""},{"$f":"IF('2.Logbook'!AT481=\"\",\"\",'2.Logbook'!AT481)","v":""},{"$f":"IF('2.Logbook'!AU481=\"\",\"\",'2.Logbook'!AU481)","v":""},{"$f":"IF('2.Logbook'!AV481=\"\",\"\",'2.Logbook'!AV481)","v":""},{"$f":"IF('2.Logbook'!AW481=\"\",\"\",'2.Logbook'!AW481)","v":""},{"$f":"IF('2.Logbook'!AX481=\"\",\"\",'2.Logbook'!AX481)","v":""},{"$f":"IF('2.Logbook'!AY481=\"\",\"\",'2.Logbook'!AY481)","v":""}]
[{"$f":"IF('2.Logbook'!$A482=\"\",\"\",'2.Logbook'!$A482)","v":""},{"$f":"IF('2.Logbook'!$B482=\"\",\"\",'2.Logbook'!$B482)","v":""},{"$f":"IF('2.Logbook'!AH482=\"\",\"\",'2.Logbook'!AH482)","v":""},{"$f":"IF('2.Logbook'!AI482=\"\",\"\",'2.Logbook'!AI482)","v":""},{"$f":"IF('2.Logbook'!AJ482=\"\",\"\",'2.Logbook'!AJ482)","v":""},{"$f":"IF('2.Logbook'!AK482=\"\",\"\",'2.Logbook'!AK482)","v":""},{"$f":"IF('2.Logbook'!AL482=\"\",\"\",'2.Logbook'!AL482)","v":""},{"$f":"IF('2.Logbook'!AM482=\"\",\"\",'2.Logbook'!AM482)","v":""},{"$f":"IF('2.Logbook'!AN482=\"\",\"\",'2.Logbook'!AN482)","v":""},{"$f":"IF('2.Logbook'!AO482=\"\",\"\",'2.Logbook'!AO482)","v":""},{"$f":"IF('2.Logbook'!AP482=\"\",\"\",'2.Logbook'!AP482)","v":""},{"$f":"IF('2.Logbook'!AQ482=\"\",\"\",'2.Logbook'!AQ482)","v":""},{"$f":"IF('2.Logbook'!AR482=\"\",\"\",'2.Logbook'!AR482)","v":""},{"$f":"IF('2.Logbook'!AS482=\"\",\"\",'2.Logbook'!AS482)","v":""},{"$f":"IF('2.Logbook'!AT482=\"\",\"\",'2.Logbook'!AT482)","v":""},{"$f":"IF('2.Logbook'!AU482=\"\",\"\",'2.Logbook'!AU482)","v":""},{"$f":"IF('2.Logbook'!AV482=\"\",\"\",'2.Logbook'!AV482)","v":""},{"$f":"IF('2.Logbook'!AW482=\"\",\"\",'2.Logbook'!AW482)","v":""},{"$f":"IF('2.Logbook'!AX482=\"\",\"\",'2.Logbook'!AX482)","v":""},{"$f":"IF('2.Logbook'!AY482=\"\",\"\",'2.Logbook'!AY482)","v":""}]
[{"$f":"IF('2.Logbook'!$A483=\"\",\"\",'2.Logbook'!$A483)","v":""},{"$f":"IF('2.Logbook'!$B483=\"\",\"\",'2.Logbook'!$B483)","v":""},{"$f":"IF('2.Logbook'!AH483=\"\",\"\",'2.Logbook'!AH483)","v":""},{"$f":"IF('2.Logbook'!AI483=\"\",\"\",'2.Logbook'!AI483)","v":""},{"$f":"IF('2.Logbook'!AJ483=\"\",\"\",'2.Logbook'!AJ483)","v":""},{"$f":"IF('2.Logbook'!AK483=\"\",\"\",'2.Logbook'!AK483)","v":""},{"$f":"IF('2.Logbook'!AL483=\"\",\"\",'2.Logbook'!AL483)","v":""},{"$f":"IF('2.Logbook'!AM483=\"\",\"\",'2.Logbook'!AM483)","v":""},{"$f":"IF('2.Logbook'!AN483=\"\",\"\",'2.Logbook'!AN483)","v":""},{"$f":"IF('2.Logbook'!AO483=\"\",\"\",'2.Logbook'!AO483)","v":""},{"$f":"IF('2.Logbook'!AP483=\"\",\"\",'2.Logbook'!AP483)","v":""},{"$f":"IF('2.Logbook'!AQ483=\"\",\"\",'2.Logbook'!AQ483)","v":""},{"$f":"IF('2.Logbook'!AR483=\"\",\"\",'2.Logbook'!AR483)","v":""},{"$f":"IF('2.Logbook'!AS483=\"\",\"\",'2.Logbook'!AS483)","v":""},{"$f":"IF('2.Logbook'!AT483=\"\",\"\",'2.Logbook'!AT483)","v":""},{"$f":"IF('2.Logbook'!AU483=\"\",\"\",'2.Logbook'!AU483)","v":""},{"$f":"IF('2.Logbook'!AV483=\"\",\"\",'2.Logbook'!AV483)","v":""},{"$f":"IF('2.Logbook'!AW483=\"\",\"\",'2.Logbook'!AW483)","v":""},{"$f":"IF('2.Logbook'!AX483=\"\",\"\",'2.Logbook'!AX483)","v":""},{"$f":"IF('2.Logbook'!AY483=\"\",\"\",'2.Logbook'!AY483)","v":""}]
[{"$f":"IF('2.Logbook'!$A484=\"\",\"\",'2.Logbook'!$A484)","v":""},{"$f":"IF('2.Logbook'!$B484=\"\",\"\",'2.Logbook'!$B484)","v":""},{"$f":"IF('2.Logbook'!AH484=\"\",\"\",'2.Logbook'!AH484)","v":""},{"$f":"IF('2.Logbook'!AI484=\"\",\"\",'2.Logbook'!AI484)","v":""},{"$f":"IF('2.Logbook'!AJ484=\"\",\"\",'2.Logbook'!AJ484)","v":""},{"$f":"IF('2.Logbook'!AK484=\"\",\"\",'2.Logbook'!AK484)","v":""},{"$f":"IF('2.Logbook'!AL484=\"\",\"\",'2.Logbook'!AL484)","v":""},{"$f":"IF('2.Logbook'!AM484=\"\",\"\",'2.Logbook'!AM484)","v":""},{"$f":"IF('2.Logbook'!AN484=\"\",\"\",'2.Logbook'!AN484)","v":""},{"$f":"IF('2.Logbook'!AO484=\"\",\"\",'2.Logbook'!AO484)","v":""},{"$f":"IF('2.Logbook'!AP484=\"\",\"\",'2.Logbook'!AP484)","v":""},{"$f":"IF('2.Logbook'!AQ484=\"\",\"\",'2.Logbook'!AQ484)","v":""},{"$f":"IF('2.Logbook'!AR484=\"\",\"\",'2.Logbook'!AR484)","v":""},{"$f":"IF('2.Logbook'!AS484=\"\",\"\",'2.Logbook'!AS484)","v":""},{"$f":"IF('2.Logbook'!AT484=\"\",\"\",'2.Logbook'!AT484)","v":""},{"$f":"IF('2.Logbook'!AU484=\"\",\"\",'2.Logbook'!AU484)","v":""},{"$f":"IF('2.Logbook'!AV484=\"\",\"\",'2.Logbook'!AV484)","v":""},{"$f":"IF('2.Logbook'!AW484=\"\",\"\",'2.Logbook'!AW484)","v":""},{"$f":"IF('2.Logbook'!AX484=\"\",\"\",'2.Logbook'!AX484)","v":""},{"$f":"IF('2.Logbook'!AY484=\"\",\"\",'2.Logbook'!AY484)","v":""}]
[{"$f":"IF('2.Logbook'!$A485=\"\",\"\",'2.Logbook'!$A485)","v":""},{"$f":"IF('2.Logbook'!$B485=\"\",\"\",'2.Logbook'!$B485)","v":""},{"$f":"IF('2.Logbook'!AH485=\"\",\"\",'2.Logbook'!AH485)","v":""},{"$f":"IF('2.Logbook'!AI485=\"\",\"\",'2.Logbook'!AI485)","v":""},{"$f":"IF('2.Logbook'!AJ485=\"\",\"\",'2.Logbook'!AJ485)","v":""},{"$f":"IF('2.Logbook'!AK485=\"\",\"\",'2.Logbook'!AK485)","v":""},{"$f":"IF('2.Logbook'!AL485=\"\",\"\",'2.Logbook'!AL485)","v":""},{"$f":"IF('2.Logbook'!AM485=\"\",\"\",'2.Logbook'!AM485)","v":""},{"$f":"IF('2.Logbook'!AN485=\"\",\"\",'2.Logbook'!AN485)","v":""},{"$f":"IF('2.Logbook'!AO485=\"\",\"\",'2.Logbook'!AO485)","v":""},{"$f":"IF('2.Logbook'!AP485=\"\",\"\",'2.Logbook'!AP485)","v":""},{"$f":"IF('2.Logbook'!AQ485=\"\",\"\",'2.Logbook'!AQ485)","v":""},{"$f":"IF('2.Logbook'!AR485=\"\",\"\",'2.Logbook'!AR485)","v":""},{"$f":"IF('2.Logbook'!AS485=\"\",\"\",'2.Logbook'!AS485)","v":""},{"$f":"IF('2.Logbook'!AT485=\"\",\"\",'2.Logbook'!AT485)","v":""},{"$f":"IF('2.Logbook'!AU485=\"\",\"\",'2.Logbook'!AU485)","v":""},{"$f":"IF('2.Logbook'!AV485=\"\",\"\",'2.Logbook'!AV485)","v":""},{"$f":"IF('2.Logbook'!AW485=\"\",\"\",'2.Logbook'!AW485)","v":""},{"$f":"IF('2.Logbook'!AX485=\"\",\"\",'2.Logbook'!AX485)","v":""},{"$f":"IF('2.Logbook'!AY485=\"\",\"\",'2.Logbook'!AY485)","v":""}]
[{"$f":"IF('2.Logbook'!$A486=\"\",\"\",'2.Logbook'!$A486)","v":""},{"$f":"IF('2.Logbook'!$B486=\"\",\"\",'2.Logbook'!$B486)","v":""},{"$f":"IF('2.Logbook'!AH486=\"\",\"\",'2.Logbook'!AH486)","v":""},{"$f":"IF('2.Logbook'!AI486=\"\",\"\",'2.Logbook'!AI486)","v":""},{"$f":"IF('2.Logbook'!AJ486=\"\",\"\",'2.Logbook'!AJ486)","v":""},{"$f":"IF('2.Logbook'!AK486=\"\",\"\",'2.Logbook'!AK486)","v":""},{"$f":"IF('2.Logbook'!AL486=\"\",\"\",'2.Logbook'!AL486)","v":""},{"$f":"IF('2.Logbook'!AM486=\"\",\"\",'2.Logbook'!AM486)","v":""},{"$f":"IF('2.Logbook'!AN486=\"\",\"\",'2.Logbook'!AN486)","v":""},{"$f":"IF('2.Logbook'!AO486=\"\",\"\",'2.Logbook'!AO486)","v":""},{"$f":"IF('2.Logbook'!AP486=\"\",\"\",'2.Logbook'!AP486)","v":""},{"$f":"IF('2.Logbook'!AQ486=\"\",\"\",'2.Logbook'!AQ486)","v":""},{"$f":"IF('2.Logbook'!AR486=\"\",\"\",'2.Logbook'!AR486)","v":""},{"$f":"IF('2.Logbook'!AS486=\"\",\"\",'2.Logbook'!AS486)","v":""},{"$f":"IF('2.Logbook'!AT486=\"\",\"\",'2.Logbook'!AT486)","v":""},{"$f":"IF('2.Logbook'!AU486=\"\",\"\",'2.Logbook'!AU486)","v":""},{"$f":"IF('2.Logbook'!AV486=\"\",\"\",'2.Logbook'!AV486)","v":""},{"$f":"IF('2.Logbook'!AW486=\"\",\"\",'2.Logbook'!AW486)","v":""},{"$f":"IF('2.Logbook'!AX486=\"\",\"\",'2.Logbook'!AX486)","v":""},{"$f":"IF('2.Logbook'!AY486=\"\",\"\",'2.Logbook'!AY486)","v":""}]
[{"$f":"IF('2.Logbook'!$A487=\"\",\"\",'2.Logbook'!$A487)","v":""},{"$f":"IF('2.Logbook'!$B487=\"\",\"\",'2.Logbook'!$B487)","v":""},{"$f":"IF('2.Logbook'!AH487=\"\",\"\",'2.Logbook'!AH487)","v":""},{"$f":"IF('2.Logbook'!AI487=\"\",\"\",'2.Logbook'!AI487)","v":""},{"$f":"IF('2.Logbook'!AJ487=\"\",\"\",'2.Logbook'!AJ487)","v":""},{"$f":"IF('2.Logbook'!AK487=\"\",\"\",'2.Logbook'!AK487)","v":""},{"$f":"IF('2.Logbook'!AL487=\"\",\"\",'2.Logbook'!AL487)","v":""},{"$f":"IF('2.Logbook'!AM487=\"\",\"\",'2.Logbook'!AM487)","v":""},{"$f":"IF('2.Logbook'!AN487=\"\",\"\",'2.Logbook'!AN487)","v":""},{"$f":"IF('2.Logbook'!AO487=\"\",\"\",'2.Logbook'!AO487)","v":""},{"$f":"IF('2.Logbook'!AP487=\"\",\"\",'2.Logbook'!AP487)","v":""},{"$f":"IF('2.Logbook'!AQ487=\"\",\"\",'2.Logbook'!AQ487)","v":""},{"$f":"IF('2.Logbook'!AR487=\"\",\"\",'2.Logbook'!AR487)","v":""},{"$f":"IF('2.Logbook'!AS487=\"\",\"\",'2.Logbook'!AS487)","v":""},{"$f":"IF('2.Logbook'!AT487=\"\",\"\",'2.Logbook'!AT487)","v":""},{"$f":"IF('2.Logbook'!AU487=\"\",\"\",'2.Logbook'!AU487)","v":""},{"$f":"IF('2.Logbook'!AV487=\"\",\"\",'2.Logbook'!AV487)","v":""},{"$f":"IF('2.Logbook'!AW487=\"\",\"\",'2.Logbook'!AW487)","v":""},{"$f":"IF('2.Logbook'!AX487=\"\",\"\",'2.Logbook'!AX487)","v":""},{"$f":"IF('2.Logbook'!AY487=\"\",\"\",'2.Logbook'!AY487)","v":""}]
[{"$f":"IF('2.Logbook'!$A488=\"\",\"\",'2.Logbook'!$A488)","v":""},{"$f":"IF('2.Logbook'!$B488=\"\",\"\",'2.Logbook'!$B488)","v":""},{"$f":"IF('2.Logbook'!AH488=\"\",\"\",'2.Logbook'!AH488)","v":""},{"$f":"IF('2.Logbook'!AI488=\"\",\"\",'2.Logbook'!AI488)","v":""},{"$f":"IF('2.Logbook'!AJ488=\"\",\"\",'2.Logbook'!AJ488)","v":""},{"$f":"IF('2.Logbook'!AK488=\"\",\"\",'2.Logbook'!AK488)","v":""},{"$f":"IF('2.Logbook'!AL488=\"\",\"\",'2.Logbook'!AL488)","v":""},{"$f":"IF('2.Logbook'!AM488=\"\",\"\",'2.Logbook'!AM488)","v":""},{"$f":"IF('2.Logbook'!AN488=\"\",\"\",'2.Logbook'!AN488)","v":""},{"$f":"IF('2.Logbook'!AO488=\"\",\"\",'2.Logbook'!AO488)","v":""},{"$f":"IF('2.Logbook'!AP488=\"\",\"\",'2.Logbook'!AP488)","v":""},{"$f":"IF('2.Logbook'!AQ488=\"\",\"\",'2.Logbook'!AQ488)","v":""},{"$f":"IF('2.Logbook'!AR488=\"\",\"\",'2.Logbook'!AR488)","v":""},{"$f":"IF('2.Logbook'!AS488=\"\",\"\",'2.Logbook'!AS488)","v":""},{"$f":"IF('2.Logbook'!AT488=\"\",\"\",'2.Logbook'!AT488)","v":""},{"$f":"IF('2.Logbook'!AU488=\"\",\"\",'2.Logbook'!AU488)","v":""},{"$f":"IF('2.Logbook'!AV488=\"\",\"\",'2.Logbook'!AV488)","v":""},{"$f":"IF('2.Logbook'!AW488=\"\",\"\",'2.Logbook'!AW488)","v":""},{"$f":"IF('2.Logbook'!AX488=\"\",\"\",'2.Logbook'!AX488)","v":""},{"$f":"IF('2.Logbook'!AY488=\"\",\"\",'2.Logbook'!AY488)","v":""}]
[{"$f":"IF('2.Logbook'!$A489=\"\",\"\",'2.Logbook'!$A489)","v":""},{"$f":"IF('2.Logbook'!$B489=\"\",\"\",'2.Logbook'!$B489)","v":""},{"$f":"IF('2.Logbook'!AH489=\"\",\"\",'2.Logbook'!AH489)","v":""},{"$f":"IF('2.Logbook'!AI489=\"\",\"\",'2.Logbook'!AI489)","v":""},{"$f":"IF('2.Logbook'!AJ489=\"\",\"\",'2.Logbook'!AJ489)","v":""},{"$f":"IF('2.Logbook'!AK489=\"\",\"\",'2.Logbook'!AK489)","v":""},{"$f":"IF('2.Logbook'!AL489=\"\",\"\",'2.Logbook'!AL489)","v":""},{"$f":"IF('2.Logbook'!AM489=\"\",\"\",'2.Logbook'!AM489)","v":""},{"$f":"IF('2.Logbook'!AN489=\"\",\"\",'2.Logbook'!AN489)","v":""},{"$f":"IF('2.Logbook'!AO489=\"\",\"\",'2.Logbook'!AO489)","v":""},{"$f":"IF('2.Logbook'!AP489=\"\",\"\",'2.Logbook'!AP489)","v":""},{"$f":"IF('2.Logbook'!AQ489=\"\",\"\",'2.Logbook'!AQ489)","v":""},{"$f":"IF('2.Logbook'!AR489=\"\",\"\",'2.Logbook'!AR489)","v":""},{"$f":"IF('2.Logbook'!AS489=\"\",\"\",'2.Logbook'!AS489)","v":""},{"$f":"IF('2.Logbook'!AT489=\"\",\"\",'2.Logbook'!AT489)","v":""},{"$f":"IF('2.Logbook'!AU489=\"\",\"\",'2.Logbook'!AU489)","v":""},{"$f":"IF('2.Logbook'!AV489=\"\",\"\",'2.Logbook'!AV489)","v":""},{"$f":"IF('2.Logbook'!AW489=\"\",\"\",'2.Logbook'!AW489)","v":""},{"$f":"IF('2.Logbook'!AX489=\"\",\"\",'2.Logbook'!AX489)","v":""},{"$f":"IF('2.Logbook'!AY489=\"\",\"\",'2.Logbook'!AY489)","v":""}]
[{"$f":"IF('2.Logbook'!$A490=\"\",\"\",'2.Logbook'!$A490)","v":""},{"$f":"IF('2.Logbook'!$B490=\"\",\"\",'2.Logbook'!$B490)","v":""},{"$f":"IF('2.Logbook'!AH490=\"\",\"\",'2.Logbook'!AH490)","v":""},{"$f":"IF('2.Logbook'!AI490=\"\",\"\",'2.Logbook'!AI490)","v":""},{"$f":"IF('2.Logbook'!AJ490=\"\",\"\",'2.Logbook'!AJ490)","v":""},{"$f":"IF('2.Logbook'!AK490=\"\",\"\",'2.Logbook'!AK490)","v":""},{"$f":"IF('2.Logbook'!AL490=\"\",\"\",'2.Logbook'!AL490)","v":""},{"$f":"IF('2.Logbook'!AM490=\"\",\"\",'2.Logbook'!AM490)","v":""},{"$f":"IF('2.Logbook'!AN490=\"\",\"\",'2.Logbook'!AN490)","v":""},{"$f":"IF('2.Logbook'!AO490=\"\",\"\",'2.Logbook'!AO490)","v":""},{"$f":"IF('2.Logbook'!AP490=\"\",\"\",'2.Logbook'!AP490)","v":""},{"$f":"IF('2.Logbook'!AQ490=\"\",\"\",'2.Logbook'!AQ490)","v":""},{"$f":"IF('2.Logbook'!AR490=\"\",\"\",'2.Logbook'!AR490)","v":""},{"$f":"IF('2.Logbook'!AS490=\"\",\"\",'2.Logbook'!AS490)","v":""},{"$f":"IF('2.Logbook'!AT490=\"\",\"\",'2.Logbook'!AT490)","v":""},{"$f":"IF('2.Logbook'!AU490=\"\",\"\",'2.Logbook'!AU490)","v":""},{"$f":"IF('2.Logbook'!AV490=\"\",\"\",'2.Logbook'!AV490)","v":""},{"$f":"IF('2.Logbook'!AW490=\"\",\"\",'2.Logbook'!AW490)","v":""},{"$f":"IF('2.Logbook'!AX490=\"\",\"\",'2.Logbook'!AX490)","v":""},{"$f":"IF('2.Logbook'!AY490=\"\",\"\",'2.Logbook'!AY490)","v":""}]
[{"$f":"IF('2.Logbook'!$A491=\"\",\"\",'2.Logbook'!$A491)","v":""},{"$f":"IF('2.Logbook'!$B491=\"\",\"\",'2.Logbook'!$B491)","v":""},{"$f":"IF('2.Logbook'!AH491=\"\",\"\",'2.Logbook'!AH491)","v":""},{"$f":"IF('2.Logbook'!AI491=\"\",\"\",'2.Logbook'!AI491)","v":""},{"$f":"IF('2.Logbook'!AJ491=\"\",\"\",'2.Logbook'!AJ491)","v":""},{"$f":"IF('2.Logbook'!AK491=\"\",\"\",'2.Logbook'!AK491)","v":""},{"$f":"IF('2.Logbook'!AL491=\"\",\"\",'2.Logbook'!AL491)","v":""},{"$f":"IF('2.Logbook'!AM491=\"\",\"\",'2.Logbook'!AM491)","v":""},{"$f":"IF('2.Logbook'!AN491=\"\",\"\",'2.Logbook'!AN491)","v":""},{"$f":"IF('2.Logbook'!AO491=\"\",\"\",'2.Logbook'!AO491)","v":""},{"$f":"IF('2.Logbook'!AP491=\"\",\"\",'2.Logbook'!AP491)","v":""},{"$f":"IF('2.Logbook'!AQ491=\"\",\"\",'2.Logbook'!AQ491)","v":""},{"$f":"IF('2.Logbook'!AR491=\"\",\"\",'2.Logbook'!AR491)","v":""},{"$f":"IF('2.Logbook'!AS491=\"\",\"\",'2.Logbook'!AS491)","v":""},{"$f":"IF('2.Logbook'!AT491=\"\",\"\",'2.Logbook'!AT491)","v":""},{"$f":"IF('2.Logbook'!AU491=\"\",\"\",'2.Logbook'!AU491)","v":""},{"$f":"IF('2.Logbook'!AV491=\"\",\"\",'2.Logbook'!AV491)","v":""},{"$f":"IF('2.Logbook'!AW491=\"\",\"\",'2.Logbook'!AW491)","v":""},{"$f":"IF('2.Logbook'!AX491=\"\",\"\",'2.Logbook'!AX491)","v":""},{"$f":"IF('2.Logbook'!AY491=\"\",\"\",'2.Logbook'!AY491)","v":""}]
[{"$f":"IF('2.Logbook'!$A492=\"\",\"\",'2.Logbook'!$A492)","v":""},{"$f":"IF('2.Logbook'!$B492=\"\",\"\",'2.Logbook'!$B492)","v":""},{"$f":"IF('2.Logbook'!AH492=\"\",\"\",'2.Logbook'!AH492)","v":""},{"$f":"IF('2.Logbook'!AI492=\"\",\"\",'2.Logbook'!AI492)","v":""},{"$f":"IF('2.Logbook'!AJ492=\"\",\"\",'2.Logbook'!AJ492)","v":""},{"$f":"IF('2.Logbook'!AK492=\"\",\"\",'2.Logbook'!AK492)","v":""},{"$f":"IF('2.Logbook'!AL492=\"\",\"\",'2.Logbook'!AL492)","v":""},{"$f":"IF('2.Logbook'!AM492=\"\",\"\",'2.Logbook'!AM492)","v":""},{"$f":"IF('2.Logbook'!AN492=\"\",\"\",'2.Logbook'!AN492)","v":""},{"$f":"IF('2.Logbook'!AO492=\"\",\"\",'2.Logbook'!AO492)","v":""},{"$f":"IF('2.Logbook'!AP492=\"\",\"\",'2.Logbook'!AP492)","v":""},{"$f":"IF('2.Logbook'!AQ492=\"\",\"\",'2.Logbook'!AQ492)","v":""},{"$f":"IF('2.Logbook'!AR492=\"\",\"\",'2.Logbook'!AR492)","v":""},{"$f":"IF('2.Logbook'!AS492=\"\",\"\",'2.Logbook'!AS492)","v":""},{"$f":"IF('2.Logbook'!AT492=\"\",\"\",'2.Logbook'!AT492)","v":""},{"$f":"IF('2.Logbook'!AU492=\"\",\"\",'2.Logbook'!AU492)","v":""},{"$f":"IF('2.Logbook'!AV492=\"\",\"\",'2.Logbook'!AV492)","v":""},{"$f":"IF('2.Logbook'!AW492=\"\",\"\",'2.Logbook'!AW492)","v":""},{"$f":"IF('2.Logbook'!AX492=\"\",\"\",'2.Logbook'!AX492)","v":""},{"$f":"IF('2.Logbook'!AY492=\"\",\"\",'2.Logbook'!AY492)","v":""}]
[{"$f":"IF('2.Logbook'!$A493=\"\",\"\",'2.Logbook'!$A493)","v":""},{"$f":"IF('2.Logbook'!$B493=\"\",\"\",'2.Logbook'!$B493)","v":""},{"$f":"IF('2.Logbook'!AH493=\"\",\"\",'2.Logbook'!AH493)","v":""},{"$f":"IF('2.Logbook'!AI493=\"\",\"\",'2.Logbook'!AI493)","v":""},{"$f":"IF('2.Logbook'!AJ493=\"\",\"\",'2.Logbook'!AJ493)","v":""},{"$f":"IF('2.Logbook'!AK493=\"\",\"\",'2.Logbook'!AK493)","v":""},{"$f":"IF('2.Logbook'!AL493=\"\",\"\",'2.Logbook'!AL493)","v":""},{"$f":"IF('2.Logbook'!AM493=\"\",\"\",'2.Logbook'!AM493)","v":""},{"$f":"IF('2.Logbook'!AN493=\"\",\"\",'2.Logbook'!AN493)","v":""},{"$f":"IF('2.Logbook'!AO493=\"\",\"\",'2.Logbook'!AO493)","v":""},{"$f":"IF('2.Logbook'!AP493=\"\",\"\",'2.Logbook'!AP493)","v":""},{"$f":"IF('2.Logbook'!AQ493=\"\",\"\",'2.Logbook'!AQ493)","v":""},{"$f":"IF('2.Logbook'!AR493=\"\",\"\",'2.Logbook'!AR493)","v":""},{"$f":"IF('2.Logbook'!AS493=\"\",\"\",'2.Logbook'!AS493)","v":""},{"$f":"IF('2.Logbook'!AT493=\"\",\"\",'2.Logbook'!AT493)","v":""},{"$f":"IF('2.Logbook'!AU493=\"\",\"\",'2.Logbook'!AU493)","v":""},{"$f":"IF('2.Logbook'!AV493=\"\",\"\",'2.Logbook'!AV493)","v":""},{"$f":"IF('2.Logbook'!AW493=\"\",\"\",'2.Logbook'!AW493)","v":""},{"$f":"IF('2.Logbook'!AX493=\"\",\"\",'2.Logbook'!AX493)","v":""},{"$f":"IF('2.Logbook'!AY493=\"\",\"\",'2.Logbook'!AY493)","v":""}]
[{"$f":"IF('2.Logbook'!$A494=\"\",\"\",'2.Logbook'!$A494)","v":""},{"$f":"IF('2.Logbook'!$B494=\"\",\"\",'2.Logbook'!$B494)","v":""},{"$f":"IF('2.Logbook'!AH494=\"\",\"\",'2.Logbook'!AH494)","v":""},{"$f":"IF('2.Logbook'!AI494=\"\",\"\",'2.Logbook'!AI494)","v":""},{"$f":"IF('2.Logbook'!AJ494=\"\",\"\",'2.Logbook'!AJ494)","v":""},{"$f":"IF('2.Logbook'!AK494=\"\",\"\",'2.Logbook'!AK494)","v":""},{"$f":"IF('2.Logbook'!AL494=\"\",\"\",'2.Logbook'!AL494)","v":""},{"$f":"IF('2.Logbook'!AM494=\"\",\"\",'2.Logbook'!AM494)","v":""},{"$f":"IF('2.Logbook'!AN494=\"\",\"\",'2.Logbook'!AN494)","v":""},{"$f":"IF('2.Logbook'!AO494=\"\",\"\",'2.Logbook'!AO494)","v":""},{"$f":"IF('2.Logbook'!AP494=\"\",\"\",'2.Logbook'!AP494)","v":""},{"$f":"IF('2.Logbook'!AQ494=\"\",\"\",'2.Logbook'!AQ494)","v":""},{"$f":"IF('2.Logbook'!AR494=\"\",\"\",'2.Logbook'!AR494)","v":""},{"$f":"IF('2.Logbook'!AS494=\"\",\"\",'2.Logbook'!AS494)","v":""},{"$f":"IF('2.Logbook'!AT494=\"\",\"\",'2.Logbook'!AT494)","v":""},{"$f":"IF('2.Logbook'!AU494=\"\",\"\",'2.Logbook'!AU494)","v":""},{"$f":"IF('2.Logbook'!AV494=\"\",\"\",'2.Logbook'!AV494)","v":""},{"$f":"IF('2.Logbook'!AW494=\"\",\"\",'2.Logbook'!AW494)","v":""},{"$f":"IF('2.Logbook'!AX494=\"\",\"\",'2.Logbook'!AX494)","v":""},{"$f":"IF('2.Logbook'!AY494=\"\",\"\",'2.Logbook'!AY494)","v":""}]
[{"$f":"IF('2.Logbook'!$A495=\"\",\"\",'2.Logbook'!$A495)","v":""},{"$f":"IF('2.Logbook'!$B495=\"\",\"\",'2.Logbook'!$B495)","v":""},{"$f":"IF('2.Logbook'!AH495=\"\",\"\",'2.Logbook'!AH495)","v":""},{"$f":"IF('2.Logbook'!AI495=\"\",\"\",'2.Logbook'!AI495)","v":""},{"$f":"IF('2.Logbook'!AJ495=\"\",\"\",'2.Logbook'!AJ495)","v":""},{"$f":"IF('2.Logbook'!AK495=\"\",\"\",'2.Logbook'!AK495)","v":""},{"$f":"IF('2.Logbook'!AL495=\"\",\"\",'2.Logbook'!AL495)","v":""},{"$f":"IF('2.Logbook'!AM495=\"\",\"\",'2.Logbook'!AM495)","v":""},{"$f":"IF('2.Logbook'!AN495=\"\",\"\",'2.Logbook'!AN495)","v":""},{"$f":"IF('2.Logbook'!AO495=\"\",\"\",'2.Logbook'!AO495)","v":""},{"$f":"IF('2.Logbook'!AP495=\"\",\"\",'2.Logbook'!AP495)","v":""},{"$f":"IF('2.Logbook'!AQ495=\"\",\"\",'2.Logbook'!AQ495)","v":""},{"$f":"IF('2.Logbook'!AR495=\"\",\"\",'2.Logbook'!AR495)","v":""},{"$f":"IF('2.Logbook'!AS495=\"\",\"\",'2.Logbook'!AS495)","v":""},{"$f":"IF('2.Logbook'!AT495=\"\",\"\",'2.Logbook'!AT495)","v":""},{"$f":"IF('2.Logbook'!AU495=\"\",\"\",'2.Logbook'!AU495)","v":""},{"$f":"IF('2.Logbook'!AV495=\"\",\"\",'2.Logbook'!AV495)","v":""},{"$f":"IF('2.Logbook'!AW495=\"\",\"\",'2.Logbook'!AW495)","v":""},{"$f":"IF('2.Logbook'!AX495=\"\",\"\",'2.Logbook'!AX495)","v":""},{"$f":"IF('2.Logbook'!AY495=\"\",\"\",'2.Logbook'!AY495)","v":""}]
[{"$f":"IF('2.Logbook'!$A496=\"\",\"\",'2.Logbook'!$A496)","v":""},{"$f":"IF('2.Logbook'!$B496=\"\",\"\",'2.Logbook'!$B496)","v":""},{"$f":"IF('2.Logbook'!AH496=\"\",\"\",'2.Logbook'!AH496)","v":""},{"$f":"IF('2.Logbook'!AI496=\"\",\"\",'2.Logbook'!AI496)","v":""},{"$f":"IF('2.Logbook'!AJ496=\"\",\"\",'2.Logbook'!AJ496)","v":""},{"$f":"IF('2.Logbook'!AK496=\"\",\"\",'2.Logbook'!AK496)","v":""},{"$f":"IF('2.Logbook'!AL496=\"\",\"\",'2.Logbook'!AL496)","v":""},{"$f":"IF('2.Logbook'!AM496=\"\",\"\",'2.Logbook'!AM496)","v":""},{"$f":"IF('2.Logbook'!AN496=\"\",\"\",'2.Logbook'!AN496)","v":""},{"$f":"IF('2.Logbook'!AO496=\"\",\"\",'2.Logbook'!AO496)","v":""},{"$f":"IF('2.Logbook'!AP496=\"\",\"\",'2.Logbook'!AP496)","v":""},{"$f":"IF('2.Logbook'!AQ496=\"\",\"\",'2.Logbook'!AQ496)","v":""},{"$f":"IF('2.Logbook'!AR496=\"\",\"\",'2.Logbook'!AR496)","v":""},{"$f":"IF('2.Logbook'!AS496=\"\",\"\",'2.Logbook'!AS496)","v":""},{"$f":"IF('2.Logbook'!AT496=\"\",\"\",'2.Logbook'!AT496)","v":""},{"$f":"IF('2.Logbook'!AU496=\"\",\"\",'2.Logbook'!AU496)","v":""},{"$f":"IF('2.Logbook'!AV496=\"\",\"\",'2.Logbook'!AV496)","v":""},{"$f":"IF('2.Logbook'!AW496=\"\",\"\",'2.Logbook'!AW496)","v":""},{"$f":"IF('2.Logbook'!AX496=\"\",\"\",'2.Logbook'!AX496)","v":""},{"$f":"IF('2.Logbook'!AY496=\"\",\"\",'2.Logbook'!AY496)","v":""}]
[{"$f":"IF('2.Logbook'!$A497=\"\",\"\",'2.Logbook'!$A497)","v":""},{"$f":"IF('2.Logbook'!$B497=\"\",\"\",'2.Logbook'!$B497)","v":""},{"$f":"IF('2.Logbook'!AH497=\"\",\"\",'2.Logbook'!AH497)","v":""},{"$f":"IF('2.Logbook'!AI497=\"\",\"\",'2.Logbook'!AI497)","v":""},{"$f":"IF('2.Logbook'!AJ497=\"\",\"\",'2.Logbook'!AJ497)","v":""},{"$f":"IF('2.Logbook'!AK497=\"\",\"\",'2.Logbook'!AK497)","v":""},{"$f":"IF('2.Logbook'!AL497=\"\",\"\",'2.Logbook'!AL497)","v":""},{"$f":"IF('2.Logbook'!AM497=\"\",\"\",'2.Logbook'!AM497)","v":""},{"$f":"IF('2.Logbook'!AN497=\"\",\"\",'2.Logbook'!AN497)","v":""},{"$f":"IF('2.Logbook'!AO497=\"\",\"\",'2.Logbook'!AO497)","v":""},{"$f":"IF('2.Logbook'!AP497=\"\",\"\",'2.Logbook'!AP497)","v":""},{"$f":"IF('2.Logbook'!AQ497=\"\",\"\",'2.Logbook'!AQ497)","v":""},{"$f":"IF('2.Logbook'!AR497=\"\",\"\",'2.Logbook'!AR497)","v":""},{"$f":"IF('2.Logbook'!AS497=\"\",\"\",'2.Logbook'!AS497)","v":""},{"$f":"IF('2.Logbook'!AT497=\"\",\"\",'2.Logbook'!AT497)","v":""},{"$f":"IF('2.Logbook'!AU497=\"\",\"\",'2.Logbook'!AU497)","v":""},{"$f":"IF('2.Logbook'!AV497=\"\",\"\",'2.Logbook'!AV497)","v":""},{"$f":"IF('2.Logbook'!AW497=\"\",\"\",'2.Logbook'!AW497)","v":""},{"$f":"IF('2.Logbook'!AX497=\"\",\"\",'2.Logbook'!AX497)","v":""},{"$f":"IF('2.Logbook'!AY497=\"\",\"\",'2.Logbook'!AY497)","v":""}]
[{"$f":"IF('2.Logbook'!$A498=\"\",\"\",'2.Logbook'!$A498)","v":""},{"$f":"IF('2.Logbook'!$B498=\"\",\"\",'2.Logbook'!$B498)","v":""},{"$f":"IF('2.Logbook'!AH498=\"\",\"\",'2.Logbook'!AH498)","v":""},{"$f":"IF('2.Logbook'!AI498=\"\",\"\",'2.Logbook'!AI498)","v":""},{"$f":"IF('2.Logbook'!AJ498=\"\",\"\",'2.Logbook'!AJ498)","v":""},{"$f":"IF('2.Logbook'!AK498=\"\",\"\",'2.Logbook'!AK498)","v":""},{"$f":"IF('2.Logbook'!AL498=\"\",\"\",'2.Logbook'!AL498)","v":""},{"$f":"IF('2.Logbook'!AM498=\"\",\"\",'2.Logbook'!AM498)","v":""},{"$f":"IF('2.Logbook'!AN498=\"\",\"\",'2.Logbook'!AN498)","v":""},{"$f":"IF('2.Logbook'!AO498=\"\",\"\",'2.Logbook'!AO498)","v":""},{"$f":"IF('2.Logbook'!AP498=\"\",\"\",'2.Logbook'!AP498)","v":""},{"$f":"IF('2.Logbook'!AQ498=\"\",\"\",'2.Logbook'!AQ498)","v":""},{"$f":"IF('2.Logbook'!AR498=\"\",\"\",'2.Logbook'!AR498)","v":""},{"$f":"IF('2.Logbook'!AS498=\"\",\"\",'2.Logbook'!AS498)","v":""},{"$f":"IF('2.Logbook'!AT498=\"\",\"\",'2.Logbook'!AT498)","v":""},{"$f":"IF('2.Logbook'!AU498=\"\",\"\",'2.Logbook'!AU498)","v":""},{"$f":"IF('2.Logbook'!AV498=\"\",\"\",'2.Logbook'!AV498)","v":""},{"$f":"IF('2.Logbook'!AW498=\"\",\"\",'2.Logbook'!AW498)","v":""},{"$f":"IF('2.Logbook'!AX498=\"\",\"\",'2.Logbook'!AX498)","v":""},{"$f":"IF('2.Logbook'!AY498=\"\",\"\",'2.Logbook'!AY498)","v":""}]
[{"$f":"IF('2.Logbook'!$A499=\"\",\"\",'2.Logbook'!$A499)","v":""},{"$f":"IF('2.Logbook'!$B499=\"\",\"\",'2.Logbook'!$B499)","v":""},{"$f":"IF('2.Logbook'!AH499=\"\",\"\",'2.Logbook'!AH499)","v":""},{"$f":"IF('2.Logbook'!AI499=\"\",\"\",'2.Logbook'!AI499)","v":""},{"$f":"IF('2.Logbook'!AJ499=\"\",\"\",'2.Logbook'!AJ499)","v":""},{"$f":"IF('2.Logbook'!AK499=\"\",\"\",'2.Logbook'!AK499)","v":""},{"$f":"IF('2.Logbook'!AL499=\"\",\"\",'2.Logbook'!AL499)","v":""},{"$f":"IF('2.Logbook'!AM499=\"\",\"\",'2.Logbook'!AM499)","v":""},{"$f":"IF('2.Logbook'!AN499=\"\",\"\",'2.Logbook'!AN499)","v":""},{"$f":"IF('2.Logbook'!AO499=\"\",\"\",'2.Logbook'!AO499)","v":""},{"$f":"IF('2.Logbook'!AP499=\"\",\"\",'2.Logbook'!AP499)","v":""},{"$f":"IF('2.Logbook'!AQ499=\"\",\"\",'2.Logbook'!AQ499)","v":""},{"$f":"IF('2.Logbook'!AR499=\"\",\"\",'2.Logbook'!AR499)","v":""},{"$f":"IF('2.Logbook'!AS499=\"\",\"\",'2.Logbook'!AS499)","v":""},{"$f":"IF('2.Logbook'!AT499=\"\",\"\",'2.Logbook'!AT499)","v":""},{"$f":"IF('2.Logbook'!AU499=\"\",\"\",'2.Logbook'!AU499)","v":""},{"$f":"IF('2.Logbook'!AV499=\"\",\"\",'2.Logbook'!AV499)","v":""},{"$f":"IF('2.Logbook'!AW499=\"\",\"\",'2.Logbook'!AW499)","v":""},{"$f":"IF('2.Logbook'!AX499=\"\",\"\",'2.Logbook'!AX499)","v":""},{"$f":"IF('2.Logbook'!AY499=\"\",\"\",'2.Logbook'!AY499)","v":""}]
[{"$f":"IF('2.Logbook'!$A500=\"\",\"\",'2.Logbook'!$A500)","v":""},{"$f":"IF('2.Logbook'!$B500=\"\",\"\",'2.Logbook'!$B500)","v":""},{"$f":"IF('2.Logbook'!AH500=\"\",\"\",'2.Logbook'!AH500)","v":""},{"$f":"IF('2.Logbook'!AI500=\"\",\"\",'2.Logbook'!AI500)","v":""},{"$f":"IF('2.Logbook'!AJ500=\"\",\"\",'2.Logbook'!AJ500)","v":""},{"$f":"IF('2.Logbook'!AK500=\"\",\"\",'2.Logbook'!AK500)","v":""},{"$f":"IF('2.Logbook'!AL500=\"\",\"\",'2.Logbook'!AL500)","v":""},{"$f":"IF('2.Logbook'!AM500=\"\",\"\",'2.Logbook'!AM500)","v":""},{"$f":"IF('2.Logbook'!AN500=\"\",\"\",'2.Logbook'!AN500)","v":""},{"$f":"IF('2.Logbook'!AO500=\"\",\"\",'2.Logbook'!AO500)","v":""},{"$f":"IF('2.Logbook'!AP500=\"\",\"\",'2.Logbook'!AP500)","v":""},{"$f":"IF('2.Logbook'!AQ500=\"\",\"\",'2.Logbook'!AQ500)","v":""},{"$f":"IF('2.Logbook'!AR500=\"\",\"\",'2.Logbook'!AR500)","v":""},{"$f":"IF('2.Logbook'!AS500=\"\",\"\",'2.Logbook'!AS500)","v":""},{"$f":"IF('2.Logbook'!AT500=\"\",\"\",'2.Logbook'!AT500)","v":""},{"$f":"IF('2.Logbook'!AU500=\"\",\"\",'2.Logbook'!AU500)","v":""},{"$f":"IF('2.Logbook'!AV500=\"\",\"\",'2.Logbook'!AV500)","v":""},{"$f":"IF('2.Logbook'!AW500=\"\",\"\",'2.Logbook'!AW500)","v":""},{"$f":"IF('2.Logbook'!AX500=\"\",\"\",'2.Logbook'!AX500)","v":""},{"$f":"IF('2.Logbook'!AY500=\"\",\"\",'2.Logbook'!AY500)","v":""}]
[{"$f":"IF('2.Logbook'!$A501=\"\",\"\",'2.Logbook'!$A501)","v":""},{"$f":"IF('2.Logbook'!$B501=\"\",\"\",'2.Logbook'!$B501)","v":""},{"$f":"IF('2.Logbook'!AH501=\"\",\"\",'2.Logbook'!AH501)","v":""},{"$f":"IF('2.Logbook'!AI501=\"\",\"\",'2.Logbook'!AI501)","v":""},{"$f":"IF('2.Logbook'!AJ501=\"\",\"\",'2.Logbook'!AJ501)","v":""},{"$f":"IF('2.Logbook'!AK501=\"\",\"\",'2.Logbook'!AK501)","v":""},{"$f":"IF('2.Logbook'!AL501=\"\",\"\",'2.Logbook'!AL501)","v":""},{"$f":"IF('2.Logbook'!AM501=\"\",\"\",'2.Logbook'!AM501)","v":""},{"$f":"IF('2.Logbook'!AN501=\"\",\"\",'2.Logbook'!AN501)","v":""},{"$f":"IF('2.Logbook'!AO501=\"\",\"\",'2.Logbook'!AO501)","v":""},{"$f":"IF('2.Logbook'!AP501=\"\",\"\",'2.Logbook'!AP501)","v":""},{"$f":"IF('2.Logbook'!AQ501=\"\",\"\",'2.Logbook'!AQ501)","v":""},{"$f":"IF('2.Logbook'!AR501=\"\",\"\",'2.Logbook'!AR501)","v":""},{"$f":"IF('2.Logbook'!AS501=\"\",\"\",'2.Logbook'!AS501)","v":""},{"$f":"IF('2.Logbook'!AT501=\"\",\"\",'2.Logbook'!AT501)","v":""},{"$f":"IF('2.Logbook'!AU501=\"\",\"\",'2.Logbook'!AU501)","v":""},{"$f":"IF('2.Logbook'!AV501=\"\",\"\",'2.Logbook'!AV501)","v":""},{"$f":"IF('2.Logbook'!AW501=\"\",\"\",'2.Logbook'!AW501)","v":""},{"$f":"IF('2.Logbook'!AX501=\"\",\"\",'2.Logbook'!AX501)","v":""},{"$f":"IF('2.Logbook'!AY501=\"\",\"\",'2.Logbook'!AY501)","v":""}]
[{"$f":"IF('2.Logbook'!$A502=\"\",\"\",'2.Logbook'!$A502)","v":""},{"$f":"IF('2.Logbook'!$B502=\"\",\"\",'2.Logbook'!$B502)","v":""},{"$f":"IF('2.Logbook'!AH502=\"\",\"\",'2.Logbook'!AH502)","v":""},{"$f":"IF('2.Logbook'!AI502=\"\",\"\",'2.Logbook'!AI502)","v":""},{"$f":"IF('2.Logbook'!AJ502=\"\",\"\",'2.Logbook'!AJ502)","v":""},{"$f":"IF('2.Logbook'!AK502=\"\",\"\",'2.Logbook'!AK502)","v":""},{"$f":"IF('2.Logbook'!AL502=\"\",\"\",'2.Logbook'!AL502)","v":""},{"$f":"IF('2.Logbook'!AM502=\"\",\"\",'2.Logbook'!AM502)","v":""},{"$f":"IF('2.Logbook'!AN502=\"\",\"\",'2.Logbook'!AN502)","v":""},{"$f":"IF('2.Logbook'!AO502=\"\",\"\",'2.Logbook'!AO502)","v":""},{"$f":"IF('2.Logbook'!AP502=\"\",\"\",'2.Logbook'!AP502)","v":""},{"$f":"IF('2.Logbook'!AQ502=\"\",\"\",'2.Logbook'!AQ502)","v":""},{"$f":"IF('2.Logbook'!AR502=\"\",\"\",'2.Logbook'!AR502)","v":""},{"$f":"IF('2.Logbook'!AS502=\"\",\"\",'2.Logbook'!AS502)","v":""},{"$f":"IF('2.Logbook'!AT502=\"\",\"\",'2.Logbook'!AT502)","v":""},{"$f":"IF('2.Logbook'!AU502=\"\",\"\",'2.Logbook'!AU502)","v":""},{"$f":"IF('2.Logbook'!AV502=\"\",\"\",'2.Logbook'!AV502)","v":""},{"$f":"IF('2.Logbook'!AW502=\"\",\"\",'2.Logbook'!AW502)","v":""},{"$f":"IF('2.Logbook'!AX502=\"\",\"\",'2.Logbook'!AX502)","v":""},{"$f":"IF('2.Logbook'!AY502=\"\",\"\",'2.Logbook'!AY502)","v":""}]
[{"$f":"IF('2.Logbook'!$A503=\"\",\"\",'2.Logbook'!$A503)","v":""},{"$f":"IF('2.Logbook'!$B503=\"\",\"\",'2.Logbook'!$B503)","v":""},{"$f":"IF('2.Logbook'!AH503=\"\",\"\",'2.Logbook'!AH503)","v":""},{"$f":"IF('2.Logbook'!AI503=\"\",\"\",'2.Logbook'!AI503)","v":""},{"$f":"IF('2.Logbook'!AJ503=\"\",\"\",'2.Logbook'!AJ503)","v":""},{"$f":"IF('2.Logbook'!AK503=\"\",\"\",'2.Logbook'!AK503)","v":""},{"$f":"IF('2.Logbook'!AL503=\"\",\"\",'2.Logbook'!AL503)","v":""},{"$f":"IF('2.Logbook'!AM503=\"\",\"\",'2.Logbook'!AM503)","v":""},{"$f":"IF('2.Logbook'!AN503=\"\",\"\",'2.Logbook'!AN503)","v":""},{"$f":"IF('2.Logbook'!AO503=\"\",\"\",'2.Logbook'!AO503)","v":""},{"$f":"IF('2.Logbook'!AP503=\"\",\"\",'2.Logbook'!AP503)","v":""},{"$f":"IF('2.Logbook'!AQ503=\"\",\"\",'2.Logbook'!AQ503)","v":""},{"$f":"IF('2.Logbook'!AR503=\"\",\"\",'2.Logbook'!AR503)","v":""},{"$f":"IF('2.Logbook'!AS503=\"\",\"\",'2.Logbook'!AS503)","v":""},{"$f":"IF('2.Logbook'!AT503=\"\",\"\",'2.Logbook'!AT503)","v":""},{"$f":"IF('2.Logbook'!AU503=\"\",\"\",'2.Logbook'!AU503)","v":""},{"$f":"IF('2.Logbook'!AV503=\"\",\"\",'2.Logbook'!AV503)","v":""},{"$f":"IF('2.Logbook'!AW503=\"\",\"\",'2.Logbook'!AW503)","v":""},{"$f":"IF('2.Logbook'!AX503=\"\",\"\",'2.Logbook'!AX503)","v":""},{"$f":"IF('2.Logbook'!AY503=\"\",\"\",'2.Logbook'!AY503)","v":""}]
[{"$f":"IF('2.Logbook'!$A504=\"\",\"\",'2.Logbook'!$A504)","v":""},{"$f":"IF('2.Logbook'!$B504=\"\",\"\",'2.Logbook'!$B504)","v":""},{"$f":"IF('2.Logbook'!AH504=\"\",\"\",'2.Logbook'!AH504)","v":""},{"$f":"IF('2.Logbook'!AI504=\"\",\"\",'2.Logbook'!AI504)","v":""},{"$f":"IF('2.Logbook'!AJ504=\"\",\"\",'2.Logbook'!AJ504)","v":""},{"$f":"IF('2.Logbook'!AK504=\"\",\"\",'2.Logbook'!AK504)","v":""},{"$f":"IF('2.Logbook'!AL504=\"\",\"\",'2.Logbook'!AL504)","v":""},{"$f":"IF('2.Logbook'!AM504=\"\",\"\",'2.Logbook'!AM504)","v":""},{"$f":"IF('2.Logbook'!AN504=\"\",\"\",'2.Logbook'!AN504)","v":""},{"$f":"IF('2.Logbook'!AO504=\"\",\"\",'2.Logbook'!AO504)","v":""},{"$f":"IF('2.Logbook'!AP504=\"\",\"\",'2.Logbook'!AP504)","v":""},{"$f":"IF('2.Logbook'!AQ504=\"\",\"\",'2.Logbook'!AQ504)","v":""},{"$f":"IF('2.Logbook'!AR504=\"\",\"\",'2.Logbook'!AR504)","v":""},{"$f":"IF('2.Logbook'!AS504=\"\",\"\",'2.Logbook'!AS504)","v":""},{"$f":"IF('2.Logbook'!AT504=\"\",\"\",'2.Logbook'!AT504)","v":""},{"$f":"IF('2.Logbook'!AU504=\"\",\"\",'2.Logbook'!AU504)","v":""},{"$f":"IF('2.Logbook'!AV504=\"\",\"\",'2.Logbook'!AV504)","v":""},{"$f":"IF('2.Logbook'!AW504=\"\",\"\",'2.Logbook'!AW504)","v":""},{"$f":"IF('2.Logbook'!AX504=\"\",\"\",'2.Logbook'!AX504)","v":""},{"$f":"IF('2.Logbook'!AY504=\"\",\"\",'2.Logbook'!AY504)","v":""}]
[{"$f":"IF('2.Logbook'!$A505=\"\",\"\",'2.Logbook'!$A505)","v":""},{"$f":"IF('2.Logbook'!$B505=\"\",\"\",'2.Logbook'!$B505)","v":""},{"$f":"IF('2.Logbook'!AH505=\"\",\"\",'2.Logbook'!AH505)","v":""},{"$f":"IF('2.Logbook'!AI505=\"\",\"\",'2.Logbook'!AI505)","v":""},{"$f":"IF('2.Logbook'!AJ505=\"\",\"\",'2.Logbook'!AJ505)","v":""},{"$f":"IF('2.Logbook'!AK505=\"\",\"\",'2.Logbook'!AK505)","v":""},{"$f":"IF('2.Logbook'!AL505=\"\",\"\",'2.Logbook'!AL505)","v":""},{"$f":"IF('2.Logbook'!AM505=\"\",\"\",'2.Logbook'!AM505)","v":""},{"$f":"IF('2.Logbook'!AN505=\"\",\"\",'2.Logbook'!AN505)","v":""},{"$f":"IF('2.Logbook'!AO505=\"\",\"\",'2.Logbook'!AO505)","v":""},{"$f":"IF('2.Logbook'!AP505=\"\",\"\",'2.Logbook'!AP505)","v":""},{"$f":"IF('2.Logbook'!AQ505=\"\",\"\",'2.Logbook'!AQ505)","v":""},{"$f":"IF('2.Logbook'!AR505=\"\",\"\",'2.Logbook'!AR505)","v":""},{"$f":"IF('2.Logbook'!AS505=\"\",\"\",'2.Logbook'!AS505)","v":""},{"$f":"IF('2.Logbook'!AT505=\"\",\"\",'2.Logbook'!AT505)","v":""},{"$f":"IF('2.Logbook'!AU505=\"\",\"\",'2.Logbook'!AU505)","v":""},{"$f":"IF('2.Logbook'!AV505=\"\",\"\",'2.Logbook'!AV505)","v":""},{"$f":"IF('2.Logbook'!AW505=\"\",\"\",'2.Logbook'!AW505)","v":""},{"$f":"IF('2.Logbook'!AX505=\"\",\"\",'2.Logbook'!AX505)","v":""},{"$f":"IF('2.Logbook'!AY505=\"\",\"\",'2.Logbook'!AY505)","v":""}]
[{"$f":"IF('2.Logbook'!$A506=\"\",\"\",'2.Logbook'!$A506)","v":""},{"$f":"IF('2.Logbook'!$B506=\"\",\"\",'2.Logbook'!$B506)","v":""},{"$f":"IF('2.Logbook'!AH506=\"\",\"\",'2.Logbook'!AH506)","v":""},{"$f":"IF('2.Logbook'!AI506=\"\",\"\",'2.Logbook'!AI506)","v":""},{"$f":"IF('2.Logbook'!AJ506=\"\",\"\",'2.Logbook'!AJ506)","v":""},{"$f":"IF('2.Logbook'!AK506=\"\",\"\",'2.Logbook'!AK506)","v":""},{"$f":"IF('2.Logbook'!AL506=\"\",\"\",'2.Logbook'!AL506)","v":""},{"$f":"IF('2.Logbook'!AM506=\"\",\"\",'2.Logbook'!AM506)","v":""},{"$f":"IF('2.Logbook'!AN506=\"\",\"\",'2.Logbook'!AN506)","v":""},{"$f":"IF('2.Logbook'!AO506=\"\",\"\",'2.Logbook'!AO506)","v":""},{"$f":"IF('2.Logbook'!AP506=\"\",\"\",'2.Logbook'!AP506)","v":""},{"$f":"IF('2.Logbook'!AQ506=\"\",\"\",'2.Logbook'!AQ506)","v":""},{"$f":"IF('2.Logbook'!AR506=\"\",\"\",'2.Logbook'!AR506)","v":""},{"$f":"IF('2.Logbook'!AS506=\"\",\"\",'2.Logbook'!AS506)","v":""},{"$f":"IF('2.Logbook'!AT506=\"\",\"\",'2.Logbook'!AT506)","v":""},{"$f":"IF('2.Logbook'!AU506=\"\",\"\",'2.Logbook'!AU506)","v":""},{"$f":"IF('2.Logbook'!AV506=\"\",\"\",'2.Logbook'!AV506)","v":""},{"$f":"IF('2.Logbook'!AW506=\"\",\"\",'2.Logbook'!AW506)","v":""},{"$f":"IF('2.Logbook'!AX506=\"\",\"\",'2.Logbook'!AX506)","v":""},{"$f":"IF('2.Logbook'!AY506=\"\",\"\",'2.Logbook'!AY506)","v":""}]
[{"$f":"IF('2.Logbook'!$A507=\"\",\"\",'2.Logbook'!$A507)","v":""},{"$f":"IF('2.Logbook'!$B507=\"\",\"\",'2.Logbook'!$B507)","v":""},{"$f":"IF('2.Logbook'!AH507=\"\",\"\",'2.Logbook'!AH507)","v":""},{"$f":"IF('2.Logbook'!AI507=\"\",\"\",'2.Logbook'!AI507)","v":""},{"$f":"IF('2.Logbook'!AJ507=\"\",\"\",'2.Logbook'!AJ507)","v":""},{"$f":"IF('2.Logbook'!AK507=\"\",\"\",'2.Logbook'!AK507)","v":""},{"$f":"IF('2.Logbook'!AL507=\"\",\"\",'2.Logbook'!AL507)","v":""},{"$f":"IF('2.Logbook'!AM507=\"\",\"\",'2.Logbook'!AM507)","v":""},{"$f":"IF('2.Logbook'!AN507=\"\",\"\",'2.Logbook'!AN507)","v":""},{"$f":"IF('2.Logbook'!AO507=\"\",\"\",'2.Logbook'!AO507)","v":""},{"$f":"IF('2.Logbook'!AP507=\"\",\"\",'2.Logbook'!AP507)","v":""},{"$f":"IF('2.Logbook'!AQ507=\"\",\"\",'2.Logbook'!AQ507)","v":""},{"$f":"IF('2.Logbook'!AR507=\"\",\"\",'2.Logbook'!AR507)","v":""},{"$f":"IF('2.Logbook'!AS507=\"\",\"\",'2.Logbook'!AS507)","v":""},{"$f":"IF('2.Logbook'!AT507=\"\",\"\",'2.Logbook'!AT507)","v":""},{"$f":"IF('2.Logbook'!AU507=\"\",\"\",'2.Logbook'!AU507)","v":""},{"$f":"IF('2.Logbook'!AV507=\"\",\"\",'2.Logbook'!AV507)","v":""},{"$f":"IF('2.Logbook'!AW507=\"\",\"\",'2.Logbook'!AW507)","v":""},{"$f":"IF('2.Logbook'!AX507=\"\",\"\",'2.Logbook'!AX507)","v":""},{"$f":"IF('2.Logbook'!AY507=\"\",\"\",'2.Logbook'!AY507)","v":""}]
[{"$f":"IF('2.Logbook'!$A508=\"\",\"\",'2.Logbook'!$A508)","v":""},{"$f":"IF('2.Logbook'!$B508=\"\",\"\",'2.Logbook'!$B508)","v":""},{"$f":"IF('2.Logbook'!AH508=\"\",\"\",'2.Logbook'!AH508)","v":""},{"$f":"IF('2.Logbook'!AI508=\"\",\"\",'2.Logbook'!AI508)","v":""},{"$f":"IF('2.Logbook'!AJ508=\"\",\"\",'2.Logbook'!AJ508)","v":""},{"$f":"IF('2.Logbook'!AK508=\"\",\"\",'2.Logbook'!AK508)","v":""},{"$f":"IF('2.Logbook'!AL508=\"\",\"\",'2.Logbook'!AL508)","v":""},{"$f":"IF('2.Logbook'!AM508=\"\",\"\",'2.Logbook'!AM508)","v":""},{"$f":"IF('2.Logbook'!AN508=\"\",\"\",'2.Logbook'!AN508)","v":""},{"$f":"IF('2.Logbook'!AO508=\"\",\"\",'2.Logbook'!AO508)","v":""},{"$f":"IF('2.Logbook'!AP508=\"\",\"\",'2.Logbook'!AP508)","v":""},{"$f":"IF('2.Logbook'!AQ508=\"\",\"\",'2.Logbook'!AQ508)","v":""},{"$f":"IF('2.Logbook'!AR508=\"\",\"\",'2.Logbook'!AR508)","v":""},{"$f":"IF('2.Logbook'!AS508=\"\",\"\",'2.Logbook'!AS508)","v":""},{"$f":"IF('2.Logbook'!AT508=\"\",\"\",'2.Logbook'!AT508)","v":""},{"$f":"IF('2.Logbook'!AU508=\"\",\"\",'2.Logbook'!AU508)","v":""},{"$f":"IF('2.Logbook'!AV508=\"\",\"\",'2.Logbook'!AV508)","v":""},{"$f":"IF('2.Logbook'!AW508=\"\",\"\",'2.Logbook'!AW508)","v":""},{"$f":"IF('2.Logbook'!AX508=\"\",\"\",'2.Logbook'!AX508)","v":""},{"$f":"IF('2.Logbook'!AY508=\"\",\"\",'2.Logbook'!AY508)","v":""}]
[{"$f":"IF('2.Logbook'!$A509=\"\",\"\",'2.Logbook'!$A509)","v":""},{"$f":"IF('2.Logbook'!$B509=\"\",\"\",'2.Logbook'!$B509)","v":""},{"$f":"IF('2.Logbook'!AH509=\"\",\"\",'2.Logbook'!AH509)","v":""},{"$f":"IF('2.Logbook'!AI509=\"\",\"\",'2.Logbook'!AI509)","v":""},{"$f":"IF('2.Logbook'!AJ509=\"\",\"\",'2.Logbook'!AJ509)","v":""},{"$f":"IF('2.Logbook'!AK509=\"\",\"\",'2.Logbook'!AK509)","v":""},{"$f":"IF('2.Logbook'!AL509=\"\",\"\",'2.Logbook'!AL509)","v":""},{"$f":"IF('2.Logbook'!AM509=\"\",\"\",'2.Logbook'!AM509)","v":""},{"$f":"IF('2.Logbook'!AN509=\"\",\"\",'2.Logbook'!AN509)","v":""},{"$f":"IF('2.Logbook'!AO509=\"\",\"\",'2.Logbook'!AO509)","v":""},{"$f":"IF('2.Logbook'!AP509=\"\",\"\",'2.Logbook'!AP509)","v":""},{"$f":"IF('2.Logbook'!AQ509=\"\",\"\",'2.Logbook'!AQ509)","v":""},{"$f":"IF('2.Logbook'!AR509=\"\",\"\",'2.Logbook'!AR509)","v":""},{"$f":"IF('2.Logbook'!AS509=\"\",\"\",'2.Logbook'!AS509)","v":""},{"$f":"IF('2.Logbook'!AT509=\"\",\"\",'2.Logbook'!AT509)","v":""},{"$f":"IF('2.Logbook'!AU509=\"\",\"\",'2.Logbook'!AU509)","v":""},{"$f":"IF('2.Logbook'!AV509=\"\",\"\",'2.Logbook'!AV509)","v":""},{"$f":"IF('2.Logbook'!AW509=\"\",\"\",'2.Logbook'!AW509)","v":""},{"$f":"IF('2.Logbook'!AX509=\"\",\"\",'2.Logbook'!AX509)","v":""},{"$f":"IF('2.Logbook'!AY509=\"\",\"\",'2.Logbook'!AY509)","v":""}]
[{"$f":"IF('2.Logbook'!$A510=\"\",\"\",'2.Logbook'!$A510)","v":""},{"$f":"IF('2.Logbook'!$B510=\"\",\"\",'2.Logbook'!$B510)","v":""},{"$f":"IF('2.Logbook'!AH510=\"\",\"\",'2.Logbook'!AH510)","v":""},{"$f":"IF('2.Logbook'!AI510=\"\",\"\",'2.Logbook'!AI510)","v":""},{"$f":"IF('2.Logbook'!AJ510=\"\",\"\",'2.Logbook'!AJ510)","v":""},{"$f":"IF('2.Logbook'!AK510=\"\",\"\",'2.Logbook'!AK510)","v":""},{"$f":"IF('2.Logbook'!AL510=\"\",\"\",'2.Logbook'!AL510)","v":""},{"$f":"IF('2.Logbook'!AM510=\"\",\"\",'2.Logbook'!AM510)","v":""},{"$f":"IF('2.Logbook'!AN510=\"\",\"\",'2.Logbook'!AN510)","v":""},{"$f":"IF('2.Logbook'!AO510=\"\",\"\",'2.Logbook'!AO510)","v":""},{"$f":"IF('2.Logbook'!AP510=\"\",\"\",'2.Logbook'!AP510)","v":""},{"$f":"IF('2.Logbook'!AQ510=\"\",\"\",'2.Logbook'!AQ510)","v":""},{"$f":"IF('2.Logbook'!AR510=\"\",\"\",'2.Logbook'!AR510)","v":""},{"$f":"IF('2.Logbook'!AS510=\"\",\"\",'2.Logbook'!AS510)","v":""},{"$f":"IF('2.Logbook'!AT510=\"\",\"\",'2.Logbook'!AT510)","v":""},{"$f":"IF('2.Logbook'!AU510=\"\",\"\",'2.Logbook'!AU510)","v":""},{"$f":"IF('2.Logbook'!AV510=\"\",\"\",'2.Logbook'!AV510)","v":""},{"$f":"IF('2.Logbook'!AW510=\"\",\"\",'2.Logbook'!AW510)","v":""},{"$f":"IF('2.Logbook'!AX510=\"\",\"\",'2.Logbook'!AX510)","v":""},{"$f":"IF('2.Logbook'!AY510=\"\",\"\",'2.Logbook'!AY510)","v":""}]
[{"$f":"IF('2.Logbook'!$A511=\"\",\"\",'2.Logbook'!$A511)","v":""},{"$f":"IF('2.Logbook'!$B511=\"\",\"\",'2.Logbook'!$B511)","v":""},{"$f":"IF('2.Logbook'!AH511=\"\",\"\",'2.Logbook'!AH511)","v":""},{"$f":"IF('2.Logbook'!AI511=\"\",\"\",'2.Logbook'!AI511)","v":""},{"$f":"IF('2.Logbook'!AJ511=\"\",\"\",'2.Logbook'!AJ511)","v":""},{"$f":"IF('2.Logbook'!AK511=\"\",\"\",'2.Logbook'!AK511)","v":""},{"$f":"IF('2.Logbook'!AL511=\"\",\"\",'2.Logbook'!AL511)","v":""},{"$f":"IF('2.Logbook'!AM511=\"\",\"\",'2.Logbook'!AM511)","v":""},{"$f":"IF('2.Logbook'!AN511=\"\",\"\",'2.Logbook'!AN511)","v":""},{"$f":"IF('2.Logbook'!AO511=\"\",\"\",'2.Logbook'!AO511)","v":""},{"$f":"IF('2.Logbook'!AP511=\"\",\"\",'2.Logbook'!AP511)","v":""},{"$f":"IF('2.Logbook'!AQ511=\"\",\"\",'2.Logbook'!AQ511)","v":""},{"$f":"IF('2.Logbook'!AR511=\"\",\"\",'2.Logbook'!AR511)","v":""},{"$f":"IF('2.Logbook'!AS511=\"\",\"\",'2.Logbook'!AS511)","v":""},{"$f":"IF('2.Logbook'!AT511=\"\",\"\",'2.Logbook'!AT511)","v":""},{"$f":"IF('2.Logbook'!AU511=\"\",\"\",'2.Logbook'!AU511)","v":""},{"$f":"IF('2.Logbook'!AV511=\"\",\"\",'2.Logbook'!AV511)","v":""},{"$f":"IF('2.Logbook'!AW511=\"\",\"\",'2.Logbook'!AW511)","v":""},{"$f":"IF('2.Logbook'!AX511=\"\",\"\",'2.Logbook'!AX511)","v":""},{"$f":"IF('2.Logbook'!AY511=\"\",\"\",'2.Logbook'!AY511)","v":""}]
[{"$f":"IF('2.Logbook'!$A512=\"\",\"\",'2.Logbook'!$A512)","v":""},{"$f":"IF('2.Logbook'!$B512=\"\",\"\",'2.Logbook'!$B512)","v":""},{"$f":"IF('2.Logbook'!AH512=\"\",\"\",'2.Logbook'!AH512)","v":""},{"$f":"IF('2.Logbook'!AI512=\"\",\"\",'2.Logbook'!AI512)","v":""},{"$f":"IF('2.Logbook'!AJ512=\"\",\"\",'2.Logbook'!AJ512)","v":""},{"$f":"IF('2.Logbook'!AK512=\"\",\"\",'2.Logbook'!AK512)","v":""},{"$f":"IF('2.Logbook'!AL512=\"\",\"\",'2.Logbook'!AL512)","v":""},{"$f":"IF('2.Logbook'!AM512=\"\",\"\",'2.Logbook'!AM512)","v":""},{"$f":"IF('2.Logbook'!AN512=\"\",\"\",'2.Logbook'!AN512)","v":""},{"$f":"IF('2.Logbook'!AO512=\"\",\"\",'2.Logbook'!AO512)","v":""},{"$f":"IF('2.Logbook'!AP512=\"\",\"\",'2.Logbook'!AP512)","v":""},{"$f":"IF('2.Logbook'!AQ512=\"\",\"\",'2.Logbook'!AQ512)","v":""},{"$f":"IF('2.Logbook'!AR512=\"\",\"\",'2.Logbook'!AR512)","v":""},{"$f":"IF('2.Logbook'!AS512=\"\",\"\",'2.Logbook'!AS512)","v":""},{"$f":"IF('2.Logbook'!AT512=\"\",\"\",'2.Logbook'!AT512)","v":""},{"$f":"IF('2.Logbook'!AU512=\"\",\"\",'2.Logbook'!AU512)","v":""},{"$f":"IF('2.Logbook'!AV512=\"\",\"\",'2.Logbook'!AV512)","v":""},{"$f":"IF('2.Logbook'!AW512=\"\",\"\",'2.Logbook'!AW512)","v":""},{"$f":"IF('2.Logbook'!AX512=\"\",\"\",'2.Logbook'!AX512)","v":""},{"$f":"IF('2.Logbook'!AY512=\"\",\"\",'2.Logbook'!AY512)","v":""}]
[{"$f":"IF('2.Logbook'!$A513=\"\",\"\",'2.Logbook'!$A513)","v":""},{"$f":"IF('2.Logbook'!$B513=\"\",\"\",'2.Logbook'!$B513)","v":""},{"$f":"IF('2.Logbook'!AH513=\"\",\"\",'2.Logbook'!AH513)","v":""},{"$f":"IF('2.Logbook'!AI513=\"\",\"\",'2.Logbook'!AI513)","v":""},{"$f":"IF('2.Logbook'!AJ513=\"\",\"\",'2.Logbook'!AJ513)","v":""},{"$f":"IF('2.Logbook'!AK513=\"\",\"\",'2.Logbook'!AK513)","v":""},{"$f":"IF('2.Logbook'!AL513=\"\",\"\",'2.Logbook'!AL513)","v":""},{"$f":"IF('2.Logbook'!AM513=\"\",\"\",'2.Logbook'!AM513)","v":""},{"$f":"IF('2.Logbook'!AN513=\"\",\"\",'2.Logbook'!AN513)","v":""},{"$f":"IF('2.Logbook'!AO513=\"\",\"\",'2.Logbook'!AO513)","v":""},{"$f":"IF('2.Logbook'!AP513=\"\",\"\",'2.Logbook'!AP513)","v":""},{"$f":"IF('2.Logbook'!AQ513=\"\",\"\",'2.Logbook'!AQ513)","v":""},{"$f":"IF('2.Logbook'!AR513=\"\",\"\",'2.Logbook'!AR513)","v":""},{"$f":"IF('2.Logbook'!AS513=\"\",\"\",'2.Logbook'!AS513)","v":""},{"$f":"IF('2.Logbook'!AT513=\"\",\"\",'2.Logbook'!AT513)","v":""},{"$f":"IF('2.Logbook'!AU513=\"\",\"\",'2.Logbook'!AU513)","v":""},{"$f":"IF('2.Logbook'!AV513=\"\",\"\",'2.Logbook'!AV513)","v":""},{"$f":"IF('2.Logbook'!AW513=\"\",\"\",'2.Logbook'!AW513)","v":""},{"$f":"IF('2.Logbook'!AX513=\"\",\"\",'2.Logbook'!AX513)","v":""},{"$f":"IF('2.Logbook'!AY513=\"\",\"\",'2.Logbook'!AY513)","v":""}]
[{"$f":"IF('2.Logbook'!$A514=\"\",\"\",'2.Logbook'!$A514)","v":""},{"$f":"IF('2.Logbook'!$B514=\"\",\"\",'2.Logbook'!$B514)","v":""},{"$f":"IF('2.Logbook'!AH514=\"\",\"\",'2.Logbook'!AH514)","v":""},{"$f":"IF('2.Logbook'!AI514=\"\",\"\",'2.Logbook'!AI514)","v":""},{"$f":"IF('2.Logbook'!AJ514=\"\",\"\",'2.Logbook'!AJ514)","v":""},{"$f":"IF('2.Logbook'!AK514=\"\",\"\",'2.Logbook'!AK514)","v":""},{"$f":"IF('2.Logbook'!AL514=\"\",\"\",'2.Logbook'!AL514)","v":""},{"$f":"IF('2.Logbook'!AM514=\"\",\"\",'2.Logbook'!AM514)","v":""},{"$f":"IF('2.Logbook'!AN514=\"\",\"\",'2.Logbook'!AN514)","v":""},{"$f":"IF('2.Logbook'!AO514=\"\",\"\",'2.Logbook'!AO514)","v":""},{"$f":"IF('2.Logbook'!AP514=\"\",\"\",'2.Logbook'!AP514)","v":""},{"$f":"IF('2.Logbook'!AQ514=\"\",\"\",'2.Logbook'!AQ514)","v":""},{"$f":"IF('2.Logbook'!AR514=\"\",\"\",'2.Logbook'!AR514)","v":""},{"$f":"IF('2.Logbook'!AS514=\"\",\"\",'2.Logbook'!AS514)","v":""},{"$f":"IF('2.Logbook'!AT514=\"\",\"\",'2.Logbook'!AT514)","v":""},{"$f":"IF('2.Logbook'!AU514=\"\",\"\",'2.Logbook'!AU514)","v":""},{"$f":"IF('2.Logbook'!AV514=\"\",\"\",'2.Logbook'!AV514)","v":""},{"$f":"IF('2.Logbook'!AW514=\"\",\"\",'2.Logbook'!AW514)","v":""},{"$f":"IF('2.Logbook'!AX514=\"\",\"\",'2.Logbook'!AX514)","v":""},{"$f":"IF('2.Logbook'!AY514=\"\",\"\",'2.Logbook'!AY514)","v":""}]
[{"$f":"IF('2.Logbook'!$A515=\"\",\"\",'2.Logbook'!$A515)","v":""},{"$f":"IF('2.Logbook'!$B515=\"\",\"\",'2.Logbook'!$B515)","v":""},{"$f":"IF('2.Logbook'!AH515=\"\",\"\",'2.Logbook'!AH515)","v":""},{"$f":"IF('2.Logbook'!AI515=\"\",\"\",'2.Logbook'!AI515)","v":""},{"$f":"IF('2.Logbook'!AJ515=\"\",\"\",'2.Logbook'!AJ515)","v":""},{"$f":"IF('2.Logbook'!AK515=\"\",\"\",'2.Logbook'!AK515)","v":""},{"$f":"IF('2.Logbook'!AL515=\"\",\"\",'2.Logbook'!AL515)","v":""},{"$f":"IF('2.Logbook'!AM515=\"\",\"\",'2.Logbook'!AM515)","v":""},{"$f":"IF('2.Logbook'!AN515=\"\",\"\",'2.Logbook'!AN515)","v":""},{"$f":"IF('2.Logbook'!AO515=\"\",\"\",'2.Logbook'!AO515)","v":""},{"$f":"IF('2.Logbook'!AP515=\"\",\"\",'2.Logbook'!AP515)","v":""},{"$f":"IF('2.Logbook'!AQ515=\"\",\"\",'2.Logbook'!AQ515)","v":""},{"$f":"IF('2.Logbook'!AR515=\"\",\"\",'2.Logbook'!AR515)","v":""},{"$f":"IF('2.Logbook'!AS515=\"\",\"\",'2.Logbook'!AS515)","v":""},{"$f":"IF('2.Logbook'!AT515=\"\",\"\",'2.Logbook'!AT515)","v":""},{"$f":"IF('2.Logbook'!AU515=\"\",\"\",'2.Logbook'!AU515)","v":""},{"$f":"IF('2.Logbook'!AV515=\"\",\"\",'2.Logbook'!AV515)","v":""},{"$f":"IF('2.Logbook'!AW515=\"\",\"\",'2.Logbook'!AW515)","v":""},{"$f":"IF('2.Logbook'!AX515=\"\",\"\",'2.Logbook'!AX515)","v":""},{"$f":"IF('2.Logbook'!AY515=\"\",\"\",'2.Logbook'!AY515)","v":""}]
[{"$f":"IF('2.Logbook'!$A516=\"\",\"\",'2.Logbook'!$A516)","v":""},{"$f":"IF('2.Logbook'!$B516=\"\",\"\",'2.Logbook'!$B516)","v":""},{"$f":"IF('2.Logbook'!AH516=\"\",\"\",'2.Logbook'!AH516)","v":""},{"$f":"IF('2.Logbook'!AI516=\"\",\"\",'2.Logbook'!AI516)","v":""},{"$f":"IF('2.Logbook'!AJ516=\"\",\"\",'2.Logbook'!AJ516)","v":""},{"$f":"IF('2.Logbook'!AK516=\"\",\"\",'2.Logbook'!AK516)","v":""},{"$f":"IF('2.Logbook'!AL516=\"\",\"\",'2.Logbook'!AL516)","v":""},{"$f":"IF('2.Logbook'!AM516=\"\",\"\",'2.Logbook'!AM516)","v":""},{"$f":"IF('2.Logbook'!AN516=\"\",\"\",'2.Logbook'!AN516)","v":""},{"$f":"IF('2.Logbook'!AO516=\"\",\"\",'2.Logbook'!AO516)","v":""},{"$f":"IF('2.Logbook'!AP516=\"\",\"\",'2.Logbook'!AP516)","v":""},{"$f":"IF('2.Logbook'!AQ516=\"\",\"\",'2.Logbook'!AQ516)","v":""},{"$f":"IF('2.Logbook'!AR516=\"\",\"\",'2.Logbook'!AR516)","v":""},{"$f":"IF('2.Logbook'!AS516=\"\",\"\",'2.Logbook'!AS516)","v":""},{"$f":"IF('2.Logbook'!AT516=\"\",\"\",'2.Logbook'!AT516)","v":""},{"$f":"IF('2.Logbook'!AU516=\"\",\"\",'2.Logbook'!AU516)","v":""},{"$f":"IF('2.Logbook'!AV516=\"\",\"\",'2.Logbook'!AV516)","v":""},{"$f":"IF('2.Logbook'!AW516=\"\",\"\",'2.Logbook'!AW516)","v":""},{"$f":"IF('2.Logbook'!AX516=\"\",\"\",'2.Logbook'!AX516)","v":""},{"$f":"IF('2.Logbook'!AY516=\"\",\"\",'2.Logbook'!AY516)","v":""}]
[{"$f":"IF('2.Logbook'!$A517=\"\",\"\",'2.Logbook'!$A517)","v":""},{"$f":"IF('2.Logbook'!$B517=\"\",\"\",'2.Logbook'!$B517)","v":""},{"$f":"IF('2.Logbook'!AH517=\"\",\"\",'2.Logbook'!AH517)","v":""},{"$f":"IF('2.Logbook'!AI517=\"\",\"\",'2.Logbook'!AI517)","v":""},{"$f":"IF('2.Logbook'!AJ517=\"\",\"\",'2.Logbook'!AJ517)","v":""},{"$f":"IF('2.Logbook'!AK517=\"\",\"\",'2.Logbook'!AK517)","v":""},{"$f":"IF('2.Logbook'!AL517=\"\",\"\",'2.Logbook'!AL517)","v":""},{"$f":"IF('2.Logbook'!AM517=\"\",\"\",'2.Logbook'!AM517)","v":""},{"$f":"IF('2.Logbook'!AN517=\"\",\"\",'2.Logbook'!AN517)","v":""},{"$f":"IF('2.Logbook'!AO517=\"\",\"\",'2.Logbook'!AO517)","v":""},{"$f":"IF('2.Logbook'!AP517=\"\",\"\",'2.Logbook'!AP517)","v":""},{"$f":"IF('2.Logbook'!AQ517=\"\",\"\",'2.Logbook'!AQ517)","v":""},{"$f":"IF('2.Logbook'!AR517=\"\",\"\",'2.Logbook'!AR517)","v":""},{"$f":"IF('2.Logbook'!AS517=\"\",\"\",'2.Logbook'!AS517)","v":""},{"$f":"IF('2.Logbook'!AT517=\"\",\"\",'2.Logbook'!AT517)","v":""},{"$f":"IF('2.Logbook'!AU517=\"\",\"\",'2.Logbook'!AU517)","v":""},{"$f":"IF('2.Logbook'!AV517=\"\",\"\",'2.Logbook'!AV517)","v":""},{"$f":"IF('2.Logbook'!AW517=\"\",\"\",'2.Logbook'!AW517)","v":""},{"$f":"IF('2.Logbook'!AX517=\"\",\"\",'2.Logbook'!AX517)","v":""},{"$f":"IF('2.Logbook'!AY517=\"\",\"\",'2.Logbook'!AY517)","v":""}]
[{"$f":"IF('2.Logbook'!$A518=\"\",\"\",'2.Logbook'!$A518)","v":""},{"$f":"IF('2.Logbook'!$B518=\"\",\"\",'2.Logbook'!$B518)","v":""},{"$f":"IF('2.Logbook'!AH518=\"\",\"\",'2.Logbook'!AH518)","v":""},{"$f":"IF('2.Logbook'!AI518=\"\",\"\",'2.Logbook'!AI518)","v":""},{"$f":"IF('2.Logbook'!AJ518=\"\",\"\",'2.Logbook'!AJ518)","v":""},{"$f":"IF('2.Logbook'!AK518=\"\",\"\",'2.Logbook'!AK518)","v":""},{"$f":"IF('2.Logbook'!AL518=\"\",\"\",'2.Logbook'!AL518)","v":""},{"$f":"IF('2.Logbook'!AM518=\"\",\"\",'2.Logbook'!AM518)","v":""},{"$f":"IF('2.Logbook'!AN518=\"\",\"\",'2.Logbook'!AN518)","v":""},{"$f":"IF('2.Logbook'!AO518=\"\",\"\",'2.Logbook'!AO518)","v":""},{"$f":"IF('2.Logbook'!AP518=\"\",\"\",'2.Logbook'!AP518)","v":""},{"$f":"IF('2.Logbook'!AQ518=\"\",\"\",'2.Logbook'!AQ518)","v":""},{"$f":"IF('2.Logbook'!AR518=\"\",\"\",'2.Logbook'!AR518)","v":""},{"$f":"IF('2.Logbook'!AS518=\"\",\"\",'2.Logbook'!AS518)","v":""},{"$f":"IF('2.Logbook'!AT518=\"\",\"\",'2.Logbook'!AT518)","v":""},{"$f":"IF('2.Logbook'!AU518=\"\",\"\",'2.Logbook'!AU518)","v":""},{"$f":"IF('2.Logbook'!AV518=\"\",\"\",'2.Logbook'!AV518)","v":""},{"$f":"IF('2.Logbook'!AW518=\"\",\"\",'2.Logbook'!AW518)","v":""},{"$f":"IF('2.Logbook'!AX518=\"\",\"\",'2.Logbook'!AX518)","v":""},{"$f":"IF('2.Logbook'!AY518=\"\",\"\",'2.Logbook'!AY518)","v":""}]
[{"$f":"IF('2.Logbook'!$A519=\"\",\"\",'2.Logbook'!$A519)","v":""},{"$f":"IF('2.Logbook'!$B519=\"\",\"\",'2.Logbook'!$B519)","v":""},{"$f":"IF('2.Logbook'!AH519=\"\",\"\",'2.Logbook'!AH519)","v":""},{"$f":"IF('2.Logbook'!AI519=\"\",\"\",'2.Logbook'!AI519)","v":""},{"$f":"IF('2.Logbook'!AJ519=\"\",\"\",'2.Logbook'!AJ519)","v":""},{"$f":"IF('2.Logbook'!AK519=\"\",\"\",'2.Logbook'!AK519)","v":""},{"$f":"IF('2.Logbook'!AL519=\"\",\"\",'2.Logbook'!AL519)","v":""},{"$f":"IF('2.Logbook'!AM519=\"\",\"\",'2.Logbook'!AM519)","v":""},{"$f":"IF('2.Logbook'!AN519=\"\",\"\",'2.Logbook'!AN519)","v":""},{"$f":"IF('2.Logbook'!AO519=\"\",\"\",'2.Logbook'!AO519)","v":""},{"$f":"IF('2.Logbook'!AP519=\"\",\"\",'2.Logbook'!AP519)","v":""},{"$f":"IF('2.Logbook'!AQ519=\"\",\"\",'2.Logbook'!AQ519)","v":""},{"$f":"IF('2.Logbook'!AR519=\"\",\"\",'2.Logbook'!AR519)","v":""},{"$f":"IF('2.Logbook'!AS519=\"\",\"\",'2.Logbook'!AS519)","v":""},{"$f":"IF('2.Logbook'!AT519=\"\",\"\",'2.Logbook'!AT519)","v":""},{"$f":"IF('2.Logbook'!AU519=\"\",\"\",'2.Logbook'!AU519)","v":""},{"$f":"IF('2.Logbook'!AV519=\"\",\"\",'2.Logbook'!AV519)","v":""},{"$f":"IF('2.Logbook'!AW519=\"\",\"\",'2.Logbook'!AW519)","v":""},{"$f":"IF('2.Logbook'!AX519=\"\",\"\",'2.Logbook'!AX519)","v":""},{"$f":"IF('2.Logbook'!AY519=\"\",\"\",'2.Logbook'!AY519)","v":""}]
[{"$f":"IF('2.Logbook'!$A520=\"\",\"\",'2.Logbook'!$A520)","v":""},{"$f":"IF('2.Logbook'!$B520=\"\",\"\",'2.Logbook'!$B520)","v":""},{"$f":"IF('2.Logbook'!AH520=\"\",\"\",'2.Logbook'!AH520)","v":""},{"$f":"IF('2.Logbook'!AI520=\"\",\"\",'2.Logbook'!AI520)","v":""},{"$f":"IF('2.Logbook'!AJ520=\"\",\"\",'2.Logbook'!AJ520)","v":""},{"$f":"IF('2.Logbook'!AK520=\"\",\"\",'2.Logbook'!AK520)","v":""},{"$f":"IF('2.Logbook'!AL520=\"\",\"\",'2.Logbook'!AL520)","v":""},{"$f":"IF('2.Logbook'!AM520=\"\",\"\",'2.Logbook'!AM520)","v":""},{"$f":"IF('2.Logbook'!AN520=\"\",\"\",'2.Logbook'!AN520)","v":""},{"$f":"IF('2.Logbook'!AO520=\"\",\"\",'2.Logbook'!AO520)","v":""},{"$f":"IF('2.Logbook'!AP520=\"\",\"\",'2.Logbook'!AP520)","v":""},{"$f":"IF('2.Logbook'!AQ520=\"\",\"\",'2.Logbook'!AQ520)","v":""},{"$f":"IF('2.Logbook'!AR520=\"\",\"\",'2.Logbook'!AR520)","v":""},{"$f":"IF('2.Logbook'!AS520=\"\",\"\",'2.Logbook'!AS520)","v":""},{"$f":"IF('2.Logbook'!AT520=\"\",\"\",'2.Logbook'!AT520)","v":""},{"$f":"IF('2.Logbook'!AU520=\"\",\"\",'2.Logbook'!AU520)","v":""},{"$f":"IF('2.Logbook'!AV520=\"\",\"\",'2.Logbook'!AV520)","v":""},{"$f":"IF('2.Logbook'!AW520=\"\",\"\",'2.Logbook'!AW520)","v":""},{"$f":"IF('2.Logbook'!AX520=\"\",\"\",'2.Logbook'!AX520)","v":""},{"$f":"IF('2.Logbook'!AY520=\"\",\"\",'2.Logbook'!AY520)","v":""}]
[{"$f":"IF('2.Logbook'!$A521=\"\",\"\",'2.Logbook'!$A521)","v":""},{"$f":"IF('2.Logbook'!$B521=\"\",\"\",'2.Logbook'!$B521)","v":""},{"$f":"IF('2.Logbook'!AH521=\"\",\"\",'2.Logbook'!AH521)","v":""},{"$f":"IF('2.Logbook'!AI521=\"\",\"\",'2.Logbook'!AI521)","v":""},{"$f":"IF('2.Logbook'!AJ521=\"\",\"\",'2.Logbook'!AJ521)","v":""},{"$f":"IF('2.Logbook'!AK521=\"\",\"\",'2.Logbook'!AK521)","v":""},{"$f":"IF('2.Logbook'!AL521=\"\",\"\",'2.Logbook'!AL521)","v":""},{"$f":"IF('2.Logbook'!AM521=\"\",\"\",'2.Logbook'!AM521)","v":""},{"$f":"IF('2.Logbook'!AN521=\"\",\"\",'2.Logbook'!AN521)","v":""},{"$f":"IF('2.Logbook'!AO521=\"\",\"\",'2.Logbook'!AO521)","v":""},{"$f":"IF('2.Logbook'!AP521=\"\",\"\",'2.Logbook'!AP521)","v":""},{"$f":"IF('2.Logbook'!AQ521=\"\",\"\",'2.Logbook'!AQ521)","v":""},{"$f":"IF('2.Logbook'!AR521=\"\",\"\",'2.Logbook'!AR521)","v":""},{"$f":"IF('2.Logbook'!AS521=\"\",\"\",'2.Logbook'!AS521)","v":""},{"$f":"IF('2.Logbook'!AT521=\"\",\"\",'2.Logbook'!AT521)","v":""},{"$f":"IF('2.Logbook'!AU521=\"\",\"\",'2.Logbook'!AU521)","v":""},{"$f":"IF('2.Logbook'!AV521=\"\",\"\",'2.Logbook'!AV521)","v":""},{"$f":"IF('2.Logbook'!AW521=\"\",\"\",'2.Logbook'!AW521)","v":""},{"$f":"IF('2.Logbook'!AX521=\"\",\"\",'2.Logbook'!AX521)","v":""},{"$f":"IF('2.Logbook'!AY521=\"\",\"\",'2.Logbook'!AY521)","v":""}]
[{"$f":"IF('2.Logbook'!$A522=\"\",\"\",'2.Logbook'!$A522)","v":""},{"$f":"IF('2.Logbook'!$B522=\"\",\"\",'2.Logbook'!$B522)","v":""},{"$f":"IF('2.Logbook'!AH522=\"\",\"\",'2.Logbook'!AH522)","v":""},{"$f":"IF('2.Logbook'!AI522=\"\",\"\",'2.Logbook'!AI522)","v":""},{"$f":"IF('2.Logbook'!AJ522=\"\",\"\",'2.Logbook'!AJ522)","v":""},{"$f":"IF('2.Logbook'!AK522=\"\",\"\",'2.Logbook'!AK522)","v":""},{"$f":"IF('2.Logbook'!AL522=\"\",\"\",'2.Logbook'!AL522)","v":""},{"$f":"IF('2.Logbook'!AM522=\"\",\"\",'2.Logbook'!AM522)","v":""},{"$f":"IF('2.Logbook'!AN522=\"\",\"\",'2.Logbook'!AN522)","v":""},{"$f":"IF('2.Logbook'!AO522=\"\",\"\",'2.Logbook'!AO522)","v":""},{"$f":"IF('2.Logbook'!AP522=\"\",\"\",'2.Logbook'!AP522)","v":""},{"$f":"IF('2.Logbook'!AQ522=\"\",\"\",'2.Logbook'!AQ522)","v":""},{"$f":"IF('2.Logbook'!AR522=\"\",\"\",'2.Logbook'!AR522)","v":""},{"$f":"IF('2.Logbook'!AS522=\"\",\"\",'2.Logbook'!AS522)","v":""},{"$f":"IF('2.Logbook'!AT522=\"\",\"\",'2.Logbook'!AT522)","v":""},{"$f":"IF('2.Logbook'!AU522=\"\",\"\",'2.Logbook'!AU522)","v":""},{"$f":"IF('2.Logbook'!AV522=\"\",\"\",'2.Logbook'!AV522)","v":""},{"$f":"IF('2.Logbook'!AW522=\"\",\"\",'2.Logbook'!AW522)","v":""},{"$f":"IF('2.Logbook'!AX522=\"\",\"\",'2.Logbook'!AX522)","v":""},{"$f":"IF('2.Logbook'!AY522=\"\",\"\",'2.Logbook'!AY522)","v":""}]
[{"$f":"IF('2.Logbook'!$A523=\"\",\"\",'2.Logbook'!$A523)","v":""},{"$f":"IF('2.Logbook'!$B523=\"\",\"\",'2.Logbook'!$B523)","v":""},{"$f":"IF('2.Logbook'!AH523=\"\",\"\",'2.Logbook'!AH523)","v":""},{"$f":"IF('2.Logbook'!AI523=\"\",\"\",'2.Logbook'!AI523)","v":""},{"$f":"IF('2.Logbook'!AJ523=\"\",\"\",'2.Logbook'!AJ523)","v":""},{"$f":"IF('2.Logbook'!AK523=\"\",\"\",'2.Logbook'!AK523)","v":""},{"$f":"IF('2.Logbook'!AL523=\"\",\"\",'2.Logbook'!AL523)","v":""},{"$f":"IF('2.Logbook'!AM523=\"\",\"\",'2.Logbook'!AM523)","v":""},{"$f":"IF('2.Logbook'!AN523=\"\",\"\",'2.Logbook'!AN523)","v":""},{"$f":"IF('2.Logbook'!AO523=\"\",\"\",'2.Logbook'!AO523)","v":""},{"$f":"IF('2.Logbook'!AP523=\"\",\"\",'2.Logbook'!AP523)","v":""},{"$f":"IF('2.Logbook'!AQ523=\"\",\"\",'2.Logbook'!AQ523)","v":""},{"$f":"IF('2.Logbook'!AR523=\"\",\"\",'2.Logbook'!AR523)","v":""},{"$f":"IF('2.Logbook'!AS523=\"\",\"\",'2.Logbook'!AS523)","v":""},{"$f":"IF('2.Logbook'!AT523=\"\",\"\",'2.Logbook'!AT523)","v":""},{"$f":"IF('2.Logbook'!AU523=\"\",\"\",'2.Logbook'!AU523)","v":""},{"$f":"IF('2.Logbook'!AV523=\"\",\"\",'2.Logbook'!AV523)","v":""},{"$f":"IF('2.Logbook'!AW523=\"\",\"\",'2.Logbook'!AW523)","v":""},{"$f":"IF('2.Logbook'!AX523=\"\",\"\",'2.Logbook'!AX523)","v":""},{"$f":"IF('2.Logbook'!AY523=\"\",\"\",'2.Logbook'!AY523)","v":""}]
[{"$f":"IF('2.Logbook'!$A524=\"\",\"\",'2.Logbook'!$A524)","v":""},{"$f":"IF('2.Logbook'!$B524=\"\",\"\",'2.Logbook'!$B524)","v":""},{"$f":"IF('2.Logbook'!AH524=\"\",\"\",'2.Logbook'!AH524)","v":""},{"$f":"IF('2.Logbook'!AI524=\"\",\"\",'2.Logbook'!AI524)","v":""},{"$f":"IF('2.Logbook'!AJ524=\"\",\"\",'2.Logbook'!AJ524)","v":""},{"$f":"IF('2.Logbook'!AK524=\"\",\"\",'2.Logbook'!AK524)","v":""},{"$f":"IF('2.Logbook'!AL524=\"\",\"\",'2.Logbook'!AL524)","v":""},{"$f":"IF('2.Logbook'!AM524=\"\",\"\",'2.Logbook'!AM524)","v":""},{"$f":"IF('2.Logbook'!AN524=\"\",\"\",'2.Logbook'!AN524)","v":""},{"$f":"IF('2.Logbook'!AO524=\"\",\"\",'2.Logbook'!AO524)","v":""},{"$f":"IF('2.Logbook'!AP524=\"\",\"\",'2.Logbook'!AP524)","v":""},{"$f":"IF('2.Logbook'!AQ524=\"\",\"\",'2.Logbook'!AQ524)","v":""},{"$f":"IF('2.Logbook'!AR524=\"\",\"\",'2.Logbook'!AR524)","v":""},{"$f":"IF('2.Logbook'!AS524=\"\",\"\",'2.Logbook'!AS524)","v":""},{"$f":"IF('2.Logbook'!AT524=\"\",\"\",'2.Logbook'!AT524)","v":""},{"$f":"IF('2.Logbook'!AU524=\"\",\"\",'2.Logbook'!AU524)","v":""},{"$f":"IF('2.Logbook'!AV524=\"\",\"\",'2.Logbook'!AV524)","v":""},{"$f":"IF('2.Logbook'!AW524=\"\",\"\",'2.Logbook'!AW524)","v":""},{"$f":"IF('2.Logbook'!AX524=\"\",\"\",'2.Logbook'!AX524)","v":""},{"$f":"IF('2.Logbook'!AY524=\"\",\"\",'2.Logbook'!AY524)","v":""}]
[{"$f":"IF('2.Logbook'!$A525=\"\",\"\",'2.Logbook'!$A525)","v":""},{"$f":"IF('2.Logbook'!$B525=\"\",\"\",'2.Logbook'!$B525)","v":""},{"$f":"IF('2.Logbook'!AH525=\"\",\"\",'2.Logbook'!AH525)","v":""},{"$f":"IF('2.Logbook'!AI525=\"\",\"\",'2.Logbook'!AI525)","v":""},{"$f":"IF('2.Logbook'!AJ525=\"\",\"\",'2.Logbook'!AJ525)","v":""},{"$f":"IF('2.Logbook'!AK525=\"\",\"\",'2.Logbook'!AK525)","v":""},{"$f":"IF('2.Logbook'!AL525=\"\",\"\",'2.Logbook'!AL525)","v":""},{"$f":"IF('2.Logbook'!AM525=\"\",\"\",'2.Logbook'!AM525)","v":""},{"$f":"IF('2.Logbook'!AN525=\"\",\"\",'2.Logbook'!AN525)","v":""},{"$f":"IF('2.Logbook'!AO525=\"\",\"\",'2.Logbook'!AO525)","v":""},{"$f":"IF('2.Logbook'!AP525=\"\",\"\",'2.Logbook'!AP525)","v":""},{"$f":"IF('2.Logbook'!AQ525=\"\",\"\",'2.Logbook'!AQ525)","v":""},{"$f":"IF('2.Logbook'!AR525=\"\",\"\",'2.Logbook'!AR525)","v":""},{"$f":"IF('2.Logbook'!AS525=\"\",\"\",'2.Logbook'!AS525)","v":""},{"$f":"IF('2.Logbook'!AT525=\"\",\"\",'2.Logbook'!AT525)","v":""},{"$f":"IF('2.Logbook'!AU525=\"\",\"\",'2.Logbook'!AU525)","v":""},{"$f":"IF('2.Logbook'!AV525=\"\",\"\",'2.Logbook'!AV525)","v":""},{"$f":"IF('2.Logbook'!AW525=\"\",\"\",'2.Logbook'!AW525)","v":""},{"$f":"IF('2.Logbook'!AX525=\"\",\"\",'2.Logbook'!AX525)","v":""},{"$f":"IF('2.Logbook'!AY525=\"\",\"\",'2.Logbook'!AY525)","v":""}]
[{"$f":"IF('2.Logbook'!$A526=\"\",\"\",'2.Logbook'!$A526)","v":""},{"$f":"IF('2.Logbook'!$B526=\"\",\"\",'2.Logbook'!$B526)","v":""},{"$f":"IF('2.Logbook'!AH526=\"\",\"\",'2.Logbook'!AH526)","v":""},{"$f":"IF('2.Logbook'!AI526=\"\",\"\",'2.Logbook'!AI526)","v":""},{"$f":"IF('2.Logbook'!AJ526=\"\",\"\",'2.Logbook'!AJ526)","v":""},{"$f":"IF('2.Logbook'!AK526=\"\",\"\",'2.Logbook'!AK526)","v":""},{"$f":"IF('2.Logbook'!AL526=\"\",\"\",'2.Logbook'!AL526)","v":""},{"$f":"IF('2.Logbook'!AM526=\"\",\"\",'2.Logbook'!AM526)","v":""},{"$f":"IF('2.Logbook'!AN526=\"\",\"\",'2.Logbook'!AN526)","v":""},{"$f":"IF('2.Logbook'!AO526=\"\",\"\",'2.Logbook'!AO526)","v":""},{"$f":"IF('2.Logbook'!AP526=\"\",\"\",'2.Logbook'!AP526)","v":""},{"$f":"IF('2.Logbook'!AQ526=\"\",\"\",'2.Logbook'!AQ526)","v":""},{"$f":"IF('2.Logbook'!AR526=\"\",\"\",'2.Logbook'!AR526)","v":""},{"$f":"IF('2.Logbook'!AS526=\"\",\"\",'2.Logbook'!AS526)","v":""},{"$f":"IF('2.Logbook'!AT526=\"\",\"\",'2.Logbook'!AT526)","v":""},{"$f":"IF('2.Logbook'!AU526=\"\",\"\",'2.Logbook'!AU526)","v":""},{"$f":"IF('2.Logbook'!AV526=\"\",\"\",'2.Logbook'!AV526)","v":""},{"$f":"IF('2.Logbook'!AW526=\"\",\"\",'2.Logbook'!AW526)","v":""},{"$f":"IF('2.Logbook'!AX526=\"\",\"\",'2.Logbook'!AX526)","v":""},{"$f":"IF('2.Logbook'!AY526=\"\",\"\",'2.Logbook'!AY526)","v":""}]
[{"$f":"IF('2.Logbook'!$A527=\"\",\"\",'2.Logbook'!$A527)","v":""},{"$f":"IF('2.Logbook'!$B527=\"\",\"\",'2.Logbook'!$B527)","v":""},{"$f":"IF('2.Logbook'!AH527=\"\",\"\",'2.Logbook'!AH527)","v":""},{"$f":"IF('2.Logbook'!AI527=\"\",\"\",'2.Logbook'!AI527)","v":""},{"$f":"IF('2.Logbook'!AJ527=\"\",\"\",'2.Logbook'!AJ527)","v":""},{"$f":"IF('2.Logbook'!AK527=\"\",\"\",'2.Logbook'!AK527)","v":""},{"$f":"IF('2.Logbook'!AL527=\"\",\"\",'2.Logbook'!AL527)","v":""},{"$f":"IF('2.Logbook'!AM527=\"\",\"\",'2.Logbook'!AM527)","v":""},{"$f":"IF('2.Logbook'!AN527=\"\",\"\",'2.Logbook'!AN527)","v":""},{"$f":"IF('2.Logbook'!AO527=\"\",\"\",'2.Logbook'!AO527)","v":""},{"$f":"IF('2.Logbook'!AP527=\"\",\"\",'2.Logbook'!AP527)","v":""},{"$f":"IF('2.Logbook'!AQ527=\"\",\"\",'2.Logbook'!AQ527)","v":""},{"$f":"IF('2.Logbook'!AR527=\"\",\"\",'2.Logbook'!AR527)","v":""},{"$f":"IF('2.Logbook'!AS527=\"\",\"\",'2.Logbook'!AS527)","v":""},{"$f":"IF('2.Logbook'!AT527=\"\",\"\",'2.Logbook'!AT527)","v":""},{"$f":"IF('2.Logbook'!AU527=\"\",\"\",'2.Logbook'!AU527)","v":""},{"$f":"IF('2.Logbook'!AV527=\"\",\"\",'2.Logbook'!AV527)","v":""},{"$f":"IF('2.Logbook'!AW527=\"\",\"\",'2.Logbook'!AW527)","v":""},{"$f":"IF('2.Logbook'!AX527=\"\",\"\",'2.Logbook'!AX527)","v":""},{"$f":"IF('2.Logbook'!AY527=\"\",\"\",'2.Logbook'!AY527)","v":""}]
[{"$f":"IF('2.Logbook'!$A528=\"\",\"\",'2.Logbook'!$A528)","v":""},{"$f":"IF('2.Logbook'!$B528=\"\",\"\",'2.Logbook'!$B528)","v":""},{"$f":"IF('2.Logbook'!AH528=\"\",\"\",'2.Logbook'!AH528)","v":""},{"$f":"IF('2.Logbook'!AI528=\"\",\"\",'2.Logbook'!AI528)","v":""},{"$f":"IF('2.Logbook'!AJ528=\"\",\"\",'2.Logbook'!AJ528)","v":""},{"$f":"IF('2.Logbook'!AK528=\"\",\"\",'2.Logbook'!AK528)","v":""},{"$f":"IF('2.Logbook'!AL528=\"\",\"\",'2.Logbook'!AL528)","v":""},{"$f":"IF('2.Logbook'!AM528=\"\",\"\",'2.Logbook'!AM528)","v":""},{"$f":"IF('2.Logbook'!AN528=\"\",\"\",'2.Logbook'!AN528)","v":""},{"$f":"IF('2.Logbook'!AO528=\"\",\"\",'2.Logbook'!AO528)","v":""},{"$f":"IF('2.Logbook'!AP528=\"\",\"\",'2.Logbook'!AP528)","v":""},{"$f":"IF('2.Logbook'!AQ528=\"\",\"\",'2.Logbook'!AQ528)","v":""},{"$f":"IF('2.Logbook'!AR528=\"\",\"\",'2.Logbook'!AR528)","v":""},{"$f":"IF('2.Logbook'!AS528=\"\",\"\",'2.Logbook'!AS528)","v":""},{"$f":"IF('2.Logbook'!AT528=\"\",\"\",'2.Logbook'!AT528)","v":""},{"$f":"IF('2.Logbook'!AU528=\"\",\"\",'2.Logbook'!AU528)","v":""},{"$f":"IF('2.Logbook'!AV528=\"\",\"\",'2.Logbook'!AV528)","v":""},{"$f":"IF('2.Logbook'!AW528=\"\",\"\",'2.Logbook'!AW528)","v":""},{"$f":"IF('2.Logbook'!AX528=\"\",\"\",'2.Logbook'!AX528)","v":""},{"$f":"IF('2.Logbook'!AY528=\"\",\"\",'2.Logbook'!AY528)","v":""}]
[{"$f":"IF('2.Logbook'!$A529=\"\",\"\",'2.Logbook'!$A529)","v":""},{"$f":"IF('2.Logbook'!$B529=\"\",\"\",'2.Logbook'!$B529)","v":""},{"$f":"IF('2.Logbook'!AH529=\"\",\"\",'2.Logbook'!AH529)","v":""},{"$f":"IF('2.Logbook'!AI529=\"\",\"\",'2.Logbook'!AI529)","v":""},{"$f":"IF('2.Logbook'!AJ529=\"\",\"\",'2.Logbook'!AJ529)","v":""},{"$f":"IF('2.Logbook'!AK529=\"\",\"\",'2.Logbook'!AK529)","v":""},{"$f":"IF('2.Logbook'!AL529=\"\",\"\",'2.Logbook'!AL529)","v":""},{"$f":"IF('2.Logbook'!AM529=\"\",\"\",'2.Logbook'!AM529)","v":""},{"$f":"IF('2.Logbook'!AN529=\"\",\"\",'2.Logbook'!AN529)","v":""},{"$f":"IF('2.Logbook'!AO529=\"\",\"\",'2.Logbook'!AO529)","v":""},{"$f":"IF('2.Logbook'!AP529=\"\",\"\",'2.Logbook'!AP529)","v":""},{"$f":"IF('2.Logbook'!AQ529=\"\",\"\",'2.Logbook'!AQ529)","v":""},{"$f":"IF('2.Logbook'!AR529=\"\",\"\",'2.Logbook'!AR529)","v":""},{"$f":"IF('2.Logbook'!AS529=\"\",\"\",'2.Logbook'!AS529)","v":""},{"$f":"IF('2.Logbook'!AT529=\"\",\"\",'2.Logbook'!AT529)","v":""},{"$f":"IF('2.Logbook'!AU529=\"\",\"\",'2.Logbook'!AU529)","v":""},{"$f":"IF('2.Logbook'!AV529=\"\",\"\",'2.Logbook'!AV529)","v":""},{"$f":"IF('2.Logbook'!AW529=\"\",\"\",'2.Logbook'!AW529)","v":""},{"$f":"IF('2.Logbook'!AX529=\"\",\"\",'2.Logbook'!AX529)","v":""},{"$f":"IF('2.Logbook'!AY529=\"\",\"\",'2.Logbook'!AY529)","v":""}]
[{"$f":"IF('2.Logbook'!$A530=\"\",\"\",'2.Logbook'!$A530)","v":""},{"$f":"IF('2.Logbook'!$B530=\"\",\"\",'2.Logbook'!$B530)","v":""},{"$f":"IF('2.Logbook'!AH530=\"\",\"\",'2.Logbook'!AH530)","v":""},{"$f":"IF('2.Logbook'!AI530=\"\",\"\",'2.Logbook'!AI530)","v":""},{"$f":"IF('2.Logbook'!AJ530=\"\",\"\",'2.Logbook'!AJ530)","v":""},{"$f":"IF('2.Logbook'!AK530=\"\",\"\",'2.Logbook'!AK530)","v":""},{"$f":"IF('2.Logbook'!AL530=\"\",\"\",'2.Logbook'!AL530)","v":""},{"$f":"IF('2.Logbook'!AM530=\"\",\"\",'2.Logbook'!AM530)","v":""},{"$f":"IF('2.Logbook'!AN530=\"\",\"\",'2.Logbook'!AN530)","v":""},{"$f":"IF('2.Logbook'!AO530=\"\",\"\",'2.Logbook'!AO530)","v":""},{"$f":"IF('2.Logbook'!AP530=\"\",\"\",'2.Logbook'!AP530)","v":""},{"$f":"IF('2.Logbook'!AQ530=\"\",\"\",'2.Logbook'!AQ530)","v":""},{"$f":"IF('2.Logbook'!AR530=\"\",\"\",'2.Logbook'!AR530)","v":""},{"$f":"IF('2.Logbook'!AS530=\"\",\"\",'2.Logbook'!AS530)","v":""},{"$f":"IF('2.Logbook'!AT530=\"\",\"\",'2.Logbook'!AT530)","v":""},{"$f":"IF('2.Logbook'!AU530=\"\",\"\",'2.Logbook'!AU530)","v":""},{"$f":"IF('2.Logbook'!AV530=\"\",\"\",'2.Logbook'!AV530)","v":""},{"$f":"IF('2.Logbook'!AW530=\"\",\"\",'2.Logbook'!AW530)","v":""},{"$f":"IF('2.Logbook'!AX530=\"\",\"\",'2.Logbook'!AX530)","v":""},{"$f":"IF('2.Logbook'!AY530=\"\",\"\",'2.Logbook'!AY530)","v":""}]
[{"$f":"IF('2.Logbook'!$A531=\"\",\"\",'2.Logbook'!$A531)","v":""},{"$f":"IF('2.Logbook'!$B531=\"\",\"\",'2.Logbook'!$B531)","v":""},{"$f":"IF('2.Logbook'!AH531=\"\",\"\",'2.Logbook'!AH531)","v":""},{"$f":"IF('2.Logbook'!AI531=\"\",\"\",'2.Logbook'!AI531)","v":""},{"$f":"IF('2.Logbook'!AJ531=\"\",\"\",'2.Logbook'!AJ531)","v":""},{"$f":"IF('2.Logbook'!AK531=\"\",\"\",'2.Logbook'!AK531)","v":""},{"$f":"IF('2.Logbook'!AL531=\"\",\"\",'2.Logbook'!AL531)","v":""},{"$f":"IF('2.Logbook'!AM531=\"\",\"\",'2.Logbook'!AM531)","v":""},{"$f":"IF('2.Logbook'!AN531=\"\",\"\",'2.Logbook'!AN531)","v":""},{"$f":"IF('2.Logbook'!AO531=\"\",\"\",'2.Logbook'!AO531)","v":""},{"$f":"IF('2.Logbook'!AP531=\"\",\"\",'2.Logbook'!AP531)","v":""},{"$f":"IF('2.Logbook'!AQ531=\"\",\"\",'2.Logbook'!AQ531)","v":""},{"$f":"IF('2.Logbook'!AR531=\"\",\"\",'2.Logbook'!AR531)","v":""},{"$f":"IF('2.Logbook'!AS531=\"\",\"\",'2.Logbook'!AS531)","v":""},{"$f":"IF('2.Logbook'!AT531=\"\",\"\",'2.Logbook'!AT531)","v":""},{"$f":"IF('2.Logbook'!AU531=\"\",\"\",'2.Logbook'!AU531)","v":""},{"$f":"IF('2.Logbook'!AV531=\"\",\"\",'2.Logbook'!AV531)","v":""},{"$f":"IF('2.Logbook'!AW531=\"\",\"\",'2.Logbook'!AW531)","v":""},{"$f":"IF('2.Logbook'!AX531=\"\",\"\",'2.Logbook'!AX531)","v":""},{"$f":"IF('2.Logbook'!AY531=\"\",\"\",'2.Logbook'!AY531)","v":""}]
[{"$f":"IF('2.Logbook'!$A532=\"\",\"\",'2.Logbook'!$A532)","v":""},{"$f":"IF('2.Logbook'!$B532=\"\",\"\",'2.Logbook'!$B532)","v":""},{"$f":"IF('2.Logbook'!AH532=\"\",\"\",'2.Logbook'!AH532)","v":""},{"$f":"IF('2.Logbook'!AI532=\"\",\"\",'2.Logbook'!AI532)","v":""},{"$f":"IF('2.Logbook'!AJ532=\"\",\"\",'2.Logbook'!AJ532)","v":""},{"$f":"IF('2.Logbook'!AK532=\"\",\"\",'2.Logbook'!AK532)","v":""},{"$f":"IF('2.Logbook'!AL532=\"\",\"\",'2.Logbook'!AL532)","v":""},{"$f":"IF('2.Logbook'!AM532=\"\",\"\",'2.Logbook'!AM532)","v":""},{"$f":"IF('2.Logbook'!AN532=\"\",\"\",'2.Logbook'!AN532)","v":""},{"$f":"IF('2.Logbook'!AO532=\"\",\"\",'2.Logbook'!AO532)","v":""},{"$f":"IF('2.Logbook'!AP532=\"\",\"\",'2.Logbook'!AP532)","v":""},{"$f":"IF('2.Logbook'!AQ532=\"\",\"\",'2.Logbook'!AQ532)","v":""},{"$f":"IF('2.Logbook'!AR532=\"\",\"\",'2.Logbook'!AR532)","v":""},{"$f":"IF('2.Logbook'!AS532=\"\",\"\",'2.Logbook'!AS532)","v":""},{"$f":"IF('2.Logbook'!AT532=\"\",\"\",'2.Logbook'!AT532)","v":""},{"$f":"IF('2.Logbook'!AU532=\"\",\"\",'2.Logbook'!AU532)","v":""},{"$f":"IF('2.Logbook'!AV532=\"\",\"\",'2.Logbook'!AV532)","v":""},{"$f":"IF('2.Logbook'!AW532=\"\",\"\",'2.Logbook'!AW532)","v":""},{"$f":"IF('2.Logbook'!AX532=\"\",\"\",'2.Logbook'!AX532)","v":""},{"$f":"IF('2.Logbook'!AY532=\"\",\"\",'2.Logbook'!AY532)","v":""}]
[{"$f":"IF('2.Logbook'!$A533=\"\",\"\",'2.Logbook'!$A533)","v":""},{"$f":"IF('2.Logbook'!$B533=\"\",\"\",'2.Logbook'!$B533)","v":""},{"$f":"IF('2.Logbook'!AH533=\"\",\"\",'2.Logbook'!AH533)","v":""},{"$f":"IF('2.Logbook'!AI533=\"\",\"\",'2.Logbook'!AI533)","v":""},{"$f":"IF('2.Logbook'!AJ533=\"\",\"\",'2.Logbook'!AJ533)","v":""},{"$f":"IF('2.Logbook'!AK533=\"\",\"\",'2.Logbook'!AK533)","v":""},{"$f":"IF('2.Logbook'!AL533=\"\",\"\",'2.Logbook'!AL533)","v":""},{"$f":"IF('2.Logbook'!AM533=\"\",\"\",'2.Logbook'!AM533)","v":""},{"$f":"IF('2.Logbook'!AN533=\"\",\"\",'2.Logbook'!AN533)","v":""},{"$f":"IF('2.Logbook'!AO533=\"\",\"\",'2.Logbook'!AO533)","v":""},{"$f":"IF('2.Logbook'!AP533=\"\",\"\",'2.Logbook'!AP533)","v":""},{"$f":"IF('2.Logbook'!AQ533=\"\",\"\",'2.Logbook'!AQ533)","v":""},{"$f":"IF('2.Logbook'!AR533=\"\",\"\",'2.Logbook'!AR533)","v":""},{"$f":"IF('2.Logbook'!AS533=\"\",\"\",'2.Logbook'!AS533)","v":""},{"$f":"IF('2.Logbook'!AT533=\"\",\"\",'2.Logbook'!AT533)","v":""},{"$f":"IF('2.Logbook'!AU533=\"\",\"\",'2.Logbook'!AU533)","v":""},{"$f":"IF('2.Logbook'!AV533=\"\",\"\",'2.Logbook'!AV533)","v":""},{"$f":"IF('2.Logbook'!AW533=\"\",\"\",'2.Logbook'!AW533)","v":""},{"$f":"IF('2.Logbook'!AX533=\"\",\"\",'2.Logbook'!AX533)","v":""},{"$f":"IF('2.Logbook'!AY533=\"\",\"\",'2.Logbook'!AY533)","v":""}]
[{"$f":"IF('2.Logbook'!$A534=\"\",\"\",'2.Logbook'!$A534)","v":""},{"$f":"IF('2.Logbook'!$B534=\"\",\"\",'2.Logbook'!$B534)","v":""},{"$f":"IF('2.Logbook'!AH534=\"\",\"\",'2.Logbook'!AH534)","v":""},{"$f":"IF('2.Logbook'!AI534=\"\",\"\",'2.Logbook'!AI534)","v":""},{"$f":"IF('2.Logbook'!AJ534=\"\",\"\",'2.Logbook'!AJ534)","v":""},{"$f":"IF('2.Logbook'!AK534=\"\",\"\",'2.Logbook'!AK534)","v":""},{"$f":"IF('2.Logbook'!AL534=\"\",\"\",'2.Logbook'!AL534)","v":""},{"$f":"IF('2.Logbook'!AM534=\"\",\"\",'2.Logbook'!AM534)","v":""},{"$f":"IF('2.Logbook'!AN534=\"\",\"\",'2.Logbook'!AN534)","v":""},{"$f":"IF('2.Logbook'!AO534=\"\",\"\",'2.Logbook'!AO534)","v":""},{"$f":"IF('2.Logbook'!AP534=\"\",\"\",'2.Logbook'!AP534)","v":""},{"$f":"IF('2.Logbook'!AQ534=\"\",\"\",'2.Logbook'!AQ534)","v":""},{"$f":"IF('2.Logbook'!AR534=\"\",\"\",'2.Logbook'!AR534)","v":""},{"$f":"IF('2.Logbook'!AS534=\"\",\"\",'2.Logbook'!AS534)","v":""},{"$f":"IF('2.Logbook'!AT534=\"\",\"\",'2.Logbook'!AT534)","v":""},{"$f":"IF('2.Logbook'!AU534=\"\",\"\",'2.Logbook'!AU534)","v":""},{"$f":"IF('2.Logbook'!AV534=\"\",\"\",'2.Logbook'!AV534)","v":""},{"$f":"IF('2.Logbook'!AW534=\"\",\"\",'2.Logbook'!AW534)","v":""},{"$f":"IF('2.Logbook'!AX534=\"\",\"\",'2.Logbook'!AX534)","v":""},{"$f":"IF('2.Logbook'!AY534=\"\",\"\",'2.Logbook'!AY534)","v":""}]